{"text_format":"1","workbook":"xlsx","n_sheets":3,"sheets":["照会入力","回答入力","回答文"],"not_rendered":{"charts":0,"images":0,"macros":1,"external_links":0,"defined_names":3,"comments":0,"pivot_tables":0},"unopened":[],"bounds":{"document_bytes":16777216,"sheet_cells":100000,"rows_first":2000,"rows_last":500,"rows_between":2000,"halvings":0,"cell_chars":16384,"cell_head_chars":4096},"cells_cut":0,"cells_raw":0,"read":"whole","date_system":"1900"}

{"sheet":"照会入力","index":0,"n_rows":32,"n_cols":27,"rows_kept":32,"cut":false,"hidden":false,"merged":[]}
[null,"伊賀農林事務所森林・林業室が所管する法令等に関する問合せフォーム（↑上記にマクロに関する警告が出ましたら「有効化」をお願いします。）"]
[]
[null,null,"申請年月日（和暦）*",null,null,"問合せする土地の所在地、地目、面積など（20か所を超える場合、本問合せフォームをコピーして21か所目以降を御記入ください。）"]
[null,null,null,null,null,null,"記載例",1,2,3,4,5,6,7,8,9,10,11,12,13,14,15,16,17,18,19,20]
[null,null,"会社住所*",null,null,"市","〇〇市"]
[null,null,"会社名*",null,null,"大字","△△町"]
[null,null,"部署名",null,null,"字","×××"]
[null,null,"担当者名*",null,null,"地番","123-4"]
[null,null,"電話番号*",null,null,"地目","山林"]
[null,null,"メールアドレス",null,null,"備考"]
[]
[null,null,"土地利用（改変）面積*",null,"㎡（総面積）"]
[null,null,"土地利用（改変）用途*"]
[null,null,null,null,null,"伊賀市","名張市"]
[null,null,"*マークのある箇所は入力必須",null,null,null,"太陽光発電施設"]
[null,null,null,null,null,"✓","その他（太陽光発電以外の発電関連施設を含む）"]
[null,"問合せを行う法令等にプルダウンリストからチェックを入れてください。"]
[]
[null,"チェック欄","法令等名","主な手続の概要","手続型の類型"]
[null,null,"自然公園法\n（三重県立自然公園条例）","整備箇所が、自然公園（国立公園、国定公園、県立自然公園）内であ\nれば、以下の手続きが必要です。\n・特別地域内での土地の形状変更、工作物の設置等をする場合、許可\nが必要です。\n・普通地域内での土地の形状変更、一定規模を超える工作物の設置等\nをする場合は、工事着手の30日前までに届出が必要です。","許可\n又は届出"]
[null,null,"自然環境保全法","環境省の管轄ですので、中部地方環境事務所へお問合せください。"]
[null,null,"三重県自然環境保全条例","三重県自然環境保全地域内（三重県自然環境保全条例で指定するも\nの）で開発行為を行う場合は、条例に基づく以下の手続きが必要で\nす。\n・特別地区で開発行為を行う場合は許可が必要です。\n　（自然環境の保全に支障を及ぼす恐れが少ないこと）\n・普通地区でパネル面積が200 ㎡を超える開発行為を行う場合は届出\nが必要です。","許可\n又は届出\n※伊賀市及び名張市には該当箇所なし"]
[null,null,null,"1 haを超える自然地（樹林地、農地、湿地等）が含まれた開\n発行為を行う場合は、条例に基づく開発行為届出が必要になります。","届出"]
[null,null,"森林法","地域森林計画の対象の民有林\n・林地開発許可に該当しない規模であり、また、保安林に指定されていない地域森林計画の対象の民有林において、立木を伐採するときは、森林が所在する市町に届出が必要になります。","届出（市町）"]
[null,null,{"$f":"IF(H8=\"\", IF(B24=\"✓\", \"森林法に関する問合せの場合、地番の入力は必須です。\",\"\"), \"\")","v":""},"太陽光発電施設を設置するため、開発する地域森林計画の対象となっている民有林の面積が0.5 haを超える場合は、林地開発許可が必要です。ただし、太陽光発電施設以外では、民有林の面積が１ haを超える場合は、林地開発許可が必要です。","許可"]
[null,null,null,"保安林\n・開発する箇所が保安林に指定されていないか確認が必要です。","許可/届出"]
[null,null,"三重県水源地域の保全に関する条例","地域森林計画の対象民有林であり、かつ、水源地域に指定された土地\nについて売買等の契約をしようとする時は、契約を締結しようとする\n日の３０日前までに知事に届け出が必要です。届出書は、対象となる\n土地を管轄する県農林（水産）事務所森林・林業室に提出してくださ\nい。\nなお、水源地域に指定された土地は、大字単位で指定しています。\n【売買等の契約について】次の７つの契約を言います。\n①売買契約、②贈与契約、③交換契約、④地上権を設定し又は移転す\nる契約、⑤地役権を設定する契約、⑥使用貸借による権利を設定し又\nは移転する契約、⑦賃借権を設定し又は移転する契約","届出"]
[null,null,"鳥獣保護管理法","鳥獣保護区内の特別保護区に建築物等を新築・改築・増築する場合、\nまたは、同区内で木竹の伐採をする場合は許可が必要です。","許可"]
[null,null,"絶滅のおそれのある野生動植物の種の保存に関する法律",{"$f":"IF(C31>5000, D31, IF(C32>10000, D31, D32))","v":"環境省の管轄ですので、中部地方環境事務所へお問合せください。"}]
[]
[null,null,{"$f":"IF(D13=\"太陽光発電施設\", 1, 0)*D12","v":0},"環境省の管轄ですが、林地開発許可に関して三重県独自に定めている野生動植物保護地域がございます。詳細が必要な場合はお問合せください。"]
[null,null,{"$f":"IF(D13=G16, 1, 0)*D12","v":0},"環境省の管轄ですので、中部地方環境事務所へお問合せください。"]

{"sheet":"回答入力","index":1,"n_rows":14,"n_cols":28,"rows_kept":14,"cut":false,"hidden":true,"merged":[]}
[null,null,null,null,null,null,null,null,1,2,3,4,5,6,7,8,9,10,11,12,13,14,15,16,17,18,19,20]
[null,null,null,null,"照会","法令等名","主な手続の概要","手続型の類型",{"$f":"照会入力!H5&照会入力!H6","v":""},{"$f":"照会入力!I5&照会入力!I6","v":""},{"$f":"照会入力!J5&照会入力!J6","v":""},{"$f":"照会入力!K5&照会入力!K6","v":""},{"$f":"照会入力!L5&照会入力!L6","v":""},{"$f":"照会入力!M5&照会入力!M6","v":""},{"$f":"照会入力!N5&照会入力!N6","v":""},{"$f":"照会入力!O5&照会入力!O6","v":""},{"$f":"照会入力!P5&照会入力!P6","v":""},{"$f":"照会入力!Q5&照会入力!Q6","v":""},{"$f":"照会入力!R5&照会入力!R6","v":""},{"$f":"照会入力!S5&照会入力!S6","v":""},{"$f":"照会入力!T5&照会入力!T6","v":""},{"$f":"照会入力!U5&照会入力!U6","v":""},{"$f":"照会入力!V5&照会入力!V6","v":""},{"$f":"照会入力!W5&照会入力!W6","v":""},{"$f":"照会入力!X5&照会入力!X6","v":""},{"$f":"照会入力!Y5&照会入力!Y6","v":""},{"$f":"照会入力!Z5&照会入力!Z6","v":""},{"$f":"照会入力!AA5&照会入力!AA6","v":""}]
[null,null,null,null,null,null,null,null,{"$f":"照会入力!H7&照会入力!H8","v":""},{"$f":"照会入力!I7&照会入力!I8","v":""},{"$f":"照会入力!J7&照会入力!J8","v":""},{"$f":"照会入力!K7&照会入力!K8","v":""},{"$f":"照会入力!L7&照会入力!L8","v":""},{"$f":"照会入力!M7&照会入力!M8","v":""},{"$f":"照会入力!N7&照会入力!N8","v":""},{"$f":"照会入力!O7&照会入力!O8","v":""},{"$f":"照会入力!P7&照会入力!P8","v":""},{"$f":"照会入力!Q7&照会入力!Q8","v":""},{"$f":"照会入力!R7&照会入力!R8","v":""},{"$f":"照会入力!S7&照会入力!S8","v":""},{"$f":"照会入力!T7&照会入力!T8","v":""},{"$f":"照会入力!U7&照会入力!U8","v":""},{"$f":"照会入力!V7&照会入力!V8","v":""},{"$f":"照会入力!W7&照会入力!W8","v":""},{"$f":"照会入力!X7&照会入力!X8","v":""},{"$f":"照会入力!Y7&照会入力!Y8","v":""},{"$f":"照会入力!Z7&照会入力!Z8","v":""},{"$f":"照会入力!AA7&照会入力!AA8","v":""}]
["a.該当なし","特別地域","普通地域",null,{"$f":"照会入力!B20","v":0},"自然公園法\n（三重県立自然公園条例）","整備箇所が、自然公園（国立公園、国定公園、県立自然公園）内であ\nれば、以下の手続きが必要です。\n・特別地域内での土地の形状変更、工作物の設置等をする場合、許可\nが必要です。\n・普通地域内での土地の形状変更、一定規模を超える工作物の設置等\nをする場合は、工事着手の30日前までに届出が必要です。","許可\n又は届出"]
["b.該当なし","特別地区","普通地区",null,{"$f":"照会入力!B22","v":0},"三重県自然環境保全条例","三重県自然環境保全地域内（三重県自然環境保全条例で指定するも\nの）で開発行為を行う場合は、条例に基づく以下の手続きが必要で\nす。\n・特別地区で開発行為を行う場合は許可が必要です。\n　（自然環境の保全に支障を及ぼす恐れが少ないこと）\n・普通地区でパネル面積が200 ㎡を超える開発行為を行う場合は届出\nが必要です。","許可\n又は届出"]
["c.該当なし","該当あり",null,null,null,null,"1 haを超える自然地（樹林地、農地、湿地等）が含まれた開\n発行為を行う場合は、条例に基づく開発行為届出が必要になります。","届出"]
["d.該当なし","森林計画区",null,null,{"$f":"照会入力!B24","v":0},"森林法","地域森林計画の対象の民有林\n・林地開発許可に該当しない規模であり、また、保安林に指定されていない地域森林計画の対象の民有林において、立木を伐採するときは、森林が所在する市町に届出が必要になります。","届出（市町）"]
[null,null,null,null,null,null,"太陽光発電施設を設置するため、開発する地域森林計画の対象となっている民有林の面積が0.5 haを超える場合は、林地開発許可が必要です。ただし、太陽光発電施設以外では、民有林の面積が１ haを超える場合は、林地開発許可が必要です。","許可"]
["e.該当なし","保安林",null,null,null,null,"保安林\n・開発する箇所が保安林に指定されていないか確認が必要です。","許可"]
["f.該当なし","水源地域",null,null,{"$f":"照会入力!B27","v":0},"三重県水源地域の保全に関する条例","地域森林計画の対象民有林であり、かつ、水源地域に指定された土地\nについて売買等の契約をしようとする時は、契約を締結しようとする\n日の３０日前までに知事に届け出が必要です。届出書は、対象となる\n土地を管轄する県農林（水産）事務所森林・林業室に提出してくださ\nい。\nなお、水源地域に指定された土地は、大字単位で指定しています。\n【売買等の契約について】次の７つの契約を言います。\n①売買契約、②贈与契約、③交換契約、④地上権を設定し又は移転す\nる契約、⑤地役権を設定する契約、⑥使用貸借による権利を設定し又\nは移転する契約、⑦賃借権を設定し又は移転する契約","届出"]
["g.該当なし","特別保護地区",null,null,{"$f":"照会入力!B28","v":0},"鳥獣保護管理法","鳥獣保護区内の特別保護区に建築物等を新築・改築・増築する場合、\nまたは、同区内で木竹の伐採をする場合は許可が必要です。","許可"]
[null,null,null,null,null,null,null,null,{"$f":"IF(I2=\"\",\"\", IF(LEN(SUBSTITUTE(I2,\"名張市赤目\",\"\"))+LEN(SUBSTITUTE(I2,\"名張市青蓮寺\",\"\"))-2*LEN(I2)=0, $A$11,\"\"))","v":""},{"$f":"IF(J2=\"\",\"\", IF(LEN(SUBSTITUTE(J2,\"名張市赤目\",\"\"))+LEN(SUBSTITUTE(J2,\"名張市青蓮寺\",\"\"))-2*LEN(J2)=0, $A$11,\"\"))","v":""},"","","","","","","","","","","","","","","","","",""]
["h.該当なし","ホットスポットみえ","サシバゾーニング","ホットスポットみえ及びサシバゾーニング",{"$f":"照会入力!B29","v":0},"絶滅のおそれのある野生動植物の種の保存に関する法律",{"$f":"照会入力!D29","v":"環境省の管轄ですので、中部地方環境事務所へお問合せください。"}]
[null,null,null,null,null,null,null,null,null,null,null,null,null,null,null,null,null,null,null,null,null,null,null,null,null,null,null,{"$f":"AB3","v":""}]

{"sheet":"回答文","index":2,"n_rows":57,"n_cols":23,"rows_kept":57,"cut":false,"hidden":true,"merged":[]}
[]
[]
[{"$f":"C3","v":""},null,{"$f":"C30","v":""}]
[{"$f":"IF(C3=\"\",\"\", IF(B5&B6=\"\", C4, \"\"))","v":""},{"$f":"_xlfn.TEXTJOIN(\"、\", TRUE, D31:W31)","v":""},"該当する箇所はございません。"]
[{"$f":"IF(B5=\"\", \"\", B5&\"は\"&C5)","v":""},"","特別地域内ですので土地の形状変更、工作物の設置等をする場合、許可申請をしていただく必要があります。"]
[{"$f":"IF(B6=\"\", \"\", B6&\"は\"&C6)","v":""},"","普通地域内ですので、土地の形状変更、一定規模を超える工作物の設置等をする場合は、工事着手の30日前までに届出が必要です。"]
[{"$f":"C34","v":""},"",{"$f":"C34","v":""}]
[{"$f":"IF(C7=\"\",\"\", IF(B9&B10=\"\", C8, \"\"))","v":""},"","該当する箇所はございません。"]
[{"$f":"IF(B9=\"\", \"\", B9&\"は\"&C9)","v":""},"","特別地区ですので、開発行為を行う場合は許可が必要です（自然環境の保全に支障を及ぼすおそれが少ないことが条件です）。"]
[{"$f":"IF(B10=\"\", \"\", B10&\"は\"&C10)","v":""},"","普通地区ですので、パネル面積が200 ㎡を超える開発行為を行う場合は届出\nが必要です。"]
[{"$f":"IF(照会入力!D12>10000,回答文!C11,\"\")","v":""},null,"なお、1 haを超えて自然地で開発行為を行う場合は、条例に基づく開発行為届出が必要になります。"]
[{"$f":"C40","v":""},{"$f":"_xlfn.TEXTJOIN(\"、\", TRUE, D40:W40)","v":""},{"$f":"C40","v":""}]
[{"$f":"IF(C12=\"\",\"\", IF(B14=\"\", C13, \"\"))","v":""},{"$f":"_xlfn.TEXTJOIN(\"、\", TRUE, D41:W41)","v":""},"森林計画に該当する箇所はございません。"]
[{"$f":"IF(B14=\"\", \"\", B14&\"は\"&C14)","v":""},{"$f":"_xlfn.TEXTJOIN(\"、\", TRUE, D42:W42)","v":""},"地域森林計画内ですので、伐採届を市役所に提出する必要があります。"]
[{"$f":"IF(B14=\"\",\"\",IF(B15>5000,C15,\"\"))","v":""},{"$f":"IF(照会入力!D13=\"太陽光発電施設\", 1, 0)*照会入力!D12","v":0},"また、0.5 haを超えて太陽光発電施設の開発を行う場合、林地開発許可の申請が必要です。"]
[{"$f":"IF(B14=\"\",\"\",IF(B16>10000,C16,\"\"))","v":""},{"$f":"IF(照会入力!D13=\"その他\", 1, 0)*照会入力!D12","v":0},"また、1.0 haを超えて開発を行う場合、林地開発許可の申請が必要です。"]
[{"$f":"IF(C12=\"\",\"\", IF(B18=\"\", C17, \"\"))","v":""},{"$f":"_xlfn.TEXTJOIN(\"、\", TRUE, D45:W45)","v":""},"保安林に該当する箇所はございません。"]
[{"$f":"IF(B18=\"\", \"\", B18&\"は\"&C18)","v":""},"","保安林ですので、伐採等を行う場合は許可等が必要となります"]
[{"$f":"C19","v":""},"",{"$f":"C47","v":""}]
[{"$f":"IF(C19=\"\",\"\", IF(B21=\"\", C20, \"\"))","v":""},"","該当する箇所はございません。"]
[{"$f":"IF(B21=\"\", \"\", B21&\"は\"&C21)","v":""},"","水源地域ですので、売買等の契約をしようとする時は、契約を締結しようとする\n日の３０日前までに知事に届け出が必要です。"]
[{"$f":"C22","v":""},"",{"$f":"C50","v":""}]
[{"$f":"IF(C22=\"\",\"\", IF(B24=\"\", C23, \"\"))","v":""},"","該当する箇所はございません。"]
[{"$f":"IF(B24=\"\", \"\", B24&\"は\"&C24)","v":""},"","鳥獣保護区内の特別保護区ですので、建築物等を新築・改築・増築する場合、または、同区内で木竹の伐採をする場合は許可が必要です。",{"$f":"COUNTA(E24)","v":0}]
[{"$f":"C25","v":""},"",{"$f":"C53","v":""}]
[{"$f":"IF(C25=\"\",\"\", IF(B27&B28&B29=\"\", C26, \"\"))","v":""},"","該当する箇所はございません。"]
[{"$f":"IF(B27=\"\", \"\", B27&\"は\"&C27)","v":""},"","ホットスポットみえの範囲内ですので、林地開発許可を申請する際は改めて御相談ください。"]
[{"$f":"IF(B28=\"\", \"\", B28&\"は\"&C28)","v":""},"","サシバゾーニングの範囲内ですので、林地開発許可を申請する際は改めて御相談ください。"]
["",{"$f":"D57&IF(E57=\"\",\"\",IF(D57=\"\",\"\",\"、\")&E57&IF(F57=\"\",\"\",\"、\")&F57&IF(G57=\"\",\"\",\"、\")&G57&IF(H57=\"\",\"\",\"、\")&H57&IF(I57=\"\",\"\",\"、\")&I57&IF(J57=\"\",\"\",\"、\")&J57&IF(K57=\"\",\"\",\"、\")&K57&IF(L57=\"\",\"\",\"、\")&L57&IF(M57=\"\",\"\",\"、\")&M57&IF(N57=\"\",\"\",\"、\")&N57&IF(O57=\"\",\"\",\"、\")&O57&IF(P57=\"\",\"\",\"、\")&P57&IF(Q57=\"\",\"\",\"、\")&Q57&IF(R57=\"\",\"\",\"、\")&R57&IF(S57=\"\",\"\",\"、\")&S57&IF(T57=\"\",\"\",\"、\")&T57&IF(U57=\"\",\"\",\"、\")&U57&IF(V57=\"\",\"\",\"、\")&V57&IF(W57=\"\",\"\",\"、\")&W57)","v":""},"ホットスポットみえ及びサシバゾーニングの範囲内ですので、林地開発許可を申請する際は改めて御相談ください。"]
[null,null,{"$f":"IF(回答入力!E4=\"✓\", \"〇自然公園法（三重県立自然公園条例）\", \"\")","v":""}]
[null,null,{"$f":"回答入力!A4","v":"a.該当なし"},{"$f":"IF(COUNTIF(回答入力!I4:I13,回答文!$C$31)=1,回答入力!I3,\"\")","v":""},{"$f":"IF(COUNTIF(回答入力!J4:J13,回答文!$C$31)=1,回答入力!J3,\"\")","v":""},{"$f":"IF(COUNTIF(回答入力!K4:K13,回答文!$C$31)=1,回答入力!K3,\"\")","v":""},{"$f":"IF(COUNTIF(回答入力!L4:L13,回答文!$C$31)=1,回答入力!L3,\"\")","v":""},{"$f":"IF(COUNTIF(回答入力!M4:M13,回答文!$C$31)=1,回答入力!M3,\"\")","v":""},{"$f":"IF(COUNTIF(回答入力!N4:N13,回答文!$C$31)=1,回答入力!N3,\"\")","v":""},{"$f":"IF(COUNTIF(回答入力!O4:O13,回答文!$C$31)=1,回答入力!O3,\"\")","v":""},{"$f":"IF(COUNTIF(回答入力!P4:P13,回答文!$C$31)=1,回答入力!P3,\"\")","v":""},{"$f":"IF(COUNTIF(回答入力!Q4:Q13,回答文!$C$31)=1,回答入力!Q3,\"\")","v":""},{"$f":"IF(COUNTIF(回答入力!R4:R13,回答文!$C$31)=1,回答入力!R3,\"\")","v":""},{"$f":"IF(COUNTIF(回答入力!S4:S13,回答文!$C$31)=1,回答入力!S3,\"\")","v":""},{"$f":"IF(COUNTIF(回答入力!T4:T13,回答文!$C$31)=1,回答入力!T3,\"\")","v":""},{"$f":"IF(COUNTIF(回答入力!U4:U13,回答文!$C$31)=1,回答入力!U3,\"\")","v":""},{"$f":"IF(COUNTIF(回答入力!V4:V13,回答文!$C$31)=1,回答入力!V3,\"\")","v":""},{"$f":"IF(COUNTIF(回答入力!W4:W13,回答文!$C$31)=1,回答入力!W3,\"\")","v":""},{"$f":"IF(COUNTIF(回答入力!X4:X13,回答文!$C$31)=1,回答入力!X3,\"\")","v":""},{"$f":"IF(COUNTIF(回答入力!Y4:Y13,回答文!$C$31)=1,回答入力!Y3,\"\")","v":""},{"$f":"IF(COUNTIF(回答入力!Z4:Z13,回答文!$C$31)=1,回答入力!Z3,\"\")","v":""},{"$f":"IF(COUNTIF(回答入力!AA4:AA13,回答文!$C$31)=1,回答入力!AA3,\"\")","v":""},{"$f":"IF(COUNTIF(回答入力!AB4:AB13,回答文!$C$31)=1,回答入力!AB3,\"\")","v":""}]
[null,null,{"$f":"回答入力!B4","v":"特別地域"},{"$f":"IF(COUNTIF(回答入力!I4:I13,回答文!$C$32)=1,回答入力!I3,\"\")","v":""},{"$f":"IF(COUNTIF(回答入力!J4:J13,回答文!$C$32)=1,回答入力!J3,\"\")","v":""},{"$f":"IF(COUNTIF(回答入力!K4:K13,回答文!$C$32)=1,回答入力!K3,\"\")","v":""},{"$f":"IF(COUNTIF(回答入力!L4:L13,回答文!$C$32)=1,回答入力!L3,\"\")","v":""},{"$f":"IF(COUNTIF(回答入力!M4:M13,回答文!$C$32)=1,回答入力!M3,\"\")","v":""},{"$f":"IF(COUNTIF(回答入力!N4:N13,回答文!$C$32)=1,回答入力!N3,\"\")","v":""},{"$f":"IF(COUNTIF(回答入力!O4:O13,回答文!$C$32)=1,回答入力!O3,\"\")","v":""},{"$f":"IF(COUNTIF(回答入力!P4:P13,回答文!$C$32)=1,回答入力!P3,\"\")","v":""},{"$f":"IF(COUNTIF(回答入力!Q4:Q13,回答文!$C$32)=1,回答入力!Q3,\"\")","v":""},{"$f":"IF(COUNTIF(回答入力!R4:R13,回答文!$C$32)=1,回答入力!R3,\"\")","v":""},{"$f":"IF(COUNTIF(回答入力!S4:S13,回答文!$C$32)=1,回答入力!S3,\"\")","v":""},{"$f":"IF(COUNTIF(回答入力!T4:T13,回答文!$C$32)=1,回答入力!T3,\"\")","v":""},{"$f":"IF(COUNTIF(回答入力!U4:U13,回答文!$C$32)=1,回答入力!U3,\"\")","v":""},{"$f":"IF(COUNTIF(回答入力!V4:V13,回答文!$C$32)=1,回答入力!V3,\"\")","v":""},{"$f":"IF(COUNTIF(回答入力!W4:W13,回答文!$C$32)=1,回答入力!W3,\"\")","v":""},{"$f":"IF(COUNTIF(回答入力!X4:X13,回答文!$C$32)=1,回答入力!X3,\"\")","v":""},{"$f":"IF(COUNTIF(回答入力!Y4:Y13,回答文!$C$32)=1,回答入力!Y3,\"\")","v":""},{"$f":"IF(COUNTIF(回答入力!Z4:Z13,回答文!$C$32)=1,回答入力!Z3,\"\")","v":""},{"$f":"IF(COUNTIF(回答入力!AA4:AA13,回答文!$C$32)=1,回答入力!AA3,\"\")","v":""},{"$f":"IF(COUNTIF(回答入力!AB4:AB13,回答文!$C$32)=1,回答入力!AB3,\"\")","v":""}]
[null,null,{"$f":"回答入力!C4","v":"普通地域"},{"$f":"IF(COUNTIF(回答入力!I4:I13,回答文!$C$33)=1,回答入力!I3,\"\")","v":""},{"$f":"IF(COUNTIF(回答入力!J4:J13,回答文!$C$33)=1,回答入力!J3,\"\")","v":""},{"$f":"IF(COUNTIF(回答入力!K4:K13,回答文!$C$33)=1,回答入力!K3,\"\")","v":""},{"$f":"IF(COUNTIF(回答入力!L4:L13,回答文!$C$33)=1,回答入力!L3,\"\")","v":""},{"$f":"IF(COUNTIF(回答入力!M4:M13,回答文!$C$33)=1,回答入力!M3,\"\")","v":""},{"$f":"IF(COUNTIF(回答入力!N4:N13,回答文!$C$33)=1,回答入力!N3,\"\")","v":""},{"$f":"IF(COUNTIF(回答入力!O4:O13,回答文!$C$33)=1,回答入力!O3,\"\")","v":""},{"$f":"IF(COUNTIF(回答入力!P4:P13,回答文!$C$33)=1,回答入力!P3,\"\")","v":""},{"$f":"IF(COUNTIF(回答入力!Q4:Q13,回答文!$C$33)=1,回答入力!Q3,\"\")","v":""},{"$f":"IF(COUNTIF(回答入力!R4:R13,回答文!$C$33)=1,回答入力!R3,\"\")","v":""},{"$f":"IF(COUNTIF(回答入力!S4:S13,回答文!$C$33)=1,回答入力!S3,\"\")","v":""},{"$f":"IF(COUNTIF(回答入力!T4:T13,回答文!$C$33)=1,回答入力!T3,\"\")","v":""},{"$f":"IF(COUNTIF(回答入力!U4:U13,回答文!$C$33)=1,回答入力!U3,\"\")","v":""},{"$f":"IF(COUNTIF(回答入力!V4:V13,回答文!$C$33)=1,回答入力!V3,\"\")","v":""},{"$f":"IF(COUNTIF(回答入力!W4:W13,回答文!$C$33)=1,回答入力!W3,\"\")","v":""},{"$f":"IF(COUNTIF(回答入力!X4:X13,回答文!$C$33)=1,回答入力!X3,\"\")","v":""},{"$f":"IF(COUNTIF(回答入力!Y4:Y13,回答文!$C$33)=1,回答入力!Y3,\"\")","v":""},{"$f":"IF(COUNTIF(回答入力!Z4:Z13,回答文!$C$33)=1,回答入力!Z3,\"\")","v":""},{"$f":"IF(COUNTIF(回答入力!AA4:AA13,回答文!$C$33)=1,回答入力!AA3,\"\")","v":""},{"$f":"IF(COUNTIF(回答入力!AB4:AB13,回答文!$C$33)=1,回答入力!AB3,\"\")","v":""}]
[null,null,{"$f":"IF(回答入力!E5=\"✓\", \"〇三重県自然環境保全条例\", \"\")","v":""}]
[null,null,{"$f":"回答入力!A5","v":"b.該当なし"},{"$f":"IF(COUNTIF(回答入力!I4:I13,回答文!$C$35)=1,回答入力!I3,\"\")","v":""},{"$f":"IF(COUNTIF(回答入力!J4:J13,回答文!$C$35)=1,回答入力!J3,\"\")","v":""},{"$f":"IF(COUNTIF(回答入力!K4:K13,回答文!$C$35)=1,回答入力!K3,\"\")","v":""},{"$f":"IF(COUNTIF(回答入力!L4:L13,回答文!$C$35)=1,回答入力!L3,\"\")","v":""},{"$f":"IF(COUNTIF(回答入力!M4:M13,回答文!$C$35)=1,回答入力!M3,\"\")","v":""},{"$f":"IF(COUNTIF(回答入力!N4:N13,回答文!$C$35)=1,回答入力!N3,\"\")","v":""},{"$f":"IF(COUNTIF(回答入力!O4:O13,回答文!$C$35)=1,回答入力!O3,\"\")","v":""},{"$f":"IF(COUNTIF(回答入力!P4:P13,回答文!$C$35)=1,回答入力!P3,\"\")","v":""},{"$f":"IF(COUNTIF(回答入力!Q4:Q13,回答文!$C$35)=1,回答入力!Q3,\"\")","v":""},{"$f":"IF(COUNTIF(回答入力!R4:R13,回答文!$C$35)=1,回答入力!R3,\"\")","v":""},{"$f":"IF(COUNTIF(回答入力!S4:S13,回答文!$C$35)=1,回答入力!S3,\"\")","v":""},{"$f":"IF(COUNTIF(回答入力!T4:T13,回答文!$C$35)=1,回答入力!T3,\"\")","v":""},{"$f":"IF(COUNTIF(回答入力!U4:U13,回答文!$C$35)=1,回答入力!U3,\"\")","v":""},{"$f":"IF(COUNTIF(回答入力!V4:V13,回答文!$C$35)=1,回答入力!V3,\"\")","v":""},{"$f":"IF(COUNTIF(回答入力!W4:W13,回答文!$C$35)=1,回答入力!W3,\"\")","v":""},{"$f":"IF(COUNTIF(回答入力!X4:X13,回答文!$C$35)=1,回答入力!X3,\"\")","v":""},{"$f":"IF(COUNTIF(回答入力!Y4:Y13,回答文!$C$35)=1,回答入力!Y3,\"\")","v":""},{"$f":"IF(COUNTIF(回答入力!Z4:Z13,回答文!$C$35)=1,回答入力!Z3,\"\")","v":""},{"$f":"IF(COUNTIF(回答入力!AA4:AA13,回答文!$C$35)=1,回答入力!AA3,\"\")","v":""},{"$f":"IF(COUNTIF(回答入力!AB4:AB13,回答文!$C$35)=1,回答入力!AB3,\"\")","v":""}]
[null,null,{"$f":"回答入力!B5","v":"特別地区"},{"$f":"IF(COUNTIF(回答入力!I4:I13,回答文!$C$36)=1,回答入力!I3,\"\")","v":""},{"$f":"IF(COUNTIF(回答入力!J4:J13,回答文!$C$36)=1,回答入力!J3,\"\")","v":""},{"$f":"IF(COUNTIF(回答入力!K4:K13,回答文!$C$36)=1,回答入力!K3,\"\")","v":""},{"$f":"IF(COUNTIF(回答入力!L4:L13,回答文!$C$36)=1,回答入力!L3,\"\")","v":""},{"$f":"IF(COUNTIF(回答入力!M4:M13,回答文!$C$36)=1,回答入力!M3,\"\")","v":""},{"$f":"IF(COUNTIF(回答入力!N4:N13,回答文!$C$36)=1,回答入力!N3,\"\")","v":""},{"$f":"IF(COUNTIF(回答入力!O4:O13,回答文!$C$36)=1,回答入力!O3,\"\")","v":""},{"$f":"IF(COUNTIF(回答入力!P4:P13,回答文!$C$36)=1,回答入力!P3,\"\")","v":""},{"$f":"IF(COUNTIF(回答入力!Q4:Q13,回答文!$C$36)=1,回答入力!Q3,\"\")","v":""},{"$f":"IF(COUNTIF(回答入力!R4:R13,回答文!$C$36)=1,回答入力!R3,\"\")","v":""},{"$f":"IF(COUNTIF(回答入力!S4:S13,回答文!$C$36)=1,回答入力!S3,\"\")","v":""},{"$f":"IF(COUNTIF(回答入力!T4:T13,回答文!$C$36)=1,回答入力!T3,\"\")","v":""},{"$f":"IF(COUNTIF(回答入力!U4:U13,回答文!$C$36)=1,回答入力!U3,\"\")","v":""},{"$f":"IF(COUNTIF(回答入力!V4:V13,回答文!$C$36)=1,回答入力!V3,\"\")","v":""},{"$f":"IF(COUNTIF(回答入力!W4:W13,回答文!$C$36)=1,回答入力!W3,\"\")","v":""},{"$f":"IF(COUNTIF(回答入力!X4:X13,回答文!$C$36)=1,回答入力!X3,\"\")","v":""},{"$f":"IF(COUNTIF(回答入力!Y4:Y13,回答文!$C$36)=1,回答入力!Y3,\"\")","v":""},{"$f":"IF(COUNTIF(回答入力!Z4:Z13,回答文!$C$36)=1,回答入力!Z3,\"\")","v":""},{"$f":"IF(COUNTIF(回答入力!AA4:AA13,回答文!$C$36)=1,回答入力!AA3,\"\")","v":""},{"$f":"IF(COUNTIF(回答入力!AB4:AB13,回答文!$C$36)=1,回答入力!AB3,\"\")","v":""}]
[null,null,{"$f":"回答入力!C5","v":"普通地区"},{"$f":"IF(COUNTIF(回答入力!I4:I13,回答文!$C$37)=1,回答入力!I3,\"\")","v":""},{"$f":"IF(COUNTIF(回答入力!J4:J13,回答文!$C$37)=1,回答入力!J3,\"\")","v":""},{"$f":"IF(COUNTIF(回答入力!K4:K13,回答文!$C$37)=1,回答入力!K3,\"\")","v":""},{"$f":"IF(COUNTIF(回答入力!L4:L13,回答文!$C$37)=1,回答入力!L3,\"\")","v":""},{"$f":"IF(COUNTIF(回答入力!M4:M13,回答文!$C$37)=1,回答入力!M3,\"\")","v":""},{"$f":"IF(COUNTIF(回答入力!N4:N13,回答文!$C$37)=1,回答入力!N3,\"\")","v":""},{"$f":"IF(COUNTIF(回答入力!O4:O13,回答文!$C$37)=1,回答入力!O3,\"\")","v":""},{"$f":"IF(COUNTIF(回答入力!P4:P13,回答文!$C$37)=1,回答入力!P3,\"\")","v":""},{"$f":"IF(COUNTIF(回答入力!Q4:Q13,回答文!$C$37)=1,回答入力!Q3,\"\")","v":""},{"$f":"IF(COUNTIF(回答入力!R4:R13,回答文!$C$37)=1,回答入力!R3,\"\")","v":""},{"$f":"IF(COUNTIF(回答入力!S4:S13,回答文!$C$37)=1,回答入力!S3,\"\")","v":""},{"$f":"IF(COUNTIF(回答入力!T4:T13,回答文!$C$37)=1,回答入力!T3,\"\")","v":""},{"$f":"IF(COUNTIF(回答入力!U4:U13,回答文!$C$37)=1,回答入力!U3,\"\")","v":""},{"$f":"IF(COUNTIF(回答入力!V4:V13,回答文!$C$37)=1,回答入力!V3,\"\")","v":""},{"$f":"IF(COUNTIF(回答入力!W4:W13,回答文!$C$37)=1,回答入力!W3,\"\")","v":""},{"$f":"IF(COUNTIF(回答入力!X4:X13,回答文!$C$37)=1,回答入力!X3,\"\")","v":""},{"$f":"IF(COUNTIF(回答入力!Y4:Y13,回答文!$C$37)=1,回答入力!Y3,\"\")","v":""},{"$f":"IF(COUNTIF(回答入力!Z4:Z13,回答文!$C$37)=1,回答入力!Z3,\"\")","v":""},{"$f":"IF(COUNTIF(回答入力!AA4:AA13,回答文!$C$37)=1,回答入力!AA3,\"\")","v":""},{"$f":"IF(COUNTIF(回答入力!AB4:AB13,回答文!$C$37)=1,回答入力!AB3,\"\")","v":""}]
[null,null,{"$f":"回答入力!A6","v":"c.該当なし"},{"$f":"IF(COUNTIF(回答入力!I4:I13,回答文!$C$38)=1,回答入力!I3,\"\")","v":""},{"$f":"IF(COUNTIF(回答入力!J4:J13,回答文!$C$38)=1,回答入力!J3,\"\")","v":""},{"$f":"IF(COUNTIF(回答入力!K4:K13,回答文!$C$38)=1,回答入力!K3,\"\")","v":""},{"$f":"IF(COUNTIF(回答入力!L4:L13,回答文!$C$38)=1,回答入力!L3,\"\")","v":""},{"$f":"IF(COUNTIF(回答入力!M4:M13,回答文!$C$38)=1,回答入力!M3,\"\")","v":""},{"$f":"IF(COUNTIF(回答入力!N4:N13,回答文!$C$38)=1,回答入力!N3,\"\")","v":""},{"$f":"IF(COUNTIF(回答入力!O4:O13,回答文!$C$38)=1,回答入力!O3,\"\")","v":""},{"$f":"IF(COUNTIF(回答入力!P4:P13,回答文!$C$38)=1,回答入力!P3,\"\")","v":""},{"$f":"IF(COUNTIF(回答入力!Q4:Q13,回答文!$C$38)=1,回答入力!Q3,\"\")","v":""},{"$f":"IF(COUNTIF(回答入力!R4:R13,回答文!$C$38)=1,回答入力!R3,\"\")","v":""},{"$f":"IF(COUNTIF(回答入力!S4:S13,回答文!$C$38)=1,回答入力!S3,\"\")","v":""},{"$f":"IF(COUNTIF(回答入力!T4:T13,回答文!$C$38)=1,回答入力!T3,\"\")","v":""},{"$f":"IF(COUNTIF(回答入力!U4:U13,回答文!$C$38)=1,回答入力!U3,\"\")","v":""},{"$f":"IF(COUNTIF(回答入力!V4:V13,回答文!$C$38)=1,回答入力!V3,\"\")","v":""},{"$f":"IF(COUNTIF(回答入力!W4:W13,回答文!$C$38)=1,回答入力!W3,\"\")","v":""},{"$f":"IF(COUNTIF(回答入力!X4:X13,回答文!$C$38)=1,回答入力!X3,\"\")","v":""},{"$f":"IF(COUNTIF(回答入力!Y4:Y13,回答文!$C$38)=1,回答入力!Y3,\"\")","v":""},{"$f":"IF(COUNTIF(回答入力!Z4:Z13,回答文!$C$38)=1,回答入力!Z3,\"\")","v":""},{"$f":"IF(COUNTIF(回答入力!AA4:AA13,回答文!$C$38)=1,回答入力!AA3,\"\")","v":""},{"$f":"IF(COUNTIF(回答入力!AB4:AB13,回答文!$C$38)=1,回答入力!AB3,\"\")","v":""}]
[null,null,{"$f":"回答入力!B6","v":"該当あり"},{"$f":"IF(COUNTIF(回答入力!I4:I13,回答文!$C$39)=1,回答入力!I3,\"\")","v":""},{"$f":"IF(COUNTIF(回答入力!J4:J13,回答文!$C$39)=1,回答入力!J3,\"\")","v":""},{"$f":"IF(COUNTIF(回答入力!K4:K13,回答文!$C$39)=1,回答入力!K3,\"\")","v":""},{"$f":"IF(COUNTIF(回答入力!L4:L13,回答文!$C$39)=1,回答入力!L3,\"\")","v":""},{"$f":"IF(COUNTIF(回答入力!M4:M13,回答文!$C$39)=1,回答入力!M3,\"\")","v":""},{"$f":"IF(COUNTIF(回答入力!N4:N13,回答文!$C$39)=1,回答入力!N3,\"\")","v":""},{"$f":"IF(COUNTIF(回答入力!O4:O13,回答文!$C$39)=1,回答入力!O3,\"\")","v":""},{"$f":"IF(COUNTIF(回答入力!P4:P13,回答文!$C$39)=1,回答入力!P3,\"\")","v":""},{"$f":"IF(COUNTIF(回答入力!Q4:Q13,回答文!$C$39)=1,回答入力!Q3,\"\")","v":""},{"$f":"IF(COUNTIF(回答入力!R4:R13,回答文!$C$39)=1,回答入力!R3,\"\")","v":""},{"$f":"IF(COUNTIF(回答入力!S4:S13,回答文!$C$39)=1,回答入力!S3,\"\")","v":""},{"$f":"IF(COUNTIF(回答入力!T4:T13,回答文!$C$39)=1,回答入力!T3,\"\")","v":""},{"$f":"IF(COUNTIF(回答入力!U4:U13,回答文!$C$39)=1,回答入力!U3,\"\")","v":""},{"$f":"IF(COUNTIF(回答入力!V4:V13,回答文!$C$39)=1,回答入力!V3,\"\")","v":""},{"$f":"IF(COUNTIF(回答入力!W4:W13,回答文!$C$39)=1,回答入力!W3,\"\")","v":""},{"$f":"IF(COUNTIF(回答入力!X4:X13,回答文!$C$39)=1,回答入力!X3,\"\")","v":""},{"$f":"IF(COUNTIF(回答入力!Y4:Y13,回答文!$C$39)=1,回答入力!Y3,\"\")","v":""},{"$f":"IF(COUNTIF(回答入力!Z4:Z13,回答文!$C$39)=1,回答入力!Z3,\"\")","v":""},{"$f":"IF(COUNTIF(回答入力!AA4:AA13,回答文!$C$39)=1,回答入力!AA3,\"\")","v":""},{"$f":"IF(COUNTIF(回答入力!AB4:AB13,回答文!$C$39)=1,回答入力!AB3,\"\")","v":""}]
[null,null,{"$f":"IF(回答入力!E7=\"✓\",\"〇森林法\", \"\")","v":""}]
[null,null,{"$f":"回答入力!A7","v":"d.該当なし"},{"$f":"IF(COUNTIF(回答入力!I4:I13,回答文!$C$41)=1,回答入力!I3,\"\")","v":""},{"$f":"IF(COUNTIF(回答入力!J4:J13,回答文!$C$41)=1,回答入力!J3,\"\")","v":""},{"$f":"IF(COUNTIF(回答入力!K4:K13,回答文!$C$41)=1,回答入力!K3,\"\")","v":""},{"$f":"IF(COUNTIF(回答入力!L4:L13,回答文!$C$41)=1,回答入力!L3,\"\")","v":""},{"$f":"IF(COUNTIF(回答入力!M4:M13,回答文!$C$41)=1,回答入力!M3,\"\")","v":""},{"$f":"IF(COUNTIF(回答入力!N4:N13,回答文!$C$41)=1,回答入力!N3,\"\")","v":""},{"$f":"IF(COUNTIF(回答入力!O4:O13,回答文!$C$41)=1,回答入力!O3,\"\")","v":""},{"$f":"IF(COUNTIF(回答入力!P4:P13,回答文!$C$41)=1,回答入力!P3,\"\")","v":""},{"$f":"IF(COUNTIF(回答入力!Q4:Q13,回答文!$C$41)=1,回答入力!Q3,\"\")","v":""},{"$f":"IF(COUNTIF(回答入力!R4:R13,回答文!$C$41)=1,回答入力!R3,\"\")","v":""},{"$f":"IF(COUNTIF(回答入力!S4:S13,回答文!$C$41)=1,回答入力!S3,\"\")","v":""},{"$f":"IF(COUNTIF(回答入力!T4:T13,回答文!$C$41)=1,回答入力!T3,\"\")","v":""},{"$f":"IF(COUNTIF(回答入力!U4:U13,回答文!$C$41)=1,回答入力!U3,\"\")","v":""},{"$f":"IF(COUNTIF(回答入力!V4:V13,回答文!$C$41)=1,回答入力!V3,\"\")","v":""},{"$f":"IF(COUNTIF(回答入力!W4:W13,回答文!$C$41)=1,回答入力!W3,\"\")","v":""},{"$f":"IF(COUNTIF(回答入力!X4:X13,回答文!$C$41)=1,回答入力!X3,\"\")","v":""},{"$f":"IF(COUNTIF(回答入力!Y4:Y13,回答文!$C$41)=1,回答入力!Y3,\"\")","v":""},{"$f":"IF(COUNTIF(回答入力!Z4:Z13,回答文!$C$41)=1,回答入力!Z3,\"\")","v":""},{"$f":"IF(COUNTIF(回答入力!AA4:AA13,回答文!$C$41)=1,回答入力!AA3,\"\")","v":""},{"$f":"IF(COUNTIF(回答入力!AB4:AB13,回答文!$C$41)=1,回答入力!AB3,\"\")","v":""}]
[null,null,{"$f":"回答入力!B7","v":"森林計画区"},{"$f":"IF(COUNTIF(回答入力!I4:I13,回答文!$C$42)=1,回答入力!I3,\"\")","v":""},{"$f":"IF(COUNTIF(回答入力!J4:J13,回答文!$C$42)=1,回答入力!J3,\"\")","v":""},{"$f":"IF(COUNTIF(回答入力!K4:K13,回答文!$C$42)=1,回答入力!K3,\"\")","v":""},{"$f":"IF(COUNTIF(回答入力!L4:L13,回答文!$C$42)=1,回答入力!L3,\"\")","v":""},{"$f":"IF(COUNTIF(回答入力!M4:M13,回答文!$C$42)=1,回答入力!M3,\"\")","v":""},{"$f":"IF(COUNTIF(回答入力!N4:N13,回答文!$C$42)=1,回答入力!N3,\"\")","v":""},{"$f":"IF(COUNTIF(回答入力!O4:O13,回答文!$C$42)=1,回答入力!O3,\"\")","v":""},{"$f":"IF(COUNTIF(回答入力!P4:P13,回答文!$C$42)=1,回答入力!P3,\"\")","v":""},{"$f":"IF(COUNTIF(回答入力!Q4:Q13,回答文!$C$42)=1,回答入力!Q3,\"\")","v":""},{"$f":"IF(COUNTIF(回答入力!R4:R13,回答文!$C$42)=1,回答入力!R3,\"\")","v":""},{"$f":"IF(COUNTIF(回答入力!S4:S13,回答文!$C$42)=1,回答入力!S3,\"\")","v":""},{"$f":"IF(COUNTIF(回答入力!T4:T13,回答文!$C$42)=1,回答入力!T3,\"\")","v":""},{"$f":"IF(COUNTIF(回答入力!U4:U13,回答文!$C$42)=1,回答入力!U3,\"\")","v":""},{"$f":"IF(COUNTIF(回答入力!V4:V13,回答文!$C$42)=1,回答入力!V3,\"\")","v":""},{"$f":"IF(COUNTIF(回答入力!W4:W13,回答文!$C$42)=1,回答入力!W3,\"\")","v":""},{"$f":"IF(COUNTIF(回答入力!X4:X13,回答文!$C$42)=1,回答入力!X3,\"\")","v":""},{"$f":"IF(COUNTIF(回答入力!Y4:Y13,回答文!$C$42)=1,回答入力!Y3,\"\")","v":""},{"$f":"IF(COUNTIF(回答入力!Z4:Z13,回答文!$C$42)=1,回答入力!Z3,\"\")","v":""},{"$f":"IF(COUNTIF(回答入力!AA4:AA13,回答文!$C$42)=1,回答入力!AA3,\"\")","v":""},{"$f":"IF(COUNTIF(回答入力!AB4:AB13,回答文!$C$42)=1,回答入力!AB3,\"\")","v":""}]
[]
[]
[null,null,{"$f":"回答入力!A9","v":"e.該当なし"},{"$f":"IF(COUNTIF(回答入力!I4:I13,回答文!$C$45)=1,回答入力!I3,\"\")","v":""},{"$f":"IF(COUNTIF(回答入力!J4:J13,回答文!$C$45)=1,回答入力!J3,\"\")","v":""},{"$f":"IF(COUNTIF(回答入力!K4:K13,回答文!$C$45)=1,回答入力!K3,\"\")","v":""},{"$f":"IF(COUNTIF(回答入力!L4:L13,回答文!$C$45)=1,回答入力!L3,\"\")","v":""},{"$f":"IF(COUNTIF(回答入力!M4:M13,回答文!$C$45)=1,回答入力!M3,\"\")","v":""},{"$f":"IF(COUNTIF(回答入力!N4:N13,回答文!$C$45)=1,回答入力!N3,\"\")","v":""},{"$f":"IF(COUNTIF(回答入力!O4:O13,回答文!$C$45)=1,回答入力!O3,\"\")","v":""},{"$f":"IF(COUNTIF(回答入力!P4:P13,回答文!$C$45)=1,回答入力!P3,\"\")","v":""},{"$f":"IF(COUNTIF(回答入力!Q4:Q13,回答文!$C$45)=1,回答入力!Q3,\"\")","v":""},{"$f":"IF(COUNTIF(回答入力!R4:R13,回答文!$C$45)=1,回答入力!R3,\"\")","v":""},{"$f":"IF(COUNTIF(回答入力!S4:S13,回答文!$C$45)=1,回答入力!S3,\"\")","v":""},{"$f":"IF(COUNTIF(回答入力!T4:T13,回答文!$C$45)=1,回答入力!T3,\"\")","v":""},{"$f":"IF(COUNTIF(回答入力!U4:U13,回答文!$C$45)=1,回答入力!U3,\"\")","v":""},{"$f":"IF(COUNTIF(回答入力!V4:V13,回答文!$C$45)=1,回答入力!V3,\"\")","v":""},{"$f":"IF(COUNTIF(回答入力!W4:W13,回答文!$C$45)=1,回答入力!W3,\"\")","v":""},{"$f":"IF(COUNTIF(回答入力!X4:X13,回答文!$C$45)=1,回答入力!X3,\"\")","v":""},{"$f":"IF(COUNTIF(回答入力!Y4:Y13,回答文!$C$45)=1,回答入力!Y3,\"\")","v":""},{"$f":"IF(COUNTIF(回答入力!Z4:Z13,回答文!$C$45)=1,回答入力!Z3,\"\")","v":""},{"$f":"IF(COUNTIF(回答入力!AA4:AA13,回答文!$C$45)=1,回答入力!AA3,\"\")","v":""},{"$f":"IF(COUNTIF(回答入力!AB4:AB13,回答文!$C$45)=1,回答入力!AB3,\"\")","v":""}]
[null,null,{"$f":"回答入力!B9","v":"保安林"},{"$f":"IF(COUNTIF(回答入力!I4:I13,回答文!$C$46)=1,回答入力!I3,\"\")","v":""},{"$f":"IF(COUNTIF(回答入力!J4:J13,回答文!$C$46)=1,回答入力!J3,\"\")","v":""},{"$f":"IF(COUNTIF(回答入力!K4:K13,回答文!$C$46)=1,回答入力!K3,\"\")","v":""},{"$f":"IF(COUNTIF(回答入力!L4:L13,回答文!$C$46)=1,回答入力!L3,\"\")","v":""},{"$f":"IF(COUNTIF(回答入力!M4:M13,回答文!$C$46)=1,回答入力!M3,\"\")","v":""},{"$f":"IF(COUNTIF(回答入力!N4:N13,回答文!$C$46)=1,回答入力!N3,\"\")","v":""},{"$f":"IF(COUNTIF(回答入力!O4:O13,回答文!$C$46)=1,回答入力!O3,\"\")","v":""},{"$f":"IF(COUNTIF(回答入力!P4:P13,回答文!$C$46)=1,回答入力!P3,\"\")","v":""},{"$f":"IF(COUNTIF(回答入力!Q4:Q13,回答文!$C$46)=1,回答入力!Q3,\"\")","v":""},{"$f":"IF(COUNTIF(回答入力!R4:R13,回答文!$C$46)=1,回答入力!R3,\"\")","v":""},{"$f":"IF(COUNTIF(回答入力!S4:S13,回答文!$C$46)=1,回答入力!S3,\"\")","v":""},{"$f":"IF(COUNTIF(回答入力!T4:T13,回答文!$C$46)=1,回答入力!T3,\"\")","v":""},{"$f":"IF(COUNTIF(回答入力!U4:U13,回答文!$C$46)=1,回答入力!U3,\"\")","v":""},{"$f":"IF(COUNTIF(回答入力!V4:V13,回答文!$C$46)=1,回答入力!V3,\"\")","v":""},{"$f":"IF(COUNTIF(回答入力!W4:W13,回答文!$C$46)=1,回答入力!W3,\"\")","v":""},{"$f":"IF(COUNTIF(回答入力!X4:X13,回答文!$C$46)=1,回答入力!X3,\"\")","v":""},{"$f":"IF(COUNTIF(回答入力!Y4:Y13,回答文!$C$46)=1,回答入力!Y3,\"\")","v":""},{"$f":"IF(COUNTIF(回答入力!Z4:Z13,回答文!$C$46)=1,回答入力!Z3,\"\")","v":""},{"$f":"IF(COUNTIF(回答入力!AA4:AA13,回答文!$C$46)=1,回答入力!AA3,\"\")","v":""},{"$f":"IF(COUNTIF(回答入力!AB4:AB13,回答文!$C$46)=1,回答入力!AB3,\"\")","v":""}]
[null,null,{"$f":"IF(回答入力!E10=\"✓\", \"〇水源条例\",\"\")","v":""}]
[null,null,{"$f":"回答入力!A10","v":"f.該当なし"},{"$f":"IF(COUNTIF(回答入力!I4:I13,回答文!$C$48)=1,回答入力!I3,\"\")","v":""},{"$f":"IF(COUNTIF(回答入力!J4:J13,回答文!$C$48)=1,回答入力!J3,\"\")","v":""},{"$f":"IF(COUNTIF(回答入力!K4:K13,回答文!$C$48)=1,回答入力!K3,\"\")","v":""},{"$f":"IF(COUNTIF(回答入力!L4:L13,回答文!$C$48)=1,回答入力!L3,\"\")","v":""},{"$f":"IF(COUNTIF(回答入力!M4:M13,回答文!$C$48)=1,回答入力!M3,\"\")","v":""},{"$f":"IF(COUNTIF(回答入力!N4:N13,回答文!$C$48)=1,回答入力!N3,\"\")","v":""},{"$f":"IF(COUNTIF(回答入力!O4:O13,回答文!$C$48)=1,回答入力!O3,\"\")","v":""},{"$f":"IF(COUNTIF(回答入力!P4:P13,回答文!$C$48)=1,回答入力!P3,\"\")","v":""},{"$f":"IF(COUNTIF(回答入力!Q4:Q13,回答文!$C$48)=1,回答入力!Q3,\"\")","v":""},{"$f":"IF(COUNTIF(回答入力!R4:R13,回答文!$C$48)=1,回答入力!R3,\"\")","v":""},{"$f":"IF(COUNTIF(回答入力!S4:S13,回答文!$C$48)=1,回答入力!S3,\"\")","v":""},{"$f":"IF(COUNTIF(回答入力!T4:T13,回答文!$C$48)=1,回答入力!T3,\"\")","v":""},{"$f":"IF(COUNTIF(回答入力!U4:U13,回答文!$C$48)=1,回答入力!U3,\"\")","v":""},{"$f":"IF(COUNTIF(回答入力!V4:V13,回答文!$C$48)=1,回答入力!V3,\"\")","v":""},{"$f":"IF(COUNTIF(回答入力!W4:W13,回答文!$C$48)=1,回答入力!W3,\"\")","v":""},{"$f":"IF(COUNTIF(回答入力!X4:X13,回答文!$C$48)=1,回答入力!X3,\"\")","v":""},{"$f":"IF(COUNTIF(回答入力!Y4:Y13,回答文!$C$48)=1,回答入力!Y3,\"\")","v":""},{"$f":"IF(COUNTIF(回答入力!Z4:Z13,回答文!$C$48)=1,回答入力!Z3,\"\")","v":""},{"$f":"IF(COUNTIF(回答入力!AA4:AA13,回答文!$C$48)=1,回答入力!AA3,\"\")","v":""},{"$f":"IF(COUNTIF(回答入力!AB4:AB13,回答文!$C$48)=1,回答入力!AB3,\"\")","v":""}]
[null,null,{"$f":"回答入力!B10","v":"水源地域"},{"$f":"IF(COUNTIF(回答入力!I4:I13,回答文!$C$49)=1,回答入力!I3,\"\")","v":""},{"$f":"IF(COUNTIF(回答入力!J4:J13,回答文!$C$49)=1,回答入力!J3,\"\")","v":""},{"$f":"IF(COUNTIF(回答入力!K4:K13,回答文!$C$49)=1,回答入力!K3,\"\")","v":""},{"$f":"IF(COUNTIF(回答入力!L4:L13,回答文!$C$49)=1,回答入力!L3,\"\")","v":""},{"$f":"IF(COUNTIF(回答入力!M4:M13,回答文!$C$49)=1,回答入力!M3,\"\")","v":""},{"$f":"IF(COUNTIF(回答入力!N4:N13,回答文!$C$49)=1,回答入力!N3,\"\")","v":""},{"$f":"IF(COUNTIF(回答入力!O4:O13,回答文!$C$49)=1,回答入力!O3,\"\")","v":""},{"$f":"IF(COUNTIF(回答入力!P4:P13,回答文!$C$49)=1,回答入力!P3,\"\")","v":""},{"$f":"IF(COUNTIF(回答入力!Q4:Q13,回答文!$C$49)=1,回答入力!Q3,\"\")","v":""},{"$f":"IF(COUNTIF(回答入力!R4:R13,回答文!$C$49)=1,回答入力!R3,\"\")","v":""},{"$f":"IF(COUNTIF(回答入力!S4:S13,回答文!$C$49)=1,回答入力!S3,\"\")","v":""},{"$f":"IF(COUNTIF(回答入力!T4:T13,回答文!$C$49)=1,回答入力!T3,\"\")","v":""},{"$f":"IF(COUNTIF(回答入力!U4:U13,回答文!$C$49)=1,回答入力!U3,\"\")","v":""},{"$f":"IF(COUNTIF(回答入力!V4:V13,回答文!$C$49)=1,回答入力!V3,\"\")","v":""},{"$f":"IF(COUNTIF(回答入力!W4:W13,回答文!$C$49)=1,回答入力!W3,\"\")","v":""},{"$f":"IF(COUNTIF(回答入力!X4:X13,回答文!$C$49)=1,回答入力!X3,\"\")","v":""},{"$f":"IF(COUNTIF(回答入力!Y4:Y13,回答文!$C$49)=1,回答入力!Y3,\"\")","v":""},{"$f":"IF(COUNTIF(回答入力!Z4:Z13,回答文!$C$49)=1,回答入力!Z3,\"\")","v":""},{"$f":"IF(COUNTIF(回答入力!AA4:AA13,回答文!$C$49)=1,回答入力!AA3,\"\")","v":""},{"$f":"IF(COUNTIF(回答入力!AB4:AB13,回答文!$C$49)=1,回答入力!AB3,\"\")","v":""}]
[null,null,{"$f":"IF(回答入力!E11=\"✓\",\"〇鳥獣保護管理法\", \"\")","v":""}]
[null,null,{"$f":"回答入力!A11","v":"g.該当なし"},{"$f":"IF(COUNTIF(回答入力!I4:I13,回答文!$C$51)=1,回答入力!I3,\"\")","v":""},{"$f":"IF(COUNTIF(回答入力!J4:J13,回答文!$C$51)=1,回答入力!J3,\"\")","v":""},{"$f":"IF(COUNTIF(回答入力!K4:K13,回答文!$C$51)=1,回答入力!K3,\"\")","v":""},{"$f":"IF(COUNTIF(回答入力!L4:L13,回答文!$C$51)=1,回答入力!L3,\"\")","v":""},{"$f":"IF(COUNTIF(回答入力!M4:M13,回答文!$C$51)=1,回答入力!M3,\"\")","v":""},{"$f":"IF(COUNTIF(回答入力!N4:N13,回答文!$C$51)=1,回答入力!N3,\"\")","v":""},{"$f":"IF(COUNTIF(回答入力!O4:O13,回答文!$C$51)=1,回答入力!O3,\"\")","v":""},{"$f":"IF(COUNTIF(回答入力!P4:P13,回答文!$C$51)=1,回答入力!P3,\"\")","v":""},{"$f":"IF(COUNTIF(回答入力!Q4:Q13,回答文!$C$51)=1,回答入力!Q3,\"\")","v":""},{"$f":"IF(COUNTIF(回答入力!R4:R13,回答文!$C$51)=1,回答入力!R3,\"\")","v":""},{"$f":"IF(COUNTIF(回答入力!S4:S13,回答文!$C$51)=1,回答入力!S3,\"\")","v":""},{"$f":"IF(COUNTIF(回答入力!T4:T13,回答文!$C$51)=1,回答入力!T3,\"\")","v":""},{"$f":"IF(COUNTIF(回答入力!U4:U13,回答文!$C$51)=1,回答入力!U3,\"\")","v":""},{"$f":"IF(COUNTIF(回答入力!V4:V13,回答文!$C$51)=1,回答入力!V3,\"\")","v":""},{"$f":"IF(COUNTIF(回答入力!W4:W13,回答文!$C$51)=1,回答入力!W3,\"\")","v":""},{"$f":"IF(COUNTIF(回答入力!X4:X13,回答文!$C$51)=1,回答入力!X3,\"\")","v":""},{"$f":"IF(COUNTIF(回答入力!Y4:Y13,回答文!$C$51)=1,回答入力!Y3,\"\")","v":""},{"$f":"IF(COUNTIF(回答入力!Z4:Z13,回答文!$C$51)=1,回答入力!Z3,\"\")","v":""},{"$f":"IF(COUNTIF(回答入力!AA4:AA13,回答文!$C$51)=1,回答入力!AA3,\"\")","v":""},{"$f":"IF(COUNTIF(回答入力!AB4:AB13,回答文!$C$51)=1,回答入力!AB3,\"\")","v":""}]
[null,null,{"$f":"回答入力!B11","v":"特別保護地区"},{"$f":"IF(COUNTIF(回答入力!I4:I13,回答文!$C$52)=1,回答入力!I3,\"\")","v":""},{"$f":"IF(COUNTIF(回答入力!J4:J13,回答文!$C$52)=1,回答入力!J3,\"\")","v":""},{"$f":"IF(COUNTIF(回答入力!K4:K13,回答文!$C$52)=1,回答入力!K3,\"\")","v":""},{"$f":"IF(COUNTIF(回答入力!L4:L13,回答文!$C$52)=1,回答入力!L3,\"\")","v":""},{"$f":"IF(COUNTIF(回答入力!M4:M13,回答文!$C$52)=1,回答入力!M3,\"\")","v":""},{"$f":"IF(COUNTIF(回答入力!N4:N13,回答文!$C$52)=1,回答入力!N3,\"\")","v":""},{"$f":"IF(COUNTIF(回答入力!O4:O13,回答文!$C$52)=1,回答入力!O3,\"\")","v":""},{"$f":"IF(COUNTIF(回答入力!P4:P13,回答文!$C$52)=1,回答入力!P3,\"\")","v":""},{"$f":"IF(COUNTIF(回答入力!Q4:Q13,回答文!$C$52)=1,回答入力!Q3,\"\")","v":""},{"$f":"IF(COUNTIF(回答入力!R4:R13,回答文!$C$52)=1,回答入力!R3,\"\")","v":""},{"$f":"IF(COUNTIF(回答入力!S4:S13,回答文!$C$52)=1,回答入力!S3,\"\")","v":""},{"$f":"IF(COUNTIF(回答入力!T4:T13,回答文!$C$52)=1,回答入力!T3,\"\")","v":""},{"$f":"IF(COUNTIF(回答入力!U4:U13,回答文!$C$52)=1,回答入力!U3,\"\")","v":""},{"$f":"IF(COUNTIF(回答入力!V4:V13,回答文!$C$52)=1,回答入力!V3,\"\")","v":""},{"$f":"IF(COUNTIF(回答入力!W4:W13,回答文!$C$52)=1,回答入力!W3,\"\")","v":""},{"$f":"IF(COUNTIF(回答入力!X4:X13,回答文!$C$52)=1,回答入力!X3,\"\")","v":""},{"$f":"IF(COUNTIF(回答入力!Y4:Y13,回答文!$C$52)=1,回答入力!Y3,\"\")","v":""},{"$f":"IF(COUNTIF(回答入力!Z4:Z13,回答文!$C$52)=1,回答入力!Z3,\"\")","v":""},{"$f":"IF(COUNTIF(回答入力!AA4:AA13,回答文!$C$52)=1,回答入力!AA3,\"\")","v":""},{"$f":"IF(COUNTIF(回答入力!AB4:AB13,回答文!$C$52)=1,回答入力!AB3,\"\")","v":""}]
[null,null,{"$f":"IF(回答入力!E13=\"✓\", \"〇種の保存法（林地開発関係）\", \"\")","v":""}]
[null,null,{"$f":"回答入力!A13","v":"h.該当なし"},{"$f":"IF(COUNTIF(回答入力!I4:I13,回答文!$C$54)=1,回答入力!I3,\"\")","v":""},{"$f":"IF(COUNTIF(回答入力!J4:J13,回答文!$C$54)=1,回答入力!J3,\"\")","v":""},{"$f":"IF(COUNTIF(回答入力!K4:K13,回答文!$C$54)=1,回答入力!K3,\"\")","v":""},{"$f":"IF(COUNTIF(回答入力!L4:L13,回答文!$C$54)=1,回答入力!L3,\"\")","v":""},{"$f":"IF(COUNTIF(回答入力!M4:M13,回答文!$C$54)=1,回答入力!M3,\"\")","v":""},{"$f":"IF(COUNTIF(回答入力!N4:N13,回答文!$C$54)=1,回答入力!N3,\"\")","v":""},{"$f":"IF(COUNTIF(回答入力!O4:O13,回答文!$C$54)=1,回答入力!O3,\"\")","v":""},{"$f":"IF(COUNTIF(回答入力!P4:P13,回答文!$C$54)=1,回答入力!P3,\"\")","v":""},{"$f":"IF(COUNTIF(回答入力!Q4:Q13,回答文!$C$54)=1,回答入力!Q3,\"\")","v":""},{"$f":"IF(COUNTIF(回答入力!R4:R13,回答文!$C$54)=1,回答入力!R3,\"\")","v":""},{"$f":"IF(COUNTIF(回答入力!S4:S13,回答文!$C$54)=1,回答入力!S3,\"\")","v":""},{"$f":"IF(COUNTIF(回答入力!T4:T13,回答文!$C$54)=1,回答入力!T3,\"\")","v":""},{"$f":"IF(COUNTIF(回答入力!U4:U13,回答文!$C$54)=1,回答入力!U3,\"\")","v":""},{"$f":"IF(COUNTIF(回答入力!V4:V13,回答文!$C$54)=1,回答入力!V3,\"\")","v":""},{"$f":"IF(COUNTIF(回答入力!W4:W13,回答文!$C$54)=1,回答入力!W3,\"\")","v":""},{"$f":"IF(COUNTIF(回答入力!X4:X13,回答文!$C$54)=1,回答入力!X3,\"\")","v":""},{"$f":"IF(COUNTIF(回答入力!Y4:Y13,回答文!$C$54)=1,回答入力!Y3,\"\")","v":""},{"$f":"IF(COUNTIF(回答入力!Z4:Z13,回答文!$C$54)=1,回答入力!Z3,\"\")","v":""},{"$f":"IF(COUNTIF(回答入力!AA4:AA13,回答文!$C$54)=1,回答入力!AA3,\"\")","v":""},{"$f":"IF(COUNTIF(回答入力!AB4:AB13,回答文!$C$54)=1,回答入力!AB3,\"\")","v":""}]
[null,null,{"$f":"回答入力!B13","v":"ホットスポットみえ"},{"$f":"IF(COUNTIF(回答入力!I4:I13,回答文!$C$56)=1,回答入力!I3,\"\")","v":""},{"$f":"IF(COUNTIF(回答入力!J4:J13,回答文!$C$56)=1,回答入力!J3,\"\")","v":""},{"$f":"IF(COUNTIF(回答入力!K4:K13,回答文!$C$56)=1,回答入力!K3,\"\")","v":""},{"$f":"IF(COUNTIF(回答入力!L4:L13,回答文!$C$56)=1,回答入力!L3,\"\")","v":""},{"$f":"IF(COUNTIF(回答入力!M4:M13,回答文!$C$56)=1,回答入力!M3,\"\")","v":""},{"$f":"IF(COUNTIF(回答入力!N4:N13,回答文!$C$56)=1,回答入力!N3,\"\")","v":""},{"$f":"IF(COUNTIF(回答入力!O4:O13,回答文!$C$56)=1,回答入力!O3,\"\")","v":""},{"$f":"IF(COUNTIF(回答入力!P4:P13,回答文!$C$56)=1,回答入力!P3,\"\")","v":""},{"$f":"IF(COUNTIF(回答入力!Q4:Q13,回答文!$C$56)=1,回答入力!Q3,\"\")","v":""},{"$f":"IF(COUNTIF(回答入力!R4:R13,回答文!$C$56)=1,回答入力!R3,\"\")","v":""},{"$f":"IF(COUNTIF(回答入力!S4:S13,回答文!$C$56)=1,回答入力!S3,\"\")","v":""},{"$f":"IF(COUNTIF(回答入力!T4:T13,回答文!$C$56)=1,回答入力!T3,\"\")","v":""},{"$f":"IF(COUNTIF(回答入力!U4:U13,回答文!$C$56)=1,回答入力!U3,\"\")","v":""},{"$f":"IF(COUNTIF(回答入力!V4:V13,回答文!$C$56)=1,回答入力!V3,\"\")","v":""},{"$f":"IF(COUNTIF(回答入力!W4:W13,回答文!$C$56)=1,回答入力!W3,\"\")","v":""},{"$f":"IF(COUNTIF(回答入力!X4:X13,回答文!$C$56)=1,回答入力!X3,\"\")","v":""},{"$f":"IF(COUNTIF(回答入力!Y4:Y13,回答文!$C$56)=1,回答入力!Y3,\"\")","v":""},{"$f":"IF(COUNTIF(回答入力!Z4:Z13,回答文!$C$56)=1,回答入力!Z3,\"\")","v":""},{"$f":"IF(COUNTIF(回答入力!AA4:AA13,回答文!$C$56)=1,回答入力!AA3,\"\")","v":""},{"$f":"IF(COUNTIF(回答入力!AB4:AB13,回答文!$C$56)=1,回答入力!AB3,\"\")","v":""}]
[null,null,{"$f":"回答入力!C13","v":"サシバゾーニング"},{"$f":"IF(COUNTIF(回答入力!I4:I13,回答文!$C$57)=1,回答入力!I3,\"\")","v":""},{"$f":"IF(COUNTIF(回答入力!J4:J13,回答文!$C$57)=1,回答入力!J3,\"\")","v":""},{"$f":"IF(COUNTIF(回答入力!K4:K13,回答文!$C$57)=1,回答入力!K3,\"\")","v":""},{"$f":"IF(COUNTIF(回答入力!L4:L13,回答文!$C$57)=1,回答入力!L3,\"\")","v":""},{"$f":"IF(COUNTIF(回答入力!M4:M13,回答文!$C$57)=1,回答入力!M3,\"\")","v":""},{"$f":"IF(COUNTIF(回答入力!N4:N13,回答文!$C$57)=1,回答入力!N3,\"\")","v":""},{"$f":"IF(COUNTIF(回答入力!O4:O13,回答文!$C$57)=1,回答入力!O3,\"\")","v":""},{"$f":"IF(COUNTIF(回答入力!P4:P13,回答文!$C$57)=1,回答入力!P3,\"\")","v":""},{"$f":"IF(COUNTIF(回答入力!Q4:Q13,回答文!$C$57)=1,回答入力!Q3,\"\")","v":""},{"$f":"IF(COUNTIF(回答入力!R4:R13,回答文!$C$57)=1,回答入力!R3,\"\")","v":""},{"$f":"IF(COUNTIF(回答入力!S4:S13,回答文!$C$57)=1,回答入力!S3,\"\")","v":""},{"$f":"IF(COUNTIF(回答入力!T4:T13,回答文!$C$57)=1,回答入力!T3,\"\")","v":""},{"$f":"IF(COUNTIF(回答入力!U4:U13,回答文!$C$57)=1,回答入力!U3,\"\")","v":""},{"$f":"IF(COUNTIF(回答入力!V4:V13,回答文!$C$57)=1,回答入力!V3,\"\")","v":""},{"$f":"IF(COUNTIF(回答入力!W4:W13,回答文!$C$57)=1,回答入力!W3,\"\")","v":""},{"$f":"IF(COUNTIF(回答入力!X4:X13,回答文!$C$57)=1,回答入力!X3,\"\")","v":""},{"$f":"IF(COUNTIF(回答入力!Y4:Y13,回答文!$C$57)=1,回答入力!Y3,\"\")","v":""},{"$f":"IF(COUNTIF(回答入力!Z4:Z13,回答文!$C$57)=1,回答入力!Z3,\"\")","v":""},{"$f":"IF(COUNTIF(回答入力!AA4:AA13,回答文!$C$57)=1,回答入力!AA3,\"\")","v":""},{"$f":"IF(COUNTIF(回答入力!AB4:AB13,回答文!$C$57)=1,回答入力!AB3,\"\")","v":""}]
[null,null,{"$f":"回答入力!D13","v":"ホットスポットみえ及びサシバゾーニング"}]