{"text_format":"1","workbook":"xlsx","n_sheets":4,"sheets":["入力","要約版","簡起","Sheet1"],"not_rendered":{"charts":12,"images":2,"macros":1,"external_links":0,"defined_names":16,"comments":0,"pivot_tables":0},"unopened":[],"bounds":{"document_bytes":16777216,"sheet_cells":100000,"rows_first":2000,"rows_last":500,"rows_between":2000,"halvings":0,"cell_chars":16384,"cell_head_chars":4096},"cells_cut":0,"cells_raw":0,"read":"whole","date_system":"1900"}

{"sheet":"入力","index":0,"n_rows":155,"n_cols":38,"rows_kept":155,"cut":false,"hidden":true,"merged":[[43,2,59,4],[20,2,28,4],[81,2,98,4],[138,2,154,4],[111,2,123,4]]}
["①要約版の年月日"]
["年","月(報告月）","日（報告日）"]
["令和6",5,30]
[]
["②全国との比較"]
["↓該当年度に入力"]
[null,"S63","H1","H2","H3","H4","H5","H6","H7","H8","H9","H10","H11","H12","H13","H14","H15","H16","H17","H18","H19","H20","H21","H22","H23","H24","H25","H26","H27","H28","H29","H30","R1","R2","R3","R4","R5","R6"]
["全国（千戸）",1663,1672,1665,1343,1419,1509,1560,1484,1630,1341,1180,1226,1213,1173,1146,{"$f":"Q9/1000","v":1173.6489999999999},{"$f":"R9/1000","v":1193.038},1249.366,{"$f":"T9/1000","v":1285.2460000000001},1035.598,1039.18,775.27700000000004,819.02,841.24599999999998,893,987.25400000000002,{"$f":"AB9/1000","v":880.47},920.53700000000003,{"$f":"AD9/1000","v":974.13699999999994},946.39599999999996,952.93600000000004,883.68700000000001,812.16399999999999,865.90899999999999,{"$f":"AJ9/1000","v":860.82799999999997},{"$f":"AK9/1000","v":800.17600000000004},{"$f":"AL9/1000","v":816.01800000000003}]
["全国",null,null,null,null,null,null,null,null,null,null,null,null,null,null,null,1173649,1193038,1249366,1285246,1035598,1039180,775277,819020,841246,893002,987254,880470,920537,974137,946396,952936,883687,812164,865909,860828,800176,816018]
["三重県",17629,20855,21169,19054,19871,21430,21151,19583,24083,19553,16825,15887,15473,15430,13678,14296,15622,16400,19978,17092,17066,10608,10084,9360,9777,10858,9734,10066,10812,9894,10613,10450,9508,10077,9907,8859,8040]
[]
[null,"前年度","本年度","増　△減"]
["全国",800,816,{"$f":"C13-B13","v":16},"←全国（千戸）"]
["全国",800176,816018,{"$f":"C14-B14","v":15842}]
["三重県",8859,8040,{"$f":"C15-B15","v":-819}]
[]
["増→",{"$f":"COUNTIF(D13,\">0\")+COUNTIF(D15,\">0\")","v":1}]
["△減→",{"$f":"COUNTIF(D13,\"<0\")+COUNTIF(D15,\"<0\")","v":1}]
[]
["文脈製作↓"]
[{"$f":"IF(D13>0,A13,\"\")","v":"全国"},null,{"$f":"CONCATENATE(A21,A22,A23,A24,A25,A26,A27,A28,A29)","v":"全国が増加し、 三重県が減少"}]
[{"$f":"IF(D13<=0,\"\",IF(B17=2,\"、\",\"が増加\"))","v":"が増加"}]
[{"$f":"IF(D15>0,A15,\"\")","v":""}]
[{"$f":"IF(D15<=0,\"\",IF(B17=2,\"ともに増加\",\"が増加\"))","v":""}]
[{"$f":"IF(B17=0,\"\",IF(B18>0,\"し、\",\"\"))","v":"し、"}]
[{"$f":"IF(D13<0,A14,\"\")","v":""}]
[{"$f":"IF(B18=0,\"\",IF(B18=2,\"、\",\" \"))","v":" "}]
[{"$f":"IF(D15<0,A15,\"\")","v":"三重県"}]
[{"$f":"IF(B18=0,\"\",IF(B18=2,\"ともに減少\",\"が減少\"))","v":"が減少"}]
[]
[]
["③利用関係別"]
["ⅰ）２ヶ年比較"]
[null,"前年度","本年度","増　△減"]
["持家",4250,4447,{"$f":"C35-B35","v":197}]
["貸家",3228,2501,{"$f":"C36-B36","v":-727}]
["給与住宅",74,58,{"$f":"C37-B37","v":-16}]
["分譲住宅",1307,1034,{"$f":"C38-B38","v":-273}]
[]
["増→",{"$f":"COUNTIF(D35:D38,\">0\")","v":1}]
["△減→",{"$f":"COUNTIF(D35:D38,\"<0\")","v":3}]
[]
["文脈製作↓"]
[{"$f":"IF(D35>0,A35,\"\")","v":"持家"},null,{"$f":"CONCATENATE(A44,A45,A46,A47,A48,A49,A50,A51,A52,A53,A54,A55,A56,A57,A58,A59,A60)","v":"持家のみ増加、貸家、給与住宅、分譲住宅が減少"},null,null,"←H２５年度は直接入力"]
[{"$f":"IF(D35<=0,\"\",IF(B40>=2,\"、\",IF(B40=1,\"のみ増加\",\"\")))","v":"のみ増加"}]
[{"$f":"IF(D36>0,A36,\"\")","v":""}]
[{"$f":"IF(D36<=0,\"\",IF(B40>=3,\"が増加、\",IF(B40=1,\"のみ増加\",IF(D35>=0&B40=2,\"が増加\",\"が増加し、\"))))","v":""}]
[{"$f":"IF(D37>0,A37,\"\")","v":""}]
[{"$f":"IF(D37<=0,\"\",IF(B40=4,\"、\",IF(B40=1,\"のみ増加\",IF(D38<=0,\"が増加\",\"、\"))))","v":""}]
["、"]
[{"$f":"IF(D38<=0,\"\",IF(B40=1,\"のみ増加し、\",IF(B40=4,\"のすべてで増加\",\"が増加し、\")))","v":""}]
[{"$f":"IF(B41>0,\"\",\"\")","v":""}]
[{"$f":"IF(D35<0,A35,\"\")","v":""}]
[{"$f":"IF(D35>=0,\"\",IF(B41>=2,\"、\",IF(B41=1,\"のみ減少\",\"\")))","v":""}]
[{"$f":"IF(D36<0,A36,\"\")","v":"貸家"}]
[{"$f":"IF(D36>=0,\"\",IF(B41>=3,\"、\",IF(B41=1,\"のみ減少\",IF(B41=2&D35>0,\"が減少\",\"、\"))))","v":"、"}]
[{"$f":"IF(D37<0,A37,\"\")","v":"給与住宅"}]
[{"$f":"IF(D37>=0,\"\",IF(B41=4,\"、\",IF(B41=1,\"のみ減少\",IF(D38>=0,\"が減少\",\"、\"))))","v":"、"}]
[{"$f":"IF(D38<0,A38,\"\")","v":"分譲住宅"}]
[{"$f":"IF(D38>=0,\"\",IF(B41=4,\"のすべてで減少\",\"が減少\"))","v":"が減少"}]
[]
[]
["ⅱ）グラフ用","戸あたり床面積"]
["↓該当年度に入力"]
[null,"S63","H1","H2","H3","H4","H5","H6","H7","H8","H9","H10","H11","H12","H13","H14","H15","H16","H17","H18","H19","H20","H21","H22","H23","H24","H25","H26","H27","H28","H29","H30","R1","R2","R3","R4","R5","R6"]
["持家",131.69999999999999,135.1,137,139.1,139.19999999999999,139.5,140.5,141,144.4,143.80000000000001,143.1,143.1,141.9,140.1,137.6,136.9,135.5,135.69999999999999,134,133.9,131,130.19999999999999,128.4,127.6,127.5,127,126.1,125.2,124.6,122.3,121.9,120.1,119.6,{"$f":"614835/5213","v":117.9426433915212},115.2,112.8,112.3]
["貸家",46.2,44.5,44.2,43.9,45.6,46.8,45.3,48.3,47.8,45.1,46.2,51.7,52.2,50.7,51.4,49.5,44.3,42.8,38.6,39.6,39.6,49.4,56.9,57.8,55.1,54.8,54,53,51.5,51.6,48.1,47.5,47.5,{"$f":"152637/3360","v":45.427678571428572},43.9,46.8,48.9]
["給与住宅",64.5,63.5,61,53.3,58.8,66.900000000000006,65.3,56.5,59.4,55.8,70.3,70.099999999999994,75.599999999999994,60.1,63.2,52.3,77.599999999999994,48.5,43.3,53.1,58.6,73.3,103.6,67.099999999999994,95.1,132.4,92.4,86.9,54.6,44.2,53.1,40.700000000000003,36.9,{"$f":"8120/170","v":47.764705882352942},61.6,61.8,71.8]
["分譲住宅",99.7,101.9,99.9,103.3,102.5,104.9,101.3,100.1,109.3,109.6,106.6,112.7,112.9,113.4,110.2,109.5,108.1,106.9,107.9,103.9,109.6,113.6,109.6,113.3,109.6,112,108.1,108.3,111.5,108,109.2,110.8,104.1,{"$f":"146586/1334","v":109.88455772113943},100.5,100.1,101.1]
["平均",102.2,100.4,101,99.7,96.5,98.9,105.1,101.9,105.3,98.2,104,112.3,107.2,100.3,103.2,98.9,96.3,87.5,80.7,84.1,81.099999999999994,99.1,106.6,109,107.7,106.5,101.8,99.2,95.3,96.1,93.4,92,94.1,{"$f":"922178/10077","v":91.513148754589665},88.5,86.5,90.8]
[]
[null,"前年度","本年度","増　△減"]
["持家",112.8,112.3,{"$f":"C73-B73","v":-0.5},{"$f":"-5","v":-5}]
["貸家",46.8,48.9,{"$f":"C74-B74","v":2.1000000000000014},-5]
["給与住宅",61.8,71.8,{"$f":"C75-B75","v":10}]
["分譲住宅",100.1,101.1,{"$f":"C76-B76","v":1}]
[]
["増→",{"$f":"COUNTIF(D73:D76,\">0\")","v":3}]
["△減→",{"$f":"COUNTIF(D73:D76,\"<0\")","v":1}]
[]
["文脈製作↓"]
["戸あたり床面積は",null,{"$f":"CONCATENATE(A82,A83,A84,A85,A86,A87,A88,A89,A90,A91,A92,A93,A94,A95,A96,A97,A98,A99)","v":"戸あたり床面積は貸家、給与住宅、分譲住宅が増加し、持家のみ減少"}]
[{"$f":"IF(D73>0,A73,\"\")","v":""}]
[{"$f":"IF(D73<=0,\"\",IF(B78>=2,\"、\",IF(B78=1,\"のみ増加\",\"\")))","v":""}]
[{"$f":"IF(D74>0,A74,\"\")","v":"貸家"}]
[{"$f":"IF(D74<=0,\"\",IF(B78>=3,\"、\",IF(B78=1,\"のみ増加\",IF(D73>=0&B78=2,\"が増加\",\"、\"))))","v":"、"}]
[{"$f":"IF(D75>0,A75,\"\")","v":"給与住宅"}]
[{"$f":"IF(D75<=0,\"\",IF(B78=4,\"、\",IF(B78=1,\"のみ増加\",IF(D76<=0,\"が増加\",\"、\"))))","v":"、"}]
[{"$f":"IF(D76>0,A76,\"\")","v":"分譲住宅"}]
[{"$f":"IF(D76<=0,\"\",IF(B78=1,\"のみ増加\",IF(B78=4,\"のすべてで増加\",\"が増加し\")))","v":"が増加し"}]
[{"$f":"IF(B79>0,\"、\",\"\")","v":"、"}]
[{"$f":"IF(D73<0,A73,\"\")","v":"持家"}]
[{"$f":"IF(D73>=0,\"\",IF(B79>=2,\"、\",IF(B79=1,\"のみ減少\",\"\")))","v":"のみ減少"}]
[{"$f":"IF(D74<0,A74,\"\")","v":""}]
[{"$f":"IF(D74>=0,\"\",IF(B79>=3,\"、\",IF(B79=1,\"のみ減少\",IF(AND(B79=2,D73<0),\"が減少\",\"、\"))))","v":""}]
[{"$f":"IF(D75<0,A75,\"\")","v":""}]
[{"$f":"IF(D75>=0,\"\",IF(B79=4,\"、\",IF(B79=1,\"のみ減少\",IF(D76>=0,\"が減少\",\"、\"))))","v":""}]
[{"$f":"IF(D76<0,A76,\"\")","v":""}]
[{"$f":"IF(D76>=0,\"\",IF(B79=4,\"のすべてで減少\",\"が減少\"))","v":""}]
[]
[]
["④建て方別"]
[null,"前年度","本年度","増　△減"]
["一戸建",5337,5390,{"$f":"C104-B104","v":53}]
["長屋",1082,1116,{"$f":"C105-B105","v":34}]
["共同住宅",2440,1534,{"$f":"C106-B106","v":-906}]
[]
["増→",{"$f":"COUNTIF(D104:D106,\">0\")","v":2}]
["△減→",{"$f":"COUNTIF(D104:D106,\"<0\")","v":1}]
[]
["文脈製作↓"]
[{"$f":"IF(D104>0,A104,\"\")","v":"一戸建"},null,{"$f":"CONCATENATE(A112,A113,A114,A115,A116,A117,A118,A119,A120,A121,A122,A123)","v":"一戸建、長屋が増加、、共同住宅"}]
[{"$f":"IF(D104<=0,\"\",IF(B108>=2,\"、\",IF(B108=1,\"のみ増加し、\",\"\")))","v":"、"}]
[{"$f":"IF(D105>0,A105,\"\")","v":"長屋"}]
[{"$f":"IF(D105<=0,\"\",IF(B108>=3,\"、\",IF(B108=1,\"のみ増加\",IF(AND(B108=2,D106<0),\"が増加\",\"、\"))))","v":"が増加"}]
[{"$f":"IF(D106>0,A106,\"\")","v":""}]
[{"$f":"IF(D106<=0,\"\",IF(B108=3,\"のすべてで増加\",\"が増加し\"))","v":""}]
[{"$f":"IF(B109=0,\"\",\"、\")","v":"、"}]
[{"$f":"IF(D104<0,A104,\"\")","v":""}]
[{"$f":"IF(D104>=0,\"\",IF(B109>=2,\"、\",IF(B109=1,\"のみ減少\",\"\")))","v":""}]
[{"$f":"IF(D105<0,A105,\"\")","v":""}]
[{"$f":"IF(D105>=0,\"、\",IF(B109>=3,\"、\",IF(B109=1,\"のみ減少\",IF(B109=2&D104<0,\"が減少\",\"\"))))","v":"、"}]
[{"$f":"IF(D106<0,A106,\"\")","v":"共同住宅"}]
[{"$f":"IF(D106>=0,\"が減少\",IF(B109=3,\"のすべてで減少\",\"が減少\"))","v":"が減少"}]
[]
[]
["⑤構造別"]
[null,"前年度","本年度","増　△減"]
["木造",5889,6240,{"$f":"C129-B129","v":351}]
["SRC造",0,14,{"$f":"C130-B130","v":14}]
["RC造",1224,624,{"$f":"C131-B131","v":-600}]
["鉄骨造",1744,1160,{"$f":"C132-B132","v":-584}]
["その他",2,2,{"$f":"C133-B133","v":0}]
[]
["増→",{"$f":"COUNTIF(D129:D132,\">0\")","v":2}]
["△減→",{"$f":"COUNTIF(D129:D132,\"<0\")","v":2}]
[]
["文脈製作↓"]
[{"$f":"IF(D129>0,A129,\"\")","v":"木造"},null,{"$f":"CONCATENATE(A139,A140,A141,A142,A143,A144,A145,A146,A147,A148,A149,A150,A151,A152,A153,A154,A155)","v":"木造、SRC造が増加し、RC造、鉄骨造が減少"}]
[{"$f":"IF(D129<=0,\"\",IF(B135>=2,\"、\",IF(B135=1,\"のみ増加し、\",\"\")))","v":"、"}]
[{"$f":"IF(D130>0,A130,\"\")","v":"SRC造"}]
[{"$f":"IF(D130<=0,\"\",IF(B135>=3,\"、\",IF(B135=1,\"のみ増加\",IF(B135=2&D129>0,\"が増加し\",\"、\"))))","v":"が増加し"}]
[]
[{"$f":"IF(D131<=0,\"\",IF(B135=4,\"、\",IF(B135=1,\"のみ増加し、\",IF(D132<=0,\"が増加\",\"、\"))))","v":""}]
[{"$f":"IF(D132>0,A132,\"\")","v":""}]
[{"$f":"IF(D132<=0,\"\",IF(B135=1,\"のみ増加\",IF(B135=4,\"のすべてで増加\",\"が増加し\")))","v":""}]
[{"$f":"IF(B136>0,\"\",\"\")","v":""}]
[{"$f":"IF(D129<0,A129,\"\")","v":""}]
[{"$f":"IF(D129>=0,\"\",IF(B136>=2,\"、\",IF(B136=1,\"のみ減少\",\"\")))","v":""}]
[{"$f":"IF(D130<0,A130,\"\")","v":""}]
["、"]
[{"$f":"IF(D131<0,A131,\"\")","v":"RC造"}]
["、"]
["鉄骨造"]
["が減少"]

{"sheet":"要約版","index":1,"n_rows":97,"n_cols":8,"rows_kept":97,"cut":false,"hidden":false,"merged":[[91,6,91,7],[32,0,33,8],[64,0,64,8],[37,4,37,5],[96,2,96,3],[96,4,96,5],[86,0,87,8],[66,4,66,5],[66,6,66,7],[92,4,92,5],[89,0,89,8],[66,2,66,3],[91,2,91,3],[91,4,91,5],[92,2,92,3],[95,2,95,3],[95,4,95,5],[94,2,94,3],[94,4,94,5],[93,2,93,3],[93,4,93,5],[1,6,1,7],[68,2,68,3],[68,4,68,5],[14,2,14,3],[41,2,41,3],[38,2,38,3],[67,2,67,3],[11,0,11,8],[43,0,43,8],[39,2,39,3],[2,5,4,8],[15,2,15,3],[15,4,15,5],[13,2,13,3],[13,4,13,5],[5,5,5,8],[8,0,9,8],[13,6,13,7],[14,4,14,5],[69,2,69,3],[69,4,69,5],[37,2,37,3],[37,6,37,7],[38,4,38,5],[39,4,39,5],[40,2,40,3],[40,4,40,5],[67,4,67,5],[41,4,41,5],[61,0,62,8]]}
[]
[null,null,null,null,null,null,"2025-05-30"]
[null,null,null,null,null,{"$f":"入力!A3&\"年度要約版\"","v":"令和6年度要約版"}]
[]
[]
[null,null,null,null,null,"三重県の住宅着工状況"]
[]
[]
["1．新設住宅戸数（全国比）"]
[]
[]
[{"$f":"\"●　\"&入力!C21","v":"●　全国が増加し、 三重県が減少"}]
[null,null,null,null,null,null,null,"単位：　戸"]
[null,null,"令和5年度",null,"令和6年度",null,"増　△減"]
[null,"全国",{"$f":"入力!B14","v":800176},null,{"$f":"入力!C14","v":816018},null,{"$f":"\"\"&IF(入力!C14-入力!B14<0,\"△\",\"　\")","v":"　"},{"$f":"ABS(入力!D14)","v":15842}]
[null,"三重県",{"$f":"入力!B15","v":8859},null,{"$f":"入力!C15","v":8040},null,{"$f":"\"\"&IF(入力!C15-入力!B15<0,\"△\",\"　\")","v":"△"},{"$f":"ABS(入力!D15)","v":819}]
[]
[]
[]
[]
[]
[]
[]
[]
[]
[]
[]
[]
[]
[]
[]
[]
["2．利用関係別"]
[]
[]
[{"$f":"\"●　\"&入力!C44","v":"●　持家のみ増加、貸家、給与住宅、分譲住宅が減少"}]
[null,null,null,null,null,null,null,"単位：　戸"]
[null,null,"令和5年度",null,{"$f":"\"令和6年度\"","v":"令和6年度"},null,"増　△減"]
[null,"持家",{"$f":"入力!B35","v":4250},null,{"$f":"入力!C35","v":4447},null,{"$f":"\"\"&IF(入力!C35-入力!B35<0,\"△\",\"　\")","v":"　"},{"$f":"ABS(入力!D35)","v":197}]
[null,"貸家",{"$f":"入力!B36","v":3228},null,{"$f":"入力!C36","v":2501},null,{"$f":"\"\"&IF(入力!C36-入力!B36<0,\"△\",\"　\")","v":"△"},{"$f":"ABS(入力!D36)","v":727}]
[null,"給与住宅",{"$f":"入力!B37","v":74},null,{"$f":"入力!C37","v":58},null,{"$f":"\"\"&IF(入力!C37-入力!B37<0,\"△\",\"　\")","v":"△"},{"$f":"ABS(入力!D37)","v":16}]
[null,"分譲住宅",{"$f":"入力!B38","v":1307},null,{"$f":"入力!C38","v":1034},null,{"$f":"\"\"&IF(入力!C38-入力!B38<0,\"△\",\"　\")","v":"△"},{"$f":"ABS(入力!D38)","v":273}]
[]
[{"$f":"\"●　\"&入力!C82","v":"●　戸あたり床面積は貸家、給与住宅、分譲住宅が増加し、持家のみ減少"}]
[]
[]
[]
[]
[]
[]
[]
[]
[]
[]
[]
[]
[]
[]
[]
[]
[]
["3．建て方別"]
[]
[]
["●　一戸建、長屋建が増加、共同住宅が減少"]
[null,null,null,null,null,null,null,"単位：　戸"]
[null,null,{"$f":"\"令和5年度\"","v":"令和5年度"},null,{"$f":"\"令和6年度\"","v":"令和6年度"},null,"増　△減"]
[null,"一戸建",{"$f":"入力!B104","v":5337},null,{"$f":"入力!C104","v":5390},null,{"$f":"\"\"&IF(入力!C104-入力!B104<0,\"△\",\"　\")","v":"　"},{"$f":"ABS(入力!D104)","v":53}]
[null,"長屋建",{"$f":"入力!B105","v":1082},null,{"$f":"入力!C105","v":1116},null,{"$f":"\"\"&IF(入力!C105-入力!B105<0,\"△\",\"　\")","v":"　"},{"$f":"ABS(入力!D105)","v":34}]
[null,"共同住宅",{"$f":"入力!B106","v":2440},null,{"$f":"入力!C106","v":1534},null,{"$f":"\"\"&IF(入力!C106-入力!B106<0,\"△\",\"　\")","v":"△"},{"$f":"ABS(入力!D106)","v":906}]
[]
[]
[]
[]
[]
[]
[]
[]
[]
[]
[]
[]
[]
[]
[]
[]
["4．構造別"]
[]
[]
["●　木造、SRC造が増加し、RC造、鉄骨造が減少"]
[null,null,null,null,null,null,null,"単位：　戸"]
[null,null,{"$f":"\"令和5年度\"","v":"令和5年度"},null,{"$f":"\"令和6年度\"","v":"令和6年度"},null,"増　△減"]
[null,"木造",{"$f":"入力!B129","v":5889},null,{"$f":"入力!C129","v":6240},null,{"$f":"\"\"&IF(入力!C129-入力!B129<0,\"△\",\"　\")","v":"　"},{"$f":"ABS(入力!D129)","v":351}]
[null,"ＳＲＣ造",{"$f":"入力!B130","v":0},null,{"$f":"入力!C130","v":14},null,{"$f":"\"\"&IF(入力!C130-入力!B130<0,\"△\",\"　\")","v":"　"},{"$f":"ABS(入力!D130)","v":14}]
[null,"ＲＣ造",{"$f":"入力!B131","v":1224},null,{"$f":"入力!C131","v":624},null,{"$f":"\"\"&IF(入力!C131-入力!B131<0,\"△\",\"　\")","v":"△"},{"$f":"ABS(入力!D131)","v":600}]
[null,"鉄骨造",{"$f":"入力!B132","v":1744},null,{"$f":"入力!C132","v":1160},null,{"$f":"\"\"&IF(入力!C132-入力!B132<0,\"△\",\"　\")","v":"△"},{"$f":"ABS(入力!D132)","v":584}]
[null,"その他",{"$f":"入力!B133","v":2},null,{"$f":"入力!C133","v":2},null,{"$f":"\"\"&IF(入力!C133-入力!B133<0,\"△\",\"　\")","v":"　"},{"$f":"ABS(入力!D133)","v":0}]

{"sheet":"簡起","index":2,"n_rows":10,"n_cols":11,"rows_kept":10,"cut":false,"hidden":true,"merged":[[8,10,9,10],[0,6,0,7],[4,1,5,2],[0,2,0,4],[4,3,5,3],[4,7,6,9],[0,10,7,10],[9,5,9,6],[8,7,8,9],[9,7,9,9],[7,1,7,9],[8,1,8,2],[4,4,5,4],[4,5,5,6],[6,5,6,6],[8,4,8,6],[4,0,9,0],[0,0,3,0]]}
["伺 い ・ 供 覧","分　類\n記　号","54201 - 900000194  10",null,null,"保　存\n期　間",5,null,"保　存\n区　分","通常\n手元",{"$f":"\"\n　次のとおり\"&入力!A3&\"年度要約版の情報提供をしてよろしいか伺います。\"","v":"\n　次のとおり令和6年度要約版の情報提供をしてよろしいか伺います。"}]
[null,"起　案\n供　覧",{"$f":"TODAY()","v":"2025-06-09"},null,null,"処　理\n期　限","平成　年　月　日"]
[null,"決　裁\n供覧済","平成　年　月　日",null,null,"発　信\n年月日","平成　年　月　日"]
[null,"取　扱\n区　分","通常、ＦＡＸ、Ｅメール"]
["決 　裁 　欄","部　長",null,"理　事","総括室長","室　長"]
[]
[null,"　"]
[null,"　住まい支援グループ"]
[null,"副室長",null,"主　幹","主　査",null,null,"担当",null,null,"【担当】\n住まい支援グループ\n\n前川"]
[null,"　"]

{"sheet":"Sheet1","index":3,"n_rows":0,"n_cols":0,"rows_kept":0,"cut":false,"hidden":true,"merged":[]}