{"text_format":"1","workbook":"xlsx","n_sheets":3,"sheets":["原稿","作業シート","確認シート"],"not_rendered":{"charts":0,"images":0,"macros":1,"external_links":0,"defined_names":3,"comments":0,"pivot_tables":0},"unopened":[],"bounds":{"document_bytes":16777216,"sheet_cells":100000,"rows_first":2000,"rows_last":500,"rows_between":2000,"halvings":0,"cell_chars":16384,"cell_head_chars":4096},"cells_cut":0,"cells_raw":0,"read":"whole","date_system":"1900"}

{"sheet":"原稿","index":0,"n_rows":264,"n_cols":39,"rows_kept":264,"cut":false,"hidden":false,"merged":[[7,9,7,14],[8,9,8,14],[3,9,3,23],[5,9,5,23],[6,9,6,23],[4,9,4,14],[4,15,4,16],[4,17,4,23],[3,5,3,8],[4,5,4,8],[5,5,5,8],[6,5,6,8],[7,5,7,8],[8,5,8,8],[11,5,11,8],[10,5,10,8],[11,9,11,14],[28,36,29,36],[11,15,11,16],[11,17,11,23],[10,9,10,23],[28,4,29,4],[35,36,36,36],[35,4,36,4],[14,36,15,36],[14,4,15,4],[21,36,22,36],[21,4,22,4],[56,36,57,36],[56,4,57,4],[63,36,64,36],[63,4,64,4],[42,36,43,36],[42,4,43,4],[49,36,50,36],[49,4,50,4],[84,36,85,36],[84,4,85,4],[91,36,92,36],[91,4,92,4],[70,36,71,36],[70,4,71,4],[77,36,78,36],[77,4,78,4],[112,36,113,36],[112,4,113,4],[119,36,120,36],[119,4,120,4],[98,36,99,36],[98,4,99,4],[105,36,106,36],[105,4,106,4],[140,36,141,36],[140,4,141,4],[147,36,148,36],[147,4,148,4],[126,36,127,36],[126,4,127,4],[133,36,134,36],[133,4,134,4],[168,36,169,36],[168,4,169,4],[175,36,176,36],[175,4,176,4],[154,36,155,36],[154,4,155,4],[161,36,162,36],[161,4,162,4],[196,36,197,36],[196,4,197,4],[203,36,204,36],[203,4,204,4],[182,36,183,36],[182,4,183,4],[189,36,190,36],[189,4,190,4],[224,36,225,36],[224,4,225,4],[231,36,232,36],[231,4,232,4],[210,36,211,36],[210,4,211,4],[217,36,218,36],[217,4,218,4],[252,36,253,36],[252,4,253,4],[259,36,260,36],[259,4,260,4],[238,36,239,36],[238,4,239,4],[245,36,246,36],[245,4,246,4]]}
["目標値",null,0.28499999999999998,null,null,null,null,null,null,null,null,null,null,null,null,null,null,null,null,null,null,null,null,null,null,null,null,null,null,null,null,null,null,null,null,null,"確認シートへ移動"]
[null,null,null,null,"週休２日交替制工事　確認表"]
["従事","計画","実績"]
["日数",{"$f":"SUMIF($A$14:$A$264,$A4,B$14:B$264)","v":24},{"$f":"SUMIF($A$14:$A$264,$A4,C$14:C$264)","v":23},null,null,"工事名",null,null,null,{"$f":"IF(作業シート!C2=\"\",\"\",作業シート!C2)","v":"○○道路改良工事"}]
["休暇",{"$f":"SUMIF($A$14:$A$264,$A5,B$14:B$264)","v":7},{"$f":"SUMIF($A$14:$A$264,$A5,C$14:C$264)","v":6},null,null,"工期",null,null,null,{"$f":"IF(作業シート!C3=\"\",\"\",作業シート!C3)","v":"2025-01-27"},null,null,null,null,null,"～",null,{"$f":"IF(作業シート!E3=\"\",\"\",作業シート!E3)","v":"2025-03-28"}]
["休暇率",{"$f":"IFERROR(IF(B4<28,\"対象外\",B5/B4),\"対象外\")","v":"対象外"},{"$f":"IFERROR(IF(C4<28,\"対象外\",C5/C4),\"対象外\")","v":"対象外"},null,null,"請負業者名",null,null,null,{"$f":"IF(作業シート!C4=\"\",\"\",作業シート!C4)","v":"Ａ"}]
[null,null,null,null,null,"現場代理人",null,null,null,{"$f":"IF(作業シート!C5=\"\",\"\",作業シート!C5)","v":"ああ"}]
["月単位休暇率判定",null,null,null,null,"工事開始日",null,null,null,{"$f":"IF(作業シート!C6=\"\",\"\",作業シート!C6)","v":"2025-01-27"}]
["判定",{"$f":"IF(B4<28,\"対象外\",\nIF(COUNTIFS($A$14:$A$264,$A9,B$14:B$264,\"×\")=0,\"○\",\"×\"))","v":"対象外"},{"$f":"IF(C4<28,\"対象外\",\nIF(COUNTIFS($A$14:$A$264,$A9,C$14:C$264,\"×\")=0,\"○\",\"×\"))","v":"対象外"},null,null,"完成報告提出日",null,null,null,{"$f":"IF(作業シート!C7=\"\",\"\",作業シート!C7)","v":"2025-03-28"}]
[]
[]
[null,null,null,null,null,"従事期間",null,null,null,"2025-01-27",null,null,null,null,null,"～",null,"2025-02-20",null,null,null,null,null,null,null,{"$f":"IF(OR(J12=\"\",R12=\"\"),\"← 技術者の従事期間の開始日 及び 終了日を入力してください。\",\nIF(R12<J12,\"従事期間の終了日が開始日より前の日付が入力されています。\",\nIF(OR(J12<J8,J9<J12,R12<J8,J9<R12),\"工事概要で設定した期間外が入力されています。\",\nIF(R12-J12+1>=28,R12-J12+1&\"日間\",\"連続４週間未満の従事のため対象外\"))))","v":"連続４週間未満の従事のため対象外"}]
[null,"計画","実績"]
["年月",{"$f":"IF(J5=\"\",\"\",YEAR(J5))","v":2025},{"$f":"IF(B14=\"\",\"\",MONTH(J5))","v":1},null,{"$f":"IF(C14=\"\",\"\",DATE(B14,C14,1))","v":"2025-01-01"}]
[null,null,null,null,null,{"$f":"IF($B14=\"\",\"\",DATE($B14,$C14,1))","v":"2025-01-01"},{"$f":"IF($B14=\"\",\"\",DATE($B14,$C14,2))","v":"2025-01-02"},{"$f":"IF($B14=\"\",\"\",DATE($B14,$C14,3))","v":"2025-01-03"},{"$f":"IF($B14=\"\",\"\",DATE($B14,$C14,4))","v":"2025-01-04"},{"$f":"IF($B14=\"\",\"\",DATE($B14,$C14,5))","v":"2025-01-05"},{"$f":"IF($B14=\"\",\"\",DATE($B14,$C14,6))","v":"2025-01-06"},{"$f":"IF($B14=\"\",\"\",DATE($B14,$C14,7))","v":"2025-01-07"},{"$f":"IF($B14=\"\",\"\",DATE($B14,$C14,8))","v":"2025-01-08"},{"$f":"IF($B14=\"\",\"\",DATE($B14,$C14,9))","v":"2025-01-09"},{"$f":"IF($B14=\"\",\"\",DATE($B14,$C14,10))","v":"2025-01-10"},{"$f":"IF($B14=\"\",\"\",DATE($B14,$C14,11))","v":"2025-01-11"},{"$f":"IF($B14=\"\",\"\",DATE($B14,$C14,12))","v":"2025-01-12"},{"$f":"IF($B14=\"\",\"\",DATE($B14,$C14,13))","v":"2025-01-13"},{"$f":"IF($B14=\"\",\"\",DATE($B14,$C14,14))","v":"2025-01-14"},{"$f":"IF($B14=\"\",\"\",DATE($B14,$C14,15))","v":"2025-01-15"},{"$f":"IF($B14=\"\",\"\",DATE($B14,$C14,16))","v":"2025-01-16"},{"$f":"IF($B14=\"\",\"\",DATE($B14,$C14,17))","v":"2025-01-17"},{"$f":"IF($B14=\"\",\"\",DATE($B14,$C14,18))","v":"2025-01-18"},{"$f":"IF($B14=\"\",\"\",DATE($B14,$C14,19))","v":"2025-01-19"},{"$f":"IF($B14=\"\",\"\",DATE($B14,$C14,20))","v":"2025-01-20"},{"$f":"IF($B14=\"\",\"\",DATE($B14,$C14,21))","v":"2025-01-21"},{"$f":"IF($B14=\"\",\"\",DATE($B14,$C14,22))","v":"2025-01-22"},{"$f":"IF($B14=\"\",\"\",DATE($B14,$C14,23))","v":"2025-01-23"},{"$f":"IF($B14=\"\",\"\",DATE($B14,$C14,24))","v":"2025-01-24"},{"$f":"IF($B14=\"\",\"\",DATE($B14,$C14,25))","v":"2025-01-25"},{"$f":"IF($B14=\"\",\"\",DATE($B14,$C14,26))","v":"2025-01-26"},{"$f":"IF($B14=\"\",\"\",DATE($B14,$C14,27))","v":"2025-01-27"},{"$f":"IF($B14=\"\",\"\",DATE($B14,$C14,28))","v":"2025-01-28"},{"$f":"IF($B14=\"\",\"\",IF(MONTH(DATE($B14,$C14,29))=$C14,DATE($B14,$C14,29),\"\"))","v":"2025-01-29"},{"$f":"IF($B14=\"\",\"\",IF(MONTH(DATE($B14,$C14,30))=$C14,DATE($B14,$C14,30),\"\"))","v":"2025-01-30"},{"$f":"IF($B14=\"\",\"\",IF(MONTH(DATE($B14,$C14,31))=$C14,DATE($B14,$C14,31),\"\"))","v":"2025-01-31"},"備考"]
["日数",{"$f":"IF(COUNTA(F17:AJ17)=0,0,\nCOUNTIFS(F15:AJ15,\">=\"&J$12,F15:AJ15,\"<=\"&R$12,F17:AJ17,\"出\")+COUNTIFS(F15:AJ15,\">=\"&J$12,F15:AJ15,\"<=\"&R$12,F17:AJ17,\"休\"))","v":4},{"$f":"IF(COUNTA(F18:AJ18)=0,0,\nCOUNTIFS(F15:AJ15,\">=\"&J$12,F15:AJ15,\"<=\"&R$12,F18:AJ18,\"出\")+COUNTIFS(F15:AJ15,\">=\"&J$12,F15:AJ15,\"<=\"&R$12,F18:AJ18,\"休\"))","v":4},null,null,{"$f":"IFERROR(IF(WEEKDAY(F15,1)=1,\"日\",IF(WEEKDAY(F15,1)=2,\"月\",IF(WEEKDAY(F15,1)=3,\"火\",IF(WEEKDAY(F15,1)=4,\"水\",IF(WEEKDAY(F15,1)=5,\"木\",IF(WEEKDAY(F15,1)=6,\"金\",\"土\")))))),\"\")","v":"水"},{"$f":"IFERROR(IF(WEEKDAY(G15,1)=1,\"日\",IF(WEEKDAY(G15,1)=2,\"月\",IF(WEEKDAY(G15,1)=3,\"火\",IF(WEEKDAY(G15,1)=4,\"水\",IF(WEEKDAY(G15,1)=5,\"木\",IF(WEEKDAY(G15,1)=6,\"金\",\"土\")))))),\"\")","v":"木"},"金","土","日","月","火","水",{"$f":"IFERROR(IF(WEEKDAY(N15,1)=1,\"日\",IF(WEEKDAY(N15,1)=2,\"月\",IF(WEEKDAY(N15,1)=3,\"火\",IF(WEEKDAY(N15,1)=4,\"水\",IF(WEEKDAY(N15,1)=5,\"木\",IF(WEEKDAY(N15,1)=6,\"金\",\"土\")))))),\"\")","v":"木"},"金","土","日","月","火","水","木","金","土","日","月","火","水","木","金","土","日","月","火","水","木","金"]
["期間内土日",{"$f":"COUNTIFS(F15:AJ15,\">=\"&J$12,F15:AJ15,\"<=\"&R$12,F16:AJ16,\"土\")+COUNTIFS(F15:AJ15,\">=\"&J$12,F15:AJ15,\"<=\"&R$12,F16:AJ16,\"日\")","v":0},{"$f":"B17","v":0},null,"計画",null,null,null,null,null,null,null,null,null,null,null,null,null,null,null,null,null,null,null,null,null,null,null,null,null,null,"出","休","－","出","出","出⇐勤務日、休⇐休日、－⇐対象外",null,{"$f":"IF(COUNTIFS(F15:AJ15,\">=\"&J$12,F15:AJ15,\"<=\"&R$12)=0,\"\",\nIF(COUNTIFS(F15:AJ15,\">=\"&J$12,F15:AJ15,\"<=\"&R$12)<>B16+COUNTIF(F17:AJ17,\"－\"),\"← 従事期間内で入力されていない日があります。確認してください。\",\"\"))","v":""}]
["休暇",{"$f":"COUNTIFS(F15:AJ15,\">=\"&J$12,F15:AJ15,\"<=\"&R$12,F17:AJ17,\"休\")","v":"1900-01-01"},{"$f":"COUNTIFS(F15:AJ15,\">=\"&J$12,F15:AJ15,\"<=\"&R$12,F18:AJ18,\"休\")","v":"1900-01-01"},null,"実績",null,null,null,null,null,null,null,null,null,null,null,null,null,null,null,null,null,null,null,null,null,null,null,null,null,null,"休","出","出","－","出",null,null,{"$f":"IF(COUNTIFS(F15:AJ15,\">=\"&J$12,F15:AJ15,\"<=\"&R$12)=0,\"\",\nIF(COUNTIFS(F15:AJ15,\">=\"&J$12,F15:AJ15,\"<=\"&R$12)<>C16+COUNTIF(F18:AJ18,\"－\"),\"← 従事期間内で入力されていない日があります。確認してください。\",\"\"))","v":""}]
["判定",{"$f":"IF($R$12-$J$12+1>=28,IF(OR(B16=\"\",B16=0,B17=0),\"対象外\",\nIF(B18/B16<C$1,\"×\",\"○\")),\"対象外\")","v":"対象外"},{"$f":"IF($R$12-$J$12+1>=28,IF(OR(C16=\"\",C16=0,C17=0),\"対象外\",\nIF(C18/C16<C$1,\"×\",\"○\")),\"対象外\")","v":"対象外"},null,"備考"]
[]
["年月",{"$f":"IF(C21=\"\",\"\",IF(C14=12,B14+1,B14))","v":2025},{"$f":"IF(C14=\"\",\"\",IF(DATE(IF(C14=12,B14+1,B14),IF(C14=12,1,C14+1),1)>R$5,\"\",IF(C14=12,1,C14+1)))","v":2},null,{"$f":"IF(C21=\"\",\"\",DATE(B21,C21,1))","v":"2025-02-01"}]
[null,null,null,null,null,{"$f":"IF($B21=\"\",\"\",DATE($B21,$C21,1))","v":"2025-02-01"},{"$f":"IF($B21=\"\",\"\",DATE($B21,$C21,2))","v":"2025-02-02"},{"$f":"IF($B21=\"\",\"\",DATE($B21,$C21,3))","v":"2025-02-03"},{"$f":"IF($B21=\"\",\"\",DATE($B21,$C21,4))","v":"2025-02-04"},{"$f":"IF($B21=\"\",\"\",DATE($B21,$C21,5))","v":"2025-02-05"},{"$f":"IF($B21=\"\",\"\",DATE($B21,$C21,6))","v":"2025-02-06"},{"$f":"IF($B21=\"\",\"\",DATE($B21,$C21,7))","v":"2025-02-07"},{"$f":"IF($B21=\"\",\"\",DATE($B21,$C21,8))","v":"2025-02-08"},{"$f":"IF($B21=\"\",\"\",DATE($B21,$C21,9))","v":"2025-02-09"},{"$f":"IF($B21=\"\",\"\",DATE($B21,$C21,10))","v":"2025-02-10"},{"$f":"IF($B21=\"\",\"\",DATE($B21,$C21,11))","v":"2025-02-11"},{"$f":"IF($B21=\"\",\"\",DATE($B21,$C21,12))","v":"2025-02-12"},{"$f":"IF($B21=\"\",\"\",DATE($B21,$C21,13))","v":"2025-02-13"},{"$f":"IF($B21=\"\",\"\",DATE($B21,$C21,14))","v":"2025-02-14"},{"$f":"IF($B21=\"\",\"\",DATE($B21,$C21,15))","v":"2025-02-15"},{"$f":"IF($B21=\"\",\"\",DATE($B21,$C21,16))","v":"2025-02-16"},{"$f":"IF($B21=\"\",\"\",DATE($B21,$C21,17))","v":"2025-02-17"},{"$f":"IF($B21=\"\",\"\",DATE($B21,$C21,18))","v":"2025-02-18"},{"$f":"IF($B21=\"\",\"\",DATE($B21,$C21,19))","v":"2025-02-19"},{"$f":"IF($B21=\"\",\"\",DATE($B21,$C21,20))","v":"2025-02-20"},{"$f":"IF($B21=\"\",\"\",DATE($B21,$C21,21))","v":"2025-02-21"},{"$f":"IF($B21=\"\",\"\",DATE($B21,$C21,22))","v":"2025-02-22"},{"$f":"IF($B21=\"\",\"\",DATE($B21,$C21,23))","v":"2025-02-23"},{"$f":"IF($B21=\"\",\"\",DATE($B21,$C21,24))","v":"2025-02-24"},{"$f":"IF($B21=\"\",\"\",DATE($B21,$C21,25))","v":"2025-02-25"},{"$f":"IF($B21=\"\",\"\",DATE($B21,$C21,26))","v":"2025-02-26"},{"$f":"IF($B21=\"\",\"\",DATE($B21,$C21,27))","v":"2025-02-27"},{"$f":"IF($B21=\"\",\"\",DATE($B21,$C21,28))","v":"2025-02-28"},{"$f":"IF($B21=\"\",\"\",IF(MONTH(DATE($B21,$C21,29))=$C21,DATE($B21,$C21,29),\"\"))","v":""},{"$f":"IF($B21=\"\",\"\",IF(MONTH(DATE($B21,$C21,30))=$C21,DATE($B21,$C21,30),\"\"))","v":""},{"$f":"IF($B21=\"\",\"\",IF(MONTH(DATE($B21,$C21,31))=$C21,DATE($B21,$C21,31),\"\"))","v":""},"備考"]
["日数",{"$f":"IF(COUNTA(F24:AJ24)=0,0,\nCOUNTIFS(F22:AJ22,\">=\"&J$12,F22:AJ22,\"<=\"&R$12,F24:AJ24,\"出\")+COUNTIFS(F22:AJ22,\">=\"&J$12,F22:AJ22,\"<=\"&R$12,F24:AJ24,\"休\"))","v":20},{"$f":"IF(COUNTA(F25:AJ25)=0,0,\nCOUNTIFS(F22:AJ22,\">=\"&J$12,F22:AJ22,\"<=\"&R$12,F25:AJ25,\"出\")+COUNTIFS(F22:AJ22,\">=\"&J$12,F22:AJ22,\"<=\"&R$12,F25:AJ25,\"休\"))","v":19},null,null,{"$f":"IFERROR(IF(WEEKDAY(F22,1)=1,\"日\",IF(WEEKDAY(F22,1)=2,\"月\",IF(WEEKDAY(F22,1)=3,\"火\",IF(WEEKDAY(F22,1)=4,\"水\",IF(WEEKDAY(F22,1)=5,\"木\",IF(WEEKDAY(F22,1)=6,\"金\",\"土\")))))),\"\")","v":"土"},{"$f":"IFERROR(IF(WEEKDAY(G22,1)=1,\"日\",IF(WEEKDAY(G22,1)=2,\"月\",IF(WEEKDAY(G22,1)=3,\"火\",IF(WEEKDAY(G22,1)=4,\"水\",IF(WEEKDAY(G22,1)=5,\"木\",IF(WEEKDAY(G22,1)=6,\"金\",\"土\")))))),\"\")","v":"日"},"月","火","水","木","金","土",{"$f":"IFERROR(IF(WEEKDAY(N22,1)=1,\"日\",IF(WEEKDAY(N22,1)=2,\"月\",IF(WEEKDAY(N22,1)=3,\"火\",IF(WEEKDAY(N22,1)=4,\"水\",IF(WEEKDAY(N22,1)=5,\"木\",IF(WEEKDAY(N22,1)=6,\"金\",\"土\")))))),\"\")","v":"日"},{"$f":"IFERROR(IF(WEEKDAY(O22,1)=1,\"日\",IF(WEEKDAY(O22,1)=2,\"月\",IF(WEEKDAY(O22,1)=3,\"火\",IF(WEEKDAY(O22,1)=4,\"水\",IF(WEEKDAY(O22,1)=5,\"木\",IF(WEEKDAY(O22,1)=6,\"金\",\"土\")))))),\"\")","v":"月"},"火","水","木","金","土","日","月","火","水","木","金","土","日","月","火","水","木","金","","",""]
["期間内土日",{"$f":"COUNTIFS(F22:AJ22,\">=\"&J$12,F22:AJ22,\"<=\"&R$12,F23:AJ23,\"土\")+COUNTIFS(F22:AJ22,\">=\"&J$12,F22:AJ22,\"<=\"&R$12,F23:AJ23,\"日\")","v":6},{"$f":"B24","v":6},null,"計画","休","休","出","出","出","出","出","休","休","出","出","出","出","出","休","休","出","出","出","出","出","休","休","出","出","出","出","出",null,null,null,"出⇐勤務日、休⇐休日、－⇐対象外",null,{"$f":"IF(COUNTIFS(F22:AJ22,\">=\"&J$12,F22:AJ22,\"<=\"&R$12)=0,\"\",\nIF(COUNTIFS(F22:AJ22,\">=\"&J$12,F22:AJ22,\"<=\"&R$12)<>B23+COUNTIF(F24:AJ24,\"－\"),\"← 従事期間内で入力されていない日があります。確認してください。\",\"\"))","v":""}]
["休暇",{"$f":"COUNTIFS(F22:AJ22,\">=\"&J$12,F22:AJ22,\"<=\"&R$12,F24:AJ24,\"休\")","v":"1900-01-06"},{"$f":"COUNTIFS(F22:AJ22,\">=\"&J$12,F22:AJ22,\"<=\"&R$12,F25:AJ25,\"休\")","v":"1900-01-05"},null,"実績","休","休","出","出","出","出","出","休","休","出","出","出","出","出","休","－","出","出","出","出","出","休","休","出","出","出","出","出",null,null,null,null,null,{"$f":"IF(COUNTIFS(F22:AJ22,\">=\"&J$12,F22:AJ22,\"<=\"&R$12)=0,\"\",\nIF(COUNTIFS(F22:AJ22,\">=\"&J$12,F22:AJ22,\"<=\"&R$12)<>C23+COUNTIF(F25:AJ25,\"－\"),\"← 従事期間内で入力されていない日があります。確認してください。\",\"\"))","v":""}]
["判定",{"$f":"IF($R$12-$J$12+1>=28,IF(OR(B23=\"\",B23=0,B24=0),\"対象外\",\nIF(B25/B23<C$1,\"×\",\"○\")),\"対象外\")","v":"対象外"},{"$f":"IF($R$12-$J$12+1>=28,IF(OR(C23=\"\",C23=0,C24=0),\"対象外\",\nIF(C25/C23<C$1,\"×\",\"○\")),\"対象外\")","v":"対象外"},null,"備考"]
[]
["年月",{"$f":"IF(C28=\"\",\"\",IF(C21=12,B21+1,B21))","v":2025},{"$f":"IF(C21=\"\",\"\",IF(DATE(IF(C21=12,B21+1,B21),IF(C21=12,1,C21+1),1)>R$5,\"\",IF(C21=12,1,C21+1)))","v":3},null,{"$f":"IF(C28=\"\",\"\",DATE(B28,C28,1))","v":"2025-03-01"}]
[null,null,null,null,null,{"$f":"IF($B28=\"\",\"\",DATE($B28,$C28,1))","v":"2025-03-01"},{"$f":"IF($B28=\"\",\"\",DATE($B28,$C28,2))","v":"2025-03-02"},{"$f":"IF($B28=\"\",\"\",DATE($B28,$C28,3))","v":"2025-03-03"},{"$f":"IF($B28=\"\",\"\",DATE($B28,$C28,4))","v":"2025-03-04"},{"$f":"IF($B28=\"\",\"\",DATE($B28,$C28,5))","v":"2025-03-05"},{"$f":"IF($B28=\"\",\"\",DATE($B28,$C28,6))","v":"2025-03-06"},{"$f":"IF($B28=\"\",\"\",DATE($B28,$C28,7))","v":"2025-03-07"},{"$f":"IF($B28=\"\",\"\",DATE($B28,$C28,8))","v":"2025-03-08"},{"$f":"IF($B28=\"\",\"\",DATE($B28,$C28,9))","v":"2025-03-09"},{"$f":"IF($B28=\"\",\"\",DATE($B28,$C28,10))","v":"2025-03-10"},{"$f":"IF($B28=\"\",\"\",DATE($B28,$C28,11))","v":"2025-03-11"},{"$f":"IF($B28=\"\",\"\",DATE($B28,$C28,12))","v":"2025-03-12"},{"$f":"IF($B28=\"\",\"\",DATE($B28,$C28,13))","v":"2025-03-13"},{"$f":"IF($B28=\"\",\"\",DATE($B28,$C28,14))","v":"2025-03-14"},{"$f":"IF($B28=\"\",\"\",DATE($B28,$C28,15))","v":"2025-03-15"},{"$f":"IF($B28=\"\",\"\",DATE($B28,$C28,16))","v":"2025-03-16"},{"$f":"IF($B28=\"\",\"\",DATE($B28,$C28,17))","v":"2025-03-17"},{"$f":"IF($B28=\"\",\"\",DATE($B28,$C28,18))","v":"2025-03-18"},{"$f":"IF($B28=\"\",\"\",DATE($B28,$C28,19))","v":"2025-03-19"},{"$f":"IF($B28=\"\",\"\",DATE($B28,$C28,20))","v":"2025-03-20"},{"$f":"IF($B28=\"\",\"\",DATE($B28,$C28,21))","v":"2025-03-21"},{"$f":"IF($B28=\"\",\"\",DATE($B28,$C28,22))","v":"2025-03-22"},{"$f":"IF($B28=\"\",\"\",DATE($B28,$C28,23))","v":"2025-03-23"},{"$f":"IF($B28=\"\",\"\",DATE($B28,$C28,24))","v":"2025-03-24"},{"$f":"IF($B28=\"\",\"\",DATE($B28,$C28,25))","v":"2025-03-25"},{"$f":"IF($B28=\"\",\"\",DATE($B28,$C28,26))","v":"2025-03-26"},{"$f":"IF($B28=\"\",\"\",DATE($B28,$C28,27))","v":"2025-03-27"},{"$f":"IF($B28=\"\",\"\",DATE($B28,$C28,28))","v":"2025-03-28"},{"$f":"IF($B28=\"\",\"\",IF(MONTH(DATE($B28,$C28,29))=$C28,DATE($B28,$C28,29),\"\"))","v":"2025-03-29"},{"$f":"IF($B28=\"\",\"\",IF(MONTH(DATE($B28,$C28,30))=$C28,DATE($B28,$C28,30),\"\"))","v":"2025-03-30"},{"$f":"IF($B28=\"\",\"\",IF(MONTH(DATE($B28,$C28,31))=$C28,DATE($B28,$C28,31),\"\"))","v":"2025-03-31"},"備考"]
["日数",{"$f":"IF(COUNTA(F31:AJ31)=0,0,\nCOUNTIFS(F29:AJ29,\">=\"&J$12,F29:AJ29,\"<=\"&R$12,F31:AJ31,\"出\")+COUNTIFS(F29:AJ29,\">=\"&J$12,F29:AJ29,\"<=\"&R$12,F31:AJ31,\"休\"))","v":0},{"$f":"IF(COUNTA(F32:AJ32)=0,0,\nCOUNTIFS(F29:AJ29,\">=\"&J$12,F29:AJ29,\"<=\"&R$12,F32:AJ32,\"出\")+COUNTIFS(F29:AJ29,\">=\"&J$12,F29:AJ29,\"<=\"&R$12,F32:AJ32,\"休\"))","v":0},null,null,{"$f":"IFERROR(IF(WEEKDAY(F29,1)=1,\"日\",IF(WEEKDAY(F29,1)=2,\"月\",IF(WEEKDAY(F29,1)=3,\"火\",IF(WEEKDAY(F29,1)=4,\"水\",IF(WEEKDAY(F29,1)=5,\"木\",IF(WEEKDAY(F29,1)=6,\"金\",\"土\")))))),\"\")","v":"土"},{"$f":"IFERROR(IF(WEEKDAY(G29,1)=1,\"日\",IF(WEEKDAY(G29,1)=2,\"月\",IF(WEEKDAY(G29,1)=3,\"火\",IF(WEEKDAY(G29,1)=4,\"水\",IF(WEEKDAY(G29,1)=5,\"木\",IF(WEEKDAY(G29,1)=6,\"金\",\"土\")))))),\"\")","v":"日"},"月","火","水","木","金","土",{"$f":"IFERROR(IF(WEEKDAY(N29,1)=1,\"日\",IF(WEEKDAY(N29,1)=2,\"月\",IF(WEEKDAY(N29,1)=3,\"火\",IF(WEEKDAY(N29,1)=4,\"水\",IF(WEEKDAY(N29,1)=5,\"木\",IF(WEEKDAY(N29,1)=6,\"金\",\"土\")))))),\"\")","v":"日"},{"$f":"IFERROR(IF(WEEKDAY(O29,1)=1,\"日\",IF(WEEKDAY(O29,1)=2,\"月\",IF(WEEKDAY(O29,1)=3,\"火\",IF(WEEKDAY(O29,1)=4,\"水\",IF(WEEKDAY(O29,1)=5,\"木\",IF(WEEKDAY(O29,1)=6,\"金\",\"土\")))))),\"\")","v":"月"},"火","水","木","金","土","日","月","火","水","木","金","土","日","月","火","水","木","金","土","日","月"]
["期間内土日",{"$f":"COUNTIFS(F29:AJ29,\">=\"&J$12,F29:AJ29,\"<=\"&R$12,F30:AJ30,\"土\")+COUNTIFS(F29:AJ29,\">=\"&J$12,F29:AJ29,\"<=\"&R$12,F30:AJ30,\"日\")","v":0},{"$f":"B31","v":0},null,"計画",null,null,null,null,null,null,null,null,null,null,null,null,null,null,null,null,null,null,null,null,null,null,null,null,null,null,null,null,null,null,null,"出⇐勤務日、休⇐休日、－⇐対象外",null,{"$f":"IF(COUNTIFS(F29:AJ29,\">=\"&J$12,F29:AJ29,\"<=\"&R$12)=0,\"\",\nIF(COUNTIFS(F29:AJ29,\">=\"&J$12,F29:AJ29,\"<=\"&R$12)<>B30+COUNTIF(F31:AJ31,\"－\"),\"← 従事期間内で入力されていない日があります。確認してください。\",\"\"))","v":""}]
["休暇",{"$f":"COUNTIFS(F29:AJ29,\">=\"&J$12,F29:AJ29,\"<=\"&R$12,F31:AJ31,\"休\")","v":"00:00:00"},{"$f":"COUNTIFS(F29:AJ29,\">=\"&J$12,F29:AJ29,\"<=\"&R$12,F32:AJ32,\"休\")","v":"00:00:00"},null,"実績",null,null,null,null,null,null,null,null,null,null,null,null,null,null,null,null,null,null,null,null,null,null,null,null,null,null,null,null,null,null,null,null,null,{"$f":"IF(COUNTIFS(F29:AJ29,\">=\"&J$12,F29:AJ29,\"<=\"&R$12)=0,\"\",\nIF(COUNTIFS(F29:AJ29,\">=\"&J$12,F29:AJ29,\"<=\"&R$12)<>C30+COUNTIF(F32:AJ32,\"－\"),\"← 従事期間内で入力されていない日があります。確認してください。\",\"\"))","v":""}]
["判定",{"$f":"IF($R$12-$J$12+1>=28,IF(OR(B30=\"\",B30=0,B31=0),\"対象外\",\nIF(B32/B30<C$1,\"×\",\"○\")),\"対象外\")","v":"対象外"},{"$f":"IF($R$12-$J$12+1>=28,IF(OR(C30=\"\",C30=0,C31=0),\"対象外\",\nIF(C32/C30<C$1,\"×\",\"○\")),\"対象外\")","v":"対象外"},null,"備考"]
[]
["年月",{"$f":"IF(C35=\"\",\"\",IF(C28=12,B28+1,B28))","v":""},{"$f":"IF(C28=\"\",\"\",IF(DATE(IF(C28=12,B28+1,B28),IF(C28=12,1,C28+1),1)>R$5,\"\",IF(C28=12,1,C28+1)))","v":""},null,{"$f":"IF(C35=\"\",\"\",DATE(B35,C35,1))","v":""}]
[null,null,null,null,null,{"$f":"IF($B35=\"\",\"\",DATE($B35,$C35,1))","v":""},{"$f":"IF($B35=\"\",\"\",DATE($B35,$C35,2))","v":""},{"$f":"IF($B35=\"\",\"\",DATE($B35,$C35,3))","v":""},{"$f":"IF($B35=\"\",\"\",DATE($B35,$C35,4))","v":""},{"$f":"IF($B35=\"\",\"\",DATE($B35,$C35,5))","v":""},{"$f":"IF($B35=\"\",\"\",DATE($B35,$C35,6))","v":""},{"$f":"IF($B35=\"\",\"\",DATE($B35,$C35,7))","v":""},{"$f":"IF($B35=\"\",\"\",DATE($B35,$C35,8))","v":""},{"$f":"IF($B35=\"\",\"\",DATE($B35,$C35,9))","v":""},{"$f":"IF($B35=\"\",\"\",DATE($B35,$C35,10))","v":""},{"$f":"IF($B35=\"\",\"\",DATE($B35,$C35,11))","v":""},{"$f":"IF($B35=\"\",\"\",DATE($B35,$C35,12))","v":""},{"$f":"IF($B35=\"\",\"\",DATE($B35,$C35,13))","v":""},{"$f":"IF($B35=\"\",\"\",DATE($B35,$C35,14))","v":""},{"$f":"IF($B35=\"\",\"\",DATE($B35,$C35,15))","v":""},{"$f":"IF($B35=\"\",\"\",DATE($B35,$C35,16))","v":""},{"$f":"IF($B35=\"\",\"\",DATE($B35,$C35,17))","v":""},{"$f":"IF($B35=\"\",\"\",DATE($B35,$C35,18))","v":""},{"$f":"IF($B35=\"\",\"\",DATE($B35,$C35,19))","v":""},{"$f":"IF($B35=\"\",\"\",DATE($B35,$C35,20))","v":""},{"$f":"IF($B35=\"\",\"\",DATE($B35,$C35,21))","v":""},{"$f":"IF($B35=\"\",\"\",DATE($B35,$C35,22))","v":""},{"$f":"IF($B35=\"\",\"\",DATE($B35,$C35,23))","v":""},{"$f":"IF($B35=\"\",\"\",DATE($B35,$C35,24))","v":""},{"$f":"IF($B35=\"\",\"\",DATE($B35,$C35,25))","v":""},{"$f":"IF($B35=\"\",\"\",DATE($B35,$C35,26))","v":""},{"$f":"IF($B35=\"\",\"\",DATE($B35,$C35,27))","v":""},{"$f":"IF($B35=\"\",\"\",DATE($B35,$C35,28))","v":""},{"$f":"IF($B35=\"\",\"\",IF(MONTH(DATE($B35,$C35,29))=$C35,DATE($B35,$C35,29),\"\"))","v":""},{"$f":"IF($B35=\"\",\"\",IF(MONTH(DATE($B35,$C35,30))=$C35,DATE($B35,$C35,30),\"\"))","v":""},{"$f":"IF($B35=\"\",\"\",IF(MONTH(DATE($B35,$C35,31))=$C35,DATE($B35,$C35,31),\"\"))","v":""},"備考"]
["日数",{"$f":"IF(COUNTA(F38:AJ38)=0,0,\nCOUNTIFS(F36:AJ36,\">=\"&J$12,F36:AJ36,\"<=\"&R$12,F38:AJ38,\"出\")+COUNTIFS(F36:AJ36,\">=\"&J$12,F36:AJ36,\"<=\"&R$12,F38:AJ38,\"休\"))","v":0},{"$f":"IF(COUNTA(F39:AJ39)=0,0,\nCOUNTIFS(F36:AJ36,\">=\"&J$12,F36:AJ36,\"<=\"&R$12,F39:AJ39,\"出\")+COUNTIFS(F36:AJ36,\">=\"&J$12,F36:AJ36,\"<=\"&R$12,F39:AJ39,\"休\"))","v":0},null,null,{"$f":"IFERROR(IF(WEEKDAY(F36,1)=1,\"日\",IF(WEEKDAY(F36,1)=2,\"月\",IF(WEEKDAY(F36,1)=3,\"火\",IF(WEEKDAY(F36,1)=4,\"水\",IF(WEEKDAY(F36,1)=5,\"木\",IF(WEEKDAY(F36,1)=6,\"金\",\"土\")))))),\"\")","v":""},{"$f":"IFERROR(IF(WEEKDAY(G36,1)=1,\"日\",IF(WEEKDAY(G36,1)=2,\"月\",IF(WEEKDAY(G36,1)=3,\"火\",IF(WEEKDAY(G36,1)=4,\"水\",IF(WEEKDAY(G36,1)=5,\"木\",IF(WEEKDAY(G36,1)=6,\"金\",\"土\")))))),\"\")","v":""},"","","","","","",{"$f":"IFERROR(IF(WEEKDAY(N36,1)=1,\"日\",IF(WEEKDAY(N36,1)=2,\"月\",IF(WEEKDAY(N36,1)=3,\"火\",IF(WEEKDAY(N36,1)=4,\"水\",IF(WEEKDAY(N36,1)=5,\"木\",IF(WEEKDAY(N36,1)=6,\"金\",\"土\")))))),\"\")","v":""},{"$f":"IFERROR(IF(WEEKDAY(O36,1)=1,\"日\",IF(WEEKDAY(O36,1)=2,\"月\",IF(WEEKDAY(O36,1)=3,\"火\",IF(WEEKDAY(O36,1)=4,\"水\",IF(WEEKDAY(O36,1)=5,\"木\",IF(WEEKDAY(O36,1)=6,\"金\",\"土\")))))),\"\")","v":""},"","","","","","","","","","","","","","","","","","","","",""]
["期間内土日",{"$f":"COUNTIFS(F36:AJ36,\">=\"&J$12,F36:AJ36,\"<=\"&R$12,F37:AJ37,\"土\")+COUNTIFS(F36:AJ36,\">=\"&J$12,F36:AJ36,\"<=\"&R$12,F37:AJ37,\"日\")","v":0},{"$f":"B38","v":0},null,"計画",null,null,null,null,null,null,null,null,null,null,null,null,null,null,null,null,null,null,null,null,null,null,null,null,null,null,null,null,null,null,null,"出⇐勤務日、休⇐休日、－⇐対象外",null,{"$f":"IF(COUNTIFS(F36:AJ36,\">=\"&J$12,F36:AJ36,\"<=\"&R$12)=0,\"\",\nIF(COUNTIFS(F36:AJ36,\">=\"&J$12,F36:AJ36,\"<=\"&R$12)<>B37+COUNTIF(F38:AJ38,\"－\"),\"← 従事期間内で入力されていない日があります。確認してください。\",\"\"))","v":""}]
["休暇",{"$f":"COUNTIFS(F36:AJ36,\">=\"&J$12,F36:AJ36,\"<=\"&R$12,F38:AJ38,\"休\")","v":"00:00:00"},{"$f":"COUNTIFS(F36:AJ36,\">=\"&J$12,F36:AJ36,\"<=\"&R$12,F39:AJ39,\"休\")","v":"00:00:00"},null,"実績",null,null,null,null,null,null,null,null,null,null,null,null,null,null,null,null,null,null,null,null,null,null,null,null,null,null,null,null,null,null,null,null,null,{"$f":"IF(COUNTIFS(F36:AJ36,\">=\"&J$12,F36:AJ36,\"<=\"&R$12)=0,\"\",\nIF(COUNTIFS(F36:AJ36,\">=\"&J$12,F36:AJ36,\"<=\"&R$12)<>C37+COUNTIF(F39:AJ39,\"－\"),\"← 従事期間内で入力されていない日があります。確認してください。\",\"\"))","v":""}]
["判定",{"$f":"IF($R$12-$J$12+1>=28,IF(OR(B37=\"\",B37=0,B38=0),\"対象外\",\nIF(B39/B37<C$1,\"×\",\"○\")),\"対象外\")","v":"対象外"},{"$f":"IF($R$12-$J$12+1>=28,IF(OR(C37=\"\",C37=0,C38=0),\"対象外\",\nIF(C39/C37<C$1,\"×\",\"○\")),\"対象外\")","v":"対象外"},null,"備考"]
[]
["年月",{"$f":"IF(C42=\"\",\"\",IF(C35=12,B35+1,B35))","v":""},{"$f":"IF(C35=\"\",\"\",IF(DATE(IF(C35=12,B35+1,B35),IF(C35=12,1,C35+1),1)>R$5,\"\",IF(C35=12,1,C35+1)))","v":""},null,{"$f":"IF(C42=\"\",\"\",DATE(B42,C42,1))","v":""}]
[null,null,null,null,null,{"$f":"IF($B42=\"\",\"\",DATE($B42,$C42,1))","v":""},{"$f":"IF($B42=\"\",\"\",DATE($B42,$C42,2))","v":""},{"$f":"IF($B42=\"\",\"\",DATE($B42,$C42,3))","v":""},{"$f":"IF($B42=\"\",\"\",DATE($B42,$C42,4))","v":""},{"$f":"IF($B42=\"\",\"\",DATE($B42,$C42,5))","v":""},{"$f":"IF($B42=\"\",\"\",DATE($B42,$C42,6))","v":""},{"$f":"IF($B42=\"\",\"\",DATE($B42,$C42,7))","v":""},{"$f":"IF($B42=\"\",\"\",DATE($B42,$C42,8))","v":""},{"$f":"IF($B42=\"\",\"\",DATE($B42,$C42,9))","v":""},{"$f":"IF($B42=\"\",\"\",DATE($B42,$C42,10))","v":""},{"$f":"IF($B42=\"\",\"\",DATE($B42,$C42,11))","v":""},{"$f":"IF($B42=\"\",\"\",DATE($B42,$C42,12))","v":""},{"$f":"IF($B42=\"\",\"\",DATE($B42,$C42,13))","v":""},{"$f":"IF($B42=\"\",\"\",DATE($B42,$C42,14))","v":""},{"$f":"IF($B42=\"\",\"\",DATE($B42,$C42,15))","v":""},{"$f":"IF($B42=\"\",\"\",DATE($B42,$C42,16))","v":""},{"$f":"IF($B42=\"\",\"\",DATE($B42,$C42,17))","v":""},{"$f":"IF($B42=\"\",\"\",DATE($B42,$C42,18))","v":""},{"$f":"IF($B42=\"\",\"\",DATE($B42,$C42,19))","v":""},{"$f":"IF($B42=\"\",\"\",DATE($B42,$C42,20))","v":""},{"$f":"IF($B42=\"\",\"\",DATE($B42,$C42,21))","v":""},{"$f":"IF($B42=\"\",\"\",DATE($B42,$C42,22))","v":""},{"$f":"IF($B42=\"\",\"\",DATE($B42,$C42,23))","v":""},{"$f":"IF($B42=\"\",\"\",DATE($B42,$C42,24))","v":""},{"$f":"IF($B42=\"\",\"\",DATE($B42,$C42,25))","v":""},{"$f":"IF($B42=\"\",\"\",DATE($B42,$C42,26))","v":""},{"$f":"IF($B42=\"\",\"\",DATE($B42,$C42,27))","v":""},{"$f":"IF($B42=\"\",\"\",DATE($B42,$C42,28))","v":""},{"$f":"IF($B42=\"\",\"\",IF(MONTH(DATE($B42,$C42,29))=$C42,DATE($B42,$C42,29),\"\"))","v":""},{"$f":"IF($B42=\"\",\"\",IF(MONTH(DATE($B42,$C42,30))=$C42,DATE($B42,$C42,30),\"\"))","v":""},{"$f":"IF($B42=\"\",\"\",IF(MONTH(DATE($B42,$C42,31))=$C42,DATE($B42,$C42,31),\"\"))","v":""},"備考"]
["日数",{"$f":"IF(COUNTA(F45:AJ45)=0,0,\nCOUNTIFS(F43:AJ43,\">=\"&J$12,F43:AJ43,\"<=\"&R$12,F45:AJ45,\"出\")+COUNTIFS(F43:AJ43,\">=\"&J$12,F43:AJ43,\"<=\"&R$12,F45:AJ45,\"休\"))","v":0},{"$f":"IF(COUNTA(F46:AJ46)=0,0,\nCOUNTIFS(F43:AJ43,\">=\"&J$12,F43:AJ43,\"<=\"&R$12,F46:AJ46,\"出\")+COUNTIFS(F43:AJ43,\">=\"&J$12,F43:AJ43,\"<=\"&R$12,F46:AJ46,\"休\"))","v":0},null,null,{"$f":"IFERROR(IF(WEEKDAY(F43,1)=1,\"日\",IF(WEEKDAY(F43,1)=2,\"月\",IF(WEEKDAY(F43,1)=3,\"火\",IF(WEEKDAY(F43,1)=4,\"水\",IF(WEEKDAY(F43,1)=5,\"木\",IF(WEEKDAY(F43,1)=6,\"金\",\"土\")))))),\"\")","v":""},{"$f":"IFERROR(IF(WEEKDAY(G43,1)=1,\"日\",IF(WEEKDAY(G43,1)=2,\"月\",IF(WEEKDAY(G43,1)=3,\"火\",IF(WEEKDAY(G43,1)=4,\"水\",IF(WEEKDAY(G43,1)=5,\"木\",IF(WEEKDAY(G43,1)=6,\"金\",\"土\")))))),\"\")","v":""},"","","","","","",{"$f":"IFERROR(IF(WEEKDAY(N43,1)=1,\"日\",IF(WEEKDAY(N43,1)=2,\"月\",IF(WEEKDAY(N43,1)=3,\"火\",IF(WEEKDAY(N43,1)=4,\"水\",IF(WEEKDAY(N43,1)=5,\"木\",IF(WEEKDAY(N43,1)=6,\"金\",\"土\")))))),\"\")","v":""},{"$f":"IFERROR(IF(WEEKDAY(O43,1)=1,\"日\",IF(WEEKDAY(O43,1)=2,\"月\",IF(WEEKDAY(O43,1)=3,\"火\",IF(WEEKDAY(O43,1)=4,\"水\",IF(WEEKDAY(O43,1)=5,\"木\",IF(WEEKDAY(O43,1)=6,\"金\",\"土\")))))),\"\")","v":""},"","","","","","","","","","","","","","","","","","","","",""]
["期間内土日",{"$f":"COUNTIFS(F43:AJ43,\">=\"&J$12,F43:AJ43,\"<=\"&R$12,F44:AJ44,\"土\")+COUNTIFS(F43:AJ43,\">=\"&J$12,F43:AJ43,\"<=\"&R$12,F44:AJ44,\"日\")","v":0},{"$f":"B45","v":0},null,"計画",null,null,null,null,null,null,null,null,null,null,null,null,null,null,null,null,null,null,null,null,null,null,null,null,null,null,null,null,null,null,null,"出⇐勤務日、休⇐休日、－⇐対象外",null,{"$f":"IF(COUNTIFS(F43:AJ43,\">=\"&J$12,F43:AJ43,\"<=\"&R$12)=0,\"\",\nIF(COUNTIFS(F43:AJ43,\">=\"&J$12,F43:AJ43,\"<=\"&R$12)<>B44+COUNTIF(F45:AJ45,\"－\"),\"← 従事期間内で入力されていない日があります。確認してください。\",\"\"))","v":""}]
["休暇",{"$f":"COUNTIFS(F43:AJ43,\">=\"&J$12,F43:AJ43,\"<=\"&R$12,F45:AJ45,\"休\")","v":"00:00:00"},{"$f":"COUNTIFS(F43:AJ43,\">=\"&J$12,F43:AJ43,\"<=\"&R$12,F46:AJ46,\"休\")","v":"00:00:00"},null,"実績",null,null,null,null,null,null,null,null,null,null,null,null,null,null,null,null,null,null,null,null,null,null,null,null,null,null,null,null,null,null,null,null,null,{"$f":"IF(COUNTIFS(F43:AJ43,\">=\"&J$12,F43:AJ43,\"<=\"&R$12)=0,\"\",\nIF(COUNTIFS(F43:AJ43,\">=\"&J$12,F43:AJ43,\"<=\"&R$12)<>C44+COUNTIF(F46:AJ46,\"－\"),\"← 従事期間内で入力されていない日があります。確認してください。\",\"\"))","v":""}]
["判定",{"$f":"IF($R$12-$J$12+1>=28,IF(OR(B44=\"\",B44=0,B45=0),\"対象外\",\nIF(B46/B44<C$1,\"×\",\"○\")),\"対象外\")","v":"対象外"},{"$f":"IF($R$12-$J$12+1>=28,IF(OR(C44=\"\",C44=0,C45=0),\"対象外\",\nIF(C46/C44<C$1,\"×\",\"○\")),\"対象外\")","v":"対象外"},null,"備考"]
[]
["年月",{"$f":"IF(C49=\"\",\"\",IF(C42=12,B42+1,B42))","v":""},{"$f":"IF(C42=\"\",\"\",IF(DATE(IF(C42=12,B42+1,B42),IF(C42=12,1,C42+1),1)>R$5,\"\",IF(C42=12,1,C42+1)))","v":""},null,{"$f":"IF(C49=\"\",\"\",DATE(B49,C49,1))","v":""}]
[null,null,null,null,null,{"$f":"IF($B49=\"\",\"\",DATE($B49,$C49,1))","v":""},{"$f":"IF($B49=\"\",\"\",DATE($B49,$C49,2))","v":""},{"$f":"IF($B49=\"\",\"\",DATE($B49,$C49,3))","v":""},{"$f":"IF($B49=\"\",\"\",DATE($B49,$C49,4))","v":""},{"$f":"IF($B49=\"\",\"\",DATE($B49,$C49,5))","v":""},{"$f":"IF($B49=\"\",\"\",DATE($B49,$C49,6))","v":""},{"$f":"IF($B49=\"\",\"\",DATE($B49,$C49,7))","v":""},{"$f":"IF($B49=\"\",\"\",DATE($B49,$C49,8))","v":""},{"$f":"IF($B49=\"\",\"\",DATE($B49,$C49,9))","v":""},{"$f":"IF($B49=\"\",\"\",DATE($B49,$C49,10))","v":""},{"$f":"IF($B49=\"\",\"\",DATE($B49,$C49,11))","v":""},{"$f":"IF($B49=\"\",\"\",DATE($B49,$C49,12))","v":""},{"$f":"IF($B49=\"\",\"\",DATE($B49,$C49,13))","v":""},{"$f":"IF($B49=\"\",\"\",DATE($B49,$C49,14))","v":""},{"$f":"IF($B49=\"\",\"\",DATE($B49,$C49,15))","v":""},{"$f":"IF($B49=\"\",\"\",DATE($B49,$C49,16))","v":""},{"$f":"IF($B49=\"\",\"\",DATE($B49,$C49,17))","v":""},{"$f":"IF($B49=\"\",\"\",DATE($B49,$C49,18))","v":""},{"$f":"IF($B49=\"\",\"\",DATE($B49,$C49,19))","v":""},{"$f":"IF($B49=\"\",\"\",DATE($B49,$C49,20))","v":""},{"$f":"IF($B49=\"\",\"\",DATE($B49,$C49,21))","v":""},{"$f":"IF($B49=\"\",\"\",DATE($B49,$C49,22))","v":""},{"$f":"IF($B49=\"\",\"\",DATE($B49,$C49,23))","v":""},{"$f":"IF($B49=\"\",\"\",DATE($B49,$C49,24))","v":""},{"$f":"IF($B49=\"\",\"\",DATE($B49,$C49,25))","v":""},{"$f":"IF($B49=\"\",\"\",DATE($B49,$C49,26))","v":""},{"$f":"IF($B49=\"\",\"\",DATE($B49,$C49,27))","v":""},{"$f":"IF($B49=\"\",\"\",DATE($B49,$C49,28))","v":""},{"$f":"IF($B49=\"\",\"\",IF(MONTH(DATE($B49,$C49,29))=$C49,DATE($B49,$C49,29),\"\"))","v":""},{"$f":"IF($B49=\"\",\"\",IF(MONTH(DATE($B49,$C49,30))=$C49,DATE($B49,$C49,30),\"\"))","v":""},{"$f":"IF($B49=\"\",\"\",IF(MONTH(DATE($B49,$C49,31))=$C49,DATE($B49,$C49,31),\"\"))","v":""},"備考"]
["日数",{"$f":"IF(COUNTA(F52:AJ52)=0,0,\nCOUNTIFS(F50:AJ50,\">=\"&J$12,F50:AJ50,\"<=\"&R$12,F52:AJ52,\"出\")+COUNTIFS(F50:AJ50,\">=\"&J$12,F50:AJ50,\"<=\"&R$12,F52:AJ52,\"休\"))","v":0},{"$f":"IF(COUNTA(F53:AJ53)=0,0,\nCOUNTIFS(F50:AJ50,\">=\"&J$12,F50:AJ50,\"<=\"&R$12,F53:AJ53,\"出\")+COUNTIFS(F50:AJ50,\">=\"&J$12,F50:AJ50,\"<=\"&R$12,F53:AJ53,\"休\"))","v":0},null,null,{"$f":"IFERROR(IF(WEEKDAY(F50,1)=1,\"日\",IF(WEEKDAY(F50,1)=2,\"月\",IF(WEEKDAY(F50,1)=3,\"火\",IF(WEEKDAY(F50,1)=4,\"水\",IF(WEEKDAY(F50,1)=5,\"木\",IF(WEEKDAY(F50,1)=6,\"金\",\"土\")))))),\"\")","v":""},{"$f":"IFERROR(IF(WEEKDAY(G50,1)=1,\"日\",IF(WEEKDAY(G50,1)=2,\"月\",IF(WEEKDAY(G50,1)=3,\"火\",IF(WEEKDAY(G50,1)=4,\"水\",IF(WEEKDAY(G50,1)=5,\"木\",IF(WEEKDAY(G50,1)=6,\"金\",\"土\")))))),\"\")","v":""},"","","","","","",{"$f":"IFERROR(IF(WEEKDAY(N50,1)=1,\"日\",IF(WEEKDAY(N50,1)=2,\"月\",IF(WEEKDAY(N50,1)=3,\"火\",IF(WEEKDAY(N50,1)=4,\"水\",IF(WEEKDAY(N50,1)=5,\"木\",IF(WEEKDAY(N50,1)=6,\"金\",\"土\")))))),\"\")","v":""},{"$f":"IFERROR(IF(WEEKDAY(O50,1)=1,\"日\",IF(WEEKDAY(O50,1)=2,\"月\",IF(WEEKDAY(O50,1)=3,\"火\",IF(WEEKDAY(O50,1)=4,\"水\",IF(WEEKDAY(O50,1)=5,\"木\",IF(WEEKDAY(O50,1)=6,\"金\",\"土\")))))),\"\")","v":""},"","","","","","","","","","","","","","","","","","","","",""]
["期間内土日",{"$f":"COUNTIFS(F50:AJ50,\">=\"&J$12,F50:AJ50,\"<=\"&R$12,F51:AJ51,\"土\")+COUNTIFS(F50:AJ50,\">=\"&J$12,F50:AJ50,\"<=\"&R$12,F51:AJ51,\"日\")","v":0},{"$f":"B52","v":0},null,"計画",null,null,null,null,null,null,null,null,null,null,null,null,null,null,null,null,null,null,null,null,null,null,null,null,null,null,null,null,null,null,null,"出⇐勤務日、休⇐休日、－⇐対象外",null,{"$f":"IF(COUNTIFS(F50:AJ50,\">=\"&J$12,F50:AJ50,\"<=\"&R$12)=0,\"\",\nIF(COUNTIFS(F50:AJ50,\">=\"&J$12,F50:AJ50,\"<=\"&R$12)<>B51+COUNTIF(F52:AJ52,\"－\"),\"← 従事期間内で入力されていない日があります。確認してください。\",\"\"))","v":""}]
["休暇",{"$f":"COUNTIFS(F50:AJ50,\">=\"&J$12,F50:AJ50,\"<=\"&R$12,F52:AJ52,\"休\")","v":"00:00:00"},{"$f":"COUNTIFS(F50:AJ50,\">=\"&J$12,F50:AJ50,\"<=\"&R$12,F53:AJ53,\"休\")","v":"00:00:00"},null,"実績",null,null,null,null,null,null,null,null,null,null,null,null,null,null,null,null,null,null,null,null,null,null,null,null,null,null,null,null,null,null,null,null,null,{"$f":"IF(COUNTIFS(F50:AJ50,\">=\"&J$12,F50:AJ50,\"<=\"&R$12)=0,\"\",\nIF(COUNTIFS(F50:AJ50,\">=\"&J$12,F50:AJ50,\"<=\"&R$12)<>C51+COUNTIF(F53:AJ53,\"－\"),\"← 従事期間内で入力されていない日があります。確認してください。\",\"\"))","v":""}]
["判定",{"$f":"IF($R$12-$J$12+1>=28,IF(OR(B51=\"\",B51=0,B52=0),\"対象外\",\nIF(B53/B51<C$1,\"×\",\"○\")),\"対象外\")","v":"対象外"},{"$f":"IF($R$12-$J$12+1>=28,IF(OR(C51=\"\",C51=0,C52=0),\"対象外\",\nIF(C53/C51<C$1,\"×\",\"○\")),\"対象外\")","v":"対象外"},null,"備考"]
[]
["年月",{"$f":"IF(C56=\"\",\"\",IF(C49=12,B49+1,B49))","v":""},{"$f":"IF(C49=\"\",\"\",IF(DATE(IF(C49=12,B49+1,B49),IF(C49=12,1,C49+1),1)>R$5,\"\",IF(C49=12,1,C49+1)))","v":""},null,{"$f":"IF(C56=\"\",\"\",DATE(B56,C56,1))","v":""}]
[null,null,null,null,null,{"$f":"IF($B56=\"\",\"\",DATE($B56,$C56,1))","v":""},{"$f":"IF($B56=\"\",\"\",DATE($B56,$C56,2))","v":""},{"$f":"IF($B56=\"\",\"\",DATE($B56,$C56,3))","v":""},{"$f":"IF($B56=\"\",\"\",DATE($B56,$C56,4))","v":""},{"$f":"IF($B56=\"\",\"\",DATE($B56,$C56,5))","v":""},{"$f":"IF($B56=\"\",\"\",DATE($B56,$C56,6))","v":""},{"$f":"IF($B56=\"\",\"\",DATE($B56,$C56,7))","v":""},{"$f":"IF($B56=\"\",\"\",DATE($B56,$C56,8))","v":""},{"$f":"IF($B56=\"\",\"\",DATE($B56,$C56,9))","v":""},{"$f":"IF($B56=\"\",\"\",DATE($B56,$C56,10))","v":""},{"$f":"IF($B56=\"\",\"\",DATE($B56,$C56,11))","v":""},{"$f":"IF($B56=\"\",\"\",DATE($B56,$C56,12))","v":""},{"$f":"IF($B56=\"\",\"\",DATE($B56,$C56,13))","v":""},{"$f":"IF($B56=\"\",\"\",DATE($B56,$C56,14))","v":""},{"$f":"IF($B56=\"\",\"\",DATE($B56,$C56,15))","v":""},{"$f":"IF($B56=\"\",\"\",DATE($B56,$C56,16))","v":""},{"$f":"IF($B56=\"\",\"\",DATE($B56,$C56,17))","v":""},{"$f":"IF($B56=\"\",\"\",DATE($B56,$C56,18))","v":""},{"$f":"IF($B56=\"\",\"\",DATE($B56,$C56,19))","v":""},{"$f":"IF($B56=\"\",\"\",DATE($B56,$C56,20))","v":""},{"$f":"IF($B56=\"\",\"\",DATE($B56,$C56,21))","v":""},{"$f":"IF($B56=\"\",\"\",DATE($B56,$C56,22))","v":""},{"$f":"IF($B56=\"\",\"\",DATE($B56,$C56,23))","v":""},{"$f":"IF($B56=\"\",\"\",DATE($B56,$C56,24))","v":""},{"$f":"IF($B56=\"\",\"\",DATE($B56,$C56,25))","v":""},{"$f":"IF($B56=\"\",\"\",DATE($B56,$C56,26))","v":""},{"$f":"IF($B56=\"\",\"\",DATE($B56,$C56,27))","v":""},{"$f":"IF($B56=\"\",\"\",DATE($B56,$C56,28))","v":""},{"$f":"IF($B56=\"\",\"\",IF(MONTH(DATE($B56,$C56,29))=$C56,DATE($B56,$C56,29),\"\"))","v":""},{"$f":"IF($B56=\"\",\"\",IF(MONTH(DATE($B56,$C56,30))=$C56,DATE($B56,$C56,30),\"\"))","v":""},{"$f":"IF($B56=\"\",\"\",IF(MONTH(DATE($B56,$C56,31))=$C56,DATE($B56,$C56,31),\"\"))","v":""},"備考"]
["日数",{"$f":"IF(COUNTA(F59:AJ59)=0,0,\nCOUNTIFS(F57:AJ57,\">=\"&J$12,F57:AJ57,\"<=\"&R$12,F59:AJ59,\"出\")+COUNTIFS(F57:AJ57,\">=\"&J$12,F57:AJ57,\"<=\"&R$12,F59:AJ59,\"休\"))","v":0},{"$f":"IF(COUNTA(F60:AJ60)=0,0,\nCOUNTIFS(F57:AJ57,\">=\"&J$12,F57:AJ57,\"<=\"&R$12,F60:AJ60,\"出\")+COUNTIFS(F57:AJ57,\">=\"&J$12,F57:AJ57,\"<=\"&R$12,F60:AJ60,\"休\"))","v":0},null,null,{"$f":"IFERROR(IF(WEEKDAY(F57,1)=1,\"日\",IF(WEEKDAY(F57,1)=2,\"月\",IF(WEEKDAY(F57,1)=3,\"火\",IF(WEEKDAY(F57,1)=4,\"水\",IF(WEEKDAY(F57,1)=5,\"木\",IF(WEEKDAY(F57,1)=6,\"金\",\"土\")))))),\"\")","v":""},{"$f":"IFERROR(IF(WEEKDAY(G57,1)=1,\"日\",IF(WEEKDAY(G57,1)=2,\"月\",IF(WEEKDAY(G57,1)=3,\"火\",IF(WEEKDAY(G57,1)=4,\"水\",IF(WEEKDAY(G57,1)=5,\"木\",IF(WEEKDAY(G57,1)=6,\"金\",\"土\")))))),\"\")","v":""},"","","","","","",{"$f":"IFERROR(IF(WEEKDAY(N57,1)=1,\"日\",IF(WEEKDAY(N57,1)=2,\"月\",IF(WEEKDAY(N57,1)=3,\"火\",IF(WEEKDAY(N57,1)=4,\"水\",IF(WEEKDAY(N57,1)=5,\"木\",IF(WEEKDAY(N57,1)=6,\"金\",\"土\")))))),\"\")","v":""},{"$f":"IFERROR(IF(WEEKDAY(O57,1)=1,\"日\",IF(WEEKDAY(O57,1)=2,\"月\",IF(WEEKDAY(O57,1)=3,\"火\",IF(WEEKDAY(O57,1)=4,\"水\",IF(WEEKDAY(O57,1)=5,\"木\",IF(WEEKDAY(O57,1)=6,\"金\",\"土\")))))),\"\")","v":""},"","","","","","","","","","","","","","","","","","","","",""]
["期間内土日",{"$f":"COUNTIFS(F57:AJ57,\">=\"&J$12,F57:AJ57,\"<=\"&R$12,F58:AJ58,\"土\")+COUNTIFS(F57:AJ57,\">=\"&J$12,F57:AJ57,\"<=\"&R$12,F58:AJ58,\"日\")","v":0},{"$f":"B59","v":0},null,"計画",null,null,null,null,null,null,null,null,null,null,null,null,null,null,null,null,null,null,null,null,null,null,null,null,null,null,null,null,null,null,null,"出⇐勤務日、休⇐休日、－⇐対象外",null,{"$f":"IF(COUNTIFS(F57:AJ57,\">=\"&J$12,F57:AJ57,\"<=\"&R$12)=0,\"\",\nIF(COUNTIFS(F57:AJ57,\">=\"&J$12,F57:AJ57,\"<=\"&R$12)<>B58+COUNTIF(F59:AJ59,\"－\"),\"← 従事期間内で入力されていない日があります。確認してください。\",\"\"))","v":""}]
["休暇",{"$f":"COUNTIFS(F57:AJ57,\">=\"&J$12,F57:AJ57,\"<=\"&R$12,F59:AJ59,\"休\")","v":"00:00:00"},{"$f":"COUNTIFS(F57:AJ57,\">=\"&J$12,F57:AJ57,\"<=\"&R$12,F60:AJ60,\"休\")","v":"00:00:00"},null,"実績",null,null,null,null,null,null,null,null,null,null,null,null,null,null,null,null,null,null,null,null,null,null,null,null,null,null,null,null,null,null,null,null,null,{"$f":"IF(COUNTIFS(F57:AJ57,\">=\"&J$12,F57:AJ57,\"<=\"&R$12)=0,\"\",\nIF(COUNTIFS(F57:AJ57,\">=\"&J$12,F57:AJ57,\"<=\"&R$12)<>C58+COUNTIF(F60:AJ60,\"－\"),\"← 従事期間内で入力されていない日があります。確認してください。\",\"\"))","v":""}]
["判定",{"$f":"IF($R$12-$J$12+1>=28,IF(OR(B58=\"\",B58=0,B59=0),\"対象外\",\nIF(B60/B58<C$1,\"×\",\"○\")),\"対象外\")","v":"対象外"},{"$f":"IF($R$12-$J$12+1>=28,IF(OR(C58=\"\",C58=0,C59=0),\"対象外\",\nIF(C60/C58<C$1,\"×\",\"○\")),\"対象外\")","v":"対象外"},null,"備考"]
[]
["年月",{"$f":"IF(C63=\"\",\"\",IF(C56=12,B56+1,B56))","v":""},{"$f":"IF(C56=\"\",\"\",IF(DATE(IF(C56=12,B56+1,B56),IF(C56=12,1,C56+1),1)>R$5,\"\",IF(C56=12,1,C56+1)))","v":""},null,{"$f":"IF(C63=\"\",\"\",DATE(B63,C63,1))","v":""}]
[null,null,null,null,null,{"$f":"IF($B63=\"\",\"\",DATE($B63,$C63,1))","v":""},{"$f":"IF($B63=\"\",\"\",DATE($B63,$C63,2))","v":""},{"$f":"IF($B63=\"\",\"\",DATE($B63,$C63,3))","v":""},{"$f":"IF($B63=\"\",\"\",DATE($B63,$C63,4))","v":""},{"$f":"IF($B63=\"\",\"\",DATE($B63,$C63,5))","v":""},{"$f":"IF($B63=\"\",\"\",DATE($B63,$C63,6))","v":""},{"$f":"IF($B63=\"\",\"\",DATE($B63,$C63,7))","v":""},{"$f":"IF($B63=\"\",\"\",DATE($B63,$C63,8))","v":""},{"$f":"IF($B63=\"\",\"\",DATE($B63,$C63,9))","v":""},{"$f":"IF($B63=\"\",\"\",DATE($B63,$C63,10))","v":""},{"$f":"IF($B63=\"\",\"\",DATE($B63,$C63,11))","v":""},{"$f":"IF($B63=\"\",\"\",DATE($B63,$C63,12))","v":""},{"$f":"IF($B63=\"\",\"\",DATE($B63,$C63,13))","v":""},{"$f":"IF($B63=\"\",\"\",DATE($B63,$C63,14))","v":""},{"$f":"IF($B63=\"\",\"\",DATE($B63,$C63,15))","v":""},{"$f":"IF($B63=\"\",\"\",DATE($B63,$C63,16))","v":""},{"$f":"IF($B63=\"\",\"\",DATE($B63,$C63,17))","v":""},{"$f":"IF($B63=\"\",\"\",DATE($B63,$C63,18))","v":""},{"$f":"IF($B63=\"\",\"\",DATE($B63,$C63,19))","v":""},{"$f":"IF($B63=\"\",\"\",DATE($B63,$C63,20))","v":""},{"$f":"IF($B63=\"\",\"\",DATE($B63,$C63,21))","v":""},{"$f":"IF($B63=\"\",\"\",DATE($B63,$C63,22))","v":""},{"$f":"IF($B63=\"\",\"\",DATE($B63,$C63,23))","v":""},{"$f":"IF($B63=\"\",\"\",DATE($B63,$C63,24))","v":""},{"$f":"IF($B63=\"\",\"\",DATE($B63,$C63,25))","v":""},{"$f":"IF($B63=\"\",\"\",DATE($B63,$C63,26))","v":""},{"$f":"IF($B63=\"\",\"\",DATE($B63,$C63,27))","v":""},{"$f":"IF($B63=\"\",\"\",DATE($B63,$C63,28))","v":""},{"$f":"IF($B63=\"\",\"\",IF(MONTH(DATE($B63,$C63,29))=$C63,DATE($B63,$C63,29),\"\"))","v":""},{"$f":"IF($B63=\"\",\"\",IF(MONTH(DATE($B63,$C63,30))=$C63,DATE($B63,$C63,30),\"\"))","v":""},{"$f":"IF($B63=\"\",\"\",IF(MONTH(DATE($B63,$C63,31))=$C63,DATE($B63,$C63,31),\"\"))","v":""},"備考"]
["日数",{"$f":"IF(COUNTA(F66:AJ66)=0,0,\nCOUNTIFS(F64:AJ64,\">=\"&J$12,F64:AJ64,\"<=\"&R$12,F66:AJ66,\"出\")+COUNTIFS(F64:AJ64,\">=\"&J$12,F64:AJ64,\"<=\"&R$12,F66:AJ66,\"休\"))","v":0},{"$f":"IF(COUNTA(F67:AJ67)=0,0,\nCOUNTIFS(F64:AJ64,\">=\"&J$12,F64:AJ64,\"<=\"&R$12,F67:AJ67,\"出\")+COUNTIFS(F64:AJ64,\">=\"&J$12,F64:AJ64,\"<=\"&R$12,F67:AJ67,\"休\"))","v":0},null,null,{"$f":"IFERROR(IF(WEEKDAY(F64,1)=1,\"日\",IF(WEEKDAY(F64,1)=2,\"月\",IF(WEEKDAY(F64,1)=3,\"火\",IF(WEEKDAY(F64,1)=4,\"水\",IF(WEEKDAY(F64,1)=5,\"木\",IF(WEEKDAY(F64,1)=6,\"金\",\"土\")))))),\"\")","v":""},{"$f":"IFERROR(IF(WEEKDAY(G64,1)=1,\"日\",IF(WEEKDAY(G64,1)=2,\"月\",IF(WEEKDAY(G64,1)=3,\"火\",IF(WEEKDAY(G64,1)=4,\"水\",IF(WEEKDAY(G64,1)=5,\"木\",IF(WEEKDAY(G64,1)=6,\"金\",\"土\")))))),\"\")","v":""},"","","","","","",{"$f":"IFERROR(IF(WEEKDAY(N64,1)=1,\"日\",IF(WEEKDAY(N64,1)=2,\"月\",IF(WEEKDAY(N64,1)=3,\"火\",IF(WEEKDAY(N64,1)=4,\"水\",IF(WEEKDAY(N64,1)=5,\"木\",IF(WEEKDAY(N64,1)=6,\"金\",\"土\")))))),\"\")","v":""},{"$f":"IFERROR(IF(WEEKDAY(O64,1)=1,\"日\",IF(WEEKDAY(O64,1)=2,\"月\",IF(WEEKDAY(O64,1)=3,\"火\",IF(WEEKDAY(O64,1)=4,\"水\",IF(WEEKDAY(O64,1)=5,\"木\",IF(WEEKDAY(O64,1)=6,\"金\",\"土\")))))),\"\")","v":""},"","","","","","","","","","","","","","","","","","","","",""]
["期間内土日",{"$f":"COUNTIFS(F64:AJ64,\">=\"&J$12,F64:AJ64,\"<=\"&R$12,F65:AJ65,\"土\")+COUNTIFS(F64:AJ64,\">=\"&J$12,F64:AJ64,\"<=\"&R$12,F65:AJ65,\"日\")","v":0},{"$f":"B66","v":0},null,"計画",null,null,null,null,null,null,null,null,null,null,null,null,null,null,null,null,null,null,null,null,null,null,null,null,null,null,null,null,null,null,null,"出⇐勤務日、休⇐休日、－⇐対象外",null,{"$f":"IF(COUNTIFS(F64:AJ64,\">=\"&J$12,F64:AJ64,\"<=\"&R$12)=0,\"\",\nIF(COUNTIFS(F64:AJ64,\">=\"&J$12,F64:AJ64,\"<=\"&R$12)<>B65+COUNTIF(F66:AJ66,\"－\"),\"← 従事期間内で入力されていない日があります。確認してください。\",\"\"))","v":""}]
["休暇",{"$f":"COUNTIFS(F64:AJ64,\">=\"&J$12,F64:AJ64,\"<=\"&R$12,F66:AJ66,\"休\")","v":"00:00:00"},{"$f":"COUNTIFS(F64:AJ64,\">=\"&J$12,F64:AJ64,\"<=\"&R$12,F67:AJ67,\"休\")","v":"00:00:00"},null,"実績",null,null,null,null,null,null,null,null,null,null,null,null,null,null,null,null,null,null,null,null,null,null,null,null,null,null,null,null,null,null,null,null,null,{"$f":"IF(COUNTIFS(F64:AJ64,\">=\"&J$12,F64:AJ64,\"<=\"&R$12)=0,\"\",\nIF(COUNTIFS(F64:AJ64,\">=\"&J$12,F64:AJ64,\"<=\"&R$12)<>C65+COUNTIF(F67:AJ67,\"－\"),\"← 従事期間内で入力されていない日があります。確認してください。\",\"\"))","v":""}]
["判定",{"$f":"IF($R$12-$J$12+1>=28,IF(OR(B65=\"\",B65=0,B66=0),\"対象外\",\nIF(B67/B65<C$1,\"×\",\"○\")),\"対象外\")","v":"対象外"},{"$f":"IF($R$12-$J$12+1>=28,IF(OR(C65=\"\",C65=0,C66=0),\"対象外\",\nIF(C67/C65<C$1,\"×\",\"○\")),\"対象外\")","v":"対象外"},null,"備考"]
[]
["年月",{"$f":"IF(C70=\"\",\"\",IF(C63=12,B63+1,B63))","v":""},{"$f":"IF(C63=\"\",\"\",IF(DATE(IF(C63=12,B63+1,B63),IF(C63=12,1,C63+1),1)>R$5,\"\",IF(C63=12,1,C63+1)))","v":""},null,{"$f":"IF(C70=\"\",\"\",DATE(B70,C70,1))","v":""}]
[null,null,null,null,null,{"$f":"IF($B70=\"\",\"\",DATE($B70,$C70,1))","v":""},{"$f":"IF($B70=\"\",\"\",DATE($B70,$C70,2))","v":""},{"$f":"IF($B70=\"\",\"\",DATE($B70,$C70,3))","v":""},{"$f":"IF($B70=\"\",\"\",DATE($B70,$C70,4))","v":""},{"$f":"IF($B70=\"\",\"\",DATE($B70,$C70,5))","v":""},{"$f":"IF($B70=\"\",\"\",DATE($B70,$C70,6))","v":""},{"$f":"IF($B70=\"\",\"\",DATE($B70,$C70,7))","v":""},{"$f":"IF($B70=\"\",\"\",DATE($B70,$C70,8))","v":""},{"$f":"IF($B70=\"\",\"\",DATE($B70,$C70,9))","v":""},{"$f":"IF($B70=\"\",\"\",DATE($B70,$C70,10))","v":""},{"$f":"IF($B70=\"\",\"\",DATE($B70,$C70,11))","v":""},{"$f":"IF($B70=\"\",\"\",DATE($B70,$C70,12))","v":""},{"$f":"IF($B70=\"\",\"\",DATE($B70,$C70,13))","v":""},{"$f":"IF($B70=\"\",\"\",DATE($B70,$C70,14))","v":""},{"$f":"IF($B70=\"\",\"\",DATE($B70,$C70,15))","v":""},{"$f":"IF($B70=\"\",\"\",DATE($B70,$C70,16))","v":""},{"$f":"IF($B70=\"\",\"\",DATE($B70,$C70,17))","v":""},{"$f":"IF($B70=\"\",\"\",DATE($B70,$C70,18))","v":""},{"$f":"IF($B70=\"\",\"\",DATE($B70,$C70,19))","v":""},{"$f":"IF($B70=\"\",\"\",DATE($B70,$C70,20))","v":""},{"$f":"IF($B70=\"\",\"\",DATE($B70,$C70,21))","v":""},{"$f":"IF($B70=\"\",\"\",DATE($B70,$C70,22))","v":""},{"$f":"IF($B70=\"\",\"\",DATE($B70,$C70,23))","v":""},{"$f":"IF($B70=\"\",\"\",DATE($B70,$C70,24))","v":""},{"$f":"IF($B70=\"\",\"\",DATE($B70,$C70,25))","v":""},{"$f":"IF($B70=\"\",\"\",DATE($B70,$C70,26))","v":""},{"$f":"IF($B70=\"\",\"\",DATE($B70,$C70,27))","v":""},{"$f":"IF($B70=\"\",\"\",DATE($B70,$C70,28))","v":""},{"$f":"IF($B70=\"\",\"\",IF(MONTH(DATE($B70,$C70,29))=$C70,DATE($B70,$C70,29),\"\"))","v":""},{"$f":"IF($B70=\"\",\"\",IF(MONTH(DATE($B70,$C70,30))=$C70,DATE($B70,$C70,30),\"\"))","v":""},{"$f":"IF($B70=\"\",\"\",IF(MONTH(DATE($B70,$C70,31))=$C70,DATE($B70,$C70,31),\"\"))","v":""},"備考"]
["日数",{"$f":"IF(COUNTA(F73:AJ73)=0,0,\nCOUNTIFS(F71:AJ71,\">=\"&J$12,F71:AJ71,\"<=\"&R$12,F73:AJ73,\"出\")+COUNTIFS(F71:AJ71,\">=\"&J$12,F71:AJ71,\"<=\"&R$12,F73:AJ73,\"休\"))","v":0},{"$f":"IF(COUNTA(F74:AJ74)=0,0,\nCOUNTIFS(F71:AJ71,\">=\"&J$12,F71:AJ71,\"<=\"&R$12,F74:AJ74,\"出\")+COUNTIFS(F71:AJ71,\">=\"&J$12,F71:AJ71,\"<=\"&R$12,F74:AJ74,\"休\"))","v":0},null,null,{"$f":"IFERROR(IF(WEEKDAY(F71,1)=1,\"日\",IF(WEEKDAY(F71,1)=2,\"月\",IF(WEEKDAY(F71,1)=3,\"火\",IF(WEEKDAY(F71,1)=4,\"水\",IF(WEEKDAY(F71,1)=5,\"木\",IF(WEEKDAY(F71,1)=6,\"金\",\"土\")))))),\"\")","v":""},{"$f":"IFERROR(IF(WEEKDAY(G71,1)=1,\"日\",IF(WEEKDAY(G71,1)=2,\"月\",IF(WEEKDAY(G71,1)=3,\"火\",IF(WEEKDAY(G71,1)=4,\"水\",IF(WEEKDAY(G71,1)=5,\"木\",IF(WEEKDAY(G71,1)=6,\"金\",\"土\")))))),\"\")","v":""},"","","","","","",{"$f":"IFERROR(IF(WEEKDAY(N71,1)=1,\"日\",IF(WEEKDAY(N71,1)=2,\"月\",IF(WEEKDAY(N71,1)=3,\"火\",IF(WEEKDAY(N71,1)=4,\"水\",IF(WEEKDAY(N71,1)=5,\"木\",IF(WEEKDAY(N71,1)=6,\"金\",\"土\")))))),\"\")","v":""},{"$f":"IFERROR(IF(WEEKDAY(O71,1)=1,\"日\",IF(WEEKDAY(O71,1)=2,\"月\",IF(WEEKDAY(O71,1)=3,\"火\",IF(WEEKDAY(O71,1)=4,\"水\",IF(WEEKDAY(O71,1)=5,\"木\",IF(WEEKDAY(O71,1)=6,\"金\",\"土\")))))),\"\")","v":""},"","","","","","","","","","","","","","","","","","","","",""]
["期間内土日",{"$f":"COUNTIFS(F71:AJ71,\">=\"&J$12,F71:AJ71,\"<=\"&R$12,F72:AJ72,\"土\")+COUNTIFS(F71:AJ71,\">=\"&J$12,F71:AJ71,\"<=\"&R$12,F72:AJ72,\"日\")","v":0},{"$f":"B73","v":0},null,"計画",null,null,null,null,null,null,null,null,null,null,null,null,null,null,null,null,null,null,null,null,null,null,null,null,null,null,null,null,null,null,null,"出⇐勤務日、休⇐休日、－⇐対象外",null,{"$f":"IF(COUNTIFS(F71:AJ71,\">=\"&J$12,F71:AJ71,\"<=\"&R$12)=0,\"\",\nIF(COUNTIFS(F71:AJ71,\">=\"&J$12,F71:AJ71,\"<=\"&R$12)<>B72+COUNTIF(F73:AJ73,\"－\"),\"← 従事期間内で入力されていない日があります。確認してください。\",\"\"))","v":""}]
["休暇",{"$f":"COUNTIFS(F71:AJ71,\">=\"&J$12,F71:AJ71,\"<=\"&R$12,F73:AJ73,\"休\")","v":"00:00:00"},{"$f":"COUNTIFS(F71:AJ71,\">=\"&J$12,F71:AJ71,\"<=\"&R$12,F74:AJ74,\"休\")","v":"00:00:00"},null,"実績",null,null,null,null,null,null,null,null,null,null,null,null,null,null,null,null,null,null,null,null,null,null,null,null,null,null,null,null,null,null,null,null,null,{"$f":"IF(COUNTIFS(F71:AJ71,\">=\"&J$12,F71:AJ71,\"<=\"&R$12)=0,\"\",\nIF(COUNTIFS(F71:AJ71,\">=\"&J$12,F71:AJ71,\"<=\"&R$12)<>C72+COUNTIF(F74:AJ74,\"－\"),\"← 従事期間内で入力されていない日があります。確認してください。\",\"\"))","v":""}]
["判定",{"$f":"IF($R$12-$J$12+1>=28,IF(OR(B72=\"\",B72=0,B73=0),\"対象外\",\nIF(B74/B72<C$1,\"×\",\"○\")),\"対象外\")","v":"対象外"},{"$f":"IF($R$12-$J$12+1>=28,IF(OR(C72=\"\",C72=0,C73=0),\"対象外\",\nIF(C74/C72<C$1,\"×\",\"○\")),\"対象外\")","v":"対象外"},null,"備考"]
[]
["年月",{"$f":"IF(C77=\"\",\"\",IF(C70=12,B70+1,B70))","v":""},{"$f":"IF(C70=\"\",\"\",IF(DATE(IF(C70=12,B70+1,B70),IF(C70=12,1,C70+1),1)>R$5,\"\",IF(C70=12,1,C70+1)))","v":""},null,{"$f":"IF(C77=\"\",\"\",DATE(B77,C77,1))","v":""}]
[null,null,null,null,null,{"$f":"IF($B77=\"\",\"\",DATE($B77,$C77,1))","v":""},{"$f":"IF($B77=\"\",\"\",DATE($B77,$C77,2))","v":""},{"$f":"IF($B77=\"\",\"\",DATE($B77,$C77,3))","v":""},{"$f":"IF($B77=\"\",\"\",DATE($B77,$C77,4))","v":""},{"$f":"IF($B77=\"\",\"\",DATE($B77,$C77,5))","v":""},{"$f":"IF($B77=\"\",\"\",DATE($B77,$C77,6))","v":""},{"$f":"IF($B77=\"\",\"\",DATE($B77,$C77,7))","v":""},{"$f":"IF($B77=\"\",\"\",DATE($B77,$C77,8))","v":""},{"$f":"IF($B77=\"\",\"\",DATE($B77,$C77,9))","v":""},{"$f":"IF($B77=\"\",\"\",DATE($B77,$C77,10))","v":""},{"$f":"IF($B77=\"\",\"\",DATE($B77,$C77,11))","v":""},{"$f":"IF($B77=\"\",\"\",DATE($B77,$C77,12))","v":""},{"$f":"IF($B77=\"\",\"\",DATE($B77,$C77,13))","v":""},{"$f":"IF($B77=\"\",\"\",DATE($B77,$C77,14))","v":""},{"$f":"IF($B77=\"\",\"\",DATE($B77,$C77,15))","v":""},{"$f":"IF($B77=\"\",\"\",DATE($B77,$C77,16))","v":""},{"$f":"IF($B77=\"\",\"\",DATE($B77,$C77,17))","v":""},{"$f":"IF($B77=\"\",\"\",DATE($B77,$C77,18))","v":""},{"$f":"IF($B77=\"\",\"\",DATE($B77,$C77,19))","v":""},{"$f":"IF($B77=\"\",\"\",DATE($B77,$C77,20))","v":""},{"$f":"IF($B77=\"\",\"\",DATE($B77,$C77,21))","v":""},{"$f":"IF($B77=\"\",\"\",DATE($B77,$C77,22))","v":""},{"$f":"IF($B77=\"\",\"\",DATE($B77,$C77,23))","v":""},{"$f":"IF($B77=\"\",\"\",DATE($B77,$C77,24))","v":""},{"$f":"IF($B77=\"\",\"\",DATE($B77,$C77,25))","v":""},{"$f":"IF($B77=\"\",\"\",DATE($B77,$C77,26))","v":""},{"$f":"IF($B77=\"\",\"\",DATE($B77,$C77,27))","v":""},{"$f":"IF($B77=\"\",\"\",DATE($B77,$C77,28))","v":""},{"$f":"IF($B77=\"\",\"\",IF(MONTH(DATE($B77,$C77,29))=$C77,DATE($B77,$C77,29),\"\"))","v":""},{"$f":"IF($B77=\"\",\"\",IF(MONTH(DATE($B77,$C77,30))=$C77,DATE($B77,$C77,30),\"\"))","v":""},{"$f":"IF($B77=\"\",\"\",IF(MONTH(DATE($B77,$C77,31))=$C77,DATE($B77,$C77,31),\"\"))","v":""},"備考"]
["日数",{"$f":"IF(COUNTA(F80:AJ80)=0,0,\nCOUNTIFS(F78:AJ78,\">=\"&J$12,F78:AJ78,\"<=\"&R$12,F80:AJ80,\"出\")+COUNTIFS(F78:AJ78,\">=\"&J$12,F78:AJ78,\"<=\"&R$12,F80:AJ80,\"休\"))","v":0},{"$f":"IF(COUNTA(F81:AJ81)=0,0,\nCOUNTIFS(F78:AJ78,\">=\"&J$12,F78:AJ78,\"<=\"&R$12,F81:AJ81,\"出\")+COUNTIFS(F78:AJ78,\">=\"&J$12,F78:AJ78,\"<=\"&R$12,F81:AJ81,\"休\"))","v":0},null,null,{"$f":"IFERROR(IF(WEEKDAY(F78,1)=1,\"日\",IF(WEEKDAY(F78,1)=2,\"月\",IF(WEEKDAY(F78,1)=3,\"火\",IF(WEEKDAY(F78,1)=4,\"水\",IF(WEEKDAY(F78,1)=5,\"木\",IF(WEEKDAY(F78,1)=6,\"金\",\"土\")))))),\"\")","v":""},{"$f":"IFERROR(IF(WEEKDAY(G78,1)=1,\"日\",IF(WEEKDAY(G78,1)=2,\"月\",IF(WEEKDAY(G78,1)=3,\"火\",IF(WEEKDAY(G78,1)=4,\"水\",IF(WEEKDAY(G78,1)=5,\"木\",IF(WEEKDAY(G78,1)=6,\"金\",\"土\")))))),\"\")","v":""},"","","","","","",{"$f":"IFERROR(IF(WEEKDAY(N78,1)=1,\"日\",IF(WEEKDAY(N78,1)=2,\"月\",IF(WEEKDAY(N78,1)=3,\"火\",IF(WEEKDAY(N78,1)=4,\"水\",IF(WEEKDAY(N78,1)=5,\"木\",IF(WEEKDAY(N78,1)=6,\"金\",\"土\")))))),\"\")","v":""},{"$f":"IFERROR(IF(WEEKDAY(O78,1)=1,\"日\",IF(WEEKDAY(O78,1)=2,\"月\",IF(WEEKDAY(O78,1)=3,\"火\",IF(WEEKDAY(O78,1)=4,\"水\",IF(WEEKDAY(O78,1)=5,\"木\",IF(WEEKDAY(O78,1)=6,\"金\",\"土\")))))),\"\")","v":""},"","","","","","","","","","","","","","","","","","","","",""]
["期間内土日",{"$f":"COUNTIFS(F78:AJ78,\">=\"&J$12,F78:AJ78,\"<=\"&R$12,F79:AJ79,\"土\")+COUNTIFS(F78:AJ78,\">=\"&J$12,F78:AJ78,\"<=\"&R$12,F79:AJ79,\"日\")","v":0},{"$f":"B80","v":0},null,"計画",null,null,null,null,null,null,null,null,null,null,null,null,null,null,null,null,null,null,null,null,null,null,null,null,null,null,null,null,null,null,null,"出⇐勤務日、休⇐休日、－⇐対象外",null,{"$f":"IF(COUNTIFS(F78:AJ78,\">=\"&J$12,F78:AJ78,\"<=\"&R$12)=0,\"\",\nIF(COUNTIFS(F78:AJ78,\">=\"&J$12,F78:AJ78,\"<=\"&R$12)<>B79+COUNTIF(F80:AJ80,\"－\"),\"← 従事期間内で入力されていない日があります。確認してください。\",\"\"))","v":""}]
["休暇",{"$f":"COUNTIFS(F78:AJ78,\">=\"&J$12,F78:AJ78,\"<=\"&R$12,F80:AJ80,\"休\")","v":"00:00:00"},{"$f":"COUNTIFS(F78:AJ78,\">=\"&J$12,F78:AJ78,\"<=\"&R$12,F81:AJ81,\"休\")","v":"00:00:00"},null,"実績",null,null,null,null,null,null,null,null,null,null,null,null,null,null,null,null,null,null,null,null,null,null,null,null,null,null,null,null,null,null,null,null,null,{"$f":"IF(COUNTIFS(F78:AJ78,\">=\"&J$12,F78:AJ78,\"<=\"&R$12)=0,\"\",\nIF(COUNTIFS(F78:AJ78,\">=\"&J$12,F78:AJ78,\"<=\"&R$12)<>C79+COUNTIF(F81:AJ81,\"－\"),\"← 従事期間内で入力されていない日があります。確認してください。\",\"\"))","v":""}]
["判定",{"$f":"IF($R$12-$J$12+1>=28,IF(OR(B79=\"\",B79=0,B80=0),\"対象外\",\nIF(B81/B79<C$1,\"×\",\"○\")),\"対象外\")","v":"対象外"},{"$f":"IF($R$12-$J$12+1>=28,IF(OR(C79=\"\",C79=0,C80=0),\"対象外\",\nIF(C81/C79<C$1,\"×\",\"○\")),\"対象外\")","v":"対象外"},null,"備考"]
[]
["年月",{"$f":"IF(C84=\"\",\"\",IF(C77=12,B77+1,B77))","v":""},{"$f":"IF(C77=\"\",\"\",IF(DATE(IF(C77=12,B77+1,B77),IF(C77=12,1,C77+1),1)>R$5,\"\",IF(C77=12,1,C77+1)))","v":""},null,{"$f":"IF(C84=\"\",\"\",DATE(B84,C84,1))","v":""}]
[null,null,null,null,null,{"$f":"IF($B84=\"\",\"\",DATE($B84,$C84,1))","v":""},{"$f":"IF($B84=\"\",\"\",DATE($B84,$C84,2))","v":""},{"$f":"IF($B84=\"\",\"\",DATE($B84,$C84,3))","v":""},{"$f":"IF($B84=\"\",\"\",DATE($B84,$C84,4))","v":""},{"$f":"IF($B84=\"\",\"\",DATE($B84,$C84,5))","v":""},{"$f":"IF($B84=\"\",\"\",DATE($B84,$C84,6))","v":""},{"$f":"IF($B84=\"\",\"\",DATE($B84,$C84,7))","v":""},{"$f":"IF($B84=\"\",\"\",DATE($B84,$C84,8))","v":""},{"$f":"IF($B84=\"\",\"\",DATE($B84,$C84,9))","v":""},{"$f":"IF($B84=\"\",\"\",DATE($B84,$C84,10))","v":""},{"$f":"IF($B84=\"\",\"\",DATE($B84,$C84,11))","v":""},{"$f":"IF($B84=\"\",\"\",DATE($B84,$C84,12))","v":""},{"$f":"IF($B84=\"\",\"\",DATE($B84,$C84,13))","v":""},{"$f":"IF($B84=\"\",\"\",DATE($B84,$C84,14))","v":""},{"$f":"IF($B84=\"\",\"\",DATE($B84,$C84,15))","v":""},{"$f":"IF($B84=\"\",\"\",DATE($B84,$C84,16))","v":""},{"$f":"IF($B84=\"\",\"\",DATE($B84,$C84,17))","v":""},{"$f":"IF($B84=\"\",\"\",DATE($B84,$C84,18))","v":""},{"$f":"IF($B84=\"\",\"\",DATE($B84,$C84,19))","v":""},{"$f":"IF($B84=\"\",\"\",DATE($B84,$C84,20))","v":""},{"$f":"IF($B84=\"\",\"\",DATE($B84,$C84,21))","v":""},{"$f":"IF($B84=\"\",\"\",DATE($B84,$C84,22))","v":""},{"$f":"IF($B84=\"\",\"\",DATE($B84,$C84,23))","v":""},{"$f":"IF($B84=\"\",\"\",DATE($B84,$C84,24))","v":""},{"$f":"IF($B84=\"\",\"\",DATE($B84,$C84,25))","v":""},{"$f":"IF($B84=\"\",\"\",DATE($B84,$C84,26))","v":""},{"$f":"IF($B84=\"\",\"\",DATE($B84,$C84,27))","v":""},{"$f":"IF($B84=\"\",\"\",DATE($B84,$C84,28))","v":""},{"$f":"IF($B84=\"\",\"\",IF(MONTH(DATE($B84,$C84,29))=$C84,DATE($B84,$C84,29),\"\"))","v":""},{"$f":"IF($B84=\"\",\"\",IF(MONTH(DATE($B84,$C84,30))=$C84,DATE($B84,$C84,30),\"\"))","v":""},{"$f":"IF($B84=\"\",\"\",IF(MONTH(DATE($B84,$C84,31))=$C84,DATE($B84,$C84,31),\"\"))","v":""},"備考"]
["日数",{"$f":"IF(COUNTA(F87:AJ87)=0,0,\nCOUNTIFS(F85:AJ85,\">=\"&J$12,F85:AJ85,\"<=\"&R$12,F87:AJ87,\"出\")+COUNTIFS(F85:AJ85,\">=\"&J$12,F85:AJ85,\"<=\"&R$12,F87:AJ87,\"休\"))","v":0},{"$f":"IF(COUNTA(F88:AJ88)=0,0,\nCOUNTIFS(F85:AJ85,\">=\"&J$12,F85:AJ85,\"<=\"&R$12,F88:AJ88,\"出\")+COUNTIFS(F85:AJ85,\">=\"&J$12,F85:AJ85,\"<=\"&R$12,F88:AJ88,\"休\"))","v":0},null,null,{"$f":"IFERROR(IF(WEEKDAY(F85,1)=1,\"日\",IF(WEEKDAY(F85,1)=2,\"月\",IF(WEEKDAY(F85,1)=3,\"火\",IF(WEEKDAY(F85,1)=4,\"水\",IF(WEEKDAY(F85,1)=5,\"木\",IF(WEEKDAY(F85,1)=6,\"金\",\"土\")))))),\"\")","v":""},{"$f":"IFERROR(IF(WEEKDAY(G85,1)=1,\"日\",IF(WEEKDAY(G85,1)=2,\"月\",IF(WEEKDAY(G85,1)=3,\"火\",IF(WEEKDAY(G85,1)=4,\"水\",IF(WEEKDAY(G85,1)=5,\"木\",IF(WEEKDAY(G85,1)=6,\"金\",\"土\")))))),\"\")","v":""},"","","","","","",{"$f":"IFERROR(IF(WEEKDAY(N85,1)=1,\"日\",IF(WEEKDAY(N85,1)=2,\"月\",IF(WEEKDAY(N85,1)=3,\"火\",IF(WEEKDAY(N85,1)=4,\"水\",IF(WEEKDAY(N85,1)=5,\"木\",IF(WEEKDAY(N85,1)=6,\"金\",\"土\")))))),\"\")","v":""},{"$f":"IFERROR(IF(WEEKDAY(O85,1)=1,\"日\",IF(WEEKDAY(O85,1)=2,\"月\",IF(WEEKDAY(O85,1)=3,\"火\",IF(WEEKDAY(O85,1)=4,\"水\",IF(WEEKDAY(O85,1)=5,\"木\",IF(WEEKDAY(O85,1)=6,\"金\",\"土\")))))),\"\")","v":""},"","","","","","","","","","","","","","","","","","","","",""]
["期間内土日",{"$f":"COUNTIFS(F85:AJ85,\">=\"&J$12,F85:AJ85,\"<=\"&R$12,F86:AJ86,\"土\")+COUNTIFS(F85:AJ85,\">=\"&J$12,F85:AJ85,\"<=\"&R$12,F86:AJ86,\"日\")","v":0},{"$f":"B87","v":0},null,"計画",null,null,null,null,null,null,null,null,null,null,null,null,null,null,null,null,null,null,null,null,null,null,null,null,null,null,null,null,null,null,null,"出⇐勤務日、休⇐休日、－⇐対象外",null,{"$f":"IF(COUNTIFS(F85:AJ85,\">=\"&J$12,F85:AJ85,\"<=\"&R$12)=0,\"\",\nIF(COUNTIFS(F85:AJ85,\">=\"&J$12,F85:AJ85,\"<=\"&R$12)<>B86+COUNTIF(F87:AJ87,\"－\"),\"← 従事期間内で入力されていない日があります。確認してください。\",\"\"))","v":""}]
["休暇",{"$f":"COUNTIFS(F85:AJ85,\">=\"&J$12,F85:AJ85,\"<=\"&R$12,F87:AJ87,\"休\")","v":"00:00:00"},{"$f":"COUNTIFS(F85:AJ85,\">=\"&J$12,F85:AJ85,\"<=\"&R$12,F88:AJ88,\"休\")","v":"00:00:00"},null,"実績",null,null,null,null,null,null,null,null,null,null,null,null,null,null,null,null,null,null,null,null,null,null,null,null,null,null,null,null,null,null,null,null,null,{"$f":"IF(COUNTIFS(F85:AJ85,\">=\"&J$12,F85:AJ85,\"<=\"&R$12)=0,\"\",\nIF(COUNTIFS(F85:AJ85,\">=\"&J$12,F85:AJ85,\"<=\"&R$12)<>C86+COUNTIF(F88:AJ88,\"－\"),\"← 従事期間内で入力されていない日があります。確認してください。\",\"\"))","v":""}]
["判定",{"$f":"IF($R$12-$J$12+1>=28,IF(OR(B86=\"\",B86=0,B87=0),\"対象外\",\nIF(B88/B86<C$1,\"×\",\"○\")),\"対象外\")","v":"対象外"},{"$f":"IF($R$12-$J$12+1>=28,IF(OR(C86=\"\",C86=0,C87=0),\"対象外\",\nIF(C88/C86<C$1,\"×\",\"○\")),\"対象外\")","v":"対象外"},null,"備考"]
[]
["年月",{"$f":"IF(C91=\"\",\"\",IF(C84=12,B84+1,B84))","v":""},{"$f":"IF(C84=\"\",\"\",IF(DATE(IF(C84=12,B84+1,B84),IF(C84=12,1,C84+1),1)>R$5,\"\",IF(C84=12,1,C84+1)))","v":""},null,{"$f":"IF(C91=\"\",\"\",DATE(B91,C91,1))","v":""}]
[null,null,null,null,null,{"$f":"IF($B91=\"\",\"\",DATE($B91,$C91,1))","v":""},{"$f":"IF($B91=\"\",\"\",DATE($B91,$C91,2))","v":""},{"$f":"IF($B91=\"\",\"\",DATE($B91,$C91,3))","v":""},{"$f":"IF($B91=\"\",\"\",DATE($B91,$C91,4))","v":""},{"$f":"IF($B91=\"\",\"\",DATE($B91,$C91,5))","v":""},{"$f":"IF($B91=\"\",\"\",DATE($B91,$C91,6))","v":""},{"$f":"IF($B91=\"\",\"\",DATE($B91,$C91,7))","v":""},{"$f":"IF($B91=\"\",\"\",DATE($B91,$C91,8))","v":""},{"$f":"IF($B91=\"\",\"\",DATE($B91,$C91,9))","v":""},{"$f":"IF($B91=\"\",\"\",DATE($B91,$C91,10))","v":""},{"$f":"IF($B91=\"\",\"\",DATE($B91,$C91,11))","v":""},{"$f":"IF($B91=\"\",\"\",DATE($B91,$C91,12))","v":""},{"$f":"IF($B91=\"\",\"\",DATE($B91,$C91,13))","v":""},{"$f":"IF($B91=\"\",\"\",DATE($B91,$C91,14))","v":""},{"$f":"IF($B91=\"\",\"\",DATE($B91,$C91,15))","v":""},{"$f":"IF($B91=\"\",\"\",DATE($B91,$C91,16))","v":""},{"$f":"IF($B91=\"\",\"\",DATE($B91,$C91,17))","v":""},{"$f":"IF($B91=\"\",\"\",DATE($B91,$C91,18))","v":""},{"$f":"IF($B91=\"\",\"\",DATE($B91,$C91,19))","v":""},{"$f":"IF($B91=\"\",\"\",DATE($B91,$C91,20))","v":""},{"$f":"IF($B91=\"\",\"\",DATE($B91,$C91,21))","v":""},{"$f":"IF($B91=\"\",\"\",DATE($B91,$C91,22))","v":""},{"$f":"IF($B91=\"\",\"\",DATE($B91,$C91,23))","v":""},{"$f":"IF($B91=\"\",\"\",DATE($B91,$C91,24))","v":""},{"$f":"IF($B91=\"\",\"\",DATE($B91,$C91,25))","v":""},{"$f":"IF($B91=\"\",\"\",DATE($B91,$C91,26))","v":""},{"$f":"IF($B91=\"\",\"\",DATE($B91,$C91,27))","v":""},{"$f":"IF($B91=\"\",\"\",DATE($B91,$C91,28))","v":""},{"$f":"IF($B91=\"\",\"\",IF(MONTH(DATE($B91,$C91,29))=$C91,DATE($B91,$C91,29),\"\"))","v":""},{"$f":"IF($B91=\"\",\"\",IF(MONTH(DATE($B91,$C91,30))=$C91,DATE($B91,$C91,30),\"\"))","v":""},{"$f":"IF($B91=\"\",\"\",IF(MONTH(DATE($B91,$C91,31))=$C91,DATE($B91,$C91,31),\"\"))","v":""},"備考"]
["日数",{"$f":"IF(COUNTA(F94:AJ94)=0,0,\nCOUNTIFS(F92:AJ92,\">=\"&J$12,F92:AJ92,\"<=\"&R$12,F94:AJ94,\"出\")+COUNTIFS(F92:AJ92,\">=\"&J$12,F92:AJ92,\"<=\"&R$12,F94:AJ94,\"休\"))","v":0},{"$f":"IF(COUNTA(F95:AJ95)=0,0,\nCOUNTIFS(F92:AJ92,\">=\"&J$12,F92:AJ92,\"<=\"&R$12,F95:AJ95,\"出\")+COUNTIFS(F92:AJ92,\">=\"&J$12,F92:AJ92,\"<=\"&R$12,F95:AJ95,\"休\"))","v":0},null,null,{"$f":"IFERROR(IF(WEEKDAY(F92,1)=1,\"日\",IF(WEEKDAY(F92,1)=2,\"月\",IF(WEEKDAY(F92,1)=3,\"火\",IF(WEEKDAY(F92,1)=4,\"水\",IF(WEEKDAY(F92,1)=5,\"木\",IF(WEEKDAY(F92,1)=6,\"金\",\"土\")))))),\"\")","v":""},{"$f":"IFERROR(IF(WEEKDAY(G92,1)=1,\"日\",IF(WEEKDAY(G92,1)=2,\"月\",IF(WEEKDAY(G92,1)=3,\"火\",IF(WEEKDAY(G92,1)=4,\"水\",IF(WEEKDAY(G92,1)=5,\"木\",IF(WEEKDAY(G92,1)=6,\"金\",\"土\")))))),\"\")","v":""},"","","","","","",{"$f":"IFERROR(IF(WEEKDAY(N92,1)=1,\"日\",IF(WEEKDAY(N92,1)=2,\"月\",IF(WEEKDAY(N92,1)=3,\"火\",IF(WEEKDAY(N92,1)=4,\"水\",IF(WEEKDAY(N92,1)=5,\"木\",IF(WEEKDAY(N92,1)=6,\"金\",\"土\")))))),\"\")","v":""},{"$f":"IFERROR(IF(WEEKDAY(O92,1)=1,\"日\",IF(WEEKDAY(O92,1)=2,\"月\",IF(WEEKDAY(O92,1)=3,\"火\",IF(WEEKDAY(O92,1)=4,\"水\",IF(WEEKDAY(O92,1)=5,\"木\",IF(WEEKDAY(O92,1)=6,\"金\",\"土\")))))),\"\")","v":""},"","","","","","","","","","","","","","","","","","","","",""]
["期間内土日",{"$f":"COUNTIFS(F92:AJ92,\">=\"&J$12,F92:AJ92,\"<=\"&R$12,F93:AJ93,\"土\")+COUNTIFS(F92:AJ92,\">=\"&J$12,F92:AJ92,\"<=\"&R$12,F93:AJ93,\"日\")","v":0},{"$f":"B94","v":0},null,"計画",null,null,null,null,null,null,null,null,null,null,null,null,null,null,null,null,null,null,null,null,null,null,null,null,null,null,null,null,null,null,null,"出⇐勤務日、休⇐休日、－⇐対象外",null,{"$f":"IF(COUNTIFS(F92:AJ92,\">=\"&J$12,F92:AJ92,\"<=\"&R$12)=0,\"\",\nIF(COUNTIFS(F92:AJ92,\">=\"&J$12,F92:AJ92,\"<=\"&R$12)<>B93+COUNTIF(F94:AJ94,\"－\"),\"← 従事期間内で入力されていない日があります。確認してください。\",\"\"))","v":""}]
["休暇",{"$f":"COUNTIFS(F92:AJ92,\">=\"&J$12,F92:AJ92,\"<=\"&R$12,F94:AJ94,\"休\")","v":"00:00:00"},{"$f":"COUNTIFS(F92:AJ92,\">=\"&J$12,F92:AJ92,\"<=\"&R$12,F95:AJ95,\"休\")","v":"00:00:00"},null,"実績",null,null,null,null,null,null,null,null,null,null,null,null,null,null,null,null,null,null,null,null,null,null,null,null,null,null,null,null,null,null,null,null,null,{"$f":"IF(COUNTIFS(F92:AJ92,\">=\"&J$12,F92:AJ92,\"<=\"&R$12)=0,\"\",\nIF(COUNTIFS(F92:AJ92,\">=\"&J$12,F92:AJ92,\"<=\"&R$12)<>C93+COUNTIF(F95:AJ95,\"－\"),\"← 従事期間内で入力されていない日があります。確認してください。\",\"\"))","v":""}]
["判定",{"$f":"IF($R$12-$J$12+1>=28,IF(OR(B93=\"\",B93=0,B94=0),\"対象外\",\nIF(B95/B93<C$1,\"×\",\"○\")),\"対象外\")","v":"対象外"},{"$f":"IF($R$12-$J$12+1>=28,IF(OR(C93=\"\",C93=0,C94=0),\"対象外\",\nIF(C95/C93<C$1,\"×\",\"○\")),\"対象外\")","v":"対象外"},null,"備考"]
[]
["年月",{"$f":"IF(C98=\"\",\"\",IF(C91=12,B91+1,B91))","v":""},{"$f":"IF(C91=\"\",\"\",IF(DATE(IF(C91=12,B91+1,B91),IF(C91=12,1,C91+1),1)>R$5,\"\",IF(C91=12,1,C91+1)))","v":""},null,{"$f":"IF(C98=\"\",\"\",DATE(B98,C98,1))","v":""}]
[null,null,null,null,null,{"$f":"IF($B98=\"\",\"\",DATE($B98,$C98,1))","v":""},{"$f":"IF($B98=\"\",\"\",DATE($B98,$C98,2))","v":""},{"$f":"IF($B98=\"\",\"\",DATE($B98,$C98,3))","v":""},{"$f":"IF($B98=\"\",\"\",DATE($B98,$C98,4))","v":""},{"$f":"IF($B98=\"\",\"\",DATE($B98,$C98,5))","v":""},{"$f":"IF($B98=\"\",\"\",DATE($B98,$C98,6))","v":""},{"$f":"IF($B98=\"\",\"\",DATE($B98,$C98,7))","v":""},{"$f":"IF($B98=\"\",\"\",DATE($B98,$C98,8))","v":""},{"$f":"IF($B98=\"\",\"\",DATE($B98,$C98,9))","v":""},{"$f":"IF($B98=\"\",\"\",DATE($B98,$C98,10))","v":""},{"$f":"IF($B98=\"\",\"\",DATE($B98,$C98,11))","v":""},{"$f":"IF($B98=\"\",\"\",DATE($B98,$C98,12))","v":""},{"$f":"IF($B98=\"\",\"\",DATE($B98,$C98,13))","v":""},{"$f":"IF($B98=\"\",\"\",DATE($B98,$C98,14))","v":""},{"$f":"IF($B98=\"\",\"\",DATE($B98,$C98,15))","v":""},{"$f":"IF($B98=\"\",\"\",DATE($B98,$C98,16))","v":""},{"$f":"IF($B98=\"\",\"\",DATE($B98,$C98,17))","v":""},{"$f":"IF($B98=\"\",\"\",DATE($B98,$C98,18))","v":""},{"$f":"IF($B98=\"\",\"\",DATE($B98,$C98,19))","v":""},{"$f":"IF($B98=\"\",\"\",DATE($B98,$C98,20))","v":""},{"$f":"IF($B98=\"\",\"\",DATE($B98,$C98,21))","v":""},{"$f":"IF($B98=\"\",\"\",DATE($B98,$C98,22))","v":""},{"$f":"IF($B98=\"\",\"\",DATE($B98,$C98,23))","v":""},{"$f":"IF($B98=\"\",\"\",DATE($B98,$C98,24))","v":""},{"$f":"IF($B98=\"\",\"\",DATE($B98,$C98,25))","v":""},{"$f":"IF($B98=\"\",\"\",DATE($B98,$C98,26))","v":""},{"$f":"IF($B98=\"\",\"\",DATE($B98,$C98,27))","v":""},{"$f":"IF($B98=\"\",\"\",DATE($B98,$C98,28))","v":""},{"$f":"IF($B98=\"\",\"\",IF(MONTH(DATE($B98,$C98,29))=$C98,DATE($B98,$C98,29),\"\"))","v":""},{"$f":"IF($B98=\"\",\"\",IF(MONTH(DATE($B98,$C98,30))=$C98,DATE($B98,$C98,30),\"\"))","v":""},{"$f":"IF($B98=\"\",\"\",IF(MONTH(DATE($B98,$C98,31))=$C98,DATE($B98,$C98,31),\"\"))","v":""},"備考"]
["日数",{"$f":"IF(COUNTA(F101:AJ101)=0,0,\nCOUNTIFS(F99:AJ99,\">=\"&J$12,F99:AJ99,\"<=\"&R$12,F101:AJ101,\"出\")+COUNTIFS(F99:AJ99,\">=\"&J$12,F99:AJ99,\"<=\"&R$12,F101:AJ101,\"休\"))","v":0},{"$f":"IF(COUNTA(F102:AJ102)=0,0,\nCOUNTIFS(F99:AJ99,\">=\"&J$12,F99:AJ99,\"<=\"&R$12,F102:AJ102,\"出\")+COUNTIFS(F99:AJ99,\">=\"&J$12,F99:AJ99,\"<=\"&R$12,F102:AJ102,\"休\"))","v":0},null,null,{"$f":"IFERROR(IF(WEEKDAY(F99,1)=1,\"日\",IF(WEEKDAY(F99,1)=2,\"月\",IF(WEEKDAY(F99,1)=3,\"火\",IF(WEEKDAY(F99,1)=4,\"水\",IF(WEEKDAY(F99,1)=5,\"木\",IF(WEEKDAY(F99,1)=6,\"金\",\"土\")))))),\"\")","v":""},{"$f":"IFERROR(IF(WEEKDAY(G99,1)=1,\"日\",IF(WEEKDAY(G99,1)=2,\"月\",IF(WEEKDAY(G99,1)=3,\"火\",IF(WEEKDAY(G99,1)=4,\"水\",IF(WEEKDAY(G99,1)=5,\"木\",IF(WEEKDAY(G99,1)=6,\"金\",\"土\")))))),\"\")","v":""},"","","","","","",{"$f":"IFERROR(IF(WEEKDAY(N99,1)=1,\"日\",IF(WEEKDAY(N99,1)=2,\"月\",IF(WEEKDAY(N99,1)=3,\"火\",IF(WEEKDAY(N99,1)=4,\"水\",IF(WEEKDAY(N99,1)=5,\"木\",IF(WEEKDAY(N99,1)=6,\"金\",\"土\")))))),\"\")","v":""},{"$f":"IFERROR(IF(WEEKDAY(O99,1)=1,\"日\",IF(WEEKDAY(O99,1)=2,\"月\",IF(WEEKDAY(O99,1)=3,\"火\",IF(WEEKDAY(O99,1)=4,\"水\",IF(WEEKDAY(O99,1)=5,\"木\",IF(WEEKDAY(O99,1)=6,\"金\",\"土\")))))),\"\")","v":""},"","","","","","","","","","","","","","","","","","","","",""]
["期間内土日",{"$f":"COUNTIFS(F99:AJ99,\">=\"&J$12,F99:AJ99,\"<=\"&R$12,F100:AJ100,\"土\")+COUNTIFS(F99:AJ99,\">=\"&J$12,F99:AJ99,\"<=\"&R$12,F100:AJ100,\"日\")","v":0},{"$f":"B101","v":0},null,"計画",null,null,null,null,null,null,null,null,null,null,null,null,null,null,null,null,null,null,null,null,null,null,null,null,null,null,null,null,null,null,null,"出⇐勤務日、休⇐休日、－⇐対象外",null,{"$f":"IF(COUNTIFS(F99:AJ99,\">=\"&J$12,F99:AJ99,\"<=\"&R$12)=0,\"\",\nIF(COUNTIFS(F99:AJ99,\">=\"&J$12,F99:AJ99,\"<=\"&R$12)<>B100+COUNTIF(F101:AJ101,\"－\"),\"← 従事期間内で入力されていない日があります。確認してください。\",\"\"))","v":""}]
["休暇",{"$f":"COUNTIFS(F99:AJ99,\">=\"&J$12,F99:AJ99,\"<=\"&R$12,F101:AJ101,\"休\")","v":"00:00:00"},{"$f":"COUNTIFS(F99:AJ99,\">=\"&J$12,F99:AJ99,\"<=\"&R$12,F102:AJ102,\"休\")","v":"00:00:00"},null,"実績",null,null,null,null,null,null,null,null,null,null,null,null,null,null,null,null,null,null,null,null,null,null,null,null,null,null,null,null,null,null,null,null,null,{"$f":"IF(COUNTIFS(F99:AJ99,\">=\"&J$12,F99:AJ99,\"<=\"&R$12)=0,\"\",\nIF(COUNTIFS(F99:AJ99,\">=\"&J$12,F99:AJ99,\"<=\"&R$12)<>C100+COUNTIF(F102:AJ102,\"－\"),\"← 従事期間内で入力されていない日があります。確認してください。\",\"\"))","v":""}]
["判定",{"$f":"IF($R$12-$J$12+1>=28,IF(OR(B100=\"\",B100=0,B101=0),\"対象外\",\nIF(B102/B100<C$1,\"×\",\"○\")),\"対象外\")","v":"対象外"},{"$f":"IF($R$12-$J$12+1>=28,IF(OR(C100=\"\",C100=0,C101=0),\"対象外\",\nIF(C102/C100<C$1,\"×\",\"○\")),\"対象外\")","v":"対象外"},null,"備考"]
[]
["年月",{"$f":"IF(C105=\"\",\"\",IF(C98=12,B98+1,B98))","v":""},{"$f":"IF(C98=\"\",\"\",IF(DATE(IF(C98=12,B98+1,B98),IF(C98=12,1,C98+1),1)>R$5,\"\",IF(C98=12,1,C98+1)))","v":""},null,{"$f":"IF(C105=\"\",\"\",DATE(B105,C105,1))","v":""}]
[null,null,null,null,null,{"$f":"IF($B105=\"\",\"\",DATE($B105,$C105,1))","v":""},{"$f":"IF($B105=\"\",\"\",DATE($B105,$C105,2))","v":""},{"$f":"IF($B105=\"\",\"\",DATE($B105,$C105,3))","v":""},{"$f":"IF($B105=\"\",\"\",DATE($B105,$C105,4))","v":""},{"$f":"IF($B105=\"\",\"\",DATE($B105,$C105,5))","v":""},{"$f":"IF($B105=\"\",\"\",DATE($B105,$C105,6))","v":""},{"$f":"IF($B105=\"\",\"\",DATE($B105,$C105,7))","v":""},{"$f":"IF($B105=\"\",\"\",DATE($B105,$C105,8))","v":""},{"$f":"IF($B105=\"\",\"\",DATE($B105,$C105,9))","v":""},{"$f":"IF($B105=\"\",\"\",DATE($B105,$C105,10))","v":""},{"$f":"IF($B105=\"\",\"\",DATE($B105,$C105,11))","v":""},{"$f":"IF($B105=\"\",\"\",DATE($B105,$C105,12))","v":""},{"$f":"IF($B105=\"\",\"\",DATE($B105,$C105,13))","v":""},{"$f":"IF($B105=\"\",\"\",DATE($B105,$C105,14))","v":""},{"$f":"IF($B105=\"\",\"\",DATE($B105,$C105,15))","v":""},{"$f":"IF($B105=\"\",\"\",DATE($B105,$C105,16))","v":""},{"$f":"IF($B105=\"\",\"\",DATE($B105,$C105,17))","v":""},{"$f":"IF($B105=\"\",\"\",DATE($B105,$C105,18))","v":""},{"$f":"IF($B105=\"\",\"\",DATE($B105,$C105,19))","v":""},{"$f":"IF($B105=\"\",\"\",DATE($B105,$C105,20))","v":""},{"$f":"IF($B105=\"\",\"\",DATE($B105,$C105,21))","v":""},{"$f":"IF($B105=\"\",\"\",DATE($B105,$C105,22))","v":""},{"$f":"IF($B105=\"\",\"\",DATE($B105,$C105,23))","v":""},{"$f":"IF($B105=\"\",\"\",DATE($B105,$C105,24))","v":""},{"$f":"IF($B105=\"\",\"\",DATE($B105,$C105,25))","v":""},{"$f":"IF($B105=\"\",\"\",DATE($B105,$C105,26))","v":""},{"$f":"IF($B105=\"\",\"\",DATE($B105,$C105,27))","v":""},{"$f":"IF($B105=\"\",\"\",DATE($B105,$C105,28))","v":""},{"$f":"IF($B105=\"\",\"\",IF(MONTH(DATE($B105,$C105,29))=$C105,DATE($B105,$C105,29),\"\"))","v":""},{"$f":"IF($B105=\"\",\"\",IF(MONTH(DATE($B105,$C105,30))=$C105,DATE($B105,$C105,30),\"\"))","v":""},{"$f":"IF($B105=\"\",\"\",IF(MONTH(DATE($B105,$C105,31))=$C105,DATE($B105,$C105,31),\"\"))","v":""},"備考"]
["日数",{"$f":"IF(COUNTA(F108:AJ108)=0,0,\nCOUNTIFS(F106:AJ106,\">=\"&J$12,F106:AJ106,\"<=\"&R$12,F108:AJ108,\"出\")+COUNTIFS(F106:AJ106,\">=\"&J$12,F106:AJ106,\"<=\"&R$12,F108:AJ108,\"休\"))","v":0},{"$f":"IF(COUNTA(F109:AJ109)=0,0,\nCOUNTIFS(F106:AJ106,\">=\"&J$12,F106:AJ106,\"<=\"&R$12,F109:AJ109,\"出\")+COUNTIFS(F106:AJ106,\">=\"&J$12,F106:AJ106,\"<=\"&R$12,F109:AJ109,\"休\"))","v":0},null,null,{"$f":"IFERROR(IF(WEEKDAY(F106,1)=1,\"日\",IF(WEEKDAY(F106,1)=2,\"月\",IF(WEEKDAY(F106,1)=3,\"火\",IF(WEEKDAY(F106,1)=4,\"水\",IF(WEEKDAY(F106,1)=5,\"木\",IF(WEEKDAY(F106,1)=6,\"金\",\"土\")))))),\"\")","v":""},{"$f":"IFERROR(IF(WEEKDAY(G106,1)=1,\"日\",IF(WEEKDAY(G106,1)=2,\"月\",IF(WEEKDAY(G106,1)=3,\"火\",IF(WEEKDAY(G106,1)=4,\"水\",IF(WEEKDAY(G106,1)=5,\"木\",IF(WEEKDAY(G106,1)=6,\"金\",\"土\")))))),\"\")","v":""},"","","","","","",{"$f":"IFERROR(IF(WEEKDAY(N106,1)=1,\"日\",IF(WEEKDAY(N106,1)=2,\"月\",IF(WEEKDAY(N106,1)=3,\"火\",IF(WEEKDAY(N106,1)=4,\"水\",IF(WEEKDAY(N106,1)=5,\"木\",IF(WEEKDAY(N106,1)=6,\"金\",\"土\")))))),\"\")","v":""},{"$f":"IFERROR(IF(WEEKDAY(O106,1)=1,\"日\",IF(WEEKDAY(O106,1)=2,\"月\",IF(WEEKDAY(O106,1)=3,\"火\",IF(WEEKDAY(O106,1)=4,\"水\",IF(WEEKDAY(O106,1)=5,\"木\",IF(WEEKDAY(O106,1)=6,\"金\",\"土\")))))),\"\")","v":""},"","","","","","","","","","","","","","","","","","","","",""]
["期間内土日",{"$f":"COUNTIFS(F106:AJ106,\">=\"&J$12,F106:AJ106,\"<=\"&R$12,F107:AJ107,\"土\")+COUNTIFS(F106:AJ106,\">=\"&J$12,F106:AJ106,\"<=\"&R$12,F107:AJ107,\"日\")","v":0},{"$f":"B108","v":0},null,"計画",null,null,null,null,null,null,null,null,null,null,null,null,null,null,null,null,null,null,null,null,null,null,null,null,null,null,null,null,null,null,null,"出⇐勤務日、休⇐休日、－⇐対象外",null,{"$f":"IF(COUNTIFS(F106:AJ106,\">=\"&J$12,F106:AJ106,\"<=\"&R$12)=0,\"\",\nIF(COUNTIFS(F106:AJ106,\">=\"&J$12,F106:AJ106,\"<=\"&R$12)<>B107+COUNTIF(F108:AJ108,\"－\"),\"← 従事期間内で入力されていない日があります。確認してください。\",\"\"))","v":""}]
["休暇",{"$f":"COUNTIFS(F106:AJ106,\">=\"&J$12,F106:AJ106,\"<=\"&R$12,F108:AJ108,\"休\")","v":"00:00:00"},{"$f":"COUNTIFS(F106:AJ106,\">=\"&J$12,F106:AJ106,\"<=\"&R$12,F109:AJ109,\"休\")","v":"00:00:00"},null,"実績",null,null,null,null,null,null,null,null,null,null,null,null,null,null,null,null,null,null,null,null,null,null,null,null,null,null,null,null,null,null,null,null,null,{"$f":"IF(COUNTIFS(F106:AJ106,\">=\"&J$12,F106:AJ106,\"<=\"&R$12)=0,\"\",\nIF(COUNTIFS(F106:AJ106,\">=\"&J$12,F106:AJ106,\"<=\"&R$12)<>C107+COUNTIF(F109:AJ109,\"－\"),\"← 従事期間内で入力されていない日があります。確認してください。\",\"\"))","v":""}]
["判定",{"$f":"IF($R$12-$J$12+1>=28,IF(OR(B107=\"\",B107=0,B108=0),\"対象外\",\nIF(B109/B107<C$1,\"×\",\"○\")),\"対象外\")","v":"対象外"},{"$f":"IF($R$12-$J$12+1>=28,IF(OR(C107=\"\",C107=0,C108=0),\"対象外\",\nIF(C109/C107<C$1,\"×\",\"○\")),\"対象外\")","v":"対象外"},null,"備考"]
[]
["年月",{"$f":"IF(C112=\"\",\"\",IF(C105=12,B105+1,B105))","v":""},{"$f":"IF(C105=\"\",\"\",IF(DATE(IF(C105=12,B105+1,B105),IF(C105=12,1,C105+1),1)>R$5,\"\",IF(C105=12,1,C105+1)))","v":""},null,{"$f":"IF(C112=\"\",\"\",DATE(B112,C112,1))","v":""}]
[null,null,null,null,null,{"$f":"IF($B112=\"\",\"\",DATE($B112,$C112,1))","v":""},{"$f":"IF($B112=\"\",\"\",DATE($B112,$C112,2))","v":""},{"$f":"IF($B112=\"\",\"\",DATE($B112,$C112,3))","v":""},{"$f":"IF($B112=\"\",\"\",DATE($B112,$C112,4))","v":""},{"$f":"IF($B112=\"\",\"\",DATE($B112,$C112,5))","v":""},{"$f":"IF($B112=\"\",\"\",DATE($B112,$C112,6))","v":""},{"$f":"IF($B112=\"\",\"\",DATE($B112,$C112,7))","v":""},{"$f":"IF($B112=\"\",\"\",DATE($B112,$C112,8))","v":""},{"$f":"IF($B112=\"\",\"\",DATE($B112,$C112,9))","v":""},{"$f":"IF($B112=\"\",\"\",DATE($B112,$C112,10))","v":""},{"$f":"IF($B112=\"\",\"\",DATE($B112,$C112,11))","v":""},{"$f":"IF($B112=\"\",\"\",DATE($B112,$C112,12))","v":""},{"$f":"IF($B112=\"\",\"\",DATE($B112,$C112,13))","v":""},{"$f":"IF($B112=\"\",\"\",DATE($B112,$C112,14))","v":""},{"$f":"IF($B112=\"\",\"\",DATE($B112,$C112,15))","v":""},{"$f":"IF($B112=\"\",\"\",DATE($B112,$C112,16))","v":""},{"$f":"IF($B112=\"\",\"\",DATE($B112,$C112,17))","v":""},{"$f":"IF($B112=\"\",\"\",DATE($B112,$C112,18))","v":""},{"$f":"IF($B112=\"\",\"\",DATE($B112,$C112,19))","v":""},{"$f":"IF($B112=\"\",\"\",DATE($B112,$C112,20))","v":""},{"$f":"IF($B112=\"\",\"\",DATE($B112,$C112,21))","v":""},{"$f":"IF($B112=\"\",\"\",DATE($B112,$C112,22))","v":""},{"$f":"IF($B112=\"\",\"\",DATE($B112,$C112,23))","v":""},{"$f":"IF($B112=\"\",\"\",DATE($B112,$C112,24))","v":""},{"$f":"IF($B112=\"\",\"\",DATE($B112,$C112,25))","v":""},{"$f":"IF($B112=\"\",\"\",DATE($B112,$C112,26))","v":""},{"$f":"IF($B112=\"\",\"\",DATE($B112,$C112,27))","v":""},{"$f":"IF($B112=\"\",\"\",DATE($B112,$C112,28))","v":""},{"$f":"IF($B112=\"\",\"\",IF(MONTH(DATE($B112,$C112,29))=$C112,DATE($B112,$C112,29),\"\"))","v":""},{"$f":"IF($B112=\"\",\"\",IF(MONTH(DATE($B112,$C112,30))=$C112,DATE($B112,$C112,30),\"\"))","v":""},{"$f":"IF($B112=\"\",\"\",IF(MONTH(DATE($B112,$C112,31))=$C112,DATE($B112,$C112,31),\"\"))","v":""},"備考"]
["日数",{"$f":"IF(COUNTA(F115:AJ115)=0,0,\nCOUNTIFS(F113:AJ113,\">=\"&J$12,F113:AJ113,\"<=\"&R$12,F115:AJ115,\"出\")+COUNTIFS(F113:AJ113,\">=\"&J$12,F113:AJ113,\"<=\"&R$12,F115:AJ115,\"休\"))","v":0},{"$f":"IF(COUNTA(F116:AJ116)=0,0,\nCOUNTIFS(F113:AJ113,\">=\"&J$12,F113:AJ113,\"<=\"&R$12,F116:AJ116,\"出\")+COUNTIFS(F113:AJ113,\">=\"&J$12,F113:AJ113,\"<=\"&R$12,F116:AJ116,\"休\"))","v":0},null,null,{"$f":"IFERROR(IF(WEEKDAY(F113,1)=1,\"日\",IF(WEEKDAY(F113,1)=2,\"月\",IF(WEEKDAY(F113,1)=3,\"火\",IF(WEEKDAY(F113,1)=4,\"水\",IF(WEEKDAY(F113,1)=5,\"木\",IF(WEEKDAY(F113,1)=6,\"金\",\"土\")))))),\"\")","v":""},{"$f":"IFERROR(IF(WEEKDAY(G113,1)=1,\"日\",IF(WEEKDAY(G113,1)=2,\"月\",IF(WEEKDAY(G113,1)=3,\"火\",IF(WEEKDAY(G113,1)=4,\"水\",IF(WEEKDAY(G113,1)=5,\"木\",IF(WEEKDAY(G113,1)=6,\"金\",\"土\")))))),\"\")","v":""},"","","","","","",{"$f":"IFERROR(IF(WEEKDAY(N113,1)=1,\"日\",IF(WEEKDAY(N113,1)=2,\"月\",IF(WEEKDAY(N113,1)=3,\"火\",IF(WEEKDAY(N113,1)=4,\"水\",IF(WEEKDAY(N113,1)=5,\"木\",IF(WEEKDAY(N113,1)=6,\"金\",\"土\")))))),\"\")","v":""},{"$f":"IFERROR(IF(WEEKDAY(O113,1)=1,\"日\",IF(WEEKDAY(O113,1)=2,\"月\",IF(WEEKDAY(O113,1)=3,\"火\",IF(WEEKDAY(O113,1)=4,\"水\",IF(WEEKDAY(O113,1)=5,\"木\",IF(WEEKDAY(O113,1)=6,\"金\",\"土\")))))),\"\")","v":""},"","","","","","","","","","","","","","","","","","","","",""]
["期間内土日",{"$f":"COUNTIFS(F113:AJ113,\">=\"&J$12,F113:AJ113,\"<=\"&R$12,F114:AJ114,\"土\")+COUNTIFS(F113:AJ113,\">=\"&J$12,F113:AJ113,\"<=\"&R$12,F114:AJ114,\"日\")","v":0},{"$f":"B115","v":0},null,"計画",null,null,null,null,null,null,null,null,null,null,null,null,null,null,null,null,null,null,null,null,null,null,null,null,null,null,null,null,null,null,null,"出⇐勤務日、休⇐休日、－⇐対象外",null,{"$f":"IF(COUNTIFS(F113:AJ113,\">=\"&J$12,F113:AJ113,\"<=\"&R$12)=0,\"\",\nIF(COUNTIFS(F113:AJ113,\">=\"&J$12,F113:AJ113,\"<=\"&R$12)<>B114+COUNTIF(F115:AJ115,\"－\"),\"← 従事期間内で入力されていない日があります。確認してください。\",\"\"))","v":""}]
["休暇",{"$f":"COUNTIFS(F113:AJ113,\">=\"&J$12,F113:AJ113,\"<=\"&R$12,F115:AJ115,\"休\")","v":"00:00:00"},{"$f":"COUNTIFS(F113:AJ113,\">=\"&J$12,F113:AJ113,\"<=\"&R$12,F116:AJ116,\"休\")","v":"00:00:00"},null,"実績",null,null,null,null,null,null,null,null,null,null,null,null,null,null,null,null,null,null,null,null,null,null,null,null,null,null,null,null,null,null,null,null,null,{"$f":"IF(COUNTIFS(F113:AJ113,\">=\"&J$12,F113:AJ113,\"<=\"&R$12)=0,\"\",\nIF(COUNTIFS(F113:AJ113,\">=\"&J$12,F113:AJ113,\"<=\"&R$12)<>C114+COUNTIF(F116:AJ116,\"－\"),\"← 従事期間内で入力されていない日があります。確認してください。\",\"\"))","v":""}]
["判定",{"$f":"IF($R$12-$J$12+1>=28,IF(OR(B114=\"\",B114=0,B115=0),\"対象外\",\nIF(B116/B114<C$1,\"×\",\"○\")),\"対象外\")","v":"対象外"},{"$f":"IF($R$12-$J$12+1>=28,IF(OR(C114=\"\",C114=0,C115=0),\"対象外\",\nIF(C116/C114<C$1,\"×\",\"○\")),\"対象外\")","v":"対象外"},null,"備考"]
[]
["年月",{"$f":"IF(C119=\"\",\"\",IF(C112=12,B112+1,B112))","v":""},{"$f":"IF(C112=\"\",\"\",IF(DATE(IF(C112=12,B112+1,B112),IF(C112=12,1,C112+1),1)>R$5,\"\",IF(C112=12,1,C112+1)))","v":""},null,{"$f":"IF(C119=\"\",\"\",DATE(B119,C119,1))","v":""}]
[null,null,null,null,null,{"$f":"IF($B119=\"\",\"\",DATE($B119,$C119,1))","v":""},{"$f":"IF($B119=\"\",\"\",DATE($B119,$C119,2))","v":""},{"$f":"IF($B119=\"\",\"\",DATE($B119,$C119,3))","v":""},{"$f":"IF($B119=\"\",\"\",DATE($B119,$C119,4))","v":""},{"$f":"IF($B119=\"\",\"\",DATE($B119,$C119,5))","v":""},{"$f":"IF($B119=\"\",\"\",DATE($B119,$C119,6))","v":""},{"$f":"IF($B119=\"\",\"\",DATE($B119,$C119,7))","v":""},{"$f":"IF($B119=\"\",\"\",DATE($B119,$C119,8))","v":""},{"$f":"IF($B119=\"\",\"\",DATE($B119,$C119,9))","v":""},{"$f":"IF($B119=\"\",\"\",DATE($B119,$C119,10))","v":""},{"$f":"IF($B119=\"\",\"\",DATE($B119,$C119,11))","v":""},{"$f":"IF($B119=\"\",\"\",DATE($B119,$C119,12))","v":""},{"$f":"IF($B119=\"\",\"\",DATE($B119,$C119,13))","v":""},{"$f":"IF($B119=\"\",\"\",DATE($B119,$C119,14))","v":""},{"$f":"IF($B119=\"\",\"\",DATE($B119,$C119,15))","v":""},{"$f":"IF($B119=\"\",\"\",DATE($B119,$C119,16))","v":""},{"$f":"IF($B119=\"\",\"\",DATE($B119,$C119,17))","v":""},{"$f":"IF($B119=\"\",\"\",DATE($B119,$C119,18))","v":""},{"$f":"IF($B119=\"\",\"\",DATE($B119,$C119,19))","v":""},{"$f":"IF($B119=\"\",\"\",DATE($B119,$C119,20))","v":""},{"$f":"IF($B119=\"\",\"\",DATE($B119,$C119,21))","v":""},{"$f":"IF($B119=\"\",\"\",DATE($B119,$C119,22))","v":""},{"$f":"IF($B119=\"\",\"\",DATE($B119,$C119,23))","v":""},{"$f":"IF($B119=\"\",\"\",DATE($B119,$C119,24))","v":""},{"$f":"IF($B119=\"\",\"\",DATE($B119,$C119,25))","v":""},{"$f":"IF($B119=\"\",\"\",DATE($B119,$C119,26))","v":""},{"$f":"IF($B119=\"\",\"\",DATE($B119,$C119,27))","v":""},{"$f":"IF($B119=\"\",\"\",DATE($B119,$C119,28))","v":""},{"$f":"IF($B119=\"\",\"\",IF(MONTH(DATE($B119,$C119,29))=$C119,DATE($B119,$C119,29),\"\"))","v":""},{"$f":"IF($B119=\"\",\"\",IF(MONTH(DATE($B119,$C119,30))=$C119,DATE($B119,$C119,30),\"\"))","v":""},{"$f":"IF($B119=\"\",\"\",IF(MONTH(DATE($B119,$C119,31))=$C119,DATE($B119,$C119,31),\"\"))","v":""},"備考"]
["日数",{"$f":"IF(COUNTA(F122:AJ122)=0,0,\nCOUNTIFS(F120:AJ120,\">=\"&J$12,F120:AJ120,\"<=\"&R$12,F122:AJ122,\"出\")+COUNTIFS(F120:AJ120,\">=\"&J$12,F120:AJ120,\"<=\"&R$12,F122:AJ122,\"休\"))","v":0},{"$f":"IF(COUNTA(F123:AJ123)=0,0,\nCOUNTIFS(F120:AJ120,\">=\"&J$12,F120:AJ120,\"<=\"&R$12,F123:AJ123,\"出\")+COUNTIFS(F120:AJ120,\">=\"&J$12,F120:AJ120,\"<=\"&R$12,F123:AJ123,\"休\"))","v":0},null,null,{"$f":"IFERROR(IF(WEEKDAY(F120,1)=1,\"日\",IF(WEEKDAY(F120,1)=2,\"月\",IF(WEEKDAY(F120,1)=3,\"火\",IF(WEEKDAY(F120,1)=4,\"水\",IF(WEEKDAY(F120,1)=5,\"木\",IF(WEEKDAY(F120,1)=6,\"金\",\"土\")))))),\"\")","v":""},{"$f":"IFERROR(IF(WEEKDAY(G120,1)=1,\"日\",IF(WEEKDAY(G120,1)=2,\"月\",IF(WEEKDAY(G120,1)=3,\"火\",IF(WEEKDAY(G120,1)=4,\"水\",IF(WEEKDAY(G120,1)=5,\"木\",IF(WEEKDAY(G120,1)=6,\"金\",\"土\")))))),\"\")","v":""},"","","","","","",{"$f":"IFERROR(IF(WEEKDAY(N120,1)=1,\"日\",IF(WEEKDAY(N120,1)=2,\"月\",IF(WEEKDAY(N120,1)=3,\"火\",IF(WEEKDAY(N120,1)=4,\"水\",IF(WEEKDAY(N120,1)=5,\"木\",IF(WEEKDAY(N120,1)=6,\"金\",\"土\")))))),\"\")","v":""},{"$f":"IFERROR(IF(WEEKDAY(O120,1)=1,\"日\",IF(WEEKDAY(O120,1)=2,\"月\",IF(WEEKDAY(O120,1)=3,\"火\",IF(WEEKDAY(O120,1)=4,\"水\",IF(WEEKDAY(O120,1)=5,\"木\",IF(WEEKDAY(O120,1)=6,\"金\",\"土\")))))),\"\")","v":""},"","","","","","","","","","","","","","","","","","","","",""]
["期間内土日",{"$f":"COUNTIFS(F120:AJ120,\">=\"&J$12,F120:AJ120,\"<=\"&R$12,F121:AJ121,\"土\")+COUNTIFS(F120:AJ120,\">=\"&J$12,F120:AJ120,\"<=\"&R$12,F121:AJ121,\"日\")","v":0},{"$f":"B122","v":0},null,"計画",null,null,null,null,null,null,null,null,null,null,null,null,null,null,null,null,null,null,null,null,null,null,null,null,null,null,null,null,null,null,null,"出⇐勤務日、休⇐休日、－⇐対象外",null,{"$f":"IF(COUNTIFS(F120:AJ120,\">=\"&J$12,F120:AJ120,\"<=\"&R$12)=0,\"\",\nIF(COUNTIFS(F120:AJ120,\">=\"&J$12,F120:AJ120,\"<=\"&R$12)<>B121+COUNTIF(F122:AJ122,\"－\"),\"← 従事期間内で入力されていない日があります。確認してください。\",\"\"))","v":""}]
["休暇",{"$f":"COUNTIFS(F120:AJ120,\">=\"&J$12,F120:AJ120,\"<=\"&R$12,F122:AJ122,\"休\")","v":"00:00:00"},{"$f":"COUNTIFS(F120:AJ120,\">=\"&J$12,F120:AJ120,\"<=\"&R$12,F123:AJ123,\"休\")","v":"00:00:00"},null,"実績",null,null,null,null,null,null,null,null,null,null,null,null,null,null,null,null,null,null,null,null,null,null,null,null,null,null,null,null,null,null,null,null,null,{"$f":"IF(COUNTIFS(F120:AJ120,\">=\"&J$12,F120:AJ120,\"<=\"&R$12)=0,\"\",\nIF(COUNTIFS(F120:AJ120,\">=\"&J$12,F120:AJ120,\"<=\"&R$12)<>C121+COUNTIF(F123:AJ123,\"－\"),\"← 従事期間内で入力されていない日があります。確認してください。\",\"\"))","v":""}]
["判定",{"$f":"IF($R$12-$J$12+1>=28,IF(OR(B121=\"\",B121=0,B122=0),\"対象外\",\nIF(B123/B121<C$1,\"×\",\"○\")),\"対象外\")","v":"対象外"},{"$f":"IF($R$12-$J$12+1>=28,IF(OR(C121=\"\",C121=0,C122=0),\"対象外\",\nIF(C123/C121<C$1,\"×\",\"○\")),\"対象外\")","v":"対象外"},null,"備考"]
[]
["年月",{"$f":"IF(C126=\"\",\"\",IF(C119=12,B119+1,B119))","v":""},{"$f":"IF(C119=\"\",\"\",IF(DATE(IF(C119=12,B119+1,B119),IF(C119=12,1,C119+1),1)>R$5,\"\",IF(C119=12,1,C119+1)))","v":""},null,{"$f":"IF(C126=\"\",\"\",DATE(B126,C126,1))","v":""}]
[null,null,null,null,null,{"$f":"IF($B126=\"\",\"\",DATE($B126,$C126,1))","v":""},{"$f":"IF($B126=\"\",\"\",DATE($B126,$C126,2))","v":""},{"$f":"IF($B126=\"\",\"\",DATE($B126,$C126,3))","v":""},{"$f":"IF($B126=\"\",\"\",DATE($B126,$C126,4))","v":""},{"$f":"IF($B126=\"\",\"\",DATE($B126,$C126,5))","v":""},{"$f":"IF($B126=\"\",\"\",DATE($B126,$C126,6))","v":""},{"$f":"IF($B126=\"\",\"\",DATE($B126,$C126,7))","v":""},{"$f":"IF($B126=\"\",\"\",DATE($B126,$C126,8))","v":""},{"$f":"IF($B126=\"\",\"\",DATE($B126,$C126,9))","v":""},{"$f":"IF($B126=\"\",\"\",DATE($B126,$C126,10))","v":""},{"$f":"IF($B126=\"\",\"\",DATE($B126,$C126,11))","v":""},{"$f":"IF($B126=\"\",\"\",DATE($B126,$C126,12))","v":""},{"$f":"IF($B126=\"\",\"\",DATE($B126,$C126,13))","v":""},{"$f":"IF($B126=\"\",\"\",DATE($B126,$C126,14))","v":""},{"$f":"IF($B126=\"\",\"\",DATE($B126,$C126,15))","v":""},{"$f":"IF($B126=\"\",\"\",DATE($B126,$C126,16))","v":""},{"$f":"IF($B126=\"\",\"\",DATE($B126,$C126,17))","v":""},{"$f":"IF($B126=\"\",\"\",DATE($B126,$C126,18))","v":""},{"$f":"IF($B126=\"\",\"\",DATE($B126,$C126,19))","v":""},{"$f":"IF($B126=\"\",\"\",DATE($B126,$C126,20))","v":""},{"$f":"IF($B126=\"\",\"\",DATE($B126,$C126,21))","v":""},{"$f":"IF($B126=\"\",\"\",DATE($B126,$C126,22))","v":""},{"$f":"IF($B126=\"\",\"\",DATE($B126,$C126,23))","v":""},{"$f":"IF($B126=\"\",\"\",DATE($B126,$C126,24))","v":""},{"$f":"IF($B126=\"\",\"\",DATE($B126,$C126,25))","v":""},{"$f":"IF($B126=\"\",\"\",DATE($B126,$C126,26))","v":""},{"$f":"IF($B126=\"\",\"\",DATE($B126,$C126,27))","v":""},{"$f":"IF($B126=\"\",\"\",DATE($B126,$C126,28))","v":""},{"$f":"IF($B126=\"\",\"\",IF(MONTH(DATE($B126,$C126,29))=$C126,DATE($B126,$C126,29),\"\"))","v":""},{"$f":"IF($B126=\"\",\"\",IF(MONTH(DATE($B126,$C126,30))=$C126,DATE($B126,$C126,30),\"\"))","v":""},{"$f":"IF($B126=\"\",\"\",IF(MONTH(DATE($B126,$C126,31))=$C126,DATE($B126,$C126,31),\"\"))","v":""},"備考"]
["日数",{"$f":"IF(COUNTA(F129:AJ129)=0,0,\nCOUNTIFS(F127:AJ127,\">=\"&J$12,F127:AJ127,\"<=\"&R$12,F129:AJ129,\"出\")+COUNTIFS(F127:AJ127,\">=\"&J$12,F127:AJ127,\"<=\"&R$12,F129:AJ129,\"休\"))","v":0},{"$f":"IF(COUNTA(F130:AJ130)=0,0,\nCOUNTIFS(F127:AJ127,\">=\"&J$12,F127:AJ127,\"<=\"&R$12,F130:AJ130,\"出\")+COUNTIFS(F127:AJ127,\">=\"&J$12,F127:AJ127,\"<=\"&R$12,F130:AJ130,\"休\"))","v":0},null,null,{"$f":"IFERROR(IF(WEEKDAY(F127,1)=1,\"日\",IF(WEEKDAY(F127,1)=2,\"月\",IF(WEEKDAY(F127,1)=3,\"火\",IF(WEEKDAY(F127,1)=4,\"水\",IF(WEEKDAY(F127,1)=5,\"木\",IF(WEEKDAY(F127,1)=6,\"金\",\"土\")))))),\"\")","v":""},{"$f":"IFERROR(IF(WEEKDAY(G127,1)=1,\"日\",IF(WEEKDAY(G127,1)=2,\"月\",IF(WEEKDAY(G127,1)=3,\"火\",IF(WEEKDAY(G127,1)=4,\"水\",IF(WEEKDAY(G127,1)=5,\"木\",IF(WEEKDAY(G127,1)=6,\"金\",\"土\")))))),\"\")","v":""},"","","","","","",{"$f":"IFERROR(IF(WEEKDAY(N127,1)=1,\"日\",IF(WEEKDAY(N127,1)=2,\"月\",IF(WEEKDAY(N127,1)=3,\"火\",IF(WEEKDAY(N127,1)=4,\"水\",IF(WEEKDAY(N127,1)=5,\"木\",IF(WEEKDAY(N127,1)=6,\"金\",\"土\")))))),\"\")","v":""},{"$f":"IFERROR(IF(WEEKDAY(O127,1)=1,\"日\",IF(WEEKDAY(O127,1)=2,\"月\",IF(WEEKDAY(O127,1)=3,\"火\",IF(WEEKDAY(O127,1)=4,\"水\",IF(WEEKDAY(O127,1)=5,\"木\",IF(WEEKDAY(O127,1)=6,\"金\",\"土\")))))),\"\")","v":""},"","","","","","","","","","","","","","","","","","","","",""]
["期間内土日",{"$f":"COUNTIFS(F127:AJ127,\">=\"&J$12,F127:AJ127,\"<=\"&R$12,F128:AJ128,\"土\")+COUNTIFS(F127:AJ127,\">=\"&J$12,F127:AJ127,\"<=\"&R$12,F128:AJ128,\"日\")","v":0},{"$f":"B129","v":0},null,"計画",null,null,null,null,null,null,null,null,null,null,null,null,null,null,null,null,null,null,null,null,null,null,null,null,null,null,null,null,null,null,null,"出⇐勤務日、休⇐休日、－⇐対象外",null,{"$f":"IF(COUNTIFS(F127:AJ127,\">=\"&J$12,F127:AJ127,\"<=\"&R$12)=0,\"\",\nIF(COUNTIFS(F127:AJ127,\">=\"&J$12,F127:AJ127,\"<=\"&R$12)<>B128+COUNTIF(F129:AJ129,\"－\"),\"← 従事期間内で入力されていない日があります。確認してください。\",\"\"))","v":""}]
["休暇",{"$f":"COUNTIFS(F127:AJ127,\">=\"&J$12,F127:AJ127,\"<=\"&R$12,F129:AJ129,\"休\")","v":"00:00:00"},{"$f":"COUNTIFS(F127:AJ127,\">=\"&J$12,F127:AJ127,\"<=\"&R$12,F130:AJ130,\"休\")","v":"00:00:00"},null,"実績",null,null,null,null,null,null,null,null,null,null,null,null,null,null,null,null,null,null,null,null,null,null,null,null,null,null,null,null,null,null,null,null,null,{"$f":"IF(COUNTIFS(F127:AJ127,\">=\"&J$12,F127:AJ127,\"<=\"&R$12)=0,\"\",\nIF(COUNTIFS(F127:AJ127,\">=\"&J$12,F127:AJ127,\"<=\"&R$12)<>C128+COUNTIF(F130:AJ130,\"－\"),\"← 従事期間内で入力されていない日があります。確認してください。\",\"\"))","v":""}]
["判定",{"$f":"IF($R$12-$J$12+1>=28,IF(OR(B128=\"\",B128=0,B129=0),\"対象外\",\nIF(B130/B128<C$1,\"×\",\"○\")),\"対象外\")","v":"対象外"},{"$f":"IF($R$12-$J$12+1>=28,IF(OR(C128=\"\",C128=0,C129=0),\"対象外\",\nIF(C130/C128<C$1,\"×\",\"○\")),\"対象外\")","v":"対象外"},null,"備考"]
[]
["年月",{"$f":"IF(C133=\"\",\"\",IF(C126=12,B126+1,B126))","v":""},{"$f":"IF(C126=\"\",\"\",IF(DATE(IF(C126=12,B126+1,B126),IF(C126=12,1,C126+1),1)>R$5,\"\",IF(C126=12,1,C126+1)))","v":""},null,{"$f":"IF(C133=\"\",\"\",DATE(B133,C133,1))","v":""}]
[null,null,null,null,null,{"$f":"IF($B133=\"\",\"\",DATE($B133,$C133,1))","v":""},{"$f":"IF($B133=\"\",\"\",DATE($B133,$C133,2))","v":""},{"$f":"IF($B133=\"\",\"\",DATE($B133,$C133,3))","v":""},{"$f":"IF($B133=\"\",\"\",DATE($B133,$C133,4))","v":""},{"$f":"IF($B133=\"\",\"\",DATE($B133,$C133,5))","v":""},{"$f":"IF($B133=\"\",\"\",DATE($B133,$C133,6))","v":""},{"$f":"IF($B133=\"\",\"\",DATE($B133,$C133,7))","v":""},{"$f":"IF($B133=\"\",\"\",DATE($B133,$C133,8))","v":""},{"$f":"IF($B133=\"\",\"\",DATE($B133,$C133,9))","v":""},{"$f":"IF($B133=\"\",\"\",DATE($B133,$C133,10))","v":""},{"$f":"IF($B133=\"\",\"\",DATE($B133,$C133,11))","v":""},{"$f":"IF($B133=\"\",\"\",DATE($B133,$C133,12))","v":""},{"$f":"IF($B133=\"\",\"\",DATE($B133,$C133,13))","v":""},{"$f":"IF($B133=\"\",\"\",DATE($B133,$C133,14))","v":""},{"$f":"IF($B133=\"\",\"\",DATE($B133,$C133,15))","v":""},{"$f":"IF($B133=\"\",\"\",DATE($B133,$C133,16))","v":""},{"$f":"IF($B133=\"\",\"\",DATE($B133,$C133,17))","v":""},{"$f":"IF($B133=\"\",\"\",DATE($B133,$C133,18))","v":""},{"$f":"IF($B133=\"\",\"\",DATE($B133,$C133,19))","v":""},{"$f":"IF($B133=\"\",\"\",DATE($B133,$C133,20))","v":""},{"$f":"IF($B133=\"\",\"\",DATE($B133,$C133,21))","v":""},{"$f":"IF($B133=\"\",\"\",DATE($B133,$C133,22))","v":""},{"$f":"IF($B133=\"\",\"\",DATE($B133,$C133,23))","v":""},{"$f":"IF($B133=\"\",\"\",DATE($B133,$C133,24))","v":""},{"$f":"IF($B133=\"\",\"\",DATE($B133,$C133,25))","v":""},{"$f":"IF($B133=\"\",\"\",DATE($B133,$C133,26))","v":""},{"$f":"IF($B133=\"\",\"\",DATE($B133,$C133,27))","v":""},{"$f":"IF($B133=\"\",\"\",DATE($B133,$C133,28))","v":""},{"$f":"IF($B133=\"\",\"\",IF(MONTH(DATE($B133,$C133,29))=$C133,DATE($B133,$C133,29),\"\"))","v":""},{"$f":"IF($B133=\"\",\"\",IF(MONTH(DATE($B133,$C133,30))=$C133,DATE($B133,$C133,30),\"\"))","v":""},{"$f":"IF($B133=\"\",\"\",IF(MONTH(DATE($B133,$C133,31))=$C133,DATE($B133,$C133,31),\"\"))","v":""},"備考"]
["日数",{"$f":"IF(COUNTA(F136:AJ136)=0,0,\nCOUNTIFS(F134:AJ134,\">=\"&J$12,F134:AJ134,\"<=\"&R$12,F136:AJ136,\"出\")+COUNTIFS(F134:AJ134,\">=\"&J$12,F134:AJ134,\"<=\"&R$12,F136:AJ136,\"休\"))","v":0},{"$f":"IF(COUNTA(F137:AJ137)=0,0,\nCOUNTIFS(F134:AJ134,\">=\"&J$12,F134:AJ134,\"<=\"&R$12,F137:AJ137,\"出\")+COUNTIFS(F134:AJ134,\">=\"&J$12,F134:AJ134,\"<=\"&R$12,F137:AJ137,\"休\"))","v":0},null,null,{"$f":"IFERROR(IF(WEEKDAY(F134,1)=1,\"日\",IF(WEEKDAY(F134,1)=2,\"月\",IF(WEEKDAY(F134,1)=3,\"火\",IF(WEEKDAY(F134,1)=4,\"水\",IF(WEEKDAY(F134,1)=5,\"木\",IF(WEEKDAY(F134,1)=6,\"金\",\"土\")))))),\"\")","v":""},{"$f":"IFERROR(IF(WEEKDAY(G134,1)=1,\"日\",IF(WEEKDAY(G134,1)=2,\"月\",IF(WEEKDAY(G134,1)=3,\"火\",IF(WEEKDAY(G134,1)=4,\"水\",IF(WEEKDAY(G134,1)=5,\"木\",IF(WEEKDAY(G134,1)=6,\"金\",\"土\")))))),\"\")","v":""},"","","","","","",{"$f":"IFERROR(IF(WEEKDAY(N134,1)=1,\"日\",IF(WEEKDAY(N134,1)=2,\"月\",IF(WEEKDAY(N134,1)=3,\"火\",IF(WEEKDAY(N134,1)=4,\"水\",IF(WEEKDAY(N134,1)=5,\"木\",IF(WEEKDAY(N134,1)=6,\"金\",\"土\")))))),\"\")","v":""},{"$f":"IFERROR(IF(WEEKDAY(O134,1)=1,\"日\",IF(WEEKDAY(O134,1)=2,\"月\",IF(WEEKDAY(O134,1)=3,\"火\",IF(WEEKDAY(O134,1)=4,\"水\",IF(WEEKDAY(O134,1)=5,\"木\",IF(WEEKDAY(O134,1)=6,\"金\",\"土\")))))),\"\")","v":""},"","","","","","","","","","","","","","","","","","","","",""]
["期間内土日",{"$f":"COUNTIFS(F134:AJ134,\">=\"&J$12,F134:AJ134,\"<=\"&R$12,F135:AJ135,\"土\")+COUNTIFS(F134:AJ134,\">=\"&J$12,F134:AJ134,\"<=\"&R$12,F135:AJ135,\"日\")","v":0},{"$f":"B136","v":0},null,"計画",null,null,null,null,null,null,null,null,null,null,null,null,null,null,null,null,null,null,null,null,null,null,null,null,null,null,null,null,null,null,null,"出⇐勤務日、休⇐休日、－⇐対象外",null,{"$f":"IF(COUNTIFS(F134:AJ134,\">=\"&J$12,F134:AJ134,\"<=\"&R$12)=0,\"\",\nIF(COUNTIFS(F134:AJ134,\">=\"&J$12,F134:AJ134,\"<=\"&R$12)<>B135+COUNTIF(F136:AJ136,\"－\"),\"← 従事期間内で入力されていない日があります。確認してください。\",\"\"))","v":""}]
["休暇",{"$f":"COUNTIFS(F134:AJ134,\">=\"&J$12,F134:AJ134,\"<=\"&R$12,F136:AJ136,\"休\")","v":"00:00:00"},{"$f":"COUNTIFS(F134:AJ134,\">=\"&J$12,F134:AJ134,\"<=\"&R$12,F137:AJ137,\"休\")","v":"00:00:00"},null,"実績",null,null,null,null,null,null,null,null,null,null,null,null,null,null,null,null,null,null,null,null,null,null,null,null,null,null,null,null,null,null,null,null,null,{"$f":"IF(COUNTIFS(F134:AJ134,\">=\"&J$12,F134:AJ134,\"<=\"&R$12)=0,\"\",\nIF(COUNTIFS(F134:AJ134,\">=\"&J$12,F134:AJ134,\"<=\"&R$12)<>C135+COUNTIF(F137:AJ137,\"－\"),\"← 従事期間内で入力されていない日があります。確認してください。\",\"\"))","v":""}]
["判定",{"$f":"IF($R$12-$J$12+1>=28,IF(OR(B135=\"\",B135=0,B136=0),\"対象外\",\nIF(B137/B135<C$1,\"×\",\"○\")),\"対象外\")","v":"対象外"},{"$f":"IF($R$12-$J$12+1>=28,IF(OR(C135=\"\",C135=0,C136=0),\"対象外\",\nIF(C137/C135<C$1,\"×\",\"○\")),\"対象外\")","v":"対象外"},null,"備考"]
[]
["年月",{"$f":"IF(C140=\"\",\"\",IF(C133=12,B133+1,B133))","v":""},{"$f":"IF(C133=\"\",\"\",IF(DATE(IF(C133=12,B133+1,B133),IF(C133=12,1,C133+1),1)>R$5,\"\",IF(C133=12,1,C133+1)))","v":""},null,{"$f":"IF(C140=\"\",\"\",DATE(B140,C140,1))","v":""}]
[null,null,null,null,null,{"$f":"IF($B140=\"\",\"\",DATE($B140,$C140,1))","v":""},{"$f":"IF($B140=\"\",\"\",DATE($B140,$C140,2))","v":""},{"$f":"IF($B140=\"\",\"\",DATE($B140,$C140,3))","v":""},{"$f":"IF($B140=\"\",\"\",DATE($B140,$C140,4))","v":""},{"$f":"IF($B140=\"\",\"\",DATE($B140,$C140,5))","v":""},{"$f":"IF($B140=\"\",\"\",DATE($B140,$C140,6))","v":""},{"$f":"IF($B140=\"\",\"\",DATE($B140,$C140,7))","v":""},{"$f":"IF($B140=\"\",\"\",DATE($B140,$C140,8))","v":""},{"$f":"IF($B140=\"\",\"\",DATE($B140,$C140,9))","v":""},{"$f":"IF($B140=\"\",\"\",DATE($B140,$C140,10))","v":""},{"$f":"IF($B140=\"\",\"\",DATE($B140,$C140,11))","v":""},{"$f":"IF($B140=\"\",\"\",DATE($B140,$C140,12))","v":""},{"$f":"IF($B140=\"\",\"\",DATE($B140,$C140,13))","v":""},{"$f":"IF($B140=\"\",\"\",DATE($B140,$C140,14))","v":""},{"$f":"IF($B140=\"\",\"\",DATE($B140,$C140,15))","v":""},{"$f":"IF($B140=\"\",\"\",DATE($B140,$C140,16))","v":""},{"$f":"IF($B140=\"\",\"\",DATE($B140,$C140,17))","v":""},{"$f":"IF($B140=\"\",\"\",DATE($B140,$C140,18))","v":""},{"$f":"IF($B140=\"\",\"\",DATE($B140,$C140,19))","v":""},{"$f":"IF($B140=\"\",\"\",DATE($B140,$C140,20))","v":""},{"$f":"IF($B140=\"\",\"\",DATE($B140,$C140,21))","v":""},{"$f":"IF($B140=\"\",\"\",DATE($B140,$C140,22))","v":""},{"$f":"IF($B140=\"\",\"\",DATE($B140,$C140,23))","v":""},{"$f":"IF($B140=\"\",\"\",DATE($B140,$C140,24))","v":""},{"$f":"IF($B140=\"\",\"\",DATE($B140,$C140,25))","v":""},{"$f":"IF($B140=\"\",\"\",DATE($B140,$C140,26))","v":""},{"$f":"IF($B140=\"\",\"\",DATE($B140,$C140,27))","v":""},{"$f":"IF($B140=\"\",\"\",DATE($B140,$C140,28))","v":""},{"$f":"IF($B140=\"\",\"\",IF(MONTH(DATE($B140,$C140,29))=$C140,DATE($B140,$C140,29),\"\"))","v":""},{"$f":"IF($B140=\"\",\"\",IF(MONTH(DATE($B140,$C140,30))=$C140,DATE($B140,$C140,30),\"\"))","v":""},{"$f":"IF($B140=\"\",\"\",IF(MONTH(DATE($B140,$C140,31))=$C140,DATE($B140,$C140,31),\"\"))","v":""},"備考"]
["日数",{"$f":"IF(COUNTA(F143:AJ143)=0,0,\nCOUNTIFS(F141:AJ141,\">=\"&J$12,F141:AJ141,\"<=\"&R$12,F143:AJ143,\"出\")+COUNTIFS(F141:AJ141,\">=\"&J$12,F141:AJ141,\"<=\"&R$12,F143:AJ143,\"休\"))","v":0},{"$f":"IF(COUNTA(F144:AJ144)=0,0,\nCOUNTIFS(F141:AJ141,\">=\"&J$12,F141:AJ141,\"<=\"&R$12,F144:AJ144,\"出\")+COUNTIFS(F141:AJ141,\">=\"&J$12,F141:AJ141,\"<=\"&R$12,F144:AJ144,\"休\"))","v":0},null,null,{"$f":"IFERROR(IF(WEEKDAY(F141,1)=1,\"日\",IF(WEEKDAY(F141,1)=2,\"月\",IF(WEEKDAY(F141,1)=3,\"火\",IF(WEEKDAY(F141,1)=4,\"水\",IF(WEEKDAY(F141,1)=5,\"木\",IF(WEEKDAY(F141,1)=6,\"金\",\"土\")))))),\"\")","v":""},{"$f":"IFERROR(IF(WEEKDAY(G141,1)=1,\"日\",IF(WEEKDAY(G141,1)=2,\"月\",IF(WEEKDAY(G141,1)=3,\"火\",IF(WEEKDAY(G141,1)=4,\"水\",IF(WEEKDAY(G141,1)=5,\"木\",IF(WEEKDAY(G141,1)=6,\"金\",\"土\")))))),\"\")","v":""},"","","","","","",{"$f":"IFERROR(IF(WEEKDAY(N141,1)=1,\"日\",IF(WEEKDAY(N141,1)=2,\"月\",IF(WEEKDAY(N141,1)=3,\"火\",IF(WEEKDAY(N141,1)=4,\"水\",IF(WEEKDAY(N141,1)=5,\"木\",IF(WEEKDAY(N141,1)=6,\"金\",\"土\")))))),\"\")","v":""},{"$f":"IFERROR(IF(WEEKDAY(O141,1)=1,\"日\",IF(WEEKDAY(O141,1)=2,\"月\",IF(WEEKDAY(O141,1)=3,\"火\",IF(WEEKDAY(O141,1)=4,\"水\",IF(WEEKDAY(O141,1)=5,\"木\",IF(WEEKDAY(O141,1)=6,\"金\",\"土\")))))),\"\")","v":""},"","","","","","","","","","","","","","","","","","","","",""]
["期間内土日",{"$f":"COUNTIFS(F141:AJ141,\">=\"&J$12,F141:AJ141,\"<=\"&R$12,F142:AJ142,\"土\")+COUNTIFS(F141:AJ141,\">=\"&J$12,F141:AJ141,\"<=\"&R$12,F142:AJ142,\"日\")","v":0},{"$f":"B143","v":0},null,"計画",null,null,null,null,null,null,null,null,null,null,null,null,null,null,null,null,null,null,null,null,null,null,null,null,null,null,null,null,null,null,null,"出⇐勤務日、休⇐休日、－⇐対象外",null,{"$f":"IF(COUNTIFS(F141:AJ141,\">=\"&J$12,F141:AJ141,\"<=\"&R$12)=0,\"\",\nIF(COUNTIFS(F141:AJ141,\">=\"&J$12,F141:AJ141,\"<=\"&R$12)<>B142+COUNTIF(F143:AJ143,\"－\"),\"← 従事期間内で入力されていない日があります。確認してください。\",\"\"))","v":""}]
["休暇",{"$f":"COUNTIFS(F141:AJ141,\">=\"&J$12,F141:AJ141,\"<=\"&R$12,F143:AJ143,\"休\")","v":"00:00:00"},{"$f":"COUNTIFS(F141:AJ141,\">=\"&J$12,F141:AJ141,\"<=\"&R$12,F144:AJ144,\"休\")","v":"00:00:00"},null,"実績",null,null,null,null,null,null,null,null,null,null,null,null,null,null,null,null,null,null,null,null,null,null,null,null,null,null,null,null,null,null,null,null,null,{"$f":"IF(COUNTIFS(F141:AJ141,\">=\"&J$12,F141:AJ141,\"<=\"&R$12)=0,\"\",\nIF(COUNTIFS(F141:AJ141,\">=\"&J$12,F141:AJ141,\"<=\"&R$12)<>C142+COUNTIF(F144:AJ144,\"－\"),\"← 従事期間内で入力されていない日があります。確認してください。\",\"\"))","v":""}]
["判定",{"$f":"IF($R$12-$J$12+1>=28,IF(OR(B142=\"\",B142=0,B143=0),\"対象外\",\nIF(B144/B142<C$1,\"×\",\"○\")),\"対象外\")","v":"対象外"},{"$f":"IF($R$12-$J$12+1>=28,IF(OR(C142=\"\",C142=0,C143=0),\"対象外\",\nIF(C144/C142<C$1,\"×\",\"○\")),\"対象外\")","v":"対象外"},null,"備考"]
[]
["年月",{"$f":"IF(C147=\"\",\"\",IF(C140=12,B140+1,B140))","v":""},{"$f":"IF(C140=\"\",\"\",IF(DATE(IF(C140=12,B140+1,B140),IF(C140=12,1,C140+1),1)>R$5,\"\",IF(C140=12,1,C140+1)))","v":""},null,{"$f":"IF(C147=\"\",\"\",DATE(B147,C147,1))","v":""}]
[null,null,null,null,null,{"$f":"IF($B147=\"\",\"\",DATE($B147,$C147,1))","v":""},{"$f":"IF($B147=\"\",\"\",DATE($B147,$C147,2))","v":""},{"$f":"IF($B147=\"\",\"\",DATE($B147,$C147,3))","v":""},{"$f":"IF($B147=\"\",\"\",DATE($B147,$C147,4))","v":""},{"$f":"IF($B147=\"\",\"\",DATE($B147,$C147,5))","v":""},{"$f":"IF($B147=\"\",\"\",DATE($B147,$C147,6))","v":""},{"$f":"IF($B147=\"\",\"\",DATE($B147,$C147,7))","v":""},{"$f":"IF($B147=\"\",\"\",DATE($B147,$C147,8))","v":""},{"$f":"IF($B147=\"\",\"\",DATE($B147,$C147,9))","v":""},{"$f":"IF($B147=\"\",\"\",DATE($B147,$C147,10))","v":""},{"$f":"IF($B147=\"\",\"\",DATE($B147,$C147,11))","v":""},{"$f":"IF($B147=\"\",\"\",DATE($B147,$C147,12))","v":""},{"$f":"IF($B147=\"\",\"\",DATE($B147,$C147,13))","v":""},{"$f":"IF($B147=\"\",\"\",DATE($B147,$C147,14))","v":""},{"$f":"IF($B147=\"\",\"\",DATE($B147,$C147,15))","v":""},{"$f":"IF($B147=\"\",\"\",DATE($B147,$C147,16))","v":""},{"$f":"IF($B147=\"\",\"\",DATE($B147,$C147,17))","v":""},{"$f":"IF($B147=\"\",\"\",DATE($B147,$C147,18))","v":""},{"$f":"IF($B147=\"\",\"\",DATE($B147,$C147,19))","v":""},{"$f":"IF($B147=\"\",\"\",DATE($B147,$C147,20))","v":""},{"$f":"IF($B147=\"\",\"\",DATE($B147,$C147,21))","v":""},{"$f":"IF($B147=\"\",\"\",DATE($B147,$C147,22))","v":""},{"$f":"IF($B147=\"\",\"\",DATE($B147,$C147,23))","v":""},{"$f":"IF($B147=\"\",\"\",DATE($B147,$C147,24))","v":""},{"$f":"IF($B147=\"\",\"\",DATE($B147,$C147,25))","v":""},{"$f":"IF($B147=\"\",\"\",DATE($B147,$C147,26))","v":""},{"$f":"IF($B147=\"\",\"\",DATE($B147,$C147,27))","v":""},{"$f":"IF($B147=\"\",\"\",DATE($B147,$C147,28))","v":""},{"$f":"IF($B147=\"\",\"\",IF(MONTH(DATE($B147,$C147,29))=$C147,DATE($B147,$C147,29),\"\"))","v":""},{"$f":"IF($B147=\"\",\"\",IF(MONTH(DATE($B147,$C147,30))=$C147,DATE($B147,$C147,30),\"\"))","v":""},{"$f":"IF($B147=\"\",\"\",IF(MONTH(DATE($B147,$C147,31))=$C147,DATE($B147,$C147,31),\"\"))","v":""},"備考"]
["日数",{"$f":"IF(COUNTA(F150:AJ150)=0,0,\nCOUNTIFS(F148:AJ148,\">=\"&J$12,F148:AJ148,\"<=\"&R$12,F150:AJ150,\"出\")+COUNTIFS(F148:AJ148,\">=\"&J$12,F148:AJ148,\"<=\"&R$12,F150:AJ150,\"休\"))","v":0},{"$f":"IF(COUNTA(F151:AJ151)=0,0,\nCOUNTIFS(F148:AJ148,\">=\"&J$12,F148:AJ148,\"<=\"&R$12,F151:AJ151,\"出\")+COUNTIFS(F148:AJ148,\">=\"&J$12,F148:AJ148,\"<=\"&R$12,F151:AJ151,\"休\"))","v":0},null,null,{"$f":"IFERROR(IF(WEEKDAY(F148,1)=1,\"日\",IF(WEEKDAY(F148,1)=2,\"月\",IF(WEEKDAY(F148,1)=3,\"火\",IF(WEEKDAY(F148,1)=4,\"水\",IF(WEEKDAY(F148,1)=5,\"木\",IF(WEEKDAY(F148,1)=6,\"金\",\"土\")))))),\"\")","v":""},{"$f":"IFERROR(IF(WEEKDAY(G148,1)=1,\"日\",IF(WEEKDAY(G148,1)=2,\"月\",IF(WEEKDAY(G148,1)=3,\"火\",IF(WEEKDAY(G148,1)=4,\"水\",IF(WEEKDAY(G148,1)=5,\"木\",IF(WEEKDAY(G148,1)=6,\"金\",\"土\")))))),\"\")","v":""},"","","","","","",{"$f":"IFERROR(IF(WEEKDAY(N148,1)=1,\"日\",IF(WEEKDAY(N148,1)=2,\"月\",IF(WEEKDAY(N148,1)=3,\"火\",IF(WEEKDAY(N148,1)=4,\"水\",IF(WEEKDAY(N148,1)=5,\"木\",IF(WEEKDAY(N148,1)=6,\"金\",\"土\")))))),\"\")","v":""},{"$f":"IFERROR(IF(WEEKDAY(O148,1)=1,\"日\",IF(WEEKDAY(O148,1)=2,\"月\",IF(WEEKDAY(O148,1)=3,\"火\",IF(WEEKDAY(O148,1)=4,\"水\",IF(WEEKDAY(O148,1)=5,\"木\",IF(WEEKDAY(O148,1)=6,\"金\",\"土\")))))),\"\")","v":""},"","","","","","","","","","","","","","","","","","","","",""]
["期間内土日",{"$f":"COUNTIFS(F148:AJ148,\">=\"&J$12,F148:AJ148,\"<=\"&R$12,F149:AJ149,\"土\")+COUNTIFS(F148:AJ148,\">=\"&J$12,F148:AJ148,\"<=\"&R$12,F149:AJ149,\"日\")","v":0},{"$f":"B150","v":0},null,"計画",null,null,null,null,null,null,null,null,null,null,null,null,null,null,null,null,null,null,null,null,null,null,null,null,null,null,null,null,null,null,null,"出⇐勤務日、休⇐休日、－⇐対象外",null,{"$f":"IF(COUNTIFS(F148:AJ148,\">=\"&J$12,F148:AJ148,\"<=\"&R$12)=0,\"\",\nIF(COUNTIFS(F148:AJ148,\">=\"&J$12,F148:AJ148,\"<=\"&R$12)<>B149+COUNTIF(F150:AJ150,\"－\"),\"← 従事期間内で入力されていない日があります。確認してください。\",\"\"))","v":""}]
["休暇",{"$f":"COUNTIFS(F148:AJ148,\">=\"&J$12,F148:AJ148,\"<=\"&R$12,F150:AJ150,\"休\")","v":"00:00:00"},{"$f":"COUNTIFS(F148:AJ148,\">=\"&J$12,F148:AJ148,\"<=\"&R$12,F151:AJ151,\"休\")","v":"00:00:00"},null,"実績",null,null,null,null,null,null,null,null,null,null,null,null,null,null,null,null,null,null,null,null,null,null,null,null,null,null,null,null,null,null,null,null,null,{"$f":"IF(COUNTIFS(F148:AJ148,\">=\"&J$12,F148:AJ148,\"<=\"&R$12)=0,\"\",\nIF(COUNTIFS(F148:AJ148,\">=\"&J$12,F148:AJ148,\"<=\"&R$12)<>C149+COUNTIF(F151:AJ151,\"－\"),\"← 従事期間内で入力されていない日があります。確認してください。\",\"\"))","v":""}]
["判定",{"$f":"IF($R$12-$J$12+1>=28,IF(OR(B149=\"\",B149=0,B150=0),\"対象外\",\nIF(B151/B149<C$1,\"×\",\"○\")),\"対象外\")","v":"対象外"},{"$f":"IF($R$12-$J$12+1>=28,IF(OR(C149=\"\",C149=0,C150=0),\"対象外\",\nIF(C151/C149<C$1,\"×\",\"○\")),\"対象外\")","v":"対象外"},null,"備考"]
[]
["年月",{"$f":"IF(C154=\"\",\"\",IF(C147=12,B147+1,B147))","v":""},{"$f":"IF(C147=\"\",\"\",IF(DATE(IF(C147=12,B147+1,B147),IF(C147=12,1,C147+1),1)>R$5,\"\",IF(C147=12,1,C147+1)))","v":""},null,{"$f":"IF(C154=\"\",\"\",DATE(B154,C154,1))","v":""}]
[null,null,null,null,null,{"$f":"IF($B154=\"\",\"\",DATE($B154,$C154,1))","v":""},{"$f":"IF($B154=\"\",\"\",DATE($B154,$C154,2))","v":""},{"$f":"IF($B154=\"\",\"\",DATE($B154,$C154,3))","v":""},{"$f":"IF($B154=\"\",\"\",DATE($B154,$C154,4))","v":""},{"$f":"IF($B154=\"\",\"\",DATE($B154,$C154,5))","v":""},{"$f":"IF($B154=\"\",\"\",DATE($B154,$C154,6))","v":""},{"$f":"IF($B154=\"\",\"\",DATE($B154,$C154,7))","v":""},{"$f":"IF($B154=\"\",\"\",DATE($B154,$C154,8))","v":""},{"$f":"IF($B154=\"\",\"\",DATE($B154,$C154,9))","v":""},{"$f":"IF($B154=\"\",\"\",DATE($B154,$C154,10))","v":""},{"$f":"IF($B154=\"\",\"\",DATE($B154,$C154,11))","v":""},{"$f":"IF($B154=\"\",\"\",DATE($B154,$C154,12))","v":""},{"$f":"IF($B154=\"\",\"\",DATE($B154,$C154,13))","v":""},{"$f":"IF($B154=\"\",\"\",DATE($B154,$C154,14))","v":""},{"$f":"IF($B154=\"\",\"\",DATE($B154,$C154,15))","v":""},{"$f":"IF($B154=\"\",\"\",DATE($B154,$C154,16))","v":""},{"$f":"IF($B154=\"\",\"\",DATE($B154,$C154,17))","v":""},{"$f":"IF($B154=\"\",\"\",DATE($B154,$C154,18))","v":""},{"$f":"IF($B154=\"\",\"\",DATE($B154,$C154,19))","v":""},{"$f":"IF($B154=\"\",\"\",DATE($B154,$C154,20))","v":""},{"$f":"IF($B154=\"\",\"\",DATE($B154,$C154,21))","v":""},{"$f":"IF($B154=\"\",\"\",DATE($B154,$C154,22))","v":""},{"$f":"IF($B154=\"\",\"\",DATE($B154,$C154,23))","v":""},{"$f":"IF($B154=\"\",\"\",DATE($B154,$C154,24))","v":""},{"$f":"IF($B154=\"\",\"\",DATE($B154,$C154,25))","v":""},{"$f":"IF($B154=\"\",\"\",DATE($B154,$C154,26))","v":""},{"$f":"IF($B154=\"\",\"\",DATE($B154,$C154,27))","v":""},{"$f":"IF($B154=\"\",\"\",DATE($B154,$C154,28))","v":""},{"$f":"IF($B154=\"\",\"\",IF(MONTH(DATE($B154,$C154,29))=$C154,DATE($B154,$C154,29),\"\"))","v":""},{"$f":"IF($B154=\"\",\"\",IF(MONTH(DATE($B154,$C154,30))=$C154,DATE($B154,$C154,30),\"\"))","v":""},{"$f":"IF($B154=\"\",\"\",IF(MONTH(DATE($B154,$C154,31))=$C154,DATE($B154,$C154,31),\"\"))","v":""},"備考"]
["日数",{"$f":"IF(COUNTA(F157:AJ157)=0,0,\nCOUNTIFS(F155:AJ155,\">=\"&J$12,F155:AJ155,\"<=\"&R$12,F157:AJ157,\"出\")+COUNTIFS(F155:AJ155,\">=\"&J$12,F155:AJ155,\"<=\"&R$12,F157:AJ157,\"休\"))","v":0},{"$f":"IF(COUNTA(F158:AJ158)=0,0,\nCOUNTIFS(F155:AJ155,\">=\"&J$12,F155:AJ155,\"<=\"&R$12,F158:AJ158,\"出\")+COUNTIFS(F155:AJ155,\">=\"&J$12,F155:AJ155,\"<=\"&R$12,F158:AJ158,\"休\"))","v":0},null,null,{"$f":"IFERROR(IF(WEEKDAY(F155,1)=1,\"日\",IF(WEEKDAY(F155,1)=2,\"月\",IF(WEEKDAY(F155,1)=3,\"火\",IF(WEEKDAY(F155,1)=4,\"水\",IF(WEEKDAY(F155,1)=5,\"木\",IF(WEEKDAY(F155,1)=6,\"金\",\"土\")))))),\"\")","v":""},{"$f":"IFERROR(IF(WEEKDAY(G155,1)=1,\"日\",IF(WEEKDAY(G155,1)=2,\"月\",IF(WEEKDAY(G155,1)=3,\"火\",IF(WEEKDAY(G155,1)=4,\"水\",IF(WEEKDAY(G155,1)=5,\"木\",IF(WEEKDAY(G155,1)=6,\"金\",\"土\")))))),\"\")","v":""},"","","","","","",{"$f":"IFERROR(IF(WEEKDAY(N155,1)=1,\"日\",IF(WEEKDAY(N155,1)=2,\"月\",IF(WEEKDAY(N155,1)=3,\"火\",IF(WEEKDAY(N155,1)=4,\"水\",IF(WEEKDAY(N155,1)=5,\"木\",IF(WEEKDAY(N155,1)=6,\"金\",\"土\")))))),\"\")","v":""},{"$f":"IFERROR(IF(WEEKDAY(O155,1)=1,\"日\",IF(WEEKDAY(O155,1)=2,\"月\",IF(WEEKDAY(O155,1)=3,\"火\",IF(WEEKDAY(O155,1)=4,\"水\",IF(WEEKDAY(O155,1)=5,\"木\",IF(WEEKDAY(O155,1)=6,\"金\",\"土\")))))),\"\")","v":""},"","","","","","","","","","","","","","","","","","","","",""]
["期間内土日",{"$f":"COUNTIFS(F155:AJ155,\">=\"&J$12,F155:AJ155,\"<=\"&R$12,F156:AJ156,\"土\")+COUNTIFS(F155:AJ155,\">=\"&J$12,F155:AJ155,\"<=\"&R$12,F156:AJ156,\"日\")","v":0},{"$f":"B157","v":0},null,"計画",null,null,null,null,null,null,null,null,null,null,null,null,null,null,null,null,null,null,null,null,null,null,null,null,null,null,null,null,null,null,null,"出⇐勤務日、休⇐休日、－⇐対象外",null,{"$f":"IF(COUNTIFS(F155:AJ155,\">=\"&J$12,F155:AJ155,\"<=\"&R$12)=0,\"\",\nIF(COUNTIFS(F155:AJ155,\">=\"&J$12,F155:AJ155,\"<=\"&R$12)<>B156+COUNTIF(F157:AJ157,\"－\"),\"← 従事期間内で入力されていない日があります。確認してください。\",\"\"))","v":""}]
["休暇",{"$f":"COUNTIFS(F155:AJ155,\">=\"&J$12,F155:AJ155,\"<=\"&R$12,F157:AJ157,\"休\")","v":"00:00:00"},{"$f":"COUNTIFS(F155:AJ155,\">=\"&J$12,F155:AJ155,\"<=\"&R$12,F158:AJ158,\"休\")","v":"00:00:00"},null,"実績",null,null,null,null,null,null,null,null,null,null,null,null,null,null,null,null,null,null,null,null,null,null,null,null,null,null,null,null,null,null,null,null,null,{"$f":"IF(COUNTIFS(F155:AJ155,\">=\"&J$12,F155:AJ155,\"<=\"&R$12)=0,\"\",\nIF(COUNTIFS(F155:AJ155,\">=\"&J$12,F155:AJ155,\"<=\"&R$12)<>C156+COUNTIF(F158:AJ158,\"－\"),\"← 従事期間内で入力されていない日があります。確認してください。\",\"\"))","v":""}]
["判定",{"$f":"IF($R$12-$J$12+1>=28,IF(OR(B156=\"\",B156=0,B157=0),\"対象外\",\nIF(B158/B156<C$1,\"×\",\"○\")),\"対象外\")","v":"対象外"},{"$f":"IF($R$12-$J$12+1>=28,IF(OR(C156=\"\",C156=0,C157=0),\"対象外\",\nIF(C158/C156<C$1,\"×\",\"○\")),\"対象外\")","v":"対象外"},null,"備考"]
[]
["年月",{"$f":"IF(C161=\"\",\"\",IF(C154=12,B154+1,B154))","v":""},{"$f":"IF(C154=\"\",\"\",IF(DATE(IF(C154=12,B154+1,B154),IF(C154=12,1,C154+1),1)>R$5,\"\",IF(C154=12,1,C154+1)))","v":""},null,{"$f":"IF(C161=\"\",\"\",DATE(B161,C161,1))","v":""}]
[null,null,null,null,null,{"$f":"IF($B161=\"\",\"\",DATE($B161,$C161,1))","v":""},{"$f":"IF($B161=\"\",\"\",DATE($B161,$C161,2))","v":""},{"$f":"IF($B161=\"\",\"\",DATE($B161,$C161,3))","v":""},{"$f":"IF($B161=\"\",\"\",DATE($B161,$C161,4))","v":""},{"$f":"IF($B161=\"\",\"\",DATE($B161,$C161,5))","v":""},{"$f":"IF($B161=\"\",\"\",DATE($B161,$C161,6))","v":""},{"$f":"IF($B161=\"\",\"\",DATE($B161,$C161,7))","v":""},{"$f":"IF($B161=\"\",\"\",DATE($B161,$C161,8))","v":""},{"$f":"IF($B161=\"\",\"\",DATE($B161,$C161,9))","v":""},{"$f":"IF($B161=\"\",\"\",DATE($B161,$C161,10))","v":""},{"$f":"IF($B161=\"\",\"\",DATE($B161,$C161,11))","v":""},{"$f":"IF($B161=\"\",\"\",DATE($B161,$C161,12))","v":""},{"$f":"IF($B161=\"\",\"\",DATE($B161,$C161,13))","v":""},{"$f":"IF($B161=\"\",\"\",DATE($B161,$C161,14))","v":""},{"$f":"IF($B161=\"\",\"\",DATE($B161,$C161,15))","v":""},{"$f":"IF($B161=\"\",\"\",DATE($B161,$C161,16))","v":""},{"$f":"IF($B161=\"\",\"\",DATE($B161,$C161,17))","v":""},{"$f":"IF($B161=\"\",\"\",DATE($B161,$C161,18))","v":""},{"$f":"IF($B161=\"\",\"\",DATE($B161,$C161,19))","v":""},{"$f":"IF($B161=\"\",\"\",DATE($B161,$C161,20))","v":""},{"$f":"IF($B161=\"\",\"\",DATE($B161,$C161,21))","v":""},{"$f":"IF($B161=\"\",\"\",DATE($B161,$C161,22))","v":""},{"$f":"IF($B161=\"\",\"\",DATE($B161,$C161,23))","v":""},{"$f":"IF($B161=\"\",\"\",DATE($B161,$C161,24))","v":""},{"$f":"IF($B161=\"\",\"\",DATE($B161,$C161,25))","v":""},{"$f":"IF($B161=\"\",\"\",DATE($B161,$C161,26))","v":""},{"$f":"IF($B161=\"\",\"\",DATE($B161,$C161,27))","v":""},{"$f":"IF($B161=\"\",\"\",DATE($B161,$C161,28))","v":""},{"$f":"IF($B161=\"\",\"\",IF(MONTH(DATE($B161,$C161,29))=$C161,DATE($B161,$C161,29),\"\"))","v":""},{"$f":"IF($B161=\"\",\"\",IF(MONTH(DATE($B161,$C161,30))=$C161,DATE($B161,$C161,30),\"\"))","v":""},{"$f":"IF($B161=\"\",\"\",IF(MONTH(DATE($B161,$C161,31))=$C161,DATE($B161,$C161,31),\"\"))","v":""},"備考"]
["日数",{"$f":"IF(COUNTA(F164:AJ164)=0,0,\nCOUNTIFS(F162:AJ162,\">=\"&J$12,F162:AJ162,\"<=\"&R$12,F164:AJ164,\"出\")+COUNTIFS(F162:AJ162,\">=\"&J$12,F162:AJ162,\"<=\"&R$12,F164:AJ164,\"休\"))","v":0},{"$f":"IF(COUNTA(F165:AJ165)=0,0,\nCOUNTIFS(F162:AJ162,\">=\"&J$12,F162:AJ162,\"<=\"&R$12,F165:AJ165,\"出\")+COUNTIFS(F162:AJ162,\">=\"&J$12,F162:AJ162,\"<=\"&R$12,F165:AJ165,\"休\"))","v":0},null,null,{"$f":"IFERROR(IF(WEEKDAY(F162,1)=1,\"日\",IF(WEEKDAY(F162,1)=2,\"月\",IF(WEEKDAY(F162,1)=3,\"火\",IF(WEEKDAY(F162,1)=4,\"水\",IF(WEEKDAY(F162,1)=5,\"木\",IF(WEEKDAY(F162,1)=6,\"金\",\"土\")))))),\"\")","v":""},{"$f":"IFERROR(IF(WEEKDAY(G162,1)=1,\"日\",IF(WEEKDAY(G162,1)=2,\"月\",IF(WEEKDAY(G162,1)=3,\"火\",IF(WEEKDAY(G162,1)=4,\"水\",IF(WEEKDAY(G162,1)=5,\"木\",IF(WEEKDAY(G162,1)=6,\"金\",\"土\")))))),\"\")","v":""},"","","","","","",{"$f":"IFERROR(IF(WEEKDAY(N162,1)=1,\"日\",IF(WEEKDAY(N162,1)=2,\"月\",IF(WEEKDAY(N162,1)=3,\"火\",IF(WEEKDAY(N162,1)=4,\"水\",IF(WEEKDAY(N162,1)=5,\"木\",IF(WEEKDAY(N162,1)=6,\"金\",\"土\")))))),\"\")","v":""},{"$f":"IFERROR(IF(WEEKDAY(O162,1)=1,\"日\",IF(WEEKDAY(O162,1)=2,\"月\",IF(WEEKDAY(O162,1)=3,\"火\",IF(WEEKDAY(O162,1)=4,\"水\",IF(WEEKDAY(O162,1)=5,\"木\",IF(WEEKDAY(O162,1)=6,\"金\",\"土\")))))),\"\")","v":""},"","","","","","","","","","","","","","","","","","","","",""]
["期間内土日",{"$f":"COUNTIFS(F162:AJ162,\">=\"&J$12,F162:AJ162,\"<=\"&R$12,F163:AJ163,\"土\")+COUNTIFS(F162:AJ162,\">=\"&J$12,F162:AJ162,\"<=\"&R$12,F163:AJ163,\"日\")","v":0},{"$f":"B164","v":0},null,"計画",null,null,null,null,null,null,null,null,null,null,null,null,null,null,null,null,null,null,null,null,null,null,null,null,null,null,null,null,null,null,null,"出⇐勤務日、休⇐休日、－⇐対象外",null,{"$f":"IF(COUNTIFS(F162:AJ162,\">=\"&J$12,F162:AJ162,\"<=\"&R$12)=0,\"\",\nIF(COUNTIFS(F162:AJ162,\">=\"&J$12,F162:AJ162,\"<=\"&R$12)<>B163+COUNTIF(F164:AJ164,\"－\"),\"← 従事期間内で入力されていない日があります。確認してください。\",\"\"))","v":""}]
["休暇",{"$f":"COUNTIFS(F162:AJ162,\">=\"&J$12,F162:AJ162,\"<=\"&R$12,F164:AJ164,\"休\")","v":"00:00:00"},{"$f":"COUNTIFS(F162:AJ162,\">=\"&J$12,F162:AJ162,\"<=\"&R$12,F165:AJ165,\"休\")","v":"00:00:00"},null,"実績",null,null,null,null,null,null,null,null,null,null,null,null,null,null,null,null,null,null,null,null,null,null,null,null,null,null,null,null,null,null,null,null,null,{"$f":"IF(COUNTIFS(F162:AJ162,\">=\"&J$12,F162:AJ162,\"<=\"&R$12)=0,\"\",\nIF(COUNTIFS(F162:AJ162,\">=\"&J$12,F162:AJ162,\"<=\"&R$12)<>C163+COUNTIF(F165:AJ165,\"－\"),\"← 従事期間内で入力されていない日があります。確認してください。\",\"\"))","v":""}]
["判定",{"$f":"IF($R$12-$J$12+1>=28,IF(OR(B163=\"\",B163=0,B164=0),\"対象外\",\nIF(B165/B163<C$1,\"×\",\"○\")),\"対象外\")","v":"対象外"},{"$f":"IF($R$12-$J$12+1>=28,IF(OR(C163=\"\",C163=0,C164=0),\"対象外\",\nIF(C165/C163<C$1,\"×\",\"○\")),\"対象外\")","v":"対象外"},null,"備考"]
[]
["年月",{"$f":"IF(C168=\"\",\"\",IF(C161=12,B161+1,B161))","v":""},{"$f":"IF(C161=\"\",\"\",IF(DATE(IF(C161=12,B161+1,B161),IF(C161=12,1,C161+1),1)>R$5,\"\",IF(C161=12,1,C161+1)))","v":""},null,{"$f":"IF(C168=\"\",\"\",DATE(B168,C168,1))","v":""}]
[null,null,null,null,null,{"$f":"IF($B168=\"\",\"\",DATE($B168,$C168,1))","v":""},{"$f":"IF($B168=\"\",\"\",DATE($B168,$C168,2))","v":""},{"$f":"IF($B168=\"\",\"\",DATE($B168,$C168,3))","v":""},{"$f":"IF($B168=\"\",\"\",DATE($B168,$C168,4))","v":""},{"$f":"IF($B168=\"\",\"\",DATE($B168,$C168,5))","v":""},{"$f":"IF($B168=\"\",\"\",DATE($B168,$C168,6))","v":""},{"$f":"IF($B168=\"\",\"\",DATE($B168,$C168,7))","v":""},{"$f":"IF($B168=\"\",\"\",DATE($B168,$C168,8))","v":""},{"$f":"IF($B168=\"\",\"\",DATE($B168,$C168,9))","v":""},{"$f":"IF($B168=\"\",\"\",DATE($B168,$C168,10))","v":""},{"$f":"IF($B168=\"\",\"\",DATE($B168,$C168,11))","v":""},{"$f":"IF($B168=\"\",\"\",DATE($B168,$C168,12))","v":""},{"$f":"IF($B168=\"\",\"\",DATE($B168,$C168,13))","v":""},{"$f":"IF($B168=\"\",\"\",DATE($B168,$C168,14))","v":""},{"$f":"IF($B168=\"\",\"\",DATE($B168,$C168,15))","v":""},{"$f":"IF($B168=\"\",\"\",DATE($B168,$C168,16))","v":""},{"$f":"IF($B168=\"\",\"\",DATE($B168,$C168,17))","v":""},{"$f":"IF($B168=\"\",\"\",DATE($B168,$C168,18))","v":""},{"$f":"IF($B168=\"\",\"\",DATE($B168,$C168,19))","v":""},{"$f":"IF($B168=\"\",\"\",DATE($B168,$C168,20))","v":""},{"$f":"IF($B168=\"\",\"\",DATE($B168,$C168,21))","v":""},{"$f":"IF($B168=\"\",\"\",DATE($B168,$C168,22))","v":""},{"$f":"IF($B168=\"\",\"\",DATE($B168,$C168,23))","v":""},{"$f":"IF($B168=\"\",\"\",DATE($B168,$C168,24))","v":""},{"$f":"IF($B168=\"\",\"\",DATE($B168,$C168,25))","v":""},{"$f":"IF($B168=\"\",\"\",DATE($B168,$C168,26))","v":""},{"$f":"IF($B168=\"\",\"\",DATE($B168,$C168,27))","v":""},{"$f":"IF($B168=\"\",\"\",DATE($B168,$C168,28))","v":""},{"$f":"IF($B168=\"\",\"\",IF(MONTH(DATE($B168,$C168,29))=$C168,DATE($B168,$C168,29),\"\"))","v":""},{"$f":"IF($B168=\"\",\"\",IF(MONTH(DATE($B168,$C168,30))=$C168,DATE($B168,$C168,30),\"\"))","v":""},{"$f":"IF($B168=\"\",\"\",IF(MONTH(DATE($B168,$C168,31))=$C168,DATE($B168,$C168,31),\"\"))","v":""},"備考"]
["日数",{"$f":"IF(COUNTA(F171:AJ171)=0,0,\nCOUNTIFS(F169:AJ169,\">=\"&J$12,F169:AJ169,\"<=\"&R$12,F171:AJ171,\"出\")+COUNTIFS(F169:AJ169,\">=\"&J$12,F169:AJ169,\"<=\"&R$12,F171:AJ171,\"休\"))","v":0},{"$f":"IF(COUNTA(F172:AJ172)=0,0,\nCOUNTIFS(F169:AJ169,\">=\"&J$12,F169:AJ169,\"<=\"&R$12,F172:AJ172,\"出\")+COUNTIFS(F169:AJ169,\">=\"&J$12,F169:AJ169,\"<=\"&R$12,F172:AJ172,\"休\"))","v":0},null,null,{"$f":"IFERROR(IF(WEEKDAY(F169,1)=1,\"日\",IF(WEEKDAY(F169,1)=2,\"月\",IF(WEEKDAY(F169,1)=3,\"火\",IF(WEEKDAY(F169,1)=4,\"水\",IF(WEEKDAY(F169,1)=5,\"木\",IF(WEEKDAY(F169,1)=6,\"金\",\"土\")))))),\"\")","v":""},{"$f":"IFERROR(IF(WEEKDAY(G169,1)=1,\"日\",IF(WEEKDAY(G169,1)=2,\"月\",IF(WEEKDAY(G169,1)=3,\"火\",IF(WEEKDAY(G169,1)=4,\"水\",IF(WEEKDAY(G169,1)=5,\"木\",IF(WEEKDAY(G169,1)=6,\"金\",\"土\")))))),\"\")","v":""},"","","","","","",{"$f":"IFERROR(IF(WEEKDAY(N169,1)=1,\"日\",IF(WEEKDAY(N169,1)=2,\"月\",IF(WEEKDAY(N169,1)=3,\"火\",IF(WEEKDAY(N169,1)=4,\"水\",IF(WEEKDAY(N169,1)=5,\"木\",IF(WEEKDAY(N169,1)=6,\"金\",\"土\")))))),\"\")","v":""},{"$f":"IFERROR(IF(WEEKDAY(O169,1)=1,\"日\",IF(WEEKDAY(O169,1)=2,\"月\",IF(WEEKDAY(O169,1)=3,\"火\",IF(WEEKDAY(O169,1)=4,\"水\",IF(WEEKDAY(O169,1)=5,\"木\",IF(WEEKDAY(O169,1)=6,\"金\",\"土\")))))),\"\")","v":""},"","","","","","","","","","","","","","","","","","","","",""]
["期間内土日",{"$f":"COUNTIFS(F169:AJ169,\">=\"&J$12,F169:AJ169,\"<=\"&R$12,F170:AJ170,\"土\")+COUNTIFS(F169:AJ169,\">=\"&J$12,F169:AJ169,\"<=\"&R$12,F170:AJ170,\"日\")","v":0},{"$f":"B171","v":0},null,"計画",null,null,null,null,null,null,null,null,null,null,null,null,null,null,null,null,null,null,null,null,null,null,null,null,null,null,null,null,null,null,null,"出⇐勤務日、休⇐休日、－⇐対象外",null,{"$f":"IF(COUNTIFS(F169:AJ169,\">=\"&J$12,F169:AJ169,\"<=\"&R$12)=0,\"\",\nIF(COUNTIFS(F169:AJ169,\">=\"&J$12,F169:AJ169,\"<=\"&R$12)<>B170+COUNTIF(F171:AJ171,\"－\"),\"← 従事期間内で入力されていない日があります。確認してください。\",\"\"))","v":""}]
["休暇",{"$f":"COUNTIFS(F169:AJ169,\">=\"&J$12,F169:AJ169,\"<=\"&R$12,F171:AJ171,\"休\")","v":"00:00:00"},{"$f":"COUNTIFS(F169:AJ169,\">=\"&J$12,F169:AJ169,\"<=\"&R$12,F172:AJ172,\"休\")","v":"00:00:00"},null,"実績",null,null,null,null,null,null,null,null,null,null,null,null,null,null,null,null,null,null,null,null,null,null,null,null,null,null,null,null,null,null,null,null,null,{"$f":"IF(COUNTIFS(F169:AJ169,\">=\"&J$12,F169:AJ169,\"<=\"&R$12)=0,\"\",\nIF(COUNTIFS(F169:AJ169,\">=\"&J$12,F169:AJ169,\"<=\"&R$12)<>C170+COUNTIF(F172:AJ172,\"－\"),\"← 従事期間内で入力されていない日があります。確認してください。\",\"\"))","v":""}]
["判定",{"$f":"IF($R$12-$J$12+1>=28,IF(OR(B170=\"\",B170=0,B171=0),\"対象外\",\nIF(B172/B170<C$1,\"×\",\"○\")),\"対象外\")","v":"対象外"},{"$f":"IF($R$12-$J$12+1>=28,IF(OR(C170=\"\",C170=0,C171=0),\"対象外\",\nIF(C172/C170<C$1,\"×\",\"○\")),\"対象外\")","v":"対象外"},null,"備考"]
[]
["年月",{"$f":"IF(C175=\"\",\"\",IF(C168=12,B168+1,B168))","v":""},{"$f":"IF(C168=\"\",\"\",IF(DATE(IF(C168=12,B168+1,B168),IF(C168=12,1,C168+1),1)>R$5,\"\",IF(C168=12,1,C168+1)))","v":""},null,{"$f":"IF(C175=\"\",\"\",DATE(B175,C175,1))","v":""}]
[null,null,null,null,null,{"$f":"IF($B175=\"\",\"\",DATE($B175,$C175,1))","v":""},{"$f":"IF($B175=\"\",\"\",DATE($B175,$C175,2))","v":""},{"$f":"IF($B175=\"\",\"\",DATE($B175,$C175,3))","v":""},{"$f":"IF($B175=\"\",\"\",DATE($B175,$C175,4))","v":""},{"$f":"IF($B175=\"\",\"\",DATE($B175,$C175,5))","v":""},{"$f":"IF($B175=\"\",\"\",DATE($B175,$C175,6))","v":""},{"$f":"IF($B175=\"\",\"\",DATE($B175,$C175,7))","v":""},{"$f":"IF($B175=\"\",\"\",DATE($B175,$C175,8))","v":""},{"$f":"IF($B175=\"\",\"\",DATE($B175,$C175,9))","v":""},{"$f":"IF($B175=\"\",\"\",DATE($B175,$C175,10))","v":""},{"$f":"IF($B175=\"\",\"\",DATE($B175,$C175,11))","v":""},{"$f":"IF($B175=\"\",\"\",DATE($B175,$C175,12))","v":""},{"$f":"IF($B175=\"\",\"\",DATE($B175,$C175,13))","v":""},{"$f":"IF($B175=\"\",\"\",DATE($B175,$C175,14))","v":""},{"$f":"IF($B175=\"\",\"\",DATE($B175,$C175,15))","v":""},{"$f":"IF($B175=\"\",\"\",DATE($B175,$C175,16))","v":""},{"$f":"IF($B175=\"\",\"\",DATE($B175,$C175,17))","v":""},{"$f":"IF($B175=\"\",\"\",DATE($B175,$C175,18))","v":""},{"$f":"IF($B175=\"\",\"\",DATE($B175,$C175,19))","v":""},{"$f":"IF($B175=\"\",\"\",DATE($B175,$C175,20))","v":""},{"$f":"IF($B175=\"\",\"\",DATE($B175,$C175,21))","v":""},{"$f":"IF($B175=\"\",\"\",DATE($B175,$C175,22))","v":""},{"$f":"IF($B175=\"\",\"\",DATE($B175,$C175,23))","v":""},{"$f":"IF($B175=\"\",\"\",DATE($B175,$C175,24))","v":""},{"$f":"IF($B175=\"\",\"\",DATE($B175,$C175,25))","v":""},{"$f":"IF($B175=\"\",\"\",DATE($B175,$C175,26))","v":""},{"$f":"IF($B175=\"\",\"\",DATE($B175,$C175,27))","v":""},{"$f":"IF($B175=\"\",\"\",DATE($B175,$C175,28))","v":""},{"$f":"IF($B175=\"\",\"\",IF(MONTH(DATE($B175,$C175,29))=$C175,DATE($B175,$C175,29),\"\"))","v":""},{"$f":"IF($B175=\"\",\"\",IF(MONTH(DATE($B175,$C175,30))=$C175,DATE($B175,$C175,30),\"\"))","v":""},{"$f":"IF($B175=\"\",\"\",IF(MONTH(DATE($B175,$C175,31))=$C175,DATE($B175,$C175,31),\"\"))","v":""},"備考"]
["日数",{"$f":"IF(COUNTA(F178:AJ178)=0,0,\nCOUNTIFS(F176:AJ176,\">=\"&J$12,F176:AJ176,\"<=\"&R$12,F178:AJ178,\"出\")+COUNTIFS(F176:AJ176,\">=\"&J$12,F176:AJ176,\"<=\"&R$12,F178:AJ178,\"休\"))","v":0},{"$f":"IF(COUNTA(F179:AJ179)=0,0,\nCOUNTIFS(F176:AJ176,\">=\"&J$12,F176:AJ176,\"<=\"&R$12,F179:AJ179,\"出\")+COUNTIFS(F176:AJ176,\">=\"&J$12,F176:AJ176,\"<=\"&R$12,F179:AJ179,\"休\"))","v":0},null,null,{"$f":"IFERROR(IF(WEEKDAY(F176,1)=1,\"日\",IF(WEEKDAY(F176,1)=2,\"月\",IF(WEEKDAY(F176,1)=3,\"火\",IF(WEEKDAY(F176,1)=4,\"水\",IF(WEEKDAY(F176,1)=5,\"木\",IF(WEEKDAY(F176,1)=6,\"金\",\"土\")))))),\"\")","v":""},{"$f":"IFERROR(IF(WEEKDAY(G176,1)=1,\"日\",IF(WEEKDAY(G176,1)=2,\"月\",IF(WEEKDAY(G176,1)=3,\"火\",IF(WEEKDAY(G176,1)=4,\"水\",IF(WEEKDAY(G176,1)=5,\"木\",IF(WEEKDAY(G176,1)=6,\"金\",\"土\")))))),\"\")","v":""},"","","","","","",{"$f":"IFERROR(IF(WEEKDAY(N176,1)=1,\"日\",IF(WEEKDAY(N176,1)=2,\"月\",IF(WEEKDAY(N176,1)=3,\"火\",IF(WEEKDAY(N176,1)=4,\"水\",IF(WEEKDAY(N176,1)=5,\"木\",IF(WEEKDAY(N176,1)=6,\"金\",\"土\")))))),\"\")","v":""},{"$f":"IFERROR(IF(WEEKDAY(O176,1)=1,\"日\",IF(WEEKDAY(O176,1)=2,\"月\",IF(WEEKDAY(O176,1)=3,\"火\",IF(WEEKDAY(O176,1)=4,\"水\",IF(WEEKDAY(O176,1)=5,\"木\",IF(WEEKDAY(O176,1)=6,\"金\",\"土\")))))),\"\")","v":""},"","","","","","","","","","","","","","","","","","","","",""]
["期間内土日",{"$f":"COUNTIFS(F176:AJ176,\">=\"&J$12,F176:AJ176,\"<=\"&R$12,F177:AJ177,\"土\")+COUNTIFS(F176:AJ176,\">=\"&J$12,F176:AJ176,\"<=\"&R$12,F177:AJ177,\"日\")","v":0},{"$f":"B178","v":0},null,"計画",null,null,null,null,null,null,null,null,null,null,null,null,null,null,null,null,null,null,null,null,null,null,null,null,null,null,null,null,null,null,null,"出⇐勤務日、休⇐休日、－⇐対象外",null,{"$f":"IF(COUNTIFS(F176:AJ176,\">=\"&J$12,F176:AJ176,\"<=\"&R$12)=0,\"\",\nIF(COUNTIFS(F176:AJ176,\">=\"&J$12,F176:AJ176,\"<=\"&R$12)<>B177+COUNTIF(F178:AJ178,\"－\"),\"← 従事期間内で入力されていない日があります。確認してください。\",\"\"))","v":""}]
["休暇",{"$f":"COUNTIFS(F176:AJ176,\">=\"&J$12,F176:AJ176,\"<=\"&R$12,F178:AJ178,\"休\")","v":"00:00:00"},{"$f":"COUNTIFS(F176:AJ176,\">=\"&J$12,F176:AJ176,\"<=\"&R$12,F179:AJ179,\"休\")","v":"00:00:00"},null,"実績",null,null,null,null,null,null,null,null,null,null,null,null,null,null,null,null,null,null,null,null,null,null,null,null,null,null,null,null,null,null,null,null,null,{"$f":"IF(COUNTIFS(F176:AJ176,\">=\"&J$12,F176:AJ176,\"<=\"&R$12)=0,\"\",\nIF(COUNTIFS(F176:AJ176,\">=\"&J$12,F176:AJ176,\"<=\"&R$12)<>C177+COUNTIF(F179:AJ179,\"－\"),\"← 従事期間内で入力されていない日があります。確認してください。\",\"\"))","v":""}]
["判定",{"$f":"IF($R$12-$J$12+1>=28,IF(OR(B177=\"\",B177=0,B178=0),\"対象外\",\nIF(B179/B177<C$1,\"×\",\"○\")),\"対象外\")","v":"対象外"},{"$f":"IF($R$12-$J$12+1>=28,IF(OR(C177=\"\",C177=0,C178=0),\"対象外\",\nIF(C179/C177<C$1,\"×\",\"○\")),\"対象外\")","v":"対象外"},null,"備考"]
[]
["年月",{"$f":"IF(C182=\"\",\"\",IF(C175=12,B175+1,B175))","v":""},{"$f":"IF(C175=\"\",\"\",IF(DATE(IF(C175=12,B175+1,B175),IF(C175=12,1,C175+1),1)>R$5,\"\",IF(C175=12,1,C175+1)))","v":""},null,{"$f":"IF(C182=\"\",\"\",DATE(B182,C182,1))","v":""}]
[null,null,null,null,null,{"$f":"IF($B182=\"\",\"\",DATE($B182,$C182,1))","v":""},{"$f":"IF($B182=\"\",\"\",DATE($B182,$C182,2))","v":""},{"$f":"IF($B182=\"\",\"\",DATE($B182,$C182,3))","v":""},{"$f":"IF($B182=\"\",\"\",DATE($B182,$C182,4))","v":""},{"$f":"IF($B182=\"\",\"\",DATE($B182,$C182,5))","v":""},{"$f":"IF($B182=\"\",\"\",DATE($B182,$C182,6))","v":""},{"$f":"IF($B182=\"\",\"\",DATE($B182,$C182,7))","v":""},{"$f":"IF($B182=\"\",\"\",DATE($B182,$C182,8))","v":""},{"$f":"IF($B182=\"\",\"\",DATE($B182,$C182,9))","v":""},{"$f":"IF($B182=\"\",\"\",DATE($B182,$C182,10))","v":""},{"$f":"IF($B182=\"\",\"\",DATE($B182,$C182,11))","v":""},{"$f":"IF($B182=\"\",\"\",DATE($B182,$C182,12))","v":""},{"$f":"IF($B182=\"\",\"\",DATE($B182,$C182,13))","v":""},{"$f":"IF($B182=\"\",\"\",DATE($B182,$C182,14))","v":""},{"$f":"IF($B182=\"\",\"\",DATE($B182,$C182,15))","v":""},{"$f":"IF($B182=\"\",\"\",DATE($B182,$C182,16))","v":""},{"$f":"IF($B182=\"\",\"\",DATE($B182,$C182,17))","v":""},{"$f":"IF($B182=\"\",\"\",DATE($B182,$C182,18))","v":""},{"$f":"IF($B182=\"\",\"\",DATE($B182,$C182,19))","v":""},{"$f":"IF($B182=\"\",\"\",DATE($B182,$C182,20))","v":""},{"$f":"IF($B182=\"\",\"\",DATE($B182,$C182,21))","v":""},{"$f":"IF($B182=\"\",\"\",DATE($B182,$C182,22))","v":""},{"$f":"IF($B182=\"\",\"\",DATE($B182,$C182,23))","v":""},{"$f":"IF($B182=\"\",\"\",DATE($B182,$C182,24))","v":""},{"$f":"IF($B182=\"\",\"\",DATE($B182,$C182,25))","v":""},{"$f":"IF($B182=\"\",\"\",DATE($B182,$C182,26))","v":""},{"$f":"IF($B182=\"\",\"\",DATE($B182,$C182,27))","v":""},{"$f":"IF($B182=\"\",\"\",DATE($B182,$C182,28))","v":""},{"$f":"IF($B182=\"\",\"\",IF(MONTH(DATE($B182,$C182,29))=$C182,DATE($B182,$C182,29),\"\"))","v":""},{"$f":"IF($B182=\"\",\"\",IF(MONTH(DATE($B182,$C182,30))=$C182,DATE($B182,$C182,30),\"\"))","v":""},{"$f":"IF($B182=\"\",\"\",IF(MONTH(DATE($B182,$C182,31))=$C182,DATE($B182,$C182,31),\"\"))","v":""},"備考"]
["日数",{"$f":"IF(COUNTA(F185:AJ185)=0,0,\nCOUNTIFS(F183:AJ183,\">=\"&J$12,F183:AJ183,\"<=\"&R$12,F185:AJ185,\"出\")+COUNTIFS(F183:AJ183,\">=\"&J$12,F183:AJ183,\"<=\"&R$12,F185:AJ185,\"休\"))","v":0},{"$f":"IF(COUNTA(F186:AJ186)=0,0,\nCOUNTIFS(F183:AJ183,\">=\"&J$12,F183:AJ183,\"<=\"&R$12,F186:AJ186,\"出\")+COUNTIFS(F183:AJ183,\">=\"&J$12,F183:AJ183,\"<=\"&R$12,F186:AJ186,\"休\"))","v":0},null,null,{"$f":"IFERROR(IF(WEEKDAY(F183,1)=1,\"日\",IF(WEEKDAY(F183,1)=2,\"月\",IF(WEEKDAY(F183,1)=3,\"火\",IF(WEEKDAY(F183,1)=4,\"水\",IF(WEEKDAY(F183,1)=5,\"木\",IF(WEEKDAY(F183,1)=6,\"金\",\"土\")))))),\"\")","v":""},{"$f":"IFERROR(IF(WEEKDAY(G183,1)=1,\"日\",IF(WEEKDAY(G183,1)=2,\"月\",IF(WEEKDAY(G183,1)=3,\"火\",IF(WEEKDAY(G183,1)=4,\"水\",IF(WEEKDAY(G183,1)=5,\"木\",IF(WEEKDAY(G183,1)=6,\"金\",\"土\")))))),\"\")","v":""},"","","","","","",{"$f":"IFERROR(IF(WEEKDAY(N183,1)=1,\"日\",IF(WEEKDAY(N183,1)=2,\"月\",IF(WEEKDAY(N183,1)=3,\"火\",IF(WEEKDAY(N183,1)=4,\"水\",IF(WEEKDAY(N183,1)=5,\"木\",IF(WEEKDAY(N183,1)=6,\"金\",\"土\")))))),\"\")","v":""},{"$f":"IFERROR(IF(WEEKDAY(O183,1)=1,\"日\",IF(WEEKDAY(O183,1)=2,\"月\",IF(WEEKDAY(O183,1)=3,\"火\",IF(WEEKDAY(O183,1)=4,\"水\",IF(WEEKDAY(O183,1)=5,\"木\",IF(WEEKDAY(O183,1)=6,\"金\",\"土\")))))),\"\")","v":""},"","","","","","","","","","","","","","","","","","","","",""]
["期間内土日",{"$f":"COUNTIFS(F183:AJ183,\">=\"&J$12,F183:AJ183,\"<=\"&R$12,F184:AJ184,\"土\")+COUNTIFS(F183:AJ183,\">=\"&J$12,F183:AJ183,\"<=\"&R$12,F184:AJ184,\"日\")","v":0},{"$f":"B185","v":0},null,"計画",null,null,null,null,null,null,null,null,null,null,null,null,null,null,null,null,null,null,null,null,null,null,null,null,null,null,null,null,null,null,null,"出⇐勤務日、休⇐休日、－⇐対象外",null,{"$f":"IF(COUNTIFS(F183:AJ183,\">=\"&J$12,F183:AJ183,\"<=\"&R$12)=0,\"\",\nIF(COUNTIFS(F183:AJ183,\">=\"&J$12,F183:AJ183,\"<=\"&R$12)<>B184+COUNTIF(F185:AJ185,\"－\"),\"← 従事期間内で入力されていない日があります。確認してください。\",\"\"))","v":""}]
["休暇",{"$f":"COUNTIFS(F183:AJ183,\">=\"&J$12,F183:AJ183,\"<=\"&R$12,F185:AJ185,\"休\")","v":"00:00:00"},{"$f":"COUNTIFS(F183:AJ183,\">=\"&J$12,F183:AJ183,\"<=\"&R$12,F186:AJ186,\"休\")","v":"00:00:00"},null,"実績",null,null,null,null,null,null,null,null,null,null,null,null,null,null,null,null,null,null,null,null,null,null,null,null,null,null,null,null,null,null,null,null,null,{"$f":"IF(COUNTIFS(F183:AJ183,\">=\"&J$12,F183:AJ183,\"<=\"&R$12)=0,\"\",\nIF(COUNTIFS(F183:AJ183,\">=\"&J$12,F183:AJ183,\"<=\"&R$12)<>C184+COUNTIF(F186:AJ186,\"－\"),\"← 従事期間内で入力されていない日があります。確認してください。\",\"\"))","v":""}]
["判定",{"$f":"IF($R$12-$J$12+1>=28,IF(OR(B184=\"\",B184=0,B185=0),\"対象外\",\nIF(B186/B184<C$1,\"×\",\"○\")),\"対象外\")","v":"対象外"},{"$f":"IF($R$12-$J$12+1>=28,IF(OR(C184=\"\",C184=0,C185=0),\"対象外\",\nIF(C186/C184<C$1,\"×\",\"○\")),\"対象外\")","v":"対象外"},null,"備考"]
[]
["年月",{"$f":"IF(C189=\"\",\"\",IF(C182=12,B182+1,B182))","v":""},{"$f":"IF(C182=\"\",\"\",IF(DATE(IF(C182=12,B182+1,B182),IF(C182=12,1,C182+1),1)>R$5,\"\",IF(C182=12,1,C182+1)))","v":""},null,{"$f":"IF(C189=\"\",\"\",DATE(B189,C189,1))","v":""}]
[null,null,null,null,null,{"$f":"IF($B189=\"\",\"\",DATE($B189,$C189,1))","v":""},{"$f":"IF($B189=\"\",\"\",DATE($B189,$C189,2))","v":""},{"$f":"IF($B189=\"\",\"\",DATE($B189,$C189,3))","v":""},{"$f":"IF($B189=\"\",\"\",DATE($B189,$C189,4))","v":""},{"$f":"IF($B189=\"\",\"\",DATE($B189,$C189,5))","v":""},{"$f":"IF($B189=\"\",\"\",DATE($B189,$C189,6))","v":""},{"$f":"IF($B189=\"\",\"\",DATE($B189,$C189,7))","v":""},{"$f":"IF($B189=\"\",\"\",DATE($B189,$C189,8))","v":""},{"$f":"IF($B189=\"\",\"\",DATE($B189,$C189,9))","v":""},{"$f":"IF($B189=\"\",\"\",DATE($B189,$C189,10))","v":""},{"$f":"IF($B189=\"\",\"\",DATE($B189,$C189,11))","v":""},{"$f":"IF($B189=\"\",\"\",DATE($B189,$C189,12))","v":""},{"$f":"IF($B189=\"\",\"\",DATE($B189,$C189,13))","v":""},{"$f":"IF($B189=\"\",\"\",DATE($B189,$C189,14))","v":""},{"$f":"IF($B189=\"\",\"\",DATE($B189,$C189,15))","v":""},{"$f":"IF($B189=\"\",\"\",DATE($B189,$C189,16))","v":""},{"$f":"IF($B189=\"\",\"\",DATE($B189,$C189,17))","v":""},{"$f":"IF($B189=\"\",\"\",DATE($B189,$C189,18))","v":""},{"$f":"IF($B189=\"\",\"\",DATE($B189,$C189,19))","v":""},{"$f":"IF($B189=\"\",\"\",DATE($B189,$C189,20))","v":""},{"$f":"IF($B189=\"\",\"\",DATE($B189,$C189,21))","v":""},{"$f":"IF($B189=\"\",\"\",DATE($B189,$C189,22))","v":""},{"$f":"IF($B189=\"\",\"\",DATE($B189,$C189,23))","v":""},{"$f":"IF($B189=\"\",\"\",DATE($B189,$C189,24))","v":""},{"$f":"IF($B189=\"\",\"\",DATE($B189,$C189,25))","v":""},{"$f":"IF($B189=\"\",\"\",DATE($B189,$C189,26))","v":""},{"$f":"IF($B189=\"\",\"\",DATE($B189,$C189,27))","v":""},{"$f":"IF($B189=\"\",\"\",DATE($B189,$C189,28))","v":""},{"$f":"IF($B189=\"\",\"\",IF(MONTH(DATE($B189,$C189,29))=$C189,DATE($B189,$C189,29),\"\"))","v":""},{"$f":"IF($B189=\"\",\"\",IF(MONTH(DATE($B189,$C189,30))=$C189,DATE($B189,$C189,30),\"\"))","v":""},{"$f":"IF($B189=\"\",\"\",IF(MONTH(DATE($B189,$C189,31))=$C189,DATE($B189,$C189,31),\"\"))","v":""},"備考"]
["日数",{"$f":"IF(COUNTA(F192:AJ192)=0,0,\nCOUNTIFS(F190:AJ190,\">=\"&J$12,F190:AJ190,\"<=\"&R$12,F192:AJ192,\"出\")+COUNTIFS(F190:AJ190,\">=\"&J$12,F190:AJ190,\"<=\"&R$12,F192:AJ192,\"休\"))","v":0},{"$f":"IF(COUNTA(F193:AJ193)=0,0,\nCOUNTIFS(F190:AJ190,\">=\"&J$12,F190:AJ190,\"<=\"&R$12,F193:AJ193,\"出\")+COUNTIFS(F190:AJ190,\">=\"&J$12,F190:AJ190,\"<=\"&R$12,F193:AJ193,\"休\"))","v":0},null,null,{"$f":"IFERROR(IF(WEEKDAY(F190,1)=1,\"日\",IF(WEEKDAY(F190,1)=2,\"月\",IF(WEEKDAY(F190,1)=3,\"火\",IF(WEEKDAY(F190,1)=4,\"水\",IF(WEEKDAY(F190,1)=5,\"木\",IF(WEEKDAY(F190,1)=6,\"金\",\"土\")))))),\"\")","v":""},{"$f":"IFERROR(IF(WEEKDAY(G190,1)=1,\"日\",IF(WEEKDAY(G190,1)=2,\"月\",IF(WEEKDAY(G190,1)=3,\"火\",IF(WEEKDAY(G190,1)=4,\"水\",IF(WEEKDAY(G190,1)=5,\"木\",IF(WEEKDAY(G190,1)=6,\"金\",\"土\")))))),\"\")","v":""},"","","","","","",{"$f":"IFERROR(IF(WEEKDAY(N190,1)=1,\"日\",IF(WEEKDAY(N190,1)=2,\"月\",IF(WEEKDAY(N190,1)=3,\"火\",IF(WEEKDAY(N190,1)=4,\"水\",IF(WEEKDAY(N190,1)=5,\"木\",IF(WEEKDAY(N190,1)=6,\"金\",\"土\")))))),\"\")","v":""},{"$f":"IFERROR(IF(WEEKDAY(O190,1)=1,\"日\",IF(WEEKDAY(O190,1)=2,\"月\",IF(WEEKDAY(O190,1)=3,\"火\",IF(WEEKDAY(O190,1)=4,\"水\",IF(WEEKDAY(O190,1)=5,\"木\",IF(WEEKDAY(O190,1)=6,\"金\",\"土\")))))),\"\")","v":""},"","","","","","","","","","","","","","","","","","","","",""]
["期間内土日",{"$f":"COUNTIFS(F190:AJ190,\">=\"&J$12,F190:AJ190,\"<=\"&R$12,F191:AJ191,\"土\")+COUNTIFS(F190:AJ190,\">=\"&J$12,F190:AJ190,\"<=\"&R$12,F191:AJ191,\"日\")","v":0},{"$f":"B192","v":0},null,"計画",null,null,null,null,null,null,null,null,null,null,null,null,null,null,null,null,null,null,null,null,null,null,null,null,null,null,null,null,null,null,null,"出⇐勤務日、休⇐休日、－⇐対象外",null,{"$f":"IF(COUNTIFS(F190:AJ190,\">=\"&J$12,F190:AJ190,\"<=\"&R$12)=0,\"\",\nIF(COUNTIFS(F190:AJ190,\">=\"&J$12,F190:AJ190,\"<=\"&R$12)<>B191+COUNTIF(F192:AJ192,\"－\"),\"← 従事期間内で入力されていない日があります。確認してください。\",\"\"))","v":""}]
["休暇",{"$f":"COUNTIFS(F190:AJ190,\">=\"&J$12,F190:AJ190,\"<=\"&R$12,F192:AJ192,\"休\")","v":"00:00:00"},{"$f":"COUNTIFS(F190:AJ190,\">=\"&J$12,F190:AJ190,\"<=\"&R$12,F193:AJ193,\"休\")","v":"00:00:00"},null,"実績",null,null,null,null,null,null,null,null,null,null,null,null,null,null,null,null,null,null,null,null,null,null,null,null,null,null,null,null,null,null,null,null,null,{"$f":"IF(COUNTIFS(F190:AJ190,\">=\"&J$12,F190:AJ190,\"<=\"&R$12)=0,\"\",\nIF(COUNTIFS(F190:AJ190,\">=\"&J$12,F190:AJ190,\"<=\"&R$12)<>C191+COUNTIF(F193:AJ193,\"－\"),\"← 従事期間内で入力されていない日があります。確認してください。\",\"\"))","v":""}]
["判定",{"$f":"IF($R$12-$J$12+1>=28,IF(OR(B191=\"\",B191=0,B192=0),\"対象外\",\nIF(B193/B191<C$1,\"×\",\"○\")),\"対象外\")","v":"対象外"},{"$f":"IF($R$12-$J$12+1>=28,IF(OR(C191=\"\",C191=0,C192=0),\"対象外\",\nIF(C193/C191<C$1,\"×\",\"○\")),\"対象外\")","v":"対象外"},null,"備考"]
[]
["年月",{"$f":"IF(C196=\"\",\"\",IF(C189=12,B189+1,B189))","v":""},{"$f":"IF(C189=\"\",\"\",IF(DATE(IF(C189=12,B189+1,B189),IF(C189=12,1,C189+1),1)>R$5,\"\",IF(C189=12,1,C189+1)))","v":""},null,{"$f":"IF(C196=\"\",\"\",DATE(B196,C196,1))","v":""}]
[null,null,null,null,null,{"$f":"IF($B196=\"\",\"\",DATE($B196,$C196,1))","v":""},{"$f":"IF($B196=\"\",\"\",DATE($B196,$C196,2))","v":""},{"$f":"IF($B196=\"\",\"\",DATE($B196,$C196,3))","v":""},{"$f":"IF($B196=\"\",\"\",DATE($B196,$C196,4))","v":""},{"$f":"IF($B196=\"\",\"\",DATE($B196,$C196,5))","v":""},{"$f":"IF($B196=\"\",\"\",DATE($B196,$C196,6))","v":""},{"$f":"IF($B196=\"\",\"\",DATE($B196,$C196,7))","v":""},{"$f":"IF($B196=\"\",\"\",DATE($B196,$C196,8))","v":""},{"$f":"IF($B196=\"\",\"\",DATE($B196,$C196,9))","v":""},{"$f":"IF($B196=\"\",\"\",DATE($B196,$C196,10))","v":""},{"$f":"IF($B196=\"\",\"\",DATE($B196,$C196,11))","v":""},{"$f":"IF($B196=\"\",\"\",DATE($B196,$C196,12))","v":""},{"$f":"IF($B196=\"\",\"\",DATE($B196,$C196,13))","v":""},{"$f":"IF($B196=\"\",\"\",DATE($B196,$C196,14))","v":""},{"$f":"IF($B196=\"\",\"\",DATE($B196,$C196,15))","v":""},{"$f":"IF($B196=\"\",\"\",DATE($B196,$C196,16))","v":""},{"$f":"IF($B196=\"\",\"\",DATE($B196,$C196,17))","v":""},{"$f":"IF($B196=\"\",\"\",DATE($B196,$C196,18))","v":""},{"$f":"IF($B196=\"\",\"\",DATE($B196,$C196,19))","v":""},{"$f":"IF($B196=\"\",\"\",DATE($B196,$C196,20))","v":""},{"$f":"IF($B196=\"\",\"\",DATE($B196,$C196,21))","v":""},{"$f":"IF($B196=\"\",\"\",DATE($B196,$C196,22))","v":""},{"$f":"IF($B196=\"\",\"\",DATE($B196,$C196,23))","v":""},{"$f":"IF($B196=\"\",\"\",DATE($B196,$C196,24))","v":""},{"$f":"IF($B196=\"\",\"\",DATE($B196,$C196,25))","v":""},{"$f":"IF($B196=\"\",\"\",DATE($B196,$C196,26))","v":""},{"$f":"IF($B196=\"\",\"\",DATE($B196,$C196,27))","v":""},{"$f":"IF($B196=\"\",\"\",DATE($B196,$C196,28))","v":""},{"$f":"IF($B196=\"\",\"\",IF(MONTH(DATE($B196,$C196,29))=$C196,DATE($B196,$C196,29),\"\"))","v":""},{"$f":"IF($B196=\"\",\"\",IF(MONTH(DATE($B196,$C196,30))=$C196,DATE($B196,$C196,30),\"\"))","v":""},{"$f":"IF($B196=\"\",\"\",IF(MONTH(DATE($B196,$C196,31))=$C196,DATE($B196,$C196,31),\"\"))","v":""},"備考"]
["日数",{"$f":"IF(COUNTA(F199:AJ199)=0,0,\nCOUNTIFS(F197:AJ197,\">=\"&J$12,F197:AJ197,\"<=\"&R$12,F199:AJ199,\"出\")+COUNTIFS(F197:AJ197,\">=\"&J$12,F197:AJ197,\"<=\"&R$12,F199:AJ199,\"休\"))","v":0},{"$f":"IF(COUNTA(F200:AJ200)=0,0,\nCOUNTIFS(F197:AJ197,\">=\"&J$12,F197:AJ197,\"<=\"&R$12,F200:AJ200,\"出\")+COUNTIFS(F197:AJ197,\">=\"&J$12,F197:AJ197,\"<=\"&R$12,F200:AJ200,\"休\"))","v":0},null,null,{"$f":"IFERROR(IF(WEEKDAY(F197,1)=1,\"日\",IF(WEEKDAY(F197,1)=2,\"月\",IF(WEEKDAY(F197,1)=3,\"火\",IF(WEEKDAY(F197,1)=4,\"水\",IF(WEEKDAY(F197,1)=5,\"木\",IF(WEEKDAY(F197,1)=6,\"金\",\"土\")))))),\"\")","v":""},{"$f":"IFERROR(IF(WEEKDAY(G197,1)=1,\"日\",IF(WEEKDAY(G197,1)=2,\"月\",IF(WEEKDAY(G197,1)=3,\"火\",IF(WEEKDAY(G197,1)=4,\"水\",IF(WEEKDAY(G197,1)=5,\"木\",IF(WEEKDAY(G197,1)=6,\"金\",\"土\")))))),\"\")","v":""},"","","","","","",{"$f":"IFERROR(IF(WEEKDAY(N197,1)=1,\"日\",IF(WEEKDAY(N197,1)=2,\"月\",IF(WEEKDAY(N197,1)=3,\"火\",IF(WEEKDAY(N197,1)=4,\"水\",IF(WEEKDAY(N197,1)=5,\"木\",IF(WEEKDAY(N197,1)=6,\"金\",\"土\")))))),\"\")","v":""},{"$f":"IFERROR(IF(WEEKDAY(O197,1)=1,\"日\",IF(WEEKDAY(O197,1)=2,\"月\",IF(WEEKDAY(O197,1)=3,\"火\",IF(WEEKDAY(O197,1)=4,\"水\",IF(WEEKDAY(O197,1)=5,\"木\",IF(WEEKDAY(O197,1)=6,\"金\",\"土\")))))),\"\")","v":""},"","","","","","","","","","","","","","","","","","","","",""]
["期間内土日",{"$f":"COUNTIFS(F197:AJ197,\">=\"&J$12,F197:AJ197,\"<=\"&R$12,F198:AJ198,\"土\")+COUNTIFS(F197:AJ197,\">=\"&J$12,F197:AJ197,\"<=\"&R$12,F198:AJ198,\"日\")","v":0},{"$f":"B199","v":0},null,"計画",null,null,null,null,null,null,null,null,null,null,null,null,null,null,null,null,null,null,null,null,null,null,null,null,null,null,null,null,null,null,null,"出⇐勤務日、休⇐休日、－⇐対象外",null,{"$f":"IF(COUNTIFS(F197:AJ197,\">=\"&J$12,F197:AJ197,\"<=\"&R$12)=0,\"\",\nIF(COUNTIFS(F197:AJ197,\">=\"&J$12,F197:AJ197,\"<=\"&R$12)<>B198+COUNTIF(F199:AJ199,\"－\"),\"← 従事期間内で入力されていない日があります。確認してください。\",\"\"))","v":""}]
["休暇",{"$f":"COUNTIFS(F197:AJ197,\">=\"&J$12,F197:AJ197,\"<=\"&R$12,F199:AJ199,\"休\")","v":"00:00:00"},{"$f":"COUNTIFS(F197:AJ197,\">=\"&J$12,F197:AJ197,\"<=\"&R$12,F200:AJ200,\"休\")","v":"00:00:00"},null,"実績",null,null,null,null,null,null,null,null,null,null,null,null,null,null,null,null,null,null,null,null,null,null,null,null,null,null,null,null,null,null,null,null,null,{"$f":"IF(COUNTIFS(F197:AJ197,\">=\"&J$12,F197:AJ197,\"<=\"&R$12)=0,\"\",\nIF(COUNTIFS(F197:AJ197,\">=\"&J$12,F197:AJ197,\"<=\"&R$12)<>C198+COUNTIF(F200:AJ200,\"－\"),\"← 従事期間内で入力されていない日があります。確認してください。\",\"\"))","v":""}]
["判定",{"$f":"IF($R$12-$J$12+1>=28,IF(OR(B198=\"\",B198=0,B199=0),\"対象外\",\nIF(B200/B198<C$1,\"×\",\"○\")),\"対象外\")","v":"対象外"},{"$f":"IF($R$12-$J$12+1>=28,IF(OR(C198=\"\",C198=0,C199=0),\"対象外\",\nIF(C200/C198<C$1,\"×\",\"○\")),\"対象外\")","v":"対象外"},null,"備考"]
[]
["年月",{"$f":"IF(C203=\"\",\"\",IF(C196=12,B196+1,B196))","v":""},{"$f":"IF(C196=\"\",\"\",IF(DATE(IF(C196=12,B196+1,B196),IF(C196=12,1,C196+1),1)>R$5,\"\",IF(C196=12,1,C196+1)))","v":""},null,{"$f":"IF(C203=\"\",\"\",DATE(B203,C203,1))","v":""}]
[null,null,null,null,null,{"$f":"IF($B203=\"\",\"\",DATE($B203,$C203,1))","v":""},{"$f":"IF($B203=\"\",\"\",DATE($B203,$C203,2))","v":""},{"$f":"IF($B203=\"\",\"\",DATE($B203,$C203,3))","v":""},{"$f":"IF($B203=\"\",\"\",DATE($B203,$C203,4))","v":""},{"$f":"IF($B203=\"\",\"\",DATE($B203,$C203,5))","v":""},{"$f":"IF($B203=\"\",\"\",DATE($B203,$C203,6))","v":""},{"$f":"IF($B203=\"\",\"\",DATE($B203,$C203,7))","v":""},{"$f":"IF($B203=\"\",\"\",DATE($B203,$C203,8))","v":""},{"$f":"IF($B203=\"\",\"\",DATE($B203,$C203,9))","v":""},{"$f":"IF($B203=\"\",\"\",DATE($B203,$C203,10))","v":""},{"$f":"IF($B203=\"\",\"\",DATE($B203,$C203,11))","v":""},{"$f":"IF($B203=\"\",\"\",DATE($B203,$C203,12))","v":""},{"$f":"IF($B203=\"\",\"\",DATE($B203,$C203,13))","v":""},{"$f":"IF($B203=\"\",\"\",DATE($B203,$C203,14))","v":""},{"$f":"IF($B203=\"\",\"\",DATE($B203,$C203,15))","v":""},{"$f":"IF($B203=\"\",\"\",DATE($B203,$C203,16))","v":""},{"$f":"IF($B203=\"\",\"\",DATE($B203,$C203,17))","v":""},{"$f":"IF($B203=\"\",\"\",DATE($B203,$C203,18))","v":""},{"$f":"IF($B203=\"\",\"\",DATE($B203,$C203,19))","v":""},{"$f":"IF($B203=\"\",\"\",DATE($B203,$C203,20))","v":""},{"$f":"IF($B203=\"\",\"\",DATE($B203,$C203,21))","v":""},{"$f":"IF($B203=\"\",\"\",DATE($B203,$C203,22))","v":""},{"$f":"IF($B203=\"\",\"\",DATE($B203,$C203,23))","v":""},{"$f":"IF($B203=\"\",\"\",DATE($B203,$C203,24))","v":""},{"$f":"IF($B203=\"\",\"\",DATE($B203,$C203,25))","v":""},{"$f":"IF($B203=\"\",\"\",DATE($B203,$C203,26))","v":""},{"$f":"IF($B203=\"\",\"\",DATE($B203,$C203,27))","v":""},{"$f":"IF($B203=\"\",\"\",DATE($B203,$C203,28))","v":""},{"$f":"IF($B203=\"\",\"\",IF(MONTH(DATE($B203,$C203,29))=$C203,DATE($B203,$C203,29),\"\"))","v":""},{"$f":"IF($B203=\"\",\"\",IF(MONTH(DATE($B203,$C203,30))=$C203,DATE($B203,$C203,30),\"\"))","v":""},{"$f":"IF($B203=\"\",\"\",IF(MONTH(DATE($B203,$C203,31))=$C203,DATE($B203,$C203,31),\"\"))","v":""},"備考"]
["日数",{"$f":"IF(COUNTA(F206:AJ206)=0,0,\nCOUNTIFS(F204:AJ204,\">=\"&J$12,F204:AJ204,\"<=\"&R$12,F206:AJ206,\"出\")+COUNTIFS(F204:AJ204,\">=\"&J$12,F204:AJ204,\"<=\"&R$12,F206:AJ206,\"休\"))","v":0},{"$f":"IF(COUNTA(F207:AJ207)=0,0,\nCOUNTIFS(F204:AJ204,\">=\"&J$12,F204:AJ204,\"<=\"&R$12,F207:AJ207,\"出\")+COUNTIFS(F204:AJ204,\">=\"&J$12,F204:AJ204,\"<=\"&R$12,F207:AJ207,\"休\"))","v":0},null,null,{"$f":"IFERROR(IF(WEEKDAY(F204,1)=1,\"日\",IF(WEEKDAY(F204,1)=2,\"月\",IF(WEEKDAY(F204,1)=3,\"火\",IF(WEEKDAY(F204,1)=4,\"水\",IF(WEEKDAY(F204,1)=5,\"木\",IF(WEEKDAY(F204,1)=6,\"金\",\"土\")))))),\"\")","v":""},{"$f":"IFERROR(IF(WEEKDAY(G204,1)=1,\"日\",IF(WEEKDAY(G204,1)=2,\"月\",IF(WEEKDAY(G204,1)=3,\"火\",IF(WEEKDAY(G204,1)=4,\"水\",IF(WEEKDAY(G204,1)=5,\"木\",IF(WEEKDAY(G204,1)=6,\"金\",\"土\")))))),\"\")","v":""},"","","","","","",{"$f":"IFERROR(IF(WEEKDAY(N204,1)=1,\"日\",IF(WEEKDAY(N204,1)=2,\"月\",IF(WEEKDAY(N204,1)=3,\"火\",IF(WEEKDAY(N204,1)=4,\"水\",IF(WEEKDAY(N204,1)=5,\"木\",IF(WEEKDAY(N204,1)=6,\"金\",\"土\")))))),\"\")","v":""},{"$f":"IFERROR(IF(WEEKDAY(O204,1)=1,\"日\",IF(WEEKDAY(O204,1)=2,\"月\",IF(WEEKDAY(O204,1)=3,\"火\",IF(WEEKDAY(O204,1)=4,\"水\",IF(WEEKDAY(O204,1)=5,\"木\",IF(WEEKDAY(O204,1)=6,\"金\",\"土\")))))),\"\")","v":""},"","","","","","","","","","","","","","","","","","","","",""]
["期間内土日",{"$f":"COUNTIFS(F204:AJ204,\">=\"&J$12,F204:AJ204,\"<=\"&R$12,F205:AJ205,\"土\")+COUNTIFS(F204:AJ204,\">=\"&J$12,F204:AJ204,\"<=\"&R$12,F205:AJ205,\"日\")","v":0},{"$f":"B206","v":0},null,"計画",null,null,null,null,null,null,null,null,null,null,null,null,null,null,null,null,null,null,null,null,null,null,null,null,null,null,null,null,null,null,null,"出⇐勤務日、休⇐休日、－⇐対象外",null,{"$f":"IF(COUNTIFS(F204:AJ204,\">=\"&J$12,F204:AJ204,\"<=\"&R$12)=0,\"\",\nIF(COUNTIFS(F204:AJ204,\">=\"&J$12,F204:AJ204,\"<=\"&R$12)<>B205+COUNTIF(F206:AJ206,\"－\"),\"← 従事期間内で入力されていない日があります。確認してください。\",\"\"))","v":""}]
["休暇",{"$f":"COUNTIFS(F204:AJ204,\">=\"&J$12,F204:AJ204,\"<=\"&R$12,F206:AJ206,\"休\")","v":"00:00:00"},{"$f":"COUNTIFS(F204:AJ204,\">=\"&J$12,F204:AJ204,\"<=\"&R$12,F207:AJ207,\"休\")","v":"00:00:00"},null,"実績",null,null,null,null,null,null,null,null,null,null,null,null,null,null,null,null,null,null,null,null,null,null,null,null,null,null,null,null,null,null,null,null,null,{"$f":"IF(COUNTIFS(F204:AJ204,\">=\"&J$12,F204:AJ204,\"<=\"&R$12)=0,\"\",\nIF(COUNTIFS(F204:AJ204,\">=\"&J$12,F204:AJ204,\"<=\"&R$12)<>C205+COUNTIF(F207:AJ207,\"－\"),\"← 従事期間内で入力されていない日があります。確認してください。\",\"\"))","v":""}]
["判定",{"$f":"IF($R$12-$J$12+1>=28,IF(OR(B205=\"\",B205=0,B206=0),\"対象外\",\nIF(B207/B205<C$1,\"×\",\"○\")),\"対象外\")","v":"対象外"},{"$f":"IF($R$12-$J$12+1>=28,IF(OR(C205=\"\",C205=0,C206=0),\"対象外\",\nIF(C207/C205<C$1,\"×\",\"○\")),\"対象外\")","v":"対象外"},null,"備考"]
[]
["年月",{"$f":"IF(C210=\"\",\"\",IF(C203=12,B203+1,B203))","v":""},{"$f":"IF(C203=\"\",\"\",IF(DATE(IF(C203=12,B203+1,B203),IF(C203=12,1,C203+1),1)>R$5,\"\",IF(C203=12,1,C203+1)))","v":""},null,{"$f":"IF(C210=\"\",\"\",DATE(B210,C210,1))","v":""}]
[null,null,null,null,null,{"$f":"IF($B210=\"\",\"\",DATE($B210,$C210,1))","v":""},{"$f":"IF($B210=\"\",\"\",DATE($B210,$C210,2))","v":""},{"$f":"IF($B210=\"\",\"\",DATE($B210,$C210,3))","v":""},{"$f":"IF($B210=\"\",\"\",DATE($B210,$C210,4))","v":""},{"$f":"IF($B210=\"\",\"\",DATE($B210,$C210,5))","v":""},{"$f":"IF($B210=\"\",\"\",DATE($B210,$C210,6))","v":""},{"$f":"IF($B210=\"\",\"\",DATE($B210,$C210,7))","v":""},{"$f":"IF($B210=\"\",\"\",DATE($B210,$C210,8))","v":""},{"$f":"IF($B210=\"\",\"\",DATE($B210,$C210,9))","v":""},{"$f":"IF($B210=\"\",\"\",DATE($B210,$C210,10))","v":""},{"$f":"IF($B210=\"\",\"\",DATE($B210,$C210,11))","v":""},{"$f":"IF($B210=\"\",\"\",DATE($B210,$C210,12))","v":""},{"$f":"IF($B210=\"\",\"\",DATE($B210,$C210,13))","v":""},{"$f":"IF($B210=\"\",\"\",DATE($B210,$C210,14))","v":""},{"$f":"IF($B210=\"\",\"\",DATE($B210,$C210,15))","v":""},{"$f":"IF($B210=\"\",\"\",DATE($B210,$C210,16))","v":""},{"$f":"IF($B210=\"\",\"\",DATE($B210,$C210,17))","v":""},{"$f":"IF($B210=\"\",\"\",DATE($B210,$C210,18))","v":""},{"$f":"IF($B210=\"\",\"\",DATE($B210,$C210,19))","v":""},{"$f":"IF($B210=\"\",\"\",DATE($B210,$C210,20))","v":""},{"$f":"IF($B210=\"\",\"\",DATE($B210,$C210,21))","v":""},{"$f":"IF($B210=\"\",\"\",DATE($B210,$C210,22))","v":""},{"$f":"IF($B210=\"\",\"\",DATE($B210,$C210,23))","v":""},{"$f":"IF($B210=\"\",\"\",DATE($B210,$C210,24))","v":""},{"$f":"IF($B210=\"\",\"\",DATE($B210,$C210,25))","v":""},{"$f":"IF($B210=\"\",\"\",DATE($B210,$C210,26))","v":""},{"$f":"IF($B210=\"\",\"\",DATE($B210,$C210,27))","v":""},{"$f":"IF($B210=\"\",\"\",DATE($B210,$C210,28))","v":""},{"$f":"IF($B210=\"\",\"\",IF(MONTH(DATE($B210,$C210,29))=$C210,DATE($B210,$C210,29),\"\"))","v":""},{"$f":"IF($B210=\"\",\"\",IF(MONTH(DATE($B210,$C210,30))=$C210,DATE($B210,$C210,30),\"\"))","v":""},{"$f":"IF($B210=\"\",\"\",IF(MONTH(DATE($B210,$C210,31))=$C210,DATE($B210,$C210,31),\"\"))","v":""},"備考"]
["日数",{"$f":"IF(COUNTA(F213:AJ213)=0,0,\nCOUNTIFS(F211:AJ211,\">=\"&J$12,F211:AJ211,\"<=\"&R$12,F213:AJ213,\"出\")+COUNTIFS(F211:AJ211,\">=\"&J$12,F211:AJ211,\"<=\"&R$12,F213:AJ213,\"休\"))","v":0},{"$f":"IF(COUNTA(F214:AJ214)=0,0,\nCOUNTIFS(F211:AJ211,\">=\"&J$12,F211:AJ211,\"<=\"&R$12,F214:AJ214,\"出\")+COUNTIFS(F211:AJ211,\">=\"&J$12,F211:AJ211,\"<=\"&R$12,F214:AJ214,\"休\"))","v":0},null,null,{"$f":"IFERROR(IF(WEEKDAY(F211,1)=1,\"日\",IF(WEEKDAY(F211,1)=2,\"月\",IF(WEEKDAY(F211,1)=3,\"火\",IF(WEEKDAY(F211,1)=4,\"水\",IF(WEEKDAY(F211,1)=5,\"木\",IF(WEEKDAY(F211,1)=6,\"金\",\"土\")))))),\"\")","v":""},{"$f":"IFERROR(IF(WEEKDAY(G211,1)=1,\"日\",IF(WEEKDAY(G211,1)=2,\"月\",IF(WEEKDAY(G211,1)=3,\"火\",IF(WEEKDAY(G211,1)=4,\"水\",IF(WEEKDAY(G211,1)=5,\"木\",IF(WEEKDAY(G211,1)=6,\"金\",\"土\")))))),\"\")","v":""},"","","","","","",{"$f":"IFERROR(IF(WEEKDAY(N211,1)=1,\"日\",IF(WEEKDAY(N211,1)=2,\"月\",IF(WEEKDAY(N211,1)=3,\"火\",IF(WEEKDAY(N211,1)=4,\"水\",IF(WEEKDAY(N211,1)=5,\"木\",IF(WEEKDAY(N211,1)=6,\"金\",\"土\")))))),\"\")","v":""},{"$f":"IFERROR(IF(WEEKDAY(O211,1)=1,\"日\",IF(WEEKDAY(O211,1)=2,\"月\",IF(WEEKDAY(O211,1)=3,\"火\",IF(WEEKDAY(O211,1)=4,\"水\",IF(WEEKDAY(O211,1)=5,\"木\",IF(WEEKDAY(O211,1)=6,\"金\",\"土\")))))),\"\")","v":""},"","","","","","","","","","","","","","","","","","","","",""]
["期間内土日",{"$f":"COUNTIFS(F211:AJ211,\">=\"&J$12,F211:AJ211,\"<=\"&R$12,F212:AJ212,\"土\")+COUNTIFS(F211:AJ211,\">=\"&J$12,F211:AJ211,\"<=\"&R$12,F212:AJ212,\"日\")","v":0},{"$f":"B213","v":0},null,"計画",null,null,null,null,null,null,null,null,null,null,null,null,null,null,null,null,null,null,null,null,null,null,null,null,null,null,null,null,null,null,null,"出⇐勤務日、休⇐休日、－⇐対象外",null,{"$f":"IF(COUNTIFS(F211:AJ211,\">=\"&J$12,F211:AJ211,\"<=\"&R$12)=0,\"\",\nIF(COUNTIFS(F211:AJ211,\">=\"&J$12,F211:AJ211,\"<=\"&R$12)<>B212+COUNTIF(F213:AJ213,\"－\"),\"← 従事期間内で入力されていない日があります。確認してください。\",\"\"))","v":""}]
["休暇",{"$f":"COUNTIFS(F211:AJ211,\">=\"&J$12,F211:AJ211,\"<=\"&R$12,F213:AJ213,\"休\")","v":"00:00:00"},{"$f":"COUNTIFS(F211:AJ211,\">=\"&J$12,F211:AJ211,\"<=\"&R$12,F214:AJ214,\"休\")","v":"00:00:00"},null,"実績",null,null,null,null,null,null,null,null,null,null,null,null,null,null,null,null,null,null,null,null,null,null,null,null,null,null,null,null,null,null,null,null,null,{"$f":"IF(COUNTIFS(F211:AJ211,\">=\"&J$12,F211:AJ211,\"<=\"&R$12)=0,\"\",\nIF(COUNTIFS(F211:AJ211,\">=\"&J$12,F211:AJ211,\"<=\"&R$12)<>C212+COUNTIF(F214:AJ214,\"－\"),\"← 従事期間内で入力されていない日があります。確認してください。\",\"\"))","v":""}]
["判定",{"$f":"IF($R$12-$J$12+1>=28,IF(OR(B212=\"\",B212=0,B213=0),\"対象外\",\nIF(B214/B212<C$1,\"×\",\"○\")),\"対象外\")","v":"対象外"},{"$f":"IF($R$12-$J$12+1>=28,IF(OR(C212=\"\",C212=0,C213=0),\"対象外\",\nIF(C214/C212<C$1,\"×\",\"○\")),\"対象外\")","v":"対象外"},null,"備考"]
[]
["年月",{"$f":"IF(C217=\"\",\"\",IF(C210=12,B210+1,B210))","v":""},{"$f":"IF(C210=\"\",\"\",IF(DATE(IF(C210=12,B210+1,B210),IF(C210=12,1,C210+1),1)>R$5,\"\",IF(C210=12,1,C210+1)))","v":""},null,{"$f":"IF(C217=\"\",\"\",DATE(B217,C217,1))","v":""}]
[null,null,null,null,null,{"$f":"IF($B217=\"\",\"\",DATE($B217,$C217,1))","v":""},{"$f":"IF($B217=\"\",\"\",DATE($B217,$C217,2))","v":""},{"$f":"IF($B217=\"\",\"\",DATE($B217,$C217,3))","v":""},{"$f":"IF($B217=\"\",\"\",DATE($B217,$C217,4))","v":""},{"$f":"IF($B217=\"\",\"\",DATE($B217,$C217,5))","v":""},{"$f":"IF($B217=\"\",\"\",DATE($B217,$C217,6))","v":""},{"$f":"IF($B217=\"\",\"\",DATE($B217,$C217,7))","v":""},{"$f":"IF($B217=\"\",\"\",DATE($B217,$C217,8))","v":""},{"$f":"IF($B217=\"\",\"\",DATE($B217,$C217,9))","v":""},{"$f":"IF($B217=\"\",\"\",DATE($B217,$C217,10))","v":""},{"$f":"IF($B217=\"\",\"\",DATE($B217,$C217,11))","v":""},{"$f":"IF($B217=\"\",\"\",DATE($B217,$C217,12))","v":""},{"$f":"IF($B217=\"\",\"\",DATE($B217,$C217,13))","v":""},{"$f":"IF($B217=\"\",\"\",DATE($B217,$C217,14))","v":""},{"$f":"IF($B217=\"\",\"\",DATE($B217,$C217,15))","v":""},{"$f":"IF($B217=\"\",\"\",DATE($B217,$C217,16))","v":""},{"$f":"IF($B217=\"\",\"\",DATE($B217,$C217,17))","v":""},{"$f":"IF($B217=\"\",\"\",DATE($B217,$C217,18))","v":""},{"$f":"IF($B217=\"\",\"\",DATE($B217,$C217,19))","v":""},{"$f":"IF($B217=\"\",\"\",DATE($B217,$C217,20))","v":""},{"$f":"IF($B217=\"\",\"\",DATE($B217,$C217,21))","v":""},{"$f":"IF($B217=\"\",\"\",DATE($B217,$C217,22))","v":""},{"$f":"IF($B217=\"\",\"\",DATE($B217,$C217,23))","v":""},{"$f":"IF($B217=\"\",\"\",DATE($B217,$C217,24))","v":""},{"$f":"IF($B217=\"\",\"\",DATE($B217,$C217,25))","v":""},{"$f":"IF($B217=\"\",\"\",DATE($B217,$C217,26))","v":""},{"$f":"IF($B217=\"\",\"\",DATE($B217,$C217,27))","v":""},{"$f":"IF($B217=\"\",\"\",DATE($B217,$C217,28))","v":""},{"$f":"IF($B217=\"\",\"\",IF(MONTH(DATE($B217,$C217,29))=$C217,DATE($B217,$C217,29),\"\"))","v":""},{"$f":"IF($B217=\"\",\"\",IF(MONTH(DATE($B217,$C217,30))=$C217,DATE($B217,$C217,30),\"\"))","v":""},{"$f":"IF($B217=\"\",\"\",IF(MONTH(DATE($B217,$C217,31))=$C217,DATE($B217,$C217,31),\"\"))","v":""},"備考"]
["日数",{"$f":"IF(COUNTA(F220:AJ220)=0,0,\nCOUNTIFS(F218:AJ218,\">=\"&J$12,F218:AJ218,\"<=\"&R$12,F220:AJ220,\"出\")+COUNTIFS(F218:AJ218,\">=\"&J$12,F218:AJ218,\"<=\"&R$12,F220:AJ220,\"休\"))","v":0},{"$f":"IF(COUNTA(F221:AJ221)=0,0,\nCOUNTIFS(F218:AJ218,\">=\"&J$12,F218:AJ218,\"<=\"&R$12,F221:AJ221,\"出\")+COUNTIFS(F218:AJ218,\">=\"&J$12,F218:AJ218,\"<=\"&R$12,F221:AJ221,\"休\"))","v":0},null,null,{"$f":"IFERROR(IF(WEEKDAY(F218,1)=1,\"日\",IF(WEEKDAY(F218,1)=2,\"月\",IF(WEEKDAY(F218,1)=3,\"火\",IF(WEEKDAY(F218,1)=4,\"水\",IF(WEEKDAY(F218,1)=5,\"木\",IF(WEEKDAY(F218,1)=6,\"金\",\"土\")))))),\"\")","v":""},{"$f":"IFERROR(IF(WEEKDAY(G218,1)=1,\"日\",IF(WEEKDAY(G218,1)=2,\"月\",IF(WEEKDAY(G218,1)=3,\"火\",IF(WEEKDAY(G218,1)=4,\"水\",IF(WEEKDAY(G218,1)=5,\"木\",IF(WEEKDAY(G218,1)=6,\"金\",\"土\")))))),\"\")","v":""},"","","","","","",{"$f":"IFERROR(IF(WEEKDAY(N218,1)=1,\"日\",IF(WEEKDAY(N218,1)=2,\"月\",IF(WEEKDAY(N218,1)=3,\"火\",IF(WEEKDAY(N218,1)=4,\"水\",IF(WEEKDAY(N218,1)=5,\"木\",IF(WEEKDAY(N218,1)=6,\"金\",\"土\")))))),\"\")","v":""},{"$f":"IFERROR(IF(WEEKDAY(O218,1)=1,\"日\",IF(WEEKDAY(O218,1)=2,\"月\",IF(WEEKDAY(O218,1)=3,\"火\",IF(WEEKDAY(O218,1)=4,\"水\",IF(WEEKDAY(O218,1)=5,\"木\",IF(WEEKDAY(O218,1)=6,\"金\",\"土\")))))),\"\")","v":""},"","","","","","","","","","","","","","","","","","","","",""]
["期間内土日",{"$f":"COUNTIFS(F218:AJ218,\">=\"&J$12,F218:AJ218,\"<=\"&R$12,F219:AJ219,\"土\")+COUNTIFS(F218:AJ218,\">=\"&J$12,F218:AJ218,\"<=\"&R$12,F219:AJ219,\"日\")","v":0},{"$f":"B220","v":0},null,"計画",null,null,null,null,null,null,null,null,null,null,null,null,null,null,null,null,null,null,null,null,null,null,null,null,null,null,null,null,null,null,null,"出⇐勤務日、休⇐休日、－⇐対象外",null,{"$f":"IF(COUNTIFS(F218:AJ218,\">=\"&J$12,F218:AJ218,\"<=\"&R$12)=0,\"\",\nIF(COUNTIFS(F218:AJ218,\">=\"&J$12,F218:AJ218,\"<=\"&R$12)<>B219+COUNTIF(F220:AJ220,\"－\"),\"← 従事期間内で入力されていない日があります。確認してください。\",\"\"))","v":""}]
["休暇",{"$f":"COUNTIFS(F218:AJ218,\">=\"&J$12,F218:AJ218,\"<=\"&R$12,F220:AJ220,\"休\")","v":"00:00:00"},{"$f":"COUNTIFS(F218:AJ218,\">=\"&J$12,F218:AJ218,\"<=\"&R$12,F221:AJ221,\"休\")","v":"00:00:00"},null,"実績",null,null,null,null,null,null,null,null,null,null,null,null,null,null,null,null,null,null,null,null,null,null,null,null,null,null,null,null,null,null,null,null,null,{"$f":"IF(COUNTIFS(F218:AJ218,\">=\"&J$12,F218:AJ218,\"<=\"&R$12)=0,\"\",\nIF(COUNTIFS(F218:AJ218,\">=\"&J$12,F218:AJ218,\"<=\"&R$12)<>C219+COUNTIF(F221:AJ221,\"－\"),\"← 従事期間内で入力されていない日があります。確認してください。\",\"\"))","v":""}]
["判定",{"$f":"IF($R$12-$J$12+1>=28,IF(OR(B219=\"\",B219=0,B220=0),\"対象外\",\nIF(B221/B219<C$1,\"×\",\"○\")),\"対象外\")","v":"対象外"},{"$f":"IF($R$12-$J$12+1>=28,IF(OR(C219=\"\",C219=0,C220=0),\"対象外\",\nIF(C221/C219<C$1,\"×\",\"○\")),\"対象外\")","v":"対象外"},null,"備考"]
[]
["年月",{"$f":"IF(C224=\"\",\"\",IF(C217=12,B217+1,B217))","v":""},{"$f":"IF(C217=\"\",\"\",IF(DATE(IF(C217=12,B217+1,B217),IF(C217=12,1,C217+1),1)>R$5,\"\",IF(C217=12,1,C217+1)))","v":""},null,{"$f":"IF(C224=\"\",\"\",DATE(B224,C224,1))","v":""}]
[null,null,null,null,null,{"$f":"IF($B224=\"\",\"\",DATE($B224,$C224,1))","v":""},{"$f":"IF($B224=\"\",\"\",DATE($B224,$C224,2))","v":""},{"$f":"IF($B224=\"\",\"\",DATE($B224,$C224,3))","v":""},{"$f":"IF($B224=\"\",\"\",DATE($B224,$C224,4))","v":""},{"$f":"IF($B224=\"\",\"\",DATE($B224,$C224,5))","v":""},{"$f":"IF($B224=\"\",\"\",DATE($B224,$C224,6))","v":""},{"$f":"IF($B224=\"\",\"\",DATE($B224,$C224,7))","v":""},{"$f":"IF($B224=\"\",\"\",DATE($B224,$C224,8))","v":""},{"$f":"IF($B224=\"\",\"\",DATE($B224,$C224,9))","v":""},{"$f":"IF($B224=\"\",\"\",DATE($B224,$C224,10))","v":""},{"$f":"IF($B224=\"\",\"\",DATE($B224,$C224,11))","v":""},{"$f":"IF($B224=\"\",\"\",DATE($B224,$C224,12))","v":""},{"$f":"IF($B224=\"\",\"\",DATE($B224,$C224,13))","v":""},{"$f":"IF($B224=\"\",\"\",DATE($B224,$C224,14))","v":""},{"$f":"IF($B224=\"\",\"\",DATE($B224,$C224,15))","v":""},{"$f":"IF($B224=\"\",\"\",DATE($B224,$C224,16))","v":""},{"$f":"IF($B224=\"\",\"\",DATE($B224,$C224,17))","v":""},{"$f":"IF($B224=\"\",\"\",DATE($B224,$C224,18))","v":""},{"$f":"IF($B224=\"\",\"\",DATE($B224,$C224,19))","v":""},{"$f":"IF($B224=\"\",\"\",DATE($B224,$C224,20))","v":""},{"$f":"IF($B224=\"\",\"\",DATE($B224,$C224,21))","v":""},{"$f":"IF($B224=\"\",\"\",DATE($B224,$C224,22))","v":""},{"$f":"IF($B224=\"\",\"\",DATE($B224,$C224,23))","v":""},{"$f":"IF($B224=\"\",\"\",DATE($B224,$C224,24))","v":""},{"$f":"IF($B224=\"\",\"\",DATE($B224,$C224,25))","v":""},{"$f":"IF($B224=\"\",\"\",DATE($B224,$C224,26))","v":""},{"$f":"IF($B224=\"\",\"\",DATE($B224,$C224,27))","v":""},{"$f":"IF($B224=\"\",\"\",DATE($B224,$C224,28))","v":""},{"$f":"IF($B224=\"\",\"\",IF(MONTH(DATE($B224,$C224,29))=$C224,DATE($B224,$C224,29),\"\"))","v":""},{"$f":"IF($B224=\"\",\"\",IF(MONTH(DATE($B224,$C224,30))=$C224,DATE($B224,$C224,30),\"\"))","v":""},{"$f":"IF($B224=\"\",\"\",IF(MONTH(DATE($B224,$C224,31))=$C224,DATE($B224,$C224,31),\"\"))","v":""},"備考"]
["日数",{"$f":"IF(COUNTA(F227:AJ227)=0,0,\nCOUNTIFS(F225:AJ225,\">=\"&J$12,F225:AJ225,\"<=\"&R$12,F227:AJ227,\"出\")+COUNTIFS(F225:AJ225,\">=\"&J$12,F225:AJ225,\"<=\"&R$12,F227:AJ227,\"休\"))","v":0},{"$f":"IF(COUNTA(F228:AJ228)=0,0,\nCOUNTIFS(F225:AJ225,\">=\"&J$12,F225:AJ225,\"<=\"&R$12,F228:AJ228,\"出\")+COUNTIFS(F225:AJ225,\">=\"&J$12,F225:AJ225,\"<=\"&R$12,F228:AJ228,\"休\"))","v":0},null,null,{"$f":"IFERROR(IF(WEEKDAY(F225,1)=1,\"日\",IF(WEEKDAY(F225,1)=2,\"月\",IF(WEEKDAY(F225,1)=3,\"火\",IF(WEEKDAY(F225,1)=4,\"水\",IF(WEEKDAY(F225,1)=5,\"木\",IF(WEEKDAY(F225,1)=6,\"金\",\"土\")))))),\"\")","v":""},{"$f":"IFERROR(IF(WEEKDAY(G225,1)=1,\"日\",IF(WEEKDAY(G225,1)=2,\"月\",IF(WEEKDAY(G225,1)=3,\"火\",IF(WEEKDAY(G225,1)=4,\"水\",IF(WEEKDAY(G225,1)=5,\"木\",IF(WEEKDAY(G225,1)=6,\"金\",\"土\")))))),\"\")","v":""},"","","","","","",{"$f":"IFERROR(IF(WEEKDAY(N225,1)=1,\"日\",IF(WEEKDAY(N225,1)=2,\"月\",IF(WEEKDAY(N225,1)=3,\"火\",IF(WEEKDAY(N225,1)=4,\"水\",IF(WEEKDAY(N225,1)=5,\"木\",IF(WEEKDAY(N225,1)=6,\"金\",\"土\")))))),\"\")","v":""},{"$f":"IFERROR(IF(WEEKDAY(O225,1)=1,\"日\",IF(WEEKDAY(O225,1)=2,\"月\",IF(WEEKDAY(O225,1)=3,\"火\",IF(WEEKDAY(O225,1)=4,\"水\",IF(WEEKDAY(O225,1)=5,\"木\",IF(WEEKDAY(O225,1)=6,\"金\",\"土\")))))),\"\")","v":""},"","","","","","","","","","","","","","","","","","","","",""]
["期間内土日",{"$f":"COUNTIFS(F225:AJ225,\">=\"&J$12,F225:AJ225,\"<=\"&R$12,F226:AJ226,\"土\")+COUNTIFS(F225:AJ225,\">=\"&J$12,F225:AJ225,\"<=\"&R$12,F226:AJ226,\"日\")","v":0},{"$f":"B227","v":0},null,"計画",null,null,null,null,null,null,null,null,null,null,null,null,null,null,null,null,null,null,null,null,null,null,null,null,null,null,null,null,null,null,null,"出⇐勤務日、休⇐休日、－⇐対象外",null,{"$f":"IF(COUNTIFS(F225:AJ225,\">=\"&J$12,F225:AJ225,\"<=\"&R$12)=0,\"\",\nIF(COUNTIFS(F225:AJ225,\">=\"&J$12,F225:AJ225,\"<=\"&R$12)<>B226+COUNTIF(F227:AJ227,\"－\"),\"← 従事期間内で入力されていない日があります。確認してください。\",\"\"))","v":""}]
["休暇",{"$f":"COUNTIFS(F225:AJ225,\">=\"&J$12,F225:AJ225,\"<=\"&R$12,F227:AJ227,\"休\")","v":"00:00:00"},{"$f":"COUNTIFS(F225:AJ225,\">=\"&J$12,F225:AJ225,\"<=\"&R$12,F228:AJ228,\"休\")","v":"00:00:00"},null,"実績",null,null,null,null,null,null,null,null,null,null,null,null,null,null,null,null,null,null,null,null,null,null,null,null,null,null,null,null,null,null,null,null,null,{"$f":"IF(COUNTIFS(F225:AJ225,\">=\"&J$12,F225:AJ225,\"<=\"&R$12)=0,\"\",\nIF(COUNTIFS(F225:AJ225,\">=\"&J$12,F225:AJ225,\"<=\"&R$12)<>C226+COUNTIF(F228:AJ228,\"－\"),\"← 従事期間内で入力されていない日があります。確認してください。\",\"\"))","v":""}]
["判定",{"$f":"IF($R$12-$J$12+1>=28,IF(OR(B226=\"\",B226=0,B227=0),\"対象外\",\nIF(B228/B226<C$1,\"×\",\"○\")),\"対象外\")","v":"対象外"},{"$f":"IF($R$12-$J$12+1>=28,IF(OR(C226=\"\",C226=0,C227=0),\"対象外\",\nIF(C228/C226<C$1,\"×\",\"○\")),\"対象外\")","v":"対象外"},null,"備考"]
[]
["年月",{"$f":"IF(C231=\"\",\"\",IF(C224=12,B224+1,B224))","v":""},{"$f":"IF(C224=\"\",\"\",IF(DATE(IF(C224=12,B224+1,B224),IF(C224=12,1,C224+1),1)>R$5,\"\",IF(C224=12,1,C224+1)))","v":""},null,{"$f":"IF(C231=\"\",\"\",DATE(B231,C231,1))","v":""}]
[null,null,null,null,null,{"$f":"IF($B231=\"\",\"\",DATE($B231,$C231,1))","v":""},{"$f":"IF($B231=\"\",\"\",DATE($B231,$C231,2))","v":""},{"$f":"IF($B231=\"\",\"\",DATE($B231,$C231,3))","v":""},{"$f":"IF($B231=\"\",\"\",DATE($B231,$C231,4))","v":""},{"$f":"IF($B231=\"\",\"\",DATE($B231,$C231,5))","v":""},{"$f":"IF($B231=\"\",\"\",DATE($B231,$C231,6))","v":""},{"$f":"IF($B231=\"\",\"\",DATE($B231,$C231,7))","v":""},{"$f":"IF($B231=\"\",\"\",DATE($B231,$C231,8))","v":""},{"$f":"IF($B231=\"\",\"\",DATE($B231,$C231,9))","v":""},{"$f":"IF($B231=\"\",\"\",DATE($B231,$C231,10))","v":""},{"$f":"IF($B231=\"\",\"\",DATE($B231,$C231,11))","v":""},{"$f":"IF($B231=\"\",\"\",DATE($B231,$C231,12))","v":""},{"$f":"IF($B231=\"\",\"\",DATE($B231,$C231,13))","v":""},{"$f":"IF($B231=\"\",\"\",DATE($B231,$C231,14))","v":""},{"$f":"IF($B231=\"\",\"\",DATE($B231,$C231,15))","v":""},{"$f":"IF($B231=\"\",\"\",DATE($B231,$C231,16))","v":""},{"$f":"IF($B231=\"\",\"\",DATE($B231,$C231,17))","v":""},{"$f":"IF($B231=\"\",\"\",DATE($B231,$C231,18))","v":""},{"$f":"IF($B231=\"\",\"\",DATE($B231,$C231,19))","v":""},{"$f":"IF($B231=\"\",\"\",DATE($B231,$C231,20))","v":""},{"$f":"IF($B231=\"\",\"\",DATE($B231,$C231,21))","v":""},{"$f":"IF($B231=\"\",\"\",DATE($B231,$C231,22))","v":""},{"$f":"IF($B231=\"\",\"\",DATE($B231,$C231,23))","v":""},{"$f":"IF($B231=\"\",\"\",DATE($B231,$C231,24))","v":""},{"$f":"IF($B231=\"\",\"\",DATE($B231,$C231,25))","v":""},{"$f":"IF($B231=\"\",\"\",DATE($B231,$C231,26))","v":""},{"$f":"IF($B231=\"\",\"\",DATE($B231,$C231,27))","v":""},{"$f":"IF($B231=\"\",\"\",DATE($B231,$C231,28))","v":""},{"$f":"IF($B231=\"\",\"\",IF(MONTH(DATE($B231,$C231,29))=$C231,DATE($B231,$C231,29),\"\"))","v":""},{"$f":"IF($B231=\"\",\"\",IF(MONTH(DATE($B231,$C231,30))=$C231,DATE($B231,$C231,30),\"\"))","v":""},{"$f":"IF($B231=\"\",\"\",IF(MONTH(DATE($B231,$C231,31))=$C231,DATE($B231,$C231,31),\"\"))","v":""},"備考"]
["日数",{"$f":"IF(COUNTA(F234:AJ234)=0,0,\nCOUNTIFS(F232:AJ232,\">=\"&J$12,F232:AJ232,\"<=\"&R$12,F234:AJ234,\"出\")+COUNTIFS(F232:AJ232,\">=\"&J$12,F232:AJ232,\"<=\"&R$12,F234:AJ234,\"休\"))","v":0},{"$f":"IF(COUNTA(F235:AJ235)=0,0,\nCOUNTIFS(F232:AJ232,\">=\"&J$12,F232:AJ232,\"<=\"&R$12,F235:AJ235,\"出\")+COUNTIFS(F232:AJ232,\">=\"&J$12,F232:AJ232,\"<=\"&R$12,F235:AJ235,\"休\"))","v":0},null,null,{"$f":"IFERROR(IF(WEEKDAY(F232,1)=1,\"日\",IF(WEEKDAY(F232,1)=2,\"月\",IF(WEEKDAY(F232,1)=3,\"火\",IF(WEEKDAY(F232,1)=4,\"水\",IF(WEEKDAY(F232,1)=5,\"木\",IF(WEEKDAY(F232,1)=6,\"金\",\"土\")))))),\"\")","v":""},{"$f":"IFERROR(IF(WEEKDAY(G232,1)=1,\"日\",IF(WEEKDAY(G232,1)=2,\"月\",IF(WEEKDAY(G232,1)=3,\"火\",IF(WEEKDAY(G232,1)=4,\"水\",IF(WEEKDAY(G232,1)=5,\"木\",IF(WEEKDAY(G232,1)=6,\"金\",\"土\")))))),\"\")","v":""},"","","","","","",{"$f":"IFERROR(IF(WEEKDAY(N232,1)=1,\"日\",IF(WEEKDAY(N232,1)=2,\"月\",IF(WEEKDAY(N232,1)=3,\"火\",IF(WEEKDAY(N232,1)=4,\"水\",IF(WEEKDAY(N232,1)=5,\"木\",IF(WEEKDAY(N232,1)=6,\"金\",\"土\")))))),\"\")","v":""},{"$f":"IFERROR(IF(WEEKDAY(O232,1)=1,\"日\",IF(WEEKDAY(O232,1)=2,\"月\",IF(WEEKDAY(O232,1)=3,\"火\",IF(WEEKDAY(O232,1)=4,\"水\",IF(WEEKDAY(O232,1)=5,\"木\",IF(WEEKDAY(O232,1)=6,\"金\",\"土\")))))),\"\")","v":""},"","","","","","","","","","","","","","","","","","","","",""]
["期間内土日",{"$f":"COUNTIFS(F232:AJ232,\">=\"&J$12,F232:AJ232,\"<=\"&R$12,F233:AJ233,\"土\")+COUNTIFS(F232:AJ232,\">=\"&J$12,F232:AJ232,\"<=\"&R$12,F233:AJ233,\"日\")","v":0},{"$f":"B234","v":0},null,"計画",null,null,null,null,null,null,null,null,null,null,null,null,null,null,null,null,null,null,null,null,null,null,null,null,null,null,null,null,null,null,null,"出⇐勤務日、休⇐休日、－⇐対象外",null,{"$f":"IF(COUNTIFS(F232:AJ232,\">=\"&J$12,F232:AJ232,\"<=\"&R$12)=0,\"\",\nIF(COUNTIFS(F232:AJ232,\">=\"&J$12,F232:AJ232,\"<=\"&R$12)<>B233+COUNTIF(F234:AJ234,\"－\"),\"← 従事期間内で入力されていない日があります。確認してください。\",\"\"))","v":""}]
["休暇",{"$f":"COUNTIFS(F232:AJ232,\">=\"&J$12,F232:AJ232,\"<=\"&R$12,F234:AJ234,\"休\")","v":"00:00:00"},{"$f":"COUNTIFS(F232:AJ232,\">=\"&J$12,F232:AJ232,\"<=\"&R$12,F235:AJ235,\"休\")","v":"00:00:00"},null,"実績",null,null,null,null,null,null,null,null,null,null,null,null,null,null,null,null,null,null,null,null,null,null,null,null,null,null,null,null,null,null,null,null,null,{"$f":"IF(COUNTIFS(F232:AJ232,\">=\"&J$12,F232:AJ232,\"<=\"&R$12)=0,\"\",\nIF(COUNTIFS(F232:AJ232,\">=\"&J$12,F232:AJ232,\"<=\"&R$12)<>C233+COUNTIF(F235:AJ235,\"－\"),\"← 従事期間内で入力されていない日があります。確認してください。\",\"\"))","v":""}]
["判定",{"$f":"IF($R$12-$J$12+1>=28,IF(OR(B233=\"\",B233=0,B234=0),\"対象外\",\nIF(B235/B233<C$1,\"×\",\"○\")),\"対象外\")","v":"対象外"},{"$f":"IF($R$12-$J$12+1>=28,IF(OR(C233=\"\",C233=0,C234=0),\"対象外\",\nIF(C235/C233<C$1,\"×\",\"○\")),\"対象外\")","v":"対象外"},null,"備考"]
[]
["年月",{"$f":"IF(C238=\"\",\"\",IF(C231=12,B231+1,B231))","v":""},{"$f":"IF(C231=\"\",\"\",IF(DATE(IF(C231=12,B231+1,B231),IF(C231=12,1,C231+1),1)>R$5,\"\",IF(C231=12,1,C231+1)))","v":""},null,{"$f":"IF(C238=\"\",\"\",DATE(B238,C238,1))","v":""}]
[null,null,null,null,null,{"$f":"IF($B238=\"\",\"\",DATE($B238,$C238,1))","v":""},{"$f":"IF($B238=\"\",\"\",DATE($B238,$C238,2))","v":""},{"$f":"IF($B238=\"\",\"\",DATE($B238,$C238,3))","v":""},{"$f":"IF($B238=\"\",\"\",DATE($B238,$C238,4))","v":""},{"$f":"IF($B238=\"\",\"\",DATE($B238,$C238,5))","v":""},{"$f":"IF($B238=\"\",\"\",DATE($B238,$C238,6))","v":""},{"$f":"IF($B238=\"\",\"\",DATE($B238,$C238,7))","v":""},{"$f":"IF($B238=\"\",\"\",DATE($B238,$C238,8))","v":""},{"$f":"IF($B238=\"\",\"\",DATE($B238,$C238,9))","v":""},{"$f":"IF($B238=\"\",\"\",DATE($B238,$C238,10))","v":""},{"$f":"IF($B238=\"\",\"\",DATE($B238,$C238,11))","v":""},{"$f":"IF($B238=\"\",\"\",DATE($B238,$C238,12))","v":""},{"$f":"IF($B238=\"\",\"\",DATE($B238,$C238,13))","v":""},{"$f":"IF($B238=\"\",\"\",DATE($B238,$C238,14))","v":""},{"$f":"IF($B238=\"\",\"\",DATE($B238,$C238,15))","v":""},{"$f":"IF($B238=\"\",\"\",DATE($B238,$C238,16))","v":""},{"$f":"IF($B238=\"\",\"\",DATE($B238,$C238,17))","v":""},{"$f":"IF($B238=\"\",\"\",DATE($B238,$C238,18))","v":""},{"$f":"IF($B238=\"\",\"\",DATE($B238,$C238,19))","v":""},{"$f":"IF($B238=\"\",\"\",DATE($B238,$C238,20))","v":""},{"$f":"IF($B238=\"\",\"\",DATE($B238,$C238,21))","v":""},{"$f":"IF($B238=\"\",\"\",DATE($B238,$C238,22))","v":""},{"$f":"IF($B238=\"\",\"\",DATE($B238,$C238,23))","v":""},{"$f":"IF($B238=\"\",\"\",DATE($B238,$C238,24))","v":""},{"$f":"IF($B238=\"\",\"\",DATE($B238,$C238,25))","v":""},{"$f":"IF($B238=\"\",\"\",DATE($B238,$C238,26))","v":""},{"$f":"IF($B238=\"\",\"\",DATE($B238,$C238,27))","v":""},{"$f":"IF($B238=\"\",\"\",DATE($B238,$C238,28))","v":""},{"$f":"IF($B238=\"\",\"\",IF(MONTH(DATE($B238,$C238,29))=$C238,DATE($B238,$C238,29),\"\"))","v":""},{"$f":"IF($B238=\"\",\"\",IF(MONTH(DATE($B238,$C238,30))=$C238,DATE($B238,$C238,30),\"\"))","v":""},{"$f":"IF($B238=\"\",\"\",IF(MONTH(DATE($B238,$C238,31))=$C238,DATE($B238,$C238,31),\"\"))","v":""},"備考"]
["日数",{"$f":"IF(COUNTA(F241:AJ241)=0,0,\nCOUNTIFS(F239:AJ239,\">=\"&J$12,F239:AJ239,\"<=\"&R$12,F241:AJ241,\"出\")+COUNTIFS(F239:AJ239,\">=\"&J$12,F239:AJ239,\"<=\"&R$12,F241:AJ241,\"休\"))","v":0},{"$f":"IF(COUNTA(F242:AJ242)=0,0,\nCOUNTIFS(F239:AJ239,\">=\"&J$12,F239:AJ239,\"<=\"&R$12,F242:AJ242,\"出\")+COUNTIFS(F239:AJ239,\">=\"&J$12,F239:AJ239,\"<=\"&R$12,F242:AJ242,\"休\"))","v":0},null,null,{"$f":"IFERROR(IF(WEEKDAY(F239,1)=1,\"日\",IF(WEEKDAY(F239,1)=2,\"月\",IF(WEEKDAY(F239,1)=3,\"火\",IF(WEEKDAY(F239,1)=4,\"水\",IF(WEEKDAY(F239,1)=5,\"木\",IF(WEEKDAY(F239,1)=6,\"金\",\"土\")))))),\"\")","v":""},{"$f":"IFERROR(IF(WEEKDAY(G239,1)=1,\"日\",IF(WEEKDAY(G239,1)=2,\"月\",IF(WEEKDAY(G239,1)=3,\"火\",IF(WEEKDAY(G239,1)=4,\"水\",IF(WEEKDAY(G239,1)=5,\"木\",IF(WEEKDAY(G239,1)=6,\"金\",\"土\")))))),\"\")","v":""},"","","","","","",{"$f":"IFERROR(IF(WEEKDAY(N239,1)=1,\"日\",IF(WEEKDAY(N239,1)=2,\"月\",IF(WEEKDAY(N239,1)=3,\"火\",IF(WEEKDAY(N239,1)=4,\"水\",IF(WEEKDAY(N239,1)=5,\"木\",IF(WEEKDAY(N239,1)=6,\"金\",\"土\")))))),\"\")","v":""},{"$f":"IFERROR(IF(WEEKDAY(O239,1)=1,\"日\",IF(WEEKDAY(O239,1)=2,\"月\",IF(WEEKDAY(O239,1)=3,\"火\",IF(WEEKDAY(O239,1)=4,\"水\",IF(WEEKDAY(O239,1)=5,\"木\",IF(WEEKDAY(O239,1)=6,\"金\",\"土\")))))),\"\")","v":""},"","","","","","","","","","","","","","","","","","","","",""]
["期間内土日",{"$f":"COUNTIFS(F239:AJ239,\">=\"&J$12,F239:AJ239,\"<=\"&R$12,F240:AJ240,\"土\")+COUNTIFS(F239:AJ239,\">=\"&J$12,F239:AJ239,\"<=\"&R$12,F240:AJ240,\"日\")","v":0},{"$f":"B241","v":0},null,"計画",null,null,null,null,null,null,null,null,null,null,null,null,null,null,null,null,null,null,null,null,null,null,null,null,null,null,null,null,null,null,null,"出⇐勤務日、休⇐休日、－⇐対象外",null,{"$f":"IF(COUNTIFS(F239:AJ239,\">=\"&J$12,F239:AJ239,\"<=\"&R$12)=0,\"\",\nIF(COUNTIFS(F239:AJ239,\">=\"&J$12,F239:AJ239,\"<=\"&R$12)<>B240+COUNTIF(F241:AJ241,\"－\"),\"← 従事期間内で入力されていない日があります。確認してください。\",\"\"))","v":""}]
["休暇",{"$f":"COUNTIFS(F239:AJ239,\">=\"&J$12,F239:AJ239,\"<=\"&R$12,F241:AJ241,\"休\")","v":"00:00:00"},{"$f":"COUNTIFS(F239:AJ239,\">=\"&J$12,F239:AJ239,\"<=\"&R$12,F242:AJ242,\"休\")","v":"00:00:00"},null,"実績",null,null,null,null,null,null,null,null,null,null,null,null,null,null,null,null,null,null,null,null,null,null,null,null,null,null,null,null,null,null,null,null,null,{"$f":"IF(COUNTIFS(F239:AJ239,\">=\"&J$12,F239:AJ239,\"<=\"&R$12)=0,\"\",\nIF(COUNTIFS(F239:AJ239,\">=\"&J$12,F239:AJ239,\"<=\"&R$12)<>C240+COUNTIF(F242:AJ242,\"－\"),\"← 従事期間内で入力されていない日があります。確認してください。\",\"\"))","v":""}]
["判定",{"$f":"IF($R$12-$J$12+1>=28,IF(OR(B240=\"\",B240=0,B241=0),\"対象外\",\nIF(B242/B240<C$1,\"×\",\"○\")),\"対象外\")","v":"対象外"},{"$f":"IF($R$12-$J$12+1>=28,IF(OR(C240=\"\",C240=0,C241=0),\"対象外\",\nIF(C242/C240<C$1,\"×\",\"○\")),\"対象外\")","v":"対象外"},null,"備考"]
[]
["年月",{"$f":"IF(C245=\"\",\"\",IF(C238=12,B238+1,B238))","v":""},{"$f":"IF(C238=\"\",\"\",IF(DATE(IF(C238=12,B238+1,B238),IF(C238=12,1,C238+1),1)>R$5,\"\",IF(C238=12,1,C238+1)))","v":""},null,{"$f":"IF(C245=\"\",\"\",DATE(B245,C245,1))","v":""}]
[null,null,null,null,null,{"$f":"IF($B245=\"\",\"\",DATE($B245,$C245,1))","v":""},{"$f":"IF($B245=\"\",\"\",DATE($B245,$C245,2))","v":""},{"$f":"IF($B245=\"\",\"\",DATE($B245,$C245,3))","v":""},{"$f":"IF($B245=\"\",\"\",DATE($B245,$C245,4))","v":""},{"$f":"IF($B245=\"\",\"\",DATE($B245,$C245,5))","v":""},{"$f":"IF($B245=\"\",\"\",DATE($B245,$C245,6))","v":""},{"$f":"IF($B245=\"\",\"\",DATE($B245,$C245,7))","v":""},{"$f":"IF($B245=\"\",\"\",DATE($B245,$C245,8))","v":""},{"$f":"IF($B245=\"\",\"\",DATE($B245,$C245,9))","v":""},{"$f":"IF($B245=\"\",\"\",DATE($B245,$C245,10))","v":""},{"$f":"IF($B245=\"\",\"\",DATE($B245,$C245,11))","v":""},{"$f":"IF($B245=\"\",\"\",DATE($B245,$C245,12))","v":""},{"$f":"IF($B245=\"\",\"\",DATE($B245,$C245,13))","v":""},{"$f":"IF($B245=\"\",\"\",DATE($B245,$C245,14))","v":""},{"$f":"IF($B245=\"\",\"\",DATE($B245,$C245,15))","v":""},{"$f":"IF($B245=\"\",\"\",DATE($B245,$C245,16))","v":""},{"$f":"IF($B245=\"\",\"\",DATE($B245,$C245,17))","v":""},{"$f":"IF($B245=\"\",\"\",DATE($B245,$C245,18))","v":""},{"$f":"IF($B245=\"\",\"\",DATE($B245,$C245,19))","v":""},{"$f":"IF($B245=\"\",\"\",DATE($B245,$C245,20))","v":""},{"$f":"IF($B245=\"\",\"\",DATE($B245,$C245,21))","v":""},{"$f":"IF($B245=\"\",\"\",DATE($B245,$C245,22))","v":""},{"$f":"IF($B245=\"\",\"\",DATE($B245,$C245,23))","v":""},{"$f":"IF($B245=\"\",\"\",DATE($B245,$C245,24))","v":""},{"$f":"IF($B245=\"\",\"\",DATE($B245,$C245,25))","v":""},{"$f":"IF($B245=\"\",\"\",DATE($B245,$C245,26))","v":""},{"$f":"IF($B245=\"\",\"\",DATE($B245,$C245,27))","v":""},{"$f":"IF($B245=\"\",\"\",DATE($B245,$C245,28))","v":""},{"$f":"IF($B245=\"\",\"\",IF(MONTH(DATE($B245,$C245,29))=$C245,DATE($B245,$C245,29),\"\"))","v":""},{"$f":"IF($B245=\"\",\"\",IF(MONTH(DATE($B245,$C245,30))=$C245,DATE($B245,$C245,30),\"\"))","v":""},{"$f":"IF($B245=\"\",\"\",IF(MONTH(DATE($B245,$C245,31))=$C245,DATE($B245,$C245,31),\"\"))","v":""},"備考"]
["日数",{"$f":"IF(COUNTA(F248:AJ248)=0,0,\nCOUNTIFS(F246:AJ246,\">=\"&J$12,F246:AJ246,\"<=\"&R$12,F248:AJ248,\"出\")+COUNTIFS(F246:AJ246,\">=\"&J$12,F246:AJ246,\"<=\"&R$12,F248:AJ248,\"休\"))","v":0},{"$f":"IF(COUNTA(F249:AJ249)=0,0,\nCOUNTIFS(F246:AJ246,\">=\"&J$12,F246:AJ246,\"<=\"&R$12,F249:AJ249,\"出\")+COUNTIFS(F246:AJ246,\">=\"&J$12,F246:AJ246,\"<=\"&R$12,F249:AJ249,\"休\"))","v":0},null,null,{"$f":"IFERROR(IF(WEEKDAY(F246,1)=1,\"日\",IF(WEEKDAY(F246,1)=2,\"月\",IF(WEEKDAY(F246,1)=3,\"火\",IF(WEEKDAY(F246,1)=4,\"水\",IF(WEEKDAY(F246,1)=5,\"木\",IF(WEEKDAY(F246,1)=6,\"金\",\"土\")))))),\"\")","v":""},{"$f":"IFERROR(IF(WEEKDAY(G246,1)=1,\"日\",IF(WEEKDAY(G246,1)=2,\"月\",IF(WEEKDAY(G246,1)=3,\"火\",IF(WEEKDAY(G246,1)=4,\"水\",IF(WEEKDAY(G246,1)=5,\"木\",IF(WEEKDAY(G246,1)=6,\"金\",\"土\")))))),\"\")","v":""},"","","","","","",{"$f":"IFERROR(IF(WEEKDAY(N246,1)=1,\"日\",IF(WEEKDAY(N246,1)=2,\"月\",IF(WEEKDAY(N246,1)=3,\"火\",IF(WEEKDAY(N246,1)=4,\"水\",IF(WEEKDAY(N246,1)=5,\"木\",IF(WEEKDAY(N246,1)=6,\"金\",\"土\")))))),\"\")","v":""},{"$f":"IFERROR(IF(WEEKDAY(O246,1)=1,\"日\",IF(WEEKDAY(O246,1)=2,\"月\",IF(WEEKDAY(O246,1)=3,\"火\",IF(WEEKDAY(O246,1)=4,\"水\",IF(WEEKDAY(O246,1)=5,\"木\",IF(WEEKDAY(O246,1)=6,\"金\",\"土\")))))),\"\")","v":""},"","","","","","","","","","","","","","","","","","","","",""]
["期間内土日",{"$f":"COUNTIFS(F246:AJ246,\">=\"&J$12,F246:AJ246,\"<=\"&R$12,F247:AJ247,\"土\")+COUNTIFS(F246:AJ246,\">=\"&J$12,F246:AJ246,\"<=\"&R$12,F247:AJ247,\"日\")","v":0},{"$f":"B248","v":0},null,"計画",null,null,null,null,null,null,null,null,null,null,null,null,null,null,null,null,null,null,null,null,null,null,null,null,null,null,null,null,null,null,null,"出⇐勤務日、休⇐休日、－⇐対象外",null,{"$f":"IF(COUNTIFS(F246:AJ246,\">=\"&J$12,F246:AJ246,\"<=\"&R$12)=0,\"\",\nIF(COUNTIFS(F246:AJ246,\">=\"&J$12,F246:AJ246,\"<=\"&R$12)<>B247+COUNTIF(F248:AJ248,\"－\"),\"← 従事期間内で入力されていない日があります。確認してください。\",\"\"))","v":""}]
["休暇",{"$f":"COUNTIFS(F246:AJ246,\">=\"&J$12,F246:AJ246,\"<=\"&R$12,F248:AJ248,\"休\")","v":"00:00:00"},{"$f":"COUNTIFS(F246:AJ246,\">=\"&J$12,F246:AJ246,\"<=\"&R$12,F249:AJ249,\"休\")","v":"00:00:00"},null,"実績",null,null,null,null,null,null,null,null,null,null,null,null,null,null,null,null,null,null,null,null,null,null,null,null,null,null,null,null,null,null,null,null,null,{"$f":"IF(COUNTIFS(F246:AJ246,\">=\"&J$12,F246:AJ246,\"<=\"&R$12)=0,\"\",\nIF(COUNTIFS(F246:AJ246,\">=\"&J$12,F246:AJ246,\"<=\"&R$12)<>C247+COUNTIF(F249:AJ249,\"－\"),\"← 従事期間内で入力されていない日があります。確認してください。\",\"\"))","v":""}]
["判定",{"$f":"IF($R$12-$J$12+1>=28,IF(OR(B247=\"\",B247=0,B248=0),\"対象外\",\nIF(B249/B247<C$1,\"×\",\"○\")),\"対象外\")","v":"対象外"},{"$f":"IF($R$12-$J$12+1>=28,IF(OR(C247=\"\",C247=0,C248=0),\"対象外\",\nIF(C249/C247<C$1,\"×\",\"○\")),\"対象外\")","v":"対象外"},null,"備考"]
[]
["年月",{"$f":"IF(C252=\"\",\"\",IF(C245=12,B245+1,B245))","v":""},{"$f":"IF(C245=\"\",\"\",IF(DATE(IF(C245=12,B245+1,B245),IF(C245=12,1,C245+1),1)>R$5,\"\",IF(C245=12,1,C245+1)))","v":""},null,{"$f":"IF(C252=\"\",\"\",DATE(B252,C252,1))","v":""}]
[null,null,null,null,null,{"$f":"IF($B252=\"\",\"\",DATE($B252,$C252,1))","v":""},{"$f":"IF($B252=\"\",\"\",DATE($B252,$C252,2))","v":""},{"$f":"IF($B252=\"\",\"\",DATE($B252,$C252,3))","v":""},{"$f":"IF($B252=\"\",\"\",DATE($B252,$C252,4))","v":""},{"$f":"IF($B252=\"\",\"\",DATE($B252,$C252,5))","v":""},{"$f":"IF($B252=\"\",\"\",DATE($B252,$C252,6))","v":""},{"$f":"IF($B252=\"\",\"\",DATE($B252,$C252,7))","v":""},{"$f":"IF($B252=\"\",\"\",DATE($B252,$C252,8))","v":""},{"$f":"IF($B252=\"\",\"\",DATE($B252,$C252,9))","v":""},{"$f":"IF($B252=\"\",\"\",DATE($B252,$C252,10))","v":""},{"$f":"IF($B252=\"\",\"\",DATE($B252,$C252,11))","v":""},{"$f":"IF($B252=\"\",\"\",DATE($B252,$C252,12))","v":""},{"$f":"IF($B252=\"\",\"\",DATE($B252,$C252,13))","v":""},{"$f":"IF($B252=\"\",\"\",DATE($B252,$C252,14))","v":""},{"$f":"IF($B252=\"\",\"\",DATE($B252,$C252,15))","v":""},{"$f":"IF($B252=\"\",\"\",DATE($B252,$C252,16))","v":""},{"$f":"IF($B252=\"\",\"\",DATE($B252,$C252,17))","v":""},{"$f":"IF($B252=\"\",\"\",DATE($B252,$C252,18))","v":""},{"$f":"IF($B252=\"\",\"\",DATE($B252,$C252,19))","v":""},{"$f":"IF($B252=\"\",\"\",DATE($B252,$C252,20))","v":""},{"$f":"IF($B252=\"\",\"\",DATE($B252,$C252,21))","v":""},{"$f":"IF($B252=\"\",\"\",DATE($B252,$C252,22))","v":""},{"$f":"IF($B252=\"\",\"\",DATE($B252,$C252,23))","v":""},{"$f":"IF($B252=\"\",\"\",DATE($B252,$C252,24))","v":""},{"$f":"IF($B252=\"\",\"\",DATE($B252,$C252,25))","v":""},{"$f":"IF($B252=\"\",\"\",DATE($B252,$C252,26))","v":""},{"$f":"IF($B252=\"\",\"\",DATE($B252,$C252,27))","v":""},{"$f":"IF($B252=\"\",\"\",DATE($B252,$C252,28))","v":""},{"$f":"IF($B252=\"\",\"\",IF(MONTH(DATE($B252,$C252,29))=$C252,DATE($B252,$C252,29),\"\"))","v":""},{"$f":"IF($B252=\"\",\"\",IF(MONTH(DATE($B252,$C252,30))=$C252,DATE($B252,$C252,30),\"\"))","v":""},{"$f":"IF($B252=\"\",\"\",IF(MONTH(DATE($B252,$C252,31))=$C252,DATE($B252,$C252,31),\"\"))","v":""},"備考"]
["日数",{"$f":"IF(COUNTA(F255:AJ255)=0,0,\nCOUNTIFS(F253:AJ253,\">=\"&J$12,F253:AJ253,\"<=\"&R$12,F255:AJ255,\"出\")+COUNTIFS(F253:AJ253,\">=\"&J$12,F253:AJ253,\"<=\"&R$12,F255:AJ255,\"休\"))","v":0},{"$f":"IF(COUNTA(F256:AJ256)=0,0,\nCOUNTIFS(F253:AJ253,\">=\"&J$12,F253:AJ253,\"<=\"&R$12,F256:AJ256,\"出\")+COUNTIFS(F253:AJ253,\">=\"&J$12,F253:AJ253,\"<=\"&R$12,F256:AJ256,\"休\"))","v":0},null,null,{"$f":"IFERROR(IF(WEEKDAY(F253,1)=1,\"日\",IF(WEEKDAY(F253,1)=2,\"月\",IF(WEEKDAY(F253,1)=3,\"火\",IF(WEEKDAY(F253,1)=4,\"水\",IF(WEEKDAY(F253,1)=5,\"木\",IF(WEEKDAY(F253,1)=6,\"金\",\"土\")))))),\"\")","v":""},{"$f":"IFERROR(IF(WEEKDAY(G253,1)=1,\"日\",IF(WEEKDAY(G253,1)=2,\"月\",IF(WEEKDAY(G253,1)=3,\"火\",IF(WEEKDAY(G253,1)=4,\"水\",IF(WEEKDAY(G253,1)=5,\"木\",IF(WEEKDAY(G253,1)=6,\"金\",\"土\")))))),\"\")","v":""},"","","","","","",{"$f":"IFERROR(IF(WEEKDAY(N253,1)=1,\"日\",IF(WEEKDAY(N253,1)=2,\"月\",IF(WEEKDAY(N253,1)=3,\"火\",IF(WEEKDAY(N253,1)=4,\"水\",IF(WEEKDAY(N253,1)=5,\"木\",IF(WEEKDAY(N253,1)=6,\"金\",\"土\")))))),\"\")","v":""},{"$f":"IFERROR(IF(WEEKDAY(O253,1)=1,\"日\",IF(WEEKDAY(O253,1)=2,\"月\",IF(WEEKDAY(O253,1)=3,\"火\",IF(WEEKDAY(O253,1)=4,\"水\",IF(WEEKDAY(O253,1)=5,\"木\",IF(WEEKDAY(O253,1)=6,\"金\",\"土\")))))),\"\")","v":""},"","","","","","","","","","","","","","","","","","","","",""]
["期間内土日",{"$f":"COUNTIFS(F253:AJ253,\">=\"&J$12,F253:AJ253,\"<=\"&R$12,F254:AJ254,\"土\")+COUNTIFS(F253:AJ253,\">=\"&J$12,F253:AJ253,\"<=\"&R$12,F254:AJ254,\"日\")","v":0},{"$f":"B255","v":0},null,"計画",null,null,null,null,null,null,null,null,null,null,null,null,null,null,null,null,null,null,null,null,null,null,null,null,null,null,null,null,null,null,null,"出⇐勤務日、休⇐休日、－⇐対象外",null,{"$f":"IF(COUNTIFS(F253:AJ253,\">=\"&J$12,F253:AJ253,\"<=\"&R$12)=0,\"\",\nIF(COUNTIFS(F253:AJ253,\">=\"&J$12,F253:AJ253,\"<=\"&R$12)<>B254+COUNTIF(F255:AJ255,\"－\"),\"← 従事期間内で入力されていない日があります。確認してください。\",\"\"))","v":""}]
["休暇",{"$f":"COUNTIFS(F253:AJ253,\">=\"&J$12,F253:AJ253,\"<=\"&R$12,F255:AJ255,\"休\")","v":"00:00:00"},{"$f":"COUNTIFS(F253:AJ253,\">=\"&J$12,F253:AJ253,\"<=\"&R$12,F256:AJ256,\"休\")","v":"00:00:00"},null,"実績",null,null,null,null,null,null,null,null,null,null,null,null,null,null,null,null,null,null,null,null,null,null,null,null,null,null,null,null,null,null,null,null,null,{"$f":"IF(COUNTIFS(F253:AJ253,\">=\"&J$12,F253:AJ253,\"<=\"&R$12)=0,\"\",\nIF(COUNTIFS(F253:AJ253,\">=\"&J$12,F253:AJ253,\"<=\"&R$12)<>C254+COUNTIF(F256:AJ256,\"－\"),\"← 従事期間内で入力されていない日があります。確認してください。\",\"\"))","v":""}]
["判定",{"$f":"IF($R$12-$J$12+1>=28,IF(OR(B254=\"\",B254=0,B255=0),\"対象外\",\nIF(B256/B254<C$1,\"×\",\"○\")),\"対象外\")","v":"対象外"},{"$f":"IF($R$12-$J$12+1>=28,IF(OR(C254=\"\",C254=0,C255=0),\"対象外\",\nIF(C256/C254<C$1,\"×\",\"○\")),\"対象外\")","v":"対象外"},null,"備考"]
[]
["年月",{"$f":"IF(C259=\"\",\"\",IF(C252=12,B252+1,B252))","v":""},{"$f":"IF(C252=\"\",\"\",IF(DATE(IF(C252=12,B252+1,B252),IF(C252=12,1,C252+1),1)>R$5,\"\",IF(C252=12,1,C252+1)))","v":""},null,{"$f":"IF(C259=\"\",\"\",DATE(B259,C259,1))","v":""}]
[null,null,null,null,null,{"$f":"IF($B259=\"\",\"\",DATE($B259,$C259,1))","v":""},{"$f":"IF($B259=\"\",\"\",DATE($B259,$C259,2))","v":""},{"$f":"IF($B259=\"\",\"\",DATE($B259,$C259,3))","v":""},{"$f":"IF($B259=\"\",\"\",DATE($B259,$C259,4))","v":""},{"$f":"IF($B259=\"\",\"\",DATE($B259,$C259,5))","v":""},{"$f":"IF($B259=\"\",\"\",DATE($B259,$C259,6))","v":""},{"$f":"IF($B259=\"\",\"\",DATE($B259,$C259,7))","v":""},{"$f":"IF($B259=\"\",\"\",DATE($B259,$C259,8))","v":""},{"$f":"IF($B259=\"\",\"\",DATE($B259,$C259,9))","v":""},{"$f":"IF($B259=\"\",\"\",DATE($B259,$C259,10))","v":""},{"$f":"IF($B259=\"\",\"\",DATE($B259,$C259,11))","v":""},{"$f":"IF($B259=\"\",\"\",DATE($B259,$C259,12))","v":""},{"$f":"IF($B259=\"\",\"\",DATE($B259,$C259,13))","v":""},{"$f":"IF($B259=\"\",\"\",DATE($B259,$C259,14))","v":""},{"$f":"IF($B259=\"\",\"\",DATE($B259,$C259,15))","v":""},{"$f":"IF($B259=\"\",\"\",DATE($B259,$C259,16))","v":""},{"$f":"IF($B259=\"\",\"\",DATE($B259,$C259,17))","v":""},{"$f":"IF($B259=\"\",\"\",DATE($B259,$C259,18))","v":""},{"$f":"IF($B259=\"\",\"\",DATE($B259,$C259,19))","v":""},{"$f":"IF($B259=\"\",\"\",DATE($B259,$C259,20))","v":""},{"$f":"IF($B259=\"\",\"\",DATE($B259,$C259,21))","v":""},{"$f":"IF($B259=\"\",\"\",DATE($B259,$C259,22))","v":""},{"$f":"IF($B259=\"\",\"\",DATE($B259,$C259,23))","v":""},{"$f":"IF($B259=\"\",\"\",DATE($B259,$C259,24))","v":""},{"$f":"IF($B259=\"\",\"\",DATE($B259,$C259,25))","v":""},{"$f":"IF($B259=\"\",\"\",DATE($B259,$C259,26))","v":""},{"$f":"IF($B259=\"\",\"\",DATE($B259,$C259,27))","v":""},{"$f":"IF($B259=\"\",\"\",DATE($B259,$C259,28))","v":""},{"$f":"IF($B259=\"\",\"\",IF(MONTH(DATE($B259,$C259,29))=$C259,DATE($B259,$C259,29),\"\"))","v":""},{"$f":"IF($B259=\"\",\"\",IF(MONTH(DATE($B259,$C259,30))=$C259,DATE($B259,$C259,30),\"\"))","v":""},{"$f":"IF($B259=\"\",\"\",IF(MONTH(DATE($B259,$C259,31))=$C259,DATE($B259,$C259,31),\"\"))","v":""},"備考"]
["日数",{"$f":"IF(COUNTA(F262:AJ262)=0,0,\nCOUNTIFS(F260:AJ260,\">=\"&J$12,F260:AJ260,\"<=\"&R$12,F262:AJ262,\"出\")+COUNTIFS(F260:AJ260,\">=\"&J$12,F260:AJ260,\"<=\"&R$12,F262:AJ262,\"休\"))","v":0},{"$f":"IF(COUNTA(F263:AJ263)=0,0,\nCOUNTIFS(F260:AJ260,\">=\"&J$12,F260:AJ260,\"<=\"&R$12,F263:AJ263,\"出\")+COUNTIFS(F260:AJ260,\">=\"&J$12,F260:AJ260,\"<=\"&R$12,F263:AJ263,\"休\"))","v":0},null,null,{"$f":"IFERROR(IF(WEEKDAY(F260,1)=1,\"日\",IF(WEEKDAY(F260,1)=2,\"月\",IF(WEEKDAY(F260,1)=3,\"火\",IF(WEEKDAY(F260,1)=4,\"水\",IF(WEEKDAY(F260,1)=5,\"木\",IF(WEEKDAY(F260,1)=6,\"金\",\"土\")))))),\"\")","v":""},{"$f":"IFERROR(IF(WEEKDAY(G260,1)=1,\"日\",IF(WEEKDAY(G260,1)=2,\"月\",IF(WEEKDAY(G260,1)=3,\"火\",IF(WEEKDAY(G260,1)=4,\"水\",IF(WEEKDAY(G260,1)=5,\"木\",IF(WEEKDAY(G260,1)=6,\"金\",\"土\")))))),\"\")","v":""},"","","","","","",{"$f":"IFERROR(IF(WEEKDAY(N260,1)=1,\"日\",IF(WEEKDAY(N260,1)=2,\"月\",IF(WEEKDAY(N260,1)=3,\"火\",IF(WEEKDAY(N260,1)=4,\"水\",IF(WEEKDAY(N260,1)=5,\"木\",IF(WEEKDAY(N260,1)=6,\"金\",\"土\")))))),\"\")","v":""},{"$f":"IFERROR(IF(WEEKDAY(O260,1)=1,\"日\",IF(WEEKDAY(O260,1)=2,\"月\",IF(WEEKDAY(O260,1)=3,\"火\",IF(WEEKDAY(O260,1)=4,\"水\",IF(WEEKDAY(O260,1)=5,\"木\",IF(WEEKDAY(O260,1)=6,\"金\",\"土\")))))),\"\")","v":""},"","","","","","","","","","","","","","","","","","","","",""]
["期間内土日",{"$f":"COUNTIFS(F260:AJ260,\">=\"&J$12,F260:AJ260,\"<=\"&R$12,F261:AJ261,\"土\")+COUNTIFS(F260:AJ260,\">=\"&J$12,F260:AJ260,\"<=\"&R$12,F261:AJ261,\"日\")","v":0},{"$f":"B262","v":0},null,"計画",null,null,null,null,null,null,null,null,null,null,null,null,null,null,null,null,null,null,null,null,null,null,null,null,null,null,null,null,null,null,null,"出⇐勤務日、休⇐休日、－⇐対象外",null,{"$f":"IF(COUNTIFS(F260:AJ260,\">=\"&J$12,F260:AJ260,\"<=\"&R$12)=0,\"\",\nIF(COUNTIFS(F260:AJ260,\">=\"&J$12,F260:AJ260,\"<=\"&R$12)<>B261+COUNTIF(F262:AJ262,\"－\"),\"← 従事期間内で入力されていない日があります。確認してください。\",\"\"))","v":""}]
["休暇",{"$f":"COUNTIFS(F260:AJ260,\">=\"&J$12,F260:AJ260,\"<=\"&R$12,F262:AJ262,\"休\")","v":"00:00:00"},{"$f":"COUNTIFS(F260:AJ260,\">=\"&J$12,F260:AJ260,\"<=\"&R$12,F263:AJ263,\"休\")","v":"00:00:00"},null,"実績",null,null,null,null,null,null,null,null,null,null,null,null,null,null,null,null,null,null,null,null,null,null,null,null,null,null,null,null,null,null,null,null,null,{"$f":"IF(COUNTIFS(F260:AJ260,\">=\"&J$12,F260:AJ260,\"<=\"&R$12)=0,\"\",\nIF(COUNTIFS(F260:AJ260,\">=\"&J$12,F260:AJ260,\"<=\"&R$12)<>C261+COUNTIF(F263:AJ263,\"－\"),\"← 従事期間内で入力されていない日があります。確認してください。\",\"\"))","v":""}]
["判定",{"$f":"IF($R$12-$J$12+1>=28,IF(OR(B261=\"\",B261=0,B262=0),\"対象外\",\nIF(B263/B261<C$1,\"×\",\"○\")),\"対象外\")","v":"対象外"},{"$f":"IF($R$12-$J$12+1>=28,IF(OR(C261=\"\",C261=0,C262=0),\"対象外\",\nIF(C263/C261<C$1,\"×\",\"○\")),\"対象外\")","v":"対象外"},null,"備考"]

{"sheet":"作業シート","index":1,"n_rows":22,"n_cols":10,"rows_kept":22,"cut":false,"hidden":false,"merged":[[1,2,1,4],[3,2,3,4],[4,2,4,4]]}
[null,"工事概要",null,null,null,null,null,"技術者情報"]
[null,"工事名","○○道路改良工事",null,null,null,null,"元請負･下請","会社","技術者氏名"]
[null,"工期","2025-01-27","～","2025-03-28",null,1,"元請負","Ａ","ああ"]
[null,"請負業者名","Ａ",null,null,null,2,"一次下請","Ｂ","いい"]
[null,"現場代理人","ああ",null,null,null,3,"二次下請","Ｃ","うう"]
[null,"工事開始日","2025-01-27",{"$f":"IF(OR(C6<C3,E3<C6),\"← 工期の範囲外です。\",\"\")","v":""},null,null,4]
[null,"完成報告提出日","2025-03-28",{"$f":"IF(OR(C7<C3,E3<C7),\"← 工期の範囲外です。\",\nIF(C7<C6,\"← 工事開始日より前の日付です。\",\"\"))","v":""},null,null,5]
[null,null,null,null,null,null,6]
[null,null,null,null,null,null,7]
[null,null,null,null,null,null,8]
[null,null,null,null,null,null,9]
[null,null,null,null,null,null,10]
[null,null,null,null,null,null,11]
[null,null,null,null,null,null,12]
[null,null,null,null,null,null,13]
[null,null,null,null,null,null,14]
[null,null,null,null,null,null,15]
[null,null,null,null,null,null,16]
[null,null,null,null,null,null,17]
[null,null,null,null,null,null,18]
[null,null,null,null,null,null,19]
[null,null,null,null,null,null,20]

{"sheet":"確認シート","index":2,"n_rows":33,"n_cols":116,"rows_kept":33,"cut":false,"hidden":false,"merged":[[8,8,8,10],[8,11,8,13],[8,14,8,16],[8,2,9,2],[8,3,9,3],[8,4,9,4],[8,5,8,7],[8,17,8,19],[8,20,8,22],[8,23,8,25],[8,26,8,28],[8,29,8,31],[8,32,8,34],[8,35,8,37],[8,38,8,40],[8,41,8,43],[8,77,8,79],[8,44,8,46],[8,47,8,49],[8,50,8,52],[8,53,8,55],[8,56,8,58],[8,59,8,61],[8,62,8,64],[8,65,8,67],[8,68,8,70],[8,71,8,73],[8,74,8,76],[8,113,8,115],[8,80,8,82],[8,83,8,85],[8,86,8,88],[8,89,8,91],[8,92,8,94],[8,95,8,97],[8,98,8,100],[8,101,8,103],[8,104,8,106],[8,107,8,109],[8,110,8,112]]}
[null,"工期エラーチェック→",null,{"$f":"IFERROR(IF(DATE(YEAR(DJ9),MONTH(DJ9)+1,1)<=作業シート!E3,\"工期 37月以上\",\"\"),\"\")","v":""},"月記入枠　　[月分]→",{"$f":"COUNTIF(I9:DL9,\">\"&0)","v":3},"参照行→",4,18,16,19,{"$f":"I1+7","v":25},23,26,32,30,33,{"$f":"O1+7","v":39},37,40,46,44,47,53,51,54,60,58,61,67,65,68,74,72,75,81,79,82,88,86,89,95,93,96,102,100,103,109,107,110,116,114,117,123,121,124,130,128,131,137,135,138,144,142,145,151,149,152,158,156,159,165,163,166,172,170,173,179,177,180,186,{"$f":"CA1+7","v":184},187,193,191,194,200,198,201,207,205,208,214,212,215,221,219,222,228,226,229,235,233,236,242,240,243,249,247,250,256,254,257,263,261,264]
[null,null,null,null,"平均値記入枠[行目]→",{"$f":"IF(MAX(B:B)<=20,20,MAX(B:B))+11","v":31}]
[null,null,null,null,null,"確認時期"]
[null,null,null,null,null,null,null,"判定"]
[null,null,null,null,null,"休暇率　（通期）",null,{"$f":"IF(H3=\"\",\"\",\nIF(H6=\"○\",\"－\",\nIF(INDIRECT(\"H\"&F2)<原稿!C1,\"×\",\"○\")))","v":""}]
[null,null,null,null,null,"休暇率　（月単位）",null,{"$f":"IF(H3=\"\",\"\",\nIF(COUNTIF(INDIRECT(\"K\"&F2+1&\":DL\"&F2+1),\"×\")>0,\"×\",\"○\"))","v":""}]
[null,null,null,null,null,"成績加点（月単位）",null,{"$f":"IF(H3=\"\",\"\",\nIF(COUNTIF(INDIRECT(\"K\"&F2+2&\":DL\"&F2+2),\"×\")>0,\"×\",\"○\"))","v":""}]
[]
[null,null,"元請負･下請","企業","技術者氏名","通期",null,null,{"$f":"IF(作業シート!C3=\"\",\"\",\nDATE(YEAR(作業シート!C3),MONTH(作業シート!C3),1))","v":"2025-01-01"},null,null,{"$f":"IFERROR(IF(DATE(YEAR(I9),MONTH(I9)+1,1)<=作業シート!$E$3,DATE(YEAR(I9),MONTH(I9)+1,1),\"\"),\"\")","v":"2025-02-01"},null,null,{"$f":"IFERROR(IF(DATE(YEAR(L9),MONTH(L9)+1,1)<=作業シート!$E$3,DATE(YEAR(L9),MONTH(L9)+1,1),\"\"),\"\")","v":"2025-03-01"},null,null,{"$f":"IFERROR(IF(DATE(YEAR(O9),MONTH(O9)+1,1)<=作業シート!$E$3,DATE(YEAR(O9),MONTH(O9)+1,1),\"\"),\"\")","v":""},null,null,{"$f":"IFERROR(IF(DATE(YEAR(R9),MONTH(R9)+1,1)<=作業シート!$E$3,DATE(YEAR(R9),MONTH(R9)+1,1),\"\"),\"\")","v":""},null,null,{"$f":"IFERROR(IF(DATE(YEAR(U9),MONTH(U9)+1,1)<=作業シート!$E$3,DATE(YEAR(U9),MONTH(U9)+1,1),\"\"),\"\")","v":""},null,null,{"$f":"IFERROR(IF(DATE(YEAR(X9),MONTH(X9)+1,1)<=作業シート!$E$3,DATE(YEAR(X9),MONTH(X9)+1,1),\"\"),\"\")","v":""},null,null,{"$f":"IFERROR(IF(DATE(YEAR(AA9),MONTH(AA9)+1,1)<=作業シート!$E$3,DATE(YEAR(AA9),MONTH(AA9)+1,1),\"\"),\"\")","v":""},null,null,{"$f":"IFERROR(IF(DATE(YEAR(AD9),MONTH(AD9)+1,1)<=作業シート!$E$3,DATE(YEAR(AD9),MONTH(AD9)+1,1),\"\"),\"\")","v":""},null,null,{"$f":"IFERROR(IF(DATE(YEAR(AG9),MONTH(AG9)+1,1)<=作業シート!$E$3,DATE(YEAR(AG9),MONTH(AG9)+1,1),\"\"),\"\")","v":""},null,null,{"$f":"IFERROR(IF(DATE(YEAR(AJ9),MONTH(AJ9)+1,1)<=作業シート!$E$3,DATE(YEAR(AJ9),MONTH(AJ9)+1,1),\"\"),\"\")","v":""},null,null,{"$f":"IFERROR(IF(DATE(YEAR(AM9),MONTH(AM9)+1,1)<=作業シート!$E$3,DATE(YEAR(AM9),MONTH(AM9)+1,1),\"\"),\"\")","v":""},null,null,{"$f":"IFERROR(IF(DATE(YEAR(AP9),MONTH(AP9)+1,1)<=作業シート!$E$3,DATE(YEAR(AP9),MONTH(AP9)+1,1),\"\"),\"\")","v":""},null,null,{"$f":"IFERROR(IF(DATE(YEAR(AS9),MONTH(AS9)+1,1)<=作業シート!$E$3,DATE(YEAR(AS9),MONTH(AS9)+1,1),\"\"),\"\")","v":""},null,null,{"$f":"IFERROR(IF(DATE(YEAR(AV9),MONTH(AV9)+1,1)<=作業シート!$E$3,DATE(YEAR(AV9),MONTH(AV9)+1,1),\"\"),\"\")","v":""},null,null,{"$f":"IFERROR(IF(DATE(YEAR(AY9),MONTH(AY9)+1,1)<=作業シート!$E$3,DATE(YEAR(AY9),MONTH(AY9)+1,1),\"\"),\"\")","v":""},null,null,{"$f":"IFERROR(IF(DATE(YEAR(BB9),MONTH(BB9)+1,1)<=作業シート!$E$3,DATE(YEAR(BB9),MONTH(BB9)+1,1),\"\"),\"\")","v":""},null,null,{"$f":"IFERROR(IF(DATE(YEAR(BE9),MONTH(BE9)+1,1)<=作業シート!$E$3,DATE(YEAR(BE9),MONTH(BE9)+1,1),\"\"),\"\")","v":""},null,null,{"$f":"IFERROR(IF(DATE(YEAR(BH9),MONTH(BH9)+1,1)<=作業シート!$E$3,DATE(YEAR(BH9),MONTH(BH9)+1,1),\"\"),\"\")","v":""},null,null,{"$f":"IFERROR(IF(DATE(YEAR(BK9),MONTH(BK9)+1,1)<=作業シート!$E$3,DATE(YEAR(BK9),MONTH(BK9)+1,1),\"\"),\"\")","v":""},null,null,{"$f":"IFERROR(IF(DATE(YEAR(BN9),MONTH(BN9)+1,1)<=作業シート!$E$3,DATE(YEAR(BN9),MONTH(BN9)+1,1),\"\"),\"\")","v":""},null,null,{"$f":"IFERROR(IF(DATE(YEAR(BQ9),MONTH(BQ9)+1,1)<=作業シート!$E$3,DATE(YEAR(BQ9),MONTH(BQ9)+1,1),\"\"),\"\")","v":""},null,null,{"$f":"IFERROR(IF(DATE(YEAR(BT9),MONTH(BT9)+1,1)<=作業シート!$E$3,DATE(YEAR(BT9),MONTH(BT9)+1,1),\"\"),\"\")","v":""},null,null,{"$f":"IFERROR(IF(DATE(YEAR(BW9),MONTH(BW9)+1,1)<=作業シート!$E$3,DATE(YEAR(BW9),MONTH(BW9)+1,1),\"\"),\"\")","v":""},null,null,{"$f":"IFERROR(IF(DATE(YEAR(BZ9),MONTH(BZ9)+1,1)<=作業シート!$E$3,DATE(YEAR(BZ9),MONTH(BZ9)+1,1),\"\"),\"\")","v":""},null,null,{"$f":"IFERROR(IF(DATE(YEAR(CC9),MONTH(CC9)+1,1)<=作業シート!$E$3,DATE(YEAR(CC9),MONTH(CC9)+1,1),\"\"),\"\")","v":""},null,null,{"$f":"IFERROR(IF(DATE(YEAR(CF9),MONTH(CF9)+1,1)<=作業シート!$E$3,DATE(YEAR(CF9),MONTH(CF9)+1,1),\"\"),\"\")","v":""},null,null,{"$f":"IFERROR(IF(DATE(YEAR(CI9),MONTH(CI9)+1,1)<=作業シート!$E$3,DATE(YEAR(CI9),MONTH(CI9)+1,1),\"\"),\"\")","v":""},null,null,{"$f":"IFERROR(IF(DATE(YEAR(CL9),MONTH(CL9)+1,1)<=作業シート!$E$3,DATE(YEAR(CL9),MONTH(CL9)+1,1),\"\"),\"\")","v":""},null,null,{"$f":"IFERROR(IF(DATE(YEAR(CO9),MONTH(CO9)+1,1)<=作業シート!$E$3,DATE(YEAR(CO9),MONTH(CO9)+1,1),\"\"),\"\")","v":""},null,null,{"$f":"IFERROR(IF(DATE(YEAR(CR9),MONTH(CR9)+1,1)<=作業シート!$E$3,DATE(YEAR(CR9),MONTH(CR9)+1,1),\"\"),\"\")","v":""},null,null,{"$f":"IFERROR(IF(DATE(YEAR(CU9),MONTH(CU9)+1,1)<=作業シート!$E$3,DATE(YEAR(CU9),MONTH(CU9)+1,1),\"\"),\"\")","v":""},null,null,{"$f":"IFERROR(IF(DATE(YEAR(CX9),MONTH(CX9)+1,1)<=作業シート!$E$3,DATE(YEAR(CX9),MONTH(CX9)+1,1),\"\"),\"\")","v":""},null,null,{"$f":"IFERROR(IF(DATE(YEAR(DA9),MONTH(DA9)+1,1)<=作業シート!$E$3,DATE(YEAR(DA9),MONTH(DA9)+1,1),\"\"),\"\")","v":""},null,null,{"$f":"IFERROR(IF(DATE(YEAR(DD9),MONTH(DD9)+1,1)<=作業シート!$E$3,DATE(YEAR(DD9),MONTH(DD9)+1,1),\"\"),\"\")","v":""},null,null,{"$f":"IFERROR(IF(DATE(YEAR(DG9),MONTH(DG9)+1,1)<=作業シート!$E$3,DATE(YEAR(DG9),MONTH(DG9)+1,1),\"\"),\"\")","v":""}]
[null,null,null,null,null,"休暇日数","対象日数","休暇率","休暇日数","対象日数","休暇率","休暇日数","対象日数","休暇率","休暇日数","対象日数","休暇率","休暇日数","対象日数","休暇率","休暇日数","対象日数","休暇率","休暇日数","対象日数","休暇率","休暇日数","対象日数","休暇率","休暇日数","対象日数","休暇率","休暇日数","対象日数","休暇率","休暇日数","対象日数","休暇率","休暇日数","対象日数","休暇率","休暇日数","対象日数","休暇率","休暇日数","対象日数","休暇率","休暇日数","対象日数","休暇率","休暇日数","対象日数","休暇率","休暇日数","対象日数","休暇率","休暇日数","対象日数","休暇率","休暇日数","対象日数","休暇率","休暇日数","対象日数","休暇率","休暇日数","対象日数","休暇率","休暇日数","対象日数","休暇率","休暇日数","対象日数","休暇率","休暇日数","対象日数","休暇率","休暇日数","対象日数","休暇率","休暇日数","対象日数","休暇率","休暇日数","対象日数","休暇率","休暇日数","対象日数","休暇率","休暇日数","対象日数","休暇率","休暇日数","対象日数","休暇率","休暇日数","対象日数","休暇率","休暇日数","対象日数","休暇率","休暇日数","対象日数","休暇率","休暇日数","対象日数","休暇率","休暇日数","対象日数","休暇率","休暇日数","対象日数","休暇率","休暇日数","対象日数","休暇率"]
[null,null,null,null,null,{"$f":"IF(OR($H$3=\"\",$E11=\"\"),\"\",\nSUMIF($I$10:$DL$10,F$10,$I11:$DL11))","v":""},{"$f":"IF(OR($H$3=\"\",$E11=\"\"),\"\",\nSUMIF($I$10:$DL$10,G$10,$I11:$DL11))","v":""},{"$f":"IFERROR(IF(IF(H$3=\"計画\",INDIRECT(\"'\"&$D11&\"　\"&$E11&\"'!B\"&H$1),\nIF(H$3=\"実績\",INDIRECT(\"'\"&$D11&\"　\"&$E11&\"'!C\"&H$1),\n\"\"))>=28,F11/G11,\"対象外\"),\"\")","v":""},{"$f":"IFERROR(IF(AND(I$9<>\"\",$H$3=\"計画\"),INDIRECT(\"'\"&$D11&\"　\"&$E11&\"'!B\"&I$1),\nIF(AND(I$9<>\"\",$H$3=\"実績\"),INDIRECT(\"'\"&$D11&\"　\"&$E11&\"'!C\"&I$1),\n\"\")),\"\")","v":""},{"$f":"IFERROR(IF(AND(I$9<>\"\",$H$3=\"計画\"),INDIRECT(\"'\"&$D11&\"　\"&$E11&\"'!B\"&J$1),\nIF(AND(I$9<>\"\",$H$3=\"実績\"),INDIRECT(\"'\"&$D11&\"　\"&$E11&\"'!C\"&J$1),\n\"\")),\"\")","v":""},{"$f":"IFERROR(IF(IF(AND(I$9<>\"\",$H$3=\"計画\"),INDIRECT(\"'\"&$D11&\"　\"&$E11&\"'!B\"&K$1),\nIF(AND(I$9<>\"\",$H$3=\"実績\"),INDIRECT(\"'\"&$D11&\"　\"&$E11&\"'!C\"&K$1),\n\"\"))=\"対象外\",\"対象外\",I11/J11),\"\")","v":""},{"$f":"IFERROR(IF(AND(L$9<>\"\",$H$3=\"計画\"),INDIRECT(\"'\"&$D11&\"　\"&$E11&\"'!B\"&L$1),\nIF(AND(L$9<>\"\",$H$3=\"実績\"),INDIRECT(\"'\"&$D11&\"　\"&$E11&\"'!C\"&L$1),\n\"\")),\"\")","v":""},{"$f":"IFERROR(IF(AND(L$9<>\"\",$H$3=\"計画\"),INDIRECT(\"'\"&$D11&\"　\"&$E11&\"'!B\"&M$1),\nIF(AND(L$9<>\"\",$H$3=\"実績\"),INDIRECT(\"'\"&$D11&\"　\"&$E11&\"'!C\"&M$1),\n\"\")),\"\")","v":""},{"$f":"IFERROR(IF(IF(AND(L$9<>\"\",$H$3=\"計画\"),INDIRECT(\"'\"&$D11&\"　\"&$E11&\"'!B\"&N$1),\nIF(AND(L$9<>\"\",$H$3=\"実績\"),INDIRECT(\"'\"&$D11&\"　\"&$E11&\"'!C\"&N$1),\n\"\"))=\"対象外\",\"対象外\",L11/M11),\"\")","v":""},{"$f":"IFERROR(IF(AND(O$9<>\"\",$H$3=\"計画\"),INDIRECT(\"'\"&$D11&\"　\"&$E11&\"'!B\"&O$1),\nIF(AND(O$9<>\"\",$H$3=\"実績\"),INDIRECT(\"'\"&$D11&\"　\"&$E11&\"'!C\"&O$1),\n\"\")),\"\")","v":""},{"$f":"IFERROR(IF(AND(O$9<>\"\",$H$3=\"計画\"),INDIRECT(\"'\"&$D11&\"　\"&$E11&\"'!B\"&P$1),\nIF(AND(O$9<>\"\",$H$3=\"実績\"),INDIRECT(\"'\"&$D11&\"　\"&$E11&\"'!C\"&P$1),\n\"\")),\"\")","v":""},{"$f":"IFERROR(IF(IF(AND(O$9<>\"\",$H$3=\"計画\"),INDIRECT(\"'\"&$D11&\"　\"&$E11&\"'!B\"&Q$1),\nIF(AND(O$9<>\"\",$H$3=\"実績\"),INDIRECT(\"'\"&$D11&\"　\"&$E11&\"'!C\"&Q$1),\n\"\"))=\"対象外\",\"対象外\",O11/P11),\"\")","v":""},{"$f":"IFERROR(IF(AND(R$9<>\"\",$H$3=\"計画\"),INDIRECT(\"'\"&$D11&\"　\"&$E11&\"'!B\"&R$1),\nIF(AND(R$9<>\"\",$H$3=\"実績\"),INDIRECT(\"'\"&$D11&\"　\"&$E11&\"'!C\"&R$1),\n\"\")),\"\")","v":""},{"$f":"IFERROR(IF(AND(R$9<>\"\",$H$3=\"計画\"),INDIRECT(\"'\"&$D11&\"　\"&$E11&\"'!B\"&S$1),\nIF(AND(R$9<>\"\",$H$3=\"実績\"),INDIRECT(\"'\"&$D11&\"　\"&$E11&\"'!C\"&S$1),\n\"\")),\"\")","v":""},{"$f":"IFERROR(IF(IF(AND(R$9<>\"\",$H$3=\"計画\"),INDIRECT(\"'\"&$D11&\"　\"&$E11&\"'!B\"&T$1),\nIF(AND(R$9<>\"\",$H$3=\"実績\"),INDIRECT(\"'\"&$D11&\"　\"&$E11&\"'!C\"&T$1),\n\"\"))=\"対象外\",\"対象外\",R11/S11),\"\")","v":""},{"$f":"IFERROR(IF(AND(U$9<>\"\",$H$3=\"計画\"),INDIRECT(\"'\"&$D11&\"　\"&$E11&\"'!B\"&U$1),\nIF(AND(U$9<>\"\",$H$3=\"実績\"),INDIRECT(\"'\"&$D11&\"　\"&$E11&\"'!C\"&U$1),\n\"\")),\"\")","v":""},{"$f":"IFERROR(IF(AND(U$9<>\"\",$H$3=\"計画\"),INDIRECT(\"'\"&$D11&\"　\"&$E11&\"'!B\"&V$1),\nIF(AND(U$9<>\"\",$H$3=\"実績\"),INDIRECT(\"'\"&$D11&\"　\"&$E11&\"'!C\"&V$1),\n\"\")),\"\")","v":""},{"$f":"IFERROR(IF(IF(AND(U$9<>\"\",$H$3=\"計画\"),INDIRECT(\"'\"&$D11&\"　\"&$E11&\"'!B\"&W$1),\nIF(AND(U$9<>\"\",$H$3=\"実績\"),INDIRECT(\"'\"&$D11&\"　\"&$E11&\"'!C\"&W$1),\n\"\"))=\"対象外\",\"対象外\",U11/V11),\"\")","v":""},{"$f":"IFERROR(IF(AND(X$9<>\"\",$H$3=\"計画\"),INDIRECT(\"'\"&$D11&\"　\"&$E11&\"'!B\"&X$1),\nIF(AND(X$9<>\"\",$H$3=\"実績\"),INDIRECT(\"'\"&$D11&\"　\"&$E11&\"'!C\"&X$1),\n\"\")),\"\")","v":""},{"$f":"IFERROR(IF(AND(X$9<>\"\",$H$3=\"計画\"),INDIRECT(\"'\"&$D11&\"　\"&$E11&\"'!B\"&Y$1),\nIF(AND(X$9<>\"\",$H$3=\"実績\"),INDIRECT(\"'\"&$D11&\"　\"&$E11&\"'!C\"&Y$1),\n\"\")),\"\")","v":""},{"$f":"IFERROR(IF(IF(AND(X$9<>\"\",$H$3=\"計画\"),INDIRECT(\"'\"&$D11&\"　\"&$E11&\"'!B\"&Z$1),\nIF(AND(X$9<>\"\",$H$3=\"実績\"),INDIRECT(\"'\"&$D11&\"　\"&$E11&\"'!C\"&Z$1),\n\"\"))=\"対象外\",\"対象外\",X11/Y11),\"\")","v":""},{"$f":"IFERROR(IF(AND(AA$9<>\"\",$H$3=\"計画\"),INDIRECT(\"'\"&$D11&\"　\"&$E11&\"'!B\"&AA$1),\nIF(AND(AA$9<>\"\",$H$3=\"実績\"),INDIRECT(\"'\"&$D11&\"　\"&$E11&\"'!C\"&AA$1),\n\"\")),\"\")","v":""},{"$f":"IFERROR(IF(AND(AA$9<>\"\",$H$3=\"計画\"),INDIRECT(\"'\"&$D11&\"　\"&$E11&\"'!B\"&AB$1),\nIF(AND(AA$9<>\"\",$H$3=\"実績\"),INDIRECT(\"'\"&$D11&\"　\"&$E11&\"'!C\"&AB$1),\n\"\")),\"\")","v":""},{"$f":"IFERROR(IF(IF(AND(AA$9<>\"\",$H$3=\"計画\"),INDIRECT(\"'\"&$D11&\"　\"&$E11&\"'!B\"&AC$1),\nIF(AND(AA$9<>\"\",$H$3=\"実績\"),INDIRECT(\"'\"&$D11&\"　\"&$E11&\"'!C\"&AC$1),\n\"\"))=\"対象外\",\"対象外\",AA11/AB11),\"\")","v":""},{"$f":"IFERROR(IF(AND(AD$9<>\"\",$H$3=\"計画\"),INDIRECT(\"'\"&$D11&\"　\"&$E11&\"'!B\"&AD$1),\nIF(AND(AD$9<>\"\",$H$3=\"実績\"),INDIRECT(\"'\"&$D11&\"　\"&$E11&\"'!C\"&AD$1),\n\"\")),\"\")","v":""},{"$f":"IFERROR(IF(AND(AD$9<>\"\",$H$3=\"計画\"),INDIRECT(\"'\"&$D11&\"　\"&$E11&\"'!B\"&AE$1),\nIF(AND(AD$9<>\"\",$H$3=\"実績\"),INDIRECT(\"'\"&$D11&\"　\"&$E11&\"'!C\"&AE$1),\n\"\")),\"\")","v":""},{"$f":"IFERROR(IF(IF(AND(AD$9<>\"\",$H$3=\"計画\"),INDIRECT(\"'\"&$D11&\"　\"&$E11&\"'!B\"&AF$1),\nIF(AND(AD$9<>\"\",$H$3=\"実績\"),INDIRECT(\"'\"&$D11&\"　\"&$E11&\"'!C\"&AF$1),\n\"\"))=\"対象外\",\"対象外\",AD11/AE11),\"\")","v":""},{"$f":"IFERROR(IF(AND(AG$9<>\"\",$H$3=\"計画\"),INDIRECT(\"'\"&$D11&\"　\"&$E11&\"'!B\"&AG$1),\nIF(AND(AG$9<>\"\",$H$3=\"実績\"),INDIRECT(\"'\"&$D11&\"　\"&$E11&\"'!C\"&AG$1),\n\"\")),\"\")","v":""},{"$f":"IFERROR(IF(AND(AG$9<>\"\",$H$3=\"計画\"),INDIRECT(\"'\"&$D11&\"　\"&$E11&\"'!B\"&AH$1),\nIF(AND(AG$9<>\"\",$H$3=\"実績\"),INDIRECT(\"'\"&$D11&\"　\"&$E11&\"'!C\"&AH$1),\n\"\")),\"\")","v":""},{"$f":"IFERROR(IF(IF(AND(AG$9<>\"\",$H$3=\"計画\"),INDIRECT(\"'\"&$D11&\"　\"&$E11&\"'!B\"&AI$1),\nIF(AND(AG$9<>\"\",$H$3=\"実績\"),INDIRECT(\"'\"&$D11&\"　\"&$E11&\"'!C\"&AI$1),\n\"\"))=\"対象外\",\"対象外\",AG11/AH11),\"\")","v":""},{"$f":"IFERROR(IF(AND(AJ$9<>\"\",$H$3=\"計画\"),INDIRECT(\"'\"&$D11&\"　\"&$E11&\"'!B\"&AJ$1),\nIF(AND(AJ$9<>\"\",$H$3=\"実績\"),INDIRECT(\"'\"&$D11&\"　\"&$E11&\"'!C\"&AJ$1),\n\"\")),\"\")","v":""},{"$f":"IFERROR(IF(AND(AJ$9<>\"\",$H$3=\"計画\"),INDIRECT(\"'\"&$D11&\"　\"&$E11&\"'!B\"&AK$1),\nIF(AND(AJ$9<>\"\",$H$3=\"実績\"),INDIRECT(\"'\"&$D11&\"　\"&$E11&\"'!C\"&AK$1),\n\"\")),\"\")","v":""},{"$f":"IFERROR(IF(IF(AND(AJ$9<>\"\",$H$3=\"計画\"),INDIRECT(\"'\"&$D11&\"　\"&$E11&\"'!B\"&AL$1),\nIF(AND(AJ$9<>\"\",$H$3=\"実績\"),INDIRECT(\"'\"&$D11&\"　\"&$E11&\"'!C\"&AL$1),\n\"\"))=\"対象外\",\"対象外\",AJ11/AK11),\"\")","v":""},{"$f":"IFERROR(IF(AND(AM$9<>\"\",$H$3=\"計画\"),INDIRECT(\"'\"&$D11&\"　\"&$E11&\"'!B\"&AM$1),\nIF(AND(AM$9<>\"\",$H$3=\"実績\"),INDIRECT(\"'\"&$D11&\"　\"&$E11&\"'!C\"&AM$1),\n\"\")),\"\")","v":""},{"$f":"IFERROR(IF(AND(AM$9<>\"\",$H$3=\"計画\"),INDIRECT(\"'\"&$D11&\"　\"&$E11&\"'!B\"&AN$1),\nIF(AND(AM$9<>\"\",$H$3=\"実績\"),INDIRECT(\"'\"&$D11&\"　\"&$E11&\"'!C\"&AN$1),\n\"\")),\"\")","v":""},{"$f":"IFERROR(IF(IF(AND(AM$9<>\"\",$H$3=\"計画\"),INDIRECT(\"'\"&$D11&\"　\"&$E11&\"'!B\"&AO$1),\nIF(AND(AM$9<>\"\",$H$3=\"実績\"),INDIRECT(\"'\"&$D11&\"　\"&$E11&\"'!C\"&AO$1),\n\"\"))=\"対象外\",\"対象外\",AM11/AN11),\"\")","v":""},{"$f":"IFERROR(IF(AND(AP$9<>\"\",$H$3=\"計画\"),INDIRECT(\"'\"&$D11&\"　\"&$E11&\"'!B\"&AP$1),\nIF(AND(AP$9<>\"\",$H$3=\"実績\"),INDIRECT(\"'\"&$D11&\"　\"&$E11&\"'!C\"&AP$1),\n\"\")),\"\")","v":""},{"$f":"IFERROR(IF(AND(AP$9<>\"\",$H$3=\"計画\"),INDIRECT(\"'\"&$D11&\"　\"&$E11&\"'!B\"&AQ$1),\nIF(AND(AP$9<>\"\",$H$3=\"実績\"),INDIRECT(\"'\"&$D11&\"　\"&$E11&\"'!C\"&AQ$1),\n\"\")),\"\")","v":""},{"$f":"IFERROR(IF(IF(AND(AP$9<>\"\",$H$3=\"計画\"),INDIRECT(\"'\"&$D11&\"　\"&$E11&\"'!B\"&AR$1),\nIF(AND(AP$9<>\"\",$H$3=\"実績\"),INDIRECT(\"'\"&$D11&\"　\"&$E11&\"'!C\"&AR$1),\n\"\"))=\"対象外\",\"対象外\",AP11/AQ11),\"\")","v":""},{"$f":"IFERROR(IF(AND(AS$9<>\"\",$H$3=\"計画\"),INDIRECT(\"'\"&$D11&\"　\"&$E11&\"'!B\"&AS$1),\nIF(AND(AS$9<>\"\",$H$3=\"実績\"),INDIRECT(\"'\"&$D11&\"　\"&$E11&\"'!C\"&AS$1),\n\"\")),\"\")","v":""},{"$f":"IFERROR(IF(AND(AS$9<>\"\",$H$3=\"計画\"),INDIRECT(\"'\"&$D11&\"　\"&$E11&\"'!B\"&AT$1),\nIF(AND(AS$9<>\"\",$H$3=\"実績\"),INDIRECT(\"'\"&$D11&\"　\"&$E11&\"'!C\"&AT$1),\n\"\")),\"\")","v":""},{"$f":"IFERROR(IF(IF(AND(AS$9<>\"\",$H$3=\"計画\"),INDIRECT(\"'\"&$D11&\"　\"&$E11&\"'!B\"&AU$1),\nIF(AND(AS$9<>\"\",$H$3=\"実績\"),INDIRECT(\"'\"&$D11&\"　\"&$E11&\"'!C\"&AU$1),\n\"\"))=\"対象外\",\"対象外\",AS11/AT11),\"\")","v":""},{"$f":"IFERROR(IF(AND(AV$9<>\"\",$H$3=\"計画\"),INDIRECT(\"'\"&$D11&\"　\"&$E11&\"'!B\"&AV$1),\nIF(AND(AV$9<>\"\",$H$3=\"実績\"),INDIRECT(\"'\"&$D11&\"　\"&$E11&\"'!C\"&AV$1),\n\"\")),\"\")","v":""},{"$f":"IFERROR(IF(AND(AV$9<>\"\",$H$3=\"計画\"),INDIRECT(\"'\"&$D11&\"　\"&$E11&\"'!B\"&AW$1),\nIF(AND(AV$9<>\"\",$H$3=\"実績\"),INDIRECT(\"'\"&$D11&\"　\"&$E11&\"'!C\"&AW$1),\n\"\")),\"\")","v":""},{"$f":"IFERROR(IF(IF(AND(AV$9<>\"\",$H$3=\"計画\"),INDIRECT(\"'\"&$D11&\"　\"&$E11&\"'!B\"&AX$1),\nIF(AND(AV$9<>\"\",$H$3=\"実績\"),INDIRECT(\"'\"&$D11&\"　\"&$E11&\"'!C\"&AX$1),\n\"\"))=\"対象外\",\"対象外\",AV11/AW11),\"\")","v":""},{"$f":"IFERROR(IF(AND(AY$9<>\"\",$H$3=\"計画\"),INDIRECT(\"'\"&$D11&\"　\"&$E11&\"'!B\"&AY$1),\nIF(AND(AY$9<>\"\",$H$3=\"実績\"),INDIRECT(\"'\"&$D11&\"　\"&$E11&\"'!C\"&AY$1),\n\"\")),\"\")","v":""},{"$f":"IFERROR(IF(AND(AY$9<>\"\",$H$3=\"計画\"),INDIRECT(\"'\"&$D11&\"　\"&$E11&\"'!B\"&AZ$1),\nIF(AND(AY$9<>\"\",$H$3=\"実績\"),INDIRECT(\"'\"&$D11&\"　\"&$E11&\"'!C\"&AZ$1),\n\"\")),\"\")","v":""},{"$f":"IFERROR(IF(IF(AND(AY$9<>\"\",$H$3=\"計画\"),INDIRECT(\"'\"&$D11&\"　\"&$E11&\"'!B\"&BA$1),\nIF(AND(AY$9<>\"\",$H$3=\"実績\"),INDIRECT(\"'\"&$D11&\"　\"&$E11&\"'!C\"&BA$1),\n\"\"))=\"対象外\",\"対象外\",AY11/AZ11),\"\")","v":""},{"$f":"IFERROR(IF(AND(BB$9<>\"\",$H$3=\"計画\"),INDIRECT(\"'\"&$D11&\"　\"&$E11&\"'!B\"&BB$1),\nIF(AND(BB$9<>\"\",$H$3=\"実績\"),INDIRECT(\"'\"&$D11&\"　\"&$E11&\"'!C\"&BB$1),\n\"\")),\"\")","v":""},{"$f":"IFERROR(IF(AND(BB$9<>\"\",$H$3=\"計画\"),INDIRECT(\"'\"&$D11&\"　\"&$E11&\"'!B\"&BC$1),\nIF(AND(BB$9<>\"\",$H$3=\"実績\"),INDIRECT(\"'\"&$D11&\"　\"&$E11&\"'!C\"&BC$1),\n\"\")),\"\")","v":""},{"$f":"IFERROR(IF(IF(AND(BB$9<>\"\",$H$3=\"計画\"),INDIRECT(\"'\"&$D11&\"　\"&$E11&\"'!B\"&BD$1),\nIF(AND(BB$9<>\"\",$H$3=\"実績\"),INDIRECT(\"'\"&$D11&\"　\"&$E11&\"'!C\"&BD$1),\n\"\"))=\"対象外\",\"対象外\",BB11/BC11),\"\")","v":""},{"$f":"IFERROR(IF(AND(BE$9<>\"\",$H$3=\"計画\"),INDIRECT(\"'\"&$D11&\"　\"&$E11&\"'!B\"&BE$1),\nIF(AND(BE$9<>\"\",$H$3=\"実績\"),INDIRECT(\"'\"&$D11&\"　\"&$E11&\"'!C\"&BE$1),\n\"\")),\"\")","v":""},{"$f":"IFERROR(IF(AND(BE$9<>\"\",$H$3=\"計画\"),INDIRECT(\"'\"&$D11&\"　\"&$E11&\"'!B\"&BF$1),\nIF(AND(BE$9<>\"\",$H$3=\"実績\"),INDIRECT(\"'\"&$D11&\"　\"&$E11&\"'!C\"&BF$1),\n\"\")),\"\")","v":""},{"$f":"IFERROR(IF(IF(AND(BE$9<>\"\",$H$3=\"計画\"),INDIRECT(\"'\"&$D11&\"　\"&$E11&\"'!B\"&BG$1),\nIF(AND(BE$9<>\"\",$H$3=\"実績\"),INDIRECT(\"'\"&$D11&\"　\"&$E11&\"'!C\"&BG$1),\n\"\"))=\"対象外\",\"対象外\",BE11/BF11),\"\")","v":""},{"$f":"IFERROR(IF(AND(BH$9<>\"\",$H$3=\"計画\"),INDIRECT(\"'\"&$D11&\"　\"&$E11&\"'!B\"&BH$1),\nIF(AND(BH$9<>\"\",$H$3=\"実績\"),INDIRECT(\"'\"&$D11&\"　\"&$E11&\"'!C\"&BH$1),\n\"\")),\"\")","v":""},{"$f":"IFERROR(IF(AND(BH$9<>\"\",$H$3=\"計画\"),INDIRECT(\"'\"&$D11&\"　\"&$E11&\"'!B\"&BI$1),\nIF(AND(BH$9<>\"\",$H$3=\"実績\"),INDIRECT(\"'\"&$D11&\"　\"&$E11&\"'!C\"&BI$1),\n\"\")),\"\")","v":""},{"$f":"IFERROR(IF(IF(AND(BH$9<>\"\",$H$3=\"計画\"),INDIRECT(\"'\"&$D11&\"　\"&$E11&\"'!B\"&BJ$1),\nIF(AND(BH$9<>\"\",$H$3=\"実績\"),INDIRECT(\"'\"&$D11&\"　\"&$E11&\"'!C\"&BJ$1),\n\"\"))=\"対象外\",\"対象外\",BH11/BI11),\"\")","v":""},{"$f":"IFERROR(IF(AND(BK$9<>\"\",$H$3=\"計画\"),INDIRECT(\"'\"&$D11&\"　\"&$E11&\"'!B\"&BK$1),\nIF(AND(BK$9<>\"\",$H$3=\"実績\"),INDIRECT(\"'\"&$D11&\"　\"&$E11&\"'!C\"&BK$1),\n\"\")),\"\")","v":""},{"$f":"IFERROR(IF(AND(BK$9<>\"\",$H$3=\"計画\"),INDIRECT(\"'\"&$D11&\"　\"&$E11&\"'!B\"&BL$1),\nIF(AND(BK$9<>\"\",$H$3=\"実績\"),INDIRECT(\"'\"&$D11&\"　\"&$E11&\"'!C\"&BL$1),\n\"\")),\"\")","v":""},{"$f":"IFERROR(IF(IF(AND(BK$9<>\"\",$H$3=\"計画\"),INDIRECT(\"'\"&$D11&\"　\"&$E11&\"'!B\"&BM$1),\nIF(AND(BK$9<>\"\",$H$3=\"実績\"),INDIRECT(\"'\"&$D11&\"　\"&$E11&\"'!C\"&BM$1),\n\"\"))=\"対象外\",\"対象外\",BK11/BL11),\"\")","v":""},{"$f":"IFERROR(IF(AND(BN$9<>\"\",$H$3=\"計画\"),INDIRECT(\"'\"&$D11&\"　\"&$E11&\"'!B\"&BN$1),\nIF(AND(BN$9<>\"\",$H$3=\"実績\"),INDIRECT(\"'\"&$D11&\"　\"&$E11&\"'!C\"&BN$1),\n\"\")),\"\")","v":""},{"$f":"IFERROR(IF(AND(BN$9<>\"\",$H$3=\"計画\"),INDIRECT(\"'\"&$D11&\"　\"&$E11&\"'!B\"&BO$1),\nIF(AND(BN$9<>\"\",$H$3=\"実績\"),INDIRECT(\"'\"&$D11&\"　\"&$E11&\"'!C\"&BO$1),\n\"\")),\"\")","v":""},{"$f":"IFERROR(IF(IF(AND(BN$9<>\"\",$H$3=\"計画\"),INDIRECT(\"'\"&$D11&\"　\"&$E11&\"'!B\"&BP$1),\nIF(AND(BN$9<>\"\",$H$3=\"実績\"),INDIRECT(\"'\"&$D11&\"　\"&$E11&\"'!C\"&BP$1),\n\"\"))=\"対象外\",\"対象外\",BN11/BO11),\"\")","v":""},{"$f":"IFERROR(IF(AND(BQ$9<>\"\",$H$3=\"計画\"),INDIRECT(\"'\"&$D11&\"　\"&$E11&\"'!B\"&BQ$1),\nIF(AND(BQ$9<>\"\",$H$3=\"実績\"),INDIRECT(\"'\"&$D11&\"　\"&$E11&\"'!C\"&BQ$1),\n\"\")),\"\")","v":""},{"$f":"IFERROR(IF(AND(BQ$9<>\"\",$H$3=\"計画\"),INDIRECT(\"'\"&$D11&\"　\"&$E11&\"'!B\"&BR$1),\nIF(AND(BQ$9<>\"\",$H$3=\"実績\"),INDIRECT(\"'\"&$D11&\"　\"&$E11&\"'!C\"&BR$1),\n\"\")),\"\")","v":""},{"$f":"IFERROR(IF(IF(AND(BQ$9<>\"\",$H$3=\"計画\"),INDIRECT(\"'\"&$D11&\"　\"&$E11&\"'!B\"&BS$1),\nIF(AND(BQ$9<>\"\",$H$3=\"実績\"),INDIRECT(\"'\"&$D11&\"　\"&$E11&\"'!C\"&BS$1),\n\"\"))=\"対象外\",\"対象外\",BQ11/BR11),\"\")","v":""},{"$f":"IFERROR(IF(AND(BT$9<>\"\",$H$3=\"計画\"),INDIRECT(\"'\"&$D11&\"　\"&$E11&\"'!B\"&BT$1),\nIF(AND(BT$9<>\"\",$H$3=\"実績\"),INDIRECT(\"'\"&$D11&\"　\"&$E11&\"'!C\"&BT$1),\n\"\")),\"\")","v":""},{"$f":"IFERROR(IF(AND(BT$9<>\"\",$H$3=\"計画\"),INDIRECT(\"'\"&$D11&\"　\"&$E11&\"'!B\"&BU$1),\nIF(AND(BT$9<>\"\",$H$3=\"実績\"),INDIRECT(\"'\"&$D11&\"　\"&$E11&\"'!C\"&BU$1),\n\"\")),\"\")","v":""},{"$f":"IFERROR(IF(IF(AND(BT$9<>\"\",$H$3=\"計画\"),INDIRECT(\"'\"&$D11&\"　\"&$E11&\"'!B\"&BV$1),\nIF(AND(BT$9<>\"\",$H$3=\"実績\"),INDIRECT(\"'\"&$D11&\"　\"&$E11&\"'!C\"&BV$1),\n\"\"))=\"対象外\",\"対象外\",BT11/BU11),\"\")","v":""},{"$f":"IFERROR(IF(AND(BW$9<>\"\",$H$3=\"計画\"),INDIRECT(\"'\"&$D11&\"　\"&$E11&\"'!B\"&BW$1),\nIF(AND(BW$9<>\"\",$H$3=\"実績\"),INDIRECT(\"'\"&$D11&\"　\"&$E11&\"'!C\"&BW$1),\n\"\")),\"\")","v":""},{"$f":"IFERROR(IF(AND(BW$9<>\"\",$H$3=\"計画\"),INDIRECT(\"'\"&$D11&\"　\"&$E11&\"'!B\"&BX$1),\nIF(AND(BW$9<>\"\",$H$3=\"実績\"),INDIRECT(\"'\"&$D11&\"　\"&$E11&\"'!C\"&BX$1),\n\"\")),\"\")","v":""},{"$f":"IFERROR(IF(IF(AND(BW$9<>\"\",$H$3=\"計画\"),INDIRECT(\"'\"&$D11&\"　\"&$E11&\"'!B\"&BY$1),\nIF(AND(BW$9<>\"\",$H$3=\"実績\"),INDIRECT(\"'\"&$D11&\"　\"&$E11&\"'!C\"&BY$1),\n\"\"))=\"対象外\",\"対象外\",BW11/BX11),\"\")","v":""},{"$f":"IFERROR(IF(AND(BZ$9<>\"\",$H$3=\"計画\"),INDIRECT(\"'\"&$D11&\"　\"&$E11&\"'!B\"&BZ$1),\nIF(AND(BZ$9<>\"\",$H$3=\"実績\"),INDIRECT(\"'\"&$D11&\"　\"&$E11&\"'!C\"&BZ$1),\n\"\")),\"\")","v":""},{"$f":"IFERROR(IF(AND(BZ$9<>\"\",$H$3=\"計画\"),INDIRECT(\"'\"&$D11&\"　\"&$E11&\"'!B\"&CA$1),\nIF(AND(BZ$9<>\"\",$H$3=\"実績\"),INDIRECT(\"'\"&$D11&\"　\"&$E11&\"'!C\"&CA$1),\n\"\")),\"\")","v":""},{"$f":"IFERROR(IF(IF(AND(BZ$9<>\"\",$H$3=\"計画\"),INDIRECT(\"'\"&$D11&\"　\"&$E11&\"'!B\"&CB$1),\nIF(AND(BZ$9<>\"\",$H$3=\"実績\"),INDIRECT(\"'\"&$D11&\"　\"&$E11&\"'!C\"&CB$1),\n\"\"))=\"対象外\",\"対象外\",BZ11/CA11),\"\")","v":""},{"$f":"IFERROR(IF(AND(CC$9<>\"\",$H$3=\"計画\"),INDIRECT(\"'\"&$D11&\"　\"&$E11&\"'!B\"&CC$1),\nIF(AND(CC$9<>\"\",$H$3=\"実績\"),INDIRECT(\"'\"&$D11&\"　\"&$E11&\"'!C\"&CC$1),\n\"\")),\"\")","v":""},{"$f":"IFERROR(IF(AND(CC$9<>\"\",$H$3=\"計画\"),INDIRECT(\"'\"&$D11&\"　\"&$E11&\"'!B\"&CD$1),\nIF(AND(CC$9<>\"\",$H$3=\"実績\"),INDIRECT(\"'\"&$D11&\"　\"&$E11&\"'!C\"&CD$1),\n\"\")),\"\")","v":""},{"$f":"IFERROR(IF(IF(AND(CC$9<>\"\",$H$3=\"計画\"),INDIRECT(\"'\"&$D11&\"　\"&$E11&\"'!B\"&CE$1),\nIF(AND(CC$9<>\"\",$H$3=\"実績\"),INDIRECT(\"'\"&$D11&\"　\"&$E11&\"'!C\"&CE$1),\n\"\"))=\"対象外\",\"対象外\",CC11/CD11),\"\")","v":""},{"$f":"IFERROR(IF(AND(CF$9<>\"\",$H$3=\"計画\"),INDIRECT(\"'\"&$D11&\"　\"&$E11&\"'!B\"&CF$1),\nIF(AND(CF$9<>\"\",$H$3=\"実績\"),INDIRECT(\"'\"&$D11&\"　\"&$E11&\"'!C\"&CF$1),\n\"\")),\"\")","v":""},{"$f":"IFERROR(IF(AND(CF$9<>\"\",$H$3=\"計画\"),INDIRECT(\"'\"&$D11&\"　\"&$E11&\"'!B\"&CG$1),\nIF(AND(CF$9<>\"\",$H$3=\"実績\"),INDIRECT(\"'\"&$D11&\"　\"&$E11&\"'!C\"&CG$1),\n\"\")),\"\")","v":""},{"$f":"IFERROR(IF(IF(AND(CF$9<>\"\",$H$3=\"計画\"),INDIRECT(\"'\"&$D11&\"　\"&$E11&\"'!B\"&CH$1),\nIF(AND(CF$9<>\"\",$H$3=\"実績\"),INDIRECT(\"'\"&$D11&\"　\"&$E11&\"'!C\"&CH$1),\n\"\"))=\"対象外\",\"対象外\",CF11/CG11),\"\")","v":""},{"$f":"IFERROR(IF(AND(CI$9<>\"\",$H$3=\"計画\"),INDIRECT(\"'\"&$D11&\"　\"&$E11&\"'!B\"&CI$1),\nIF(AND(CI$9<>\"\",$H$3=\"実績\"),INDIRECT(\"'\"&$D11&\"　\"&$E11&\"'!C\"&CI$1),\n\"\")),\"\")","v":""},{"$f":"IFERROR(IF(AND(CI$9<>\"\",$H$3=\"計画\"),INDIRECT(\"'\"&$D11&\"　\"&$E11&\"'!B\"&CJ$1),\nIF(AND(CI$9<>\"\",$H$3=\"実績\"),INDIRECT(\"'\"&$D11&\"　\"&$E11&\"'!C\"&CJ$1),\n\"\")),\"\")","v":""},{"$f":"IFERROR(IF(IF(AND(CI$9<>\"\",$H$3=\"計画\"),INDIRECT(\"'\"&$D11&\"　\"&$E11&\"'!B\"&CK$1),\nIF(AND(CI$9<>\"\",$H$3=\"実績\"),INDIRECT(\"'\"&$D11&\"　\"&$E11&\"'!C\"&CK$1),\n\"\"))=\"対象外\",\"対象外\",CI11/CJ11),\"\")","v":""},{"$f":"IFERROR(IF(AND(CL$9<>\"\",$H$3=\"計画\"),INDIRECT(\"'\"&$D11&\"　\"&$E11&\"'!B\"&CL$1),\nIF(AND(CL$9<>\"\",$H$3=\"実績\"),INDIRECT(\"'\"&$D11&\"　\"&$E11&\"'!C\"&CL$1),\n\"\")),\"\")","v":""},{"$f":"IFERROR(IF(AND(CL$9<>\"\",$H$3=\"計画\"),INDIRECT(\"'\"&$D11&\"　\"&$E11&\"'!B\"&CM$1),\nIF(AND(CL$9<>\"\",$H$3=\"実績\"),INDIRECT(\"'\"&$D11&\"　\"&$E11&\"'!C\"&CM$1),\n\"\")),\"\")","v":""},{"$f":"IFERROR(IF(IF(AND(CL$9<>\"\",$H$3=\"計画\"),INDIRECT(\"'\"&$D11&\"　\"&$E11&\"'!B\"&CN$1),\nIF(AND(CL$9<>\"\",$H$3=\"実績\"),INDIRECT(\"'\"&$D11&\"　\"&$E11&\"'!C\"&CN$1),\n\"\"))=\"対象外\",\"対象外\",CL11/CM11),\"\")","v":""},{"$f":"IFERROR(IF(AND(CO$9<>\"\",$H$3=\"計画\"),INDIRECT(\"'\"&$D11&\"　\"&$E11&\"'!B\"&CO$1),\nIF(AND(CO$9<>\"\",$H$3=\"実績\"),INDIRECT(\"'\"&$D11&\"　\"&$E11&\"'!C\"&CO$1),\n\"\")),\"\")","v":""},{"$f":"IFERROR(IF(AND(CO$9<>\"\",$H$3=\"計画\"),INDIRECT(\"'\"&$D11&\"　\"&$E11&\"'!B\"&CP$1),\nIF(AND(CO$9<>\"\",$H$3=\"実績\"),INDIRECT(\"'\"&$D11&\"　\"&$E11&\"'!C\"&CP$1),\n\"\")),\"\")","v":""},{"$f":"IFERROR(IF(IF(AND(CO$9<>\"\",$H$3=\"計画\"),INDIRECT(\"'\"&$D11&\"　\"&$E11&\"'!B\"&CQ$1),\nIF(AND(CO$9<>\"\",$H$3=\"実績\"),INDIRECT(\"'\"&$D11&\"　\"&$E11&\"'!C\"&CQ$1),\n\"\"))=\"対象外\",\"対象外\",CO11/CP11),\"\")","v":""},{"$f":"IFERROR(IF(AND(CR$9<>\"\",$H$3=\"計画\"),INDIRECT(\"'\"&$D11&\"　\"&$E11&\"'!B\"&CR$1),\nIF(AND(CR$9<>\"\",$H$3=\"実績\"),INDIRECT(\"'\"&$D11&\"　\"&$E11&\"'!C\"&CR$1),\n\"\")),\"\")","v":""},{"$f":"IFERROR(IF(AND(CR$9<>\"\",$H$3=\"計画\"),INDIRECT(\"'\"&$D11&\"　\"&$E11&\"'!B\"&CS$1),\nIF(AND(CR$9<>\"\",$H$3=\"実績\"),INDIRECT(\"'\"&$D11&\"　\"&$E11&\"'!C\"&CS$1),\n\"\")),\"\")","v":""},{"$f":"IFERROR(IF(IF(AND(CR$9<>\"\",$H$3=\"計画\"),INDIRECT(\"'\"&$D11&\"　\"&$E11&\"'!B\"&CT$1),\nIF(AND(CR$9<>\"\",$H$3=\"実績\"),INDIRECT(\"'\"&$D11&\"　\"&$E11&\"'!C\"&CT$1),\n\"\"))=\"対象外\",\"対象外\",CR11/CS11),\"\")","v":""},{"$f":"IFERROR(IF(AND(CU$9<>\"\",$H$3=\"計画\"),INDIRECT(\"'\"&$D11&\"　\"&$E11&\"'!B\"&CU$1),\nIF(AND(CU$9<>\"\",$H$3=\"実績\"),INDIRECT(\"'\"&$D11&\"　\"&$E11&\"'!C\"&CU$1),\n\"\")),\"\")","v":""},{"$f":"IFERROR(IF(AND(CU$9<>\"\",$H$3=\"計画\"),INDIRECT(\"'\"&$D11&\"　\"&$E11&\"'!B\"&CV$1),\nIF(AND(CU$9<>\"\",$H$3=\"実績\"),INDIRECT(\"'\"&$D11&\"　\"&$E11&\"'!C\"&CV$1),\n\"\")),\"\")","v":""},{"$f":"IFERROR(IF(IF(AND(CU$9<>\"\",$H$3=\"計画\"),INDIRECT(\"'\"&$D11&\"　\"&$E11&\"'!B\"&CW$1),\nIF(AND(CU$9<>\"\",$H$3=\"実績\"),INDIRECT(\"'\"&$D11&\"　\"&$E11&\"'!C\"&CW$1),\n\"\"))=\"対象外\",\"対象外\",CU11/CV11),\"\")","v":""},{"$f":"IFERROR(IF(AND(CX$9<>\"\",$H$3=\"計画\"),INDIRECT(\"'\"&$D11&\"　\"&$E11&\"'!B\"&CX$1),\nIF(AND(CX$9<>\"\",$H$3=\"実績\"),INDIRECT(\"'\"&$D11&\"　\"&$E11&\"'!C\"&CX$1),\n\"\")),\"\")","v":""},{"$f":"IFERROR(IF(AND(CX$9<>\"\",$H$3=\"計画\"),INDIRECT(\"'\"&$D11&\"　\"&$E11&\"'!B\"&CY$1),\nIF(AND(CX$9<>\"\",$H$3=\"実績\"),INDIRECT(\"'\"&$D11&\"　\"&$E11&\"'!C\"&CY$1),\n\"\")),\"\")","v":""},{"$f":"IFERROR(IF(IF(AND(CX$9<>\"\",$H$3=\"計画\"),INDIRECT(\"'\"&$D11&\"　\"&$E11&\"'!B\"&CZ$1),\nIF(AND(CX$9<>\"\",$H$3=\"実績\"),INDIRECT(\"'\"&$D11&\"　\"&$E11&\"'!C\"&CZ$1),\n\"\"))=\"対象外\",\"対象外\",CX11/CY11),\"\")","v":""},{"$f":"IFERROR(IF(AND(DA$9<>\"\",$H$3=\"計画\"),INDIRECT(\"'\"&$D11&\"　\"&$E11&\"'!B\"&DA$1),\nIF(AND(DA$9<>\"\",$H$3=\"実績\"),INDIRECT(\"'\"&$D11&\"　\"&$E11&\"'!C\"&DA$1),\n\"\")),\"\")","v":""},{"$f":"IFERROR(IF(AND(DA$9<>\"\",$H$3=\"計画\"),INDIRECT(\"'\"&$D11&\"　\"&$E11&\"'!B\"&DB$1),\nIF(AND(DA$9<>\"\",$H$3=\"実績\"),INDIRECT(\"'\"&$D11&\"　\"&$E11&\"'!C\"&DB$1),\n\"\")),\"\")","v":""},{"$f":"IFERROR(IF(IF(AND(DA$9<>\"\",$H$3=\"計画\"),INDIRECT(\"'\"&$D11&\"　\"&$E11&\"'!B\"&DC$1),\nIF(AND(DA$9<>\"\",$H$3=\"実績\"),INDIRECT(\"'\"&$D11&\"　\"&$E11&\"'!C\"&DC$1),\n\"\"))=\"対象外\",\"対象外\",DA11/DB11),\"\")","v":""},{"$f":"IFERROR(IF(AND(DD$9<>\"\",$H$3=\"計画\"),INDIRECT(\"'\"&$D11&\"　\"&$E11&\"'!B\"&DD$1),\nIF(AND(DD$9<>\"\",$H$3=\"実績\"),INDIRECT(\"'\"&$D11&\"　\"&$E11&\"'!C\"&DD$1),\n\"\")),\"\")","v":""},{"$f":"IFERROR(IF(AND(DD$9<>\"\",$H$3=\"計画\"),INDIRECT(\"'\"&$D11&\"　\"&$E11&\"'!B\"&DE$1),\nIF(AND(DD$9<>\"\",$H$3=\"実績\"),INDIRECT(\"'\"&$D11&\"　\"&$E11&\"'!C\"&DE$1),\n\"\")),\"\")","v":""},{"$f":"IFERROR(IF(IF(AND(DD$9<>\"\",$H$3=\"計画\"),INDIRECT(\"'\"&$D11&\"　\"&$E11&\"'!B\"&DF$1),\nIF(AND(DD$9<>\"\",$H$3=\"実績\"),INDIRECT(\"'\"&$D11&\"　\"&$E11&\"'!C\"&DF$1),\n\"\"))=\"対象外\",\"対象外\",DD11/DE11),\"\")","v":""},{"$f":"IFERROR(IF(AND(DG$9<>\"\",$H$3=\"計画\"),INDIRECT(\"'\"&$D11&\"　\"&$E11&\"'!B\"&DG$1),\nIF(AND(DG$9<>\"\",$H$3=\"実績\"),INDIRECT(\"'\"&$D11&\"　\"&$E11&\"'!C\"&DG$1),\n\"\")),\"\")","v":""},{"$f":"IFERROR(IF(AND(DG$9<>\"\",$H$3=\"計画\"),INDIRECT(\"'\"&$D11&\"　\"&$E11&\"'!B\"&DH$1),\nIF(AND(DG$9<>\"\",$H$3=\"実績\"),INDIRECT(\"'\"&$D11&\"　\"&$E11&\"'!C\"&DH$1),\n\"\")),\"\")","v":""},{"$f":"IFERROR(IF(IF(AND(DG$9<>\"\",$H$3=\"計画\"),INDIRECT(\"'\"&$D11&\"　\"&$E11&\"'!B\"&DI$1),\nIF(AND(DG$9<>\"\",$H$3=\"実績\"),INDIRECT(\"'\"&$D11&\"　\"&$E11&\"'!C\"&DI$1),\n\"\"))=\"対象外\",\"対象外\",DG11/DH11),\"\")","v":""},{"$f":"IFERROR(IF(AND(DJ$9<>\"\",$H$3=\"計画\"),INDIRECT(\"'\"&$D11&\"　\"&$E11&\"'!B\"&DJ$1),\nIF(AND(DJ$9<>\"\",$H$3=\"実績\"),INDIRECT(\"'\"&$D11&\"　\"&$E11&\"'!C\"&DJ$1),\n\"\")),\"\")","v":""},{"$f":"IFERROR(IF(AND(DJ$9<>\"\",$H$3=\"計画\"),INDIRECT(\"'\"&$D11&\"　\"&$E11&\"'!B\"&DK$1),\nIF(AND(DJ$9<>\"\",$H$3=\"実績\"),INDIRECT(\"'\"&$D11&\"　\"&$E11&\"'!C\"&DK$1),\n\"\")),\"\")","v":""},{"$f":"IFERROR(IF(IF(AND(DJ$9<>\"\",$H$3=\"計画\"),INDIRECT(\"'\"&$D11&\"　\"&$E11&\"'!B\"&DL$1),\nIF(AND(DJ$9<>\"\",$H$3=\"実績\"),INDIRECT(\"'\"&$D11&\"　\"&$E11&\"'!C\"&DL$1),\n\"\"))=\"対象外\",\"対象外\",DJ11/DK11),\"\")","v":""}]
[null,null,null,null,null,{"$f":"IF(OR($H$3=\"\",$E12=\"\"),\"\",\nSUMIF($I$10:$DL$10,F$10,$I12:$DL12))","v":""},"",{"$f":"IFERROR(IF(IF(H$3=\"計画\",INDIRECT(\"'\"&$D12&\"　\"&$E12&\"'!B\"&H$1),\nIF(H$3=\"実績\",INDIRECT(\"'\"&$D12&\"　\"&$E12&\"'!C\"&H$1),\n\"\"))>=28,F12/G12,\"対象外\"),\"\")","v":""},{"$f":"IFERROR(IF(AND(I$9<>\"\",$H$3=\"計画\"),INDIRECT(\"'\"&$D12&\"　\"&$E12&\"'!B\"&I$1),\nIF(AND(I$9<>\"\",$H$3=\"実績\"),INDIRECT(\"'\"&$D12&\"　\"&$E12&\"'!C\"&I$1),\n\"\")),\"\")","v":""},{"$f":"IFERROR(IF(AND(I$9<>\"\",$H$3=\"計画\"),INDIRECT(\"'\"&$D12&\"　\"&$E12&\"'!B\"&J$1),\nIF(AND(I$9<>\"\",$H$3=\"実績\"),INDIRECT(\"'\"&$D12&\"　\"&$E12&\"'!C\"&J$1),\n\"\")),\"\")","v":""},{"$f":"IFERROR(IF(IF(AND(I$9<>\"\",$H$3=\"計画\"),INDIRECT(\"'\"&$D12&\"　\"&$E12&\"'!B\"&K$1),\nIF(AND(I$9<>\"\",$H$3=\"実績\"),INDIRECT(\"'\"&$D12&\"　\"&$E12&\"'!C\"&K$1),\n\"\"))=\"対象外\",\"対象外\",I12/J12),\"\")","v":""},{"$f":"IFERROR(IF(AND(L$9<>\"\",$H$3=\"計画\"),INDIRECT(\"'\"&$D12&\"　\"&$E12&\"'!B\"&L$1),\nIF(AND(L$9<>\"\",$H$3=\"実績\"),INDIRECT(\"'\"&$D12&\"　\"&$E12&\"'!C\"&L$1),\n\"\")),\"\")","v":""},{"$f":"IFERROR(IF(AND(L$9<>\"\",$H$3=\"計画\"),INDIRECT(\"'\"&$D12&\"　\"&$E12&\"'!B\"&M$1),\nIF(AND(L$9<>\"\",$H$3=\"実績\"),INDIRECT(\"'\"&$D12&\"　\"&$E12&\"'!C\"&M$1),\n\"\")),\"\")","v":""},{"$f":"IFERROR(IF(IF(AND(L$9<>\"\",$H$3=\"計画\"),INDIRECT(\"'\"&$D12&\"　\"&$E12&\"'!B\"&N$1),\nIF(AND(L$9<>\"\",$H$3=\"実績\"),INDIRECT(\"'\"&$D12&\"　\"&$E12&\"'!C\"&N$1),\n\"\"))=\"対象外\",\"対象外\",L12/M12),\"\")","v":""},{"$f":"IFERROR(IF(AND(O$9<>\"\",$H$3=\"計画\"),INDIRECT(\"'\"&$D12&\"　\"&$E12&\"'!B\"&O$1),\nIF(AND(O$9<>\"\",$H$3=\"実績\"),INDIRECT(\"'\"&$D12&\"　\"&$E12&\"'!C\"&O$1),\n\"\")),\"\")","v":""},{"$f":"IFERROR(IF(AND(O$9<>\"\",$H$3=\"計画\"),INDIRECT(\"'\"&$D12&\"　\"&$E12&\"'!B\"&P$1),\nIF(AND(O$9<>\"\",$H$3=\"実績\"),INDIRECT(\"'\"&$D12&\"　\"&$E12&\"'!C\"&P$1),\n\"\")),\"\")","v":""},{"$f":"IFERROR(IF(IF(AND(O$9<>\"\",$H$3=\"計画\"),INDIRECT(\"'\"&$D12&\"　\"&$E12&\"'!B\"&Q$1),\nIF(AND(O$9<>\"\",$H$3=\"実績\"),INDIRECT(\"'\"&$D12&\"　\"&$E12&\"'!C\"&Q$1),\n\"\"))=\"対象外\",\"対象外\",O12/P12),\"\")","v":""},{"$f":"IFERROR(IF(AND(R$9<>\"\",$H$3=\"計画\"),INDIRECT(\"'\"&$D12&\"　\"&$E12&\"'!B\"&R$1),\nIF(AND(R$9<>\"\",$H$3=\"実績\"),INDIRECT(\"'\"&$D12&\"　\"&$E12&\"'!C\"&R$1),\n\"\")),\"\")","v":""},{"$f":"IFERROR(IF(AND(R$9<>\"\",$H$3=\"計画\"),INDIRECT(\"'\"&$D12&\"　\"&$E12&\"'!B\"&S$1),\nIF(AND(R$9<>\"\",$H$3=\"実績\"),INDIRECT(\"'\"&$D12&\"　\"&$E12&\"'!C\"&S$1),\n\"\")),\"\")","v":""},{"$f":"IFERROR(IF(IF(AND(R$9<>\"\",$H$3=\"計画\"),INDIRECT(\"'\"&$D12&\"　\"&$E12&\"'!B\"&T$1),\nIF(AND(R$9<>\"\",$H$3=\"実績\"),INDIRECT(\"'\"&$D12&\"　\"&$E12&\"'!C\"&T$1),\n\"\"))=\"対象外\",\"対象外\",R12/S12),\"\")","v":""},{"$f":"IFERROR(IF(AND(U$9<>\"\",$H$3=\"計画\"),INDIRECT(\"'\"&$D12&\"　\"&$E12&\"'!B\"&U$1),\nIF(AND(U$9<>\"\",$H$3=\"実績\"),INDIRECT(\"'\"&$D12&\"　\"&$E12&\"'!C\"&U$1),\n\"\")),\"\")","v":""},{"$f":"IFERROR(IF(AND(U$9<>\"\",$H$3=\"計画\"),INDIRECT(\"'\"&$D12&\"　\"&$E12&\"'!B\"&V$1),\nIF(AND(U$9<>\"\",$H$3=\"実績\"),INDIRECT(\"'\"&$D12&\"　\"&$E12&\"'!C\"&V$1),\n\"\")),\"\")","v":""},{"$f":"IFERROR(IF(IF(AND(U$9<>\"\",$H$3=\"計画\"),INDIRECT(\"'\"&$D12&\"　\"&$E12&\"'!B\"&W$1),\nIF(AND(U$9<>\"\",$H$3=\"実績\"),INDIRECT(\"'\"&$D12&\"　\"&$E12&\"'!C\"&W$1),\n\"\"))=\"対象外\",\"対象外\",U12/V12),\"\")","v":""},{"$f":"IFERROR(IF(AND(X$9<>\"\",$H$3=\"計画\"),INDIRECT(\"'\"&$D12&\"　\"&$E12&\"'!B\"&X$1),\nIF(AND(X$9<>\"\",$H$3=\"実績\"),INDIRECT(\"'\"&$D12&\"　\"&$E12&\"'!C\"&X$1),\n\"\")),\"\")","v":""},{"$f":"IFERROR(IF(AND(X$9<>\"\",$H$3=\"計画\"),INDIRECT(\"'\"&$D12&\"　\"&$E12&\"'!B\"&Y$1),\nIF(AND(X$9<>\"\",$H$3=\"実績\"),INDIRECT(\"'\"&$D12&\"　\"&$E12&\"'!C\"&Y$1),\n\"\")),\"\")","v":""},{"$f":"IFERROR(IF(IF(AND(X$9<>\"\",$H$3=\"計画\"),INDIRECT(\"'\"&$D12&\"　\"&$E12&\"'!B\"&Z$1),\nIF(AND(X$9<>\"\",$H$3=\"実績\"),INDIRECT(\"'\"&$D12&\"　\"&$E12&\"'!C\"&Z$1),\n\"\"))=\"対象外\",\"対象外\",X12/Y12),\"\")","v":""},{"$f":"IFERROR(IF(AND(AA$9<>\"\",$H$3=\"計画\"),INDIRECT(\"'\"&$D12&\"　\"&$E12&\"'!B\"&AA$1),\nIF(AND(AA$9<>\"\",$H$3=\"実績\"),INDIRECT(\"'\"&$D12&\"　\"&$E12&\"'!C\"&AA$1),\n\"\")),\"\")","v":""},{"$f":"IFERROR(IF(AND(AA$9<>\"\",$H$3=\"計画\"),INDIRECT(\"'\"&$D12&\"　\"&$E12&\"'!B\"&AB$1),\nIF(AND(AA$9<>\"\",$H$3=\"実績\"),INDIRECT(\"'\"&$D12&\"　\"&$E12&\"'!C\"&AB$1),\n\"\")),\"\")","v":""},{"$f":"IFERROR(IF(IF(AND(AA$9<>\"\",$H$3=\"計画\"),INDIRECT(\"'\"&$D12&\"　\"&$E12&\"'!B\"&AC$1),\nIF(AND(AA$9<>\"\",$H$3=\"実績\"),INDIRECT(\"'\"&$D12&\"　\"&$E12&\"'!C\"&AC$1),\n\"\"))=\"対象外\",\"対象外\",AA12/AB12),\"\")","v":""},{"$f":"IFERROR(IF(AND(AD$9<>\"\",$H$3=\"計画\"),INDIRECT(\"'\"&$D12&\"　\"&$E12&\"'!B\"&AD$1),\nIF(AND(AD$9<>\"\",$H$3=\"実績\"),INDIRECT(\"'\"&$D12&\"　\"&$E12&\"'!C\"&AD$1),\n\"\")),\"\")","v":""},{"$f":"IFERROR(IF(AND(AD$9<>\"\",$H$3=\"計画\"),INDIRECT(\"'\"&$D12&\"　\"&$E12&\"'!B\"&AE$1),\nIF(AND(AD$9<>\"\",$H$3=\"実績\"),INDIRECT(\"'\"&$D12&\"　\"&$E12&\"'!C\"&AE$1),\n\"\")),\"\")","v":""},{"$f":"IFERROR(IF(IF(AND(AD$9<>\"\",$H$3=\"計画\"),INDIRECT(\"'\"&$D12&\"　\"&$E12&\"'!B\"&AF$1),\nIF(AND(AD$9<>\"\",$H$3=\"実績\"),INDIRECT(\"'\"&$D12&\"　\"&$E12&\"'!C\"&AF$1),\n\"\"))=\"対象外\",\"対象外\",AD12/AE12),\"\")","v":""},{"$f":"IFERROR(IF(AND(AG$9<>\"\",$H$3=\"計画\"),INDIRECT(\"'\"&$D12&\"　\"&$E12&\"'!B\"&AG$1),\nIF(AND(AG$9<>\"\",$H$3=\"実績\"),INDIRECT(\"'\"&$D12&\"　\"&$E12&\"'!C\"&AG$1),\n\"\")),\"\")","v":""},{"$f":"IFERROR(IF(AND(AG$9<>\"\",$H$3=\"計画\"),INDIRECT(\"'\"&$D12&\"　\"&$E12&\"'!B\"&AH$1),\nIF(AND(AG$9<>\"\",$H$3=\"実績\"),INDIRECT(\"'\"&$D12&\"　\"&$E12&\"'!C\"&AH$1),\n\"\")),\"\")","v":""},{"$f":"IFERROR(IF(IF(AND(AG$9<>\"\",$H$3=\"計画\"),INDIRECT(\"'\"&$D12&\"　\"&$E12&\"'!B\"&AI$1),\nIF(AND(AG$9<>\"\",$H$3=\"実績\"),INDIRECT(\"'\"&$D12&\"　\"&$E12&\"'!C\"&AI$1),\n\"\"))=\"対象外\",\"対象外\",AG12/AH12),\"\")","v":""},{"$f":"IFERROR(IF(AND(AJ$9<>\"\",$H$3=\"計画\"),INDIRECT(\"'\"&$D12&\"　\"&$E12&\"'!B\"&AJ$1),\nIF(AND(AJ$9<>\"\",$H$3=\"実績\"),INDIRECT(\"'\"&$D12&\"　\"&$E12&\"'!C\"&AJ$1),\n\"\")),\"\")","v":""},{"$f":"IFERROR(IF(AND(AJ$9<>\"\",$H$3=\"計画\"),INDIRECT(\"'\"&$D12&\"　\"&$E12&\"'!B\"&AK$1),\nIF(AND(AJ$9<>\"\",$H$3=\"実績\"),INDIRECT(\"'\"&$D12&\"　\"&$E12&\"'!C\"&AK$1),\n\"\")),\"\")","v":""},{"$f":"IFERROR(IF(IF(AND(AJ$9<>\"\",$H$3=\"計画\"),INDIRECT(\"'\"&$D12&\"　\"&$E12&\"'!B\"&AL$1),\nIF(AND(AJ$9<>\"\",$H$3=\"実績\"),INDIRECT(\"'\"&$D12&\"　\"&$E12&\"'!C\"&AL$1),\n\"\"))=\"対象外\",\"対象外\",AJ12/AK12),\"\")","v":""},{"$f":"IFERROR(IF(AND(AM$9<>\"\",$H$3=\"計画\"),INDIRECT(\"'\"&$D12&\"　\"&$E12&\"'!B\"&AM$1),\nIF(AND(AM$9<>\"\",$H$3=\"実績\"),INDIRECT(\"'\"&$D12&\"　\"&$E12&\"'!C\"&AM$1),\n\"\")),\"\")","v":""},{"$f":"IFERROR(IF(AND(AM$9<>\"\",$H$3=\"計画\"),INDIRECT(\"'\"&$D12&\"　\"&$E12&\"'!B\"&AN$1),\nIF(AND(AM$9<>\"\",$H$3=\"実績\"),INDIRECT(\"'\"&$D12&\"　\"&$E12&\"'!C\"&AN$1),\n\"\")),\"\")","v":""},{"$f":"IFERROR(IF(IF(AND(AM$9<>\"\",$H$3=\"計画\"),INDIRECT(\"'\"&$D12&\"　\"&$E12&\"'!B\"&AO$1),\nIF(AND(AM$9<>\"\",$H$3=\"実績\"),INDIRECT(\"'\"&$D12&\"　\"&$E12&\"'!C\"&AO$1),\n\"\"))=\"対象外\",\"対象外\",AM12/AN12),\"\")","v":""},{"$f":"IFERROR(IF(AND(AP$9<>\"\",$H$3=\"計画\"),INDIRECT(\"'\"&$D12&\"　\"&$E12&\"'!B\"&AP$1),\nIF(AND(AP$9<>\"\",$H$3=\"実績\"),INDIRECT(\"'\"&$D12&\"　\"&$E12&\"'!C\"&AP$1),\n\"\")),\"\")","v":""},{"$f":"IFERROR(IF(AND(AP$9<>\"\",$H$3=\"計画\"),INDIRECT(\"'\"&$D12&\"　\"&$E12&\"'!B\"&AQ$1),\nIF(AND(AP$9<>\"\",$H$3=\"実績\"),INDIRECT(\"'\"&$D12&\"　\"&$E12&\"'!C\"&AQ$1),\n\"\")),\"\")","v":""},{"$f":"IFERROR(IF(IF(AND(AP$9<>\"\",$H$3=\"計画\"),INDIRECT(\"'\"&$D12&\"　\"&$E12&\"'!B\"&AR$1),\nIF(AND(AP$9<>\"\",$H$3=\"実績\"),INDIRECT(\"'\"&$D12&\"　\"&$E12&\"'!C\"&AR$1),\n\"\"))=\"対象外\",\"対象外\",AP12/AQ12),\"\")","v":""},{"$f":"IFERROR(IF(AND(AS$9<>\"\",$H$3=\"計画\"),INDIRECT(\"'\"&$D12&\"　\"&$E12&\"'!B\"&AS$1),\nIF(AND(AS$9<>\"\",$H$3=\"実績\"),INDIRECT(\"'\"&$D12&\"　\"&$E12&\"'!C\"&AS$1),\n\"\")),\"\")","v":""},{"$f":"IFERROR(IF(AND(AS$9<>\"\",$H$3=\"計画\"),INDIRECT(\"'\"&$D12&\"　\"&$E12&\"'!B\"&AT$1),\nIF(AND(AS$9<>\"\",$H$3=\"実績\"),INDIRECT(\"'\"&$D12&\"　\"&$E12&\"'!C\"&AT$1),\n\"\")),\"\")","v":""},{"$f":"IFERROR(IF(IF(AND(AS$9<>\"\",$H$3=\"計画\"),INDIRECT(\"'\"&$D12&\"　\"&$E12&\"'!B\"&AU$1),\nIF(AND(AS$9<>\"\",$H$3=\"実績\"),INDIRECT(\"'\"&$D12&\"　\"&$E12&\"'!C\"&AU$1),\n\"\"))=\"対象外\",\"対象外\",AS12/AT12),\"\")","v":""},{"$f":"IFERROR(IF(AND(AV$9<>\"\",$H$3=\"計画\"),INDIRECT(\"'\"&$D12&\"　\"&$E12&\"'!B\"&AV$1),\nIF(AND(AV$9<>\"\",$H$3=\"実績\"),INDIRECT(\"'\"&$D12&\"　\"&$E12&\"'!C\"&AV$1),\n\"\")),\"\")","v":""},{"$f":"IFERROR(IF(AND(AV$9<>\"\",$H$3=\"計画\"),INDIRECT(\"'\"&$D12&\"　\"&$E12&\"'!B\"&AW$1),\nIF(AND(AV$9<>\"\",$H$3=\"実績\"),INDIRECT(\"'\"&$D12&\"　\"&$E12&\"'!C\"&AW$1),\n\"\")),\"\")","v":""},{"$f":"IFERROR(IF(IF(AND(AV$9<>\"\",$H$3=\"計画\"),INDIRECT(\"'\"&$D12&\"　\"&$E12&\"'!B\"&AX$1),\nIF(AND(AV$9<>\"\",$H$3=\"実績\"),INDIRECT(\"'\"&$D12&\"　\"&$E12&\"'!C\"&AX$1),\n\"\"))=\"対象外\",\"対象外\",AV12/AW12),\"\")","v":""},{"$f":"IFERROR(IF(AND(AY$9<>\"\",$H$3=\"計画\"),INDIRECT(\"'\"&$D12&\"　\"&$E12&\"'!B\"&AY$1),\nIF(AND(AY$9<>\"\",$H$3=\"実績\"),INDIRECT(\"'\"&$D12&\"　\"&$E12&\"'!C\"&AY$1),\n\"\")),\"\")","v":""},{"$f":"IFERROR(IF(AND(AY$9<>\"\",$H$3=\"計画\"),INDIRECT(\"'\"&$D12&\"　\"&$E12&\"'!B\"&AZ$1),\nIF(AND(AY$9<>\"\",$H$3=\"実績\"),INDIRECT(\"'\"&$D12&\"　\"&$E12&\"'!C\"&AZ$1),\n\"\")),\"\")","v":""},{"$f":"IFERROR(IF(IF(AND(AY$9<>\"\",$H$3=\"計画\"),INDIRECT(\"'\"&$D12&\"　\"&$E12&\"'!B\"&BA$1),\nIF(AND(AY$9<>\"\",$H$3=\"実績\"),INDIRECT(\"'\"&$D12&\"　\"&$E12&\"'!C\"&BA$1),\n\"\"))=\"対象外\",\"対象外\",AY12/AZ12),\"\")","v":""},{"$f":"IFERROR(IF(AND(BB$9<>\"\",$H$3=\"計画\"),INDIRECT(\"'\"&$D12&\"　\"&$E12&\"'!B\"&BB$1),\nIF(AND(BB$9<>\"\",$H$3=\"実績\"),INDIRECT(\"'\"&$D12&\"　\"&$E12&\"'!C\"&BB$1),\n\"\")),\"\")","v":""},{"$f":"IFERROR(IF(AND(BB$9<>\"\",$H$3=\"計画\"),INDIRECT(\"'\"&$D12&\"　\"&$E12&\"'!B\"&BC$1),\nIF(AND(BB$9<>\"\",$H$3=\"実績\"),INDIRECT(\"'\"&$D12&\"　\"&$E12&\"'!C\"&BC$1),\n\"\")),\"\")","v":""},{"$f":"IFERROR(IF(IF(AND(BB$9<>\"\",$H$3=\"計画\"),INDIRECT(\"'\"&$D12&\"　\"&$E12&\"'!B\"&BD$1),\nIF(AND(BB$9<>\"\",$H$3=\"実績\"),INDIRECT(\"'\"&$D12&\"　\"&$E12&\"'!C\"&BD$1),\n\"\"))=\"対象外\",\"対象外\",BB12/BC12),\"\")","v":""},{"$f":"IFERROR(IF(AND(BE$9<>\"\",$H$3=\"計画\"),INDIRECT(\"'\"&$D12&\"　\"&$E12&\"'!B\"&BE$1),\nIF(AND(BE$9<>\"\",$H$3=\"実績\"),INDIRECT(\"'\"&$D12&\"　\"&$E12&\"'!C\"&BE$1),\n\"\")),\"\")","v":""},{"$f":"IFERROR(IF(AND(BE$9<>\"\",$H$3=\"計画\"),INDIRECT(\"'\"&$D12&\"　\"&$E12&\"'!B\"&BF$1),\nIF(AND(BE$9<>\"\",$H$3=\"実績\"),INDIRECT(\"'\"&$D12&\"　\"&$E12&\"'!C\"&BF$1),\n\"\")),\"\")","v":""},{"$f":"IFERROR(IF(IF(AND(BE$9<>\"\",$H$3=\"計画\"),INDIRECT(\"'\"&$D12&\"　\"&$E12&\"'!B\"&BG$1),\nIF(AND(BE$9<>\"\",$H$3=\"実績\"),INDIRECT(\"'\"&$D12&\"　\"&$E12&\"'!C\"&BG$1),\n\"\"))=\"対象外\",\"対象外\",BE12/BF12),\"\")","v":""},{"$f":"IFERROR(IF(AND(BH$9<>\"\",$H$3=\"計画\"),INDIRECT(\"'\"&$D12&\"　\"&$E12&\"'!B\"&BH$1),\nIF(AND(BH$9<>\"\",$H$3=\"実績\"),INDIRECT(\"'\"&$D12&\"　\"&$E12&\"'!C\"&BH$1),\n\"\")),\"\")","v":""},{"$f":"IFERROR(IF(AND(BH$9<>\"\",$H$3=\"計画\"),INDIRECT(\"'\"&$D12&\"　\"&$E12&\"'!B\"&BI$1),\nIF(AND(BH$9<>\"\",$H$3=\"実績\"),INDIRECT(\"'\"&$D12&\"　\"&$E12&\"'!C\"&BI$1),\n\"\")),\"\")","v":""},{"$f":"IFERROR(IF(IF(AND(BH$9<>\"\",$H$3=\"計画\"),INDIRECT(\"'\"&$D12&\"　\"&$E12&\"'!B\"&BJ$1),\nIF(AND(BH$9<>\"\",$H$3=\"実績\"),INDIRECT(\"'\"&$D12&\"　\"&$E12&\"'!C\"&BJ$1),\n\"\"))=\"対象外\",\"対象外\",BH12/BI12),\"\")","v":""},{"$f":"IFERROR(IF(AND(BK$9<>\"\",$H$3=\"計画\"),INDIRECT(\"'\"&$D12&\"　\"&$E12&\"'!B\"&BK$1),\nIF(AND(BK$9<>\"\",$H$3=\"実績\"),INDIRECT(\"'\"&$D12&\"　\"&$E12&\"'!C\"&BK$1),\n\"\")),\"\")","v":""},{"$f":"IFERROR(IF(AND(BK$9<>\"\",$H$3=\"計画\"),INDIRECT(\"'\"&$D12&\"　\"&$E12&\"'!B\"&BL$1),\nIF(AND(BK$9<>\"\",$H$3=\"実績\"),INDIRECT(\"'\"&$D12&\"　\"&$E12&\"'!C\"&BL$1),\n\"\")),\"\")","v":""},{"$f":"IFERROR(IF(IF(AND(BK$9<>\"\",$H$3=\"計画\"),INDIRECT(\"'\"&$D12&\"　\"&$E12&\"'!B\"&BM$1),\nIF(AND(BK$9<>\"\",$H$3=\"実績\"),INDIRECT(\"'\"&$D12&\"　\"&$E12&\"'!C\"&BM$1),\n\"\"))=\"対象外\",\"対象外\",BK12/BL12),\"\")","v":""},{"$f":"IFERROR(IF(AND(BN$9<>\"\",$H$3=\"計画\"),INDIRECT(\"'\"&$D12&\"　\"&$E12&\"'!B\"&BN$1),\nIF(AND(BN$9<>\"\",$H$3=\"実績\"),INDIRECT(\"'\"&$D12&\"　\"&$E12&\"'!C\"&BN$1),\n\"\")),\"\")","v":""},{"$f":"IFERROR(IF(AND(BN$9<>\"\",$H$3=\"計画\"),INDIRECT(\"'\"&$D12&\"　\"&$E12&\"'!B\"&BO$1),\nIF(AND(BN$9<>\"\",$H$3=\"実績\"),INDIRECT(\"'\"&$D12&\"　\"&$E12&\"'!C\"&BO$1),\n\"\")),\"\")","v":""},{"$f":"IFERROR(IF(IF(AND(BN$9<>\"\",$H$3=\"計画\"),INDIRECT(\"'\"&$D12&\"　\"&$E12&\"'!B\"&BP$1),\nIF(AND(BN$9<>\"\",$H$3=\"実績\"),INDIRECT(\"'\"&$D12&\"　\"&$E12&\"'!C\"&BP$1),\n\"\"))=\"対象外\",\"対象外\",BN12/BO12),\"\")","v":""},{"$f":"IFERROR(IF(AND(BQ$9<>\"\",$H$3=\"計画\"),INDIRECT(\"'\"&$D12&\"　\"&$E12&\"'!B\"&BQ$1),\nIF(AND(BQ$9<>\"\",$H$3=\"実績\"),INDIRECT(\"'\"&$D12&\"　\"&$E12&\"'!C\"&BQ$1),\n\"\")),\"\")","v":""},{"$f":"IFERROR(IF(AND(BQ$9<>\"\",$H$3=\"計画\"),INDIRECT(\"'\"&$D12&\"　\"&$E12&\"'!B\"&BR$1),\nIF(AND(BQ$9<>\"\",$H$3=\"実績\"),INDIRECT(\"'\"&$D12&\"　\"&$E12&\"'!C\"&BR$1),\n\"\")),\"\")","v":""},{"$f":"IFERROR(IF(IF(AND(BQ$9<>\"\",$H$3=\"計画\"),INDIRECT(\"'\"&$D12&\"　\"&$E12&\"'!B\"&BS$1),\nIF(AND(BQ$9<>\"\",$H$3=\"実績\"),INDIRECT(\"'\"&$D12&\"　\"&$E12&\"'!C\"&BS$1),\n\"\"))=\"対象外\",\"対象外\",BQ12/BR12),\"\")","v":""},{"$f":"IFERROR(IF(AND(BT$9<>\"\",$H$3=\"計画\"),INDIRECT(\"'\"&$D12&\"　\"&$E12&\"'!B\"&BT$1),\nIF(AND(BT$9<>\"\",$H$3=\"実績\"),INDIRECT(\"'\"&$D12&\"　\"&$E12&\"'!C\"&BT$1),\n\"\")),\"\")","v":""},{"$f":"IFERROR(IF(AND(BT$9<>\"\",$H$3=\"計画\"),INDIRECT(\"'\"&$D12&\"　\"&$E12&\"'!B\"&BU$1),\nIF(AND(BT$9<>\"\",$H$3=\"実績\"),INDIRECT(\"'\"&$D12&\"　\"&$E12&\"'!C\"&BU$1),\n\"\")),\"\")","v":""},{"$f":"IFERROR(IF(IF(AND(BT$9<>\"\",$H$3=\"計画\"),INDIRECT(\"'\"&$D12&\"　\"&$E12&\"'!B\"&BV$1),\nIF(AND(BT$9<>\"\",$H$3=\"実績\"),INDIRECT(\"'\"&$D12&\"　\"&$E12&\"'!C\"&BV$1),\n\"\"))=\"対象外\",\"対象外\",BT12/BU12),\"\")","v":""},{"$f":"IFERROR(IF(AND(BW$9<>\"\",$H$3=\"計画\"),INDIRECT(\"'\"&$D12&\"　\"&$E12&\"'!B\"&BW$1),\nIF(AND(BW$9<>\"\",$H$3=\"実績\"),INDIRECT(\"'\"&$D12&\"　\"&$E12&\"'!C\"&BW$1),\n\"\")),\"\")","v":""},{"$f":"IFERROR(IF(AND(BW$9<>\"\",$H$3=\"計画\"),INDIRECT(\"'\"&$D12&\"　\"&$E12&\"'!B\"&BX$1),\nIF(AND(BW$9<>\"\",$H$3=\"実績\"),INDIRECT(\"'\"&$D12&\"　\"&$E12&\"'!C\"&BX$1),\n\"\")),\"\")","v":""},{"$f":"IFERROR(IF(IF(AND(BW$9<>\"\",$H$3=\"計画\"),INDIRECT(\"'\"&$D12&\"　\"&$E12&\"'!B\"&BY$1),\nIF(AND(BW$9<>\"\",$H$3=\"実績\"),INDIRECT(\"'\"&$D12&\"　\"&$E12&\"'!C\"&BY$1),\n\"\"))=\"対象外\",\"対象外\",BW12/BX12),\"\")","v":""},{"$f":"IFERROR(IF(AND(BZ$9<>\"\",$H$3=\"計画\"),INDIRECT(\"'\"&$D12&\"　\"&$E12&\"'!B\"&BZ$1),\nIF(AND(BZ$9<>\"\",$H$3=\"実績\"),INDIRECT(\"'\"&$D12&\"　\"&$E12&\"'!C\"&BZ$1),\n\"\")),\"\")","v":""},{"$f":"IFERROR(IF(AND(BZ$9<>\"\",$H$3=\"計画\"),INDIRECT(\"'\"&$D12&\"　\"&$E12&\"'!B\"&CA$1),\nIF(AND(BZ$9<>\"\",$H$3=\"実績\"),INDIRECT(\"'\"&$D12&\"　\"&$E12&\"'!C\"&CA$1),\n\"\")),\"\")","v":""},{"$f":"IFERROR(IF(IF(AND(BZ$9<>\"\",$H$3=\"計画\"),INDIRECT(\"'\"&$D12&\"　\"&$E12&\"'!B\"&CB$1),\nIF(AND(BZ$9<>\"\",$H$3=\"実績\"),INDIRECT(\"'\"&$D12&\"　\"&$E12&\"'!C\"&CB$1),\n\"\"))=\"対象外\",\"対象外\",BZ12/CA12),\"\")","v":""},{"$f":"IFERROR(IF(AND(CC$9<>\"\",$H$3=\"計画\"),INDIRECT(\"'\"&$D12&\"　\"&$E12&\"'!B\"&CC$1),\nIF(AND(CC$9<>\"\",$H$3=\"実績\"),INDIRECT(\"'\"&$D12&\"　\"&$E12&\"'!C\"&CC$1),\n\"\")),\"\")","v":""},{"$f":"IFERROR(IF(AND(CC$9<>\"\",$H$3=\"計画\"),INDIRECT(\"'\"&$D12&\"　\"&$E12&\"'!B\"&CD$1),\nIF(AND(CC$9<>\"\",$H$3=\"実績\"),INDIRECT(\"'\"&$D12&\"　\"&$E12&\"'!C\"&CD$1),\n\"\")),\"\")","v":""},{"$f":"IFERROR(IF(IF(AND(CC$9<>\"\",$H$3=\"計画\"),INDIRECT(\"'\"&$D12&\"　\"&$E12&\"'!B\"&CE$1),\nIF(AND(CC$9<>\"\",$H$3=\"実績\"),INDIRECT(\"'\"&$D12&\"　\"&$E12&\"'!C\"&CE$1),\n\"\"))=\"対象外\",\"対象外\",CC12/CD12),\"\")","v":""},{"$f":"IFERROR(IF(AND(CF$9<>\"\",$H$3=\"計画\"),INDIRECT(\"'\"&$D12&\"　\"&$E12&\"'!B\"&CF$1),\nIF(AND(CF$9<>\"\",$H$3=\"実績\"),INDIRECT(\"'\"&$D12&\"　\"&$E12&\"'!C\"&CF$1),\n\"\")),\"\")","v":""},{"$f":"IFERROR(IF(AND(CF$9<>\"\",$H$3=\"計画\"),INDIRECT(\"'\"&$D12&\"　\"&$E12&\"'!B\"&CG$1),\nIF(AND(CF$9<>\"\",$H$3=\"実績\"),INDIRECT(\"'\"&$D12&\"　\"&$E12&\"'!C\"&CG$1),\n\"\")),\"\")","v":""},{"$f":"IFERROR(IF(IF(AND(CF$9<>\"\",$H$3=\"計画\"),INDIRECT(\"'\"&$D12&\"　\"&$E12&\"'!B\"&CH$1),\nIF(AND(CF$9<>\"\",$H$3=\"実績\"),INDIRECT(\"'\"&$D12&\"　\"&$E12&\"'!C\"&CH$1),\n\"\"))=\"対象外\",\"対象外\",CF12/CG12),\"\")","v":""},{"$f":"IFERROR(IF(AND(CI$9<>\"\",$H$3=\"計画\"),INDIRECT(\"'\"&$D12&\"　\"&$E12&\"'!B\"&CI$1),\nIF(AND(CI$9<>\"\",$H$3=\"実績\"),INDIRECT(\"'\"&$D12&\"　\"&$E12&\"'!C\"&CI$1),\n\"\")),\"\")","v":""},{"$f":"IFERROR(IF(AND(CI$9<>\"\",$H$3=\"計画\"),INDIRECT(\"'\"&$D12&\"　\"&$E12&\"'!B\"&CJ$1),\nIF(AND(CI$9<>\"\",$H$3=\"実績\"),INDIRECT(\"'\"&$D12&\"　\"&$E12&\"'!C\"&CJ$1),\n\"\")),\"\")","v":""},{"$f":"IFERROR(IF(IF(AND(CI$9<>\"\",$H$3=\"計画\"),INDIRECT(\"'\"&$D12&\"　\"&$E12&\"'!B\"&CK$1),\nIF(AND(CI$9<>\"\",$H$3=\"実績\"),INDIRECT(\"'\"&$D12&\"　\"&$E12&\"'!C\"&CK$1),\n\"\"))=\"対象外\",\"対象外\",CI12/CJ12),\"\")","v":""},{"$f":"IFERROR(IF(AND(CL$9<>\"\",$H$3=\"計画\"),INDIRECT(\"'\"&$D12&\"　\"&$E12&\"'!B\"&CL$1),\nIF(AND(CL$9<>\"\",$H$3=\"実績\"),INDIRECT(\"'\"&$D12&\"　\"&$E12&\"'!C\"&CL$1),\n\"\")),\"\")","v":""},{"$f":"IFERROR(IF(AND(CL$9<>\"\",$H$3=\"計画\"),INDIRECT(\"'\"&$D12&\"　\"&$E12&\"'!B\"&CM$1),\nIF(AND(CL$9<>\"\",$H$3=\"実績\"),INDIRECT(\"'\"&$D12&\"　\"&$E12&\"'!C\"&CM$1),\n\"\")),\"\")","v":""},{"$f":"IFERROR(IF(IF(AND(CL$9<>\"\",$H$3=\"計画\"),INDIRECT(\"'\"&$D12&\"　\"&$E12&\"'!B\"&CN$1),\nIF(AND(CL$9<>\"\",$H$3=\"実績\"),INDIRECT(\"'\"&$D12&\"　\"&$E12&\"'!C\"&CN$1),\n\"\"))=\"対象外\",\"対象外\",CL12/CM12),\"\")","v":""},{"$f":"IFERROR(IF(AND(CO$9<>\"\",$H$3=\"計画\"),INDIRECT(\"'\"&$D12&\"　\"&$E12&\"'!B\"&CO$1),\nIF(AND(CO$9<>\"\",$H$3=\"実績\"),INDIRECT(\"'\"&$D12&\"　\"&$E12&\"'!C\"&CO$1),\n\"\")),\"\")","v":""},{"$f":"IFERROR(IF(AND(CO$9<>\"\",$H$3=\"計画\"),INDIRECT(\"'\"&$D12&\"　\"&$E12&\"'!B\"&CP$1),\nIF(AND(CO$9<>\"\",$H$3=\"実績\"),INDIRECT(\"'\"&$D12&\"　\"&$E12&\"'!C\"&CP$1),\n\"\")),\"\")","v":""},{"$f":"IFERROR(IF(IF(AND(CO$9<>\"\",$H$3=\"計画\"),INDIRECT(\"'\"&$D12&\"　\"&$E12&\"'!B\"&CQ$1),\nIF(AND(CO$9<>\"\",$H$3=\"実績\"),INDIRECT(\"'\"&$D12&\"　\"&$E12&\"'!C\"&CQ$1),\n\"\"))=\"対象外\",\"対象外\",CO12/CP12),\"\")","v":""},{"$f":"IFERROR(IF(AND(CR$9<>\"\",$H$3=\"計画\"),INDIRECT(\"'\"&$D12&\"　\"&$E12&\"'!B\"&CR$1),\nIF(AND(CR$9<>\"\",$H$3=\"実績\"),INDIRECT(\"'\"&$D12&\"　\"&$E12&\"'!C\"&CR$1),\n\"\")),\"\")","v":""},{"$f":"IFERROR(IF(AND(CR$9<>\"\",$H$3=\"計画\"),INDIRECT(\"'\"&$D12&\"　\"&$E12&\"'!B\"&CS$1),\nIF(AND(CR$9<>\"\",$H$3=\"実績\"),INDIRECT(\"'\"&$D12&\"　\"&$E12&\"'!C\"&CS$1),\n\"\")),\"\")","v":""},{"$f":"IFERROR(IF(IF(AND(CR$9<>\"\",$H$3=\"計画\"),INDIRECT(\"'\"&$D12&\"　\"&$E12&\"'!B\"&CT$1),\nIF(AND(CR$9<>\"\",$H$3=\"実績\"),INDIRECT(\"'\"&$D12&\"　\"&$E12&\"'!C\"&CT$1),\n\"\"))=\"対象外\",\"対象外\",CR12/CS12),\"\")","v":""},{"$f":"IFERROR(IF(AND(CU$9<>\"\",$H$3=\"計画\"),INDIRECT(\"'\"&$D12&\"　\"&$E12&\"'!B\"&CU$1),\nIF(AND(CU$9<>\"\",$H$3=\"実績\"),INDIRECT(\"'\"&$D12&\"　\"&$E12&\"'!C\"&CU$1),\n\"\")),\"\")","v":""},{"$f":"IFERROR(IF(AND(CU$9<>\"\",$H$3=\"計画\"),INDIRECT(\"'\"&$D12&\"　\"&$E12&\"'!B\"&CV$1),\nIF(AND(CU$9<>\"\",$H$3=\"実績\"),INDIRECT(\"'\"&$D12&\"　\"&$E12&\"'!C\"&CV$1),\n\"\")),\"\")","v":""},{"$f":"IFERROR(IF(IF(AND(CU$9<>\"\",$H$3=\"計画\"),INDIRECT(\"'\"&$D12&\"　\"&$E12&\"'!B\"&CW$1),\nIF(AND(CU$9<>\"\",$H$3=\"実績\"),INDIRECT(\"'\"&$D12&\"　\"&$E12&\"'!C\"&CW$1),\n\"\"))=\"対象外\",\"対象外\",CU12/CV12),\"\")","v":""},{"$f":"IFERROR(IF(AND(CX$9<>\"\",$H$3=\"計画\"),INDIRECT(\"'\"&$D12&\"　\"&$E12&\"'!B\"&CX$1),\nIF(AND(CX$9<>\"\",$H$3=\"実績\"),INDIRECT(\"'\"&$D12&\"　\"&$E12&\"'!C\"&CX$1),\n\"\")),\"\")","v":""},{"$f":"IFERROR(IF(AND(CX$9<>\"\",$H$3=\"計画\"),INDIRECT(\"'\"&$D12&\"　\"&$E12&\"'!B\"&CY$1),\nIF(AND(CX$9<>\"\",$H$3=\"実績\"),INDIRECT(\"'\"&$D12&\"　\"&$E12&\"'!C\"&CY$1),\n\"\")),\"\")","v":""},{"$f":"IFERROR(IF(IF(AND(CX$9<>\"\",$H$3=\"計画\"),INDIRECT(\"'\"&$D12&\"　\"&$E12&\"'!B\"&CZ$1),\nIF(AND(CX$9<>\"\",$H$3=\"実績\"),INDIRECT(\"'\"&$D12&\"　\"&$E12&\"'!C\"&CZ$1),\n\"\"))=\"対象外\",\"対象外\",CX12/CY12),\"\")","v":""},{"$f":"IFERROR(IF(AND(DA$9<>\"\",$H$3=\"計画\"),INDIRECT(\"'\"&$D12&\"　\"&$E12&\"'!B\"&DA$1),\nIF(AND(DA$9<>\"\",$H$3=\"実績\"),INDIRECT(\"'\"&$D12&\"　\"&$E12&\"'!C\"&DA$1),\n\"\")),\"\")","v":""},{"$f":"IFERROR(IF(AND(DA$9<>\"\",$H$3=\"計画\"),INDIRECT(\"'\"&$D12&\"　\"&$E12&\"'!B\"&DB$1),\nIF(AND(DA$9<>\"\",$H$3=\"実績\"),INDIRECT(\"'\"&$D12&\"　\"&$E12&\"'!C\"&DB$1),\n\"\")),\"\")","v":""},{"$f":"IFERROR(IF(IF(AND(DA$9<>\"\",$H$3=\"計画\"),INDIRECT(\"'\"&$D12&\"　\"&$E12&\"'!B\"&DC$1),\nIF(AND(DA$9<>\"\",$H$3=\"実績\"),INDIRECT(\"'\"&$D12&\"　\"&$E12&\"'!C\"&DC$1),\n\"\"))=\"対象外\",\"対象外\",DA12/DB12),\"\")","v":""},{"$f":"IFERROR(IF(AND(DD$9<>\"\",$H$3=\"計画\"),INDIRECT(\"'\"&$D12&\"　\"&$E12&\"'!B\"&DD$1),\nIF(AND(DD$9<>\"\",$H$3=\"実績\"),INDIRECT(\"'\"&$D12&\"　\"&$E12&\"'!C\"&DD$1),\n\"\")),\"\")","v":""},{"$f":"IFERROR(IF(AND(DD$9<>\"\",$H$3=\"計画\"),INDIRECT(\"'\"&$D12&\"　\"&$E12&\"'!B\"&DE$1),\nIF(AND(DD$9<>\"\",$H$3=\"実績\"),INDIRECT(\"'\"&$D12&\"　\"&$E12&\"'!C\"&DE$1),\n\"\")),\"\")","v":""},{"$f":"IFERROR(IF(IF(AND(DD$9<>\"\",$H$3=\"計画\"),INDIRECT(\"'\"&$D12&\"　\"&$E12&\"'!B\"&DF$1),\nIF(AND(DD$9<>\"\",$H$3=\"実績\"),INDIRECT(\"'\"&$D12&\"　\"&$E12&\"'!C\"&DF$1),\n\"\"))=\"対象外\",\"対象外\",DD12/DE12),\"\")","v":""},{"$f":"IFERROR(IF(AND(DG$9<>\"\",$H$3=\"計画\"),INDIRECT(\"'\"&$D12&\"　\"&$E12&\"'!B\"&DG$1),\nIF(AND(DG$9<>\"\",$H$3=\"実績\"),INDIRECT(\"'\"&$D12&\"　\"&$E12&\"'!C\"&DG$1),\n\"\")),\"\")","v":""},{"$f":"IFERROR(IF(AND(DG$9<>\"\",$H$3=\"計画\"),INDIRECT(\"'\"&$D12&\"　\"&$E12&\"'!B\"&DH$1),\nIF(AND(DG$9<>\"\",$H$3=\"実績\"),INDIRECT(\"'\"&$D12&\"　\"&$E12&\"'!C\"&DH$1),\n\"\")),\"\")","v":""},{"$f":"IFERROR(IF(IF(AND(DG$9<>\"\",$H$3=\"計画\"),INDIRECT(\"'\"&$D12&\"　\"&$E12&\"'!B\"&DI$1),\nIF(AND(DG$9<>\"\",$H$3=\"実績\"),INDIRECT(\"'\"&$D12&\"　\"&$E12&\"'!C\"&DI$1),\n\"\"))=\"対象外\",\"対象外\",DG12/DH12),\"\")","v":""},{"$f":"IFERROR(IF(AND(DJ$9<>\"\",$H$3=\"計画\"),INDIRECT(\"'\"&$D12&\"　\"&$E12&\"'!B\"&DJ$1),\nIF(AND(DJ$9<>\"\",$H$3=\"実績\"),INDIRECT(\"'\"&$D12&\"　\"&$E12&\"'!C\"&DJ$1),\n\"\")),\"\")","v":""},{"$f":"IFERROR(IF(AND(DJ$9<>\"\",$H$3=\"計画\"),INDIRECT(\"'\"&$D12&\"　\"&$E12&\"'!B\"&DK$1),\nIF(AND(DJ$9<>\"\",$H$3=\"実績\"),INDIRECT(\"'\"&$D12&\"　\"&$E12&\"'!C\"&DK$1),\n\"\")),\"\")","v":""},{"$f":"IFERROR(IF(IF(AND(DJ$9<>\"\",$H$3=\"計画\"),INDIRECT(\"'\"&$D12&\"　\"&$E12&\"'!B\"&DL$1),\nIF(AND(DJ$9<>\"\",$H$3=\"実績\"),INDIRECT(\"'\"&$D12&\"　\"&$E12&\"'!C\"&DL$1),\n\"\"))=\"対象外\",\"対象外\",DJ12/DK12),\"\")","v":""}]
[null,null,null,null,null,"","",{"$f":"IFERROR(IF(IF(H$3=\"計画\",INDIRECT(\"'\"&$D13&\"　\"&$E13&\"'!B\"&H$1),\nIF(H$3=\"実績\",INDIRECT(\"'\"&$D13&\"　\"&$E13&\"'!C\"&H$1),\n\"\"))>=28,F13/G13,\"対象外\"),\"\")","v":""},{"$f":"IFERROR(IF(AND(I$9<>\"\",$H$3=\"計画\"),INDIRECT(\"'\"&$D13&\"　\"&$E13&\"'!B\"&I$1),\nIF(AND(I$9<>\"\",$H$3=\"実績\"),INDIRECT(\"'\"&$D13&\"　\"&$E13&\"'!C\"&I$1),\n\"\")),\"\")","v":""},{"$f":"IFERROR(IF(AND(I$9<>\"\",$H$3=\"計画\"),INDIRECT(\"'\"&$D13&\"　\"&$E13&\"'!B\"&J$1),\nIF(AND(I$9<>\"\",$H$3=\"実績\"),INDIRECT(\"'\"&$D13&\"　\"&$E13&\"'!C\"&J$1),\n\"\")),\"\")","v":""},{"$f":"IFERROR(IF(IF(AND(I$9<>\"\",$H$3=\"計画\"),INDIRECT(\"'\"&$D13&\"　\"&$E13&\"'!B\"&K$1),\nIF(AND(I$9<>\"\",$H$3=\"実績\"),INDIRECT(\"'\"&$D13&\"　\"&$E13&\"'!C\"&K$1),\n\"\"))=\"対象外\",\"対象外\",I13/J13),\"\")","v":""},{"$f":"IFERROR(IF(AND(L$9<>\"\",$H$3=\"計画\"),INDIRECT(\"'\"&$D13&\"　\"&$E13&\"'!B\"&L$1),\nIF(AND(L$9<>\"\",$H$3=\"実績\"),INDIRECT(\"'\"&$D13&\"　\"&$E13&\"'!C\"&L$1),\n\"\")),\"\")","v":""},{"$f":"IFERROR(IF(AND(L$9<>\"\",$H$3=\"計画\"),INDIRECT(\"'\"&$D13&\"　\"&$E13&\"'!B\"&M$1),\nIF(AND(L$9<>\"\",$H$3=\"実績\"),INDIRECT(\"'\"&$D13&\"　\"&$E13&\"'!C\"&M$1),\n\"\")),\"\")","v":""},{"$f":"IFERROR(IF(IF(AND(L$9<>\"\",$H$3=\"計画\"),INDIRECT(\"'\"&$D13&\"　\"&$E13&\"'!B\"&N$1),\nIF(AND(L$9<>\"\",$H$3=\"実績\"),INDIRECT(\"'\"&$D13&\"　\"&$E13&\"'!C\"&N$1),\n\"\"))=\"対象外\",\"対象外\",L13/M13),\"\")","v":""},{"$f":"IFERROR(IF(AND(O$9<>\"\",$H$3=\"計画\"),INDIRECT(\"'\"&$D13&\"　\"&$E13&\"'!B\"&O$1),\nIF(AND(O$9<>\"\",$H$3=\"実績\"),INDIRECT(\"'\"&$D13&\"　\"&$E13&\"'!C\"&O$1),\n\"\")),\"\")","v":""},{"$f":"IFERROR(IF(AND(O$9<>\"\",$H$3=\"計画\"),INDIRECT(\"'\"&$D13&\"　\"&$E13&\"'!B\"&P$1),\nIF(AND(O$9<>\"\",$H$3=\"実績\"),INDIRECT(\"'\"&$D13&\"　\"&$E13&\"'!C\"&P$1),\n\"\")),\"\")","v":""},{"$f":"IFERROR(IF(IF(AND(O$9<>\"\",$H$3=\"計画\"),INDIRECT(\"'\"&$D13&\"　\"&$E13&\"'!B\"&Q$1),\nIF(AND(O$9<>\"\",$H$3=\"実績\"),INDIRECT(\"'\"&$D13&\"　\"&$E13&\"'!C\"&Q$1),\n\"\"))=\"対象外\",\"対象外\",O13/P13),\"\")","v":""},{"$f":"IFERROR(IF(AND(R$9<>\"\",$H$3=\"計画\"),INDIRECT(\"'\"&$D13&\"　\"&$E13&\"'!B\"&R$1),\nIF(AND(R$9<>\"\",$H$3=\"実績\"),INDIRECT(\"'\"&$D13&\"　\"&$E13&\"'!C\"&R$1),\n\"\")),\"\")","v":""},{"$f":"IFERROR(IF(AND(R$9<>\"\",$H$3=\"計画\"),INDIRECT(\"'\"&$D13&\"　\"&$E13&\"'!B\"&S$1),\nIF(AND(R$9<>\"\",$H$3=\"実績\"),INDIRECT(\"'\"&$D13&\"　\"&$E13&\"'!C\"&S$1),\n\"\")),\"\")","v":""},{"$f":"IFERROR(IF(IF(AND(R$9<>\"\",$H$3=\"計画\"),INDIRECT(\"'\"&$D13&\"　\"&$E13&\"'!B\"&T$1),\nIF(AND(R$9<>\"\",$H$3=\"実績\"),INDIRECT(\"'\"&$D13&\"　\"&$E13&\"'!C\"&T$1),\n\"\"))=\"対象外\",\"対象外\",R13/S13),\"\")","v":""},{"$f":"IFERROR(IF(AND(U$9<>\"\",$H$3=\"計画\"),INDIRECT(\"'\"&$D13&\"　\"&$E13&\"'!B\"&U$1),\nIF(AND(U$9<>\"\",$H$3=\"実績\"),INDIRECT(\"'\"&$D13&\"　\"&$E13&\"'!C\"&U$1),\n\"\")),\"\")","v":""},{"$f":"IFERROR(IF(AND(U$9<>\"\",$H$3=\"計画\"),INDIRECT(\"'\"&$D13&\"　\"&$E13&\"'!B\"&V$1),\nIF(AND(U$9<>\"\",$H$3=\"実績\"),INDIRECT(\"'\"&$D13&\"　\"&$E13&\"'!C\"&V$1),\n\"\")),\"\")","v":""},{"$f":"IFERROR(IF(IF(AND(U$9<>\"\",$H$3=\"計画\"),INDIRECT(\"'\"&$D13&\"　\"&$E13&\"'!B\"&W$1),\nIF(AND(U$9<>\"\",$H$3=\"実績\"),INDIRECT(\"'\"&$D13&\"　\"&$E13&\"'!C\"&W$1),\n\"\"))=\"対象外\",\"対象外\",U13/V13),\"\")","v":""},{"$f":"IFERROR(IF(AND(X$9<>\"\",$H$3=\"計画\"),INDIRECT(\"'\"&$D13&\"　\"&$E13&\"'!B\"&X$1),\nIF(AND(X$9<>\"\",$H$3=\"実績\"),INDIRECT(\"'\"&$D13&\"　\"&$E13&\"'!C\"&X$1),\n\"\")),\"\")","v":""},{"$f":"IFERROR(IF(AND(X$9<>\"\",$H$3=\"計画\"),INDIRECT(\"'\"&$D13&\"　\"&$E13&\"'!B\"&Y$1),\nIF(AND(X$9<>\"\",$H$3=\"実績\"),INDIRECT(\"'\"&$D13&\"　\"&$E13&\"'!C\"&Y$1),\n\"\")),\"\")","v":""},{"$f":"IFERROR(IF(IF(AND(X$9<>\"\",$H$3=\"計画\"),INDIRECT(\"'\"&$D13&\"　\"&$E13&\"'!B\"&Z$1),\nIF(AND(X$9<>\"\",$H$3=\"実績\"),INDIRECT(\"'\"&$D13&\"　\"&$E13&\"'!C\"&Z$1),\n\"\"))=\"対象外\",\"対象外\",X13/Y13),\"\")","v":""},{"$f":"IFERROR(IF(AND(AA$9<>\"\",$H$3=\"計画\"),INDIRECT(\"'\"&$D13&\"　\"&$E13&\"'!B\"&AA$1),\nIF(AND(AA$9<>\"\",$H$3=\"実績\"),INDIRECT(\"'\"&$D13&\"　\"&$E13&\"'!C\"&AA$1),\n\"\")),\"\")","v":""},{"$f":"IFERROR(IF(AND(AA$9<>\"\",$H$3=\"計画\"),INDIRECT(\"'\"&$D13&\"　\"&$E13&\"'!B\"&AB$1),\nIF(AND(AA$9<>\"\",$H$3=\"実績\"),INDIRECT(\"'\"&$D13&\"　\"&$E13&\"'!C\"&AB$1),\n\"\")),\"\")","v":""},{"$f":"IFERROR(IF(IF(AND(AA$9<>\"\",$H$3=\"計画\"),INDIRECT(\"'\"&$D13&\"　\"&$E13&\"'!B\"&AC$1),\nIF(AND(AA$9<>\"\",$H$3=\"実績\"),INDIRECT(\"'\"&$D13&\"　\"&$E13&\"'!C\"&AC$1),\n\"\"))=\"対象外\",\"対象外\",AA13/AB13),\"\")","v":""},{"$f":"IFERROR(IF(AND(AD$9<>\"\",$H$3=\"計画\"),INDIRECT(\"'\"&$D13&\"　\"&$E13&\"'!B\"&AD$1),\nIF(AND(AD$9<>\"\",$H$3=\"実績\"),INDIRECT(\"'\"&$D13&\"　\"&$E13&\"'!C\"&AD$1),\n\"\")),\"\")","v":""},{"$f":"IFERROR(IF(AND(AD$9<>\"\",$H$3=\"計画\"),INDIRECT(\"'\"&$D13&\"　\"&$E13&\"'!B\"&AE$1),\nIF(AND(AD$9<>\"\",$H$3=\"実績\"),INDIRECT(\"'\"&$D13&\"　\"&$E13&\"'!C\"&AE$1),\n\"\")),\"\")","v":""},{"$f":"IFERROR(IF(IF(AND(AD$9<>\"\",$H$3=\"計画\"),INDIRECT(\"'\"&$D13&\"　\"&$E13&\"'!B\"&AF$1),\nIF(AND(AD$9<>\"\",$H$3=\"実績\"),INDIRECT(\"'\"&$D13&\"　\"&$E13&\"'!C\"&AF$1),\n\"\"))=\"対象外\",\"対象外\",AD13/AE13),\"\")","v":""},{"$f":"IFERROR(IF(AND(AG$9<>\"\",$H$3=\"計画\"),INDIRECT(\"'\"&$D13&\"　\"&$E13&\"'!B\"&AG$1),\nIF(AND(AG$9<>\"\",$H$3=\"実績\"),INDIRECT(\"'\"&$D13&\"　\"&$E13&\"'!C\"&AG$1),\n\"\")),\"\")","v":""},{"$f":"IFERROR(IF(AND(AG$9<>\"\",$H$3=\"計画\"),INDIRECT(\"'\"&$D13&\"　\"&$E13&\"'!B\"&AH$1),\nIF(AND(AG$9<>\"\",$H$3=\"実績\"),INDIRECT(\"'\"&$D13&\"　\"&$E13&\"'!C\"&AH$1),\n\"\")),\"\")","v":""},{"$f":"IFERROR(IF(IF(AND(AG$9<>\"\",$H$3=\"計画\"),INDIRECT(\"'\"&$D13&\"　\"&$E13&\"'!B\"&AI$1),\nIF(AND(AG$9<>\"\",$H$3=\"実績\"),INDIRECT(\"'\"&$D13&\"　\"&$E13&\"'!C\"&AI$1),\n\"\"))=\"対象外\",\"対象外\",AG13/AH13),\"\")","v":""},{"$f":"IFERROR(IF(AND(AJ$9<>\"\",$H$3=\"計画\"),INDIRECT(\"'\"&$D13&\"　\"&$E13&\"'!B\"&AJ$1),\nIF(AND(AJ$9<>\"\",$H$3=\"実績\"),INDIRECT(\"'\"&$D13&\"　\"&$E13&\"'!C\"&AJ$1),\n\"\")),\"\")","v":""},{"$f":"IFERROR(IF(AND(AJ$9<>\"\",$H$3=\"計画\"),INDIRECT(\"'\"&$D13&\"　\"&$E13&\"'!B\"&AK$1),\nIF(AND(AJ$9<>\"\",$H$3=\"実績\"),INDIRECT(\"'\"&$D13&\"　\"&$E13&\"'!C\"&AK$1),\n\"\")),\"\")","v":""},{"$f":"IFERROR(IF(IF(AND(AJ$9<>\"\",$H$3=\"計画\"),INDIRECT(\"'\"&$D13&\"　\"&$E13&\"'!B\"&AL$1),\nIF(AND(AJ$9<>\"\",$H$3=\"実績\"),INDIRECT(\"'\"&$D13&\"　\"&$E13&\"'!C\"&AL$1),\n\"\"))=\"対象外\",\"対象外\",AJ13/AK13),\"\")","v":""},{"$f":"IFERROR(IF(AND(AM$9<>\"\",$H$3=\"計画\"),INDIRECT(\"'\"&$D13&\"　\"&$E13&\"'!B\"&AM$1),\nIF(AND(AM$9<>\"\",$H$3=\"実績\"),INDIRECT(\"'\"&$D13&\"　\"&$E13&\"'!C\"&AM$1),\n\"\")),\"\")","v":""},{"$f":"IFERROR(IF(AND(AM$9<>\"\",$H$3=\"計画\"),INDIRECT(\"'\"&$D13&\"　\"&$E13&\"'!B\"&AN$1),\nIF(AND(AM$9<>\"\",$H$3=\"実績\"),INDIRECT(\"'\"&$D13&\"　\"&$E13&\"'!C\"&AN$1),\n\"\")),\"\")","v":""},{"$f":"IFERROR(IF(IF(AND(AM$9<>\"\",$H$3=\"計画\"),INDIRECT(\"'\"&$D13&\"　\"&$E13&\"'!B\"&AO$1),\nIF(AND(AM$9<>\"\",$H$3=\"実績\"),INDIRECT(\"'\"&$D13&\"　\"&$E13&\"'!C\"&AO$1),\n\"\"))=\"対象外\",\"対象外\",AM13/AN13),\"\")","v":""},{"$f":"IFERROR(IF(AND(AP$9<>\"\",$H$3=\"計画\"),INDIRECT(\"'\"&$D13&\"　\"&$E13&\"'!B\"&AP$1),\nIF(AND(AP$9<>\"\",$H$3=\"実績\"),INDIRECT(\"'\"&$D13&\"　\"&$E13&\"'!C\"&AP$1),\n\"\")),\"\")","v":""},{"$f":"IFERROR(IF(AND(AP$9<>\"\",$H$3=\"計画\"),INDIRECT(\"'\"&$D13&\"　\"&$E13&\"'!B\"&AQ$1),\nIF(AND(AP$9<>\"\",$H$3=\"実績\"),INDIRECT(\"'\"&$D13&\"　\"&$E13&\"'!C\"&AQ$1),\n\"\")),\"\")","v":""},{"$f":"IFERROR(IF(IF(AND(AP$9<>\"\",$H$3=\"計画\"),INDIRECT(\"'\"&$D13&\"　\"&$E13&\"'!B\"&AR$1),\nIF(AND(AP$9<>\"\",$H$3=\"実績\"),INDIRECT(\"'\"&$D13&\"　\"&$E13&\"'!C\"&AR$1),\n\"\"))=\"対象外\",\"対象外\",AP13/AQ13),\"\")","v":""},{"$f":"IFERROR(IF(AND(AS$9<>\"\",$H$3=\"計画\"),INDIRECT(\"'\"&$D13&\"　\"&$E13&\"'!B\"&AS$1),\nIF(AND(AS$9<>\"\",$H$3=\"実績\"),INDIRECT(\"'\"&$D13&\"　\"&$E13&\"'!C\"&AS$1),\n\"\")),\"\")","v":""},{"$f":"IFERROR(IF(AND(AS$9<>\"\",$H$3=\"計画\"),INDIRECT(\"'\"&$D13&\"　\"&$E13&\"'!B\"&AT$1),\nIF(AND(AS$9<>\"\",$H$3=\"実績\"),INDIRECT(\"'\"&$D13&\"　\"&$E13&\"'!C\"&AT$1),\n\"\")),\"\")","v":""},{"$f":"IFERROR(IF(IF(AND(AS$9<>\"\",$H$3=\"計画\"),INDIRECT(\"'\"&$D13&\"　\"&$E13&\"'!B\"&AU$1),\nIF(AND(AS$9<>\"\",$H$3=\"実績\"),INDIRECT(\"'\"&$D13&\"　\"&$E13&\"'!C\"&AU$1),\n\"\"))=\"対象外\",\"対象外\",AS13/AT13),\"\")","v":""},{"$f":"IFERROR(IF(AND(AV$9<>\"\",$H$3=\"計画\"),INDIRECT(\"'\"&$D13&\"　\"&$E13&\"'!B\"&AV$1),\nIF(AND(AV$9<>\"\",$H$3=\"実績\"),INDIRECT(\"'\"&$D13&\"　\"&$E13&\"'!C\"&AV$1),\n\"\")),\"\")","v":""},{"$f":"IFERROR(IF(AND(AV$9<>\"\",$H$3=\"計画\"),INDIRECT(\"'\"&$D13&\"　\"&$E13&\"'!B\"&AW$1),\nIF(AND(AV$9<>\"\",$H$3=\"実績\"),INDIRECT(\"'\"&$D13&\"　\"&$E13&\"'!C\"&AW$1),\n\"\")),\"\")","v":""},{"$f":"IFERROR(IF(IF(AND(AV$9<>\"\",$H$3=\"計画\"),INDIRECT(\"'\"&$D13&\"　\"&$E13&\"'!B\"&AX$1),\nIF(AND(AV$9<>\"\",$H$3=\"実績\"),INDIRECT(\"'\"&$D13&\"　\"&$E13&\"'!C\"&AX$1),\n\"\"))=\"対象外\",\"対象外\",AV13/AW13),\"\")","v":""},{"$f":"IFERROR(IF(AND(AY$9<>\"\",$H$3=\"計画\"),INDIRECT(\"'\"&$D13&\"　\"&$E13&\"'!B\"&AY$1),\nIF(AND(AY$9<>\"\",$H$3=\"実績\"),INDIRECT(\"'\"&$D13&\"　\"&$E13&\"'!C\"&AY$1),\n\"\")),\"\")","v":""},{"$f":"IFERROR(IF(AND(AY$9<>\"\",$H$3=\"計画\"),INDIRECT(\"'\"&$D13&\"　\"&$E13&\"'!B\"&AZ$1),\nIF(AND(AY$9<>\"\",$H$3=\"実績\"),INDIRECT(\"'\"&$D13&\"　\"&$E13&\"'!C\"&AZ$1),\n\"\")),\"\")","v":""},{"$f":"IFERROR(IF(IF(AND(AY$9<>\"\",$H$3=\"計画\"),INDIRECT(\"'\"&$D13&\"　\"&$E13&\"'!B\"&BA$1),\nIF(AND(AY$9<>\"\",$H$3=\"実績\"),INDIRECT(\"'\"&$D13&\"　\"&$E13&\"'!C\"&BA$1),\n\"\"))=\"対象外\",\"対象外\",AY13/AZ13),\"\")","v":""},{"$f":"IFERROR(IF(AND(BB$9<>\"\",$H$3=\"計画\"),INDIRECT(\"'\"&$D13&\"　\"&$E13&\"'!B\"&BB$1),\nIF(AND(BB$9<>\"\",$H$3=\"実績\"),INDIRECT(\"'\"&$D13&\"　\"&$E13&\"'!C\"&BB$1),\n\"\")),\"\")","v":""},{"$f":"IFERROR(IF(AND(BB$9<>\"\",$H$3=\"計画\"),INDIRECT(\"'\"&$D13&\"　\"&$E13&\"'!B\"&BC$1),\nIF(AND(BB$9<>\"\",$H$3=\"実績\"),INDIRECT(\"'\"&$D13&\"　\"&$E13&\"'!C\"&BC$1),\n\"\")),\"\")","v":""},{"$f":"IFERROR(IF(IF(AND(BB$9<>\"\",$H$3=\"計画\"),INDIRECT(\"'\"&$D13&\"　\"&$E13&\"'!B\"&BD$1),\nIF(AND(BB$9<>\"\",$H$3=\"実績\"),INDIRECT(\"'\"&$D13&\"　\"&$E13&\"'!C\"&BD$1),\n\"\"))=\"対象外\",\"対象外\",BB13/BC13),\"\")","v":""},{"$f":"IFERROR(IF(AND(BE$9<>\"\",$H$3=\"計画\"),INDIRECT(\"'\"&$D13&\"　\"&$E13&\"'!B\"&BE$1),\nIF(AND(BE$9<>\"\",$H$3=\"実績\"),INDIRECT(\"'\"&$D13&\"　\"&$E13&\"'!C\"&BE$1),\n\"\")),\"\")","v":""},{"$f":"IFERROR(IF(AND(BE$9<>\"\",$H$3=\"計画\"),INDIRECT(\"'\"&$D13&\"　\"&$E13&\"'!B\"&BF$1),\nIF(AND(BE$9<>\"\",$H$3=\"実績\"),INDIRECT(\"'\"&$D13&\"　\"&$E13&\"'!C\"&BF$1),\n\"\")),\"\")","v":""},{"$f":"IFERROR(IF(IF(AND(BE$9<>\"\",$H$3=\"計画\"),INDIRECT(\"'\"&$D13&\"　\"&$E13&\"'!B\"&BG$1),\nIF(AND(BE$9<>\"\",$H$3=\"実績\"),INDIRECT(\"'\"&$D13&\"　\"&$E13&\"'!C\"&BG$1),\n\"\"))=\"対象外\",\"対象外\",BE13/BF13),\"\")","v":""},{"$f":"IFERROR(IF(AND(BH$9<>\"\",$H$3=\"計画\"),INDIRECT(\"'\"&$D13&\"　\"&$E13&\"'!B\"&BH$1),\nIF(AND(BH$9<>\"\",$H$3=\"実績\"),INDIRECT(\"'\"&$D13&\"　\"&$E13&\"'!C\"&BH$1),\n\"\")),\"\")","v":""},{"$f":"IFERROR(IF(AND(BH$9<>\"\",$H$3=\"計画\"),INDIRECT(\"'\"&$D13&\"　\"&$E13&\"'!B\"&BI$1),\nIF(AND(BH$9<>\"\",$H$3=\"実績\"),INDIRECT(\"'\"&$D13&\"　\"&$E13&\"'!C\"&BI$1),\n\"\")),\"\")","v":""},{"$f":"IFERROR(IF(IF(AND(BH$9<>\"\",$H$3=\"計画\"),INDIRECT(\"'\"&$D13&\"　\"&$E13&\"'!B\"&BJ$1),\nIF(AND(BH$9<>\"\",$H$3=\"実績\"),INDIRECT(\"'\"&$D13&\"　\"&$E13&\"'!C\"&BJ$1),\n\"\"))=\"対象外\",\"対象外\",BH13/BI13),\"\")","v":""},{"$f":"IFERROR(IF(AND(BK$9<>\"\",$H$3=\"計画\"),INDIRECT(\"'\"&$D13&\"　\"&$E13&\"'!B\"&BK$1),\nIF(AND(BK$9<>\"\",$H$3=\"実績\"),INDIRECT(\"'\"&$D13&\"　\"&$E13&\"'!C\"&BK$1),\n\"\")),\"\")","v":""},{"$f":"IFERROR(IF(AND(BK$9<>\"\",$H$3=\"計画\"),INDIRECT(\"'\"&$D13&\"　\"&$E13&\"'!B\"&BL$1),\nIF(AND(BK$9<>\"\",$H$3=\"実績\"),INDIRECT(\"'\"&$D13&\"　\"&$E13&\"'!C\"&BL$1),\n\"\")),\"\")","v":""},{"$f":"IFERROR(IF(IF(AND(BK$9<>\"\",$H$3=\"計画\"),INDIRECT(\"'\"&$D13&\"　\"&$E13&\"'!B\"&BM$1),\nIF(AND(BK$9<>\"\",$H$3=\"実績\"),INDIRECT(\"'\"&$D13&\"　\"&$E13&\"'!C\"&BM$1),\n\"\"))=\"対象外\",\"対象外\",BK13/BL13),\"\")","v":""},{"$f":"IFERROR(IF(AND(BN$9<>\"\",$H$3=\"計画\"),INDIRECT(\"'\"&$D13&\"　\"&$E13&\"'!B\"&BN$1),\nIF(AND(BN$9<>\"\",$H$3=\"実績\"),INDIRECT(\"'\"&$D13&\"　\"&$E13&\"'!C\"&BN$1),\n\"\")),\"\")","v":""},{"$f":"IFERROR(IF(AND(BN$9<>\"\",$H$3=\"計画\"),INDIRECT(\"'\"&$D13&\"　\"&$E13&\"'!B\"&BO$1),\nIF(AND(BN$9<>\"\",$H$3=\"実績\"),INDIRECT(\"'\"&$D13&\"　\"&$E13&\"'!C\"&BO$1),\n\"\")),\"\")","v":""},{"$f":"IFERROR(IF(IF(AND(BN$9<>\"\",$H$3=\"計画\"),INDIRECT(\"'\"&$D13&\"　\"&$E13&\"'!B\"&BP$1),\nIF(AND(BN$9<>\"\",$H$3=\"実績\"),INDIRECT(\"'\"&$D13&\"　\"&$E13&\"'!C\"&BP$1),\n\"\"))=\"対象外\",\"対象外\",BN13/BO13),\"\")","v":""},{"$f":"IFERROR(IF(AND(BQ$9<>\"\",$H$3=\"計画\"),INDIRECT(\"'\"&$D13&\"　\"&$E13&\"'!B\"&BQ$1),\nIF(AND(BQ$9<>\"\",$H$3=\"実績\"),INDIRECT(\"'\"&$D13&\"　\"&$E13&\"'!C\"&BQ$1),\n\"\")),\"\")","v":""},{"$f":"IFERROR(IF(AND(BQ$9<>\"\",$H$3=\"計画\"),INDIRECT(\"'\"&$D13&\"　\"&$E13&\"'!B\"&BR$1),\nIF(AND(BQ$9<>\"\",$H$3=\"実績\"),INDIRECT(\"'\"&$D13&\"　\"&$E13&\"'!C\"&BR$1),\n\"\")),\"\")","v":""},{"$f":"IFERROR(IF(IF(AND(BQ$9<>\"\",$H$3=\"計画\"),INDIRECT(\"'\"&$D13&\"　\"&$E13&\"'!B\"&BS$1),\nIF(AND(BQ$9<>\"\",$H$3=\"実績\"),INDIRECT(\"'\"&$D13&\"　\"&$E13&\"'!C\"&BS$1),\n\"\"))=\"対象外\",\"対象外\",BQ13/BR13),\"\")","v":""},{"$f":"IFERROR(IF(AND(BT$9<>\"\",$H$3=\"計画\"),INDIRECT(\"'\"&$D13&\"　\"&$E13&\"'!B\"&BT$1),\nIF(AND(BT$9<>\"\",$H$3=\"実績\"),INDIRECT(\"'\"&$D13&\"　\"&$E13&\"'!C\"&BT$1),\n\"\")),\"\")","v":""},{"$f":"IFERROR(IF(AND(BT$9<>\"\",$H$3=\"計画\"),INDIRECT(\"'\"&$D13&\"　\"&$E13&\"'!B\"&BU$1),\nIF(AND(BT$9<>\"\",$H$3=\"実績\"),INDIRECT(\"'\"&$D13&\"　\"&$E13&\"'!C\"&BU$1),\n\"\")),\"\")","v":""},{"$f":"IFERROR(IF(IF(AND(BT$9<>\"\",$H$3=\"計画\"),INDIRECT(\"'\"&$D13&\"　\"&$E13&\"'!B\"&BV$1),\nIF(AND(BT$9<>\"\",$H$3=\"実績\"),INDIRECT(\"'\"&$D13&\"　\"&$E13&\"'!C\"&BV$1),\n\"\"))=\"対象外\",\"対象外\",BT13/BU13),\"\")","v":""},{"$f":"IFERROR(IF(AND(BW$9<>\"\",$H$3=\"計画\"),INDIRECT(\"'\"&$D13&\"　\"&$E13&\"'!B\"&BW$1),\nIF(AND(BW$9<>\"\",$H$3=\"実績\"),INDIRECT(\"'\"&$D13&\"　\"&$E13&\"'!C\"&BW$1),\n\"\")),\"\")","v":""},{"$f":"IFERROR(IF(AND(BW$9<>\"\",$H$3=\"計画\"),INDIRECT(\"'\"&$D13&\"　\"&$E13&\"'!B\"&BX$1),\nIF(AND(BW$9<>\"\",$H$3=\"実績\"),INDIRECT(\"'\"&$D13&\"　\"&$E13&\"'!C\"&BX$1),\n\"\")),\"\")","v":""},{"$f":"IFERROR(IF(IF(AND(BW$9<>\"\",$H$3=\"計画\"),INDIRECT(\"'\"&$D13&\"　\"&$E13&\"'!B\"&BY$1),\nIF(AND(BW$9<>\"\",$H$3=\"実績\"),INDIRECT(\"'\"&$D13&\"　\"&$E13&\"'!C\"&BY$1),\n\"\"))=\"対象外\",\"対象外\",BW13/BX13),\"\")","v":""},{"$f":"IFERROR(IF(AND(BZ$9<>\"\",$H$3=\"計画\"),INDIRECT(\"'\"&$D13&\"　\"&$E13&\"'!B\"&BZ$1),\nIF(AND(BZ$9<>\"\",$H$3=\"実績\"),INDIRECT(\"'\"&$D13&\"　\"&$E13&\"'!C\"&BZ$1),\n\"\")),\"\")","v":""},{"$f":"IFERROR(IF(AND(BZ$9<>\"\",$H$3=\"計画\"),INDIRECT(\"'\"&$D13&\"　\"&$E13&\"'!B\"&CA$1),\nIF(AND(BZ$9<>\"\",$H$3=\"実績\"),INDIRECT(\"'\"&$D13&\"　\"&$E13&\"'!C\"&CA$1),\n\"\")),\"\")","v":""},{"$f":"IFERROR(IF(IF(AND(BZ$9<>\"\",$H$3=\"計画\"),INDIRECT(\"'\"&$D13&\"　\"&$E13&\"'!B\"&CB$1),\nIF(AND(BZ$9<>\"\",$H$3=\"実績\"),INDIRECT(\"'\"&$D13&\"　\"&$E13&\"'!C\"&CB$1),\n\"\"))=\"対象外\",\"対象外\",BZ13/CA13),\"\")","v":""},{"$f":"IFERROR(IF(AND(CC$9<>\"\",$H$3=\"計画\"),INDIRECT(\"'\"&$D13&\"　\"&$E13&\"'!B\"&CC$1),\nIF(AND(CC$9<>\"\",$H$3=\"実績\"),INDIRECT(\"'\"&$D13&\"　\"&$E13&\"'!C\"&CC$1),\n\"\")),\"\")","v":""},{"$f":"IFERROR(IF(AND(CC$9<>\"\",$H$3=\"計画\"),INDIRECT(\"'\"&$D13&\"　\"&$E13&\"'!B\"&CD$1),\nIF(AND(CC$9<>\"\",$H$3=\"実績\"),INDIRECT(\"'\"&$D13&\"　\"&$E13&\"'!C\"&CD$1),\n\"\")),\"\")","v":""},{"$f":"IFERROR(IF(IF(AND(CC$9<>\"\",$H$3=\"計画\"),INDIRECT(\"'\"&$D13&\"　\"&$E13&\"'!B\"&CE$1),\nIF(AND(CC$9<>\"\",$H$3=\"実績\"),INDIRECT(\"'\"&$D13&\"　\"&$E13&\"'!C\"&CE$1),\n\"\"))=\"対象外\",\"対象外\",CC13/CD13),\"\")","v":""},{"$f":"IFERROR(IF(AND(CF$9<>\"\",$H$3=\"計画\"),INDIRECT(\"'\"&$D13&\"　\"&$E13&\"'!B\"&CF$1),\nIF(AND(CF$9<>\"\",$H$3=\"実績\"),INDIRECT(\"'\"&$D13&\"　\"&$E13&\"'!C\"&CF$1),\n\"\")),\"\")","v":""},{"$f":"IFERROR(IF(AND(CF$9<>\"\",$H$3=\"計画\"),INDIRECT(\"'\"&$D13&\"　\"&$E13&\"'!B\"&CG$1),\nIF(AND(CF$9<>\"\",$H$3=\"実績\"),INDIRECT(\"'\"&$D13&\"　\"&$E13&\"'!C\"&CG$1),\n\"\")),\"\")","v":""},{"$f":"IFERROR(IF(IF(AND(CF$9<>\"\",$H$3=\"計画\"),INDIRECT(\"'\"&$D13&\"　\"&$E13&\"'!B\"&CH$1),\nIF(AND(CF$9<>\"\",$H$3=\"実績\"),INDIRECT(\"'\"&$D13&\"　\"&$E13&\"'!C\"&CH$1),\n\"\"))=\"対象外\",\"対象外\",CF13/CG13),\"\")","v":""},{"$f":"IFERROR(IF(AND(CI$9<>\"\",$H$3=\"計画\"),INDIRECT(\"'\"&$D13&\"　\"&$E13&\"'!B\"&CI$1),\nIF(AND(CI$9<>\"\",$H$3=\"実績\"),INDIRECT(\"'\"&$D13&\"　\"&$E13&\"'!C\"&CI$1),\n\"\")),\"\")","v":""},{"$f":"IFERROR(IF(AND(CI$9<>\"\",$H$3=\"計画\"),INDIRECT(\"'\"&$D13&\"　\"&$E13&\"'!B\"&CJ$1),\nIF(AND(CI$9<>\"\",$H$3=\"実績\"),INDIRECT(\"'\"&$D13&\"　\"&$E13&\"'!C\"&CJ$1),\n\"\")),\"\")","v":""},{"$f":"IFERROR(IF(IF(AND(CI$9<>\"\",$H$3=\"計画\"),INDIRECT(\"'\"&$D13&\"　\"&$E13&\"'!B\"&CK$1),\nIF(AND(CI$9<>\"\",$H$3=\"実績\"),INDIRECT(\"'\"&$D13&\"　\"&$E13&\"'!C\"&CK$1),\n\"\"))=\"対象外\",\"対象外\",CI13/CJ13),\"\")","v":""},{"$f":"IFERROR(IF(AND(CL$9<>\"\",$H$3=\"計画\"),INDIRECT(\"'\"&$D13&\"　\"&$E13&\"'!B\"&CL$1),\nIF(AND(CL$9<>\"\",$H$3=\"実績\"),INDIRECT(\"'\"&$D13&\"　\"&$E13&\"'!C\"&CL$1),\n\"\")),\"\")","v":""},{"$f":"IFERROR(IF(AND(CL$9<>\"\",$H$3=\"計画\"),INDIRECT(\"'\"&$D13&\"　\"&$E13&\"'!B\"&CM$1),\nIF(AND(CL$9<>\"\",$H$3=\"実績\"),INDIRECT(\"'\"&$D13&\"　\"&$E13&\"'!C\"&CM$1),\n\"\")),\"\")","v":""},{"$f":"IFERROR(IF(IF(AND(CL$9<>\"\",$H$3=\"計画\"),INDIRECT(\"'\"&$D13&\"　\"&$E13&\"'!B\"&CN$1),\nIF(AND(CL$9<>\"\",$H$3=\"実績\"),INDIRECT(\"'\"&$D13&\"　\"&$E13&\"'!C\"&CN$1),\n\"\"))=\"対象外\",\"対象外\",CL13/CM13),\"\")","v":""},{"$f":"IFERROR(IF(AND(CO$9<>\"\",$H$3=\"計画\"),INDIRECT(\"'\"&$D13&\"　\"&$E13&\"'!B\"&CO$1),\nIF(AND(CO$9<>\"\",$H$3=\"実績\"),INDIRECT(\"'\"&$D13&\"　\"&$E13&\"'!C\"&CO$1),\n\"\")),\"\")","v":""},{"$f":"IFERROR(IF(AND(CO$9<>\"\",$H$3=\"計画\"),INDIRECT(\"'\"&$D13&\"　\"&$E13&\"'!B\"&CP$1),\nIF(AND(CO$9<>\"\",$H$3=\"実績\"),INDIRECT(\"'\"&$D13&\"　\"&$E13&\"'!C\"&CP$1),\n\"\")),\"\")","v":""},{"$f":"IFERROR(IF(IF(AND(CO$9<>\"\",$H$3=\"計画\"),INDIRECT(\"'\"&$D13&\"　\"&$E13&\"'!B\"&CQ$1),\nIF(AND(CO$9<>\"\",$H$3=\"実績\"),INDIRECT(\"'\"&$D13&\"　\"&$E13&\"'!C\"&CQ$1),\n\"\"))=\"対象外\",\"対象外\",CO13/CP13),\"\")","v":""},{"$f":"IFERROR(IF(AND(CR$9<>\"\",$H$3=\"計画\"),INDIRECT(\"'\"&$D13&\"　\"&$E13&\"'!B\"&CR$1),\nIF(AND(CR$9<>\"\",$H$3=\"実績\"),INDIRECT(\"'\"&$D13&\"　\"&$E13&\"'!C\"&CR$1),\n\"\")),\"\")","v":""},{"$f":"IFERROR(IF(AND(CR$9<>\"\",$H$3=\"計画\"),INDIRECT(\"'\"&$D13&\"　\"&$E13&\"'!B\"&CS$1),\nIF(AND(CR$9<>\"\",$H$3=\"実績\"),INDIRECT(\"'\"&$D13&\"　\"&$E13&\"'!C\"&CS$1),\n\"\")),\"\")","v":""},{"$f":"IFERROR(IF(IF(AND(CR$9<>\"\",$H$3=\"計画\"),INDIRECT(\"'\"&$D13&\"　\"&$E13&\"'!B\"&CT$1),\nIF(AND(CR$9<>\"\",$H$3=\"実績\"),INDIRECT(\"'\"&$D13&\"　\"&$E13&\"'!C\"&CT$1),\n\"\"))=\"対象外\",\"対象外\",CR13/CS13),\"\")","v":""},{"$f":"IFERROR(IF(AND(CU$9<>\"\",$H$3=\"計画\"),INDIRECT(\"'\"&$D13&\"　\"&$E13&\"'!B\"&CU$1),\nIF(AND(CU$9<>\"\",$H$3=\"実績\"),INDIRECT(\"'\"&$D13&\"　\"&$E13&\"'!C\"&CU$1),\n\"\")),\"\")","v":""},{"$f":"IFERROR(IF(AND(CU$9<>\"\",$H$3=\"計画\"),INDIRECT(\"'\"&$D13&\"　\"&$E13&\"'!B\"&CV$1),\nIF(AND(CU$9<>\"\",$H$3=\"実績\"),INDIRECT(\"'\"&$D13&\"　\"&$E13&\"'!C\"&CV$1),\n\"\")),\"\")","v":""},{"$f":"IFERROR(IF(IF(AND(CU$9<>\"\",$H$3=\"計画\"),INDIRECT(\"'\"&$D13&\"　\"&$E13&\"'!B\"&CW$1),\nIF(AND(CU$9<>\"\",$H$3=\"実績\"),INDIRECT(\"'\"&$D13&\"　\"&$E13&\"'!C\"&CW$1),\n\"\"))=\"対象外\",\"対象外\",CU13/CV13),\"\")","v":""},{"$f":"IFERROR(IF(AND(CX$9<>\"\",$H$3=\"計画\"),INDIRECT(\"'\"&$D13&\"　\"&$E13&\"'!B\"&CX$1),\nIF(AND(CX$9<>\"\",$H$3=\"実績\"),INDIRECT(\"'\"&$D13&\"　\"&$E13&\"'!C\"&CX$1),\n\"\")),\"\")","v":""},{"$f":"IFERROR(IF(AND(CX$9<>\"\",$H$3=\"計画\"),INDIRECT(\"'\"&$D13&\"　\"&$E13&\"'!B\"&CY$1),\nIF(AND(CX$9<>\"\",$H$3=\"実績\"),INDIRECT(\"'\"&$D13&\"　\"&$E13&\"'!C\"&CY$1),\n\"\")),\"\")","v":""},{"$f":"IFERROR(IF(IF(AND(CX$9<>\"\",$H$3=\"計画\"),INDIRECT(\"'\"&$D13&\"　\"&$E13&\"'!B\"&CZ$1),\nIF(AND(CX$9<>\"\",$H$3=\"実績\"),INDIRECT(\"'\"&$D13&\"　\"&$E13&\"'!C\"&CZ$1),\n\"\"))=\"対象外\",\"対象外\",CX13/CY13),\"\")","v":""},{"$f":"IFERROR(IF(AND(DA$9<>\"\",$H$3=\"計画\"),INDIRECT(\"'\"&$D13&\"　\"&$E13&\"'!B\"&DA$1),\nIF(AND(DA$9<>\"\",$H$3=\"実績\"),INDIRECT(\"'\"&$D13&\"　\"&$E13&\"'!C\"&DA$1),\n\"\")),\"\")","v":""},{"$f":"IFERROR(IF(AND(DA$9<>\"\",$H$3=\"計画\"),INDIRECT(\"'\"&$D13&\"　\"&$E13&\"'!B\"&DB$1),\nIF(AND(DA$9<>\"\",$H$3=\"実績\"),INDIRECT(\"'\"&$D13&\"　\"&$E13&\"'!C\"&DB$1),\n\"\")),\"\")","v":""},{"$f":"IFERROR(IF(IF(AND(DA$9<>\"\",$H$3=\"計画\"),INDIRECT(\"'\"&$D13&\"　\"&$E13&\"'!B\"&DC$1),\nIF(AND(DA$9<>\"\",$H$3=\"実績\"),INDIRECT(\"'\"&$D13&\"　\"&$E13&\"'!C\"&DC$1),\n\"\"))=\"対象外\",\"対象外\",DA13/DB13),\"\")","v":""},{"$f":"IFERROR(IF(AND(DD$9<>\"\",$H$3=\"計画\"),INDIRECT(\"'\"&$D13&\"　\"&$E13&\"'!B\"&DD$1),\nIF(AND(DD$9<>\"\",$H$3=\"実績\"),INDIRECT(\"'\"&$D13&\"　\"&$E13&\"'!C\"&DD$1),\n\"\")),\"\")","v":""},{"$f":"IFERROR(IF(AND(DD$9<>\"\",$H$3=\"計画\"),INDIRECT(\"'\"&$D13&\"　\"&$E13&\"'!B\"&DE$1),\nIF(AND(DD$9<>\"\",$H$3=\"実績\"),INDIRECT(\"'\"&$D13&\"　\"&$E13&\"'!C\"&DE$1),\n\"\")),\"\")","v":""},{"$f":"IFERROR(IF(IF(AND(DD$9<>\"\",$H$3=\"計画\"),INDIRECT(\"'\"&$D13&\"　\"&$E13&\"'!B\"&DF$1),\nIF(AND(DD$9<>\"\",$H$3=\"実績\"),INDIRECT(\"'\"&$D13&\"　\"&$E13&\"'!C\"&DF$1),\n\"\"))=\"対象外\",\"対象外\",DD13/DE13),\"\")","v":""},{"$f":"IFERROR(IF(AND(DG$9<>\"\",$H$3=\"計画\"),INDIRECT(\"'\"&$D13&\"　\"&$E13&\"'!B\"&DG$1),\nIF(AND(DG$9<>\"\",$H$3=\"実績\"),INDIRECT(\"'\"&$D13&\"　\"&$E13&\"'!C\"&DG$1),\n\"\")),\"\")","v":""},{"$f":"IFERROR(IF(AND(DG$9<>\"\",$H$3=\"計画\"),INDIRECT(\"'\"&$D13&\"　\"&$E13&\"'!B\"&DH$1),\nIF(AND(DG$9<>\"\",$H$3=\"実績\"),INDIRECT(\"'\"&$D13&\"　\"&$E13&\"'!C\"&DH$1),\n\"\")),\"\")","v":""},{"$f":"IFERROR(IF(IF(AND(DG$9<>\"\",$H$3=\"計画\"),INDIRECT(\"'\"&$D13&\"　\"&$E13&\"'!B\"&DI$1),\nIF(AND(DG$9<>\"\",$H$3=\"実績\"),INDIRECT(\"'\"&$D13&\"　\"&$E13&\"'!C\"&DI$1),\n\"\"))=\"対象外\",\"対象外\",DG13/DH13),\"\")","v":""},{"$f":"IFERROR(IF(AND(DJ$9<>\"\",$H$3=\"計画\"),INDIRECT(\"'\"&$D13&\"　\"&$E13&\"'!B\"&DJ$1),\nIF(AND(DJ$9<>\"\",$H$3=\"実績\"),INDIRECT(\"'\"&$D13&\"　\"&$E13&\"'!C\"&DJ$1),\n\"\")),\"\")","v":""},{"$f":"IFERROR(IF(AND(DJ$9<>\"\",$H$3=\"計画\"),INDIRECT(\"'\"&$D13&\"　\"&$E13&\"'!B\"&DK$1),\nIF(AND(DJ$9<>\"\",$H$3=\"実績\"),INDIRECT(\"'\"&$D13&\"　\"&$E13&\"'!C\"&DK$1),\n\"\")),\"\")","v":""},{"$f":"IFERROR(IF(IF(AND(DJ$9<>\"\",$H$3=\"計画\"),INDIRECT(\"'\"&$D13&\"　\"&$E13&\"'!B\"&DL$1),\nIF(AND(DJ$9<>\"\",$H$3=\"実績\"),INDIRECT(\"'\"&$D13&\"　\"&$E13&\"'!C\"&DL$1),\n\"\"))=\"対象外\",\"対象外\",DJ13/DK13),\"\")","v":""}]
[null,null,null,null,null,"","",{"$f":"IFERROR(IF(IF(H$3=\"計画\",INDIRECT(\"'\"&$D14&\"　\"&$E14&\"'!B\"&H$1),\nIF(H$3=\"実績\",INDIRECT(\"'\"&$D14&\"　\"&$E14&\"'!C\"&H$1),\n\"\"))>=28,F14/G14,\"対象外\"),\"\")","v":""},{"$f":"IFERROR(IF(AND(I$9<>\"\",$H$3=\"計画\"),INDIRECT(\"'\"&$D14&\"　\"&$E14&\"'!B\"&I$1),\nIF(AND(I$9<>\"\",$H$3=\"実績\"),INDIRECT(\"'\"&$D14&\"　\"&$E14&\"'!C\"&I$1),\n\"\")),\"\")","v":""},{"$f":"IFERROR(IF(AND(I$9<>\"\",$H$3=\"計画\"),INDIRECT(\"'\"&$D14&\"　\"&$E14&\"'!B\"&J$1),\nIF(AND(I$9<>\"\",$H$3=\"実績\"),INDIRECT(\"'\"&$D14&\"　\"&$E14&\"'!C\"&J$1),\n\"\")),\"\")","v":""},{"$f":"IFERROR(IF(IF(AND(I$9<>\"\",$H$3=\"計画\"),INDIRECT(\"'\"&$D14&\"　\"&$E14&\"'!B\"&K$1),\nIF(AND(I$9<>\"\",$H$3=\"実績\"),INDIRECT(\"'\"&$D14&\"　\"&$E14&\"'!C\"&K$1),\n\"\"))=\"対象外\",\"対象外\",I14/J14),\"\")","v":""},{"$f":"IFERROR(IF(AND(L$9<>\"\",$H$3=\"計画\"),INDIRECT(\"'\"&$D14&\"　\"&$E14&\"'!B\"&L$1),\nIF(AND(L$9<>\"\",$H$3=\"実績\"),INDIRECT(\"'\"&$D14&\"　\"&$E14&\"'!C\"&L$1),\n\"\")),\"\")","v":""},{"$f":"IFERROR(IF(AND(L$9<>\"\",$H$3=\"計画\"),INDIRECT(\"'\"&$D14&\"　\"&$E14&\"'!B\"&M$1),\nIF(AND(L$9<>\"\",$H$3=\"実績\"),INDIRECT(\"'\"&$D14&\"　\"&$E14&\"'!C\"&M$1),\n\"\")),\"\")","v":""},{"$f":"IFERROR(IF(IF(AND(L$9<>\"\",$H$3=\"計画\"),INDIRECT(\"'\"&$D14&\"　\"&$E14&\"'!B\"&N$1),\nIF(AND(L$9<>\"\",$H$3=\"実績\"),INDIRECT(\"'\"&$D14&\"　\"&$E14&\"'!C\"&N$1),\n\"\"))=\"対象外\",\"対象外\",L14/M14),\"\")","v":""},{"$f":"IFERROR(IF(AND(O$9<>\"\",$H$3=\"計画\"),INDIRECT(\"'\"&$D14&\"　\"&$E14&\"'!B\"&O$1),\nIF(AND(O$9<>\"\",$H$3=\"実績\"),INDIRECT(\"'\"&$D14&\"　\"&$E14&\"'!C\"&O$1),\n\"\")),\"\")","v":""},{"$f":"IFERROR(IF(AND(O$9<>\"\",$H$3=\"計画\"),INDIRECT(\"'\"&$D14&\"　\"&$E14&\"'!B\"&P$1),\nIF(AND(O$9<>\"\",$H$3=\"実績\"),INDIRECT(\"'\"&$D14&\"　\"&$E14&\"'!C\"&P$1),\n\"\")),\"\")","v":""},{"$f":"IFERROR(IF(IF(AND(O$9<>\"\",$H$3=\"計画\"),INDIRECT(\"'\"&$D14&\"　\"&$E14&\"'!B\"&Q$1),\nIF(AND(O$9<>\"\",$H$3=\"実績\"),INDIRECT(\"'\"&$D14&\"　\"&$E14&\"'!C\"&Q$1),\n\"\"))=\"対象外\",\"対象外\",O14/P14),\"\")","v":""},{"$f":"IFERROR(IF(AND(R$9<>\"\",$H$3=\"計画\"),INDIRECT(\"'\"&$D14&\"　\"&$E14&\"'!B\"&R$1),\nIF(AND(R$9<>\"\",$H$3=\"実績\"),INDIRECT(\"'\"&$D14&\"　\"&$E14&\"'!C\"&R$1),\n\"\")),\"\")","v":""},{"$f":"IFERROR(IF(AND(R$9<>\"\",$H$3=\"計画\"),INDIRECT(\"'\"&$D14&\"　\"&$E14&\"'!B\"&S$1),\nIF(AND(R$9<>\"\",$H$3=\"実績\"),INDIRECT(\"'\"&$D14&\"　\"&$E14&\"'!C\"&S$1),\n\"\")),\"\")","v":""},{"$f":"IFERROR(IF(IF(AND(R$9<>\"\",$H$3=\"計画\"),INDIRECT(\"'\"&$D14&\"　\"&$E14&\"'!B\"&T$1),\nIF(AND(R$9<>\"\",$H$3=\"実績\"),INDIRECT(\"'\"&$D14&\"　\"&$E14&\"'!C\"&T$1),\n\"\"))=\"対象外\",\"対象外\",R14/S14),\"\")","v":""},{"$f":"IFERROR(IF(AND(U$9<>\"\",$H$3=\"計画\"),INDIRECT(\"'\"&$D14&\"　\"&$E14&\"'!B\"&U$1),\nIF(AND(U$9<>\"\",$H$3=\"実績\"),INDIRECT(\"'\"&$D14&\"　\"&$E14&\"'!C\"&U$1),\n\"\")),\"\")","v":""},{"$f":"IFERROR(IF(AND(U$9<>\"\",$H$3=\"計画\"),INDIRECT(\"'\"&$D14&\"　\"&$E14&\"'!B\"&V$1),\nIF(AND(U$9<>\"\",$H$3=\"実績\"),INDIRECT(\"'\"&$D14&\"　\"&$E14&\"'!C\"&V$1),\n\"\")),\"\")","v":""},{"$f":"IFERROR(IF(IF(AND(U$9<>\"\",$H$3=\"計画\"),INDIRECT(\"'\"&$D14&\"　\"&$E14&\"'!B\"&W$1),\nIF(AND(U$9<>\"\",$H$3=\"実績\"),INDIRECT(\"'\"&$D14&\"　\"&$E14&\"'!C\"&W$1),\n\"\"))=\"対象外\",\"対象外\",U14/V14),\"\")","v":""},{"$f":"IFERROR(IF(AND(X$9<>\"\",$H$3=\"計画\"),INDIRECT(\"'\"&$D14&\"　\"&$E14&\"'!B\"&X$1),\nIF(AND(X$9<>\"\",$H$3=\"実績\"),INDIRECT(\"'\"&$D14&\"　\"&$E14&\"'!C\"&X$1),\n\"\")),\"\")","v":""},{"$f":"IFERROR(IF(AND(X$9<>\"\",$H$3=\"計画\"),INDIRECT(\"'\"&$D14&\"　\"&$E14&\"'!B\"&Y$1),\nIF(AND(X$9<>\"\",$H$3=\"実績\"),INDIRECT(\"'\"&$D14&\"　\"&$E14&\"'!C\"&Y$1),\n\"\")),\"\")","v":""},{"$f":"IFERROR(IF(IF(AND(X$9<>\"\",$H$3=\"計画\"),INDIRECT(\"'\"&$D14&\"　\"&$E14&\"'!B\"&Z$1),\nIF(AND(X$9<>\"\",$H$3=\"実績\"),INDIRECT(\"'\"&$D14&\"　\"&$E14&\"'!C\"&Z$1),\n\"\"))=\"対象外\",\"対象外\",X14/Y14),\"\")","v":""},{"$f":"IFERROR(IF(AND(AA$9<>\"\",$H$3=\"計画\"),INDIRECT(\"'\"&$D14&\"　\"&$E14&\"'!B\"&AA$1),\nIF(AND(AA$9<>\"\",$H$3=\"実績\"),INDIRECT(\"'\"&$D14&\"　\"&$E14&\"'!C\"&AA$1),\n\"\")),\"\")","v":""},{"$f":"IFERROR(IF(AND(AA$9<>\"\",$H$3=\"計画\"),INDIRECT(\"'\"&$D14&\"　\"&$E14&\"'!B\"&AB$1),\nIF(AND(AA$9<>\"\",$H$3=\"実績\"),INDIRECT(\"'\"&$D14&\"　\"&$E14&\"'!C\"&AB$1),\n\"\")),\"\")","v":""},{"$f":"IFERROR(IF(IF(AND(AA$9<>\"\",$H$3=\"計画\"),INDIRECT(\"'\"&$D14&\"　\"&$E14&\"'!B\"&AC$1),\nIF(AND(AA$9<>\"\",$H$3=\"実績\"),INDIRECT(\"'\"&$D14&\"　\"&$E14&\"'!C\"&AC$1),\n\"\"))=\"対象外\",\"対象外\",AA14/AB14),\"\")","v":""},{"$f":"IFERROR(IF(AND(AD$9<>\"\",$H$3=\"計画\"),INDIRECT(\"'\"&$D14&\"　\"&$E14&\"'!B\"&AD$1),\nIF(AND(AD$9<>\"\",$H$3=\"実績\"),INDIRECT(\"'\"&$D14&\"　\"&$E14&\"'!C\"&AD$1),\n\"\")),\"\")","v":""},{"$f":"IFERROR(IF(AND(AD$9<>\"\",$H$3=\"計画\"),INDIRECT(\"'\"&$D14&\"　\"&$E14&\"'!B\"&AE$1),\nIF(AND(AD$9<>\"\",$H$3=\"実績\"),INDIRECT(\"'\"&$D14&\"　\"&$E14&\"'!C\"&AE$1),\n\"\")),\"\")","v":""},{"$f":"IFERROR(IF(IF(AND(AD$9<>\"\",$H$3=\"計画\"),INDIRECT(\"'\"&$D14&\"　\"&$E14&\"'!B\"&AF$1),\nIF(AND(AD$9<>\"\",$H$3=\"実績\"),INDIRECT(\"'\"&$D14&\"　\"&$E14&\"'!C\"&AF$1),\n\"\"))=\"対象外\",\"対象外\",AD14/AE14),\"\")","v":""},{"$f":"IFERROR(IF(AND(AG$9<>\"\",$H$3=\"計画\"),INDIRECT(\"'\"&$D14&\"　\"&$E14&\"'!B\"&AG$1),\nIF(AND(AG$9<>\"\",$H$3=\"実績\"),INDIRECT(\"'\"&$D14&\"　\"&$E14&\"'!C\"&AG$1),\n\"\")),\"\")","v":""},{"$f":"IFERROR(IF(AND(AG$9<>\"\",$H$3=\"計画\"),INDIRECT(\"'\"&$D14&\"　\"&$E14&\"'!B\"&AH$1),\nIF(AND(AG$9<>\"\",$H$3=\"実績\"),INDIRECT(\"'\"&$D14&\"　\"&$E14&\"'!C\"&AH$1),\n\"\")),\"\")","v":""},{"$f":"IFERROR(IF(IF(AND(AG$9<>\"\",$H$3=\"計画\"),INDIRECT(\"'\"&$D14&\"　\"&$E14&\"'!B\"&AI$1),\nIF(AND(AG$9<>\"\",$H$3=\"実績\"),INDIRECT(\"'\"&$D14&\"　\"&$E14&\"'!C\"&AI$1),\n\"\"))=\"対象外\",\"対象外\",AG14/AH14),\"\")","v":""},{"$f":"IFERROR(IF(AND(AJ$9<>\"\",$H$3=\"計画\"),INDIRECT(\"'\"&$D14&\"　\"&$E14&\"'!B\"&AJ$1),\nIF(AND(AJ$9<>\"\",$H$3=\"実績\"),INDIRECT(\"'\"&$D14&\"　\"&$E14&\"'!C\"&AJ$1),\n\"\")),\"\")","v":""},{"$f":"IFERROR(IF(AND(AJ$9<>\"\",$H$3=\"計画\"),INDIRECT(\"'\"&$D14&\"　\"&$E14&\"'!B\"&AK$1),\nIF(AND(AJ$9<>\"\",$H$3=\"実績\"),INDIRECT(\"'\"&$D14&\"　\"&$E14&\"'!C\"&AK$1),\n\"\")),\"\")","v":""},{"$f":"IFERROR(IF(IF(AND(AJ$9<>\"\",$H$3=\"計画\"),INDIRECT(\"'\"&$D14&\"　\"&$E14&\"'!B\"&AL$1),\nIF(AND(AJ$9<>\"\",$H$3=\"実績\"),INDIRECT(\"'\"&$D14&\"　\"&$E14&\"'!C\"&AL$1),\n\"\"))=\"対象外\",\"対象外\",AJ14/AK14),\"\")","v":""},{"$f":"IFERROR(IF(AND(AM$9<>\"\",$H$3=\"計画\"),INDIRECT(\"'\"&$D14&\"　\"&$E14&\"'!B\"&AM$1),\nIF(AND(AM$9<>\"\",$H$3=\"実績\"),INDIRECT(\"'\"&$D14&\"　\"&$E14&\"'!C\"&AM$1),\n\"\")),\"\")","v":""},{"$f":"IFERROR(IF(AND(AM$9<>\"\",$H$3=\"計画\"),INDIRECT(\"'\"&$D14&\"　\"&$E14&\"'!B\"&AN$1),\nIF(AND(AM$9<>\"\",$H$3=\"実績\"),INDIRECT(\"'\"&$D14&\"　\"&$E14&\"'!C\"&AN$1),\n\"\")),\"\")","v":""},{"$f":"IFERROR(IF(IF(AND(AM$9<>\"\",$H$3=\"計画\"),INDIRECT(\"'\"&$D14&\"　\"&$E14&\"'!B\"&AO$1),\nIF(AND(AM$9<>\"\",$H$3=\"実績\"),INDIRECT(\"'\"&$D14&\"　\"&$E14&\"'!C\"&AO$1),\n\"\"))=\"対象外\",\"対象外\",AM14/AN14),\"\")","v":""},{"$f":"IFERROR(IF(AND(AP$9<>\"\",$H$3=\"計画\"),INDIRECT(\"'\"&$D14&\"　\"&$E14&\"'!B\"&AP$1),\nIF(AND(AP$9<>\"\",$H$3=\"実績\"),INDIRECT(\"'\"&$D14&\"　\"&$E14&\"'!C\"&AP$1),\n\"\")),\"\")","v":""},{"$f":"IFERROR(IF(AND(AP$9<>\"\",$H$3=\"計画\"),INDIRECT(\"'\"&$D14&\"　\"&$E14&\"'!B\"&AQ$1),\nIF(AND(AP$9<>\"\",$H$3=\"実績\"),INDIRECT(\"'\"&$D14&\"　\"&$E14&\"'!C\"&AQ$1),\n\"\")),\"\")","v":""},{"$f":"IFERROR(IF(IF(AND(AP$9<>\"\",$H$3=\"計画\"),INDIRECT(\"'\"&$D14&\"　\"&$E14&\"'!B\"&AR$1),\nIF(AND(AP$9<>\"\",$H$3=\"実績\"),INDIRECT(\"'\"&$D14&\"　\"&$E14&\"'!C\"&AR$1),\n\"\"))=\"対象外\",\"対象外\",AP14/AQ14),\"\")","v":""},{"$f":"IFERROR(IF(AND(AS$9<>\"\",$H$3=\"計画\"),INDIRECT(\"'\"&$D14&\"　\"&$E14&\"'!B\"&AS$1),\nIF(AND(AS$9<>\"\",$H$3=\"実績\"),INDIRECT(\"'\"&$D14&\"　\"&$E14&\"'!C\"&AS$1),\n\"\")),\"\")","v":""},{"$f":"IFERROR(IF(AND(AS$9<>\"\",$H$3=\"計画\"),INDIRECT(\"'\"&$D14&\"　\"&$E14&\"'!B\"&AT$1),\nIF(AND(AS$9<>\"\",$H$3=\"実績\"),INDIRECT(\"'\"&$D14&\"　\"&$E14&\"'!C\"&AT$1),\n\"\")),\"\")","v":""},{"$f":"IFERROR(IF(IF(AND(AS$9<>\"\",$H$3=\"計画\"),INDIRECT(\"'\"&$D14&\"　\"&$E14&\"'!B\"&AU$1),\nIF(AND(AS$9<>\"\",$H$3=\"実績\"),INDIRECT(\"'\"&$D14&\"　\"&$E14&\"'!C\"&AU$1),\n\"\"))=\"対象外\",\"対象外\",AS14/AT14),\"\")","v":""},{"$f":"IFERROR(IF(AND(AV$9<>\"\",$H$3=\"計画\"),INDIRECT(\"'\"&$D14&\"　\"&$E14&\"'!B\"&AV$1),\nIF(AND(AV$9<>\"\",$H$3=\"実績\"),INDIRECT(\"'\"&$D14&\"　\"&$E14&\"'!C\"&AV$1),\n\"\")),\"\")","v":""},{"$f":"IFERROR(IF(AND(AV$9<>\"\",$H$3=\"計画\"),INDIRECT(\"'\"&$D14&\"　\"&$E14&\"'!B\"&AW$1),\nIF(AND(AV$9<>\"\",$H$3=\"実績\"),INDIRECT(\"'\"&$D14&\"　\"&$E14&\"'!C\"&AW$1),\n\"\")),\"\")","v":""},{"$f":"IFERROR(IF(IF(AND(AV$9<>\"\",$H$3=\"計画\"),INDIRECT(\"'\"&$D14&\"　\"&$E14&\"'!B\"&AX$1),\nIF(AND(AV$9<>\"\",$H$3=\"実績\"),INDIRECT(\"'\"&$D14&\"　\"&$E14&\"'!C\"&AX$1),\n\"\"))=\"対象外\",\"対象外\",AV14/AW14),\"\")","v":""},{"$f":"IFERROR(IF(AND(AY$9<>\"\",$H$3=\"計画\"),INDIRECT(\"'\"&$D14&\"　\"&$E14&\"'!B\"&AY$1),\nIF(AND(AY$9<>\"\",$H$3=\"実績\"),INDIRECT(\"'\"&$D14&\"　\"&$E14&\"'!C\"&AY$1),\n\"\")),\"\")","v":""},{"$f":"IFERROR(IF(AND(AY$9<>\"\",$H$3=\"計画\"),INDIRECT(\"'\"&$D14&\"　\"&$E14&\"'!B\"&AZ$1),\nIF(AND(AY$9<>\"\",$H$3=\"実績\"),INDIRECT(\"'\"&$D14&\"　\"&$E14&\"'!C\"&AZ$1),\n\"\")),\"\")","v":""},{"$f":"IFERROR(IF(IF(AND(AY$9<>\"\",$H$3=\"計画\"),INDIRECT(\"'\"&$D14&\"　\"&$E14&\"'!B\"&BA$1),\nIF(AND(AY$9<>\"\",$H$3=\"実績\"),INDIRECT(\"'\"&$D14&\"　\"&$E14&\"'!C\"&BA$1),\n\"\"))=\"対象外\",\"対象外\",AY14/AZ14),\"\")","v":""},{"$f":"IFERROR(IF(AND(BB$9<>\"\",$H$3=\"計画\"),INDIRECT(\"'\"&$D14&\"　\"&$E14&\"'!B\"&BB$1),\nIF(AND(BB$9<>\"\",$H$3=\"実績\"),INDIRECT(\"'\"&$D14&\"　\"&$E14&\"'!C\"&BB$1),\n\"\")),\"\")","v":""},{"$f":"IFERROR(IF(AND(BB$9<>\"\",$H$3=\"計画\"),INDIRECT(\"'\"&$D14&\"　\"&$E14&\"'!B\"&BC$1),\nIF(AND(BB$9<>\"\",$H$3=\"実績\"),INDIRECT(\"'\"&$D14&\"　\"&$E14&\"'!C\"&BC$1),\n\"\")),\"\")","v":""},{"$f":"IFERROR(IF(IF(AND(BB$9<>\"\",$H$3=\"計画\"),INDIRECT(\"'\"&$D14&\"　\"&$E14&\"'!B\"&BD$1),\nIF(AND(BB$9<>\"\",$H$3=\"実績\"),INDIRECT(\"'\"&$D14&\"　\"&$E14&\"'!C\"&BD$1),\n\"\"))=\"対象外\",\"対象外\",BB14/BC14),\"\")","v":""},{"$f":"IFERROR(IF(AND(BE$9<>\"\",$H$3=\"計画\"),INDIRECT(\"'\"&$D14&\"　\"&$E14&\"'!B\"&BE$1),\nIF(AND(BE$9<>\"\",$H$3=\"実績\"),INDIRECT(\"'\"&$D14&\"　\"&$E14&\"'!C\"&BE$1),\n\"\")),\"\")","v":""},{"$f":"IFERROR(IF(AND(BE$9<>\"\",$H$3=\"計画\"),INDIRECT(\"'\"&$D14&\"　\"&$E14&\"'!B\"&BF$1),\nIF(AND(BE$9<>\"\",$H$3=\"実績\"),INDIRECT(\"'\"&$D14&\"　\"&$E14&\"'!C\"&BF$1),\n\"\")),\"\")","v":""},{"$f":"IFERROR(IF(IF(AND(BE$9<>\"\",$H$3=\"計画\"),INDIRECT(\"'\"&$D14&\"　\"&$E14&\"'!B\"&BG$1),\nIF(AND(BE$9<>\"\",$H$3=\"実績\"),INDIRECT(\"'\"&$D14&\"　\"&$E14&\"'!C\"&BG$1),\n\"\"))=\"対象外\",\"対象外\",BE14/BF14),\"\")","v":""},{"$f":"IFERROR(IF(AND(BH$9<>\"\",$H$3=\"計画\"),INDIRECT(\"'\"&$D14&\"　\"&$E14&\"'!B\"&BH$1),\nIF(AND(BH$9<>\"\",$H$3=\"実績\"),INDIRECT(\"'\"&$D14&\"　\"&$E14&\"'!C\"&BH$1),\n\"\")),\"\")","v":""},{"$f":"IFERROR(IF(AND(BH$9<>\"\",$H$3=\"計画\"),INDIRECT(\"'\"&$D14&\"　\"&$E14&\"'!B\"&BI$1),\nIF(AND(BH$9<>\"\",$H$3=\"実績\"),INDIRECT(\"'\"&$D14&\"　\"&$E14&\"'!C\"&BI$1),\n\"\")),\"\")","v":""},{"$f":"IFERROR(IF(IF(AND(BH$9<>\"\",$H$3=\"計画\"),INDIRECT(\"'\"&$D14&\"　\"&$E14&\"'!B\"&BJ$1),\nIF(AND(BH$9<>\"\",$H$3=\"実績\"),INDIRECT(\"'\"&$D14&\"　\"&$E14&\"'!C\"&BJ$1),\n\"\"))=\"対象外\",\"対象外\",BH14/BI14),\"\")","v":""},{"$f":"IFERROR(IF(AND(BK$9<>\"\",$H$3=\"計画\"),INDIRECT(\"'\"&$D14&\"　\"&$E14&\"'!B\"&BK$1),\nIF(AND(BK$9<>\"\",$H$3=\"実績\"),INDIRECT(\"'\"&$D14&\"　\"&$E14&\"'!C\"&BK$1),\n\"\")),\"\")","v":""},{"$f":"IFERROR(IF(AND(BK$9<>\"\",$H$3=\"計画\"),INDIRECT(\"'\"&$D14&\"　\"&$E14&\"'!B\"&BL$1),\nIF(AND(BK$9<>\"\",$H$3=\"実績\"),INDIRECT(\"'\"&$D14&\"　\"&$E14&\"'!C\"&BL$1),\n\"\")),\"\")","v":""},{"$f":"IFERROR(IF(IF(AND(BK$9<>\"\",$H$3=\"計画\"),INDIRECT(\"'\"&$D14&\"　\"&$E14&\"'!B\"&BM$1),\nIF(AND(BK$9<>\"\",$H$3=\"実績\"),INDIRECT(\"'\"&$D14&\"　\"&$E14&\"'!C\"&BM$1),\n\"\"))=\"対象外\",\"対象外\",BK14/BL14),\"\")","v":""},{"$f":"IFERROR(IF(AND(BN$9<>\"\",$H$3=\"計画\"),INDIRECT(\"'\"&$D14&\"　\"&$E14&\"'!B\"&BN$1),\nIF(AND(BN$9<>\"\",$H$3=\"実績\"),INDIRECT(\"'\"&$D14&\"　\"&$E14&\"'!C\"&BN$1),\n\"\")),\"\")","v":""},{"$f":"IFERROR(IF(AND(BN$9<>\"\",$H$3=\"計画\"),INDIRECT(\"'\"&$D14&\"　\"&$E14&\"'!B\"&BO$1),\nIF(AND(BN$9<>\"\",$H$3=\"実績\"),INDIRECT(\"'\"&$D14&\"　\"&$E14&\"'!C\"&BO$1),\n\"\")),\"\")","v":""},{"$f":"IFERROR(IF(IF(AND(BN$9<>\"\",$H$3=\"計画\"),INDIRECT(\"'\"&$D14&\"　\"&$E14&\"'!B\"&BP$1),\nIF(AND(BN$9<>\"\",$H$3=\"実績\"),INDIRECT(\"'\"&$D14&\"　\"&$E14&\"'!C\"&BP$1),\n\"\"))=\"対象外\",\"対象外\",BN14/BO14),\"\")","v":""},{"$f":"IFERROR(IF(AND(BQ$9<>\"\",$H$3=\"計画\"),INDIRECT(\"'\"&$D14&\"　\"&$E14&\"'!B\"&BQ$1),\nIF(AND(BQ$9<>\"\",$H$3=\"実績\"),INDIRECT(\"'\"&$D14&\"　\"&$E14&\"'!C\"&BQ$1),\n\"\")),\"\")","v":""},{"$f":"IFERROR(IF(AND(BQ$9<>\"\",$H$3=\"計画\"),INDIRECT(\"'\"&$D14&\"　\"&$E14&\"'!B\"&BR$1),\nIF(AND(BQ$9<>\"\",$H$3=\"実績\"),INDIRECT(\"'\"&$D14&\"　\"&$E14&\"'!C\"&BR$1),\n\"\")),\"\")","v":""},{"$f":"IFERROR(IF(IF(AND(BQ$9<>\"\",$H$3=\"計画\"),INDIRECT(\"'\"&$D14&\"　\"&$E14&\"'!B\"&BS$1),\nIF(AND(BQ$9<>\"\",$H$3=\"実績\"),INDIRECT(\"'\"&$D14&\"　\"&$E14&\"'!C\"&BS$1),\n\"\"))=\"対象外\",\"対象外\",BQ14/BR14),\"\")","v":""},{"$f":"IFERROR(IF(AND(BT$9<>\"\",$H$3=\"計画\"),INDIRECT(\"'\"&$D14&\"　\"&$E14&\"'!B\"&BT$1),\nIF(AND(BT$9<>\"\",$H$3=\"実績\"),INDIRECT(\"'\"&$D14&\"　\"&$E14&\"'!C\"&BT$1),\n\"\")),\"\")","v":""},{"$f":"IFERROR(IF(AND(BT$9<>\"\",$H$3=\"計画\"),INDIRECT(\"'\"&$D14&\"　\"&$E14&\"'!B\"&BU$1),\nIF(AND(BT$9<>\"\",$H$3=\"実績\"),INDIRECT(\"'\"&$D14&\"　\"&$E14&\"'!C\"&BU$1),\n\"\")),\"\")","v":""},{"$f":"IFERROR(IF(IF(AND(BT$9<>\"\",$H$3=\"計画\"),INDIRECT(\"'\"&$D14&\"　\"&$E14&\"'!B\"&BV$1),\nIF(AND(BT$9<>\"\",$H$3=\"実績\"),INDIRECT(\"'\"&$D14&\"　\"&$E14&\"'!C\"&BV$1),\n\"\"))=\"対象外\",\"対象外\",BT14/BU14),\"\")","v":""},{"$f":"IFERROR(IF(AND(BW$9<>\"\",$H$3=\"計画\"),INDIRECT(\"'\"&$D14&\"　\"&$E14&\"'!B\"&BW$1),\nIF(AND(BW$9<>\"\",$H$3=\"実績\"),INDIRECT(\"'\"&$D14&\"　\"&$E14&\"'!C\"&BW$1),\n\"\")),\"\")","v":""},{"$f":"IFERROR(IF(AND(BW$9<>\"\",$H$3=\"計画\"),INDIRECT(\"'\"&$D14&\"　\"&$E14&\"'!B\"&BX$1),\nIF(AND(BW$9<>\"\",$H$3=\"実績\"),INDIRECT(\"'\"&$D14&\"　\"&$E14&\"'!C\"&BX$1),\n\"\")),\"\")","v":""},{"$f":"IFERROR(IF(IF(AND(BW$9<>\"\",$H$3=\"計画\"),INDIRECT(\"'\"&$D14&\"　\"&$E14&\"'!B\"&BY$1),\nIF(AND(BW$9<>\"\",$H$3=\"実績\"),INDIRECT(\"'\"&$D14&\"　\"&$E14&\"'!C\"&BY$1),\n\"\"))=\"対象外\",\"対象外\",BW14/BX14),\"\")","v":""},{"$f":"IFERROR(IF(AND(BZ$9<>\"\",$H$3=\"計画\"),INDIRECT(\"'\"&$D14&\"　\"&$E14&\"'!B\"&BZ$1),\nIF(AND(BZ$9<>\"\",$H$3=\"実績\"),INDIRECT(\"'\"&$D14&\"　\"&$E14&\"'!C\"&BZ$1),\n\"\")),\"\")","v":""},{"$f":"IFERROR(IF(AND(BZ$9<>\"\",$H$3=\"計画\"),INDIRECT(\"'\"&$D14&\"　\"&$E14&\"'!B\"&CA$1),\nIF(AND(BZ$9<>\"\",$H$3=\"実績\"),INDIRECT(\"'\"&$D14&\"　\"&$E14&\"'!C\"&CA$1),\n\"\")),\"\")","v":""},{"$f":"IFERROR(IF(IF(AND(BZ$9<>\"\",$H$3=\"計画\"),INDIRECT(\"'\"&$D14&\"　\"&$E14&\"'!B\"&CB$1),\nIF(AND(BZ$9<>\"\",$H$3=\"実績\"),INDIRECT(\"'\"&$D14&\"　\"&$E14&\"'!C\"&CB$1),\n\"\"))=\"対象外\",\"対象外\",BZ14/CA14),\"\")","v":""},{"$f":"IFERROR(IF(AND(CC$9<>\"\",$H$3=\"計画\"),INDIRECT(\"'\"&$D14&\"　\"&$E14&\"'!B\"&CC$1),\nIF(AND(CC$9<>\"\",$H$3=\"実績\"),INDIRECT(\"'\"&$D14&\"　\"&$E14&\"'!C\"&CC$1),\n\"\")),\"\")","v":""},{"$f":"IFERROR(IF(AND(CC$9<>\"\",$H$3=\"計画\"),INDIRECT(\"'\"&$D14&\"　\"&$E14&\"'!B\"&CD$1),\nIF(AND(CC$9<>\"\",$H$3=\"実績\"),INDIRECT(\"'\"&$D14&\"　\"&$E14&\"'!C\"&CD$1),\n\"\")),\"\")","v":""},{"$f":"IFERROR(IF(IF(AND(CC$9<>\"\",$H$3=\"計画\"),INDIRECT(\"'\"&$D14&\"　\"&$E14&\"'!B\"&CE$1),\nIF(AND(CC$9<>\"\",$H$3=\"実績\"),INDIRECT(\"'\"&$D14&\"　\"&$E14&\"'!C\"&CE$1),\n\"\"))=\"対象外\",\"対象外\",CC14/CD14),\"\")","v":""},{"$f":"IFERROR(IF(AND(CF$9<>\"\",$H$3=\"計画\"),INDIRECT(\"'\"&$D14&\"　\"&$E14&\"'!B\"&CF$1),\nIF(AND(CF$9<>\"\",$H$3=\"実績\"),INDIRECT(\"'\"&$D14&\"　\"&$E14&\"'!C\"&CF$1),\n\"\")),\"\")","v":""},{"$f":"IFERROR(IF(AND(CF$9<>\"\",$H$3=\"計画\"),INDIRECT(\"'\"&$D14&\"　\"&$E14&\"'!B\"&CG$1),\nIF(AND(CF$9<>\"\",$H$3=\"実績\"),INDIRECT(\"'\"&$D14&\"　\"&$E14&\"'!C\"&CG$1),\n\"\")),\"\")","v":""},{"$f":"IFERROR(IF(IF(AND(CF$9<>\"\",$H$3=\"計画\"),INDIRECT(\"'\"&$D14&\"　\"&$E14&\"'!B\"&CH$1),\nIF(AND(CF$9<>\"\",$H$3=\"実績\"),INDIRECT(\"'\"&$D14&\"　\"&$E14&\"'!C\"&CH$1),\n\"\"))=\"対象外\",\"対象外\",CF14/CG14),\"\")","v":""},{"$f":"IFERROR(IF(AND(CI$9<>\"\",$H$3=\"計画\"),INDIRECT(\"'\"&$D14&\"　\"&$E14&\"'!B\"&CI$1),\nIF(AND(CI$9<>\"\",$H$3=\"実績\"),INDIRECT(\"'\"&$D14&\"　\"&$E14&\"'!C\"&CI$1),\n\"\")),\"\")","v":""},{"$f":"IFERROR(IF(AND(CI$9<>\"\",$H$3=\"計画\"),INDIRECT(\"'\"&$D14&\"　\"&$E14&\"'!B\"&CJ$1),\nIF(AND(CI$9<>\"\",$H$3=\"実績\"),INDIRECT(\"'\"&$D14&\"　\"&$E14&\"'!C\"&CJ$1),\n\"\")),\"\")","v":""},{"$f":"IFERROR(IF(IF(AND(CI$9<>\"\",$H$3=\"計画\"),INDIRECT(\"'\"&$D14&\"　\"&$E14&\"'!B\"&CK$1),\nIF(AND(CI$9<>\"\",$H$3=\"実績\"),INDIRECT(\"'\"&$D14&\"　\"&$E14&\"'!C\"&CK$1),\n\"\"))=\"対象外\",\"対象外\",CI14/CJ14),\"\")","v":""},{"$f":"IFERROR(IF(AND(CL$9<>\"\",$H$3=\"計画\"),INDIRECT(\"'\"&$D14&\"　\"&$E14&\"'!B\"&CL$1),\nIF(AND(CL$9<>\"\",$H$3=\"実績\"),INDIRECT(\"'\"&$D14&\"　\"&$E14&\"'!C\"&CL$1),\n\"\")),\"\")","v":""},{"$f":"IFERROR(IF(AND(CL$9<>\"\",$H$3=\"計画\"),INDIRECT(\"'\"&$D14&\"　\"&$E14&\"'!B\"&CM$1),\nIF(AND(CL$9<>\"\",$H$3=\"実績\"),INDIRECT(\"'\"&$D14&\"　\"&$E14&\"'!C\"&CM$1),\n\"\")),\"\")","v":""},{"$f":"IFERROR(IF(IF(AND(CL$9<>\"\",$H$3=\"計画\"),INDIRECT(\"'\"&$D14&\"　\"&$E14&\"'!B\"&CN$1),\nIF(AND(CL$9<>\"\",$H$3=\"実績\"),INDIRECT(\"'\"&$D14&\"　\"&$E14&\"'!C\"&CN$1),\n\"\"))=\"対象外\",\"対象外\",CL14/CM14),\"\")","v":""},{"$f":"IFERROR(IF(AND(CO$9<>\"\",$H$3=\"計画\"),INDIRECT(\"'\"&$D14&\"　\"&$E14&\"'!B\"&CO$1),\nIF(AND(CO$9<>\"\",$H$3=\"実績\"),INDIRECT(\"'\"&$D14&\"　\"&$E14&\"'!C\"&CO$1),\n\"\")),\"\")","v":""},{"$f":"IFERROR(IF(AND(CO$9<>\"\",$H$3=\"計画\"),INDIRECT(\"'\"&$D14&\"　\"&$E14&\"'!B\"&CP$1),\nIF(AND(CO$9<>\"\",$H$3=\"実績\"),INDIRECT(\"'\"&$D14&\"　\"&$E14&\"'!C\"&CP$1),\n\"\")),\"\")","v":""},{"$f":"IFERROR(IF(IF(AND(CO$9<>\"\",$H$3=\"計画\"),INDIRECT(\"'\"&$D14&\"　\"&$E14&\"'!B\"&CQ$1),\nIF(AND(CO$9<>\"\",$H$3=\"実績\"),INDIRECT(\"'\"&$D14&\"　\"&$E14&\"'!C\"&CQ$1),\n\"\"))=\"対象外\",\"対象外\",CO14/CP14),\"\")","v":""},{"$f":"IFERROR(IF(AND(CR$9<>\"\",$H$3=\"計画\"),INDIRECT(\"'\"&$D14&\"　\"&$E14&\"'!B\"&CR$1),\nIF(AND(CR$9<>\"\",$H$3=\"実績\"),INDIRECT(\"'\"&$D14&\"　\"&$E14&\"'!C\"&CR$1),\n\"\")),\"\")","v":""},{"$f":"IFERROR(IF(AND(CR$9<>\"\",$H$3=\"計画\"),INDIRECT(\"'\"&$D14&\"　\"&$E14&\"'!B\"&CS$1),\nIF(AND(CR$9<>\"\",$H$3=\"実績\"),INDIRECT(\"'\"&$D14&\"　\"&$E14&\"'!C\"&CS$1),\n\"\")),\"\")","v":""},{"$f":"IFERROR(IF(IF(AND(CR$9<>\"\",$H$3=\"計画\"),INDIRECT(\"'\"&$D14&\"　\"&$E14&\"'!B\"&CT$1),\nIF(AND(CR$9<>\"\",$H$3=\"実績\"),INDIRECT(\"'\"&$D14&\"　\"&$E14&\"'!C\"&CT$1),\n\"\"))=\"対象外\",\"対象外\",CR14/CS14),\"\")","v":""},{"$f":"IFERROR(IF(AND(CU$9<>\"\",$H$3=\"計画\"),INDIRECT(\"'\"&$D14&\"　\"&$E14&\"'!B\"&CU$1),\nIF(AND(CU$9<>\"\",$H$3=\"実績\"),INDIRECT(\"'\"&$D14&\"　\"&$E14&\"'!C\"&CU$1),\n\"\")),\"\")","v":""},{"$f":"IFERROR(IF(AND(CU$9<>\"\",$H$3=\"計画\"),INDIRECT(\"'\"&$D14&\"　\"&$E14&\"'!B\"&CV$1),\nIF(AND(CU$9<>\"\",$H$3=\"実績\"),INDIRECT(\"'\"&$D14&\"　\"&$E14&\"'!C\"&CV$1),\n\"\")),\"\")","v":""},{"$f":"IFERROR(IF(IF(AND(CU$9<>\"\",$H$3=\"計画\"),INDIRECT(\"'\"&$D14&\"　\"&$E14&\"'!B\"&CW$1),\nIF(AND(CU$9<>\"\",$H$3=\"実績\"),INDIRECT(\"'\"&$D14&\"　\"&$E14&\"'!C\"&CW$1),\n\"\"))=\"対象外\",\"対象外\",CU14/CV14),\"\")","v":""},{"$f":"IFERROR(IF(AND(CX$9<>\"\",$H$3=\"計画\"),INDIRECT(\"'\"&$D14&\"　\"&$E14&\"'!B\"&CX$1),\nIF(AND(CX$9<>\"\",$H$3=\"実績\"),INDIRECT(\"'\"&$D14&\"　\"&$E14&\"'!C\"&CX$1),\n\"\")),\"\")","v":""},{"$f":"IFERROR(IF(AND(CX$9<>\"\",$H$3=\"計画\"),INDIRECT(\"'\"&$D14&\"　\"&$E14&\"'!B\"&CY$1),\nIF(AND(CX$9<>\"\",$H$3=\"実績\"),INDIRECT(\"'\"&$D14&\"　\"&$E14&\"'!C\"&CY$1),\n\"\")),\"\")","v":""},{"$f":"IFERROR(IF(IF(AND(CX$9<>\"\",$H$3=\"計画\"),INDIRECT(\"'\"&$D14&\"　\"&$E14&\"'!B\"&CZ$1),\nIF(AND(CX$9<>\"\",$H$3=\"実績\"),INDIRECT(\"'\"&$D14&\"　\"&$E14&\"'!C\"&CZ$1),\n\"\"))=\"対象外\",\"対象外\",CX14/CY14),\"\")","v":""},{"$f":"IFERROR(IF(AND(DA$9<>\"\",$H$3=\"計画\"),INDIRECT(\"'\"&$D14&\"　\"&$E14&\"'!B\"&DA$1),\nIF(AND(DA$9<>\"\",$H$3=\"実績\"),INDIRECT(\"'\"&$D14&\"　\"&$E14&\"'!C\"&DA$1),\n\"\")),\"\")","v":""},{"$f":"IFERROR(IF(AND(DA$9<>\"\",$H$3=\"計画\"),INDIRECT(\"'\"&$D14&\"　\"&$E14&\"'!B\"&DB$1),\nIF(AND(DA$9<>\"\",$H$3=\"実績\"),INDIRECT(\"'\"&$D14&\"　\"&$E14&\"'!C\"&DB$1),\n\"\")),\"\")","v":""},{"$f":"IFERROR(IF(IF(AND(DA$9<>\"\",$H$3=\"計画\"),INDIRECT(\"'\"&$D14&\"　\"&$E14&\"'!B\"&DC$1),\nIF(AND(DA$9<>\"\",$H$3=\"実績\"),INDIRECT(\"'\"&$D14&\"　\"&$E14&\"'!C\"&DC$1),\n\"\"))=\"対象外\",\"対象外\",DA14/DB14),\"\")","v":""},{"$f":"IFERROR(IF(AND(DD$9<>\"\",$H$3=\"計画\"),INDIRECT(\"'\"&$D14&\"　\"&$E14&\"'!B\"&DD$1),\nIF(AND(DD$9<>\"\",$H$3=\"実績\"),INDIRECT(\"'\"&$D14&\"　\"&$E14&\"'!C\"&DD$1),\n\"\")),\"\")","v":""},{"$f":"IFERROR(IF(AND(DD$9<>\"\",$H$3=\"計画\"),INDIRECT(\"'\"&$D14&\"　\"&$E14&\"'!B\"&DE$1),\nIF(AND(DD$9<>\"\",$H$3=\"実績\"),INDIRECT(\"'\"&$D14&\"　\"&$E14&\"'!C\"&DE$1),\n\"\")),\"\")","v":""},{"$f":"IFERROR(IF(IF(AND(DD$9<>\"\",$H$3=\"計画\"),INDIRECT(\"'\"&$D14&\"　\"&$E14&\"'!B\"&DF$1),\nIF(AND(DD$9<>\"\",$H$3=\"実績\"),INDIRECT(\"'\"&$D14&\"　\"&$E14&\"'!C\"&DF$1),\n\"\"))=\"対象外\",\"対象外\",DD14/DE14),\"\")","v":""},{"$f":"IFERROR(IF(AND(DG$9<>\"\",$H$3=\"計画\"),INDIRECT(\"'\"&$D14&\"　\"&$E14&\"'!B\"&DG$1),\nIF(AND(DG$9<>\"\",$H$3=\"実績\"),INDIRECT(\"'\"&$D14&\"　\"&$E14&\"'!C\"&DG$1),\n\"\")),\"\")","v":""},{"$f":"IFERROR(IF(AND(DG$9<>\"\",$H$3=\"計画\"),INDIRECT(\"'\"&$D14&\"　\"&$E14&\"'!B\"&DH$1),\nIF(AND(DG$9<>\"\",$H$3=\"実績\"),INDIRECT(\"'\"&$D14&\"　\"&$E14&\"'!C\"&DH$1),\n\"\")),\"\")","v":""},{"$f":"IFERROR(IF(IF(AND(DG$9<>\"\",$H$3=\"計画\"),INDIRECT(\"'\"&$D14&\"　\"&$E14&\"'!B\"&DI$1),\nIF(AND(DG$9<>\"\",$H$3=\"実績\"),INDIRECT(\"'\"&$D14&\"　\"&$E14&\"'!C\"&DI$1),\n\"\"))=\"対象外\",\"対象外\",DG14/DH14),\"\")","v":""},{"$f":"IFERROR(IF(AND(DJ$9<>\"\",$H$3=\"計画\"),INDIRECT(\"'\"&$D14&\"　\"&$E14&\"'!B\"&DJ$1),\nIF(AND(DJ$9<>\"\",$H$3=\"実績\"),INDIRECT(\"'\"&$D14&\"　\"&$E14&\"'!C\"&DJ$1),\n\"\")),\"\")","v":""},{"$f":"IFERROR(IF(AND(DJ$9<>\"\",$H$3=\"計画\"),INDIRECT(\"'\"&$D14&\"　\"&$E14&\"'!B\"&DK$1),\nIF(AND(DJ$9<>\"\",$H$3=\"実績\"),INDIRECT(\"'\"&$D14&\"　\"&$E14&\"'!C\"&DK$1),\n\"\")),\"\")","v":""},{"$f":"IFERROR(IF(IF(AND(DJ$9<>\"\",$H$3=\"計画\"),INDIRECT(\"'\"&$D14&\"　\"&$E14&\"'!B\"&DL$1),\nIF(AND(DJ$9<>\"\",$H$3=\"実績\"),INDIRECT(\"'\"&$D14&\"　\"&$E14&\"'!C\"&DL$1),\n\"\"))=\"対象外\",\"対象外\",DJ14/DK14),\"\")","v":""}]
[null,null,null,null,null,"","",{"$f":"IFERROR(IF(IF(H$3=\"計画\",INDIRECT(\"'\"&$D15&\"　\"&$E15&\"'!B\"&H$1),\nIF(H$3=\"実績\",INDIRECT(\"'\"&$D15&\"　\"&$E15&\"'!C\"&H$1),\n\"\"))>=28,F15/G15,\"対象外\"),\"\")","v":""},{"$f":"IFERROR(IF(AND(I$9<>\"\",$H$3=\"計画\"),INDIRECT(\"'\"&$D15&\"　\"&$E15&\"'!B\"&I$1),\nIF(AND(I$9<>\"\",$H$3=\"実績\"),INDIRECT(\"'\"&$D15&\"　\"&$E15&\"'!C\"&I$1),\n\"\")),\"\")","v":""},{"$f":"IFERROR(IF(AND(I$9<>\"\",$H$3=\"計画\"),INDIRECT(\"'\"&$D15&\"　\"&$E15&\"'!B\"&J$1),\nIF(AND(I$9<>\"\",$H$3=\"実績\"),INDIRECT(\"'\"&$D15&\"　\"&$E15&\"'!C\"&J$1),\n\"\")),\"\")","v":""},{"$f":"IFERROR(IF(IF(AND(I$9<>\"\",$H$3=\"計画\"),INDIRECT(\"'\"&$D15&\"　\"&$E15&\"'!B\"&K$1),\nIF(AND(I$9<>\"\",$H$3=\"実績\"),INDIRECT(\"'\"&$D15&\"　\"&$E15&\"'!C\"&K$1),\n\"\"))=\"対象外\",\"対象外\",I15/J15),\"\")","v":""},{"$f":"IFERROR(IF(AND(L$9<>\"\",$H$3=\"計画\"),INDIRECT(\"'\"&$D15&\"　\"&$E15&\"'!B\"&L$1),\nIF(AND(L$9<>\"\",$H$3=\"実績\"),INDIRECT(\"'\"&$D15&\"　\"&$E15&\"'!C\"&L$1),\n\"\")),\"\")","v":""},{"$f":"IFERROR(IF(AND(L$9<>\"\",$H$3=\"計画\"),INDIRECT(\"'\"&$D15&\"　\"&$E15&\"'!B\"&M$1),\nIF(AND(L$9<>\"\",$H$3=\"実績\"),INDIRECT(\"'\"&$D15&\"　\"&$E15&\"'!C\"&M$1),\n\"\")),\"\")","v":""},{"$f":"IFERROR(IF(IF(AND(L$9<>\"\",$H$3=\"計画\"),INDIRECT(\"'\"&$D15&\"　\"&$E15&\"'!B\"&N$1),\nIF(AND(L$9<>\"\",$H$3=\"実績\"),INDIRECT(\"'\"&$D15&\"　\"&$E15&\"'!C\"&N$1),\n\"\"))=\"対象外\",\"対象外\",L15/M15),\"\")","v":""},{"$f":"IFERROR(IF(AND(O$9<>\"\",$H$3=\"計画\"),INDIRECT(\"'\"&$D15&\"　\"&$E15&\"'!B\"&O$1),\nIF(AND(O$9<>\"\",$H$3=\"実績\"),INDIRECT(\"'\"&$D15&\"　\"&$E15&\"'!C\"&O$1),\n\"\")),\"\")","v":""},{"$f":"IFERROR(IF(AND(O$9<>\"\",$H$3=\"計画\"),INDIRECT(\"'\"&$D15&\"　\"&$E15&\"'!B\"&P$1),\nIF(AND(O$9<>\"\",$H$3=\"実績\"),INDIRECT(\"'\"&$D15&\"　\"&$E15&\"'!C\"&P$1),\n\"\")),\"\")","v":""},{"$f":"IFERROR(IF(IF(AND(O$9<>\"\",$H$3=\"計画\"),INDIRECT(\"'\"&$D15&\"　\"&$E15&\"'!B\"&Q$1),\nIF(AND(O$9<>\"\",$H$3=\"実績\"),INDIRECT(\"'\"&$D15&\"　\"&$E15&\"'!C\"&Q$1),\n\"\"))=\"対象外\",\"対象外\",O15/P15),\"\")","v":""},{"$f":"IFERROR(IF(AND(R$9<>\"\",$H$3=\"計画\"),INDIRECT(\"'\"&$D15&\"　\"&$E15&\"'!B\"&R$1),\nIF(AND(R$9<>\"\",$H$3=\"実績\"),INDIRECT(\"'\"&$D15&\"　\"&$E15&\"'!C\"&R$1),\n\"\")),\"\")","v":""},{"$f":"IFERROR(IF(AND(R$9<>\"\",$H$3=\"計画\"),INDIRECT(\"'\"&$D15&\"　\"&$E15&\"'!B\"&S$1),\nIF(AND(R$9<>\"\",$H$3=\"実績\"),INDIRECT(\"'\"&$D15&\"　\"&$E15&\"'!C\"&S$1),\n\"\")),\"\")","v":""},{"$f":"IFERROR(IF(IF(AND(R$9<>\"\",$H$3=\"計画\"),INDIRECT(\"'\"&$D15&\"　\"&$E15&\"'!B\"&T$1),\nIF(AND(R$9<>\"\",$H$3=\"実績\"),INDIRECT(\"'\"&$D15&\"　\"&$E15&\"'!C\"&T$1),\n\"\"))=\"対象外\",\"対象外\",R15/S15),\"\")","v":""},{"$f":"IFERROR(IF(AND(U$9<>\"\",$H$3=\"計画\"),INDIRECT(\"'\"&$D15&\"　\"&$E15&\"'!B\"&U$1),\nIF(AND(U$9<>\"\",$H$3=\"実績\"),INDIRECT(\"'\"&$D15&\"　\"&$E15&\"'!C\"&U$1),\n\"\")),\"\")","v":""},{"$f":"IFERROR(IF(AND(U$9<>\"\",$H$3=\"計画\"),INDIRECT(\"'\"&$D15&\"　\"&$E15&\"'!B\"&V$1),\nIF(AND(U$9<>\"\",$H$3=\"実績\"),INDIRECT(\"'\"&$D15&\"　\"&$E15&\"'!C\"&V$1),\n\"\")),\"\")","v":""},{"$f":"IFERROR(IF(IF(AND(U$9<>\"\",$H$3=\"計画\"),INDIRECT(\"'\"&$D15&\"　\"&$E15&\"'!B\"&W$1),\nIF(AND(U$9<>\"\",$H$3=\"実績\"),INDIRECT(\"'\"&$D15&\"　\"&$E15&\"'!C\"&W$1),\n\"\"))=\"対象外\",\"対象外\",U15/V15),\"\")","v":""},{"$f":"IFERROR(IF(AND(X$9<>\"\",$H$3=\"計画\"),INDIRECT(\"'\"&$D15&\"　\"&$E15&\"'!B\"&X$1),\nIF(AND(X$9<>\"\",$H$3=\"実績\"),INDIRECT(\"'\"&$D15&\"　\"&$E15&\"'!C\"&X$1),\n\"\")),\"\")","v":""},{"$f":"IFERROR(IF(AND(X$9<>\"\",$H$3=\"計画\"),INDIRECT(\"'\"&$D15&\"　\"&$E15&\"'!B\"&Y$1),\nIF(AND(X$9<>\"\",$H$3=\"実績\"),INDIRECT(\"'\"&$D15&\"　\"&$E15&\"'!C\"&Y$1),\n\"\")),\"\")","v":""},{"$f":"IFERROR(IF(IF(AND(X$9<>\"\",$H$3=\"計画\"),INDIRECT(\"'\"&$D15&\"　\"&$E15&\"'!B\"&Z$1),\nIF(AND(X$9<>\"\",$H$3=\"実績\"),INDIRECT(\"'\"&$D15&\"　\"&$E15&\"'!C\"&Z$1),\n\"\"))=\"対象外\",\"対象外\",X15/Y15),\"\")","v":""},{"$f":"IFERROR(IF(AND(AA$9<>\"\",$H$3=\"計画\"),INDIRECT(\"'\"&$D15&\"　\"&$E15&\"'!B\"&AA$1),\nIF(AND(AA$9<>\"\",$H$3=\"実績\"),INDIRECT(\"'\"&$D15&\"　\"&$E15&\"'!C\"&AA$1),\n\"\")),\"\")","v":""},{"$f":"IFERROR(IF(AND(AA$9<>\"\",$H$3=\"計画\"),INDIRECT(\"'\"&$D15&\"　\"&$E15&\"'!B\"&AB$1),\nIF(AND(AA$9<>\"\",$H$3=\"実績\"),INDIRECT(\"'\"&$D15&\"　\"&$E15&\"'!C\"&AB$1),\n\"\")),\"\")","v":""},{"$f":"IFERROR(IF(IF(AND(AA$9<>\"\",$H$3=\"計画\"),INDIRECT(\"'\"&$D15&\"　\"&$E15&\"'!B\"&AC$1),\nIF(AND(AA$9<>\"\",$H$3=\"実績\"),INDIRECT(\"'\"&$D15&\"　\"&$E15&\"'!C\"&AC$1),\n\"\"))=\"対象外\",\"対象外\",AA15/AB15),\"\")","v":""},{"$f":"IFERROR(IF(AND(AD$9<>\"\",$H$3=\"計画\"),INDIRECT(\"'\"&$D15&\"　\"&$E15&\"'!B\"&AD$1),\nIF(AND(AD$9<>\"\",$H$3=\"実績\"),INDIRECT(\"'\"&$D15&\"　\"&$E15&\"'!C\"&AD$1),\n\"\")),\"\")","v":""},{"$f":"IFERROR(IF(AND(AD$9<>\"\",$H$3=\"計画\"),INDIRECT(\"'\"&$D15&\"　\"&$E15&\"'!B\"&AE$1),\nIF(AND(AD$9<>\"\",$H$3=\"実績\"),INDIRECT(\"'\"&$D15&\"　\"&$E15&\"'!C\"&AE$1),\n\"\")),\"\")","v":""},{"$f":"IFERROR(IF(IF(AND(AD$9<>\"\",$H$3=\"計画\"),INDIRECT(\"'\"&$D15&\"　\"&$E15&\"'!B\"&AF$1),\nIF(AND(AD$9<>\"\",$H$3=\"実績\"),INDIRECT(\"'\"&$D15&\"　\"&$E15&\"'!C\"&AF$1),\n\"\"))=\"対象外\",\"対象外\",AD15/AE15),\"\")","v":""},{"$f":"IFERROR(IF(AND(AG$9<>\"\",$H$3=\"計画\"),INDIRECT(\"'\"&$D15&\"　\"&$E15&\"'!B\"&AG$1),\nIF(AND(AG$9<>\"\",$H$3=\"実績\"),INDIRECT(\"'\"&$D15&\"　\"&$E15&\"'!C\"&AG$1),\n\"\")),\"\")","v":""},{"$f":"IFERROR(IF(AND(AG$9<>\"\",$H$3=\"計画\"),INDIRECT(\"'\"&$D15&\"　\"&$E15&\"'!B\"&AH$1),\nIF(AND(AG$9<>\"\",$H$3=\"実績\"),INDIRECT(\"'\"&$D15&\"　\"&$E15&\"'!C\"&AH$1),\n\"\")),\"\")","v":""},{"$f":"IFERROR(IF(IF(AND(AG$9<>\"\",$H$3=\"計画\"),INDIRECT(\"'\"&$D15&\"　\"&$E15&\"'!B\"&AI$1),\nIF(AND(AG$9<>\"\",$H$3=\"実績\"),INDIRECT(\"'\"&$D15&\"　\"&$E15&\"'!C\"&AI$1),\n\"\"))=\"対象外\",\"対象外\",AG15/AH15),\"\")","v":""},{"$f":"IFERROR(IF(AND(AJ$9<>\"\",$H$3=\"計画\"),INDIRECT(\"'\"&$D15&\"　\"&$E15&\"'!B\"&AJ$1),\nIF(AND(AJ$9<>\"\",$H$3=\"実績\"),INDIRECT(\"'\"&$D15&\"　\"&$E15&\"'!C\"&AJ$1),\n\"\")),\"\")","v":""},{"$f":"IFERROR(IF(AND(AJ$9<>\"\",$H$3=\"計画\"),INDIRECT(\"'\"&$D15&\"　\"&$E15&\"'!B\"&AK$1),\nIF(AND(AJ$9<>\"\",$H$3=\"実績\"),INDIRECT(\"'\"&$D15&\"　\"&$E15&\"'!C\"&AK$1),\n\"\")),\"\")","v":""},{"$f":"IFERROR(IF(IF(AND(AJ$9<>\"\",$H$3=\"計画\"),INDIRECT(\"'\"&$D15&\"　\"&$E15&\"'!B\"&AL$1),\nIF(AND(AJ$9<>\"\",$H$3=\"実績\"),INDIRECT(\"'\"&$D15&\"　\"&$E15&\"'!C\"&AL$1),\n\"\"))=\"対象外\",\"対象外\",AJ15/AK15),\"\")","v":""},{"$f":"IFERROR(IF(AND(AM$9<>\"\",$H$3=\"計画\"),INDIRECT(\"'\"&$D15&\"　\"&$E15&\"'!B\"&AM$1),\nIF(AND(AM$9<>\"\",$H$3=\"実績\"),INDIRECT(\"'\"&$D15&\"　\"&$E15&\"'!C\"&AM$1),\n\"\")),\"\")","v":""},{"$f":"IFERROR(IF(AND(AM$9<>\"\",$H$3=\"計画\"),INDIRECT(\"'\"&$D15&\"　\"&$E15&\"'!B\"&AN$1),\nIF(AND(AM$9<>\"\",$H$3=\"実績\"),INDIRECT(\"'\"&$D15&\"　\"&$E15&\"'!C\"&AN$1),\n\"\")),\"\")","v":""},{"$f":"IFERROR(IF(IF(AND(AM$9<>\"\",$H$3=\"計画\"),INDIRECT(\"'\"&$D15&\"　\"&$E15&\"'!B\"&AO$1),\nIF(AND(AM$9<>\"\",$H$3=\"実績\"),INDIRECT(\"'\"&$D15&\"　\"&$E15&\"'!C\"&AO$1),\n\"\"))=\"対象外\",\"対象外\",AM15/AN15),\"\")","v":""},{"$f":"IFERROR(IF(AND(AP$9<>\"\",$H$3=\"計画\"),INDIRECT(\"'\"&$D15&\"　\"&$E15&\"'!B\"&AP$1),\nIF(AND(AP$9<>\"\",$H$3=\"実績\"),INDIRECT(\"'\"&$D15&\"　\"&$E15&\"'!C\"&AP$1),\n\"\")),\"\")","v":""},{"$f":"IFERROR(IF(AND(AP$9<>\"\",$H$3=\"計画\"),INDIRECT(\"'\"&$D15&\"　\"&$E15&\"'!B\"&AQ$1),\nIF(AND(AP$9<>\"\",$H$3=\"実績\"),INDIRECT(\"'\"&$D15&\"　\"&$E15&\"'!C\"&AQ$1),\n\"\")),\"\")","v":""},{"$f":"IFERROR(IF(IF(AND(AP$9<>\"\",$H$3=\"計画\"),INDIRECT(\"'\"&$D15&\"　\"&$E15&\"'!B\"&AR$1),\nIF(AND(AP$9<>\"\",$H$3=\"実績\"),INDIRECT(\"'\"&$D15&\"　\"&$E15&\"'!C\"&AR$1),\n\"\"))=\"対象外\",\"対象外\",AP15/AQ15),\"\")","v":""},{"$f":"IFERROR(IF(AND(AS$9<>\"\",$H$3=\"計画\"),INDIRECT(\"'\"&$D15&\"　\"&$E15&\"'!B\"&AS$1),\nIF(AND(AS$9<>\"\",$H$3=\"実績\"),INDIRECT(\"'\"&$D15&\"　\"&$E15&\"'!C\"&AS$1),\n\"\")),\"\")","v":""},{"$f":"IFERROR(IF(AND(AS$9<>\"\",$H$3=\"計画\"),INDIRECT(\"'\"&$D15&\"　\"&$E15&\"'!B\"&AT$1),\nIF(AND(AS$9<>\"\",$H$3=\"実績\"),INDIRECT(\"'\"&$D15&\"　\"&$E15&\"'!C\"&AT$1),\n\"\")),\"\")","v":""},{"$f":"IFERROR(IF(IF(AND(AS$9<>\"\",$H$3=\"計画\"),INDIRECT(\"'\"&$D15&\"　\"&$E15&\"'!B\"&AU$1),\nIF(AND(AS$9<>\"\",$H$3=\"実績\"),INDIRECT(\"'\"&$D15&\"　\"&$E15&\"'!C\"&AU$1),\n\"\"))=\"対象外\",\"対象外\",AS15/AT15),\"\")","v":""},{"$f":"IFERROR(IF(AND(AV$9<>\"\",$H$3=\"計画\"),INDIRECT(\"'\"&$D15&\"　\"&$E15&\"'!B\"&AV$1),\nIF(AND(AV$9<>\"\",$H$3=\"実績\"),INDIRECT(\"'\"&$D15&\"　\"&$E15&\"'!C\"&AV$1),\n\"\")),\"\")","v":""},{"$f":"IFERROR(IF(AND(AV$9<>\"\",$H$3=\"計画\"),INDIRECT(\"'\"&$D15&\"　\"&$E15&\"'!B\"&AW$1),\nIF(AND(AV$9<>\"\",$H$3=\"実績\"),INDIRECT(\"'\"&$D15&\"　\"&$E15&\"'!C\"&AW$1),\n\"\")),\"\")","v":""},{"$f":"IFERROR(IF(IF(AND(AV$9<>\"\",$H$3=\"計画\"),INDIRECT(\"'\"&$D15&\"　\"&$E15&\"'!B\"&AX$1),\nIF(AND(AV$9<>\"\",$H$3=\"実績\"),INDIRECT(\"'\"&$D15&\"　\"&$E15&\"'!C\"&AX$1),\n\"\"))=\"対象外\",\"対象外\",AV15/AW15),\"\")","v":""},{"$f":"IFERROR(IF(AND(AY$9<>\"\",$H$3=\"計画\"),INDIRECT(\"'\"&$D15&\"　\"&$E15&\"'!B\"&AY$1),\nIF(AND(AY$9<>\"\",$H$3=\"実績\"),INDIRECT(\"'\"&$D15&\"　\"&$E15&\"'!C\"&AY$1),\n\"\")),\"\")","v":""},{"$f":"IFERROR(IF(AND(AY$9<>\"\",$H$3=\"計画\"),INDIRECT(\"'\"&$D15&\"　\"&$E15&\"'!B\"&AZ$1),\nIF(AND(AY$9<>\"\",$H$3=\"実績\"),INDIRECT(\"'\"&$D15&\"　\"&$E15&\"'!C\"&AZ$1),\n\"\")),\"\")","v":""},{"$f":"IFERROR(IF(IF(AND(AY$9<>\"\",$H$3=\"計画\"),INDIRECT(\"'\"&$D15&\"　\"&$E15&\"'!B\"&BA$1),\nIF(AND(AY$9<>\"\",$H$3=\"実績\"),INDIRECT(\"'\"&$D15&\"　\"&$E15&\"'!C\"&BA$1),\n\"\"))=\"対象外\",\"対象外\",AY15/AZ15),\"\")","v":""},{"$f":"IFERROR(IF(AND(BB$9<>\"\",$H$3=\"計画\"),INDIRECT(\"'\"&$D15&\"　\"&$E15&\"'!B\"&BB$1),\nIF(AND(BB$9<>\"\",$H$3=\"実績\"),INDIRECT(\"'\"&$D15&\"　\"&$E15&\"'!C\"&BB$1),\n\"\")),\"\")","v":""},{"$f":"IFERROR(IF(AND(BB$9<>\"\",$H$3=\"計画\"),INDIRECT(\"'\"&$D15&\"　\"&$E15&\"'!B\"&BC$1),\nIF(AND(BB$9<>\"\",$H$3=\"実績\"),INDIRECT(\"'\"&$D15&\"　\"&$E15&\"'!C\"&BC$1),\n\"\")),\"\")","v":""},{"$f":"IFERROR(IF(IF(AND(BB$9<>\"\",$H$3=\"計画\"),INDIRECT(\"'\"&$D15&\"　\"&$E15&\"'!B\"&BD$1),\nIF(AND(BB$9<>\"\",$H$3=\"実績\"),INDIRECT(\"'\"&$D15&\"　\"&$E15&\"'!C\"&BD$1),\n\"\"))=\"対象外\",\"対象外\",BB15/BC15),\"\")","v":""},{"$f":"IFERROR(IF(AND(BE$9<>\"\",$H$3=\"計画\"),INDIRECT(\"'\"&$D15&\"　\"&$E15&\"'!B\"&BE$1),\nIF(AND(BE$9<>\"\",$H$3=\"実績\"),INDIRECT(\"'\"&$D15&\"　\"&$E15&\"'!C\"&BE$1),\n\"\")),\"\")","v":""},{"$f":"IFERROR(IF(AND(BE$9<>\"\",$H$3=\"計画\"),INDIRECT(\"'\"&$D15&\"　\"&$E15&\"'!B\"&BF$1),\nIF(AND(BE$9<>\"\",$H$3=\"実績\"),INDIRECT(\"'\"&$D15&\"　\"&$E15&\"'!C\"&BF$1),\n\"\")),\"\")","v":""},{"$f":"IFERROR(IF(IF(AND(BE$9<>\"\",$H$3=\"計画\"),INDIRECT(\"'\"&$D15&\"　\"&$E15&\"'!B\"&BG$1),\nIF(AND(BE$9<>\"\",$H$3=\"実績\"),INDIRECT(\"'\"&$D15&\"　\"&$E15&\"'!C\"&BG$1),\n\"\"))=\"対象外\",\"対象外\",BE15/BF15),\"\")","v":""},{"$f":"IFERROR(IF(AND(BH$9<>\"\",$H$3=\"計画\"),INDIRECT(\"'\"&$D15&\"　\"&$E15&\"'!B\"&BH$1),\nIF(AND(BH$9<>\"\",$H$3=\"実績\"),INDIRECT(\"'\"&$D15&\"　\"&$E15&\"'!C\"&BH$1),\n\"\")),\"\")","v":""},{"$f":"IFERROR(IF(AND(BH$9<>\"\",$H$3=\"計画\"),INDIRECT(\"'\"&$D15&\"　\"&$E15&\"'!B\"&BI$1),\nIF(AND(BH$9<>\"\",$H$3=\"実績\"),INDIRECT(\"'\"&$D15&\"　\"&$E15&\"'!C\"&BI$1),\n\"\")),\"\")","v":""},{"$f":"IFERROR(IF(IF(AND(BH$9<>\"\",$H$3=\"計画\"),INDIRECT(\"'\"&$D15&\"　\"&$E15&\"'!B\"&BJ$1),\nIF(AND(BH$9<>\"\",$H$3=\"実績\"),INDIRECT(\"'\"&$D15&\"　\"&$E15&\"'!C\"&BJ$1),\n\"\"))=\"対象外\",\"対象外\",BH15/BI15),\"\")","v":""},{"$f":"IFERROR(IF(AND(BK$9<>\"\",$H$3=\"計画\"),INDIRECT(\"'\"&$D15&\"　\"&$E15&\"'!B\"&BK$1),\nIF(AND(BK$9<>\"\",$H$3=\"実績\"),INDIRECT(\"'\"&$D15&\"　\"&$E15&\"'!C\"&BK$1),\n\"\")),\"\")","v":""},{"$f":"IFERROR(IF(AND(BK$9<>\"\",$H$3=\"計画\"),INDIRECT(\"'\"&$D15&\"　\"&$E15&\"'!B\"&BL$1),\nIF(AND(BK$9<>\"\",$H$3=\"実績\"),INDIRECT(\"'\"&$D15&\"　\"&$E15&\"'!C\"&BL$1),\n\"\")),\"\")","v":""},{"$f":"IFERROR(IF(IF(AND(BK$9<>\"\",$H$3=\"計画\"),INDIRECT(\"'\"&$D15&\"　\"&$E15&\"'!B\"&BM$1),\nIF(AND(BK$9<>\"\",$H$3=\"実績\"),INDIRECT(\"'\"&$D15&\"　\"&$E15&\"'!C\"&BM$1),\n\"\"))=\"対象外\",\"対象外\",BK15/BL15),\"\")","v":""},{"$f":"IFERROR(IF(AND(BN$9<>\"\",$H$3=\"計画\"),INDIRECT(\"'\"&$D15&\"　\"&$E15&\"'!B\"&BN$1),\nIF(AND(BN$9<>\"\",$H$3=\"実績\"),INDIRECT(\"'\"&$D15&\"　\"&$E15&\"'!C\"&BN$1),\n\"\")),\"\")","v":""},{"$f":"IFERROR(IF(AND(BN$9<>\"\",$H$3=\"計画\"),INDIRECT(\"'\"&$D15&\"　\"&$E15&\"'!B\"&BO$1),\nIF(AND(BN$9<>\"\",$H$3=\"実績\"),INDIRECT(\"'\"&$D15&\"　\"&$E15&\"'!C\"&BO$1),\n\"\")),\"\")","v":""},{"$f":"IFERROR(IF(IF(AND(BN$9<>\"\",$H$3=\"計画\"),INDIRECT(\"'\"&$D15&\"　\"&$E15&\"'!B\"&BP$1),\nIF(AND(BN$9<>\"\",$H$3=\"実績\"),INDIRECT(\"'\"&$D15&\"　\"&$E15&\"'!C\"&BP$1),\n\"\"))=\"対象外\",\"対象外\",BN15/BO15),\"\")","v":""},{"$f":"IFERROR(IF(AND(BQ$9<>\"\",$H$3=\"計画\"),INDIRECT(\"'\"&$D15&\"　\"&$E15&\"'!B\"&BQ$1),\nIF(AND(BQ$9<>\"\",$H$3=\"実績\"),INDIRECT(\"'\"&$D15&\"　\"&$E15&\"'!C\"&BQ$1),\n\"\")),\"\")","v":""},{"$f":"IFERROR(IF(AND(BQ$9<>\"\",$H$3=\"計画\"),INDIRECT(\"'\"&$D15&\"　\"&$E15&\"'!B\"&BR$1),\nIF(AND(BQ$9<>\"\",$H$3=\"実績\"),INDIRECT(\"'\"&$D15&\"　\"&$E15&\"'!C\"&BR$1),\n\"\")),\"\")","v":""},{"$f":"IFERROR(IF(IF(AND(BQ$9<>\"\",$H$3=\"計画\"),INDIRECT(\"'\"&$D15&\"　\"&$E15&\"'!B\"&BS$1),\nIF(AND(BQ$9<>\"\",$H$3=\"実績\"),INDIRECT(\"'\"&$D15&\"　\"&$E15&\"'!C\"&BS$1),\n\"\"))=\"対象外\",\"対象外\",BQ15/BR15),\"\")","v":""},{"$f":"IFERROR(IF(AND(BT$9<>\"\",$H$3=\"計画\"),INDIRECT(\"'\"&$D15&\"　\"&$E15&\"'!B\"&BT$1),\nIF(AND(BT$9<>\"\",$H$3=\"実績\"),INDIRECT(\"'\"&$D15&\"　\"&$E15&\"'!C\"&BT$1),\n\"\")),\"\")","v":""},{"$f":"IFERROR(IF(AND(BT$9<>\"\",$H$3=\"計画\"),INDIRECT(\"'\"&$D15&\"　\"&$E15&\"'!B\"&BU$1),\nIF(AND(BT$9<>\"\",$H$3=\"実績\"),INDIRECT(\"'\"&$D15&\"　\"&$E15&\"'!C\"&BU$1),\n\"\")),\"\")","v":""},{"$f":"IFERROR(IF(IF(AND(BT$9<>\"\",$H$3=\"計画\"),INDIRECT(\"'\"&$D15&\"　\"&$E15&\"'!B\"&BV$1),\nIF(AND(BT$9<>\"\",$H$3=\"実績\"),INDIRECT(\"'\"&$D15&\"　\"&$E15&\"'!C\"&BV$1),\n\"\"))=\"対象外\",\"対象外\",BT15/BU15),\"\")","v":""},{"$f":"IFERROR(IF(AND(BW$9<>\"\",$H$3=\"計画\"),INDIRECT(\"'\"&$D15&\"　\"&$E15&\"'!B\"&BW$1),\nIF(AND(BW$9<>\"\",$H$3=\"実績\"),INDIRECT(\"'\"&$D15&\"　\"&$E15&\"'!C\"&BW$1),\n\"\")),\"\")","v":""},{"$f":"IFERROR(IF(AND(BW$9<>\"\",$H$3=\"計画\"),INDIRECT(\"'\"&$D15&\"　\"&$E15&\"'!B\"&BX$1),\nIF(AND(BW$9<>\"\",$H$3=\"実績\"),INDIRECT(\"'\"&$D15&\"　\"&$E15&\"'!C\"&BX$1),\n\"\")),\"\")","v":""},{"$f":"IFERROR(IF(IF(AND(BW$9<>\"\",$H$3=\"計画\"),INDIRECT(\"'\"&$D15&\"　\"&$E15&\"'!B\"&BY$1),\nIF(AND(BW$9<>\"\",$H$3=\"実績\"),INDIRECT(\"'\"&$D15&\"　\"&$E15&\"'!C\"&BY$1),\n\"\"))=\"対象外\",\"対象外\",BW15/BX15),\"\")","v":""},{"$f":"IFERROR(IF(AND(BZ$9<>\"\",$H$3=\"計画\"),INDIRECT(\"'\"&$D15&\"　\"&$E15&\"'!B\"&BZ$1),\nIF(AND(BZ$9<>\"\",$H$3=\"実績\"),INDIRECT(\"'\"&$D15&\"　\"&$E15&\"'!C\"&BZ$1),\n\"\")),\"\")","v":""},{"$f":"IFERROR(IF(AND(BZ$9<>\"\",$H$3=\"計画\"),INDIRECT(\"'\"&$D15&\"　\"&$E15&\"'!B\"&CA$1),\nIF(AND(BZ$9<>\"\",$H$3=\"実績\"),INDIRECT(\"'\"&$D15&\"　\"&$E15&\"'!C\"&CA$1),\n\"\")),\"\")","v":""},{"$f":"IFERROR(IF(IF(AND(BZ$9<>\"\",$H$3=\"計画\"),INDIRECT(\"'\"&$D15&\"　\"&$E15&\"'!B\"&CB$1),\nIF(AND(BZ$9<>\"\",$H$3=\"実績\"),INDIRECT(\"'\"&$D15&\"　\"&$E15&\"'!C\"&CB$1),\n\"\"))=\"対象外\",\"対象外\",BZ15/CA15),\"\")","v":""},{"$f":"IFERROR(IF(AND(CC$9<>\"\",$H$3=\"計画\"),INDIRECT(\"'\"&$D15&\"　\"&$E15&\"'!B\"&CC$1),\nIF(AND(CC$9<>\"\",$H$3=\"実績\"),INDIRECT(\"'\"&$D15&\"　\"&$E15&\"'!C\"&CC$1),\n\"\")),\"\")","v":""},{"$f":"IFERROR(IF(AND(CC$9<>\"\",$H$3=\"計画\"),INDIRECT(\"'\"&$D15&\"　\"&$E15&\"'!B\"&CD$1),\nIF(AND(CC$9<>\"\",$H$3=\"実績\"),INDIRECT(\"'\"&$D15&\"　\"&$E15&\"'!C\"&CD$1),\n\"\")),\"\")","v":""},{"$f":"IFERROR(IF(IF(AND(CC$9<>\"\",$H$3=\"計画\"),INDIRECT(\"'\"&$D15&\"　\"&$E15&\"'!B\"&CE$1),\nIF(AND(CC$9<>\"\",$H$3=\"実績\"),INDIRECT(\"'\"&$D15&\"　\"&$E15&\"'!C\"&CE$1),\n\"\"))=\"対象外\",\"対象外\",CC15/CD15),\"\")","v":""},{"$f":"IFERROR(IF(AND(CF$9<>\"\",$H$3=\"計画\"),INDIRECT(\"'\"&$D15&\"　\"&$E15&\"'!B\"&CF$1),\nIF(AND(CF$9<>\"\",$H$3=\"実績\"),INDIRECT(\"'\"&$D15&\"　\"&$E15&\"'!C\"&CF$1),\n\"\")),\"\")","v":""},{"$f":"IFERROR(IF(AND(CF$9<>\"\",$H$3=\"計画\"),INDIRECT(\"'\"&$D15&\"　\"&$E15&\"'!B\"&CG$1),\nIF(AND(CF$9<>\"\",$H$3=\"実績\"),INDIRECT(\"'\"&$D15&\"　\"&$E15&\"'!C\"&CG$1),\n\"\")),\"\")","v":""},{"$f":"IFERROR(IF(IF(AND(CF$9<>\"\",$H$3=\"計画\"),INDIRECT(\"'\"&$D15&\"　\"&$E15&\"'!B\"&CH$1),\nIF(AND(CF$9<>\"\",$H$3=\"実績\"),INDIRECT(\"'\"&$D15&\"　\"&$E15&\"'!C\"&CH$1),\n\"\"))=\"対象外\",\"対象外\",CF15/CG15),\"\")","v":""},{"$f":"IFERROR(IF(AND(CI$9<>\"\",$H$3=\"計画\"),INDIRECT(\"'\"&$D15&\"　\"&$E15&\"'!B\"&CI$1),\nIF(AND(CI$9<>\"\",$H$3=\"実績\"),INDIRECT(\"'\"&$D15&\"　\"&$E15&\"'!C\"&CI$1),\n\"\")),\"\")","v":""},{"$f":"IFERROR(IF(AND(CI$9<>\"\",$H$3=\"計画\"),INDIRECT(\"'\"&$D15&\"　\"&$E15&\"'!B\"&CJ$1),\nIF(AND(CI$9<>\"\",$H$3=\"実績\"),INDIRECT(\"'\"&$D15&\"　\"&$E15&\"'!C\"&CJ$1),\n\"\")),\"\")","v":""},{"$f":"IFERROR(IF(IF(AND(CI$9<>\"\",$H$3=\"計画\"),INDIRECT(\"'\"&$D15&\"　\"&$E15&\"'!B\"&CK$1),\nIF(AND(CI$9<>\"\",$H$3=\"実績\"),INDIRECT(\"'\"&$D15&\"　\"&$E15&\"'!C\"&CK$1),\n\"\"))=\"対象外\",\"対象外\",CI15/CJ15),\"\")","v":""},{"$f":"IFERROR(IF(AND(CL$9<>\"\",$H$3=\"計画\"),INDIRECT(\"'\"&$D15&\"　\"&$E15&\"'!B\"&CL$1),\nIF(AND(CL$9<>\"\",$H$3=\"実績\"),INDIRECT(\"'\"&$D15&\"　\"&$E15&\"'!C\"&CL$1),\n\"\")),\"\")","v":""},{"$f":"IFERROR(IF(AND(CL$9<>\"\",$H$3=\"計画\"),INDIRECT(\"'\"&$D15&\"　\"&$E15&\"'!B\"&CM$1),\nIF(AND(CL$9<>\"\",$H$3=\"実績\"),INDIRECT(\"'\"&$D15&\"　\"&$E15&\"'!C\"&CM$1),\n\"\")),\"\")","v":""},{"$f":"IFERROR(IF(IF(AND(CL$9<>\"\",$H$3=\"計画\"),INDIRECT(\"'\"&$D15&\"　\"&$E15&\"'!B\"&CN$1),\nIF(AND(CL$9<>\"\",$H$3=\"実績\"),INDIRECT(\"'\"&$D15&\"　\"&$E15&\"'!C\"&CN$1),\n\"\"))=\"対象外\",\"対象外\",CL15/CM15),\"\")","v":""},{"$f":"IFERROR(IF(AND(CO$9<>\"\",$H$3=\"計画\"),INDIRECT(\"'\"&$D15&\"　\"&$E15&\"'!B\"&CO$1),\nIF(AND(CO$9<>\"\",$H$3=\"実績\"),INDIRECT(\"'\"&$D15&\"　\"&$E15&\"'!C\"&CO$1),\n\"\")),\"\")","v":""},{"$f":"IFERROR(IF(AND(CO$9<>\"\",$H$3=\"計画\"),INDIRECT(\"'\"&$D15&\"　\"&$E15&\"'!B\"&CP$1),\nIF(AND(CO$9<>\"\",$H$3=\"実績\"),INDIRECT(\"'\"&$D15&\"　\"&$E15&\"'!C\"&CP$1),\n\"\")),\"\")","v":""},{"$f":"IFERROR(IF(IF(AND(CO$9<>\"\",$H$3=\"計画\"),INDIRECT(\"'\"&$D15&\"　\"&$E15&\"'!B\"&CQ$1),\nIF(AND(CO$9<>\"\",$H$3=\"実績\"),INDIRECT(\"'\"&$D15&\"　\"&$E15&\"'!C\"&CQ$1),\n\"\"))=\"対象外\",\"対象外\",CO15/CP15),\"\")","v":""},{"$f":"IFERROR(IF(AND(CR$9<>\"\",$H$3=\"計画\"),INDIRECT(\"'\"&$D15&\"　\"&$E15&\"'!B\"&CR$1),\nIF(AND(CR$9<>\"\",$H$3=\"実績\"),INDIRECT(\"'\"&$D15&\"　\"&$E15&\"'!C\"&CR$1),\n\"\")),\"\")","v":""},{"$f":"IFERROR(IF(AND(CR$9<>\"\",$H$3=\"計画\"),INDIRECT(\"'\"&$D15&\"　\"&$E15&\"'!B\"&CS$1),\nIF(AND(CR$9<>\"\",$H$3=\"実績\"),INDIRECT(\"'\"&$D15&\"　\"&$E15&\"'!C\"&CS$1),\n\"\")),\"\")","v":""},{"$f":"IFERROR(IF(IF(AND(CR$9<>\"\",$H$3=\"計画\"),INDIRECT(\"'\"&$D15&\"　\"&$E15&\"'!B\"&CT$1),\nIF(AND(CR$9<>\"\",$H$3=\"実績\"),INDIRECT(\"'\"&$D15&\"　\"&$E15&\"'!C\"&CT$1),\n\"\"))=\"対象外\",\"対象外\",CR15/CS15),\"\")","v":""},{"$f":"IFERROR(IF(AND(CU$9<>\"\",$H$3=\"計画\"),INDIRECT(\"'\"&$D15&\"　\"&$E15&\"'!B\"&CU$1),\nIF(AND(CU$9<>\"\",$H$3=\"実績\"),INDIRECT(\"'\"&$D15&\"　\"&$E15&\"'!C\"&CU$1),\n\"\")),\"\")","v":""},{"$f":"IFERROR(IF(AND(CU$9<>\"\",$H$3=\"計画\"),INDIRECT(\"'\"&$D15&\"　\"&$E15&\"'!B\"&CV$1),\nIF(AND(CU$9<>\"\",$H$3=\"実績\"),INDIRECT(\"'\"&$D15&\"　\"&$E15&\"'!C\"&CV$1),\n\"\")),\"\")","v":""},{"$f":"IFERROR(IF(IF(AND(CU$9<>\"\",$H$3=\"計画\"),INDIRECT(\"'\"&$D15&\"　\"&$E15&\"'!B\"&CW$1),\nIF(AND(CU$9<>\"\",$H$3=\"実績\"),INDIRECT(\"'\"&$D15&\"　\"&$E15&\"'!C\"&CW$1),\n\"\"))=\"対象外\",\"対象外\",CU15/CV15),\"\")","v":""},{"$f":"IFERROR(IF(AND(CX$9<>\"\",$H$3=\"計画\"),INDIRECT(\"'\"&$D15&\"　\"&$E15&\"'!B\"&CX$1),\nIF(AND(CX$9<>\"\",$H$3=\"実績\"),INDIRECT(\"'\"&$D15&\"　\"&$E15&\"'!C\"&CX$1),\n\"\")),\"\")","v":""},{"$f":"IFERROR(IF(AND(CX$9<>\"\",$H$3=\"計画\"),INDIRECT(\"'\"&$D15&\"　\"&$E15&\"'!B\"&CY$1),\nIF(AND(CX$9<>\"\",$H$3=\"実績\"),INDIRECT(\"'\"&$D15&\"　\"&$E15&\"'!C\"&CY$1),\n\"\")),\"\")","v":""},{"$f":"IFERROR(IF(IF(AND(CX$9<>\"\",$H$3=\"計画\"),INDIRECT(\"'\"&$D15&\"　\"&$E15&\"'!B\"&CZ$1),\nIF(AND(CX$9<>\"\",$H$3=\"実績\"),INDIRECT(\"'\"&$D15&\"　\"&$E15&\"'!C\"&CZ$1),\n\"\"))=\"対象外\",\"対象外\",CX15/CY15),\"\")","v":""},{"$f":"IFERROR(IF(AND(DA$9<>\"\",$H$3=\"計画\"),INDIRECT(\"'\"&$D15&\"　\"&$E15&\"'!B\"&DA$1),\nIF(AND(DA$9<>\"\",$H$3=\"実績\"),INDIRECT(\"'\"&$D15&\"　\"&$E15&\"'!C\"&DA$1),\n\"\")),\"\")","v":""},{"$f":"IFERROR(IF(AND(DA$9<>\"\",$H$3=\"計画\"),INDIRECT(\"'\"&$D15&\"　\"&$E15&\"'!B\"&DB$1),\nIF(AND(DA$9<>\"\",$H$3=\"実績\"),INDIRECT(\"'\"&$D15&\"　\"&$E15&\"'!C\"&DB$1),\n\"\")),\"\")","v":""},{"$f":"IFERROR(IF(IF(AND(DA$9<>\"\",$H$3=\"計画\"),INDIRECT(\"'\"&$D15&\"　\"&$E15&\"'!B\"&DC$1),\nIF(AND(DA$9<>\"\",$H$3=\"実績\"),INDIRECT(\"'\"&$D15&\"　\"&$E15&\"'!C\"&DC$1),\n\"\"))=\"対象外\",\"対象外\",DA15/DB15),\"\")","v":""},{"$f":"IFERROR(IF(AND(DD$9<>\"\",$H$3=\"計画\"),INDIRECT(\"'\"&$D15&\"　\"&$E15&\"'!B\"&DD$1),\nIF(AND(DD$9<>\"\",$H$3=\"実績\"),INDIRECT(\"'\"&$D15&\"　\"&$E15&\"'!C\"&DD$1),\n\"\")),\"\")","v":""},{"$f":"IFERROR(IF(AND(DD$9<>\"\",$H$3=\"計画\"),INDIRECT(\"'\"&$D15&\"　\"&$E15&\"'!B\"&DE$1),\nIF(AND(DD$9<>\"\",$H$3=\"実績\"),INDIRECT(\"'\"&$D15&\"　\"&$E15&\"'!C\"&DE$1),\n\"\")),\"\")","v":""},{"$f":"IFERROR(IF(IF(AND(DD$9<>\"\",$H$3=\"計画\"),INDIRECT(\"'\"&$D15&\"　\"&$E15&\"'!B\"&DF$1),\nIF(AND(DD$9<>\"\",$H$3=\"実績\"),INDIRECT(\"'\"&$D15&\"　\"&$E15&\"'!C\"&DF$1),\n\"\"))=\"対象外\",\"対象外\",DD15/DE15),\"\")","v":""},{"$f":"IFERROR(IF(AND(DG$9<>\"\",$H$3=\"計画\"),INDIRECT(\"'\"&$D15&\"　\"&$E15&\"'!B\"&DG$1),\nIF(AND(DG$9<>\"\",$H$3=\"実績\"),INDIRECT(\"'\"&$D15&\"　\"&$E15&\"'!C\"&DG$1),\n\"\")),\"\")","v":""},{"$f":"IFERROR(IF(AND(DG$9<>\"\",$H$3=\"計画\"),INDIRECT(\"'\"&$D15&\"　\"&$E15&\"'!B\"&DH$1),\nIF(AND(DG$9<>\"\",$H$3=\"実績\"),INDIRECT(\"'\"&$D15&\"　\"&$E15&\"'!C\"&DH$1),\n\"\")),\"\")","v":""},{"$f":"IFERROR(IF(IF(AND(DG$9<>\"\",$H$3=\"計画\"),INDIRECT(\"'\"&$D15&\"　\"&$E15&\"'!B\"&DI$1),\nIF(AND(DG$9<>\"\",$H$3=\"実績\"),INDIRECT(\"'\"&$D15&\"　\"&$E15&\"'!C\"&DI$1),\n\"\"))=\"対象外\",\"対象外\",DG15/DH15),\"\")","v":""},{"$f":"IFERROR(IF(AND(DJ$9<>\"\",$H$3=\"計画\"),INDIRECT(\"'\"&$D15&\"　\"&$E15&\"'!B\"&DJ$1),\nIF(AND(DJ$9<>\"\",$H$3=\"実績\"),INDIRECT(\"'\"&$D15&\"　\"&$E15&\"'!C\"&DJ$1),\n\"\")),\"\")","v":""},{"$f":"IFERROR(IF(AND(DJ$9<>\"\",$H$3=\"計画\"),INDIRECT(\"'\"&$D15&\"　\"&$E15&\"'!B\"&DK$1),\nIF(AND(DJ$9<>\"\",$H$3=\"実績\"),INDIRECT(\"'\"&$D15&\"　\"&$E15&\"'!C\"&DK$1),\n\"\")),\"\")","v":""},{"$f":"IFERROR(IF(IF(AND(DJ$9<>\"\",$H$3=\"計画\"),INDIRECT(\"'\"&$D15&\"　\"&$E15&\"'!B\"&DL$1),\nIF(AND(DJ$9<>\"\",$H$3=\"実績\"),INDIRECT(\"'\"&$D15&\"　\"&$E15&\"'!C\"&DL$1),\n\"\"))=\"対象外\",\"対象外\",DJ15/DK15),\"\")","v":""}]
[null,null,null,null,null,"","",{"$f":"IFERROR(IF(IF(H$3=\"計画\",INDIRECT(\"'\"&$D16&\"　\"&$E16&\"'!B\"&H$1),\nIF(H$3=\"実績\",INDIRECT(\"'\"&$D16&\"　\"&$E16&\"'!C\"&H$1),\n\"\"))>=28,F16/G16,\"対象外\"),\"\")","v":""},{"$f":"IFERROR(IF(AND(I$9<>\"\",$H$3=\"計画\"),INDIRECT(\"'\"&$D16&\"　\"&$E16&\"'!B\"&I$1),\nIF(AND(I$9<>\"\",$H$3=\"実績\"),INDIRECT(\"'\"&$D16&\"　\"&$E16&\"'!C\"&I$1),\n\"\")),\"\")","v":""},{"$f":"IFERROR(IF(AND(I$9<>\"\",$H$3=\"計画\"),INDIRECT(\"'\"&$D16&\"　\"&$E16&\"'!B\"&J$1),\nIF(AND(I$9<>\"\",$H$3=\"実績\"),INDIRECT(\"'\"&$D16&\"　\"&$E16&\"'!C\"&J$1),\n\"\")),\"\")","v":""},{"$f":"IFERROR(IF(IF(AND(I$9<>\"\",$H$3=\"計画\"),INDIRECT(\"'\"&$D16&\"　\"&$E16&\"'!B\"&K$1),\nIF(AND(I$9<>\"\",$H$3=\"実績\"),INDIRECT(\"'\"&$D16&\"　\"&$E16&\"'!C\"&K$1),\n\"\"))=\"対象外\",\"対象外\",I16/J16),\"\")","v":""},{"$f":"IFERROR(IF(AND(L$9<>\"\",$H$3=\"計画\"),INDIRECT(\"'\"&$D16&\"　\"&$E16&\"'!B\"&L$1),\nIF(AND(L$9<>\"\",$H$3=\"実績\"),INDIRECT(\"'\"&$D16&\"　\"&$E16&\"'!C\"&L$1),\n\"\")),\"\")","v":""},{"$f":"IFERROR(IF(AND(L$9<>\"\",$H$3=\"計画\"),INDIRECT(\"'\"&$D16&\"　\"&$E16&\"'!B\"&M$1),\nIF(AND(L$9<>\"\",$H$3=\"実績\"),INDIRECT(\"'\"&$D16&\"　\"&$E16&\"'!C\"&M$1),\n\"\")),\"\")","v":""},{"$f":"IFERROR(IF(IF(AND(L$9<>\"\",$H$3=\"計画\"),INDIRECT(\"'\"&$D16&\"　\"&$E16&\"'!B\"&N$1),\nIF(AND(L$9<>\"\",$H$3=\"実績\"),INDIRECT(\"'\"&$D16&\"　\"&$E16&\"'!C\"&N$1),\n\"\"))=\"対象外\",\"対象外\",L16/M16),\"\")","v":""},{"$f":"IFERROR(IF(AND(O$9<>\"\",$H$3=\"計画\"),INDIRECT(\"'\"&$D16&\"　\"&$E16&\"'!B\"&O$1),\nIF(AND(O$9<>\"\",$H$3=\"実績\"),INDIRECT(\"'\"&$D16&\"　\"&$E16&\"'!C\"&O$1),\n\"\")),\"\")","v":""},{"$f":"IFERROR(IF(AND(O$9<>\"\",$H$3=\"計画\"),INDIRECT(\"'\"&$D16&\"　\"&$E16&\"'!B\"&P$1),\nIF(AND(O$9<>\"\",$H$3=\"実績\"),INDIRECT(\"'\"&$D16&\"　\"&$E16&\"'!C\"&P$1),\n\"\")),\"\")","v":""},{"$f":"IFERROR(IF(IF(AND(O$9<>\"\",$H$3=\"計画\"),INDIRECT(\"'\"&$D16&\"　\"&$E16&\"'!B\"&Q$1),\nIF(AND(O$9<>\"\",$H$3=\"実績\"),INDIRECT(\"'\"&$D16&\"　\"&$E16&\"'!C\"&Q$1),\n\"\"))=\"対象外\",\"対象外\",O16/P16),\"\")","v":""},{"$f":"IFERROR(IF(AND(R$9<>\"\",$H$3=\"計画\"),INDIRECT(\"'\"&$D16&\"　\"&$E16&\"'!B\"&R$1),\nIF(AND(R$9<>\"\",$H$3=\"実績\"),INDIRECT(\"'\"&$D16&\"　\"&$E16&\"'!C\"&R$1),\n\"\")),\"\")","v":""},{"$f":"IFERROR(IF(AND(R$9<>\"\",$H$3=\"計画\"),INDIRECT(\"'\"&$D16&\"　\"&$E16&\"'!B\"&S$1),\nIF(AND(R$9<>\"\",$H$3=\"実績\"),INDIRECT(\"'\"&$D16&\"　\"&$E16&\"'!C\"&S$1),\n\"\")),\"\")","v":""},{"$f":"IFERROR(IF(IF(AND(R$9<>\"\",$H$3=\"計画\"),INDIRECT(\"'\"&$D16&\"　\"&$E16&\"'!B\"&T$1),\nIF(AND(R$9<>\"\",$H$3=\"実績\"),INDIRECT(\"'\"&$D16&\"　\"&$E16&\"'!C\"&T$1),\n\"\"))=\"対象外\",\"対象外\",R16/S16),\"\")","v":""},{"$f":"IFERROR(IF(AND(U$9<>\"\",$H$3=\"計画\"),INDIRECT(\"'\"&$D16&\"　\"&$E16&\"'!B\"&U$1),\nIF(AND(U$9<>\"\",$H$3=\"実績\"),INDIRECT(\"'\"&$D16&\"　\"&$E16&\"'!C\"&U$1),\n\"\")),\"\")","v":""},{"$f":"IFERROR(IF(AND(U$9<>\"\",$H$3=\"計画\"),INDIRECT(\"'\"&$D16&\"　\"&$E16&\"'!B\"&V$1),\nIF(AND(U$9<>\"\",$H$3=\"実績\"),INDIRECT(\"'\"&$D16&\"　\"&$E16&\"'!C\"&V$1),\n\"\")),\"\")","v":""},{"$f":"IFERROR(IF(IF(AND(U$9<>\"\",$H$3=\"計画\"),INDIRECT(\"'\"&$D16&\"　\"&$E16&\"'!B\"&W$1),\nIF(AND(U$9<>\"\",$H$3=\"実績\"),INDIRECT(\"'\"&$D16&\"　\"&$E16&\"'!C\"&W$1),\n\"\"))=\"対象外\",\"対象外\",U16/V16),\"\")","v":""},{"$f":"IFERROR(IF(AND(X$9<>\"\",$H$3=\"計画\"),INDIRECT(\"'\"&$D16&\"　\"&$E16&\"'!B\"&X$1),\nIF(AND(X$9<>\"\",$H$3=\"実績\"),INDIRECT(\"'\"&$D16&\"　\"&$E16&\"'!C\"&X$1),\n\"\")),\"\")","v":""},{"$f":"IFERROR(IF(AND(X$9<>\"\",$H$3=\"計画\"),INDIRECT(\"'\"&$D16&\"　\"&$E16&\"'!B\"&Y$1),\nIF(AND(X$9<>\"\",$H$3=\"実績\"),INDIRECT(\"'\"&$D16&\"　\"&$E16&\"'!C\"&Y$1),\n\"\")),\"\")","v":""},{"$f":"IFERROR(IF(IF(AND(X$9<>\"\",$H$3=\"計画\"),INDIRECT(\"'\"&$D16&\"　\"&$E16&\"'!B\"&Z$1),\nIF(AND(X$9<>\"\",$H$3=\"実績\"),INDIRECT(\"'\"&$D16&\"　\"&$E16&\"'!C\"&Z$1),\n\"\"))=\"対象外\",\"対象外\",X16/Y16),\"\")","v":""},{"$f":"IFERROR(IF(AND(AA$9<>\"\",$H$3=\"計画\"),INDIRECT(\"'\"&$D16&\"　\"&$E16&\"'!B\"&AA$1),\nIF(AND(AA$9<>\"\",$H$3=\"実績\"),INDIRECT(\"'\"&$D16&\"　\"&$E16&\"'!C\"&AA$1),\n\"\")),\"\")","v":""},{"$f":"IFERROR(IF(AND(AA$9<>\"\",$H$3=\"計画\"),INDIRECT(\"'\"&$D16&\"　\"&$E16&\"'!B\"&AB$1),\nIF(AND(AA$9<>\"\",$H$3=\"実績\"),INDIRECT(\"'\"&$D16&\"　\"&$E16&\"'!C\"&AB$1),\n\"\")),\"\")","v":""},{"$f":"IFERROR(IF(IF(AND(AA$9<>\"\",$H$3=\"計画\"),INDIRECT(\"'\"&$D16&\"　\"&$E16&\"'!B\"&AC$1),\nIF(AND(AA$9<>\"\",$H$3=\"実績\"),INDIRECT(\"'\"&$D16&\"　\"&$E16&\"'!C\"&AC$1),\n\"\"))=\"対象外\",\"対象外\",AA16/AB16),\"\")","v":""},{"$f":"IFERROR(IF(AND(AD$9<>\"\",$H$3=\"計画\"),INDIRECT(\"'\"&$D16&\"　\"&$E16&\"'!B\"&AD$1),\nIF(AND(AD$9<>\"\",$H$3=\"実績\"),INDIRECT(\"'\"&$D16&\"　\"&$E16&\"'!C\"&AD$1),\n\"\")),\"\")","v":""},{"$f":"IFERROR(IF(AND(AD$9<>\"\",$H$3=\"計画\"),INDIRECT(\"'\"&$D16&\"　\"&$E16&\"'!B\"&AE$1),\nIF(AND(AD$9<>\"\",$H$3=\"実績\"),INDIRECT(\"'\"&$D16&\"　\"&$E16&\"'!C\"&AE$1),\n\"\")),\"\")","v":""},{"$f":"IFERROR(IF(IF(AND(AD$9<>\"\",$H$3=\"計画\"),INDIRECT(\"'\"&$D16&\"　\"&$E16&\"'!B\"&AF$1),\nIF(AND(AD$9<>\"\",$H$3=\"実績\"),INDIRECT(\"'\"&$D16&\"　\"&$E16&\"'!C\"&AF$1),\n\"\"))=\"対象外\",\"対象外\",AD16/AE16),\"\")","v":""},{"$f":"IFERROR(IF(AND(AG$9<>\"\",$H$3=\"計画\"),INDIRECT(\"'\"&$D16&\"　\"&$E16&\"'!B\"&AG$1),\nIF(AND(AG$9<>\"\",$H$3=\"実績\"),INDIRECT(\"'\"&$D16&\"　\"&$E16&\"'!C\"&AG$1),\n\"\")),\"\")","v":""},{"$f":"IFERROR(IF(AND(AG$9<>\"\",$H$3=\"計画\"),INDIRECT(\"'\"&$D16&\"　\"&$E16&\"'!B\"&AH$1),\nIF(AND(AG$9<>\"\",$H$3=\"実績\"),INDIRECT(\"'\"&$D16&\"　\"&$E16&\"'!C\"&AH$1),\n\"\")),\"\")","v":""},{"$f":"IFERROR(IF(IF(AND(AG$9<>\"\",$H$3=\"計画\"),INDIRECT(\"'\"&$D16&\"　\"&$E16&\"'!B\"&AI$1),\nIF(AND(AG$9<>\"\",$H$3=\"実績\"),INDIRECT(\"'\"&$D16&\"　\"&$E16&\"'!C\"&AI$1),\n\"\"))=\"対象外\",\"対象外\",AG16/AH16),\"\")","v":""},{"$f":"IFERROR(IF(AND(AJ$9<>\"\",$H$3=\"計画\"),INDIRECT(\"'\"&$D16&\"　\"&$E16&\"'!B\"&AJ$1),\nIF(AND(AJ$9<>\"\",$H$3=\"実績\"),INDIRECT(\"'\"&$D16&\"　\"&$E16&\"'!C\"&AJ$1),\n\"\")),\"\")","v":""},{"$f":"IFERROR(IF(AND(AJ$9<>\"\",$H$3=\"計画\"),INDIRECT(\"'\"&$D16&\"　\"&$E16&\"'!B\"&AK$1),\nIF(AND(AJ$9<>\"\",$H$3=\"実績\"),INDIRECT(\"'\"&$D16&\"　\"&$E16&\"'!C\"&AK$1),\n\"\")),\"\")","v":""},{"$f":"IFERROR(IF(IF(AND(AJ$9<>\"\",$H$3=\"計画\"),INDIRECT(\"'\"&$D16&\"　\"&$E16&\"'!B\"&AL$1),\nIF(AND(AJ$9<>\"\",$H$3=\"実績\"),INDIRECT(\"'\"&$D16&\"　\"&$E16&\"'!C\"&AL$1),\n\"\"))=\"対象外\",\"対象外\",AJ16/AK16),\"\")","v":""},{"$f":"IFERROR(IF(AND(AM$9<>\"\",$H$3=\"計画\"),INDIRECT(\"'\"&$D16&\"　\"&$E16&\"'!B\"&AM$1),\nIF(AND(AM$9<>\"\",$H$3=\"実績\"),INDIRECT(\"'\"&$D16&\"　\"&$E16&\"'!C\"&AM$1),\n\"\")),\"\")","v":""},{"$f":"IFERROR(IF(AND(AM$9<>\"\",$H$3=\"計画\"),INDIRECT(\"'\"&$D16&\"　\"&$E16&\"'!B\"&AN$1),\nIF(AND(AM$9<>\"\",$H$3=\"実績\"),INDIRECT(\"'\"&$D16&\"　\"&$E16&\"'!C\"&AN$1),\n\"\")),\"\")","v":""},{"$f":"IFERROR(IF(IF(AND(AM$9<>\"\",$H$3=\"計画\"),INDIRECT(\"'\"&$D16&\"　\"&$E16&\"'!B\"&AO$1),\nIF(AND(AM$9<>\"\",$H$3=\"実績\"),INDIRECT(\"'\"&$D16&\"　\"&$E16&\"'!C\"&AO$1),\n\"\"))=\"対象外\",\"対象外\",AM16/AN16),\"\")","v":""},{"$f":"IFERROR(IF(AND(AP$9<>\"\",$H$3=\"計画\"),INDIRECT(\"'\"&$D16&\"　\"&$E16&\"'!B\"&AP$1),\nIF(AND(AP$9<>\"\",$H$3=\"実績\"),INDIRECT(\"'\"&$D16&\"　\"&$E16&\"'!C\"&AP$1),\n\"\")),\"\")","v":""},{"$f":"IFERROR(IF(AND(AP$9<>\"\",$H$3=\"計画\"),INDIRECT(\"'\"&$D16&\"　\"&$E16&\"'!B\"&AQ$1),\nIF(AND(AP$9<>\"\",$H$3=\"実績\"),INDIRECT(\"'\"&$D16&\"　\"&$E16&\"'!C\"&AQ$1),\n\"\")),\"\")","v":""},{"$f":"IFERROR(IF(IF(AND(AP$9<>\"\",$H$3=\"計画\"),INDIRECT(\"'\"&$D16&\"　\"&$E16&\"'!B\"&AR$1),\nIF(AND(AP$9<>\"\",$H$3=\"実績\"),INDIRECT(\"'\"&$D16&\"　\"&$E16&\"'!C\"&AR$1),\n\"\"))=\"対象外\",\"対象外\",AP16/AQ16),\"\")","v":""},{"$f":"IFERROR(IF(AND(AS$9<>\"\",$H$3=\"計画\"),INDIRECT(\"'\"&$D16&\"　\"&$E16&\"'!B\"&AS$1),\nIF(AND(AS$9<>\"\",$H$3=\"実績\"),INDIRECT(\"'\"&$D16&\"　\"&$E16&\"'!C\"&AS$1),\n\"\")),\"\")","v":""},{"$f":"IFERROR(IF(AND(AS$9<>\"\",$H$3=\"計画\"),INDIRECT(\"'\"&$D16&\"　\"&$E16&\"'!B\"&AT$1),\nIF(AND(AS$9<>\"\",$H$3=\"実績\"),INDIRECT(\"'\"&$D16&\"　\"&$E16&\"'!C\"&AT$1),\n\"\")),\"\")","v":""},{"$f":"IFERROR(IF(IF(AND(AS$9<>\"\",$H$3=\"計画\"),INDIRECT(\"'\"&$D16&\"　\"&$E16&\"'!B\"&AU$1),\nIF(AND(AS$9<>\"\",$H$3=\"実績\"),INDIRECT(\"'\"&$D16&\"　\"&$E16&\"'!C\"&AU$1),\n\"\"))=\"対象外\",\"対象外\",AS16/AT16),\"\")","v":""},{"$f":"IFERROR(IF(AND(AV$9<>\"\",$H$3=\"計画\"),INDIRECT(\"'\"&$D16&\"　\"&$E16&\"'!B\"&AV$1),\nIF(AND(AV$9<>\"\",$H$3=\"実績\"),INDIRECT(\"'\"&$D16&\"　\"&$E16&\"'!C\"&AV$1),\n\"\")),\"\")","v":""},{"$f":"IFERROR(IF(AND(AV$9<>\"\",$H$3=\"計画\"),INDIRECT(\"'\"&$D16&\"　\"&$E16&\"'!B\"&AW$1),\nIF(AND(AV$9<>\"\",$H$3=\"実績\"),INDIRECT(\"'\"&$D16&\"　\"&$E16&\"'!C\"&AW$1),\n\"\")),\"\")","v":""},{"$f":"IFERROR(IF(IF(AND(AV$9<>\"\",$H$3=\"計画\"),INDIRECT(\"'\"&$D16&\"　\"&$E16&\"'!B\"&AX$1),\nIF(AND(AV$9<>\"\",$H$3=\"実績\"),INDIRECT(\"'\"&$D16&\"　\"&$E16&\"'!C\"&AX$1),\n\"\"))=\"対象外\",\"対象外\",AV16/AW16),\"\")","v":""},{"$f":"IFERROR(IF(AND(AY$9<>\"\",$H$3=\"計画\"),INDIRECT(\"'\"&$D16&\"　\"&$E16&\"'!B\"&AY$1),\nIF(AND(AY$9<>\"\",$H$3=\"実績\"),INDIRECT(\"'\"&$D16&\"　\"&$E16&\"'!C\"&AY$1),\n\"\")),\"\")","v":""},{"$f":"IFERROR(IF(AND(AY$9<>\"\",$H$3=\"計画\"),INDIRECT(\"'\"&$D16&\"　\"&$E16&\"'!B\"&AZ$1),\nIF(AND(AY$9<>\"\",$H$3=\"実績\"),INDIRECT(\"'\"&$D16&\"　\"&$E16&\"'!C\"&AZ$1),\n\"\")),\"\")","v":""},{"$f":"IFERROR(IF(IF(AND(AY$9<>\"\",$H$3=\"計画\"),INDIRECT(\"'\"&$D16&\"　\"&$E16&\"'!B\"&BA$1),\nIF(AND(AY$9<>\"\",$H$3=\"実績\"),INDIRECT(\"'\"&$D16&\"　\"&$E16&\"'!C\"&BA$1),\n\"\"))=\"対象外\",\"対象外\",AY16/AZ16),\"\")","v":""},{"$f":"IFERROR(IF(AND(BB$9<>\"\",$H$3=\"計画\"),INDIRECT(\"'\"&$D16&\"　\"&$E16&\"'!B\"&BB$1),\nIF(AND(BB$9<>\"\",$H$3=\"実績\"),INDIRECT(\"'\"&$D16&\"　\"&$E16&\"'!C\"&BB$1),\n\"\")),\"\")","v":""},{"$f":"IFERROR(IF(AND(BB$9<>\"\",$H$3=\"計画\"),INDIRECT(\"'\"&$D16&\"　\"&$E16&\"'!B\"&BC$1),\nIF(AND(BB$9<>\"\",$H$3=\"実績\"),INDIRECT(\"'\"&$D16&\"　\"&$E16&\"'!C\"&BC$1),\n\"\")),\"\")","v":""},{"$f":"IFERROR(IF(IF(AND(BB$9<>\"\",$H$3=\"計画\"),INDIRECT(\"'\"&$D16&\"　\"&$E16&\"'!B\"&BD$1),\nIF(AND(BB$9<>\"\",$H$3=\"実績\"),INDIRECT(\"'\"&$D16&\"　\"&$E16&\"'!C\"&BD$1),\n\"\"))=\"対象外\",\"対象外\",BB16/BC16),\"\")","v":""},{"$f":"IFERROR(IF(AND(BE$9<>\"\",$H$3=\"計画\"),INDIRECT(\"'\"&$D16&\"　\"&$E16&\"'!B\"&BE$1),\nIF(AND(BE$9<>\"\",$H$3=\"実績\"),INDIRECT(\"'\"&$D16&\"　\"&$E16&\"'!C\"&BE$1),\n\"\")),\"\")","v":""},{"$f":"IFERROR(IF(AND(BE$9<>\"\",$H$3=\"計画\"),INDIRECT(\"'\"&$D16&\"　\"&$E16&\"'!B\"&BF$1),\nIF(AND(BE$9<>\"\",$H$3=\"実績\"),INDIRECT(\"'\"&$D16&\"　\"&$E16&\"'!C\"&BF$1),\n\"\")),\"\")","v":""},{"$f":"IFERROR(IF(IF(AND(BE$9<>\"\",$H$3=\"計画\"),INDIRECT(\"'\"&$D16&\"　\"&$E16&\"'!B\"&BG$1),\nIF(AND(BE$9<>\"\",$H$3=\"実績\"),INDIRECT(\"'\"&$D16&\"　\"&$E16&\"'!C\"&BG$1),\n\"\"))=\"対象外\",\"対象外\",BE16/BF16),\"\")","v":""},{"$f":"IFERROR(IF(AND(BH$9<>\"\",$H$3=\"計画\"),INDIRECT(\"'\"&$D16&\"　\"&$E16&\"'!B\"&BH$1),\nIF(AND(BH$9<>\"\",$H$3=\"実績\"),INDIRECT(\"'\"&$D16&\"　\"&$E16&\"'!C\"&BH$1),\n\"\")),\"\")","v":""},{"$f":"IFERROR(IF(AND(BH$9<>\"\",$H$3=\"計画\"),INDIRECT(\"'\"&$D16&\"　\"&$E16&\"'!B\"&BI$1),\nIF(AND(BH$9<>\"\",$H$3=\"実績\"),INDIRECT(\"'\"&$D16&\"　\"&$E16&\"'!C\"&BI$1),\n\"\")),\"\")","v":""},{"$f":"IFERROR(IF(IF(AND(BH$9<>\"\",$H$3=\"計画\"),INDIRECT(\"'\"&$D16&\"　\"&$E16&\"'!B\"&BJ$1),\nIF(AND(BH$9<>\"\",$H$3=\"実績\"),INDIRECT(\"'\"&$D16&\"　\"&$E16&\"'!C\"&BJ$1),\n\"\"))=\"対象外\",\"対象外\",BH16/BI16),\"\")","v":""},{"$f":"IFERROR(IF(AND(BK$9<>\"\",$H$3=\"計画\"),INDIRECT(\"'\"&$D16&\"　\"&$E16&\"'!B\"&BK$1),\nIF(AND(BK$9<>\"\",$H$3=\"実績\"),INDIRECT(\"'\"&$D16&\"　\"&$E16&\"'!C\"&BK$1),\n\"\")),\"\")","v":""},{"$f":"IFERROR(IF(AND(BK$9<>\"\",$H$3=\"計画\"),INDIRECT(\"'\"&$D16&\"　\"&$E16&\"'!B\"&BL$1),\nIF(AND(BK$9<>\"\",$H$3=\"実績\"),INDIRECT(\"'\"&$D16&\"　\"&$E16&\"'!C\"&BL$1),\n\"\")),\"\")","v":""},{"$f":"IFERROR(IF(IF(AND(BK$9<>\"\",$H$3=\"計画\"),INDIRECT(\"'\"&$D16&\"　\"&$E16&\"'!B\"&BM$1),\nIF(AND(BK$9<>\"\",$H$3=\"実績\"),INDIRECT(\"'\"&$D16&\"　\"&$E16&\"'!C\"&BM$1),\n\"\"))=\"対象外\",\"対象外\",BK16/BL16),\"\")","v":""},{"$f":"IFERROR(IF(AND(BN$9<>\"\",$H$3=\"計画\"),INDIRECT(\"'\"&$D16&\"　\"&$E16&\"'!B\"&BN$1),\nIF(AND(BN$9<>\"\",$H$3=\"実績\"),INDIRECT(\"'\"&$D16&\"　\"&$E16&\"'!C\"&BN$1),\n\"\")),\"\")","v":""},{"$f":"IFERROR(IF(AND(BN$9<>\"\",$H$3=\"計画\"),INDIRECT(\"'\"&$D16&\"　\"&$E16&\"'!B\"&BO$1),\nIF(AND(BN$9<>\"\",$H$3=\"実績\"),INDIRECT(\"'\"&$D16&\"　\"&$E16&\"'!C\"&BO$1),\n\"\")),\"\")","v":""},{"$f":"IFERROR(IF(IF(AND(BN$9<>\"\",$H$3=\"計画\"),INDIRECT(\"'\"&$D16&\"　\"&$E16&\"'!B\"&BP$1),\nIF(AND(BN$9<>\"\",$H$3=\"実績\"),INDIRECT(\"'\"&$D16&\"　\"&$E16&\"'!C\"&BP$1),\n\"\"))=\"対象外\",\"対象外\",BN16/BO16),\"\")","v":""},{"$f":"IFERROR(IF(AND(BQ$9<>\"\",$H$3=\"計画\"),INDIRECT(\"'\"&$D16&\"　\"&$E16&\"'!B\"&BQ$1),\nIF(AND(BQ$9<>\"\",$H$3=\"実績\"),INDIRECT(\"'\"&$D16&\"　\"&$E16&\"'!C\"&BQ$1),\n\"\")),\"\")","v":""},{"$f":"IFERROR(IF(AND(BQ$9<>\"\",$H$3=\"計画\"),INDIRECT(\"'\"&$D16&\"　\"&$E16&\"'!B\"&BR$1),\nIF(AND(BQ$9<>\"\",$H$3=\"実績\"),INDIRECT(\"'\"&$D16&\"　\"&$E16&\"'!C\"&BR$1),\n\"\")),\"\")","v":""},{"$f":"IFERROR(IF(IF(AND(BQ$9<>\"\",$H$3=\"計画\"),INDIRECT(\"'\"&$D16&\"　\"&$E16&\"'!B\"&BS$1),\nIF(AND(BQ$9<>\"\",$H$3=\"実績\"),INDIRECT(\"'\"&$D16&\"　\"&$E16&\"'!C\"&BS$1),\n\"\"))=\"対象外\",\"対象外\",BQ16/BR16),\"\")","v":""},{"$f":"IFERROR(IF(AND(BT$9<>\"\",$H$3=\"計画\"),INDIRECT(\"'\"&$D16&\"　\"&$E16&\"'!B\"&BT$1),\nIF(AND(BT$9<>\"\",$H$3=\"実績\"),INDIRECT(\"'\"&$D16&\"　\"&$E16&\"'!C\"&BT$1),\n\"\")),\"\")","v":""},{"$f":"IFERROR(IF(AND(BT$9<>\"\",$H$3=\"計画\"),INDIRECT(\"'\"&$D16&\"　\"&$E16&\"'!B\"&BU$1),\nIF(AND(BT$9<>\"\",$H$3=\"実績\"),INDIRECT(\"'\"&$D16&\"　\"&$E16&\"'!C\"&BU$1),\n\"\")),\"\")","v":""},{"$f":"IFERROR(IF(IF(AND(BT$9<>\"\",$H$3=\"計画\"),INDIRECT(\"'\"&$D16&\"　\"&$E16&\"'!B\"&BV$1),\nIF(AND(BT$9<>\"\",$H$3=\"実績\"),INDIRECT(\"'\"&$D16&\"　\"&$E16&\"'!C\"&BV$1),\n\"\"))=\"対象外\",\"対象外\",BT16/BU16),\"\")","v":""},{"$f":"IFERROR(IF(AND(BW$9<>\"\",$H$3=\"計画\"),INDIRECT(\"'\"&$D16&\"　\"&$E16&\"'!B\"&BW$1),\nIF(AND(BW$9<>\"\",$H$3=\"実績\"),INDIRECT(\"'\"&$D16&\"　\"&$E16&\"'!C\"&BW$1),\n\"\")),\"\")","v":""},{"$f":"IFERROR(IF(AND(BW$9<>\"\",$H$3=\"計画\"),INDIRECT(\"'\"&$D16&\"　\"&$E16&\"'!B\"&BX$1),\nIF(AND(BW$9<>\"\",$H$3=\"実績\"),INDIRECT(\"'\"&$D16&\"　\"&$E16&\"'!C\"&BX$1),\n\"\")),\"\")","v":""},{"$f":"IFERROR(IF(IF(AND(BW$9<>\"\",$H$3=\"計画\"),INDIRECT(\"'\"&$D16&\"　\"&$E16&\"'!B\"&BY$1),\nIF(AND(BW$9<>\"\",$H$3=\"実績\"),INDIRECT(\"'\"&$D16&\"　\"&$E16&\"'!C\"&BY$1),\n\"\"))=\"対象外\",\"対象外\",BW16/BX16),\"\")","v":""},{"$f":"IFERROR(IF(AND(BZ$9<>\"\",$H$3=\"計画\"),INDIRECT(\"'\"&$D16&\"　\"&$E16&\"'!B\"&BZ$1),\nIF(AND(BZ$9<>\"\",$H$3=\"実績\"),INDIRECT(\"'\"&$D16&\"　\"&$E16&\"'!C\"&BZ$1),\n\"\")),\"\")","v":""},{"$f":"IFERROR(IF(AND(BZ$9<>\"\",$H$3=\"計画\"),INDIRECT(\"'\"&$D16&\"　\"&$E16&\"'!B\"&CA$1),\nIF(AND(BZ$9<>\"\",$H$3=\"実績\"),INDIRECT(\"'\"&$D16&\"　\"&$E16&\"'!C\"&CA$1),\n\"\")),\"\")","v":""},{"$f":"IFERROR(IF(IF(AND(BZ$9<>\"\",$H$3=\"計画\"),INDIRECT(\"'\"&$D16&\"　\"&$E16&\"'!B\"&CB$1),\nIF(AND(BZ$9<>\"\",$H$3=\"実績\"),INDIRECT(\"'\"&$D16&\"　\"&$E16&\"'!C\"&CB$1),\n\"\"))=\"対象外\",\"対象外\",BZ16/CA16),\"\")","v":""},{"$f":"IFERROR(IF(AND(CC$9<>\"\",$H$3=\"計画\"),INDIRECT(\"'\"&$D16&\"　\"&$E16&\"'!B\"&CC$1),\nIF(AND(CC$9<>\"\",$H$3=\"実績\"),INDIRECT(\"'\"&$D16&\"　\"&$E16&\"'!C\"&CC$1),\n\"\")),\"\")","v":""},{"$f":"IFERROR(IF(AND(CC$9<>\"\",$H$3=\"計画\"),INDIRECT(\"'\"&$D16&\"　\"&$E16&\"'!B\"&CD$1),\nIF(AND(CC$9<>\"\",$H$3=\"実績\"),INDIRECT(\"'\"&$D16&\"　\"&$E16&\"'!C\"&CD$1),\n\"\")),\"\")","v":""},{"$f":"IFERROR(IF(IF(AND(CC$9<>\"\",$H$3=\"計画\"),INDIRECT(\"'\"&$D16&\"　\"&$E16&\"'!B\"&CE$1),\nIF(AND(CC$9<>\"\",$H$3=\"実績\"),INDIRECT(\"'\"&$D16&\"　\"&$E16&\"'!C\"&CE$1),\n\"\"))=\"対象外\",\"対象外\",CC16/CD16),\"\")","v":""},{"$f":"IFERROR(IF(AND(CF$9<>\"\",$H$3=\"計画\"),INDIRECT(\"'\"&$D16&\"　\"&$E16&\"'!B\"&CF$1),\nIF(AND(CF$9<>\"\",$H$3=\"実績\"),INDIRECT(\"'\"&$D16&\"　\"&$E16&\"'!C\"&CF$1),\n\"\")),\"\")","v":""},{"$f":"IFERROR(IF(AND(CF$9<>\"\",$H$3=\"計画\"),INDIRECT(\"'\"&$D16&\"　\"&$E16&\"'!B\"&CG$1),\nIF(AND(CF$9<>\"\",$H$3=\"実績\"),INDIRECT(\"'\"&$D16&\"　\"&$E16&\"'!C\"&CG$1),\n\"\")),\"\")","v":""},{"$f":"IFERROR(IF(IF(AND(CF$9<>\"\",$H$3=\"計画\"),INDIRECT(\"'\"&$D16&\"　\"&$E16&\"'!B\"&CH$1),\nIF(AND(CF$9<>\"\",$H$3=\"実績\"),INDIRECT(\"'\"&$D16&\"　\"&$E16&\"'!C\"&CH$1),\n\"\"))=\"対象外\",\"対象外\",CF16/CG16),\"\")","v":""},{"$f":"IFERROR(IF(AND(CI$9<>\"\",$H$3=\"計画\"),INDIRECT(\"'\"&$D16&\"　\"&$E16&\"'!B\"&CI$1),\nIF(AND(CI$9<>\"\",$H$3=\"実績\"),INDIRECT(\"'\"&$D16&\"　\"&$E16&\"'!C\"&CI$1),\n\"\")),\"\")","v":""},{"$f":"IFERROR(IF(AND(CI$9<>\"\",$H$3=\"計画\"),INDIRECT(\"'\"&$D16&\"　\"&$E16&\"'!B\"&CJ$1),\nIF(AND(CI$9<>\"\",$H$3=\"実績\"),INDIRECT(\"'\"&$D16&\"　\"&$E16&\"'!C\"&CJ$1),\n\"\")),\"\")","v":""},{"$f":"IFERROR(IF(IF(AND(CI$9<>\"\",$H$3=\"計画\"),INDIRECT(\"'\"&$D16&\"　\"&$E16&\"'!B\"&CK$1),\nIF(AND(CI$9<>\"\",$H$3=\"実績\"),INDIRECT(\"'\"&$D16&\"　\"&$E16&\"'!C\"&CK$1),\n\"\"))=\"対象外\",\"対象外\",CI16/CJ16),\"\")","v":""},{"$f":"IFERROR(IF(AND(CL$9<>\"\",$H$3=\"計画\"),INDIRECT(\"'\"&$D16&\"　\"&$E16&\"'!B\"&CL$1),\nIF(AND(CL$9<>\"\",$H$3=\"実績\"),INDIRECT(\"'\"&$D16&\"　\"&$E16&\"'!C\"&CL$1),\n\"\")),\"\")","v":""},{"$f":"IFERROR(IF(AND(CL$9<>\"\",$H$3=\"計画\"),INDIRECT(\"'\"&$D16&\"　\"&$E16&\"'!B\"&CM$1),\nIF(AND(CL$9<>\"\",$H$3=\"実績\"),INDIRECT(\"'\"&$D16&\"　\"&$E16&\"'!C\"&CM$1),\n\"\")),\"\")","v":""},{"$f":"IFERROR(IF(IF(AND(CL$9<>\"\",$H$3=\"計画\"),INDIRECT(\"'\"&$D16&\"　\"&$E16&\"'!B\"&CN$1),\nIF(AND(CL$9<>\"\",$H$3=\"実績\"),INDIRECT(\"'\"&$D16&\"　\"&$E16&\"'!C\"&CN$1),\n\"\"))=\"対象外\",\"対象外\",CL16/CM16),\"\")","v":""},{"$f":"IFERROR(IF(AND(CO$9<>\"\",$H$3=\"計画\"),INDIRECT(\"'\"&$D16&\"　\"&$E16&\"'!B\"&CO$1),\nIF(AND(CO$9<>\"\",$H$3=\"実績\"),INDIRECT(\"'\"&$D16&\"　\"&$E16&\"'!C\"&CO$1),\n\"\")),\"\")","v":""},{"$f":"IFERROR(IF(AND(CO$9<>\"\",$H$3=\"計画\"),INDIRECT(\"'\"&$D16&\"　\"&$E16&\"'!B\"&CP$1),\nIF(AND(CO$9<>\"\",$H$3=\"実績\"),INDIRECT(\"'\"&$D16&\"　\"&$E16&\"'!C\"&CP$1),\n\"\")),\"\")","v":""},{"$f":"IFERROR(IF(IF(AND(CO$9<>\"\",$H$3=\"計画\"),INDIRECT(\"'\"&$D16&\"　\"&$E16&\"'!B\"&CQ$1),\nIF(AND(CO$9<>\"\",$H$3=\"実績\"),INDIRECT(\"'\"&$D16&\"　\"&$E16&\"'!C\"&CQ$1),\n\"\"))=\"対象外\",\"対象外\",CO16/CP16),\"\")","v":""},{"$f":"IFERROR(IF(AND(CR$9<>\"\",$H$3=\"計画\"),INDIRECT(\"'\"&$D16&\"　\"&$E16&\"'!B\"&CR$1),\nIF(AND(CR$9<>\"\",$H$3=\"実績\"),INDIRECT(\"'\"&$D16&\"　\"&$E16&\"'!C\"&CR$1),\n\"\")),\"\")","v":""},{"$f":"IFERROR(IF(AND(CR$9<>\"\",$H$3=\"計画\"),INDIRECT(\"'\"&$D16&\"　\"&$E16&\"'!B\"&CS$1),\nIF(AND(CR$9<>\"\",$H$3=\"実績\"),INDIRECT(\"'\"&$D16&\"　\"&$E16&\"'!C\"&CS$1),\n\"\")),\"\")","v":""},{"$f":"IFERROR(IF(IF(AND(CR$9<>\"\",$H$3=\"計画\"),INDIRECT(\"'\"&$D16&\"　\"&$E16&\"'!B\"&CT$1),\nIF(AND(CR$9<>\"\",$H$3=\"実績\"),INDIRECT(\"'\"&$D16&\"　\"&$E16&\"'!C\"&CT$1),\n\"\"))=\"対象外\",\"対象外\",CR16/CS16),\"\")","v":""},{"$f":"IFERROR(IF(AND(CU$9<>\"\",$H$3=\"計画\"),INDIRECT(\"'\"&$D16&\"　\"&$E16&\"'!B\"&CU$1),\nIF(AND(CU$9<>\"\",$H$3=\"実績\"),INDIRECT(\"'\"&$D16&\"　\"&$E16&\"'!C\"&CU$1),\n\"\")),\"\")","v":""},{"$f":"IFERROR(IF(AND(CU$9<>\"\",$H$3=\"計画\"),INDIRECT(\"'\"&$D16&\"　\"&$E16&\"'!B\"&CV$1),\nIF(AND(CU$9<>\"\",$H$3=\"実績\"),INDIRECT(\"'\"&$D16&\"　\"&$E16&\"'!C\"&CV$1),\n\"\")),\"\")","v":""},{"$f":"IFERROR(IF(IF(AND(CU$9<>\"\",$H$3=\"計画\"),INDIRECT(\"'\"&$D16&\"　\"&$E16&\"'!B\"&CW$1),\nIF(AND(CU$9<>\"\",$H$3=\"実績\"),INDIRECT(\"'\"&$D16&\"　\"&$E16&\"'!C\"&CW$1),\n\"\"))=\"対象外\",\"対象外\",CU16/CV16),\"\")","v":""},{"$f":"IFERROR(IF(AND(CX$9<>\"\",$H$3=\"計画\"),INDIRECT(\"'\"&$D16&\"　\"&$E16&\"'!B\"&CX$1),\nIF(AND(CX$9<>\"\",$H$3=\"実績\"),INDIRECT(\"'\"&$D16&\"　\"&$E16&\"'!C\"&CX$1),\n\"\")),\"\")","v":""},{"$f":"IFERROR(IF(AND(CX$9<>\"\",$H$3=\"計画\"),INDIRECT(\"'\"&$D16&\"　\"&$E16&\"'!B\"&CY$1),\nIF(AND(CX$9<>\"\",$H$3=\"実績\"),INDIRECT(\"'\"&$D16&\"　\"&$E16&\"'!C\"&CY$1),\n\"\")),\"\")","v":""},{"$f":"IFERROR(IF(IF(AND(CX$9<>\"\",$H$3=\"計画\"),INDIRECT(\"'\"&$D16&\"　\"&$E16&\"'!B\"&CZ$1),\nIF(AND(CX$9<>\"\",$H$3=\"実績\"),INDIRECT(\"'\"&$D16&\"　\"&$E16&\"'!C\"&CZ$1),\n\"\"))=\"対象外\",\"対象外\",CX16/CY16),\"\")","v":""},{"$f":"IFERROR(IF(AND(DA$9<>\"\",$H$3=\"計画\"),INDIRECT(\"'\"&$D16&\"　\"&$E16&\"'!B\"&DA$1),\nIF(AND(DA$9<>\"\",$H$3=\"実績\"),INDIRECT(\"'\"&$D16&\"　\"&$E16&\"'!C\"&DA$1),\n\"\")),\"\")","v":""},{"$f":"IFERROR(IF(AND(DA$9<>\"\",$H$3=\"計画\"),INDIRECT(\"'\"&$D16&\"　\"&$E16&\"'!B\"&DB$1),\nIF(AND(DA$9<>\"\",$H$3=\"実績\"),INDIRECT(\"'\"&$D16&\"　\"&$E16&\"'!C\"&DB$1),\n\"\")),\"\")","v":""},{"$f":"IFERROR(IF(IF(AND(DA$9<>\"\",$H$3=\"計画\"),INDIRECT(\"'\"&$D16&\"　\"&$E16&\"'!B\"&DC$1),\nIF(AND(DA$9<>\"\",$H$3=\"実績\"),INDIRECT(\"'\"&$D16&\"　\"&$E16&\"'!C\"&DC$1),\n\"\"))=\"対象外\",\"対象外\",DA16/DB16),\"\")","v":""},{"$f":"IFERROR(IF(AND(DD$9<>\"\",$H$3=\"計画\"),INDIRECT(\"'\"&$D16&\"　\"&$E16&\"'!B\"&DD$1),\nIF(AND(DD$9<>\"\",$H$3=\"実績\"),INDIRECT(\"'\"&$D16&\"　\"&$E16&\"'!C\"&DD$1),\n\"\")),\"\")","v":""},{"$f":"IFERROR(IF(AND(DD$9<>\"\",$H$3=\"計画\"),INDIRECT(\"'\"&$D16&\"　\"&$E16&\"'!B\"&DE$1),\nIF(AND(DD$9<>\"\",$H$3=\"実績\"),INDIRECT(\"'\"&$D16&\"　\"&$E16&\"'!C\"&DE$1),\n\"\")),\"\")","v":""},{"$f":"IFERROR(IF(IF(AND(DD$9<>\"\",$H$3=\"計画\"),INDIRECT(\"'\"&$D16&\"　\"&$E16&\"'!B\"&DF$1),\nIF(AND(DD$9<>\"\",$H$3=\"実績\"),INDIRECT(\"'\"&$D16&\"　\"&$E16&\"'!C\"&DF$1),\n\"\"))=\"対象外\",\"対象外\",DD16/DE16),\"\")","v":""},{"$f":"IFERROR(IF(AND(DG$9<>\"\",$H$3=\"計画\"),INDIRECT(\"'\"&$D16&\"　\"&$E16&\"'!B\"&DG$1),\nIF(AND(DG$9<>\"\",$H$3=\"実績\"),INDIRECT(\"'\"&$D16&\"　\"&$E16&\"'!C\"&DG$1),\n\"\")),\"\")","v":""},{"$f":"IFERROR(IF(AND(DG$9<>\"\",$H$3=\"計画\"),INDIRECT(\"'\"&$D16&\"　\"&$E16&\"'!B\"&DH$1),\nIF(AND(DG$9<>\"\",$H$3=\"実績\"),INDIRECT(\"'\"&$D16&\"　\"&$E16&\"'!C\"&DH$1),\n\"\")),\"\")","v":""},{"$f":"IFERROR(IF(IF(AND(DG$9<>\"\",$H$3=\"計画\"),INDIRECT(\"'\"&$D16&\"　\"&$E16&\"'!B\"&DI$1),\nIF(AND(DG$9<>\"\",$H$3=\"実績\"),INDIRECT(\"'\"&$D16&\"　\"&$E16&\"'!C\"&DI$1),\n\"\"))=\"対象外\",\"対象外\",DG16/DH16),\"\")","v":""},{"$f":"IFERROR(IF(AND(DJ$9<>\"\",$H$3=\"計画\"),INDIRECT(\"'\"&$D16&\"　\"&$E16&\"'!B\"&DJ$1),\nIF(AND(DJ$9<>\"\",$H$3=\"実績\"),INDIRECT(\"'\"&$D16&\"　\"&$E16&\"'!C\"&DJ$1),\n\"\")),\"\")","v":""},{"$f":"IFERROR(IF(AND(DJ$9<>\"\",$H$3=\"計画\"),INDIRECT(\"'\"&$D16&\"　\"&$E16&\"'!B\"&DK$1),\nIF(AND(DJ$9<>\"\",$H$3=\"実績\"),INDIRECT(\"'\"&$D16&\"　\"&$E16&\"'!C\"&DK$1),\n\"\")),\"\")","v":""},{"$f":"IFERROR(IF(IF(AND(DJ$9<>\"\",$H$3=\"計画\"),INDIRECT(\"'\"&$D16&\"　\"&$E16&\"'!B\"&DL$1),\nIF(AND(DJ$9<>\"\",$H$3=\"実績\"),INDIRECT(\"'\"&$D16&\"　\"&$E16&\"'!C\"&DL$1),\n\"\"))=\"対象外\",\"対象外\",DJ16/DK16),\"\")","v":""}]
[null,null,null,null,null,"","",{"$f":"IFERROR(IF(IF(H$3=\"計画\",INDIRECT(\"'\"&$D17&\"　\"&$E17&\"'!B\"&H$1),\nIF(H$3=\"実績\",INDIRECT(\"'\"&$D17&\"　\"&$E17&\"'!C\"&H$1),\n\"\"))>=28,F17/G17,\"対象外\"),\"\")","v":""},{"$f":"IFERROR(IF(AND(I$9<>\"\",$H$3=\"計画\"),INDIRECT(\"'\"&$D17&\"　\"&$E17&\"'!B\"&I$1),\nIF(AND(I$9<>\"\",$H$3=\"実績\"),INDIRECT(\"'\"&$D17&\"　\"&$E17&\"'!C\"&I$1),\n\"\")),\"\")","v":""},{"$f":"IFERROR(IF(AND(I$9<>\"\",$H$3=\"計画\"),INDIRECT(\"'\"&$D17&\"　\"&$E17&\"'!B\"&J$1),\nIF(AND(I$9<>\"\",$H$3=\"実績\"),INDIRECT(\"'\"&$D17&\"　\"&$E17&\"'!C\"&J$1),\n\"\")),\"\")","v":""},{"$f":"IFERROR(IF(IF(AND(I$9<>\"\",$H$3=\"計画\"),INDIRECT(\"'\"&$D17&\"　\"&$E17&\"'!B\"&K$1),\nIF(AND(I$9<>\"\",$H$3=\"実績\"),INDIRECT(\"'\"&$D17&\"　\"&$E17&\"'!C\"&K$1),\n\"\"))=\"対象外\",\"対象外\",I17/J17),\"\")","v":""},{"$f":"IFERROR(IF(AND(L$9<>\"\",$H$3=\"計画\"),INDIRECT(\"'\"&$D17&\"　\"&$E17&\"'!B\"&L$1),\nIF(AND(L$9<>\"\",$H$3=\"実績\"),INDIRECT(\"'\"&$D17&\"　\"&$E17&\"'!C\"&L$1),\n\"\")),\"\")","v":""},{"$f":"IFERROR(IF(AND(L$9<>\"\",$H$3=\"計画\"),INDIRECT(\"'\"&$D17&\"　\"&$E17&\"'!B\"&M$1),\nIF(AND(L$9<>\"\",$H$3=\"実績\"),INDIRECT(\"'\"&$D17&\"　\"&$E17&\"'!C\"&M$1),\n\"\")),\"\")","v":""},{"$f":"IFERROR(IF(IF(AND(L$9<>\"\",$H$3=\"計画\"),INDIRECT(\"'\"&$D17&\"　\"&$E17&\"'!B\"&N$1),\nIF(AND(L$9<>\"\",$H$3=\"実績\"),INDIRECT(\"'\"&$D17&\"　\"&$E17&\"'!C\"&N$1),\n\"\"))=\"対象外\",\"対象外\",L17/M17),\"\")","v":""},{"$f":"IFERROR(IF(AND(O$9<>\"\",$H$3=\"計画\"),INDIRECT(\"'\"&$D17&\"　\"&$E17&\"'!B\"&O$1),\nIF(AND(O$9<>\"\",$H$3=\"実績\"),INDIRECT(\"'\"&$D17&\"　\"&$E17&\"'!C\"&O$1),\n\"\")),\"\")","v":""},{"$f":"IFERROR(IF(AND(O$9<>\"\",$H$3=\"計画\"),INDIRECT(\"'\"&$D17&\"　\"&$E17&\"'!B\"&P$1),\nIF(AND(O$9<>\"\",$H$3=\"実績\"),INDIRECT(\"'\"&$D17&\"　\"&$E17&\"'!C\"&P$1),\n\"\")),\"\")","v":""},{"$f":"IFERROR(IF(IF(AND(O$9<>\"\",$H$3=\"計画\"),INDIRECT(\"'\"&$D17&\"　\"&$E17&\"'!B\"&Q$1),\nIF(AND(O$9<>\"\",$H$3=\"実績\"),INDIRECT(\"'\"&$D17&\"　\"&$E17&\"'!C\"&Q$1),\n\"\"))=\"対象外\",\"対象外\",O17/P17),\"\")","v":""},{"$f":"IFERROR(IF(AND(R$9<>\"\",$H$3=\"計画\"),INDIRECT(\"'\"&$D17&\"　\"&$E17&\"'!B\"&R$1),\nIF(AND(R$9<>\"\",$H$3=\"実績\"),INDIRECT(\"'\"&$D17&\"　\"&$E17&\"'!C\"&R$1),\n\"\")),\"\")","v":""},{"$f":"IFERROR(IF(AND(R$9<>\"\",$H$3=\"計画\"),INDIRECT(\"'\"&$D17&\"　\"&$E17&\"'!B\"&S$1),\nIF(AND(R$9<>\"\",$H$3=\"実績\"),INDIRECT(\"'\"&$D17&\"　\"&$E17&\"'!C\"&S$1),\n\"\")),\"\")","v":""},{"$f":"IFERROR(IF(IF(AND(R$9<>\"\",$H$3=\"計画\"),INDIRECT(\"'\"&$D17&\"　\"&$E17&\"'!B\"&T$1),\nIF(AND(R$9<>\"\",$H$3=\"実績\"),INDIRECT(\"'\"&$D17&\"　\"&$E17&\"'!C\"&T$1),\n\"\"))=\"対象外\",\"対象外\",R17/S17),\"\")","v":""},{"$f":"IFERROR(IF(AND(U$9<>\"\",$H$3=\"計画\"),INDIRECT(\"'\"&$D17&\"　\"&$E17&\"'!B\"&U$1),\nIF(AND(U$9<>\"\",$H$3=\"実績\"),INDIRECT(\"'\"&$D17&\"　\"&$E17&\"'!C\"&U$1),\n\"\")),\"\")","v":""},{"$f":"IFERROR(IF(AND(U$9<>\"\",$H$3=\"計画\"),INDIRECT(\"'\"&$D17&\"　\"&$E17&\"'!B\"&V$1),\nIF(AND(U$9<>\"\",$H$3=\"実績\"),INDIRECT(\"'\"&$D17&\"　\"&$E17&\"'!C\"&V$1),\n\"\")),\"\")","v":""},{"$f":"IFERROR(IF(IF(AND(U$9<>\"\",$H$3=\"計画\"),INDIRECT(\"'\"&$D17&\"　\"&$E17&\"'!B\"&W$1),\nIF(AND(U$9<>\"\",$H$3=\"実績\"),INDIRECT(\"'\"&$D17&\"　\"&$E17&\"'!C\"&W$1),\n\"\"))=\"対象外\",\"対象外\",U17/V17),\"\")","v":""},{"$f":"IFERROR(IF(AND(X$9<>\"\",$H$3=\"計画\"),INDIRECT(\"'\"&$D17&\"　\"&$E17&\"'!B\"&X$1),\nIF(AND(X$9<>\"\",$H$3=\"実績\"),INDIRECT(\"'\"&$D17&\"　\"&$E17&\"'!C\"&X$1),\n\"\")),\"\")","v":""},{"$f":"IFERROR(IF(AND(X$9<>\"\",$H$3=\"計画\"),INDIRECT(\"'\"&$D17&\"　\"&$E17&\"'!B\"&Y$1),\nIF(AND(X$9<>\"\",$H$3=\"実績\"),INDIRECT(\"'\"&$D17&\"　\"&$E17&\"'!C\"&Y$1),\n\"\")),\"\")","v":""},{"$f":"IFERROR(IF(IF(AND(X$9<>\"\",$H$3=\"計画\"),INDIRECT(\"'\"&$D17&\"　\"&$E17&\"'!B\"&Z$1),\nIF(AND(X$9<>\"\",$H$3=\"実績\"),INDIRECT(\"'\"&$D17&\"　\"&$E17&\"'!C\"&Z$1),\n\"\"))=\"対象外\",\"対象外\",X17/Y17),\"\")","v":""},{"$f":"IFERROR(IF(AND(AA$9<>\"\",$H$3=\"計画\"),INDIRECT(\"'\"&$D17&\"　\"&$E17&\"'!B\"&AA$1),\nIF(AND(AA$9<>\"\",$H$3=\"実績\"),INDIRECT(\"'\"&$D17&\"　\"&$E17&\"'!C\"&AA$1),\n\"\")),\"\")","v":""},{"$f":"IFERROR(IF(AND(AA$9<>\"\",$H$3=\"計画\"),INDIRECT(\"'\"&$D17&\"　\"&$E17&\"'!B\"&AB$1),\nIF(AND(AA$9<>\"\",$H$3=\"実績\"),INDIRECT(\"'\"&$D17&\"　\"&$E17&\"'!C\"&AB$1),\n\"\")),\"\")","v":""},{"$f":"IFERROR(IF(IF(AND(AA$9<>\"\",$H$3=\"計画\"),INDIRECT(\"'\"&$D17&\"　\"&$E17&\"'!B\"&AC$1),\nIF(AND(AA$9<>\"\",$H$3=\"実績\"),INDIRECT(\"'\"&$D17&\"　\"&$E17&\"'!C\"&AC$1),\n\"\"))=\"対象外\",\"対象外\",AA17/AB17),\"\")","v":""},{"$f":"IFERROR(IF(AND(AD$9<>\"\",$H$3=\"計画\"),INDIRECT(\"'\"&$D17&\"　\"&$E17&\"'!B\"&AD$1),\nIF(AND(AD$9<>\"\",$H$3=\"実績\"),INDIRECT(\"'\"&$D17&\"　\"&$E17&\"'!C\"&AD$1),\n\"\")),\"\")","v":""},{"$f":"IFERROR(IF(AND(AD$9<>\"\",$H$3=\"計画\"),INDIRECT(\"'\"&$D17&\"　\"&$E17&\"'!B\"&AE$1),\nIF(AND(AD$9<>\"\",$H$3=\"実績\"),INDIRECT(\"'\"&$D17&\"　\"&$E17&\"'!C\"&AE$1),\n\"\")),\"\")","v":""},{"$f":"IFERROR(IF(IF(AND(AD$9<>\"\",$H$3=\"計画\"),INDIRECT(\"'\"&$D17&\"　\"&$E17&\"'!B\"&AF$1),\nIF(AND(AD$9<>\"\",$H$3=\"実績\"),INDIRECT(\"'\"&$D17&\"　\"&$E17&\"'!C\"&AF$1),\n\"\"))=\"対象外\",\"対象外\",AD17/AE17),\"\")","v":""},{"$f":"IFERROR(IF(AND(AG$9<>\"\",$H$3=\"計画\"),INDIRECT(\"'\"&$D17&\"　\"&$E17&\"'!B\"&AG$1),\nIF(AND(AG$9<>\"\",$H$3=\"実績\"),INDIRECT(\"'\"&$D17&\"　\"&$E17&\"'!C\"&AG$1),\n\"\")),\"\")","v":""},{"$f":"IFERROR(IF(AND(AG$9<>\"\",$H$3=\"計画\"),INDIRECT(\"'\"&$D17&\"　\"&$E17&\"'!B\"&AH$1),\nIF(AND(AG$9<>\"\",$H$3=\"実績\"),INDIRECT(\"'\"&$D17&\"　\"&$E17&\"'!C\"&AH$1),\n\"\")),\"\")","v":""},{"$f":"IFERROR(IF(IF(AND(AG$9<>\"\",$H$3=\"計画\"),INDIRECT(\"'\"&$D17&\"　\"&$E17&\"'!B\"&AI$1),\nIF(AND(AG$9<>\"\",$H$3=\"実績\"),INDIRECT(\"'\"&$D17&\"　\"&$E17&\"'!C\"&AI$1),\n\"\"))=\"対象外\",\"対象外\",AG17/AH17),\"\")","v":""},{"$f":"IFERROR(IF(AND(AJ$9<>\"\",$H$3=\"計画\"),INDIRECT(\"'\"&$D17&\"　\"&$E17&\"'!B\"&AJ$1),\nIF(AND(AJ$9<>\"\",$H$3=\"実績\"),INDIRECT(\"'\"&$D17&\"　\"&$E17&\"'!C\"&AJ$1),\n\"\")),\"\")","v":""},{"$f":"IFERROR(IF(AND(AJ$9<>\"\",$H$3=\"計画\"),INDIRECT(\"'\"&$D17&\"　\"&$E17&\"'!B\"&AK$1),\nIF(AND(AJ$9<>\"\",$H$3=\"実績\"),INDIRECT(\"'\"&$D17&\"　\"&$E17&\"'!C\"&AK$1),\n\"\")),\"\")","v":""},{"$f":"IFERROR(IF(IF(AND(AJ$9<>\"\",$H$3=\"計画\"),INDIRECT(\"'\"&$D17&\"　\"&$E17&\"'!B\"&AL$1),\nIF(AND(AJ$9<>\"\",$H$3=\"実績\"),INDIRECT(\"'\"&$D17&\"　\"&$E17&\"'!C\"&AL$1),\n\"\"))=\"対象外\",\"対象外\",AJ17/AK17),\"\")","v":""},{"$f":"IFERROR(IF(AND(AM$9<>\"\",$H$3=\"計画\"),INDIRECT(\"'\"&$D17&\"　\"&$E17&\"'!B\"&AM$1),\nIF(AND(AM$9<>\"\",$H$3=\"実績\"),INDIRECT(\"'\"&$D17&\"　\"&$E17&\"'!C\"&AM$1),\n\"\")),\"\")","v":""},{"$f":"IFERROR(IF(AND(AM$9<>\"\",$H$3=\"計画\"),INDIRECT(\"'\"&$D17&\"　\"&$E17&\"'!B\"&AN$1),\nIF(AND(AM$9<>\"\",$H$3=\"実績\"),INDIRECT(\"'\"&$D17&\"　\"&$E17&\"'!C\"&AN$1),\n\"\")),\"\")","v":""},{"$f":"IFERROR(IF(IF(AND(AM$9<>\"\",$H$3=\"計画\"),INDIRECT(\"'\"&$D17&\"　\"&$E17&\"'!B\"&AO$1),\nIF(AND(AM$9<>\"\",$H$3=\"実績\"),INDIRECT(\"'\"&$D17&\"　\"&$E17&\"'!C\"&AO$1),\n\"\"))=\"対象外\",\"対象外\",AM17/AN17),\"\")","v":""},{"$f":"IFERROR(IF(AND(AP$9<>\"\",$H$3=\"計画\"),INDIRECT(\"'\"&$D17&\"　\"&$E17&\"'!B\"&AP$1),\nIF(AND(AP$9<>\"\",$H$3=\"実績\"),INDIRECT(\"'\"&$D17&\"　\"&$E17&\"'!C\"&AP$1),\n\"\")),\"\")","v":""},{"$f":"IFERROR(IF(AND(AP$9<>\"\",$H$3=\"計画\"),INDIRECT(\"'\"&$D17&\"　\"&$E17&\"'!B\"&AQ$1),\nIF(AND(AP$9<>\"\",$H$3=\"実績\"),INDIRECT(\"'\"&$D17&\"　\"&$E17&\"'!C\"&AQ$1),\n\"\")),\"\")","v":""},{"$f":"IFERROR(IF(IF(AND(AP$9<>\"\",$H$3=\"計画\"),INDIRECT(\"'\"&$D17&\"　\"&$E17&\"'!B\"&AR$1),\nIF(AND(AP$9<>\"\",$H$3=\"実績\"),INDIRECT(\"'\"&$D17&\"　\"&$E17&\"'!C\"&AR$1),\n\"\"))=\"対象外\",\"対象外\",AP17/AQ17),\"\")","v":""},{"$f":"IFERROR(IF(AND(AS$9<>\"\",$H$3=\"計画\"),INDIRECT(\"'\"&$D17&\"　\"&$E17&\"'!B\"&AS$1),\nIF(AND(AS$9<>\"\",$H$3=\"実績\"),INDIRECT(\"'\"&$D17&\"　\"&$E17&\"'!C\"&AS$1),\n\"\")),\"\")","v":""},{"$f":"IFERROR(IF(AND(AS$9<>\"\",$H$3=\"計画\"),INDIRECT(\"'\"&$D17&\"　\"&$E17&\"'!B\"&AT$1),\nIF(AND(AS$9<>\"\",$H$3=\"実績\"),INDIRECT(\"'\"&$D17&\"　\"&$E17&\"'!C\"&AT$1),\n\"\")),\"\")","v":""},{"$f":"IFERROR(IF(IF(AND(AS$9<>\"\",$H$3=\"計画\"),INDIRECT(\"'\"&$D17&\"　\"&$E17&\"'!B\"&AU$1),\nIF(AND(AS$9<>\"\",$H$3=\"実績\"),INDIRECT(\"'\"&$D17&\"　\"&$E17&\"'!C\"&AU$1),\n\"\"))=\"対象外\",\"対象外\",AS17/AT17),\"\")","v":""},{"$f":"IFERROR(IF(AND(AV$9<>\"\",$H$3=\"計画\"),INDIRECT(\"'\"&$D17&\"　\"&$E17&\"'!B\"&AV$1),\nIF(AND(AV$9<>\"\",$H$3=\"実績\"),INDIRECT(\"'\"&$D17&\"　\"&$E17&\"'!C\"&AV$1),\n\"\")),\"\")","v":""},{"$f":"IFERROR(IF(AND(AV$9<>\"\",$H$3=\"計画\"),INDIRECT(\"'\"&$D17&\"　\"&$E17&\"'!B\"&AW$1),\nIF(AND(AV$9<>\"\",$H$3=\"実績\"),INDIRECT(\"'\"&$D17&\"　\"&$E17&\"'!C\"&AW$1),\n\"\")),\"\")","v":""},{"$f":"IFERROR(IF(IF(AND(AV$9<>\"\",$H$3=\"計画\"),INDIRECT(\"'\"&$D17&\"　\"&$E17&\"'!B\"&AX$1),\nIF(AND(AV$9<>\"\",$H$3=\"実績\"),INDIRECT(\"'\"&$D17&\"　\"&$E17&\"'!C\"&AX$1),\n\"\"))=\"対象外\",\"対象外\",AV17/AW17),\"\")","v":""},{"$f":"IFERROR(IF(AND(AY$9<>\"\",$H$3=\"計画\"),INDIRECT(\"'\"&$D17&\"　\"&$E17&\"'!B\"&AY$1),\nIF(AND(AY$9<>\"\",$H$3=\"実績\"),INDIRECT(\"'\"&$D17&\"　\"&$E17&\"'!C\"&AY$1),\n\"\")),\"\")","v":""},{"$f":"IFERROR(IF(AND(AY$9<>\"\",$H$3=\"計画\"),INDIRECT(\"'\"&$D17&\"　\"&$E17&\"'!B\"&AZ$1),\nIF(AND(AY$9<>\"\",$H$3=\"実績\"),INDIRECT(\"'\"&$D17&\"　\"&$E17&\"'!C\"&AZ$1),\n\"\")),\"\")","v":""},{"$f":"IFERROR(IF(IF(AND(AY$9<>\"\",$H$3=\"計画\"),INDIRECT(\"'\"&$D17&\"　\"&$E17&\"'!B\"&BA$1),\nIF(AND(AY$9<>\"\",$H$3=\"実績\"),INDIRECT(\"'\"&$D17&\"　\"&$E17&\"'!C\"&BA$1),\n\"\"))=\"対象外\",\"対象外\",AY17/AZ17),\"\")","v":""},{"$f":"IFERROR(IF(AND(BB$9<>\"\",$H$3=\"計画\"),INDIRECT(\"'\"&$D17&\"　\"&$E17&\"'!B\"&BB$1),\nIF(AND(BB$9<>\"\",$H$3=\"実績\"),INDIRECT(\"'\"&$D17&\"　\"&$E17&\"'!C\"&BB$1),\n\"\")),\"\")","v":""},{"$f":"IFERROR(IF(AND(BB$9<>\"\",$H$3=\"計画\"),INDIRECT(\"'\"&$D17&\"　\"&$E17&\"'!B\"&BC$1),\nIF(AND(BB$9<>\"\",$H$3=\"実績\"),INDIRECT(\"'\"&$D17&\"　\"&$E17&\"'!C\"&BC$1),\n\"\")),\"\")","v":""},{"$f":"IFERROR(IF(IF(AND(BB$9<>\"\",$H$3=\"計画\"),INDIRECT(\"'\"&$D17&\"　\"&$E17&\"'!B\"&BD$1),\nIF(AND(BB$9<>\"\",$H$3=\"実績\"),INDIRECT(\"'\"&$D17&\"　\"&$E17&\"'!C\"&BD$1),\n\"\"))=\"対象外\",\"対象外\",BB17/BC17),\"\")","v":""},{"$f":"IFERROR(IF(AND(BE$9<>\"\",$H$3=\"計画\"),INDIRECT(\"'\"&$D17&\"　\"&$E17&\"'!B\"&BE$1),\nIF(AND(BE$9<>\"\",$H$3=\"実績\"),INDIRECT(\"'\"&$D17&\"　\"&$E17&\"'!C\"&BE$1),\n\"\")),\"\")","v":""},{"$f":"IFERROR(IF(AND(BE$9<>\"\",$H$3=\"計画\"),INDIRECT(\"'\"&$D17&\"　\"&$E17&\"'!B\"&BF$1),\nIF(AND(BE$9<>\"\",$H$3=\"実績\"),INDIRECT(\"'\"&$D17&\"　\"&$E17&\"'!C\"&BF$1),\n\"\")),\"\")","v":""},{"$f":"IFERROR(IF(IF(AND(BE$9<>\"\",$H$3=\"計画\"),INDIRECT(\"'\"&$D17&\"　\"&$E17&\"'!B\"&BG$1),\nIF(AND(BE$9<>\"\",$H$3=\"実績\"),INDIRECT(\"'\"&$D17&\"　\"&$E17&\"'!C\"&BG$1),\n\"\"))=\"対象外\",\"対象外\",BE17/BF17),\"\")","v":""},{"$f":"IFERROR(IF(AND(BH$9<>\"\",$H$3=\"計画\"),INDIRECT(\"'\"&$D17&\"　\"&$E17&\"'!B\"&BH$1),\nIF(AND(BH$9<>\"\",$H$3=\"実績\"),INDIRECT(\"'\"&$D17&\"　\"&$E17&\"'!C\"&BH$1),\n\"\")),\"\")","v":""},{"$f":"IFERROR(IF(AND(BH$9<>\"\",$H$3=\"計画\"),INDIRECT(\"'\"&$D17&\"　\"&$E17&\"'!B\"&BI$1),\nIF(AND(BH$9<>\"\",$H$3=\"実績\"),INDIRECT(\"'\"&$D17&\"　\"&$E17&\"'!C\"&BI$1),\n\"\")),\"\")","v":""},{"$f":"IFERROR(IF(IF(AND(BH$9<>\"\",$H$3=\"計画\"),INDIRECT(\"'\"&$D17&\"　\"&$E17&\"'!B\"&BJ$1),\nIF(AND(BH$9<>\"\",$H$3=\"実績\"),INDIRECT(\"'\"&$D17&\"　\"&$E17&\"'!C\"&BJ$1),\n\"\"))=\"対象外\",\"対象外\",BH17/BI17),\"\")","v":""},{"$f":"IFERROR(IF(AND(BK$9<>\"\",$H$3=\"計画\"),INDIRECT(\"'\"&$D17&\"　\"&$E17&\"'!B\"&BK$1),\nIF(AND(BK$9<>\"\",$H$3=\"実績\"),INDIRECT(\"'\"&$D17&\"　\"&$E17&\"'!C\"&BK$1),\n\"\")),\"\")","v":""},{"$f":"IFERROR(IF(AND(BK$9<>\"\",$H$3=\"計画\"),INDIRECT(\"'\"&$D17&\"　\"&$E17&\"'!B\"&BL$1),\nIF(AND(BK$9<>\"\",$H$3=\"実績\"),INDIRECT(\"'\"&$D17&\"　\"&$E17&\"'!C\"&BL$1),\n\"\")),\"\")","v":""},{"$f":"IFERROR(IF(IF(AND(BK$9<>\"\",$H$3=\"計画\"),INDIRECT(\"'\"&$D17&\"　\"&$E17&\"'!B\"&BM$1),\nIF(AND(BK$9<>\"\",$H$3=\"実績\"),INDIRECT(\"'\"&$D17&\"　\"&$E17&\"'!C\"&BM$1),\n\"\"))=\"対象外\",\"対象外\",BK17/BL17),\"\")","v":""},{"$f":"IFERROR(IF(AND(BN$9<>\"\",$H$3=\"計画\"),INDIRECT(\"'\"&$D17&\"　\"&$E17&\"'!B\"&BN$1),\nIF(AND(BN$9<>\"\",$H$3=\"実績\"),INDIRECT(\"'\"&$D17&\"　\"&$E17&\"'!C\"&BN$1),\n\"\")),\"\")","v":""},{"$f":"IFERROR(IF(AND(BN$9<>\"\",$H$3=\"計画\"),INDIRECT(\"'\"&$D17&\"　\"&$E17&\"'!B\"&BO$1),\nIF(AND(BN$9<>\"\",$H$3=\"実績\"),INDIRECT(\"'\"&$D17&\"　\"&$E17&\"'!C\"&BO$1),\n\"\")),\"\")","v":""},{"$f":"IFERROR(IF(IF(AND(BN$9<>\"\",$H$3=\"計画\"),INDIRECT(\"'\"&$D17&\"　\"&$E17&\"'!B\"&BP$1),\nIF(AND(BN$9<>\"\",$H$3=\"実績\"),INDIRECT(\"'\"&$D17&\"　\"&$E17&\"'!C\"&BP$1),\n\"\"))=\"対象外\",\"対象外\",BN17/BO17),\"\")","v":""},{"$f":"IFERROR(IF(AND(BQ$9<>\"\",$H$3=\"計画\"),INDIRECT(\"'\"&$D17&\"　\"&$E17&\"'!B\"&BQ$1),\nIF(AND(BQ$9<>\"\",$H$3=\"実績\"),INDIRECT(\"'\"&$D17&\"　\"&$E17&\"'!C\"&BQ$1),\n\"\")),\"\")","v":""},{"$f":"IFERROR(IF(AND(BQ$9<>\"\",$H$3=\"計画\"),INDIRECT(\"'\"&$D17&\"　\"&$E17&\"'!B\"&BR$1),\nIF(AND(BQ$9<>\"\",$H$3=\"実績\"),INDIRECT(\"'\"&$D17&\"　\"&$E17&\"'!C\"&BR$1),\n\"\")),\"\")","v":""},{"$f":"IFERROR(IF(IF(AND(BQ$9<>\"\",$H$3=\"計画\"),INDIRECT(\"'\"&$D17&\"　\"&$E17&\"'!B\"&BS$1),\nIF(AND(BQ$9<>\"\",$H$3=\"実績\"),INDIRECT(\"'\"&$D17&\"　\"&$E17&\"'!C\"&BS$1),\n\"\"))=\"対象外\",\"対象外\",BQ17/BR17),\"\")","v":""},{"$f":"IFERROR(IF(AND(BT$9<>\"\",$H$3=\"計画\"),INDIRECT(\"'\"&$D17&\"　\"&$E17&\"'!B\"&BT$1),\nIF(AND(BT$9<>\"\",$H$3=\"実績\"),INDIRECT(\"'\"&$D17&\"　\"&$E17&\"'!C\"&BT$1),\n\"\")),\"\")","v":""},{"$f":"IFERROR(IF(AND(BT$9<>\"\",$H$3=\"計画\"),INDIRECT(\"'\"&$D17&\"　\"&$E17&\"'!B\"&BU$1),\nIF(AND(BT$9<>\"\",$H$3=\"実績\"),INDIRECT(\"'\"&$D17&\"　\"&$E17&\"'!C\"&BU$1),\n\"\")),\"\")","v":""},{"$f":"IFERROR(IF(IF(AND(BT$9<>\"\",$H$3=\"計画\"),INDIRECT(\"'\"&$D17&\"　\"&$E17&\"'!B\"&BV$1),\nIF(AND(BT$9<>\"\",$H$3=\"実績\"),INDIRECT(\"'\"&$D17&\"　\"&$E17&\"'!C\"&BV$1),\n\"\"))=\"対象外\",\"対象外\",BT17/BU17),\"\")","v":""},{"$f":"IFERROR(IF(AND(BW$9<>\"\",$H$3=\"計画\"),INDIRECT(\"'\"&$D17&\"　\"&$E17&\"'!B\"&BW$1),\nIF(AND(BW$9<>\"\",$H$3=\"実績\"),INDIRECT(\"'\"&$D17&\"　\"&$E17&\"'!C\"&BW$1),\n\"\")),\"\")","v":""},{"$f":"IFERROR(IF(AND(BW$9<>\"\",$H$3=\"計画\"),INDIRECT(\"'\"&$D17&\"　\"&$E17&\"'!B\"&BX$1),\nIF(AND(BW$9<>\"\",$H$3=\"実績\"),INDIRECT(\"'\"&$D17&\"　\"&$E17&\"'!C\"&BX$1),\n\"\")),\"\")","v":""},{"$f":"IFERROR(IF(IF(AND(BW$9<>\"\",$H$3=\"計画\"),INDIRECT(\"'\"&$D17&\"　\"&$E17&\"'!B\"&BY$1),\nIF(AND(BW$9<>\"\",$H$3=\"実績\"),INDIRECT(\"'\"&$D17&\"　\"&$E17&\"'!C\"&BY$1),\n\"\"))=\"対象外\",\"対象外\",BW17/BX17),\"\")","v":""},{"$f":"IFERROR(IF(AND(BZ$9<>\"\",$H$3=\"計画\"),INDIRECT(\"'\"&$D17&\"　\"&$E17&\"'!B\"&BZ$1),\nIF(AND(BZ$9<>\"\",$H$3=\"実績\"),INDIRECT(\"'\"&$D17&\"　\"&$E17&\"'!C\"&BZ$1),\n\"\")),\"\")","v":""},{"$f":"IFERROR(IF(AND(BZ$9<>\"\",$H$3=\"計画\"),INDIRECT(\"'\"&$D17&\"　\"&$E17&\"'!B\"&CA$1),\nIF(AND(BZ$9<>\"\",$H$3=\"実績\"),INDIRECT(\"'\"&$D17&\"　\"&$E17&\"'!C\"&CA$1),\n\"\")),\"\")","v":""},{"$f":"IFERROR(IF(IF(AND(BZ$9<>\"\",$H$3=\"計画\"),INDIRECT(\"'\"&$D17&\"　\"&$E17&\"'!B\"&CB$1),\nIF(AND(BZ$9<>\"\",$H$3=\"実績\"),INDIRECT(\"'\"&$D17&\"　\"&$E17&\"'!C\"&CB$1),\n\"\"))=\"対象外\",\"対象外\",BZ17/CA17),\"\")","v":""},{"$f":"IFERROR(IF(AND(CC$9<>\"\",$H$3=\"計画\"),INDIRECT(\"'\"&$D17&\"　\"&$E17&\"'!B\"&CC$1),\nIF(AND(CC$9<>\"\",$H$3=\"実績\"),INDIRECT(\"'\"&$D17&\"　\"&$E17&\"'!C\"&CC$1),\n\"\")),\"\")","v":""},{"$f":"IFERROR(IF(AND(CC$9<>\"\",$H$3=\"計画\"),INDIRECT(\"'\"&$D17&\"　\"&$E17&\"'!B\"&CD$1),\nIF(AND(CC$9<>\"\",$H$3=\"実績\"),INDIRECT(\"'\"&$D17&\"　\"&$E17&\"'!C\"&CD$1),\n\"\")),\"\")","v":""},{"$f":"IFERROR(IF(IF(AND(CC$9<>\"\",$H$3=\"計画\"),INDIRECT(\"'\"&$D17&\"　\"&$E17&\"'!B\"&CE$1),\nIF(AND(CC$9<>\"\",$H$3=\"実績\"),INDIRECT(\"'\"&$D17&\"　\"&$E17&\"'!C\"&CE$1),\n\"\"))=\"対象外\",\"対象外\",CC17/CD17),\"\")","v":""},{"$f":"IFERROR(IF(AND(CF$9<>\"\",$H$3=\"計画\"),INDIRECT(\"'\"&$D17&\"　\"&$E17&\"'!B\"&CF$1),\nIF(AND(CF$9<>\"\",$H$3=\"実績\"),INDIRECT(\"'\"&$D17&\"　\"&$E17&\"'!C\"&CF$1),\n\"\")),\"\")","v":""},{"$f":"IFERROR(IF(AND(CF$9<>\"\",$H$3=\"計画\"),INDIRECT(\"'\"&$D17&\"　\"&$E17&\"'!B\"&CG$1),\nIF(AND(CF$9<>\"\",$H$3=\"実績\"),INDIRECT(\"'\"&$D17&\"　\"&$E17&\"'!C\"&CG$1),\n\"\")),\"\")","v":""},{"$f":"IFERROR(IF(IF(AND(CF$9<>\"\",$H$3=\"計画\"),INDIRECT(\"'\"&$D17&\"　\"&$E17&\"'!B\"&CH$1),\nIF(AND(CF$9<>\"\",$H$3=\"実績\"),INDIRECT(\"'\"&$D17&\"　\"&$E17&\"'!C\"&CH$1),\n\"\"))=\"対象外\",\"対象外\",CF17/CG17),\"\")","v":""},{"$f":"IFERROR(IF(AND(CI$9<>\"\",$H$3=\"計画\"),INDIRECT(\"'\"&$D17&\"　\"&$E17&\"'!B\"&CI$1),\nIF(AND(CI$9<>\"\",$H$3=\"実績\"),INDIRECT(\"'\"&$D17&\"　\"&$E17&\"'!C\"&CI$1),\n\"\")),\"\")","v":""},{"$f":"IFERROR(IF(AND(CI$9<>\"\",$H$3=\"計画\"),INDIRECT(\"'\"&$D17&\"　\"&$E17&\"'!B\"&CJ$1),\nIF(AND(CI$9<>\"\",$H$3=\"実績\"),INDIRECT(\"'\"&$D17&\"　\"&$E17&\"'!C\"&CJ$1),\n\"\")),\"\")","v":""},{"$f":"IFERROR(IF(IF(AND(CI$9<>\"\",$H$3=\"計画\"),INDIRECT(\"'\"&$D17&\"　\"&$E17&\"'!B\"&CK$1),\nIF(AND(CI$9<>\"\",$H$3=\"実績\"),INDIRECT(\"'\"&$D17&\"　\"&$E17&\"'!C\"&CK$1),\n\"\"))=\"対象外\",\"対象外\",CI17/CJ17),\"\")","v":""},{"$f":"IFERROR(IF(AND(CL$9<>\"\",$H$3=\"計画\"),INDIRECT(\"'\"&$D17&\"　\"&$E17&\"'!B\"&CL$1),\nIF(AND(CL$9<>\"\",$H$3=\"実績\"),INDIRECT(\"'\"&$D17&\"　\"&$E17&\"'!C\"&CL$1),\n\"\")),\"\")","v":""},{"$f":"IFERROR(IF(AND(CL$9<>\"\",$H$3=\"計画\"),INDIRECT(\"'\"&$D17&\"　\"&$E17&\"'!B\"&CM$1),\nIF(AND(CL$9<>\"\",$H$3=\"実績\"),INDIRECT(\"'\"&$D17&\"　\"&$E17&\"'!C\"&CM$1),\n\"\")),\"\")","v":""},{"$f":"IFERROR(IF(IF(AND(CL$9<>\"\",$H$3=\"計画\"),INDIRECT(\"'\"&$D17&\"　\"&$E17&\"'!B\"&CN$1),\nIF(AND(CL$9<>\"\",$H$3=\"実績\"),INDIRECT(\"'\"&$D17&\"　\"&$E17&\"'!C\"&CN$1),\n\"\"))=\"対象外\",\"対象外\",CL17/CM17),\"\")","v":""},{"$f":"IFERROR(IF(AND(CO$9<>\"\",$H$3=\"計画\"),INDIRECT(\"'\"&$D17&\"　\"&$E17&\"'!B\"&CO$1),\nIF(AND(CO$9<>\"\",$H$3=\"実績\"),INDIRECT(\"'\"&$D17&\"　\"&$E17&\"'!C\"&CO$1),\n\"\")),\"\")","v":""},{"$f":"IFERROR(IF(AND(CO$9<>\"\",$H$3=\"計画\"),INDIRECT(\"'\"&$D17&\"　\"&$E17&\"'!B\"&CP$1),\nIF(AND(CO$9<>\"\",$H$3=\"実績\"),INDIRECT(\"'\"&$D17&\"　\"&$E17&\"'!C\"&CP$1),\n\"\")),\"\")","v":""},{"$f":"IFERROR(IF(IF(AND(CO$9<>\"\",$H$3=\"計画\"),INDIRECT(\"'\"&$D17&\"　\"&$E17&\"'!B\"&CQ$1),\nIF(AND(CO$9<>\"\",$H$3=\"実績\"),INDIRECT(\"'\"&$D17&\"　\"&$E17&\"'!C\"&CQ$1),\n\"\"))=\"対象外\",\"対象外\",CO17/CP17),\"\")","v":""},{"$f":"IFERROR(IF(AND(CR$9<>\"\",$H$3=\"計画\"),INDIRECT(\"'\"&$D17&\"　\"&$E17&\"'!B\"&CR$1),\nIF(AND(CR$9<>\"\",$H$3=\"実績\"),INDIRECT(\"'\"&$D17&\"　\"&$E17&\"'!C\"&CR$1),\n\"\")),\"\")","v":""},{"$f":"IFERROR(IF(AND(CR$9<>\"\",$H$3=\"計画\"),INDIRECT(\"'\"&$D17&\"　\"&$E17&\"'!B\"&CS$1),\nIF(AND(CR$9<>\"\",$H$3=\"実績\"),INDIRECT(\"'\"&$D17&\"　\"&$E17&\"'!C\"&CS$1),\n\"\")),\"\")","v":""},{"$f":"IFERROR(IF(IF(AND(CR$9<>\"\",$H$3=\"計画\"),INDIRECT(\"'\"&$D17&\"　\"&$E17&\"'!B\"&CT$1),\nIF(AND(CR$9<>\"\",$H$3=\"実績\"),INDIRECT(\"'\"&$D17&\"　\"&$E17&\"'!C\"&CT$1),\n\"\"))=\"対象外\",\"対象外\",CR17/CS17),\"\")","v":""},{"$f":"IFERROR(IF(AND(CU$9<>\"\",$H$3=\"計画\"),INDIRECT(\"'\"&$D17&\"　\"&$E17&\"'!B\"&CU$1),\nIF(AND(CU$9<>\"\",$H$3=\"実績\"),INDIRECT(\"'\"&$D17&\"　\"&$E17&\"'!C\"&CU$1),\n\"\")),\"\")","v":""},{"$f":"IFERROR(IF(AND(CU$9<>\"\",$H$3=\"計画\"),INDIRECT(\"'\"&$D17&\"　\"&$E17&\"'!B\"&CV$1),\nIF(AND(CU$9<>\"\",$H$3=\"実績\"),INDIRECT(\"'\"&$D17&\"　\"&$E17&\"'!C\"&CV$1),\n\"\")),\"\")","v":""},{"$f":"IFERROR(IF(IF(AND(CU$9<>\"\",$H$3=\"計画\"),INDIRECT(\"'\"&$D17&\"　\"&$E17&\"'!B\"&CW$1),\nIF(AND(CU$9<>\"\",$H$3=\"実績\"),INDIRECT(\"'\"&$D17&\"　\"&$E17&\"'!C\"&CW$1),\n\"\"))=\"対象外\",\"対象外\",CU17/CV17),\"\")","v":""},{"$f":"IFERROR(IF(AND(CX$9<>\"\",$H$3=\"計画\"),INDIRECT(\"'\"&$D17&\"　\"&$E17&\"'!B\"&CX$1),\nIF(AND(CX$9<>\"\",$H$3=\"実績\"),INDIRECT(\"'\"&$D17&\"　\"&$E17&\"'!C\"&CX$1),\n\"\")),\"\")","v":""},{"$f":"IFERROR(IF(AND(CX$9<>\"\",$H$3=\"計画\"),INDIRECT(\"'\"&$D17&\"　\"&$E17&\"'!B\"&CY$1),\nIF(AND(CX$9<>\"\",$H$3=\"実績\"),INDIRECT(\"'\"&$D17&\"　\"&$E17&\"'!C\"&CY$1),\n\"\")),\"\")","v":""},{"$f":"IFERROR(IF(IF(AND(CX$9<>\"\",$H$3=\"計画\"),INDIRECT(\"'\"&$D17&\"　\"&$E17&\"'!B\"&CZ$1),\nIF(AND(CX$9<>\"\",$H$3=\"実績\"),INDIRECT(\"'\"&$D17&\"　\"&$E17&\"'!C\"&CZ$1),\n\"\"))=\"対象外\",\"対象外\",CX17/CY17),\"\")","v":""},{"$f":"IFERROR(IF(AND(DA$9<>\"\",$H$3=\"計画\"),INDIRECT(\"'\"&$D17&\"　\"&$E17&\"'!B\"&DA$1),\nIF(AND(DA$9<>\"\",$H$3=\"実績\"),INDIRECT(\"'\"&$D17&\"　\"&$E17&\"'!C\"&DA$1),\n\"\")),\"\")","v":""},{"$f":"IFERROR(IF(AND(DA$9<>\"\",$H$3=\"計画\"),INDIRECT(\"'\"&$D17&\"　\"&$E17&\"'!B\"&DB$1),\nIF(AND(DA$9<>\"\",$H$3=\"実績\"),INDIRECT(\"'\"&$D17&\"　\"&$E17&\"'!C\"&DB$1),\n\"\")),\"\")","v":""},{"$f":"IFERROR(IF(IF(AND(DA$9<>\"\",$H$3=\"計画\"),INDIRECT(\"'\"&$D17&\"　\"&$E17&\"'!B\"&DC$1),\nIF(AND(DA$9<>\"\",$H$3=\"実績\"),INDIRECT(\"'\"&$D17&\"　\"&$E17&\"'!C\"&DC$1),\n\"\"))=\"対象外\",\"対象外\",DA17/DB17),\"\")","v":""},{"$f":"IFERROR(IF(AND(DD$9<>\"\",$H$3=\"計画\"),INDIRECT(\"'\"&$D17&\"　\"&$E17&\"'!B\"&DD$1),\nIF(AND(DD$9<>\"\",$H$3=\"実績\"),INDIRECT(\"'\"&$D17&\"　\"&$E17&\"'!C\"&DD$1),\n\"\")),\"\")","v":""},{"$f":"IFERROR(IF(AND(DD$9<>\"\",$H$3=\"計画\"),INDIRECT(\"'\"&$D17&\"　\"&$E17&\"'!B\"&DE$1),\nIF(AND(DD$9<>\"\",$H$3=\"実績\"),INDIRECT(\"'\"&$D17&\"　\"&$E17&\"'!C\"&DE$1),\n\"\")),\"\")","v":""},{"$f":"IFERROR(IF(IF(AND(DD$9<>\"\",$H$3=\"計画\"),INDIRECT(\"'\"&$D17&\"　\"&$E17&\"'!B\"&DF$1),\nIF(AND(DD$9<>\"\",$H$3=\"実績\"),INDIRECT(\"'\"&$D17&\"　\"&$E17&\"'!C\"&DF$1),\n\"\"))=\"対象外\",\"対象外\",DD17/DE17),\"\")","v":""},{"$f":"IFERROR(IF(AND(DG$9<>\"\",$H$3=\"計画\"),INDIRECT(\"'\"&$D17&\"　\"&$E17&\"'!B\"&DG$1),\nIF(AND(DG$9<>\"\",$H$3=\"実績\"),INDIRECT(\"'\"&$D17&\"　\"&$E17&\"'!C\"&DG$1),\n\"\")),\"\")","v":""},{"$f":"IFERROR(IF(AND(DG$9<>\"\",$H$3=\"計画\"),INDIRECT(\"'\"&$D17&\"　\"&$E17&\"'!B\"&DH$1),\nIF(AND(DG$9<>\"\",$H$3=\"実績\"),INDIRECT(\"'\"&$D17&\"　\"&$E17&\"'!C\"&DH$1),\n\"\")),\"\")","v":""},{"$f":"IFERROR(IF(IF(AND(DG$9<>\"\",$H$3=\"計画\"),INDIRECT(\"'\"&$D17&\"　\"&$E17&\"'!B\"&DI$1),\nIF(AND(DG$9<>\"\",$H$3=\"実績\"),INDIRECT(\"'\"&$D17&\"　\"&$E17&\"'!C\"&DI$1),\n\"\"))=\"対象外\",\"対象外\",DG17/DH17),\"\")","v":""},{"$f":"IFERROR(IF(AND(DJ$9<>\"\",$H$3=\"計画\"),INDIRECT(\"'\"&$D17&\"　\"&$E17&\"'!B\"&DJ$1),\nIF(AND(DJ$9<>\"\",$H$3=\"実績\"),INDIRECT(\"'\"&$D17&\"　\"&$E17&\"'!C\"&DJ$1),\n\"\")),\"\")","v":""},{"$f":"IFERROR(IF(AND(DJ$9<>\"\",$H$3=\"計画\"),INDIRECT(\"'\"&$D17&\"　\"&$E17&\"'!B\"&DK$1),\nIF(AND(DJ$9<>\"\",$H$3=\"実績\"),INDIRECT(\"'\"&$D17&\"　\"&$E17&\"'!C\"&DK$1),\n\"\")),\"\")","v":""},{"$f":"IFERROR(IF(IF(AND(DJ$9<>\"\",$H$3=\"計画\"),INDIRECT(\"'\"&$D17&\"　\"&$E17&\"'!B\"&DL$1),\nIF(AND(DJ$9<>\"\",$H$3=\"実績\"),INDIRECT(\"'\"&$D17&\"　\"&$E17&\"'!C\"&DL$1),\n\"\"))=\"対象外\",\"対象外\",DJ17/DK17),\"\")","v":""}]
[null,null,null,null,null,"","",{"$f":"IFERROR(IF(IF(H$3=\"計画\",INDIRECT(\"'\"&$D18&\"　\"&$E18&\"'!B\"&H$1),\nIF(H$3=\"実績\",INDIRECT(\"'\"&$D18&\"　\"&$E18&\"'!C\"&H$1),\n\"\"))>=28,F18/G18,\"対象外\"),\"\")","v":""},{"$f":"IFERROR(IF(AND(I$9<>\"\",$H$3=\"計画\"),INDIRECT(\"'\"&$D18&\"　\"&$E18&\"'!B\"&I$1),\nIF(AND(I$9<>\"\",$H$3=\"実績\"),INDIRECT(\"'\"&$D18&\"　\"&$E18&\"'!C\"&I$1),\n\"\")),\"\")","v":""},{"$f":"IFERROR(IF(AND(I$9<>\"\",$H$3=\"計画\"),INDIRECT(\"'\"&$D18&\"　\"&$E18&\"'!B\"&J$1),\nIF(AND(I$9<>\"\",$H$3=\"実績\"),INDIRECT(\"'\"&$D18&\"　\"&$E18&\"'!C\"&J$1),\n\"\")),\"\")","v":""},{"$f":"IFERROR(IF(IF(AND(I$9<>\"\",$H$3=\"計画\"),INDIRECT(\"'\"&$D18&\"　\"&$E18&\"'!B\"&K$1),\nIF(AND(I$9<>\"\",$H$3=\"実績\"),INDIRECT(\"'\"&$D18&\"　\"&$E18&\"'!C\"&K$1),\n\"\"))=\"対象外\",\"対象外\",I18/J18),\"\")","v":""},{"$f":"IFERROR(IF(AND(L$9<>\"\",$H$3=\"計画\"),INDIRECT(\"'\"&$D18&\"　\"&$E18&\"'!B\"&L$1),\nIF(AND(L$9<>\"\",$H$3=\"実績\"),INDIRECT(\"'\"&$D18&\"　\"&$E18&\"'!C\"&L$1),\n\"\")),\"\")","v":""},{"$f":"IFERROR(IF(AND(L$9<>\"\",$H$3=\"計画\"),INDIRECT(\"'\"&$D18&\"　\"&$E18&\"'!B\"&M$1),\nIF(AND(L$9<>\"\",$H$3=\"実績\"),INDIRECT(\"'\"&$D18&\"　\"&$E18&\"'!C\"&M$1),\n\"\")),\"\")","v":""},{"$f":"IFERROR(IF(IF(AND(L$9<>\"\",$H$3=\"計画\"),INDIRECT(\"'\"&$D18&\"　\"&$E18&\"'!B\"&N$1),\nIF(AND(L$9<>\"\",$H$3=\"実績\"),INDIRECT(\"'\"&$D18&\"　\"&$E18&\"'!C\"&N$1),\n\"\"))=\"対象外\",\"対象外\",L18/M18),\"\")","v":""},{"$f":"IFERROR(IF(AND(O$9<>\"\",$H$3=\"計画\"),INDIRECT(\"'\"&$D18&\"　\"&$E18&\"'!B\"&O$1),\nIF(AND(O$9<>\"\",$H$3=\"実績\"),INDIRECT(\"'\"&$D18&\"　\"&$E18&\"'!C\"&O$1),\n\"\")),\"\")","v":""},{"$f":"IFERROR(IF(AND(O$9<>\"\",$H$3=\"計画\"),INDIRECT(\"'\"&$D18&\"　\"&$E18&\"'!B\"&P$1),\nIF(AND(O$9<>\"\",$H$3=\"実績\"),INDIRECT(\"'\"&$D18&\"　\"&$E18&\"'!C\"&P$1),\n\"\")),\"\")","v":""},{"$f":"IFERROR(IF(IF(AND(O$9<>\"\",$H$3=\"計画\"),INDIRECT(\"'\"&$D18&\"　\"&$E18&\"'!B\"&Q$1),\nIF(AND(O$9<>\"\",$H$3=\"実績\"),INDIRECT(\"'\"&$D18&\"　\"&$E18&\"'!C\"&Q$1),\n\"\"))=\"対象外\",\"対象外\",O18/P18),\"\")","v":""},{"$f":"IFERROR(IF(AND(R$9<>\"\",$H$3=\"計画\"),INDIRECT(\"'\"&$D18&\"　\"&$E18&\"'!B\"&R$1),\nIF(AND(R$9<>\"\",$H$3=\"実績\"),INDIRECT(\"'\"&$D18&\"　\"&$E18&\"'!C\"&R$1),\n\"\")),\"\")","v":""},{"$f":"IFERROR(IF(AND(R$9<>\"\",$H$3=\"計画\"),INDIRECT(\"'\"&$D18&\"　\"&$E18&\"'!B\"&S$1),\nIF(AND(R$9<>\"\",$H$3=\"実績\"),INDIRECT(\"'\"&$D18&\"　\"&$E18&\"'!C\"&S$1),\n\"\")),\"\")","v":""},{"$f":"IFERROR(IF(IF(AND(R$9<>\"\",$H$3=\"計画\"),INDIRECT(\"'\"&$D18&\"　\"&$E18&\"'!B\"&T$1),\nIF(AND(R$9<>\"\",$H$3=\"実績\"),INDIRECT(\"'\"&$D18&\"　\"&$E18&\"'!C\"&T$1),\n\"\"))=\"対象外\",\"対象外\",R18/S18),\"\")","v":""},{"$f":"IFERROR(IF(AND(U$9<>\"\",$H$3=\"計画\"),INDIRECT(\"'\"&$D18&\"　\"&$E18&\"'!B\"&U$1),\nIF(AND(U$9<>\"\",$H$3=\"実績\"),INDIRECT(\"'\"&$D18&\"　\"&$E18&\"'!C\"&U$1),\n\"\")),\"\")","v":""},{"$f":"IFERROR(IF(AND(U$9<>\"\",$H$3=\"計画\"),INDIRECT(\"'\"&$D18&\"　\"&$E18&\"'!B\"&V$1),\nIF(AND(U$9<>\"\",$H$3=\"実績\"),INDIRECT(\"'\"&$D18&\"　\"&$E18&\"'!C\"&V$1),\n\"\")),\"\")","v":""},{"$f":"IFERROR(IF(IF(AND(U$9<>\"\",$H$3=\"計画\"),INDIRECT(\"'\"&$D18&\"　\"&$E18&\"'!B\"&W$1),\nIF(AND(U$9<>\"\",$H$3=\"実績\"),INDIRECT(\"'\"&$D18&\"　\"&$E18&\"'!C\"&W$1),\n\"\"))=\"対象外\",\"対象外\",U18/V18),\"\")","v":""},{"$f":"IFERROR(IF(AND(X$9<>\"\",$H$3=\"計画\"),INDIRECT(\"'\"&$D18&\"　\"&$E18&\"'!B\"&X$1),\nIF(AND(X$9<>\"\",$H$3=\"実績\"),INDIRECT(\"'\"&$D18&\"　\"&$E18&\"'!C\"&X$1),\n\"\")),\"\")","v":""},{"$f":"IFERROR(IF(AND(X$9<>\"\",$H$3=\"計画\"),INDIRECT(\"'\"&$D18&\"　\"&$E18&\"'!B\"&Y$1),\nIF(AND(X$9<>\"\",$H$3=\"実績\"),INDIRECT(\"'\"&$D18&\"　\"&$E18&\"'!C\"&Y$1),\n\"\")),\"\")","v":""},{"$f":"IFERROR(IF(IF(AND(X$9<>\"\",$H$3=\"計画\"),INDIRECT(\"'\"&$D18&\"　\"&$E18&\"'!B\"&Z$1),\nIF(AND(X$9<>\"\",$H$3=\"実績\"),INDIRECT(\"'\"&$D18&\"　\"&$E18&\"'!C\"&Z$1),\n\"\"))=\"対象外\",\"対象外\",X18/Y18),\"\")","v":""},{"$f":"IFERROR(IF(AND(AA$9<>\"\",$H$3=\"計画\"),INDIRECT(\"'\"&$D18&\"　\"&$E18&\"'!B\"&AA$1),\nIF(AND(AA$9<>\"\",$H$3=\"実績\"),INDIRECT(\"'\"&$D18&\"　\"&$E18&\"'!C\"&AA$1),\n\"\")),\"\")","v":""},{"$f":"IFERROR(IF(AND(AA$9<>\"\",$H$3=\"計画\"),INDIRECT(\"'\"&$D18&\"　\"&$E18&\"'!B\"&AB$1),\nIF(AND(AA$9<>\"\",$H$3=\"実績\"),INDIRECT(\"'\"&$D18&\"　\"&$E18&\"'!C\"&AB$1),\n\"\")),\"\")","v":""},{"$f":"IFERROR(IF(IF(AND(AA$9<>\"\",$H$3=\"計画\"),INDIRECT(\"'\"&$D18&\"　\"&$E18&\"'!B\"&AC$1),\nIF(AND(AA$9<>\"\",$H$3=\"実績\"),INDIRECT(\"'\"&$D18&\"　\"&$E18&\"'!C\"&AC$1),\n\"\"))=\"対象外\",\"対象外\",AA18/AB18),\"\")","v":""},{"$f":"IFERROR(IF(AND(AD$9<>\"\",$H$3=\"計画\"),INDIRECT(\"'\"&$D18&\"　\"&$E18&\"'!B\"&AD$1),\nIF(AND(AD$9<>\"\",$H$3=\"実績\"),INDIRECT(\"'\"&$D18&\"　\"&$E18&\"'!C\"&AD$1),\n\"\")),\"\")","v":""},{"$f":"IFERROR(IF(AND(AD$9<>\"\",$H$3=\"計画\"),INDIRECT(\"'\"&$D18&\"　\"&$E18&\"'!B\"&AE$1),\nIF(AND(AD$9<>\"\",$H$3=\"実績\"),INDIRECT(\"'\"&$D18&\"　\"&$E18&\"'!C\"&AE$1),\n\"\")),\"\")","v":""},{"$f":"IFERROR(IF(IF(AND(AD$9<>\"\",$H$3=\"計画\"),INDIRECT(\"'\"&$D18&\"　\"&$E18&\"'!B\"&AF$1),\nIF(AND(AD$9<>\"\",$H$3=\"実績\"),INDIRECT(\"'\"&$D18&\"　\"&$E18&\"'!C\"&AF$1),\n\"\"))=\"対象外\",\"対象外\",AD18/AE18),\"\")","v":""},{"$f":"IFERROR(IF(AND(AG$9<>\"\",$H$3=\"計画\"),INDIRECT(\"'\"&$D18&\"　\"&$E18&\"'!B\"&AG$1),\nIF(AND(AG$9<>\"\",$H$3=\"実績\"),INDIRECT(\"'\"&$D18&\"　\"&$E18&\"'!C\"&AG$1),\n\"\")),\"\")","v":""},{"$f":"IFERROR(IF(AND(AG$9<>\"\",$H$3=\"計画\"),INDIRECT(\"'\"&$D18&\"　\"&$E18&\"'!B\"&AH$1),\nIF(AND(AG$9<>\"\",$H$3=\"実績\"),INDIRECT(\"'\"&$D18&\"　\"&$E18&\"'!C\"&AH$1),\n\"\")),\"\")","v":""},{"$f":"IFERROR(IF(IF(AND(AG$9<>\"\",$H$3=\"計画\"),INDIRECT(\"'\"&$D18&\"　\"&$E18&\"'!B\"&AI$1),\nIF(AND(AG$9<>\"\",$H$3=\"実績\"),INDIRECT(\"'\"&$D18&\"　\"&$E18&\"'!C\"&AI$1),\n\"\"))=\"対象外\",\"対象外\",AG18/AH18),\"\")","v":""},{"$f":"IFERROR(IF(AND(AJ$9<>\"\",$H$3=\"計画\"),INDIRECT(\"'\"&$D18&\"　\"&$E18&\"'!B\"&AJ$1),\nIF(AND(AJ$9<>\"\",$H$3=\"実績\"),INDIRECT(\"'\"&$D18&\"　\"&$E18&\"'!C\"&AJ$1),\n\"\")),\"\")","v":""},{"$f":"IFERROR(IF(AND(AJ$9<>\"\",$H$3=\"計画\"),INDIRECT(\"'\"&$D18&\"　\"&$E18&\"'!B\"&AK$1),\nIF(AND(AJ$9<>\"\",$H$3=\"実績\"),INDIRECT(\"'\"&$D18&\"　\"&$E18&\"'!C\"&AK$1),\n\"\")),\"\")","v":""},{"$f":"IFERROR(IF(IF(AND(AJ$9<>\"\",$H$3=\"計画\"),INDIRECT(\"'\"&$D18&\"　\"&$E18&\"'!B\"&AL$1),\nIF(AND(AJ$9<>\"\",$H$3=\"実績\"),INDIRECT(\"'\"&$D18&\"　\"&$E18&\"'!C\"&AL$1),\n\"\"))=\"対象外\",\"対象外\",AJ18/AK18),\"\")","v":""},{"$f":"IFERROR(IF(AND(AM$9<>\"\",$H$3=\"計画\"),INDIRECT(\"'\"&$D18&\"　\"&$E18&\"'!B\"&AM$1),\nIF(AND(AM$9<>\"\",$H$3=\"実績\"),INDIRECT(\"'\"&$D18&\"　\"&$E18&\"'!C\"&AM$1),\n\"\")),\"\")","v":""},{"$f":"IFERROR(IF(AND(AM$9<>\"\",$H$3=\"計画\"),INDIRECT(\"'\"&$D18&\"　\"&$E18&\"'!B\"&AN$1),\nIF(AND(AM$9<>\"\",$H$3=\"実績\"),INDIRECT(\"'\"&$D18&\"　\"&$E18&\"'!C\"&AN$1),\n\"\")),\"\")","v":""},{"$f":"IFERROR(IF(IF(AND(AM$9<>\"\",$H$3=\"計画\"),INDIRECT(\"'\"&$D18&\"　\"&$E18&\"'!B\"&AO$1),\nIF(AND(AM$9<>\"\",$H$3=\"実績\"),INDIRECT(\"'\"&$D18&\"　\"&$E18&\"'!C\"&AO$1),\n\"\"))=\"対象外\",\"対象外\",AM18/AN18),\"\")","v":""},{"$f":"IFERROR(IF(AND(AP$9<>\"\",$H$3=\"計画\"),INDIRECT(\"'\"&$D18&\"　\"&$E18&\"'!B\"&AP$1),\nIF(AND(AP$9<>\"\",$H$3=\"実績\"),INDIRECT(\"'\"&$D18&\"　\"&$E18&\"'!C\"&AP$1),\n\"\")),\"\")","v":""},{"$f":"IFERROR(IF(AND(AP$9<>\"\",$H$3=\"計画\"),INDIRECT(\"'\"&$D18&\"　\"&$E18&\"'!B\"&AQ$1),\nIF(AND(AP$9<>\"\",$H$3=\"実績\"),INDIRECT(\"'\"&$D18&\"　\"&$E18&\"'!C\"&AQ$1),\n\"\")),\"\")","v":""},{"$f":"IFERROR(IF(IF(AND(AP$9<>\"\",$H$3=\"計画\"),INDIRECT(\"'\"&$D18&\"　\"&$E18&\"'!B\"&AR$1),\nIF(AND(AP$9<>\"\",$H$3=\"実績\"),INDIRECT(\"'\"&$D18&\"　\"&$E18&\"'!C\"&AR$1),\n\"\"))=\"対象外\",\"対象外\",AP18/AQ18),\"\")","v":""},{"$f":"IFERROR(IF(AND(AS$9<>\"\",$H$3=\"計画\"),INDIRECT(\"'\"&$D18&\"　\"&$E18&\"'!B\"&AS$1),\nIF(AND(AS$9<>\"\",$H$3=\"実績\"),INDIRECT(\"'\"&$D18&\"　\"&$E18&\"'!C\"&AS$1),\n\"\")),\"\")","v":""},{"$f":"IFERROR(IF(AND(AS$9<>\"\",$H$3=\"計画\"),INDIRECT(\"'\"&$D18&\"　\"&$E18&\"'!B\"&AT$1),\nIF(AND(AS$9<>\"\",$H$3=\"実績\"),INDIRECT(\"'\"&$D18&\"　\"&$E18&\"'!C\"&AT$1),\n\"\")),\"\")","v":""},{"$f":"IFERROR(IF(IF(AND(AS$9<>\"\",$H$3=\"計画\"),INDIRECT(\"'\"&$D18&\"　\"&$E18&\"'!B\"&AU$1),\nIF(AND(AS$9<>\"\",$H$3=\"実績\"),INDIRECT(\"'\"&$D18&\"　\"&$E18&\"'!C\"&AU$1),\n\"\"))=\"対象外\",\"対象外\",AS18/AT18),\"\")","v":""},{"$f":"IFERROR(IF(AND(AV$9<>\"\",$H$3=\"計画\"),INDIRECT(\"'\"&$D18&\"　\"&$E18&\"'!B\"&AV$1),\nIF(AND(AV$9<>\"\",$H$3=\"実績\"),INDIRECT(\"'\"&$D18&\"　\"&$E18&\"'!C\"&AV$1),\n\"\")),\"\")","v":""},{"$f":"IFERROR(IF(AND(AV$9<>\"\",$H$3=\"計画\"),INDIRECT(\"'\"&$D18&\"　\"&$E18&\"'!B\"&AW$1),\nIF(AND(AV$9<>\"\",$H$3=\"実績\"),INDIRECT(\"'\"&$D18&\"　\"&$E18&\"'!C\"&AW$1),\n\"\")),\"\")","v":""},{"$f":"IFERROR(IF(IF(AND(AV$9<>\"\",$H$3=\"計画\"),INDIRECT(\"'\"&$D18&\"　\"&$E18&\"'!B\"&AX$1),\nIF(AND(AV$9<>\"\",$H$3=\"実績\"),INDIRECT(\"'\"&$D18&\"　\"&$E18&\"'!C\"&AX$1),\n\"\"))=\"対象外\",\"対象外\",AV18/AW18),\"\")","v":""},{"$f":"IFERROR(IF(AND(AY$9<>\"\",$H$3=\"計画\"),INDIRECT(\"'\"&$D18&\"　\"&$E18&\"'!B\"&AY$1),\nIF(AND(AY$9<>\"\",$H$3=\"実績\"),INDIRECT(\"'\"&$D18&\"　\"&$E18&\"'!C\"&AY$1),\n\"\")),\"\")","v":""},{"$f":"IFERROR(IF(AND(AY$9<>\"\",$H$3=\"計画\"),INDIRECT(\"'\"&$D18&\"　\"&$E18&\"'!B\"&AZ$1),\nIF(AND(AY$9<>\"\",$H$3=\"実績\"),INDIRECT(\"'\"&$D18&\"　\"&$E18&\"'!C\"&AZ$1),\n\"\")),\"\")","v":""},{"$f":"IFERROR(IF(IF(AND(AY$9<>\"\",$H$3=\"計画\"),INDIRECT(\"'\"&$D18&\"　\"&$E18&\"'!B\"&BA$1),\nIF(AND(AY$9<>\"\",$H$3=\"実績\"),INDIRECT(\"'\"&$D18&\"　\"&$E18&\"'!C\"&BA$1),\n\"\"))=\"対象外\",\"対象外\",AY18/AZ18),\"\")","v":""},{"$f":"IFERROR(IF(AND(BB$9<>\"\",$H$3=\"計画\"),INDIRECT(\"'\"&$D18&\"　\"&$E18&\"'!B\"&BB$1),\nIF(AND(BB$9<>\"\",$H$3=\"実績\"),INDIRECT(\"'\"&$D18&\"　\"&$E18&\"'!C\"&BB$1),\n\"\")),\"\")","v":""},{"$f":"IFERROR(IF(AND(BB$9<>\"\",$H$3=\"計画\"),INDIRECT(\"'\"&$D18&\"　\"&$E18&\"'!B\"&BC$1),\nIF(AND(BB$9<>\"\",$H$3=\"実績\"),INDIRECT(\"'\"&$D18&\"　\"&$E18&\"'!C\"&BC$1),\n\"\")),\"\")","v":""},{"$f":"IFERROR(IF(IF(AND(BB$9<>\"\",$H$3=\"計画\"),INDIRECT(\"'\"&$D18&\"　\"&$E18&\"'!B\"&BD$1),\nIF(AND(BB$9<>\"\",$H$3=\"実績\"),INDIRECT(\"'\"&$D18&\"　\"&$E18&\"'!C\"&BD$1),\n\"\"))=\"対象外\",\"対象外\",BB18/BC18),\"\")","v":""},{"$f":"IFERROR(IF(AND(BE$9<>\"\",$H$3=\"計画\"),INDIRECT(\"'\"&$D18&\"　\"&$E18&\"'!B\"&BE$1),\nIF(AND(BE$9<>\"\",$H$3=\"実績\"),INDIRECT(\"'\"&$D18&\"　\"&$E18&\"'!C\"&BE$1),\n\"\")),\"\")","v":""},{"$f":"IFERROR(IF(AND(BE$9<>\"\",$H$3=\"計画\"),INDIRECT(\"'\"&$D18&\"　\"&$E18&\"'!B\"&BF$1),\nIF(AND(BE$9<>\"\",$H$3=\"実績\"),INDIRECT(\"'\"&$D18&\"　\"&$E18&\"'!C\"&BF$1),\n\"\")),\"\")","v":""},{"$f":"IFERROR(IF(IF(AND(BE$9<>\"\",$H$3=\"計画\"),INDIRECT(\"'\"&$D18&\"　\"&$E18&\"'!B\"&BG$1),\nIF(AND(BE$9<>\"\",$H$3=\"実績\"),INDIRECT(\"'\"&$D18&\"　\"&$E18&\"'!C\"&BG$1),\n\"\"))=\"対象外\",\"対象外\",BE18/BF18),\"\")","v":""},{"$f":"IFERROR(IF(AND(BH$9<>\"\",$H$3=\"計画\"),INDIRECT(\"'\"&$D18&\"　\"&$E18&\"'!B\"&BH$1),\nIF(AND(BH$9<>\"\",$H$3=\"実績\"),INDIRECT(\"'\"&$D18&\"　\"&$E18&\"'!C\"&BH$1),\n\"\")),\"\")","v":""},{"$f":"IFERROR(IF(AND(BH$9<>\"\",$H$3=\"計画\"),INDIRECT(\"'\"&$D18&\"　\"&$E18&\"'!B\"&BI$1),\nIF(AND(BH$9<>\"\",$H$3=\"実績\"),INDIRECT(\"'\"&$D18&\"　\"&$E18&\"'!C\"&BI$1),\n\"\")),\"\")","v":""},{"$f":"IFERROR(IF(IF(AND(BH$9<>\"\",$H$3=\"計画\"),INDIRECT(\"'\"&$D18&\"　\"&$E18&\"'!B\"&BJ$1),\nIF(AND(BH$9<>\"\",$H$3=\"実績\"),INDIRECT(\"'\"&$D18&\"　\"&$E18&\"'!C\"&BJ$1),\n\"\"))=\"対象外\",\"対象外\",BH18/BI18),\"\")","v":""},{"$f":"IFERROR(IF(AND(BK$9<>\"\",$H$3=\"計画\"),INDIRECT(\"'\"&$D18&\"　\"&$E18&\"'!B\"&BK$1),\nIF(AND(BK$9<>\"\",$H$3=\"実績\"),INDIRECT(\"'\"&$D18&\"　\"&$E18&\"'!C\"&BK$1),\n\"\")),\"\")","v":""},{"$f":"IFERROR(IF(AND(BK$9<>\"\",$H$3=\"計画\"),INDIRECT(\"'\"&$D18&\"　\"&$E18&\"'!B\"&BL$1),\nIF(AND(BK$9<>\"\",$H$3=\"実績\"),INDIRECT(\"'\"&$D18&\"　\"&$E18&\"'!C\"&BL$1),\n\"\")),\"\")","v":""},{"$f":"IFERROR(IF(IF(AND(BK$9<>\"\",$H$3=\"計画\"),INDIRECT(\"'\"&$D18&\"　\"&$E18&\"'!B\"&BM$1),\nIF(AND(BK$9<>\"\",$H$3=\"実績\"),INDIRECT(\"'\"&$D18&\"　\"&$E18&\"'!C\"&BM$1),\n\"\"))=\"対象外\",\"対象外\",BK18/BL18),\"\")","v":""},{"$f":"IFERROR(IF(AND(BN$9<>\"\",$H$3=\"計画\"),INDIRECT(\"'\"&$D18&\"　\"&$E18&\"'!B\"&BN$1),\nIF(AND(BN$9<>\"\",$H$3=\"実績\"),INDIRECT(\"'\"&$D18&\"　\"&$E18&\"'!C\"&BN$1),\n\"\")),\"\")","v":""},{"$f":"IFERROR(IF(AND(BN$9<>\"\",$H$3=\"計画\"),INDIRECT(\"'\"&$D18&\"　\"&$E18&\"'!B\"&BO$1),\nIF(AND(BN$9<>\"\",$H$3=\"実績\"),INDIRECT(\"'\"&$D18&\"　\"&$E18&\"'!C\"&BO$1),\n\"\")),\"\")","v":""},{"$f":"IFERROR(IF(IF(AND(BN$9<>\"\",$H$3=\"計画\"),INDIRECT(\"'\"&$D18&\"　\"&$E18&\"'!B\"&BP$1),\nIF(AND(BN$9<>\"\",$H$3=\"実績\"),INDIRECT(\"'\"&$D18&\"　\"&$E18&\"'!C\"&BP$1),\n\"\"))=\"対象外\",\"対象外\",BN18/BO18),\"\")","v":""},{"$f":"IFERROR(IF(AND(BQ$9<>\"\",$H$3=\"計画\"),INDIRECT(\"'\"&$D18&\"　\"&$E18&\"'!B\"&BQ$1),\nIF(AND(BQ$9<>\"\",$H$3=\"実績\"),INDIRECT(\"'\"&$D18&\"　\"&$E18&\"'!C\"&BQ$1),\n\"\")),\"\")","v":""},{"$f":"IFERROR(IF(AND(BQ$9<>\"\",$H$3=\"計画\"),INDIRECT(\"'\"&$D18&\"　\"&$E18&\"'!B\"&BR$1),\nIF(AND(BQ$9<>\"\",$H$3=\"実績\"),INDIRECT(\"'\"&$D18&\"　\"&$E18&\"'!C\"&BR$1),\n\"\")),\"\")","v":""},{"$f":"IFERROR(IF(IF(AND(BQ$9<>\"\",$H$3=\"計画\"),INDIRECT(\"'\"&$D18&\"　\"&$E18&\"'!B\"&BS$1),\nIF(AND(BQ$9<>\"\",$H$3=\"実績\"),INDIRECT(\"'\"&$D18&\"　\"&$E18&\"'!C\"&BS$1),\n\"\"))=\"対象外\",\"対象外\",BQ18/BR18),\"\")","v":""},{"$f":"IFERROR(IF(AND(BT$9<>\"\",$H$3=\"計画\"),INDIRECT(\"'\"&$D18&\"　\"&$E18&\"'!B\"&BT$1),\nIF(AND(BT$9<>\"\",$H$3=\"実績\"),INDIRECT(\"'\"&$D18&\"　\"&$E18&\"'!C\"&BT$1),\n\"\")),\"\")","v":""},{"$f":"IFERROR(IF(AND(BT$9<>\"\",$H$3=\"計画\"),INDIRECT(\"'\"&$D18&\"　\"&$E18&\"'!B\"&BU$1),\nIF(AND(BT$9<>\"\",$H$3=\"実績\"),INDIRECT(\"'\"&$D18&\"　\"&$E18&\"'!C\"&BU$1),\n\"\")),\"\")","v":""},{"$f":"IFERROR(IF(IF(AND(BT$9<>\"\",$H$3=\"計画\"),INDIRECT(\"'\"&$D18&\"　\"&$E18&\"'!B\"&BV$1),\nIF(AND(BT$9<>\"\",$H$3=\"実績\"),INDIRECT(\"'\"&$D18&\"　\"&$E18&\"'!C\"&BV$1),\n\"\"))=\"対象外\",\"対象外\",BT18/BU18),\"\")","v":""},{"$f":"IFERROR(IF(AND(BW$9<>\"\",$H$3=\"計画\"),INDIRECT(\"'\"&$D18&\"　\"&$E18&\"'!B\"&BW$1),\nIF(AND(BW$9<>\"\",$H$3=\"実績\"),INDIRECT(\"'\"&$D18&\"　\"&$E18&\"'!C\"&BW$1),\n\"\")),\"\")","v":""},{"$f":"IFERROR(IF(AND(BW$9<>\"\",$H$3=\"計画\"),INDIRECT(\"'\"&$D18&\"　\"&$E18&\"'!B\"&BX$1),\nIF(AND(BW$9<>\"\",$H$3=\"実績\"),INDIRECT(\"'\"&$D18&\"　\"&$E18&\"'!C\"&BX$1),\n\"\")),\"\")","v":""},{"$f":"IFERROR(IF(IF(AND(BW$9<>\"\",$H$3=\"計画\"),INDIRECT(\"'\"&$D18&\"　\"&$E18&\"'!B\"&BY$1),\nIF(AND(BW$9<>\"\",$H$3=\"実績\"),INDIRECT(\"'\"&$D18&\"　\"&$E18&\"'!C\"&BY$1),\n\"\"))=\"対象外\",\"対象外\",BW18/BX18),\"\")","v":""},{"$f":"IFERROR(IF(AND(BZ$9<>\"\",$H$3=\"計画\"),INDIRECT(\"'\"&$D18&\"　\"&$E18&\"'!B\"&BZ$1),\nIF(AND(BZ$9<>\"\",$H$3=\"実績\"),INDIRECT(\"'\"&$D18&\"　\"&$E18&\"'!C\"&BZ$1),\n\"\")),\"\")","v":""},{"$f":"IFERROR(IF(AND(BZ$9<>\"\",$H$3=\"計画\"),INDIRECT(\"'\"&$D18&\"　\"&$E18&\"'!B\"&CA$1),\nIF(AND(BZ$9<>\"\",$H$3=\"実績\"),INDIRECT(\"'\"&$D18&\"　\"&$E18&\"'!C\"&CA$1),\n\"\")),\"\")","v":""},{"$f":"IFERROR(IF(IF(AND(BZ$9<>\"\",$H$3=\"計画\"),INDIRECT(\"'\"&$D18&\"　\"&$E18&\"'!B\"&CB$1),\nIF(AND(BZ$9<>\"\",$H$3=\"実績\"),INDIRECT(\"'\"&$D18&\"　\"&$E18&\"'!C\"&CB$1),\n\"\"))=\"対象外\",\"対象外\",BZ18/CA18),\"\")","v":""},{"$f":"IFERROR(IF(AND(CC$9<>\"\",$H$3=\"計画\"),INDIRECT(\"'\"&$D18&\"　\"&$E18&\"'!B\"&CC$1),\nIF(AND(CC$9<>\"\",$H$3=\"実績\"),INDIRECT(\"'\"&$D18&\"　\"&$E18&\"'!C\"&CC$1),\n\"\")),\"\")","v":""},{"$f":"IFERROR(IF(AND(CC$9<>\"\",$H$3=\"計画\"),INDIRECT(\"'\"&$D18&\"　\"&$E18&\"'!B\"&CD$1),\nIF(AND(CC$9<>\"\",$H$3=\"実績\"),INDIRECT(\"'\"&$D18&\"　\"&$E18&\"'!C\"&CD$1),\n\"\")),\"\")","v":""},{"$f":"IFERROR(IF(IF(AND(CC$9<>\"\",$H$3=\"計画\"),INDIRECT(\"'\"&$D18&\"　\"&$E18&\"'!B\"&CE$1),\nIF(AND(CC$9<>\"\",$H$3=\"実績\"),INDIRECT(\"'\"&$D18&\"　\"&$E18&\"'!C\"&CE$1),\n\"\"))=\"対象外\",\"対象外\",CC18/CD18),\"\")","v":""},{"$f":"IFERROR(IF(AND(CF$9<>\"\",$H$3=\"計画\"),INDIRECT(\"'\"&$D18&\"　\"&$E18&\"'!B\"&CF$1),\nIF(AND(CF$9<>\"\",$H$3=\"実績\"),INDIRECT(\"'\"&$D18&\"　\"&$E18&\"'!C\"&CF$1),\n\"\")),\"\")","v":""},{"$f":"IFERROR(IF(AND(CF$9<>\"\",$H$3=\"計画\"),INDIRECT(\"'\"&$D18&\"　\"&$E18&\"'!B\"&CG$1),\nIF(AND(CF$9<>\"\",$H$3=\"実績\"),INDIRECT(\"'\"&$D18&\"　\"&$E18&\"'!C\"&CG$1),\n\"\")),\"\")","v":""},{"$f":"IFERROR(IF(IF(AND(CF$9<>\"\",$H$3=\"計画\"),INDIRECT(\"'\"&$D18&\"　\"&$E18&\"'!B\"&CH$1),\nIF(AND(CF$9<>\"\",$H$3=\"実績\"),INDIRECT(\"'\"&$D18&\"　\"&$E18&\"'!C\"&CH$1),\n\"\"))=\"対象外\",\"対象外\",CF18/CG18),\"\")","v":""},{"$f":"IFERROR(IF(AND(CI$9<>\"\",$H$3=\"計画\"),INDIRECT(\"'\"&$D18&\"　\"&$E18&\"'!B\"&CI$1),\nIF(AND(CI$9<>\"\",$H$3=\"実績\"),INDIRECT(\"'\"&$D18&\"　\"&$E18&\"'!C\"&CI$1),\n\"\")),\"\")","v":""},{"$f":"IFERROR(IF(AND(CI$9<>\"\",$H$3=\"計画\"),INDIRECT(\"'\"&$D18&\"　\"&$E18&\"'!B\"&CJ$1),\nIF(AND(CI$9<>\"\",$H$3=\"実績\"),INDIRECT(\"'\"&$D18&\"　\"&$E18&\"'!C\"&CJ$1),\n\"\")),\"\")","v":""},{"$f":"IFERROR(IF(IF(AND(CI$9<>\"\",$H$3=\"計画\"),INDIRECT(\"'\"&$D18&\"　\"&$E18&\"'!B\"&CK$1),\nIF(AND(CI$9<>\"\",$H$3=\"実績\"),INDIRECT(\"'\"&$D18&\"　\"&$E18&\"'!C\"&CK$1),\n\"\"))=\"対象外\",\"対象外\",CI18/CJ18),\"\")","v":""},{"$f":"IFERROR(IF(AND(CL$9<>\"\",$H$3=\"計画\"),INDIRECT(\"'\"&$D18&\"　\"&$E18&\"'!B\"&CL$1),\nIF(AND(CL$9<>\"\",$H$3=\"実績\"),INDIRECT(\"'\"&$D18&\"　\"&$E18&\"'!C\"&CL$1),\n\"\")),\"\")","v":""},{"$f":"IFERROR(IF(AND(CL$9<>\"\",$H$3=\"計画\"),INDIRECT(\"'\"&$D18&\"　\"&$E18&\"'!B\"&CM$1),\nIF(AND(CL$9<>\"\",$H$3=\"実績\"),INDIRECT(\"'\"&$D18&\"　\"&$E18&\"'!C\"&CM$1),\n\"\")),\"\")","v":""},{"$f":"IFERROR(IF(IF(AND(CL$9<>\"\",$H$3=\"計画\"),INDIRECT(\"'\"&$D18&\"　\"&$E18&\"'!B\"&CN$1),\nIF(AND(CL$9<>\"\",$H$3=\"実績\"),INDIRECT(\"'\"&$D18&\"　\"&$E18&\"'!C\"&CN$1),\n\"\"))=\"対象外\",\"対象外\",CL18/CM18),\"\")","v":""},{"$f":"IFERROR(IF(AND(CO$9<>\"\",$H$3=\"計画\"),INDIRECT(\"'\"&$D18&\"　\"&$E18&\"'!B\"&CO$1),\nIF(AND(CO$9<>\"\",$H$3=\"実績\"),INDIRECT(\"'\"&$D18&\"　\"&$E18&\"'!C\"&CO$1),\n\"\")),\"\")","v":""},{"$f":"IFERROR(IF(AND(CO$9<>\"\",$H$3=\"計画\"),INDIRECT(\"'\"&$D18&\"　\"&$E18&\"'!B\"&CP$1),\nIF(AND(CO$9<>\"\",$H$3=\"実績\"),INDIRECT(\"'\"&$D18&\"　\"&$E18&\"'!C\"&CP$1),\n\"\")),\"\")","v":""},{"$f":"IFERROR(IF(IF(AND(CO$9<>\"\",$H$3=\"計画\"),INDIRECT(\"'\"&$D18&\"　\"&$E18&\"'!B\"&CQ$1),\nIF(AND(CO$9<>\"\",$H$3=\"実績\"),INDIRECT(\"'\"&$D18&\"　\"&$E18&\"'!C\"&CQ$1),\n\"\"))=\"対象外\",\"対象外\",CO18/CP18),\"\")","v":""},{"$f":"IFERROR(IF(AND(CR$9<>\"\",$H$3=\"計画\"),INDIRECT(\"'\"&$D18&\"　\"&$E18&\"'!B\"&CR$1),\nIF(AND(CR$9<>\"\",$H$3=\"実績\"),INDIRECT(\"'\"&$D18&\"　\"&$E18&\"'!C\"&CR$1),\n\"\")),\"\")","v":""},{"$f":"IFERROR(IF(AND(CR$9<>\"\",$H$3=\"計画\"),INDIRECT(\"'\"&$D18&\"　\"&$E18&\"'!B\"&CS$1),\nIF(AND(CR$9<>\"\",$H$3=\"実績\"),INDIRECT(\"'\"&$D18&\"　\"&$E18&\"'!C\"&CS$1),\n\"\")),\"\")","v":""},{"$f":"IFERROR(IF(IF(AND(CR$9<>\"\",$H$3=\"計画\"),INDIRECT(\"'\"&$D18&\"　\"&$E18&\"'!B\"&CT$1),\nIF(AND(CR$9<>\"\",$H$3=\"実績\"),INDIRECT(\"'\"&$D18&\"　\"&$E18&\"'!C\"&CT$1),\n\"\"))=\"対象外\",\"対象外\",CR18/CS18),\"\")","v":""},{"$f":"IFERROR(IF(AND(CU$9<>\"\",$H$3=\"計画\"),INDIRECT(\"'\"&$D18&\"　\"&$E18&\"'!B\"&CU$1),\nIF(AND(CU$9<>\"\",$H$3=\"実績\"),INDIRECT(\"'\"&$D18&\"　\"&$E18&\"'!C\"&CU$1),\n\"\")),\"\")","v":""},{"$f":"IFERROR(IF(AND(CU$9<>\"\",$H$3=\"計画\"),INDIRECT(\"'\"&$D18&\"　\"&$E18&\"'!B\"&CV$1),\nIF(AND(CU$9<>\"\",$H$3=\"実績\"),INDIRECT(\"'\"&$D18&\"　\"&$E18&\"'!C\"&CV$1),\n\"\")),\"\")","v":""},{"$f":"IFERROR(IF(IF(AND(CU$9<>\"\",$H$3=\"計画\"),INDIRECT(\"'\"&$D18&\"　\"&$E18&\"'!B\"&CW$1),\nIF(AND(CU$9<>\"\",$H$3=\"実績\"),INDIRECT(\"'\"&$D18&\"　\"&$E18&\"'!C\"&CW$1),\n\"\"))=\"対象外\",\"対象外\",CU18/CV18),\"\")","v":""},{"$f":"IFERROR(IF(AND(CX$9<>\"\",$H$3=\"計画\"),INDIRECT(\"'\"&$D18&\"　\"&$E18&\"'!B\"&CX$1),\nIF(AND(CX$9<>\"\",$H$3=\"実績\"),INDIRECT(\"'\"&$D18&\"　\"&$E18&\"'!C\"&CX$1),\n\"\")),\"\")","v":""},{"$f":"IFERROR(IF(AND(CX$9<>\"\",$H$3=\"計画\"),INDIRECT(\"'\"&$D18&\"　\"&$E18&\"'!B\"&CY$1),\nIF(AND(CX$9<>\"\",$H$3=\"実績\"),INDIRECT(\"'\"&$D18&\"　\"&$E18&\"'!C\"&CY$1),\n\"\")),\"\")","v":""},{"$f":"IFERROR(IF(IF(AND(CX$9<>\"\",$H$3=\"計画\"),INDIRECT(\"'\"&$D18&\"　\"&$E18&\"'!B\"&CZ$1),\nIF(AND(CX$9<>\"\",$H$3=\"実績\"),INDIRECT(\"'\"&$D18&\"　\"&$E18&\"'!C\"&CZ$1),\n\"\"))=\"対象外\",\"対象外\",CX18/CY18),\"\")","v":""},{"$f":"IFERROR(IF(AND(DA$9<>\"\",$H$3=\"計画\"),INDIRECT(\"'\"&$D18&\"　\"&$E18&\"'!B\"&DA$1),\nIF(AND(DA$9<>\"\",$H$3=\"実績\"),INDIRECT(\"'\"&$D18&\"　\"&$E18&\"'!C\"&DA$1),\n\"\")),\"\")","v":""},{"$f":"IFERROR(IF(AND(DA$9<>\"\",$H$3=\"計画\"),INDIRECT(\"'\"&$D18&\"　\"&$E18&\"'!B\"&DB$1),\nIF(AND(DA$9<>\"\",$H$3=\"実績\"),INDIRECT(\"'\"&$D18&\"　\"&$E18&\"'!C\"&DB$1),\n\"\")),\"\")","v":""},{"$f":"IFERROR(IF(IF(AND(DA$9<>\"\",$H$3=\"計画\"),INDIRECT(\"'\"&$D18&\"　\"&$E18&\"'!B\"&DC$1),\nIF(AND(DA$9<>\"\",$H$3=\"実績\"),INDIRECT(\"'\"&$D18&\"　\"&$E18&\"'!C\"&DC$1),\n\"\"))=\"対象外\",\"対象外\",DA18/DB18),\"\")","v":""},{"$f":"IFERROR(IF(AND(DD$9<>\"\",$H$3=\"計画\"),INDIRECT(\"'\"&$D18&\"　\"&$E18&\"'!B\"&DD$1),\nIF(AND(DD$9<>\"\",$H$3=\"実績\"),INDIRECT(\"'\"&$D18&\"　\"&$E18&\"'!C\"&DD$1),\n\"\")),\"\")","v":""},{"$f":"IFERROR(IF(AND(DD$9<>\"\",$H$3=\"計画\"),INDIRECT(\"'\"&$D18&\"　\"&$E18&\"'!B\"&DE$1),\nIF(AND(DD$9<>\"\",$H$3=\"実績\"),INDIRECT(\"'\"&$D18&\"　\"&$E18&\"'!C\"&DE$1),\n\"\")),\"\")","v":""},{"$f":"IFERROR(IF(IF(AND(DD$9<>\"\",$H$3=\"計画\"),INDIRECT(\"'\"&$D18&\"　\"&$E18&\"'!B\"&DF$1),\nIF(AND(DD$9<>\"\",$H$3=\"実績\"),INDIRECT(\"'\"&$D18&\"　\"&$E18&\"'!C\"&DF$1),\n\"\"))=\"対象外\",\"対象外\",DD18/DE18),\"\")","v":""},{"$f":"IFERROR(IF(AND(DG$9<>\"\",$H$3=\"計画\"),INDIRECT(\"'\"&$D18&\"　\"&$E18&\"'!B\"&DG$1),\nIF(AND(DG$9<>\"\",$H$3=\"実績\"),INDIRECT(\"'\"&$D18&\"　\"&$E18&\"'!C\"&DG$1),\n\"\")),\"\")","v":""},{"$f":"IFERROR(IF(AND(DG$9<>\"\",$H$3=\"計画\"),INDIRECT(\"'\"&$D18&\"　\"&$E18&\"'!B\"&DH$1),\nIF(AND(DG$9<>\"\",$H$3=\"実績\"),INDIRECT(\"'\"&$D18&\"　\"&$E18&\"'!C\"&DH$1),\n\"\")),\"\")","v":""},{"$f":"IFERROR(IF(IF(AND(DG$9<>\"\",$H$3=\"計画\"),INDIRECT(\"'\"&$D18&\"　\"&$E18&\"'!B\"&DI$1),\nIF(AND(DG$9<>\"\",$H$3=\"実績\"),INDIRECT(\"'\"&$D18&\"　\"&$E18&\"'!C\"&DI$1),\n\"\"))=\"対象外\",\"対象外\",DG18/DH18),\"\")","v":""},{"$f":"IFERROR(IF(AND(DJ$9<>\"\",$H$3=\"計画\"),INDIRECT(\"'\"&$D18&\"　\"&$E18&\"'!B\"&DJ$1),\nIF(AND(DJ$9<>\"\",$H$3=\"実績\"),INDIRECT(\"'\"&$D18&\"　\"&$E18&\"'!C\"&DJ$1),\n\"\")),\"\")","v":""},{"$f":"IFERROR(IF(AND(DJ$9<>\"\",$H$3=\"計画\"),INDIRECT(\"'\"&$D18&\"　\"&$E18&\"'!B\"&DK$1),\nIF(AND(DJ$9<>\"\",$H$3=\"実績\"),INDIRECT(\"'\"&$D18&\"　\"&$E18&\"'!C\"&DK$1),\n\"\")),\"\")","v":""},{"$f":"IFERROR(IF(IF(AND(DJ$9<>\"\",$H$3=\"計画\"),INDIRECT(\"'\"&$D18&\"　\"&$E18&\"'!B\"&DL$1),\nIF(AND(DJ$9<>\"\",$H$3=\"実績\"),INDIRECT(\"'\"&$D18&\"　\"&$E18&\"'!C\"&DL$1),\n\"\"))=\"対象外\",\"対象外\",DJ18/DK18),\"\")","v":""}]
[null,null,null,null,null,"","",{"$f":"IFERROR(IF(IF(H$3=\"計画\",INDIRECT(\"'\"&$D19&\"　\"&$E19&\"'!B\"&H$1),\nIF(H$3=\"実績\",INDIRECT(\"'\"&$D19&\"　\"&$E19&\"'!C\"&H$1),\n\"\"))>=28,F19/G19,\"対象外\"),\"\")","v":""},{"$f":"IFERROR(IF(AND(I$9<>\"\",$H$3=\"計画\"),INDIRECT(\"'\"&$D19&\"　\"&$E19&\"'!B\"&I$1),\nIF(AND(I$9<>\"\",$H$3=\"実績\"),INDIRECT(\"'\"&$D19&\"　\"&$E19&\"'!C\"&I$1),\n\"\")),\"\")","v":""},{"$f":"IFERROR(IF(AND(I$9<>\"\",$H$3=\"計画\"),INDIRECT(\"'\"&$D19&\"　\"&$E19&\"'!B\"&J$1),\nIF(AND(I$9<>\"\",$H$3=\"実績\"),INDIRECT(\"'\"&$D19&\"　\"&$E19&\"'!C\"&J$1),\n\"\")),\"\")","v":""},{"$f":"IFERROR(IF(IF(AND(I$9<>\"\",$H$3=\"計画\"),INDIRECT(\"'\"&$D19&\"　\"&$E19&\"'!B\"&K$1),\nIF(AND(I$9<>\"\",$H$3=\"実績\"),INDIRECT(\"'\"&$D19&\"　\"&$E19&\"'!C\"&K$1),\n\"\"))=\"対象外\",\"対象外\",I19/J19),\"\")","v":""},{"$f":"IFERROR(IF(AND(L$9<>\"\",$H$3=\"計画\"),INDIRECT(\"'\"&$D19&\"　\"&$E19&\"'!B\"&L$1),\nIF(AND(L$9<>\"\",$H$3=\"実績\"),INDIRECT(\"'\"&$D19&\"　\"&$E19&\"'!C\"&L$1),\n\"\")),\"\")","v":""},{"$f":"IFERROR(IF(AND(L$9<>\"\",$H$3=\"計画\"),INDIRECT(\"'\"&$D19&\"　\"&$E19&\"'!B\"&M$1),\nIF(AND(L$9<>\"\",$H$3=\"実績\"),INDIRECT(\"'\"&$D19&\"　\"&$E19&\"'!C\"&M$1),\n\"\")),\"\")","v":""},{"$f":"IFERROR(IF(IF(AND(L$9<>\"\",$H$3=\"計画\"),INDIRECT(\"'\"&$D19&\"　\"&$E19&\"'!B\"&N$1),\nIF(AND(L$9<>\"\",$H$3=\"実績\"),INDIRECT(\"'\"&$D19&\"　\"&$E19&\"'!C\"&N$1),\n\"\"))=\"対象外\",\"対象外\",L19/M19),\"\")","v":""},{"$f":"IFERROR(IF(AND(O$9<>\"\",$H$3=\"計画\"),INDIRECT(\"'\"&$D19&\"　\"&$E19&\"'!B\"&O$1),\nIF(AND(O$9<>\"\",$H$3=\"実績\"),INDIRECT(\"'\"&$D19&\"　\"&$E19&\"'!C\"&O$1),\n\"\")),\"\")","v":""},{"$f":"IFERROR(IF(AND(O$9<>\"\",$H$3=\"計画\"),INDIRECT(\"'\"&$D19&\"　\"&$E19&\"'!B\"&P$1),\nIF(AND(O$9<>\"\",$H$3=\"実績\"),INDIRECT(\"'\"&$D19&\"　\"&$E19&\"'!C\"&P$1),\n\"\")),\"\")","v":""},{"$f":"IFERROR(IF(IF(AND(O$9<>\"\",$H$3=\"計画\"),INDIRECT(\"'\"&$D19&\"　\"&$E19&\"'!B\"&Q$1),\nIF(AND(O$9<>\"\",$H$3=\"実績\"),INDIRECT(\"'\"&$D19&\"　\"&$E19&\"'!C\"&Q$1),\n\"\"))=\"対象外\",\"対象外\",O19/P19),\"\")","v":""},{"$f":"IFERROR(IF(AND(R$9<>\"\",$H$3=\"計画\"),INDIRECT(\"'\"&$D19&\"　\"&$E19&\"'!B\"&R$1),\nIF(AND(R$9<>\"\",$H$3=\"実績\"),INDIRECT(\"'\"&$D19&\"　\"&$E19&\"'!C\"&R$1),\n\"\")),\"\")","v":""},{"$f":"IFERROR(IF(AND(R$9<>\"\",$H$3=\"計画\"),INDIRECT(\"'\"&$D19&\"　\"&$E19&\"'!B\"&S$1),\nIF(AND(R$9<>\"\",$H$3=\"実績\"),INDIRECT(\"'\"&$D19&\"　\"&$E19&\"'!C\"&S$1),\n\"\")),\"\")","v":""},{"$f":"IFERROR(IF(IF(AND(R$9<>\"\",$H$3=\"計画\"),INDIRECT(\"'\"&$D19&\"　\"&$E19&\"'!B\"&T$1),\nIF(AND(R$9<>\"\",$H$3=\"実績\"),INDIRECT(\"'\"&$D19&\"　\"&$E19&\"'!C\"&T$1),\n\"\"))=\"対象外\",\"対象外\",R19/S19),\"\")","v":""},{"$f":"IFERROR(IF(AND(U$9<>\"\",$H$3=\"計画\"),INDIRECT(\"'\"&$D19&\"　\"&$E19&\"'!B\"&U$1),\nIF(AND(U$9<>\"\",$H$3=\"実績\"),INDIRECT(\"'\"&$D19&\"　\"&$E19&\"'!C\"&U$1),\n\"\")),\"\")","v":""},{"$f":"IFERROR(IF(AND(U$9<>\"\",$H$3=\"計画\"),INDIRECT(\"'\"&$D19&\"　\"&$E19&\"'!B\"&V$1),\nIF(AND(U$9<>\"\",$H$3=\"実績\"),INDIRECT(\"'\"&$D19&\"　\"&$E19&\"'!C\"&V$1),\n\"\")),\"\")","v":""},{"$f":"IFERROR(IF(IF(AND(U$9<>\"\",$H$3=\"計画\"),INDIRECT(\"'\"&$D19&\"　\"&$E19&\"'!B\"&W$1),\nIF(AND(U$9<>\"\",$H$3=\"実績\"),INDIRECT(\"'\"&$D19&\"　\"&$E19&\"'!C\"&W$1),\n\"\"))=\"対象外\",\"対象外\",U19/V19),\"\")","v":""},{"$f":"IFERROR(IF(AND(X$9<>\"\",$H$3=\"計画\"),INDIRECT(\"'\"&$D19&\"　\"&$E19&\"'!B\"&X$1),\nIF(AND(X$9<>\"\",$H$3=\"実績\"),INDIRECT(\"'\"&$D19&\"　\"&$E19&\"'!C\"&X$1),\n\"\")),\"\")","v":""},{"$f":"IFERROR(IF(AND(X$9<>\"\",$H$3=\"計画\"),INDIRECT(\"'\"&$D19&\"　\"&$E19&\"'!B\"&Y$1),\nIF(AND(X$9<>\"\",$H$3=\"実績\"),INDIRECT(\"'\"&$D19&\"　\"&$E19&\"'!C\"&Y$1),\n\"\")),\"\")","v":""},{"$f":"IFERROR(IF(IF(AND(X$9<>\"\",$H$3=\"計画\"),INDIRECT(\"'\"&$D19&\"　\"&$E19&\"'!B\"&Z$1),\nIF(AND(X$9<>\"\",$H$3=\"実績\"),INDIRECT(\"'\"&$D19&\"　\"&$E19&\"'!C\"&Z$1),\n\"\"))=\"対象外\",\"対象外\",X19/Y19),\"\")","v":""},{"$f":"IFERROR(IF(AND(AA$9<>\"\",$H$3=\"計画\"),INDIRECT(\"'\"&$D19&\"　\"&$E19&\"'!B\"&AA$1),\nIF(AND(AA$9<>\"\",$H$3=\"実績\"),INDIRECT(\"'\"&$D19&\"　\"&$E19&\"'!C\"&AA$1),\n\"\")),\"\")","v":""},{"$f":"IFERROR(IF(AND(AA$9<>\"\",$H$3=\"計画\"),INDIRECT(\"'\"&$D19&\"　\"&$E19&\"'!B\"&AB$1),\nIF(AND(AA$9<>\"\",$H$3=\"実績\"),INDIRECT(\"'\"&$D19&\"　\"&$E19&\"'!C\"&AB$1),\n\"\")),\"\")","v":""},{"$f":"IFERROR(IF(IF(AND(AA$9<>\"\",$H$3=\"計画\"),INDIRECT(\"'\"&$D19&\"　\"&$E19&\"'!B\"&AC$1),\nIF(AND(AA$9<>\"\",$H$3=\"実績\"),INDIRECT(\"'\"&$D19&\"　\"&$E19&\"'!C\"&AC$1),\n\"\"))=\"対象外\",\"対象外\",AA19/AB19),\"\")","v":""},{"$f":"IFERROR(IF(AND(AD$9<>\"\",$H$3=\"計画\"),INDIRECT(\"'\"&$D19&\"　\"&$E19&\"'!B\"&AD$1),\nIF(AND(AD$9<>\"\",$H$3=\"実績\"),INDIRECT(\"'\"&$D19&\"　\"&$E19&\"'!C\"&AD$1),\n\"\")),\"\")","v":""},{"$f":"IFERROR(IF(AND(AD$9<>\"\",$H$3=\"計画\"),INDIRECT(\"'\"&$D19&\"　\"&$E19&\"'!B\"&AE$1),\nIF(AND(AD$9<>\"\",$H$3=\"実績\"),INDIRECT(\"'\"&$D19&\"　\"&$E19&\"'!C\"&AE$1),\n\"\")),\"\")","v":""},{"$f":"IFERROR(IF(IF(AND(AD$9<>\"\",$H$3=\"計画\"),INDIRECT(\"'\"&$D19&\"　\"&$E19&\"'!B\"&AF$1),\nIF(AND(AD$9<>\"\",$H$3=\"実績\"),INDIRECT(\"'\"&$D19&\"　\"&$E19&\"'!C\"&AF$1),\n\"\"))=\"対象外\",\"対象外\",AD19/AE19),\"\")","v":""},{"$f":"IFERROR(IF(AND(AG$9<>\"\",$H$3=\"計画\"),INDIRECT(\"'\"&$D19&\"　\"&$E19&\"'!B\"&AG$1),\nIF(AND(AG$9<>\"\",$H$3=\"実績\"),INDIRECT(\"'\"&$D19&\"　\"&$E19&\"'!C\"&AG$1),\n\"\")),\"\")","v":""},{"$f":"IFERROR(IF(AND(AG$9<>\"\",$H$3=\"計画\"),INDIRECT(\"'\"&$D19&\"　\"&$E19&\"'!B\"&AH$1),\nIF(AND(AG$9<>\"\",$H$3=\"実績\"),INDIRECT(\"'\"&$D19&\"　\"&$E19&\"'!C\"&AH$1),\n\"\")),\"\")","v":""},{"$f":"IFERROR(IF(IF(AND(AG$9<>\"\",$H$3=\"計画\"),INDIRECT(\"'\"&$D19&\"　\"&$E19&\"'!B\"&AI$1),\nIF(AND(AG$9<>\"\",$H$3=\"実績\"),INDIRECT(\"'\"&$D19&\"　\"&$E19&\"'!C\"&AI$1),\n\"\"))=\"対象外\",\"対象外\",AG19/AH19),\"\")","v":""},{"$f":"IFERROR(IF(AND(AJ$9<>\"\",$H$3=\"計画\"),INDIRECT(\"'\"&$D19&\"　\"&$E19&\"'!B\"&AJ$1),\nIF(AND(AJ$9<>\"\",$H$3=\"実績\"),INDIRECT(\"'\"&$D19&\"　\"&$E19&\"'!C\"&AJ$1),\n\"\")),\"\")","v":""},{"$f":"IFERROR(IF(AND(AJ$9<>\"\",$H$3=\"計画\"),INDIRECT(\"'\"&$D19&\"　\"&$E19&\"'!B\"&AK$1),\nIF(AND(AJ$9<>\"\",$H$3=\"実績\"),INDIRECT(\"'\"&$D19&\"　\"&$E19&\"'!C\"&AK$1),\n\"\")),\"\")","v":""},{"$f":"IFERROR(IF(IF(AND(AJ$9<>\"\",$H$3=\"計画\"),INDIRECT(\"'\"&$D19&\"　\"&$E19&\"'!B\"&AL$1),\nIF(AND(AJ$9<>\"\",$H$3=\"実績\"),INDIRECT(\"'\"&$D19&\"　\"&$E19&\"'!C\"&AL$1),\n\"\"))=\"対象外\",\"対象外\",AJ19/AK19),\"\")","v":""},{"$f":"IFERROR(IF(AND(AM$9<>\"\",$H$3=\"計画\"),INDIRECT(\"'\"&$D19&\"　\"&$E19&\"'!B\"&AM$1),\nIF(AND(AM$9<>\"\",$H$3=\"実績\"),INDIRECT(\"'\"&$D19&\"　\"&$E19&\"'!C\"&AM$1),\n\"\")),\"\")","v":""},{"$f":"IFERROR(IF(AND(AM$9<>\"\",$H$3=\"計画\"),INDIRECT(\"'\"&$D19&\"　\"&$E19&\"'!B\"&AN$1),\nIF(AND(AM$9<>\"\",$H$3=\"実績\"),INDIRECT(\"'\"&$D19&\"　\"&$E19&\"'!C\"&AN$1),\n\"\")),\"\")","v":""},{"$f":"IFERROR(IF(IF(AND(AM$9<>\"\",$H$3=\"計画\"),INDIRECT(\"'\"&$D19&\"　\"&$E19&\"'!B\"&AO$1),\nIF(AND(AM$9<>\"\",$H$3=\"実績\"),INDIRECT(\"'\"&$D19&\"　\"&$E19&\"'!C\"&AO$1),\n\"\"))=\"対象外\",\"対象外\",AM19/AN19),\"\")","v":""},{"$f":"IFERROR(IF(AND(AP$9<>\"\",$H$3=\"計画\"),INDIRECT(\"'\"&$D19&\"　\"&$E19&\"'!B\"&AP$1),\nIF(AND(AP$9<>\"\",$H$3=\"実績\"),INDIRECT(\"'\"&$D19&\"　\"&$E19&\"'!C\"&AP$1),\n\"\")),\"\")","v":""},{"$f":"IFERROR(IF(AND(AP$9<>\"\",$H$3=\"計画\"),INDIRECT(\"'\"&$D19&\"　\"&$E19&\"'!B\"&AQ$1),\nIF(AND(AP$9<>\"\",$H$3=\"実績\"),INDIRECT(\"'\"&$D19&\"　\"&$E19&\"'!C\"&AQ$1),\n\"\")),\"\")","v":""},{"$f":"IFERROR(IF(IF(AND(AP$9<>\"\",$H$3=\"計画\"),INDIRECT(\"'\"&$D19&\"　\"&$E19&\"'!B\"&AR$1),\nIF(AND(AP$9<>\"\",$H$3=\"実績\"),INDIRECT(\"'\"&$D19&\"　\"&$E19&\"'!C\"&AR$1),\n\"\"))=\"対象外\",\"対象外\",AP19/AQ19),\"\")","v":""},{"$f":"IFERROR(IF(AND(AS$9<>\"\",$H$3=\"計画\"),INDIRECT(\"'\"&$D19&\"　\"&$E19&\"'!B\"&AS$1),\nIF(AND(AS$9<>\"\",$H$3=\"実績\"),INDIRECT(\"'\"&$D19&\"　\"&$E19&\"'!C\"&AS$1),\n\"\")),\"\")","v":""},{"$f":"IFERROR(IF(AND(AS$9<>\"\",$H$3=\"計画\"),INDIRECT(\"'\"&$D19&\"　\"&$E19&\"'!B\"&AT$1),\nIF(AND(AS$9<>\"\",$H$3=\"実績\"),INDIRECT(\"'\"&$D19&\"　\"&$E19&\"'!C\"&AT$1),\n\"\")),\"\")","v":""},{"$f":"IFERROR(IF(IF(AND(AS$9<>\"\",$H$3=\"計画\"),INDIRECT(\"'\"&$D19&\"　\"&$E19&\"'!B\"&AU$1),\nIF(AND(AS$9<>\"\",$H$3=\"実績\"),INDIRECT(\"'\"&$D19&\"　\"&$E19&\"'!C\"&AU$1),\n\"\"))=\"対象外\",\"対象外\",AS19/AT19),\"\")","v":""},{"$f":"IFERROR(IF(AND(AV$9<>\"\",$H$3=\"計画\"),INDIRECT(\"'\"&$D19&\"　\"&$E19&\"'!B\"&AV$1),\nIF(AND(AV$9<>\"\",$H$3=\"実績\"),INDIRECT(\"'\"&$D19&\"　\"&$E19&\"'!C\"&AV$1),\n\"\")),\"\")","v":""},{"$f":"IFERROR(IF(AND(AV$9<>\"\",$H$3=\"計画\"),INDIRECT(\"'\"&$D19&\"　\"&$E19&\"'!B\"&AW$1),\nIF(AND(AV$9<>\"\",$H$3=\"実績\"),INDIRECT(\"'\"&$D19&\"　\"&$E19&\"'!C\"&AW$1),\n\"\")),\"\")","v":""},{"$f":"IFERROR(IF(IF(AND(AV$9<>\"\",$H$3=\"計画\"),INDIRECT(\"'\"&$D19&\"　\"&$E19&\"'!B\"&AX$1),\nIF(AND(AV$9<>\"\",$H$3=\"実績\"),INDIRECT(\"'\"&$D19&\"　\"&$E19&\"'!C\"&AX$1),\n\"\"))=\"対象外\",\"対象外\",AV19/AW19),\"\")","v":""},{"$f":"IFERROR(IF(AND(AY$9<>\"\",$H$3=\"計画\"),INDIRECT(\"'\"&$D19&\"　\"&$E19&\"'!B\"&AY$1),\nIF(AND(AY$9<>\"\",$H$3=\"実績\"),INDIRECT(\"'\"&$D19&\"　\"&$E19&\"'!C\"&AY$1),\n\"\")),\"\")","v":""},{"$f":"IFERROR(IF(AND(AY$9<>\"\",$H$3=\"計画\"),INDIRECT(\"'\"&$D19&\"　\"&$E19&\"'!B\"&AZ$1),\nIF(AND(AY$9<>\"\",$H$3=\"実績\"),INDIRECT(\"'\"&$D19&\"　\"&$E19&\"'!C\"&AZ$1),\n\"\")),\"\")","v":""},{"$f":"IFERROR(IF(IF(AND(AY$9<>\"\",$H$3=\"計画\"),INDIRECT(\"'\"&$D19&\"　\"&$E19&\"'!B\"&BA$1),\nIF(AND(AY$9<>\"\",$H$3=\"実績\"),INDIRECT(\"'\"&$D19&\"　\"&$E19&\"'!C\"&BA$1),\n\"\"))=\"対象外\",\"対象外\",AY19/AZ19),\"\")","v":""},{"$f":"IFERROR(IF(AND(BB$9<>\"\",$H$3=\"計画\"),INDIRECT(\"'\"&$D19&\"　\"&$E19&\"'!B\"&BB$1),\nIF(AND(BB$9<>\"\",$H$3=\"実績\"),INDIRECT(\"'\"&$D19&\"　\"&$E19&\"'!C\"&BB$1),\n\"\")),\"\")","v":""},{"$f":"IFERROR(IF(AND(BB$9<>\"\",$H$3=\"計画\"),INDIRECT(\"'\"&$D19&\"　\"&$E19&\"'!B\"&BC$1),\nIF(AND(BB$9<>\"\",$H$3=\"実績\"),INDIRECT(\"'\"&$D19&\"　\"&$E19&\"'!C\"&BC$1),\n\"\")),\"\")","v":""},{"$f":"IFERROR(IF(IF(AND(BB$9<>\"\",$H$3=\"計画\"),INDIRECT(\"'\"&$D19&\"　\"&$E19&\"'!B\"&BD$1),\nIF(AND(BB$9<>\"\",$H$3=\"実績\"),INDIRECT(\"'\"&$D19&\"　\"&$E19&\"'!C\"&BD$1),\n\"\"))=\"対象外\",\"対象外\",BB19/BC19),\"\")","v":""},{"$f":"IFERROR(IF(AND(BE$9<>\"\",$H$3=\"計画\"),INDIRECT(\"'\"&$D19&\"　\"&$E19&\"'!B\"&BE$1),\nIF(AND(BE$9<>\"\",$H$3=\"実績\"),INDIRECT(\"'\"&$D19&\"　\"&$E19&\"'!C\"&BE$1),\n\"\")),\"\")","v":""},{"$f":"IFERROR(IF(AND(BE$9<>\"\",$H$3=\"計画\"),INDIRECT(\"'\"&$D19&\"　\"&$E19&\"'!B\"&BF$1),\nIF(AND(BE$9<>\"\",$H$3=\"実績\"),INDIRECT(\"'\"&$D19&\"　\"&$E19&\"'!C\"&BF$1),\n\"\")),\"\")","v":""},{"$f":"IFERROR(IF(IF(AND(BE$9<>\"\",$H$3=\"計画\"),INDIRECT(\"'\"&$D19&\"　\"&$E19&\"'!B\"&BG$1),\nIF(AND(BE$9<>\"\",$H$3=\"実績\"),INDIRECT(\"'\"&$D19&\"　\"&$E19&\"'!C\"&BG$1),\n\"\"))=\"対象外\",\"対象外\",BE19/BF19),\"\")","v":""},{"$f":"IFERROR(IF(AND(BH$9<>\"\",$H$3=\"計画\"),INDIRECT(\"'\"&$D19&\"　\"&$E19&\"'!B\"&BH$1),\nIF(AND(BH$9<>\"\",$H$3=\"実績\"),INDIRECT(\"'\"&$D19&\"　\"&$E19&\"'!C\"&BH$1),\n\"\")),\"\")","v":""},{"$f":"IFERROR(IF(AND(BH$9<>\"\",$H$3=\"計画\"),INDIRECT(\"'\"&$D19&\"　\"&$E19&\"'!B\"&BI$1),\nIF(AND(BH$9<>\"\",$H$3=\"実績\"),INDIRECT(\"'\"&$D19&\"　\"&$E19&\"'!C\"&BI$1),\n\"\")),\"\")","v":""},{"$f":"IFERROR(IF(IF(AND(BH$9<>\"\",$H$3=\"計画\"),INDIRECT(\"'\"&$D19&\"　\"&$E19&\"'!B\"&BJ$1),\nIF(AND(BH$9<>\"\",$H$3=\"実績\"),INDIRECT(\"'\"&$D19&\"　\"&$E19&\"'!C\"&BJ$1),\n\"\"))=\"対象外\",\"対象外\",BH19/BI19),\"\")","v":""},{"$f":"IFERROR(IF(AND(BK$9<>\"\",$H$3=\"計画\"),INDIRECT(\"'\"&$D19&\"　\"&$E19&\"'!B\"&BK$1),\nIF(AND(BK$9<>\"\",$H$3=\"実績\"),INDIRECT(\"'\"&$D19&\"　\"&$E19&\"'!C\"&BK$1),\n\"\")),\"\")","v":""},{"$f":"IFERROR(IF(AND(BK$9<>\"\",$H$3=\"計画\"),INDIRECT(\"'\"&$D19&\"　\"&$E19&\"'!B\"&BL$1),\nIF(AND(BK$9<>\"\",$H$3=\"実績\"),INDIRECT(\"'\"&$D19&\"　\"&$E19&\"'!C\"&BL$1),\n\"\")),\"\")","v":""},{"$f":"IFERROR(IF(IF(AND(BK$9<>\"\",$H$3=\"計画\"),INDIRECT(\"'\"&$D19&\"　\"&$E19&\"'!B\"&BM$1),\nIF(AND(BK$9<>\"\",$H$3=\"実績\"),INDIRECT(\"'\"&$D19&\"　\"&$E19&\"'!C\"&BM$1),\n\"\"))=\"対象外\",\"対象外\",BK19/BL19),\"\")","v":""},{"$f":"IFERROR(IF(AND(BN$9<>\"\",$H$3=\"計画\"),INDIRECT(\"'\"&$D19&\"　\"&$E19&\"'!B\"&BN$1),\nIF(AND(BN$9<>\"\",$H$3=\"実績\"),INDIRECT(\"'\"&$D19&\"　\"&$E19&\"'!C\"&BN$1),\n\"\")),\"\")","v":""},{"$f":"IFERROR(IF(AND(BN$9<>\"\",$H$3=\"計画\"),INDIRECT(\"'\"&$D19&\"　\"&$E19&\"'!B\"&BO$1),\nIF(AND(BN$9<>\"\",$H$3=\"実績\"),INDIRECT(\"'\"&$D19&\"　\"&$E19&\"'!C\"&BO$1),\n\"\")),\"\")","v":""},{"$f":"IFERROR(IF(IF(AND(BN$9<>\"\",$H$3=\"計画\"),INDIRECT(\"'\"&$D19&\"　\"&$E19&\"'!B\"&BP$1),\nIF(AND(BN$9<>\"\",$H$3=\"実績\"),INDIRECT(\"'\"&$D19&\"　\"&$E19&\"'!C\"&BP$1),\n\"\"))=\"対象外\",\"対象外\",BN19/BO19),\"\")","v":""},{"$f":"IFERROR(IF(AND(BQ$9<>\"\",$H$3=\"計画\"),INDIRECT(\"'\"&$D19&\"　\"&$E19&\"'!B\"&BQ$1),\nIF(AND(BQ$9<>\"\",$H$3=\"実績\"),INDIRECT(\"'\"&$D19&\"　\"&$E19&\"'!C\"&BQ$1),\n\"\")),\"\")","v":""},{"$f":"IFERROR(IF(AND(BQ$9<>\"\",$H$3=\"計画\"),INDIRECT(\"'\"&$D19&\"　\"&$E19&\"'!B\"&BR$1),\nIF(AND(BQ$9<>\"\",$H$3=\"実績\"),INDIRECT(\"'\"&$D19&\"　\"&$E19&\"'!C\"&BR$1),\n\"\")),\"\")","v":""},{"$f":"IFERROR(IF(IF(AND(BQ$9<>\"\",$H$3=\"計画\"),INDIRECT(\"'\"&$D19&\"　\"&$E19&\"'!B\"&BS$1),\nIF(AND(BQ$9<>\"\",$H$3=\"実績\"),INDIRECT(\"'\"&$D19&\"　\"&$E19&\"'!C\"&BS$1),\n\"\"))=\"対象外\",\"対象外\",BQ19/BR19),\"\")","v":""},{"$f":"IFERROR(IF(AND(BT$9<>\"\",$H$3=\"計画\"),INDIRECT(\"'\"&$D19&\"　\"&$E19&\"'!B\"&BT$1),\nIF(AND(BT$9<>\"\",$H$3=\"実績\"),INDIRECT(\"'\"&$D19&\"　\"&$E19&\"'!C\"&BT$1),\n\"\")),\"\")","v":""},{"$f":"IFERROR(IF(AND(BT$9<>\"\",$H$3=\"計画\"),INDIRECT(\"'\"&$D19&\"　\"&$E19&\"'!B\"&BU$1),\nIF(AND(BT$9<>\"\",$H$3=\"実績\"),INDIRECT(\"'\"&$D19&\"　\"&$E19&\"'!C\"&BU$1),\n\"\")),\"\")","v":""},{"$f":"IFERROR(IF(IF(AND(BT$9<>\"\",$H$3=\"計画\"),INDIRECT(\"'\"&$D19&\"　\"&$E19&\"'!B\"&BV$1),\nIF(AND(BT$9<>\"\",$H$3=\"実績\"),INDIRECT(\"'\"&$D19&\"　\"&$E19&\"'!C\"&BV$1),\n\"\"))=\"対象外\",\"対象外\",BT19/BU19),\"\")","v":""},{"$f":"IFERROR(IF(AND(BW$9<>\"\",$H$3=\"計画\"),INDIRECT(\"'\"&$D19&\"　\"&$E19&\"'!B\"&BW$1),\nIF(AND(BW$9<>\"\",$H$3=\"実績\"),INDIRECT(\"'\"&$D19&\"　\"&$E19&\"'!C\"&BW$1),\n\"\")),\"\")","v":""},{"$f":"IFERROR(IF(AND(BW$9<>\"\",$H$3=\"計画\"),INDIRECT(\"'\"&$D19&\"　\"&$E19&\"'!B\"&BX$1),\nIF(AND(BW$9<>\"\",$H$3=\"実績\"),INDIRECT(\"'\"&$D19&\"　\"&$E19&\"'!C\"&BX$1),\n\"\")),\"\")","v":""},{"$f":"IFERROR(IF(IF(AND(BW$9<>\"\",$H$3=\"計画\"),INDIRECT(\"'\"&$D19&\"　\"&$E19&\"'!B\"&BY$1),\nIF(AND(BW$9<>\"\",$H$3=\"実績\"),INDIRECT(\"'\"&$D19&\"　\"&$E19&\"'!C\"&BY$1),\n\"\"))=\"対象外\",\"対象外\",BW19/BX19),\"\")","v":""},{"$f":"IFERROR(IF(AND(BZ$9<>\"\",$H$3=\"計画\"),INDIRECT(\"'\"&$D19&\"　\"&$E19&\"'!B\"&BZ$1),\nIF(AND(BZ$9<>\"\",$H$3=\"実績\"),INDIRECT(\"'\"&$D19&\"　\"&$E19&\"'!C\"&BZ$1),\n\"\")),\"\")","v":""},{"$f":"IFERROR(IF(AND(BZ$9<>\"\",$H$3=\"計画\"),INDIRECT(\"'\"&$D19&\"　\"&$E19&\"'!B\"&CA$1),\nIF(AND(BZ$9<>\"\",$H$3=\"実績\"),INDIRECT(\"'\"&$D19&\"　\"&$E19&\"'!C\"&CA$1),\n\"\")),\"\")","v":""},{"$f":"IFERROR(IF(IF(AND(BZ$9<>\"\",$H$3=\"計画\"),INDIRECT(\"'\"&$D19&\"　\"&$E19&\"'!B\"&CB$1),\nIF(AND(BZ$9<>\"\",$H$3=\"実績\"),INDIRECT(\"'\"&$D19&\"　\"&$E19&\"'!C\"&CB$1),\n\"\"))=\"対象外\",\"対象外\",BZ19/CA19),\"\")","v":""},{"$f":"IFERROR(IF(AND(CC$9<>\"\",$H$3=\"計画\"),INDIRECT(\"'\"&$D19&\"　\"&$E19&\"'!B\"&CC$1),\nIF(AND(CC$9<>\"\",$H$3=\"実績\"),INDIRECT(\"'\"&$D19&\"　\"&$E19&\"'!C\"&CC$1),\n\"\")),\"\")","v":""},{"$f":"IFERROR(IF(AND(CC$9<>\"\",$H$3=\"計画\"),INDIRECT(\"'\"&$D19&\"　\"&$E19&\"'!B\"&CD$1),\nIF(AND(CC$9<>\"\",$H$3=\"実績\"),INDIRECT(\"'\"&$D19&\"　\"&$E19&\"'!C\"&CD$1),\n\"\")),\"\")","v":""},{"$f":"IFERROR(IF(IF(AND(CC$9<>\"\",$H$3=\"計画\"),INDIRECT(\"'\"&$D19&\"　\"&$E19&\"'!B\"&CE$1),\nIF(AND(CC$9<>\"\",$H$3=\"実績\"),INDIRECT(\"'\"&$D19&\"　\"&$E19&\"'!C\"&CE$1),\n\"\"))=\"対象外\",\"対象外\",CC19/CD19),\"\")","v":""},{"$f":"IFERROR(IF(AND(CF$9<>\"\",$H$3=\"計画\"),INDIRECT(\"'\"&$D19&\"　\"&$E19&\"'!B\"&CF$1),\nIF(AND(CF$9<>\"\",$H$3=\"実績\"),INDIRECT(\"'\"&$D19&\"　\"&$E19&\"'!C\"&CF$1),\n\"\")),\"\")","v":""},{"$f":"IFERROR(IF(AND(CF$9<>\"\",$H$3=\"計画\"),INDIRECT(\"'\"&$D19&\"　\"&$E19&\"'!B\"&CG$1),\nIF(AND(CF$9<>\"\",$H$3=\"実績\"),INDIRECT(\"'\"&$D19&\"　\"&$E19&\"'!C\"&CG$1),\n\"\")),\"\")","v":""},{"$f":"IFERROR(IF(IF(AND(CF$9<>\"\",$H$3=\"計画\"),INDIRECT(\"'\"&$D19&\"　\"&$E19&\"'!B\"&CH$1),\nIF(AND(CF$9<>\"\",$H$3=\"実績\"),INDIRECT(\"'\"&$D19&\"　\"&$E19&\"'!C\"&CH$1),\n\"\"))=\"対象外\",\"対象外\",CF19/CG19),\"\")","v":""},{"$f":"IFERROR(IF(AND(CI$9<>\"\",$H$3=\"計画\"),INDIRECT(\"'\"&$D19&\"　\"&$E19&\"'!B\"&CI$1),\nIF(AND(CI$9<>\"\",$H$3=\"実績\"),INDIRECT(\"'\"&$D19&\"　\"&$E19&\"'!C\"&CI$1),\n\"\")),\"\")","v":""},{"$f":"IFERROR(IF(AND(CI$9<>\"\",$H$3=\"計画\"),INDIRECT(\"'\"&$D19&\"　\"&$E19&\"'!B\"&CJ$1),\nIF(AND(CI$9<>\"\",$H$3=\"実績\"),INDIRECT(\"'\"&$D19&\"　\"&$E19&\"'!C\"&CJ$1),\n\"\")),\"\")","v":""},{"$f":"IFERROR(IF(IF(AND(CI$9<>\"\",$H$3=\"計画\"),INDIRECT(\"'\"&$D19&\"　\"&$E19&\"'!B\"&CK$1),\nIF(AND(CI$9<>\"\",$H$3=\"実績\"),INDIRECT(\"'\"&$D19&\"　\"&$E19&\"'!C\"&CK$1),\n\"\"))=\"対象外\",\"対象外\",CI19/CJ19),\"\")","v":""},{"$f":"IFERROR(IF(AND(CL$9<>\"\",$H$3=\"計画\"),INDIRECT(\"'\"&$D19&\"　\"&$E19&\"'!B\"&CL$1),\nIF(AND(CL$9<>\"\",$H$3=\"実績\"),INDIRECT(\"'\"&$D19&\"　\"&$E19&\"'!C\"&CL$1),\n\"\")),\"\")","v":""},{"$f":"IFERROR(IF(AND(CL$9<>\"\",$H$3=\"計画\"),INDIRECT(\"'\"&$D19&\"　\"&$E19&\"'!B\"&CM$1),\nIF(AND(CL$9<>\"\",$H$3=\"実績\"),INDIRECT(\"'\"&$D19&\"　\"&$E19&\"'!C\"&CM$1),\n\"\")),\"\")","v":""},{"$f":"IFERROR(IF(IF(AND(CL$9<>\"\",$H$3=\"計画\"),INDIRECT(\"'\"&$D19&\"　\"&$E19&\"'!B\"&CN$1),\nIF(AND(CL$9<>\"\",$H$3=\"実績\"),INDIRECT(\"'\"&$D19&\"　\"&$E19&\"'!C\"&CN$1),\n\"\"))=\"対象外\",\"対象外\",CL19/CM19),\"\")","v":""},{"$f":"IFERROR(IF(AND(CO$9<>\"\",$H$3=\"計画\"),INDIRECT(\"'\"&$D19&\"　\"&$E19&\"'!B\"&CO$1),\nIF(AND(CO$9<>\"\",$H$3=\"実績\"),INDIRECT(\"'\"&$D19&\"　\"&$E19&\"'!C\"&CO$1),\n\"\")),\"\")","v":""},{"$f":"IFERROR(IF(AND(CO$9<>\"\",$H$3=\"計画\"),INDIRECT(\"'\"&$D19&\"　\"&$E19&\"'!B\"&CP$1),\nIF(AND(CO$9<>\"\",$H$3=\"実績\"),INDIRECT(\"'\"&$D19&\"　\"&$E19&\"'!C\"&CP$1),\n\"\")),\"\")","v":""},{"$f":"IFERROR(IF(IF(AND(CO$9<>\"\",$H$3=\"計画\"),INDIRECT(\"'\"&$D19&\"　\"&$E19&\"'!B\"&CQ$1),\nIF(AND(CO$9<>\"\",$H$3=\"実績\"),INDIRECT(\"'\"&$D19&\"　\"&$E19&\"'!C\"&CQ$1),\n\"\"))=\"対象外\",\"対象外\",CO19/CP19),\"\")","v":""},{"$f":"IFERROR(IF(AND(CR$9<>\"\",$H$3=\"計画\"),INDIRECT(\"'\"&$D19&\"　\"&$E19&\"'!B\"&CR$1),\nIF(AND(CR$9<>\"\",$H$3=\"実績\"),INDIRECT(\"'\"&$D19&\"　\"&$E19&\"'!C\"&CR$1),\n\"\")),\"\")","v":""},{"$f":"IFERROR(IF(AND(CR$9<>\"\",$H$3=\"計画\"),INDIRECT(\"'\"&$D19&\"　\"&$E19&\"'!B\"&CS$1),\nIF(AND(CR$9<>\"\",$H$3=\"実績\"),INDIRECT(\"'\"&$D19&\"　\"&$E19&\"'!C\"&CS$1),\n\"\")),\"\")","v":""},{"$f":"IFERROR(IF(IF(AND(CR$9<>\"\",$H$3=\"計画\"),INDIRECT(\"'\"&$D19&\"　\"&$E19&\"'!B\"&CT$1),\nIF(AND(CR$9<>\"\",$H$3=\"実績\"),INDIRECT(\"'\"&$D19&\"　\"&$E19&\"'!C\"&CT$1),\n\"\"))=\"対象外\",\"対象外\",CR19/CS19),\"\")","v":""},{"$f":"IFERROR(IF(AND(CU$9<>\"\",$H$3=\"計画\"),INDIRECT(\"'\"&$D19&\"　\"&$E19&\"'!B\"&CU$1),\nIF(AND(CU$9<>\"\",$H$3=\"実績\"),INDIRECT(\"'\"&$D19&\"　\"&$E19&\"'!C\"&CU$1),\n\"\")),\"\")","v":""},{"$f":"IFERROR(IF(AND(CU$9<>\"\",$H$3=\"計画\"),INDIRECT(\"'\"&$D19&\"　\"&$E19&\"'!B\"&CV$1),\nIF(AND(CU$9<>\"\",$H$3=\"実績\"),INDIRECT(\"'\"&$D19&\"　\"&$E19&\"'!C\"&CV$1),\n\"\")),\"\")","v":""},{"$f":"IFERROR(IF(IF(AND(CU$9<>\"\",$H$3=\"計画\"),INDIRECT(\"'\"&$D19&\"　\"&$E19&\"'!B\"&CW$1),\nIF(AND(CU$9<>\"\",$H$3=\"実績\"),INDIRECT(\"'\"&$D19&\"　\"&$E19&\"'!C\"&CW$1),\n\"\"))=\"対象外\",\"対象外\",CU19/CV19),\"\")","v":""},{"$f":"IFERROR(IF(AND(CX$9<>\"\",$H$3=\"計画\"),INDIRECT(\"'\"&$D19&\"　\"&$E19&\"'!B\"&CX$1),\nIF(AND(CX$9<>\"\",$H$3=\"実績\"),INDIRECT(\"'\"&$D19&\"　\"&$E19&\"'!C\"&CX$1),\n\"\")),\"\")","v":""},{"$f":"IFERROR(IF(AND(CX$9<>\"\",$H$3=\"計画\"),INDIRECT(\"'\"&$D19&\"　\"&$E19&\"'!B\"&CY$1),\nIF(AND(CX$9<>\"\",$H$3=\"実績\"),INDIRECT(\"'\"&$D19&\"　\"&$E19&\"'!C\"&CY$1),\n\"\")),\"\")","v":""},{"$f":"IFERROR(IF(IF(AND(CX$9<>\"\",$H$3=\"計画\"),INDIRECT(\"'\"&$D19&\"　\"&$E19&\"'!B\"&CZ$1),\nIF(AND(CX$9<>\"\",$H$3=\"実績\"),INDIRECT(\"'\"&$D19&\"　\"&$E19&\"'!C\"&CZ$1),\n\"\"))=\"対象外\",\"対象外\",CX19/CY19),\"\")","v":""},{"$f":"IFERROR(IF(AND(DA$9<>\"\",$H$3=\"計画\"),INDIRECT(\"'\"&$D19&\"　\"&$E19&\"'!B\"&DA$1),\nIF(AND(DA$9<>\"\",$H$3=\"実績\"),INDIRECT(\"'\"&$D19&\"　\"&$E19&\"'!C\"&DA$1),\n\"\")),\"\")","v":""},{"$f":"IFERROR(IF(AND(DA$9<>\"\",$H$3=\"計画\"),INDIRECT(\"'\"&$D19&\"　\"&$E19&\"'!B\"&DB$1),\nIF(AND(DA$9<>\"\",$H$3=\"実績\"),INDIRECT(\"'\"&$D19&\"　\"&$E19&\"'!C\"&DB$1),\n\"\")),\"\")","v":""},{"$f":"IFERROR(IF(IF(AND(DA$9<>\"\",$H$3=\"計画\"),INDIRECT(\"'\"&$D19&\"　\"&$E19&\"'!B\"&DC$1),\nIF(AND(DA$9<>\"\",$H$3=\"実績\"),INDIRECT(\"'\"&$D19&\"　\"&$E19&\"'!C\"&DC$1),\n\"\"))=\"対象外\",\"対象外\",DA19/DB19),\"\")","v":""},{"$f":"IFERROR(IF(AND(DD$9<>\"\",$H$3=\"計画\"),INDIRECT(\"'\"&$D19&\"　\"&$E19&\"'!B\"&DD$1),\nIF(AND(DD$9<>\"\",$H$3=\"実績\"),INDIRECT(\"'\"&$D19&\"　\"&$E19&\"'!C\"&DD$1),\n\"\")),\"\")","v":""},{"$f":"IFERROR(IF(AND(DD$9<>\"\",$H$3=\"計画\"),INDIRECT(\"'\"&$D19&\"　\"&$E19&\"'!B\"&DE$1),\nIF(AND(DD$9<>\"\",$H$3=\"実績\"),INDIRECT(\"'\"&$D19&\"　\"&$E19&\"'!C\"&DE$1),\n\"\")),\"\")","v":""},{"$f":"IFERROR(IF(IF(AND(DD$9<>\"\",$H$3=\"計画\"),INDIRECT(\"'\"&$D19&\"　\"&$E19&\"'!B\"&DF$1),\nIF(AND(DD$9<>\"\",$H$3=\"実績\"),INDIRECT(\"'\"&$D19&\"　\"&$E19&\"'!C\"&DF$1),\n\"\"))=\"対象外\",\"対象外\",DD19/DE19),\"\")","v":""},{"$f":"IFERROR(IF(AND(DG$9<>\"\",$H$3=\"計画\"),INDIRECT(\"'\"&$D19&\"　\"&$E19&\"'!B\"&DG$1),\nIF(AND(DG$9<>\"\",$H$3=\"実績\"),INDIRECT(\"'\"&$D19&\"　\"&$E19&\"'!C\"&DG$1),\n\"\")),\"\")","v":""},{"$f":"IFERROR(IF(AND(DG$9<>\"\",$H$3=\"計画\"),INDIRECT(\"'\"&$D19&\"　\"&$E19&\"'!B\"&DH$1),\nIF(AND(DG$9<>\"\",$H$3=\"実績\"),INDIRECT(\"'\"&$D19&\"　\"&$E19&\"'!C\"&DH$1),\n\"\")),\"\")","v":""},{"$f":"IFERROR(IF(IF(AND(DG$9<>\"\",$H$3=\"計画\"),INDIRECT(\"'\"&$D19&\"　\"&$E19&\"'!B\"&DI$1),\nIF(AND(DG$9<>\"\",$H$3=\"実績\"),INDIRECT(\"'\"&$D19&\"　\"&$E19&\"'!C\"&DI$1),\n\"\"))=\"対象外\",\"対象外\",DG19/DH19),\"\")","v":""},{"$f":"IFERROR(IF(AND(DJ$9<>\"\",$H$3=\"計画\"),INDIRECT(\"'\"&$D19&\"　\"&$E19&\"'!B\"&DJ$1),\nIF(AND(DJ$9<>\"\",$H$3=\"実績\"),INDIRECT(\"'\"&$D19&\"　\"&$E19&\"'!C\"&DJ$1),\n\"\")),\"\")","v":""},{"$f":"IFERROR(IF(AND(DJ$9<>\"\",$H$3=\"計画\"),INDIRECT(\"'\"&$D19&\"　\"&$E19&\"'!B\"&DK$1),\nIF(AND(DJ$9<>\"\",$H$3=\"実績\"),INDIRECT(\"'\"&$D19&\"　\"&$E19&\"'!C\"&DK$1),\n\"\")),\"\")","v":""},{"$f":"IFERROR(IF(IF(AND(DJ$9<>\"\",$H$3=\"計画\"),INDIRECT(\"'\"&$D19&\"　\"&$E19&\"'!B\"&DL$1),\nIF(AND(DJ$9<>\"\",$H$3=\"実績\"),INDIRECT(\"'\"&$D19&\"　\"&$E19&\"'!C\"&DL$1),\n\"\"))=\"対象外\",\"対象外\",DJ19/DK19),\"\")","v":""}]
[null,null,null,null,null,"","",{"$f":"IFERROR(IF(IF(H$3=\"計画\",INDIRECT(\"'\"&$D20&\"　\"&$E20&\"'!B\"&H$1),\nIF(H$3=\"実績\",INDIRECT(\"'\"&$D20&\"　\"&$E20&\"'!C\"&H$1),\n\"\"))>=28,F20/G20,\"対象外\"),\"\")","v":""},{"$f":"IFERROR(IF(AND(I$9<>\"\",$H$3=\"計画\"),INDIRECT(\"'\"&$D20&\"　\"&$E20&\"'!B\"&I$1),\nIF(AND(I$9<>\"\",$H$3=\"実績\"),INDIRECT(\"'\"&$D20&\"　\"&$E20&\"'!C\"&I$1),\n\"\")),\"\")","v":""},{"$f":"IFERROR(IF(AND(I$9<>\"\",$H$3=\"計画\"),INDIRECT(\"'\"&$D20&\"　\"&$E20&\"'!B\"&J$1),\nIF(AND(I$9<>\"\",$H$3=\"実績\"),INDIRECT(\"'\"&$D20&\"　\"&$E20&\"'!C\"&J$1),\n\"\")),\"\")","v":""},{"$f":"IFERROR(IF(IF(AND(I$9<>\"\",$H$3=\"計画\"),INDIRECT(\"'\"&$D20&\"　\"&$E20&\"'!B\"&K$1),\nIF(AND(I$9<>\"\",$H$3=\"実績\"),INDIRECT(\"'\"&$D20&\"　\"&$E20&\"'!C\"&K$1),\n\"\"))=\"対象外\",\"対象外\",I20/J20),\"\")","v":""},{"$f":"IFERROR(IF(AND(L$9<>\"\",$H$3=\"計画\"),INDIRECT(\"'\"&$D20&\"　\"&$E20&\"'!B\"&L$1),\nIF(AND(L$9<>\"\",$H$3=\"実績\"),INDIRECT(\"'\"&$D20&\"　\"&$E20&\"'!C\"&L$1),\n\"\")),\"\")","v":""},{"$f":"IFERROR(IF(AND(L$9<>\"\",$H$3=\"計画\"),INDIRECT(\"'\"&$D20&\"　\"&$E20&\"'!B\"&M$1),\nIF(AND(L$9<>\"\",$H$3=\"実績\"),INDIRECT(\"'\"&$D20&\"　\"&$E20&\"'!C\"&M$1),\n\"\")),\"\")","v":""},{"$f":"IFERROR(IF(IF(AND(L$9<>\"\",$H$3=\"計画\"),INDIRECT(\"'\"&$D20&\"　\"&$E20&\"'!B\"&N$1),\nIF(AND(L$9<>\"\",$H$3=\"実績\"),INDIRECT(\"'\"&$D20&\"　\"&$E20&\"'!C\"&N$1),\n\"\"))=\"対象外\",\"対象外\",L20/M20),\"\")","v":""},{"$f":"IFERROR(IF(AND(O$9<>\"\",$H$3=\"計画\"),INDIRECT(\"'\"&$D20&\"　\"&$E20&\"'!B\"&O$1),\nIF(AND(O$9<>\"\",$H$3=\"実績\"),INDIRECT(\"'\"&$D20&\"　\"&$E20&\"'!C\"&O$1),\n\"\")),\"\")","v":""},{"$f":"IFERROR(IF(AND(O$9<>\"\",$H$3=\"計画\"),INDIRECT(\"'\"&$D20&\"　\"&$E20&\"'!B\"&P$1),\nIF(AND(O$9<>\"\",$H$3=\"実績\"),INDIRECT(\"'\"&$D20&\"　\"&$E20&\"'!C\"&P$1),\n\"\")),\"\")","v":""},{"$f":"IFERROR(IF(IF(AND(O$9<>\"\",$H$3=\"計画\"),INDIRECT(\"'\"&$D20&\"　\"&$E20&\"'!B\"&Q$1),\nIF(AND(O$9<>\"\",$H$3=\"実績\"),INDIRECT(\"'\"&$D20&\"　\"&$E20&\"'!C\"&Q$1),\n\"\"))=\"対象外\",\"対象外\",O20/P20),\"\")","v":""},{"$f":"IFERROR(IF(AND(R$9<>\"\",$H$3=\"計画\"),INDIRECT(\"'\"&$D20&\"　\"&$E20&\"'!B\"&R$1),\nIF(AND(R$9<>\"\",$H$3=\"実績\"),INDIRECT(\"'\"&$D20&\"　\"&$E20&\"'!C\"&R$1),\n\"\")),\"\")","v":""},{"$f":"IFERROR(IF(AND(R$9<>\"\",$H$3=\"計画\"),INDIRECT(\"'\"&$D20&\"　\"&$E20&\"'!B\"&S$1),\nIF(AND(R$9<>\"\",$H$3=\"実績\"),INDIRECT(\"'\"&$D20&\"　\"&$E20&\"'!C\"&S$1),\n\"\")),\"\")","v":""},{"$f":"IFERROR(IF(IF(AND(R$9<>\"\",$H$3=\"計画\"),INDIRECT(\"'\"&$D20&\"　\"&$E20&\"'!B\"&T$1),\nIF(AND(R$9<>\"\",$H$3=\"実績\"),INDIRECT(\"'\"&$D20&\"　\"&$E20&\"'!C\"&T$1),\n\"\"))=\"対象外\",\"対象外\",R20/S20),\"\")","v":""},{"$f":"IFERROR(IF(AND(U$9<>\"\",$H$3=\"計画\"),INDIRECT(\"'\"&$D20&\"　\"&$E20&\"'!B\"&U$1),\nIF(AND(U$9<>\"\",$H$3=\"実績\"),INDIRECT(\"'\"&$D20&\"　\"&$E20&\"'!C\"&U$1),\n\"\")),\"\")","v":""},{"$f":"IFERROR(IF(AND(U$9<>\"\",$H$3=\"計画\"),INDIRECT(\"'\"&$D20&\"　\"&$E20&\"'!B\"&V$1),\nIF(AND(U$9<>\"\",$H$3=\"実績\"),INDIRECT(\"'\"&$D20&\"　\"&$E20&\"'!C\"&V$1),\n\"\")),\"\")","v":""},{"$f":"IFERROR(IF(IF(AND(U$9<>\"\",$H$3=\"計画\"),INDIRECT(\"'\"&$D20&\"　\"&$E20&\"'!B\"&W$1),\nIF(AND(U$9<>\"\",$H$3=\"実績\"),INDIRECT(\"'\"&$D20&\"　\"&$E20&\"'!C\"&W$1),\n\"\"))=\"対象外\",\"対象外\",U20/V20),\"\")","v":""},{"$f":"IFERROR(IF(AND(X$9<>\"\",$H$3=\"計画\"),INDIRECT(\"'\"&$D20&\"　\"&$E20&\"'!B\"&X$1),\nIF(AND(X$9<>\"\",$H$3=\"実績\"),INDIRECT(\"'\"&$D20&\"　\"&$E20&\"'!C\"&X$1),\n\"\")),\"\")","v":""},{"$f":"IFERROR(IF(AND(X$9<>\"\",$H$3=\"計画\"),INDIRECT(\"'\"&$D20&\"　\"&$E20&\"'!B\"&Y$1),\nIF(AND(X$9<>\"\",$H$3=\"実績\"),INDIRECT(\"'\"&$D20&\"　\"&$E20&\"'!C\"&Y$1),\n\"\")),\"\")","v":""},{"$f":"IFERROR(IF(IF(AND(X$9<>\"\",$H$3=\"計画\"),INDIRECT(\"'\"&$D20&\"　\"&$E20&\"'!B\"&Z$1),\nIF(AND(X$9<>\"\",$H$3=\"実績\"),INDIRECT(\"'\"&$D20&\"　\"&$E20&\"'!C\"&Z$1),\n\"\"))=\"対象外\",\"対象外\",X20/Y20),\"\")","v":""},{"$f":"IFERROR(IF(AND(AA$9<>\"\",$H$3=\"計画\"),INDIRECT(\"'\"&$D20&\"　\"&$E20&\"'!B\"&AA$1),\nIF(AND(AA$9<>\"\",$H$3=\"実績\"),INDIRECT(\"'\"&$D20&\"　\"&$E20&\"'!C\"&AA$1),\n\"\")),\"\")","v":""},{"$f":"IFERROR(IF(AND(AA$9<>\"\",$H$3=\"計画\"),INDIRECT(\"'\"&$D20&\"　\"&$E20&\"'!B\"&AB$1),\nIF(AND(AA$9<>\"\",$H$3=\"実績\"),INDIRECT(\"'\"&$D20&\"　\"&$E20&\"'!C\"&AB$1),\n\"\")),\"\")","v":""},{"$f":"IFERROR(IF(IF(AND(AA$9<>\"\",$H$3=\"計画\"),INDIRECT(\"'\"&$D20&\"　\"&$E20&\"'!B\"&AC$1),\nIF(AND(AA$9<>\"\",$H$3=\"実績\"),INDIRECT(\"'\"&$D20&\"　\"&$E20&\"'!C\"&AC$1),\n\"\"))=\"対象外\",\"対象外\",AA20/AB20),\"\")","v":""},{"$f":"IFERROR(IF(AND(AD$9<>\"\",$H$3=\"計画\"),INDIRECT(\"'\"&$D20&\"　\"&$E20&\"'!B\"&AD$1),\nIF(AND(AD$9<>\"\",$H$3=\"実績\"),INDIRECT(\"'\"&$D20&\"　\"&$E20&\"'!C\"&AD$1),\n\"\")),\"\")","v":""},{"$f":"IFERROR(IF(AND(AD$9<>\"\",$H$3=\"計画\"),INDIRECT(\"'\"&$D20&\"　\"&$E20&\"'!B\"&AE$1),\nIF(AND(AD$9<>\"\",$H$3=\"実績\"),INDIRECT(\"'\"&$D20&\"　\"&$E20&\"'!C\"&AE$1),\n\"\")),\"\")","v":""},{"$f":"IFERROR(IF(IF(AND(AD$9<>\"\",$H$3=\"計画\"),INDIRECT(\"'\"&$D20&\"　\"&$E20&\"'!B\"&AF$1),\nIF(AND(AD$9<>\"\",$H$3=\"実績\"),INDIRECT(\"'\"&$D20&\"　\"&$E20&\"'!C\"&AF$1),\n\"\"))=\"対象外\",\"対象外\",AD20/AE20),\"\")","v":""},{"$f":"IFERROR(IF(AND(AG$9<>\"\",$H$3=\"計画\"),INDIRECT(\"'\"&$D20&\"　\"&$E20&\"'!B\"&AG$1),\nIF(AND(AG$9<>\"\",$H$3=\"実績\"),INDIRECT(\"'\"&$D20&\"　\"&$E20&\"'!C\"&AG$1),\n\"\")),\"\")","v":""},{"$f":"IFERROR(IF(AND(AG$9<>\"\",$H$3=\"計画\"),INDIRECT(\"'\"&$D20&\"　\"&$E20&\"'!B\"&AH$1),\nIF(AND(AG$9<>\"\",$H$3=\"実績\"),INDIRECT(\"'\"&$D20&\"　\"&$E20&\"'!C\"&AH$1),\n\"\")),\"\")","v":""},{"$f":"IFERROR(IF(IF(AND(AG$9<>\"\",$H$3=\"計画\"),INDIRECT(\"'\"&$D20&\"　\"&$E20&\"'!B\"&AI$1),\nIF(AND(AG$9<>\"\",$H$3=\"実績\"),INDIRECT(\"'\"&$D20&\"　\"&$E20&\"'!C\"&AI$1),\n\"\"))=\"対象外\",\"対象外\",AG20/AH20),\"\")","v":""},{"$f":"IFERROR(IF(AND(AJ$9<>\"\",$H$3=\"計画\"),INDIRECT(\"'\"&$D20&\"　\"&$E20&\"'!B\"&AJ$1),\nIF(AND(AJ$9<>\"\",$H$3=\"実績\"),INDIRECT(\"'\"&$D20&\"　\"&$E20&\"'!C\"&AJ$1),\n\"\")),\"\")","v":""},{"$f":"IFERROR(IF(AND(AJ$9<>\"\",$H$3=\"計画\"),INDIRECT(\"'\"&$D20&\"　\"&$E20&\"'!B\"&AK$1),\nIF(AND(AJ$9<>\"\",$H$3=\"実績\"),INDIRECT(\"'\"&$D20&\"　\"&$E20&\"'!C\"&AK$1),\n\"\")),\"\")","v":""},{"$f":"IFERROR(IF(IF(AND(AJ$9<>\"\",$H$3=\"計画\"),INDIRECT(\"'\"&$D20&\"　\"&$E20&\"'!B\"&AL$1),\nIF(AND(AJ$9<>\"\",$H$3=\"実績\"),INDIRECT(\"'\"&$D20&\"　\"&$E20&\"'!C\"&AL$1),\n\"\"))=\"対象外\",\"対象外\",AJ20/AK20),\"\")","v":""},{"$f":"IFERROR(IF(AND(AM$9<>\"\",$H$3=\"計画\"),INDIRECT(\"'\"&$D20&\"　\"&$E20&\"'!B\"&AM$1),\nIF(AND(AM$9<>\"\",$H$3=\"実績\"),INDIRECT(\"'\"&$D20&\"　\"&$E20&\"'!C\"&AM$1),\n\"\")),\"\")","v":""},{"$f":"IFERROR(IF(AND(AM$9<>\"\",$H$3=\"計画\"),INDIRECT(\"'\"&$D20&\"　\"&$E20&\"'!B\"&AN$1),\nIF(AND(AM$9<>\"\",$H$3=\"実績\"),INDIRECT(\"'\"&$D20&\"　\"&$E20&\"'!C\"&AN$1),\n\"\")),\"\")","v":""},{"$f":"IFERROR(IF(IF(AND(AM$9<>\"\",$H$3=\"計画\"),INDIRECT(\"'\"&$D20&\"　\"&$E20&\"'!B\"&AO$1),\nIF(AND(AM$9<>\"\",$H$3=\"実績\"),INDIRECT(\"'\"&$D20&\"　\"&$E20&\"'!C\"&AO$1),\n\"\"))=\"対象外\",\"対象外\",AM20/AN20),\"\")","v":""},{"$f":"IFERROR(IF(AND(AP$9<>\"\",$H$3=\"計画\"),INDIRECT(\"'\"&$D20&\"　\"&$E20&\"'!B\"&AP$1),\nIF(AND(AP$9<>\"\",$H$3=\"実績\"),INDIRECT(\"'\"&$D20&\"　\"&$E20&\"'!C\"&AP$1),\n\"\")),\"\")","v":""},{"$f":"IFERROR(IF(AND(AP$9<>\"\",$H$3=\"計画\"),INDIRECT(\"'\"&$D20&\"　\"&$E20&\"'!B\"&AQ$1),\nIF(AND(AP$9<>\"\",$H$3=\"実績\"),INDIRECT(\"'\"&$D20&\"　\"&$E20&\"'!C\"&AQ$1),\n\"\")),\"\")","v":""},{"$f":"IFERROR(IF(IF(AND(AP$9<>\"\",$H$3=\"計画\"),INDIRECT(\"'\"&$D20&\"　\"&$E20&\"'!B\"&AR$1),\nIF(AND(AP$9<>\"\",$H$3=\"実績\"),INDIRECT(\"'\"&$D20&\"　\"&$E20&\"'!C\"&AR$1),\n\"\"))=\"対象外\",\"対象外\",AP20/AQ20),\"\")","v":""},{"$f":"IFERROR(IF(AND(AS$9<>\"\",$H$3=\"計画\"),INDIRECT(\"'\"&$D20&\"　\"&$E20&\"'!B\"&AS$1),\nIF(AND(AS$9<>\"\",$H$3=\"実績\"),INDIRECT(\"'\"&$D20&\"　\"&$E20&\"'!C\"&AS$1),\n\"\")),\"\")","v":""},{"$f":"IFERROR(IF(AND(AS$9<>\"\",$H$3=\"計画\"),INDIRECT(\"'\"&$D20&\"　\"&$E20&\"'!B\"&AT$1),\nIF(AND(AS$9<>\"\",$H$3=\"実績\"),INDIRECT(\"'\"&$D20&\"　\"&$E20&\"'!C\"&AT$1),\n\"\")),\"\")","v":""},{"$f":"IFERROR(IF(IF(AND(AS$9<>\"\",$H$3=\"計画\"),INDIRECT(\"'\"&$D20&\"　\"&$E20&\"'!B\"&AU$1),\nIF(AND(AS$9<>\"\",$H$3=\"実績\"),INDIRECT(\"'\"&$D20&\"　\"&$E20&\"'!C\"&AU$1),\n\"\"))=\"対象外\",\"対象外\",AS20/AT20),\"\")","v":""},{"$f":"IFERROR(IF(AND(AV$9<>\"\",$H$3=\"計画\"),INDIRECT(\"'\"&$D20&\"　\"&$E20&\"'!B\"&AV$1),\nIF(AND(AV$9<>\"\",$H$3=\"実績\"),INDIRECT(\"'\"&$D20&\"　\"&$E20&\"'!C\"&AV$1),\n\"\")),\"\")","v":""},{"$f":"IFERROR(IF(AND(AV$9<>\"\",$H$3=\"計画\"),INDIRECT(\"'\"&$D20&\"　\"&$E20&\"'!B\"&AW$1),\nIF(AND(AV$9<>\"\",$H$3=\"実績\"),INDIRECT(\"'\"&$D20&\"　\"&$E20&\"'!C\"&AW$1),\n\"\")),\"\")","v":""},{"$f":"IFERROR(IF(IF(AND(AV$9<>\"\",$H$3=\"計画\"),INDIRECT(\"'\"&$D20&\"　\"&$E20&\"'!B\"&AX$1),\nIF(AND(AV$9<>\"\",$H$3=\"実績\"),INDIRECT(\"'\"&$D20&\"　\"&$E20&\"'!C\"&AX$1),\n\"\"))=\"対象外\",\"対象外\",AV20/AW20),\"\")","v":""},{"$f":"IFERROR(IF(AND(AY$9<>\"\",$H$3=\"計画\"),INDIRECT(\"'\"&$D20&\"　\"&$E20&\"'!B\"&AY$1),\nIF(AND(AY$9<>\"\",$H$3=\"実績\"),INDIRECT(\"'\"&$D20&\"　\"&$E20&\"'!C\"&AY$1),\n\"\")),\"\")","v":""},{"$f":"IFERROR(IF(AND(AY$9<>\"\",$H$3=\"計画\"),INDIRECT(\"'\"&$D20&\"　\"&$E20&\"'!B\"&AZ$1),\nIF(AND(AY$9<>\"\",$H$3=\"実績\"),INDIRECT(\"'\"&$D20&\"　\"&$E20&\"'!C\"&AZ$1),\n\"\")),\"\")","v":""},{"$f":"IFERROR(IF(IF(AND(AY$9<>\"\",$H$3=\"計画\"),INDIRECT(\"'\"&$D20&\"　\"&$E20&\"'!B\"&BA$1),\nIF(AND(AY$9<>\"\",$H$3=\"実績\"),INDIRECT(\"'\"&$D20&\"　\"&$E20&\"'!C\"&BA$1),\n\"\"))=\"対象外\",\"対象外\",AY20/AZ20),\"\")","v":""},{"$f":"IFERROR(IF(AND(BB$9<>\"\",$H$3=\"計画\"),INDIRECT(\"'\"&$D20&\"　\"&$E20&\"'!B\"&BB$1),\nIF(AND(BB$9<>\"\",$H$3=\"実績\"),INDIRECT(\"'\"&$D20&\"　\"&$E20&\"'!C\"&BB$1),\n\"\")),\"\")","v":""},{"$f":"IFERROR(IF(AND(BB$9<>\"\",$H$3=\"計画\"),INDIRECT(\"'\"&$D20&\"　\"&$E20&\"'!B\"&BC$1),\nIF(AND(BB$9<>\"\",$H$3=\"実績\"),INDIRECT(\"'\"&$D20&\"　\"&$E20&\"'!C\"&BC$1),\n\"\")),\"\")","v":""},{"$f":"IFERROR(IF(IF(AND(BB$9<>\"\",$H$3=\"計画\"),INDIRECT(\"'\"&$D20&\"　\"&$E20&\"'!B\"&BD$1),\nIF(AND(BB$9<>\"\",$H$3=\"実績\"),INDIRECT(\"'\"&$D20&\"　\"&$E20&\"'!C\"&BD$1),\n\"\"))=\"対象外\",\"対象外\",BB20/BC20),\"\")","v":""},{"$f":"IFERROR(IF(AND(BE$9<>\"\",$H$3=\"計画\"),INDIRECT(\"'\"&$D20&\"　\"&$E20&\"'!B\"&BE$1),\nIF(AND(BE$9<>\"\",$H$3=\"実績\"),INDIRECT(\"'\"&$D20&\"　\"&$E20&\"'!C\"&BE$1),\n\"\")),\"\")","v":""},{"$f":"IFERROR(IF(AND(BE$9<>\"\",$H$3=\"計画\"),INDIRECT(\"'\"&$D20&\"　\"&$E20&\"'!B\"&BF$1),\nIF(AND(BE$9<>\"\",$H$3=\"実績\"),INDIRECT(\"'\"&$D20&\"　\"&$E20&\"'!C\"&BF$1),\n\"\")),\"\")","v":""},{"$f":"IFERROR(IF(IF(AND(BE$9<>\"\",$H$3=\"計画\"),INDIRECT(\"'\"&$D20&\"　\"&$E20&\"'!B\"&BG$1),\nIF(AND(BE$9<>\"\",$H$3=\"実績\"),INDIRECT(\"'\"&$D20&\"　\"&$E20&\"'!C\"&BG$1),\n\"\"))=\"対象外\",\"対象外\",BE20/BF20),\"\")","v":""},{"$f":"IFERROR(IF(AND(BH$9<>\"\",$H$3=\"計画\"),INDIRECT(\"'\"&$D20&\"　\"&$E20&\"'!B\"&BH$1),\nIF(AND(BH$9<>\"\",$H$3=\"実績\"),INDIRECT(\"'\"&$D20&\"　\"&$E20&\"'!C\"&BH$1),\n\"\")),\"\")","v":""},{"$f":"IFERROR(IF(AND(BH$9<>\"\",$H$3=\"計画\"),INDIRECT(\"'\"&$D20&\"　\"&$E20&\"'!B\"&BI$1),\nIF(AND(BH$9<>\"\",$H$3=\"実績\"),INDIRECT(\"'\"&$D20&\"　\"&$E20&\"'!C\"&BI$1),\n\"\")),\"\")","v":""},{"$f":"IFERROR(IF(IF(AND(BH$9<>\"\",$H$3=\"計画\"),INDIRECT(\"'\"&$D20&\"　\"&$E20&\"'!B\"&BJ$1),\nIF(AND(BH$9<>\"\",$H$3=\"実績\"),INDIRECT(\"'\"&$D20&\"　\"&$E20&\"'!C\"&BJ$1),\n\"\"))=\"対象外\",\"対象外\",BH20/BI20),\"\")","v":""},{"$f":"IFERROR(IF(AND(BK$9<>\"\",$H$3=\"計画\"),INDIRECT(\"'\"&$D20&\"　\"&$E20&\"'!B\"&BK$1),\nIF(AND(BK$9<>\"\",$H$3=\"実績\"),INDIRECT(\"'\"&$D20&\"　\"&$E20&\"'!C\"&BK$1),\n\"\")),\"\")","v":""},{"$f":"IFERROR(IF(AND(BK$9<>\"\",$H$3=\"計画\"),INDIRECT(\"'\"&$D20&\"　\"&$E20&\"'!B\"&BL$1),\nIF(AND(BK$9<>\"\",$H$3=\"実績\"),INDIRECT(\"'\"&$D20&\"　\"&$E20&\"'!C\"&BL$1),\n\"\")),\"\")","v":""},{"$f":"IFERROR(IF(IF(AND(BK$9<>\"\",$H$3=\"計画\"),INDIRECT(\"'\"&$D20&\"　\"&$E20&\"'!B\"&BM$1),\nIF(AND(BK$9<>\"\",$H$3=\"実績\"),INDIRECT(\"'\"&$D20&\"　\"&$E20&\"'!C\"&BM$1),\n\"\"))=\"対象外\",\"対象外\",BK20/BL20),\"\")","v":""},{"$f":"IFERROR(IF(AND(BN$9<>\"\",$H$3=\"計画\"),INDIRECT(\"'\"&$D20&\"　\"&$E20&\"'!B\"&BN$1),\nIF(AND(BN$9<>\"\",$H$3=\"実績\"),INDIRECT(\"'\"&$D20&\"　\"&$E20&\"'!C\"&BN$1),\n\"\")),\"\")","v":""},{"$f":"IFERROR(IF(AND(BN$9<>\"\",$H$3=\"計画\"),INDIRECT(\"'\"&$D20&\"　\"&$E20&\"'!B\"&BO$1),\nIF(AND(BN$9<>\"\",$H$3=\"実績\"),INDIRECT(\"'\"&$D20&\"　\"&$E20&\"'!C\"&BO$1),\n\"\")),\"\")","v":""},{"$f":"IFERROR(IF(IF(AND(BN$9<>\"\",$H$3=\"計画\"),INDIRECT(\"'\"&$D20&\"　\"&$E20&\"'!B\"&BP$1),\nIF(AND(BN$9<>\"\",$H$3=\"実績\"),INDIRECT(\"'\"&$D20&\"　\"&$E20&\"'!C\"&BP$1),\n\"\"))=\"対象外\",\"対象外\",BN20/BO20),\"\")","v":""},{"$f":"IFERROR(IF(AND(BQ$9<>\"\",$H$3=\"計画\"),INDIRECT(\"'\"&$D20&\"　\"&$E20&\"'!B\"&BQ$1),\nIF(AND(BQ$9<>\"\",$H$3=\"実績\"),INDIRECT(\"'\"&$D20&\"　\"&$E20&\"'!C\"&BQ$1),\n\"\")),\"\")","v":""},{"$f":"IFERROR(IF(AND(BQ$9<>\"\",$H$3=\"計画\"),INDIRECT(\"'\"&$D20&\"　\"&$E20&\"'!B\"&BR$1),\nIF(AND(BQ$9<>\"\",$H$3=\"実績\"),INDIRECT(\"'\"&$D20&\"　\"&$E20&\"'!C\"&BR$1),\n\"\")),\"\")","v":""},{"$f":"IFERROR(IF(IF(AND(BQ$9<>\"\",$H$3=\"計画\"),INDIRECT(\"'\"&$D20&\"　\"&$E20&\"'!B\"&BS$1),\nIF(AND(BQ$9<>\"\",$H$3=\"実績\"),INDIRECT(\"'\"&$D20&\"　\"&$E20&\"'!C\"&BS$1),\n\"\"))=\"対象外\",\"対象外\",BQ20/BR20),\"\")","v":""},{"$f":"IFERROR(IF(AND(BT$9<>\"\",$H$3=\"計画\"),INDIRECT(\"'\"&$D20&\"　\"&$E20&\"'!B\"&BT$1),\nIF(AND(BT$9<>\"\",$H$3=\"実績\"),INDIRECT(\"'\"&$D20&\"　\"&$E20&\"'!C\"&BT$1),\n\"\")),\"\")","v":""},{"$f":"IFERROR(IF(AND(BT$9<>\"\",$H$3=\"計画\"),INDIRECT(\"'\"&$D20&\"　\"&$E20&\"'!B\"&BU$1),\nIF(AND(BT$9<>\"\",$H$3=\"実績\"),INDIRECT(\"'\"&$D20&\"　\"&$E20&\"'!C\"&BU$1),\n\"\")),\"\")","v":""},{"$f":"IFERROR(IF(IF(AND(BT$9<>\"\",$H$3=\"計画\"),INDIRECT(\"'\"&$D20&\"　\"&$E20&\"'!B\"&BV$1),\nIF(AND(BT$9<>\"\",$H$3=\"実績\"),INDIRECT(\"'\"&$D20&\"　\"&$E20&\"'!C\"&BV$1),\n\"\"))=\"対象外\",\"対象外\",BT20/BU20),\"\")","v":""},{"$f":"IFERROR(IF(AND(BW$9<>\"\",$H$3=\"計画\"),INDIRECT(\"'\"&$D20&\"　\"&$E20&\"'!B\"&BW$1),\nIF(AND(BW$9<>\"\",$H$3=\"実績\"),INDIRECT(\"'\"&$D20&\"　\"&$E20&\"'!C\"&BW$1),\n\"\")),\"\")","v":""},{"$f":"IFERROR(IF(AND(BW$9<>\"\",$H$3=\"計画\"),INDIRECT(\"'\"&$D20&\"　\"&$E20&\"'!B\"&BX$1),\nIF(AND(BW$9<>\"\",$H$3=\"実績\"),INDIRECT(\"'\"&$D20&\"　\"&$E20&\"'!C\"&BX$1),\n\"\")),\"\")","v":""},{"$f":"IFERROR(IF(IF(AND(BW$9<>\"\",$H$3=\"計画\"),INDIRECT(\"'\"&$D20&\"　\"&$E20&\"'!B\"&BY$1),\nIF(AND(BW$9<>\"\",$H$3=\"実績\"),INDIRECT(\"'\"&$D20&\"　\"&$E20&\"'!C\"&BY$1),\n\"\"))=\"対象外\",\"対象外\",BW20/BX20),\"\")","v":""},{"$f":"IFERROR(IF(AND(BZ$9<>\"\",$H$3=\"計画\"),INDIRECT(\"'\"&$D20&\"　\"&$E20&\"'!B\"&BZ$1),\nIF(AND(BZ$9<>\"\",$H$3=\"実績\"),INDIRECT(\"'\"&$D20&\"　\"&$E20&\"'!C\"&BZ$1),\n\"\")),\"\")","v":""},{"$f":"IFERROR(IF(AND(BZ$9<>\"\",$H$3=\"計画\"),INDIRECT(\"'\"&$D20&\"　\"&$E20&\"'!B\"&CA$1),\nIF(AND(BZ$9<>\"\",$H$3=\"実績\"),INDIRECT(\"'\"&$D20&\"　\"&$E20&\"'!C\"&CA$1),\n\"\")),\"\")","v":""},{"$f":"IFERROR(IF(IF(AND(BZ$9<>\"\",$H$3=\"計画\"),INDIRECT(\"'\"&$D20&\"　\"&$E20&\"'!B\"&CB$1),\nIF(AND(BZ$9<>\"\",$H$3=\"実績\"),INDIRECT(\"'\"&$D20&\"　\"&$E20&\"'!C\"&CB$1),\n\"\"))=\"対象外\",\"対象外\",BZ20/CA20),\"\")","v":""},{"$f":"IFERROR(IF(AND(CC$9<>\"\",$H$3=\"計画\"),INDIRECT(\"'\"&$D20&\"　\"&$E20&\"'!B\"&CC$1),\nIF(AND(CC$9<>\"\",$H$3=\"実績\"),INDIRECT(\"'\"&$D20&\"　\"&$E20&\"'!C\"&CC$1),\n\"\")),\"\")","v":""},{"$f":"IFERROR(IF(AND(CC$9<>\"\",$H$3=\"計画\"),INDIRECT(\"'\"&$D20&\"　\"&$E20&\"'!B\"&CD$1),\nIF(AND(CC$9<>\"\",$H$3=\"実績\"),INDIRECT(\"'\"&$D20&\"　\"&$E20&\"'!C\"&CD$1),\n\"\")),\"\")","v":""},{"$f":"IFERROR(IF(IF(AND(CC$9<>\"\",$H$3=\"計画\"),INDIRECT(\"'\"&$D20&\"　\"&$E20&\"'!B\"&CE$1),\nIF(AND(CC$9<>\"\",$H$3=\"実績\"),INDIRECT(\"'\"&$D20&\"　\"&$E20&\"'!C\"&CE$1),\n\"\"))=\"対象外\",\"対象外\",CC20/CD20),\"\")","v":""},{"$f":"IFERROR(IF(AND(CF$9<>\"\",$H$3=\"計画\"),INDIRECT(\"'\"&$D20&\"　\"&$E20&\"'!B\"&CF$1),\nIF(AND(CF$9<>\"\",$H$3=\"実績\"),INDIRECT(\"'\"&$D20&\"　\"&$E20&\"'!C\"&CF$1),\n\"\")),\"\")","v":""},{"$f":"IFERROR(IF(AND(CF$9<>\"\",$H$3=\"計画\"),INDIRECT(\"'\"&$D20&\"　\"&$E20&\"'!B\"&CG$1),\nIF(AND(CF$9<>\"\",$H$3=\"実績\"),INDIRECT(\"'\"&$D20&\"　\"&$E20&\"'!C\"&CG$1),\n\"\")),\"\")","v":""},{"$f":"IFERROR(IF(IF(AND(CF$9<>\"\",$H$3=\"計画\"),INDIRECT(\"'\"&$D20&\"　\"&$E20&\"'!B\"&CH$1),\nIF(AND(CF$9<>\"\",$H$3=\"実績\"),INDIRECT(\"'\"&$D20&\"　\"&$E20&\"'!C\"&CH$1),\n\"\"))=\"対象外\",\"対象外\",CF20/CG20),\"\")","v":""},{"$f":"IFERROR(IF(AND(CI$9<>\"\",$H$3=\"計画\"),INDIRECT(\"'\"&$D20&\"　\"&$E20&\"'!B\"&CI$1),\nIF(AND(CI$9<>\"\",$H$3=\"実績\"),INDIRECT(\"'\"&$D20&\"　\"&$E20&\"'!C\"&CI$1),\n\"\")),\"\")","v":""},{"$f":"IFERROR(IF(AND(CI$9<>\"\",$H$3=\"計画\"),INDIRECT(\"'\"&$D20&\"　\"&$E20&\"'!B\"&CJ$1),\nIF(AND(CI$9<>\"\",$H$3=\"実績\"),INDIRECT(\"'\"&$D20&\"　\"&$E20&\"'!C\"&CJ$1),\n\"\")),\"\")","v":""},{"$f":"IFERROR(IF(IF(AND(CI$9<>\"\",$H$3=\"計画\"),INDIRECT(\"'\"&$D20&\"　\"&$E20&\"'!B\"&CK$1),\nIF(AND(CI$9<>\"\",$H$3=\"実績\"),INDIRECT(\"'\"&$D20&\"　\"&$E20&\"'!C\"&CK$1),\n\"\"))=\"対象外\",\"対象外\",CI20/CJ20),\"\")","v":""},{"$f":"IFERROR(IF(AND(CL$9<>\"\",$H$3=\"計画\"),INDIRECT(\"'\"&$D20&\"　\"&$E20&\"'!B\"&CL$1),\nIF(AND(CL$9<>\"\",$H$3=\"実績\"),INDIRECT(\"'\"&$D20&\"　\"&$E20&\"'!C\"&CL$1),\n\"\")),\"\")","v":""},{"$f":"IFERROR(IF(AND(CL$9<>\"\",$H$3=\"計画\"),INDIRECT(\"'\"&$D20&\"　\"&$E20&\"'!B\"&CM$1),\nIF(AND(CL$9<>\"\",$H$3=\"実績\"),INDIRECT(\"'\"&$D20&\"　\"&$E20&\"'!C\"&CM$1),\n\"\")),\"\")","v":""},{"$f":"IFERROR(IF(IF(AND(CL$9<>\"\",$H$3=\"計画\"),INDIRECT(\"'\"&$D20&\"　\"&$E20&\"'!B\"&CN$1),\nIF(AND(CL$9<>\"\",$H$3=\"実績\"),INDIRECT(\"'\"&$D20&\"　\"&$E20&\"'!C\"&CN$1),\n\"\"))=\"対象外\",\"対象外\",CL20/CM20),\"\")","v":""},{"$f":"IFERROR(IF(AND(CO$9<>\"\",$H$3=\"計画\"),INDIRECT(\"'\"&$D20&\"　\"&$E20&\"'!B\"&CO$1),\nIF(AND(CO$9<>\"\",$H$3=\"実績\"),INDIRECT(\"'\"&$D20&\"　\"&$E20&\"'!C\"&CO$1),\n\"\")),\"\")","v":""},{"$f":"IFERROR(IF(AND(CO$9<>\"\",$H$3=\"計画\"),INDIRECT(\"'\"&$D20&\"　\"&$E20&\"'!B\"&CP$1),\nIF(AND(CO$9<>\"\",$H$3=\"実績\"),INDIRECT(\"'\"&$D20&\"　\"&$E20&\"'!C\"&CP$1),\n\"\")),\"\")","v":""},{"$f":"IFERROR(IF(IF(AND(CO$9<>\"\",$H$3=\"計画\"),INDIRECT(\"'\"&$D20&\"　\"&$E20&\"'!B\"&CQ$1),\nIF(AND(CO$9<>\"\",$H$3=\"実績\"),INDIRECT(\"'\"&$D20&\"　\"&$E20&\"'!C\"&CQ$1),\n\"\"))=\"対象外\",\"対象外\",CO20/CP20),\"\")","v":""},{"$f":"IFERROR(IF(AND(CR$9<>\"\",$H$3=\"計画\"),INDIRECT(\"'\"&$D20&\"　\"&$E20&\"'!B\"&CR$1),\nIF(AND(CR$9<>\"\",$H$3=\"実績\"),INDIRECT(\"'\"&$D20&\"　\"&$E20&\"'!C\"&CR$1),\n\"\")),\"\")","v":""},{"$f":"IFERROR(IF(AND(CR$9<>\"\",$H$3=\"計画\"),INDIRECT(\"'\"&$D20&\"　\"&$E20&\"'!B\"&CS$1),\nIF(AND(CR$9<>\"\",$H$3=\"実績\"),INDIRECT(\"'\"&$D20&\"　\"&$E20&\"'!C\"&CS$1),\n\"\")),\"\")","v":""},{"$f":"IFERROR(IF(IF(AND(CR$9<>\"\",$H$3=\"計画\"),INDIRECT(\"'\"&$D20&\"　\"&$E20&\"'!B\"&CT$1),\nIF(AND(CR$9<>\"\",$H$3=\"実績\"),INDIRECT(\"'\"&$D20&\"　\"&$E20&\"'!C\"&CT$1),\n\"\"))=\"対象外\",\"対象外\",CR20/CS20),\"\")","v":""},{"$f":"IFERROR(IF(AND(CU$9<>\"\",$H$3=\"計画\"),INDIRECT(\"'\"&$D20&\"　\"&$E20&\"'!B\"&CU$1),\nIF(AND(CU$9<>\"\",$H$3=\"実績\"),INDIRECT(\"'\"&$D20&\"　\"&$E20&\"'!C\"&CU$1),\n\"\")),\"\")","v":""},{"$f":"IFERROR(IF(AND(CU$9<>\"\",$H$3=\"計画\"),INDIRECT(\"'\"&$D20&\"　\"&$E20&\"'!B\"&CV$1),\nIF(AND(CU$9<>\"\",$H$3=\"実績\"),INDIRECT(\"'\"&$D20&\"　\"&$E20&\"'!C\"&CV$1),\n\"\")),\"\")","v":""},{"$f":"IFERROR(IF(IF(AND(CU$9<>\"\",$H$3=\"計画\"),INDIRECT(\"'\"&$D20&\"　\"&$E20&\"'!B\"&CW$1),\nIF(AND(CU$9<>\"\",$H$3=\"実績\"),INDIRECT(\"'\"&$D20&\"　\"&$E20&\"'!C\"&CW$1),\n\"\"))=\"対象外\",\"対象外\",CU20/CV20),\"\")","v":""},{"$f":"IFERROR(IF(AND(CX$9<>\"\",$H$3=\"計画\"),INDIRECT(\"'\"&$D20&\"　\"&$E20&\"'!B\"&CX$1),\nIF(AND(CX$9<>\"\",$H$3=\"実績\"),INDIRECT(\"'\"&$D20&\"　\"&$E20&\"'!C\"&CX$1),\n\"\")),\"\")","v":""},{"$f":"IFERROR(IF(AND(CX$9<>\"\",$H$3=\"計画\"),INDIRECT(\"'\"&$D20&\"　\"&$E20&\"'!B\"&CY$1),\nIF(AND(CX$9<>\"\",$H$3=\"実績\"),INDIRECT(\"'\"&$D20&\"　\"&$E20&\"'!C\"&CY$1),\n\"\")),\"\")","v":""},{"$f":"IFERROR(IF(IF(AND(CX$9<>\"\",$H$3=\"計画\"),INDIRECT(\"'\"&$D20&\"　\"&$E20&\"'!B\"&CZ$1),\nIF(AND(CX$9<>\"\",$H$3=\"実績\"),INDIRECT(\"'\"&$D20&\"　\"&$E20&\"'!C\"&CZ$1),\n\"\"))=\"対象外\",\"対象外\",CX20/CY20),\"\")","v":""},{"$f":"IFERROR(IF(AND(DA$9<>\"\",$H$3=\"計画\"),INDIRECT(\"'\"&$D20&\"　\"&$E20&\"'!B\"&DA$1),\nIF(AND(DA$9<>\"\",$H$3=\"実績\"),INDIRECT(\"'\"&$D20&\"　\"&$E20&\"'!C\"&DA$1),\n\"\")),\"\")","v":""},{"$f":"IFERROR(IF(AND(DA$9<>\"\",$H$3=\"計画\"),INDIRECT(\"'\"&$D20&\"　\"&$E20&\"'!B\"&DB$1),\nIF(AND(DA$9<>\"\",$H$3=\"実績\"),INDIRECT(\"'\"&$D20&\"　\"&$E20&\"'!C\"&DB$1),\n\"\")),\"\")","v":""},{"$f":"IFERROR(IF(IF(AND(DA$9<>\"\",$H$3=\"計画\"),INDIRECT(\"'\"&$D20&\"　\"&$E20&\"'!B\"&DC$1),\nIF(AND(DA$9<>\"\",$H$3=\"実績\"),INDIRECT(\"'\"&$D20&\"　\"&$E20&\"'!C\"&DC$1),\n\"\"))=\"対象外\",\"対象外\",DA20/DB20),\"\")","v":""},{"$f":"IFERROR(IF(AND(DD$9<>\"\",$H$3=\"計画\"),INDIRECT(\"'\"&$D20&\"　\"&$E20&\"'!B\"&DD$1),\nIF(AND(DD$9<>\"\",$H$3=\"実績\"),INDIRECT(\"'\"&$D20&\"　\"&$E20&\"'!C\"&DD$1),\n\"\")),\"\")","v":""},{"$f":"IFERROR(IF(AND(DD$9<>\"\",$H$3=\"計画\"),INDIRECT(\"'\"&$D20&\"　\"&$E20&\"'!B\"&DE$1),\nIF(AND(DD$9<>\"\",$H$3=\"実績\"),INDIRECT(\"'\"&$D20&\"　\"&$E20&\"'!C\"&DE$1),\n\"\")),\"\")","v":""},{"$f":"IFERROR(IF(IF(AND(DD$9<>\"\",$H$3=\"計画\"),INDIRECT(\"'\"&$D20&\"　\"&$E20&\"'!B\"&DF$1),\nIF(AND(DD$9<>\"\",$H$3=\"実績\"),INDIRECT(\"'\"&$D20&\"　\"&$E20&\"'!C\"&DF$1),\n\"\"))=\"対象外\",\"対象外\",DD20/DE20),\"\")","v":""},{"$f":"IFERROR(IF(AND(DG$9<>\"\",$H$3=\"計画\"),INDIRECT(\"'\"&$D20&\"　\"&$E20&\"'!B\"&DG$1),\nIF(AND(DG$9<>\"\",$H$3=\"実績\"),INDIRECT(\"'\"&$D20&\"　\"&$E20&\"'!C\"&DG$1),\n\"\")),\"\")","v":""},{"$f":"IFERROR(IF(AND(DG$9<>\"\",$H$3=\"計画\"),INDIRECT(\"'\"&$D20&\"　\"&$E20&\"'!B\"&DH$1),\nIF(AND(DG$9<>\"\",$H$3=\"実績\"),INDIRECT(\"'\"&$D20&\"　\"&$E20&\"'!C\"&DH$1),\n\"\")),\"\")","v":""},{"$f":"IFERROR(IF(IF(AND(DG$9<>\"\",$H$3=\"計画\"),INDIRECT(\"'\"&$D20&\"　\"&$E20&\"'!B\"&DI$1),\nIF(AND(DG$9<>\"\",$H$3=\"実績\"),INDIRECT(\"'\"&$D20&\"　\"&$E20&\"'!C\"&DI$1),\n\"\"))=\"対象外\",\"対象外\",DG20/DH20),\"\")","v":""},{"$f":"IFERROR(IF(AND(DJ$9<>\"\",$H$3=\"計画\"),INDIRECT(\"'\"&$D20&\"　\"&$E20&\"'!B\"&DJ$1),\nIF(AND(DJ$9<>\"\",$H$3=\"実績\"),INDIRECT(\"'\"&$D20&\"　\"&$E20&\"'!C\"&DJ$1),\n\"\")),\"\")","v":""},{"$f":"IFERROR(IF(AND(DJ$9<>\"\",$H$3=\"計画\"),INDIRECT(\"'\"&$D20&\"　\"&$E20&\"'!B\"&DK$1),\nIF(AND(DJ$9<>\"\",$H$3=\"実績\"),INDIRECT(\"'\"&$D20&\"　\"&$E20&\"'!C\"&DK$1),\n\"\")),\"\")","v":""},{"$f":"IFERROR(IF(IF(AND(DJ$9<>\"\",$H$3=\"計画\"),INDIRECT(\"'\"&$D20&\"　\"&$E20&\"'!B\"&DL$1),\nIF(AND(DJ$9<>\"\",$H$3=\"実績\"),INDIRECT(\"'\"&$D20&\"　\"&$E20&\"'!C\"&DL$1),\n\"\"))=\"対象外\",\"対象外\",DJ20/DK20),\"\")","v":""}]
["休暇率　（平均）",null,null,null,null,"","",{"$f":"IFERROR(IF(IF(H$3=\"計画\",INDIRECT(\"'\"&$D21&\"　\"&$E21&\"'!B\"&H$1),\nIF(H$3=\"実績\",INDIRECT(\"'\"&$D21&\"　\"&$E21&\"'!C\"&H$1),\n\"\"))>=28,F21/G21,\"対象外\"),\"\")","v":""},{"$f":"IFERROR(IF(AND(I$9<>\"\",$H$3=\"計画\"),INDIRECT(\"'\"&$D21&\"　\"&$E21&\"'!B\"&I$1),\nIF(AND(I$9<>\"\",$H$3=\"実績\"),INDIRECT(\"'\"&$D21&\"　\"&$E21&\"'!C\"&I$1),\n\"\")),\"\")","v":""},{"$f":"IFERROR(IF(AND(I$9<>\"\",$H$3=\"計画\"),INDIRECT(\"'\"&$D21&\"　\"&$E21&\"'!B\"&J$1),\nIF(AND(I$9<>\"\",$H$3=\"実績\"),INDIRECT(\"'\"&$D21&\"　\"&$E21&\"'!C\"&J$1),\n\"\")),\"\")","v":""},{"$f":"IFERROR(IF(IF(AND(I$9<>\"\",$H$3=\"計画\"),INDIRECT(\"'\"&$D21&\"　\"&$E21&\"'!B\"&K$1),\nIF(AND(I$9<>\"\",$H$3=\"実績\"),INDIRECT(\"'\"&$D21&\"　\"&$E21&\"'!C\"&K$1),\n\"\"))=\"対象外\",\"対象外\",I21/J21),\"\")","v":""},{"$f":"IFERROR(IF(AND(L$9<>\"\",$H$3=\"計画\"),INDIRECT(\"'\"&$D21&\"　\"&$E21&\"'!B\"&L$1),\nIF(AND(L$9<>\"\",$H$3=\"実績\"),INDIRECT(\"'\"&$D21&\"　\"&$E21&\"'!C\"&L$1),\n\"\")),\"\")","v":""},{"$f":"IFERROR(IF(AND(L$9<>\"\",$H$3=\"計画\"),INDIRECT(\"'\"&$D21&\"　\"&$E21&\"'!B\"&M$1),\nIF(AND(L$9<>\"\",$H$3=\"実績\"),INDIRECT(\"'\"&$D21&\"　\"&$E21&\"'!C\"&M$1),\n\"\")),\"\")","v":""},{"$f":"IFERROR(IF(IF(AND(L$9<>\"\",$H$3=\"計画\"),INDIRECT(\"'\"&$D21&\"　\"&$E21&\"'!B\"&N$1),\nIF(AND(L$9<>\"\",$H$3=\"実績\"),INDIRECT(\"'\"&$D21&\"　\"&$E21&\"'!C\"&N$1),\n\"\"))=\"対象外\",\"対象外\",L21/M21),\"\")","v":""},{"$f":"IFERROR(IF(AND(O$9<>\"\",$H$3=\"計画\"),INDIRECT(\"'\"&$D21&\"　\"&$E21&\"'!B\"&O$1),\nIF(AND(O$9<>\"\",$H$3=\"実績\"),INDIRECT(\"'\"&$D21&\"　\"&$E21&\"'!C\"&O$1),\n\"\")),\"\")","v":""},{"$f":"IFERROR(IF(AND(O$9<>\"\",$H$3=\"計画\"),INDIRECT(\"'\"&$D21&\"　\"&$E21&\"'!B\"&P$1),\nIF(AND(O$9<>\"\",$H$3=\"実績\"),INDIRECT(\"'\"&$D21&\"　\"&$E21&\"'!C\"&P$1),\n\"\")),\"\")","v":""},{"$f":"IFERROR(IF(IF(AND(O$9<>\"\",$H$3=\"計画\"),INDIRECT(\"'\"&$D21&\"　\"&$E21&\"'!B\"&Q$1),\nIF(AND(O$9<>\"\",$H$3=\"実績\"),INDIRECT(\"'\"&$D21&\"　\"&$E21&\"'!C\"&Q$1),\n\"\"))=\"対象外\",\"対象外\",O21/P21),\"\")","v":""},{"$f":"IFERROR(IF(AND(R$9<>\"\",$H$3=\"計画\"),INDIRECT(\"'\"&$D21&\"　\"&$E21&\"'!B\"&R$1),\nIF(AND(R$9<>\"\",$H$3=\"実績\"),INDIRECT(\"'\"&$D21&\"　\"&$E21&\"'!C\"&R$1),\n\"\")),\"\")","v":""},{"$f":"IFERROR(IF(AND(R$9<>\"\",$H$3=\"計画\"),INDIRECT(\"'\"&$D21&\"　\"&$E21&\"'!B\"&S$1),\nIF(AND(R$9<>\"\",$H$3=\"実績\"),INDIRECT(\"'\"&$D21&\"　\"&$E21&\"'!C\"&S$1),\n\"\")),\"\")","v":""},{"$f":"IFERROR(IF(IF(AND(R$9<>\"\",$H$3=\"計画\"),INDIRECT(\"'\"&$D21&\"　\"&$E21&\"'!B\"&T$1),\nIF(AND(R$9<>\"\",$H$3=\"実績\"),INDIRECT(\"'\"&$D21&\"　\"&$E21&\"'!C\"&T$1),\n\"\"))=\"対象外\",\"対象外\",R21/S21),\"\")","v":""},{"$f":"IFERROR(IF(AND(U$9<>\"\",$H$3=\"計画\"),INDIRECT(\"'\"&$D21&\"　\"&$E21&\"'!B\"&U$1),\nIF(AND(U$9<>\"\",$H$3=\"実績\"),INDIRECT(\"'\"&$D21&\"　\"&$E21&\"'!C\"&U$1),\n\"\")),\"\")","v":""},{"$f":"IFERROR(IF(AND(U$9<>\"\",$H$3=\"計画\"),INDIRECT(\"'\"&$D21&\"　\"&$E21&\"'!B\"&V$1),\nIF(AND(U$9<>\"\",$H$3=\"実績\"),INDIRECT(\"'\"&$D21&\"　\"&$E21&\"'!C\"&V$1),\n\"\")),\"\")","v":""},{"$f":"IFERROR(IF(IF(AND(U$9<>\"\",$H$3=\"計画\"),INDIRECT(\"'\"&$D21&\"　\"&$E21&\"'!B\"&W$1),\nIF(AND(U$9<>\"\",$H$3=\"実績\"),INDIRECT(\"'\"&$D21&\"　\"&$E21&\"'!C\"&W$1),\n\"\"))=\"対象外\",\"対象外\",U21/V21),\"\")","v":""},{"$f":"IFERROR(IF(AND(X$9<>\"\",$H$3=\"計画\"),INDIRECT(\"'\"&$D21&\"　\"&$E21&\"'!B\"&X$1),\nIF(AND(X$9<>\"\",$H$3=\"実績\"),INDIRECT(\"'\"&$D21&\"　\"&$E21&\"'!C\"&X$1),\n\"\")),\"\")","v":""},{"$f":"IFERROR(IF(AND(X$9<>\"\",$H$3=\"計画\"),INDIRECT(\"'\"&$D21&\"　\"&$E21&\"'!B\"&Y$1),\nIF(AND(X$9<>\"\",$H$3=\"実績\"),INDIRECT(\"'\"&$D21&\"　\"&$E21&\"'!C\"&Y$1),\n\"\")),\"\")","v":""},{"$f":"IFERROR(IF(IF(AND(X$9<>\"\",$H$3=\"計画\"),INDIRECT(\"'\"&$D21&\"　\"&$E21&\"'!B\"&Z$1),\nIF(AND(X$9<>\"\",$H$3=\"実績\"),INDIRECT(\"'\"&$D21&\"　\"&$E21&\"'!C\"&Z$1),\n\"\"))=\"対象外\",\"対象外\",X21/Y21),\"\")","v":""},{"$f":"IFERROR(IF(AND(AA$9<>\"\",$H$3=\"計画\"),INDIRECT(\"'\"&$D21&\"　\"&$E21&\"'!B\"&AA$1),\nIF(AND(AA$9<>\"\",$H$3=\"実績\"),INDIRECT(\"'\"&$D21&\"　\"&$E21&\"'!C\"&AA$1),\n\"\")),\"\")","v":""},{"$f":"IFERROR(IF(AND(AA$9<>\"\",$H$3=\"計画\"),INDIRECT(\"'\"&$D21&\"　\"&$E21&\"'!B\"&AB$1),\nIF(AND(AA$9<>\"\",$H$3=\"実績\"),INDIRECT(\"'\"&$D21&\"　\"&$E21&\"'!C\"&AB$1),\n\"\")),\"\")","v":""},{"$f":"IFERROR(IF(IF(AND(AA$9<>\"\",$H$3=\"計画\"),INDIRECT(\"'\"&$D21&\"　\"&$E21&\"'!B\"&AC$1),\nIF(AND(AA$9<>\"\",$H$3=\"実績\"),INDIRECT(\"'\"&$D21&\"　\"&$E21&\"'!C\"&AC$1),\n\"\"))=\"対象外\",\"対象外\",AA21/AB21),\"\")","v":""},{"$f":"IFERROR(IF(AND(AD$9<>\"\",$H$3=\"計画\"),INDIRECT(\"'\"&$D21&\"　\"&$E21&\"'!B\"&AD$1),\nIF(AND(AD$9<>\"\",$H$3=\"実績\"),INDIRECT(\"'\"&$D21&\"　\"&$E21&\"'!C\"&AD$1),\n\"\")),\"\")","v":""},{"$f":"IFERROR(IF(AND(AD$9<>\"\",$H$3=\"計画\"),INDIRECT(\"'\"&$D21&\"　\"&$E21&\"'!B\"&AE$1),\nIF(AND(AD$9<>\"\",$H$3=\"実績\"),INDIRECT(\"'\"&$D21&\"　\"&$E21&\"'!C\"&AE$1),\n\"\")),\"\")","v":""},{"$f":"IFERROR(IF(IF(AND(AD$9<>\"\",$H$3=\"計画\"),INDIRECT(\"'\"&$D21&\"　\"&$E21&\"'!B\"&AF$1),\nIF(AND(AD$9<>\"\",$H$3=\"実績\"),INDIRECT(\"'\"&$D21&\"　\"&$E21&\"'!C\"&AF$1),\n\"\"))=\"対象外\",\"対象外\",AD21/AE21),\"\")","v":""},{"$f":"IFERROR(IF(AND(AG$9<>\"\",$H$3=\"計画\"),INDIRECT(\"'\"&$D21&\"　\"&$E21&\"'!B\"&AG$1),\nIF(AND(AG$9<>\"\",$H$3=\"実績\"),INDIRECT(\"'\"&$D21&\"　\"&$E21&\"'!C\"&AG$1),\n\"\")),\"\")","v":""},{"$f":"IFERROR(IF(AND(AG$9<>\"\",$H$3=\"計画\"),INDIRECT(\"'\"&$D21&\"　\"&$E21&\"'!B\"&AH$1),\nIF(AND(AG$9<>\"\",$H$3=\"実績\"),INDIRECT(\"'\"&$D21&\"　\"&$E21&\"'!C\"&AH$1),\n\"\")),\"\")","v":""},{"$f":"IFERROR(IF(IF(AND(AG$9<>\"\",$H$3=\"計画\"),INDIRECT(\"'\"&$D21&\"　\"&$E21&\"'!B\"&AI$1),\nIF(AND(AG$9<>\"\",$H$3=\"実績\"),INDIRECT(\"'\"&$D21&\"　\"&$E21&\"'!C\"&AI$1),\n\"\"))=\"対象外\",\"対象外\",AG21/AH21),\"\")","v":""},{"$f":"IFERROR(IF(AND(AJ$9<>\"\",$H$3=\"計画\"),INDIRECT(\"'\"&$D21&\"　\"&$E21&\"'!B\"&AJ$1),\nIF(AND(AJ$9<>\"\",$H$3=\"実績\"),INDIRECT(\"'\"&$D21&\"　\"&$E21&\"'!C\"&AJ$1),\n\"\")),\"\")","v":""},{"$f":"IFERROR(IF(AND(AJ$9<>\"\",$H$3=\"計画\"),INDIRECT(\"'\"&$D21&\"　\"&$E21&\"'!B\"&AK$1),\nIF(AND(AJ$9<>\"\",$H$3=\"実績\"),INDIRECT(\"'\"&$D21&\"　\"&$E21&\"'!C\"&AK$1),\n\"\")),\"\")","v":""},{"$f":"IFERROR(IF(IF(AND(AJ$9<>\"\",$H$3=\"計画\"),INDIRECT(\"'\"&$D21&\"　\"&$E21&\"'!B\"&AL$1),\nIF(AND(AJ$9<>\"\",$H$3=\"実績\"),INDIRECT(\"'\"&$D21&\"　\"&$E21&\"'!C\"&AL$1),\n\"\"))=\"対象外\",\"対象外\",AJ21/AK21),\"\")","v":""},{"$f":"IFERROR(IF(AND(AM$9<>\"\",$H$3=\"計画\"),INDIRECT(\"'\"&$D21&\"　\"&$E21&\"'!B\"&AM$1),\nIF(AND(AM$9<>\"\",$H$3=\"実績\"),INDIRECT(\"'\"&$D21&\"　\"&$E21&\"'!C\"&AM$1),\n\"\")),\"\")","v":""},{"$f":"IFERROR(IF(AND(AM$9<>\"\",$H$3=\"計画\"),INDIRECT(\"'\"&$D21&\"　\"&$E21&\"'!B\"&AN$1),\nIF(AND(AM$9<>\"\",$H$3=\"実績\"),INDIRECT(\"'\"&$D21&\"　\"&$E21&\"'!C\"&AN$1),\n\"\")),\"\")","v":""},{"$f":"IFERROR(IF(IF(AND(AM$9<>\"\",$H$3=\"計画\"),INDIRECT(\"'\"&$D21&\"　\"&$E21&\"'!B\"&AO$1),\nIF(AND(AM$9<>\"\",$H$3=\"実績\"),INDIRECT(\"'\"&$D21&\"　\"&$E21&\"'!C\"&AO$1),\n\"\"))=\"対象外\",\"対象外\",AM21/AN21),\"\")","v":""},{"$f":"IFERROR(IF(AND(AP$9<>\"\",$H$3=\"計画\"),INDIRECT(\"'\"&$D21&\"　\"&$E21&\"'!B\"&AP$1),\nIF(AND(AP$9<>\"\",$H$3=\"実績\"),INDIRECT(\"'\"&$D21&\"　\"&$E21&\"'!C\"&AP$1),\n\"\")),\"\")","v":""},{"$f":"IFERROR(IF(AND(AP$9<>\"\",$H$3=\"計画\"),INDIRECT(\"'\"&$D21&\"　\"&$E21&\"'!B\"&AQ$1),\nIF(AND(AP$9<>\"\",$H$3=\"実績\"),INDIRECT(\"'\"&$D21&\"　\"&$E21&\"'!C\"&AQ$1),\n\"\")),\"\")","v":""},{"$f":"IFERROR(IF(IF(AND(AP$9<>\"\",$H$3=\"計画\"),INDIRECT(\"'\"&$D21&\"　\"&$E21&\"'!B\"&AR$1),\nIF(AND(AP$9<>\"\",$H$3=\"実績\"),INDIRECT(\"'\"&$D21&\"　\"&$E21&\"'!C\"&AR$1),\n\"\"))=\"対象外\",\"対象外\",AP21/AQ21),\"\")","v":""},{"$f":"IFERROR(IF(AND(AS$9<>\"\",$H$3=\"計画\"),INDIRECT(\"'\"&$D21&\"　\"&$E21&\"'!B\"&AS$1),\nIF(AND(AS$9<>\"\",$H$3=\"実績\"),INDIRECT(\"'\"&$D21&\"　\"&$E21&\"'!C\"&AS$1),\n\"\")),\"\")","v":""},{"$f":"IFERROR(IF(AND(AS$9<>\"\",$H$3=\"計画\"),INDIRECT(\"'\"&$D21&\"　\"&$E21&\"'!B\"&AT$1),\nIF(AND(AS$9<>\"\",$H$3=\"実績\"),INDIRECT(\"'\"&$D21&\"　\"&$E21&\"'!C\"&AT$1),\n\"\")),\"\")","v":""},{"$f":"IFERROR(IF(IF(AND(AS$9<>\"\",$H$3=\"計画\"),INDIRECT(\"'\"&$D21&\"　\"&$E21&\"'!B\"&AU$1),\nIF(AND(AS$9<>\"\",$H$3=\"実績\"),INDIRECT(\"'\"&$D21&\"　\"&$E21&\"'!C\"&AU$1),\n\"\"))=\"対象外\",\"対象外\",AS21/AT21),\"\")","v":""},{"$f":"IFERROR(IF(AND(AV$9<>\"\",$H$3=\"計画\"),INDIRECT(\"'\"&$D21&\"　\"&$E21&\"'!B\"&AV$1),\nIF(AND(AV$9<>\"\",$H$3=\"実績\"),INDIRECT(\"'\"&$D21&\"　\"&$E21&\"'!C\"&AV$1),\n\"\")),\"\")","v":""},{"$f":"IFERROR(IF(AND(AV$9<>\"\",$H$3=\"計画\"),INDIRECT(\"'\"&$D21&\"　\"&$E21&\"'!B\"&AW$1),\nIF(AND(AV$9<>\"\",$H$3=\"実績\"),INDIRECT(\"'\"&$D21&\"　\"&$E21&\"'!C\"&AW$1),\n\"\")),\"\")","v":""},{"$f":"IFERROR(IF(IF(AND(AV$9<>\"\",$H$3=\"計画\"),INDIRECT(\"'\"&$D21&\"　\"&$E21&\"'!B\"&AX$1),\nIF(AND(AV$9<>\"\",$H$3=\"実績\"),INDIRECT(\"'\"&$D21&\"　\"&$E21&\"'!C\"&AX$1),\n\"\"))=\"対象外\",\"対象外\",AV21/AW21),\"\")","v":""},{"$f":"IFERROR(IF(AND(AY$9<>\"\",$H$3=\"計画\"),INDIRECT(\"'\"&$D21&\"　\"&$E21&\"'!B\"&AY$1),\nIF(AND(AY$9<>\"\",$H$3=\"実績\"),INDIRECT(\"'\"&$D21&\"　\"&$E21&\"'!C\"&AY$1),\n\"\")),\"\")","v":""},{"$f":"IFERROR(IF(AND(AY$9<>\"\",$H$3=\"計画\"),INDIRECT(\"'\"&$D21&\"　\"&$E21&\"'!B\"&AZ$1),\nIF(AND(AY$9<>\"\",$H$3=\"実績\"),INDIRECT(\"'\"&$D21&\"　\"&$E21&\"'!C\"&AZ$1),\n\"\")),\"\")","v":""},{"$f":"IFERROR(IF(IF(AND(AY$9<>\"\",$H$3=\"計画\"),INDIRECT(\"'\"&$D21&\"　\"&$E21&\"'!B\"&BA$1),\nIF(AND(AY$9<>\"\",$H$3=\"実績\"),INDIRECT(\"'\"&$D21&\"　\"&$E21&\"'!C\"&BA$1),\n\"\"))=\"対象外\",\"対象外\",AY21/AZ21),\"\")","v":""},{"$f":"IFERROR(IF(AND(BB$9<>\"\",$H$3=\"計画\"),INDIRECT(\"'\"&$D21&\"　\"&$E21&\"'!B\"&BB$1),\nIF(AND(BB$9<>\"\",$H$3=\"実績\"),INDIRECT(\"'\"&$D21&\"　\"&$E21&\"'!C\"&BB$1),\n\"\")),\"\")","v":""},{"$f":"IFERROR(IF(AND(BB$9<>\"\",$H$3=\"計画\"),INDIRECT(\"'\"&$D21&\"　\"&$E21&\"'!B\"&BC$1),\nIF(AND(BB$9<>\"\",$H$3=\"実績\"),INDIRECT(\"'\"&$D21&\"　\"&$E21&\"'!C\"&BC$1),\n\"\")),\"\")","v":""},{"$f":"IFERROR(IF(IF(AND(BB$9<>\"\",$H$3=\"計画\"),INDIRECT(\"'\"&$D21&\"　\"&$E21&\"'!B\"&BD$1),\nIF(AND(BB$9<>\"\",$H$3=\"実績\"),INDIRECT(\"'\"&$D21&\"　\"&$E21&\"'!C\"&BD$1),\n\"\"))=\"対象外\",\"対象外\",BB21/BC21),\"\")","v":""},{"$f":"IFERROR(IF(AND(BE$9<>\"\",$H$3=\"計画\"),INDIRECT(\"'\"&$D21&\"　\"&$E21&\"'!B\"&BE$1),\nIF(AND(BE$9<>\"\",$H$3=\"実績\"),INDIRECT(\"'\"&$D21&\"　\"&$E21&\"'!C\"&BE$1),\n\"\")),\"\")","v":""},{"$f":"IFERROR(IF(AND(BE$9<>\"\",$H$3=\"計画\"),INDIRECT(\"'\"&$D21&\"　\"&$E21&\"'!B\"&BF$1),\nIF(AND(BE$9<>\"\",$H$3=\"実績\"),INDIRECT(\"'\"&$D21&\"　\"&$E21&\"'!C\"&BF$1),\n\"\")),\"\")","v":""},{"$f":"IFERROR(IF(IF(AND(BE$9<>\"\",$H$3=\"計画\"),INDIRECT(\"'\"&$D21&\"　\"&$E21&\"'!B\"&BG$1),\nIF(AND(BE$9<>\"\",$H$3=\"実績\"),INDIRECT(\"'\"&$D21&\"　\"&$E21&\"'!C\"&BG$1),\n\"\"))=\"対象外\",\"対象外\",BE21/BF21),\"\")","v":""},{"$f":"IFERROR(IF(AND(BH$9<>\"\",$H$3=\"計画\"),INDIRECT(\"'\"&$D21&\"　\"&$E21&\"'!B\"&BH$1),\nIF(AND(BH$9<>\"\",$H$3=\"実績\"),INDIRECT(\"'\"&$D21&\"　\"&$E21&\"'!C\"&BH$1),\n\"\")),\"\")","v":""},{"$f":"IFERROR(IF(AND(BH$9<>\"\",$H$3=\"計画\"),INDIRECT(\"'\"&$D21&\"　\"&$E21&\"'!B\"&BI$1),\nIF(AND(BH$9<>\"\",$H$3=\"実績\"),INDIRECT(\"'\"&$D21&\"　\"&$E21&\"'!C\"&BI$1),\n\"\")),\"\")","v":""},{"$f":"IFERROR(IF(IF(AND(BH$9<>\"\",$H$3=\"計画\"),INDIRECT(\"'\"&$D21&\"　\"&$E21&\"'!B\"&BJ$1),\nIF(AND(BH$9<>\"\",$H$3=\"実績\"),INDIRECT(\"'\"&$D21&\"　\"&$E21&\"'!C\"&BJ$1),\n\"\"))=\"対象外\",\"対象外\",BH21/BI21),\"\")","v":""},{"$f":"IFERROR(IF(AND(BK$9<>\"\",$H$3=\"計画\"),INDIRECT(\"'\"&$D21&\"　\"&$E21&\"'!B\"&BK$1),\nIF(AND(BK$9<>\"\",$H$3=\"実績\"),INDIRECT(\"'\"&$D21&\"　\"&$E21&\"'!C\"&BK$1),\n\"\")),\"\")","v":""},{"$f":"IFERROR(IF(AND(BK$9<>\"\",$H$3=\"計画\"),INDIRECT(\"'\"&$D21&\"　\"&$E21&\"'!B\"&BL$1),\nIF(AND(BK$9<>\"\",$H$3=\"実績\"),INDIRECT(\"'\"&$D21&\"　\"&$E21&\"'!C\"&BL$1),\n\"\")),\"\")","v":""},{"$f":"IFERROR(IF(IF(AND(BK$9<>\"\",$H$3=\"計画\"),INDIRECT(\"'\"&$D21&\"　\"&$E21&\"'!B\"&BM$1),\nIF(AND(BK$9<>\"\",$H$3=\"実績\"),INDIRECT(\"'\"&$D21&\"　\"&$E21&\"'!C\"&BM$1),\n\"\"))=\"対象外\",\"対象外\",BK21/BL21),\"\")","v":""},{"$f":"IFERROR(IF(AND(BN$9<>\"\",$H$3=\"計画\"),INDIRECT(\"'\"&$D21&\"　\"&$E21&\"'!B\"&BN$1),\nIF(AND(BN$9<>\"\",$H$3=\"実績\"),INDIRECT(\"'\"&$D21&\"　\"&$E21&\"'!C\"&BN$1),\n\"\")),\"\")","v":""},{"$f":"IFERROR(IF(AND(BN$9<>\"\",$H$3=\"計画\"),INDIRECT(\"'\"&$D21&\"　\"&$E21&\"'!B\"&BO$1),\nIF(AND(BN$9<>\"\",$H$3=\"実績\"),INDIRECT(\"'\"&$D21&\"　\"&$E21&\"'!C\"&BO$1),\n\"\")),\"\")","v":""},{"$f":"IFERROR(IF(IF(AND(BN$9<>\"\",$H$3=\"計画\"),INDIRECT(\"'\"&$D21&\"　\"&$E21&\"'!B\"&BP$1),\nIF(AND(BN$9<>\"\",$H$3=\"実績\"),INDIRECT(\"'\"&$D21&\"　\"&$E21&\"'!C\"&BP$1),\n\"\"))=\"対象外\",\"対象外\",BN21/BO21),\"\")","v":""},{"$f":"IFERROR(IF(AND(BQ$9<>\"\",$H$3=\"計画\"),INDIRECT(\"'\"&$D21&\"　\"&$E21&\"'!B\"&BQ$1),\nIF(AND(BQ$9<>\"\",$H$3=\"実績\"),INDIRECT(\"'\"&$D21&\"　\"&$E21&\"'!C\"&BQ$1),\n\"\")),\"\")","v":""},{"$f":"IFERROR(IF(AND(BQ$9<>\"\",$H$3=\"計画\"),INDIRECT(\"'\"&$D21&\"　\"&$E21&\"'!B\"&BR$1),\nIF(AND(BQ$9<>\"\",$H$3=\"実績\"),INDIRECT(\"'\"&$D21&\"　\"&$E21&\"'!C\"&BR$1),\n\"\")),\"\")","v":""},{"$f":"IFERROR(IF(IF(AND(BQ$9<>\"\",$H$3=\"計画\"),INDIRECT(\"'\"&$D21&\"　\"&$E21&\"'!B\"&BS$1),\nIF(AND(BQ$9<>\"\",$H$3=\"実績\"),INDIRECT(\"'\"&$D21&\"　\"&$E21&\"'!C\"&BS$1),\n\"\"))=\"対象外\",\"対象外\",BQ21/BR21),\"\")","v":""},{"$f":"IFERROR(IF(AND(BT$9<>\"\",$H$3=\"計画\"),INDIRECT(\"'\"&$D21&\"　\"&$E21&\"'!B\"&BT$1),\nIF(AND(BT$9<>\"\",$H$3=\"実績\"),INDIRECT(\"'\"&$D21&\"　\"&$E21&\"'!C\"&BT$1),\n\"\")),\"\")","v":""},{"$f":"IFERROR(IF(AND(BT$9<>\"\",$H$3=\"計画\"),INDIRECT(\"'\"&$D21&\"　\"&$E21&\"'!B\"&BU$1),\nIF(AND(BT$9<>\"\",$H$3=\"実績\"),INDIRECT(\"'\"&$D21&\"　\"&$E21&\"'!C\"&BU$1),\n\"\")),\"\")","v":""},{"$f":"IFERROR(IF(IF(AND(BT$9<>\"\",$H$3=\"計画\"),INDIRECT(\"'\"&$D21&\"　\"&$E21&\"'!B\"&BV$1),\nIF(AND(BT$9<>\"\",$H$3=\"実績\"),INDIRECT(\"'\"&$D21&\"　\"&$E21&\"'!C\"&BV$1),\n\"\"))=\"対象外\",\"対象外\",BT21/BU21),\"\")","v":""},{"$f":"IFERROR(IF(AND(BW$9<>\"\",$H$3=\"計画\"),INDIRECT(\"'\"&$D21&\"　\"&$E21&\"'!B\"&BW$1),\nIF(AND(BW$9<>\"\",$H$3=\"実績\"),INDIRECT(\"'\"&$D21&\"　\"&$E21&\"'!C\"&BW$1),\n\"\")),\"\")","v":""},{"$f":"IFERROR(IF(AND(BW$9<>\"\",$H$3=\"計画\"),INDIRECT(\"'\"&$D21&\"　\"&$E21&\"'!B\"&BX$1),\nIF(AND(BW$9<>\"\",$H$3=\"実績\"),INDIRECT(\"'\"&$D21&\"　\"&$E21&\"'!C\"&BX$1),\n\"\")),\"\")","v":""},{"$f":"IFERROR(IF(IF(AND(BW$9<>\"\",$H$3=\"計画\"),INDIRECT(\"'\"&$D21&\"　\"&$E21&\"'!B\"&BY$1),\nIF(AND(BW$9<>\"\",$H$3=\"実績\"),INDIRECT(\"'\"&$D21&\"　\"&$E21&\"'!C\"&BY$1),\n\"\"))=\"対象外\",\"対象外\",BW21/BX21),\"\")","v":""},{"$f":"IFERROR(IF(AND(BZ$9<>\"\",$H$3=\"計画\"),INDIRECT(\"'\"&$D21&\"　\"&$E21&\"'!B\"&BZ$1),\nIF(AND(BZ$9<>\"\",$H$3=\"実績\"),INDIRECT(\"'\"&$D21&\"　\"&$E21&\"'!C\"&BZ$1),\n\"\")),\"\")","v":""},{"$f":"IFERROR(IF(AND(BZ$9<>\"\",$H$3=\"計画\"),INDIRECT(\"'\"&$D21&\"　\"&$E21&\"'!B\"&CA$1),\nIF(AND(BZ$9<>\"\",$H$3=\"実績\"),INDIRECT(\"'\"&$D21&\"　\"&$E21&\"'!C\"&CA$1),\n\"\")),\"\")","v":""},{"$f":"IFERROR(IF(IF(AND(BZ$9<>\"\",$H$3=\"計画\"),INDIRECT(\"'\"&$D21&\"　\"&$E21&\"'!B\"&CB$1),\nIF(AND(BZ$9<>\"\",$H$3=\"実績\"),INDIRECT(\"'\"&$D21&\"　\"&$E21&\"'!C\"&CB$1),\n\"\"))=\"対象外\",\"対象外\",BZ21/CA21),\"\")","v":""},{"$f":"IFERROR(IF(AND(CC$9<>\"\",$H$3=\"計画\"),INDIRECT(\"'\"&$D21&\"　\"&$E21&\"'!B\"&CC$1),\nIF(AND(CC$9<>\"\",$H$3=\"実績\"),INDIRECT(\"'\"&$D21&\"　\"&$E21&\"'!C\"&CC$1),\n\"\")),\"\")","v":""},{"$f":"IFERROR(IF(AND(CC$9<>\"\",$H$3=\"計画\"),INDIRECT(\"'\"&$D21&\"　\"&$E21&\"'!B\"&CD$1),\nIF(AND(CC$9<>\"\",$H$3=\"実績\"),INDIRECT(\"'\"&$D21&\"　\"&$E21&\"'!C\"&CD$1),\n\"\")),\"\")","v":""},{"$f":"IFERROR(IF(IF(AND(CC$9<>\"\",$H$3=\"計画\"),INDIRECT(\"'\"&$D21&\"　\"&$E21&\"'!B\"&CE$1),\nIF(AND(CC$9<>\"\",$H$3=\"実績\"),INDIRECT(\"'\"&$D21&\"　\"&$E21&\"'!C\"&CE$1),\n\"\"))=\"対象外\",\"対象外\",CC21/CD21),\"\")","v":""},{"$f":"IFERROR(IF(AND(CF$9<>\"\",$H$3=\"計画\"),INDIRECT(\"'\"&$D21&\"　\"&$E21&\"'!B\"&CF$1),\nIF(AND(CF$9<>\"\",$H$3=\"実績\"),INDIRECT(\"'\"&$D21&\"　\"&$E21&\"'!C\"&CF$1),\n\"\")),\"\")","v":""},{"$f":"IFERROR(IF(AND(CF$9<>\"\",$H$3=\"計画\"),INDIRECT(\"'\"&$D21&\"　\"&$E21&\"'!B\"&CG$1),\nIF(AND(CF$9<>\"\",$H$3=\"実績\"),INDIRECT(\"'\"&$D21&\"　\"&$E21&\"'!C\"&CG$1),\n\"\")),\"\")","v":""},{"$f":"IFERROR(IF(IF(AND(CF$9<>\"\",$H$3=\"計画\"),INDIRECT(\"'\"&$D21&\"　\"&$E21&\"'!B\"&CH$1),\nIF(AND(CF$9<>\"\",$H$3=\"実績\"),INDIRECT(\"'\"&$D21&\"　\"&$E21&\"'!C\"&CH$1),\n\"\"))=\"対象外\",\"対象外\",CF21/CG21),\"\")","v":""},{"$f":"IFERROR(IF(AND(CI$9<>\"\",$H$3=\"計画\"),INDIRECT(\"'\"&$D21&\"　\"&$E21&\"'!B\"&CI$1),\nIF(AND(CI$9<>\"\",$H$3=\"実績\"),INDIRECT(\"'\"&$D21&\"　\"&$E21&\"'!C\"&CI$1),\n\"\")),\"\")","v":""},{"$f":"IFERROR(IF(AND(CI$9<>\"\",$H$3=\"計画\"),INDIRECT(\"'\"&$D21&\"　\"&$E21&\"'!B\"&CJ$1),\nIF(AND(CI$9<>\"\",$H$3=\"実績\"),INDIRECT(\"'\"&$D21&\"　\"&$E21&\"'!C\"&CJ$1),\n\"\")),\"\")","v":""},{"$f":"IFERROR(IF(IF(AND(CI$9<>\"\",$H$3=\"計画\"),INDIRECT(\"'\"&$D21&\"　\"&$E21&\"'!B\"&CK$1),\nIF(AND(CI$9<>\"\",$H$3=\"実績\"),INDIRECT(\"'\"&$D21&\"　\"&$E21&\"'!C\"&CK$1),\n\"\"))=\"対象外\",\"対象外\",CI21/CJ21),\"\")","v":""},{"$f":"IFERROR(IF(AND(CL$9<>\"\",$H$3=\"計画\"),INDIRECT(\"'\"&$D21&\"　\"&$E21&\"'!B\"&CL$1),\nIF(AND(CL$9<>\"\",$H$3=\"実績\"),INDIRECT(\"'\"&$D21&\"　\"&$E21&\"'!C\"&CL$1),\n\"\")),\"\")","v":""},{"$f":"IFERROR(IF(AND(CL$9<>\"\",$H$3=\"計画\"),INDIRECT(\"'\"&$D21&\"　\"&$E21&\"'!B\"&CM$1),\nIF(AND(CL$9<>\"\",$H$3=\"実績\"),INDIRECT(\"'\"&$D21&\"　\"&$E21&\"'!C\"&CM$1),\n\"\")),\"\")","v":""},{"$f":"IFERROR(IF(IF(AND(CL$9<>\"\",$H$3=\"計画\"),INDIRECT(\"'\"&$D21&\"　\"&$E21&\"'!B\"&CN$1),\nIF(AND(CL$9<>\"\",$H$3=\"実績\"),INDIRECT(\"'\"&$D21&\"　\"&$E21&\"'!C\"&CN$1),\n\"\"))=\"対象外\",\"対象外\",CL21/CM21),\"\")","v":""},{"$f":"IFERROR(IF(AND(CO$9<>\"\",$H$3=\"計画\"),INDIRECT(\"'\"&$D21&\"　\"&$E21&\"'!B\"&CO$1),\nIF(AND(CO$9<>\"\",$H$3=\"実績\"),INDIRECT(\"'\"&$D21&\"　\"&$E21&\"'!C\"&CO$1),\n\"\")),\"\")","v":""},{"$f":"IFERROR(IF(AND(CO$9<>\"\",$H$3=\"計画\"),INDIRECT(\"'\"&$D21&\"　\"&$E21&\"'!B\"&CP$1),\nIF(AND(CO$9<>\"\",$H$3=\"実績\"),INDIRECT(\"'\"&$D21&\"　\"&$E21&\"'!C\"&CP$1),\n\"\")),\"\")","v":""},{"$f":"IFERROR(IF(IF(AND(CO$9<>\"\",$H$3=\"計画\"),INDIRECT(\"'\"&$D21&\"　\"&$E21&\"'!B\"&CQ$1),\nIF(AND(CO$9<>\"\",$H$3=\"実績\"),INDIRECT(\"'\"&$D21&\"　\"&$E21&\"'!C\"&CQ$1),\n\"\"))=\"対象外\",\"対象外\",CO21/CP21),\"\")","v":""},{"$f":"IFERROR(IF(AND(CR$9<>\"\",$H$3=\"計画\"),INDIRECT(\"'\"&$D21&\"　\"&$E21&\"'!B\"&CR$1),\nIF(AND(CR$9<>\"\",$H$3=\"実績\"),INDIRECT(\"'\"&$D21&\"　\"&$E21&\"'!C\"&CR$1),\n\"\")),\"\")","v":""},{"$f":"IFERROR(IF(AND(CR$9<>\"\",$H$3=\"計画\"),INDIRECT(\"'\"&$D21&\"　\"&$E21&\"'!B\"&CS$1),\nIF(AND(CR$9<>\"\",$H$3=\"実績\"),INDIRECT(\"'\"&$D21&\"　\"&$E21&\"'!C\"&CS$1),\n\"\")),\"\")","v":""},{"$f":"IFERROR(IF(IF(AND(CR$9<>\"\",$H$3=\"計画\"),INDIRECT(\"'\"&$D21&\"　\"&$E21&\"'!B\"&CT$1),\nIF(AND(CR$9<>\"\",$H$3=\"実績\"),INDIRECT(\"'\"&$D21&\"　\"&$E21&\"'!C\"&CT$1),\n\"\"))=\"対象外\",\"対象外\",CR21/CS21),\"\")","v":""},{"$f":"IFERROR(IF(AND(CU$9<>\"\",$H$3=\"計画\"),INDIRECT(\"'\"&$D21&\"　\"&$E21&\"'!B\"&CU$1),\nIF(AND(CU$9<>\"\",$H$3=\"実績\"),INDIRECT(\"'\"&$D21&\"　\"&$E21&\"'!C\"&CU$1),\n\"\")),\"\")","v":""},{"$f":"IFERROR(IF(AND(CU$9<>\"\",$H$3=\"計画\"),INDIRECT(\"'\"&$D21&\"　\"&$E21&\"'!B\"&CV$1),\nIF(AND(CU$9<>\"\",$H$3=\"実績\"),INDIRECT(\"'\"&$D21&\"　\"&$E21&\"'!C\"&CV$1),\n\"\")),\"\")","v":""},{"$f":"IFERROR(IF(IF(AND(CU$9<>\"\",$H$3=\"計画\"),INDIRECT(\"'\"&$D21&\"　\"&$E21&\"'!B\"&CW$1),\nIF(AND(CU$9<>\"\",$H$3=\"実績\"),INDIRECT(\"'\"&$D21&\"　\"&$E21&\"'!C\"&CW$1),\n\"\"))=\"対象外\",\"対象外\",CU21/CV21),\"\")","v":""},{"$f":"IFERROR(IF(AND(CX$9<>\"\",$H$3=\"計画\"),INDIRECT(\"'\"&$D21&\"　\"&$E21&\"'!B\"&CX$1),\nIF(AND(CX$9<>\"\",$H$3=\"実績\"),INDIRECT(\"'\"&$D21&\"　\"&$E21&\"'!C\"&CX$1),\n\"\")),\"\")","v":""},{"$f":"IFERROR(IF(AND(CX$9<>\"\",$H$3=\"計画\"),INDIRECT(\"'\"&$D21&\"　\"&$E21&\"'!B\"&CY$1),\nIF(AND(CX$9<>\"\",$H$3=\"実績\"),INDIRECT(\"'\"&$D21&\"　\"&$E21&\"'!C\"&CY$1),\n\"\")),\"\")","v":""},{"$f":"IFERROR(IF(IF(AND(CX$9<>\"\",$H$3=\"計画\"),INDIRECT(\"'\"&$D21&\"　\"&$E21&\"'!B\"&CZ$1),\nIF(AND(CX$9<>\"\",$H$3=\"実績\"),INDIRECT(\"'\"&$D21&\"　\"&$E21&\"'!C\"&CZ$1),\n\"\"))=\"対象外\",\"対象外\",CX21/CY21),\"\")","v":""},{"$f":"IFERROR(IF(AND(DA$9<>\"\",$H$3=\"計画\"),INDIRECT(\"'\"&$D21&\"　\"&$E21&\"'!B\"&DA$1),\nIF(AND(DA$9<>\"\",$H$3=\"実績\"),INDIRECT(\"'\"&$D21&\"　\"&$E21&\"'!C\"&DA$1),\n\"\")),\"\")","v":""},{"$f":"IFERROR(IF(AND(DA$9<>\"\",$H$3=\"計画\"),INDIRECT(\"'\"&$D21&\"　\"&$E21&\"'!B\"&DB$1),\nIF(AND(DA$9<>\"\",$H$3=\"実績\"),INDIRECT(\"'\"&$D21&\"　\"&$E21&\"'!C\"&DB$1),\n\"\")),\"\")","v":""},{"$f":"IFERROR(IF(IF(AND(DA$9<>\"\",$H$3=\"計画\"),INDIRECT(\"'\"&$D21&\"　\"&$E21&\"'!B\"&DC$1),\nIF(AND(DA$9<>\"\",$H$3=\"実績\"),INDIRECT(\"'\"&$D21&\"　\"&$E21&\"'!C\"&DC$1),\n\"\"))=\"対象外\",\"対象外\",DA21/DB21),\"\")","v":""},{"$f":"IFERROR(IF(AND(DD$9<>\"\",$H$3=\"計画\"),INDIRECT(\"'\"&$D21&\"　\"&$E21&\"'!B\"&DD$1),\nIF(AND(DD$9<>\"\",$H$3=\"実績\"),INDIRECT(\"'\"&$D21&\"　\"&$E21&\"'!C\"&DD$1),\n\"\")),\"\")","v":""},{"$f":"IFERROR(IF(AND(DD$9<>\"\",$H$3=\"計画\"),INDIRECT(\"'\"&$D21&\"　\"&$E21&\"'!B\"&DE$1),\nIF(AND(DD$9<>\"\",$H$3=\"実績\"),INDIRECT(\"'\"&$D21&\"　\"&$E21&\"'!C\"&DE$1),\n\"\")),\"\")","v":""},{"$f":"IFERROR(IF(IF(AND(DD$9<>\"\",$H$3=\"計画\"),INDIRECT(\"'\"&$D21&\"　\"&$E21&\"'!B\"&DF$1),\nIF(AND(DD$9<>\"\",$H$3=\"実績\"),INDIRECT(\"'\"&$D21&\"　\"&$E21&\"'!C\"&DF$1),\n\"\"))=\"対象外\",\"対象外\",DD21/DE21),\"\")","v":""},{"$f":"IFERROR(IF(AND(DG$9<>\"\",$H$3=\"計画\"),INDIRECT(\"'\"&$D21&\"　\"&$E21&\"'!B\"&DG$1),\nIF(AND(DG$9<>\"\",$H$3=\"実績\"),INDIRECT(\"'\"&$D21&\"　\"&$E21&\"'!C\"&DG$1),\n\"\")),\"\")","v":""},{"$f":"IFERROR(IF(AND(DG$9<>\"\",$H$3=\"計画\"),INDIRECT(\"'\"&$D21&\"　\"&$E21&\"'!B\"&DH$1),\nIF(AND(DG$9<>\"\",$H$3=\"実績\"),INDIRECT(\"'\"&$D21&\"　\"&$E21&\"'!C\"&DH$1),\n\"\")),\"\")","v":""},{"$f":"IFERROR(IF(IF(AND(DG$9<>\"\",$H$3=\"計画\"),INDIRECT(\"'\"&$D21&\"　\"&$E21&\"'!B\"&DI$1),\nIF(AND(DG$9<>\"\",$H$3=\"実績\"),INDIRECT(\"'\"&$D21&\"　\"&$E21&\"'!C\"&DI$1),\n\"\"))=\"対象外\",\"対象外\",DG21/DH21),\"\")","v":""},{"$f":"IFERROR(IF(AND(DJ$9<>\"\",$H$3=\"計画\"),INDIRECT(\"'\"&$D21&\"　\"&$E21&\"'!B\"&DJ$1),\nIF(AND(DJ$9<>\"\",$H$3=\"実績\"),INDIRECT(\"'\"&$D21&\"　\"&$E21&\"'!C\"&DJ$1),\n\"\")),\"\")","v":""},{"$f":"IFERROR(IF(AND(DJ$9<>\"\",$H$3=\"計画\"),INDIRECT(\"'\"&$D21&\"　\"&$E21&\"'!B\"&DK$1),\nIF(AND(DJ$9<>\"\",$H$3=\"実績\"),INDIRECT(\"'\"&$D21&\"　\"&$E21&\"'!C\"&DK$1),\n\"\")),\"\")","v":""},{"$f":"IFERROR(IF(IF(AND(DJ$9<>\"\",$H$3=\"計画\"),INDIRECT(\"'\"&$D21&\"　\"&$E21&\"'!B\"&DL$1),\nIF(AND(DJ$9<>\"\",$H$3=\"実績\"),INDIRECT(\"'\"&$D21&\"　\"&$E21&\"'!C\"&DL$1),\n\"\"))=\"対象外\",\"対象外\",DJ21/DK21),\"\")","v":""}]
["休暇率　（判定）",null,null,null,null,"","",{"$f":"IFERROR(IF(IF(H$3=\"計画\",INDIRECT(\"'\"&$D22&\"　\"&$E22&\"'!B\"&H$1),\nIF(H$3=\"実績\",INDIRECT(\"'\"&$D22&\"　\"&$E22&\"'!C\"&H$1),\n\"\"))>=28,F22/G22,\"対象外\"),\"\")","v":""},{"$f":"IFERROR(IF(AND(I$9<>\"\",$H$3=\"計画\"),INDIRECT(\"'\"&$D22&\"　\"&$E22&\"'!B\"&I$1),\nIF(AND(I$9<>\"\",$H$3=\"実績\"),INDIRECT(\"'\"&$D22&\"　\"&$E22&\"'!C\"&I$1),\n\"\")),\"\")","v":""},{"$f":"IFERROR(IF(AND(I$9<>\"\",$H$3=\"計画\"),INDIRECT(\"'\"&$D22&\"　\"&$E22&\"'!B\"&J$1),\nIF(AND(I$9<>\"\",$H$3=\"実績\"),INDIRECT(\"'\"&$D22&\"　\"&$E22&\"'!C\"&J$1),\n\"\")),\"\")","v":""},{"$f":"IFERROR(IF(IF(AND(I$9<>\"\",$H$3=\"計画\"),INDIRECT(\"'\"&$D22&\"　\"&$E22&\"'!B\"&K$1),\nIF(AND(I$9<>\"\",$H$3=\"実績\"),INDIRECT(\"'\"&$D22&\"　\"&$E22&\"'!C\"&K$1),\n\"\"))=\"対象外\",\"対象外\",I22/J22),\"\")","v":""},{"$f":"IFERROR(IF(AND(L$9<>\"\",$H$3=\"計画\"),INDIRECT(\"'\"&$D22&\"　\"&$E22&\"'!B\"&L$1),\nIF(AND(L$9<>\"\",$H$3=\"実績\"),INDIRECT(\"'\"&$D22&\"　\"&$E22&\"'!C\"&L$1),\n\"\")),\"\")","v":""},{"$f":"IFERROR(IF(AND(L$9<>\"\",$H$3=\"計画\"),INDIRECT(\"'\"&$D22&\"　\"&$E22&\"'!B\"&M$1),\nIF(AND(L$9<>\"\",$H$3=\"実績\"),INDIRECT(\"'\"&$D22&\"　\"&$E22&\"'!C\"&M$1),\n\"\")),\"\")","v":""},{"$f":"IFERROR(IF(IF(AND(L$9<>\"\",$H$3=\"計画\"),INDIRECT(\"'\"&$D22&\"　\"&$E22&\"'!B\"&N$1),\nIF(AND(L$9<>\"\",$H$3=\"実績\"),INDIRECT(\"'\"&$D22&\"　\"&$E22&\"'!C\"&N$1),\n\"\"))=\"対象外\",\"対象外\",L22/M22),\"\")","v":""},{"$f":"IFERROR(IF(AND(O$9<>\"\",$H$3=\"計画\"),INDIRECT(\"'\"&$D22&\"　\"&$E22&\"'!B\"&O$1),\nIF(AND(O$9<>\"\",$H$3=\"実績\"),INDIRECT(\"'\"&$D22&\"　\"&$E22&\"'!C\"&O$1),\n\"\")),\"\")","v":""},{"$f":"IFERROR(IF(AND(O$9<>\"\",$H$3=\"計画\"),INDIRECT(\"'\"&$D22&\"　\"&$E22&\"'!B\"&P$1),\nIF(AND(O$9<>\"\",$H$3=\"実績\"),INDIRECT(\"'\"&$D22&\"　\"&$E22&\"'!C\"&P$1),\n\"\")),\"\")","v":""},{"$f":"IFERROR(IF(IF(AND(O$9<>\"\",$H$3=\"計画\"),INDIRECT(\"'\"&$D22&\"　\"&$E22&\"'!B\"&Q$1),\nIF(AND(O$9<>\"\",$H$3=\"実績\"),INDIRECT(\"'\"&$D22&\"　\"&$E22&\"'!C\"&Q$1),\n\"\"))=\"対象外\",\"対象外\",O22/P22),\"\")","v":""},{"$f":"IFERROR(IF(AND(R$9<>\"\",$H$3=\"計画\"),INDIRECT(\"'\"&$D22&\"　\"&$E22&\"'!B\"&R$1),\nIF(AND(R$9<>\"\",$H$3=\"実績\"),INDIRECT(\"'\"&$D22&\"　\"&$E22&\"'!C\"&R$1),\n\"\")),\"\")","v":""},{"$f":"IFERROR(IF(AND(R$9<>\"\",$H$3=\"計画\"),INDIRECT(\"'\"&$D22&\"　\"&$E22&\"'!B\"&S$1),\nIF(AND(R$9<>\"\",$H$3=\"実績\"),INDIRECT(\"'\"&$D22&\"　\"&$E22&\"'!C\"&S$1),\n\"\")),\"\")","v":""},{"$f":"IFERROR(IF(IF(AND(R$9<>\"\",$H$3=\"計画\"),INDIRECT(\"'\"&$D22&\"　\"&$E22&\"'!B\"&T$1),\nIF(AND(R$9<>\"\",$H$3=\"実績\"),INDIRECT(\"'\"&$D22&\"　\"&$E22&\"'!C\"&T$1),\n\"\"))=\"対象外\",\"対象外\",R22/S22),\"\")","v":""},{"$f":"IFERROR(IF(AND(U$9<>\"\",$H$3=\"計画\"),INDIRECT(\"'\"&$D22&\"　\"&$E22&\"'!B\"&U$1),\nIF(AND(U$9<>\"\",$H$3=\"実績\"),INDIRECT(\"'\"&$D22&\"　\"&$E22&\"'!C\"&U$1),\n\"\")),\"\")","v":""},{"$f":"IFERROR(IF(AND(U$9<>\"\",$H$3=\"計画\"),INDIRECT(\"'\"&$D22&\"　\"&$E22&\"'!B\"&V$1),\nIF(AND(U$9<>\"\",$H$3=\"実績\"),INDIRECT(\"'\"&$D22&\"　\"&$E22&\"'!C\"&V$1),\n\"\")),\"\")","v":""},{"$f":"IFERROR(IF(IF(AND(U$9<>\"\",$H$3=\"計画\"),INDIRECT(\"'\"&$D22&\"　\"&$E22&\"'!B\"&W$1),\nIF(AND(U$9<>\"\",$H$3=\"実績\"),INDIRECT(\"'\"&$D22&\"　\"&$E22&\"'!C\"&W$1),\n\"\"))=\"対象外\",\"対象外\",U22/V22),\"\")","v":""},{"$f":"IFERROR(IF(AND(X$9<>\"\",$H$3=\"計画\"),INDIRECT(\"'\"&$D22&\"　\"&$E22&\"'!B\"&X$1),\nIF(AND(X$9<>\"\",$H$3=\"実績\"),INDIRECT(\"'\"&$D22&\"　\"&$E22&\"'!C\"&X$1),\n\"\")),\"\")","v":""},{"$f":"IFERROR(IF(AND(X$9<>\"\",$H$3=\"計画\"),INDIRECT(\"'\"&$D22&\"　\"&$E22&\"'!B\"&Y$1),\nIF(AND(X$9<>\"\",$H$3=\"実績\"),INDIRECT(\"'\"&$D22&\"　\"&$E22&\"'!C\"&Y$1),\n\"\")),\"\")","v":""},{"$f":"IFERROR(IF(IF(AND(X$9<>\"\",$H$3=\"計画\"),INDIRECT(\"'\"&$D22&\"　\"&$E22&\"'!B\"&Z$1),\nIF(AND(X$9<>\"\",$H$3=\"実績\"),INDIRECT(\"'\"&$D22&\"　\"&$E22&\"'!C\"&Z$1),\n\"\"))=\"対象外\",\"対象外\",X22/Y22),\"\")","v":""},{"$f":"IFERROR(IF(AND(AA$9<>\"\",$H$3=\"計画\"),INDIRECT(\"'\"&$D22&\"　\"&$E22&\"'!B\"&AA$1),\nIF(AND(AA$9<>\"\",$H$3=\"実績\"),INDIRECT(\"'\"&$D22&\"　\"&$E22&\"'!C\"&AA$1),\n\"\")),\"\")","v":""},{"$f":"IFERROR(IF(AND(AA$9<>\"\",$H$3=\"計画\"),INDIRECT(\"'\"&$D22&\"　\"&$E22&\"'!B\"&AB$1),\nIF(AND(AA$9<>\"\",$H$3=\"実績\"),INDIRECT(\"'\"&$D22&\"　\"&$E22&\"'!C\"&AB$1),\n\"\")),\"\")","v":""},{"$f":"IFERROR(IF(IF(AND(AA$9<>\"\",$H$3=\"計画\"),INDIRECT(\"'\"&$D22&\"　\"&$E22&\"'!B\"&AC$1),\nIF(AND(AA$9<>\"\",$H$3=\"実績\"),INDIRECT(\"'\"&$D22&\"　\"&$E22&\"'!C\"&AC$1),\n\"\"))=\"対象外\",\"対象外\",AA22/AB22),\"\")","v":""},{"$f":"IFERROR(IF(AND(AD$9<>\"\",$H$3=\"計画\"),INDIRECT(\"'\"&$D22&\"　\"&$E22&\"'!B\"&AD$1),\nIF(AND(AD$9<>\"\",$H$3=\"実績\"),INDIRECT(\"'\"&$D22&\"　\"&$E22&\"'!C\"&AD$1),\n\"\")),\"\")","v":""},{"$f":"IFERROR(IF(AND(AD$9<>\"\",$H$3=\"計画\"),INDIRECT(\"'\"&$D22&\"　\"&$E22&\"'!B\"&AE$1),\nIF(AND(AD$9<>\"\",$H$3=\"実績\"),INDIRECT(\"'\"&$D22&\"　\"&$E22&\"'!C\"&AE$1),\n\"\")),\"\")","v":""},{"$f":"IFERROR(IF(IF(AND(AD$9<>\"\",$H$3=\"計画\"),INDIRECT(\"'\"&$D22&\"　\"&$E22&\"'!B\"&AF$1),\nIF(AND(AD$9<>\"\",$H$3=\"実績\"),INDIRECT(\"'\"&$D22&\"　\"&$E22&\"'!C\"&AF$1),\n\"\"))=\"対象外\",\"対象外\",AD22/AE22),\"\")","v":""},{"$f":"IFERROR(IF(AND(AG$9<>\"\",$H$3=\"計画\"),INDIRECT(\"'\"&$D22&\"　\"&$E22&\"'!B\"&AG$1),\nIF(AND(AG$9<>\"\",$H$3=\"実績\"),INDIRECT(\"'\"&$D22&\"　\"&$E22&\"'!C\"&AG$1),\n\"\")),\"\")","v":""},{"$f":"IFERROR(IF(AND(AG$9<>\"\",$H$3=\"計画\"),INDIRECT(\"'\"&$D22&\"　\"&$E22&\"'!B\"&AH$1),\nIF(AND(AG$9<>\"\",$H$3=\"実績\"),INDIRECT(\"'\"&$D22&\"　\"&$E22&\"'!C\"&AH$1),\n\"\")),\"\")","v":""},{"$f":"IFERROR(IF(IF(AND(AG$9<>\"\",$H$3=\"計画\"),INDIRECT(\"'\"&$D22&\"　\"&$E22&\"'!B\"&AI$1),\nIF(AND(AG$9<>\"\",$H$3=\"実績\"),INDIRECT(\"'\"&$D22&\"　\"&$E22&\"'!C\"&AI$1),\n\"\"))=\"対象外\",\"対象外\",AG22/AH22),\"\")","v":""},{"$f":"IFERROR(IF(AND(AJ$9<>\"\",$H$3=\"計画\"),INDIRECT(\"'\"&$D22&\"　\"&$E22&\"'!B\"&AJ$1),\nIF(AND(AJ$9<>\"\",$H$3=\"実績\"),INDIRECT(\"'\"&$D22&\"　\"&$E22&\"'!C\"&AJ$1),\n\"\")),\"\")","v":""},{"$f":"IFERROR(IF(AND(AJ$9<>\"\",$H$3=\"計画\"),INDIRECT(\"'\"&$D22&\"　\"&$E22&\"'!B\"&AK$1),\nIF(AND(AJ$9<>\"\",$H$3=\"実績\"),INDIRECT(\"'\"&$D22&\"　\"&$E22&\"'!C\"&AK$1),\n\"\")),\"\")","v":""},{"$f":"IFERROR(IF(IF(AND(AJ$9<>\"\",$H$3=\"計画\"),INDIRECT(\"'\"&$D22&\"　\"&$E22&\"'!B\"&AL$1),\nIF(AND(AJ$9<>\"\",$H$3=\"実績\"),INDIRECT(\"'\"&$D22&\"　\"&$E22&\"'!C\"&AL$1),\n\"\"))=\"対象外\",\"対象外\",AJ22/AK22),\"\")","v":""},{"$f":"IFERROR(IF(AND(AM$9<>\"\",$H$3=\"計画\"),INDIRECT(\"'\"&$D22&\"　\"&$E22&\"'!B\"&AM$1),\nIF(AND(AM$9<>\"\",$H$3=\"実績\"),INDIRECT(\"'\"&$D22&\"　\"&$E22&\"'!C\"&AM$1),\n\"\")),\"\")","v":""},{"$f":"IFERROR(IF(AND(AM$9<>\"\",$H$3=\"計画\"),INDIRECT(\"'\"&$D22&\"　\"&$E22&\"'!B\"&AN$1),\nIF(AND(AM$9<>\"\",$H$3=\"実績\"),INDIRECT(\"'\"&$D22&\"　\"&$E22&\"'!C\"&AN$1),\n\"\")),\"\")","v":""},{"$f":"IFERROR(IF(IF(AND(AM$9<>\"\",$H$3=\"計画\"),INDIRECT(\"'\"&$D22&\"　\"&$E22&\"'!B\"&AO$1),\nIF(AND(AM$9<>\"\",$H$3=\"実績\"),INDIRECT(\"'\"&$D22&\"　\"&$E22&\"'!C\"&AO$1),\n\"\"))=\"対象外\",\"対象外\",AM22/AN22),\"\")","v":""},{"$f":"IFERROR(IF(AND(AP$9<>\"\",$H$3=\"計画\"),INDIRECT(\"'\"&$D22&\"　\"&$E22&\"'!B\"&AP$1),\nIF(AND(AP$9<>\"\",$H$3=\"実績\"),INDIRECT(\"'\"&$D22&\"　\"&$E22&\"'!C\"&AP$1),\n\"\")),\"\")","v":""},{"$f":"IFERROR(IF(AND(AP$9<>\"\",$H$3=\"計画\"),INDIRECT(\"'\"&$D22&\"　\"&$E22&\"'!B\"&AQ$1),\nIF(AND(AP$9<>\"\",$H$3=\"実績\"),INDIRECT(\"'\"&$D22&\"　\"&$E22&\"'!C\"&AQ$1),\n\"\")),\"\")","v":""},{"$f":"IFERROR(IF(IF(AND(AP$9<>\"\",$H$3=\"計画\"),INDIRECT(\"'\"&$D22&\"　\"&$E22&\"'!B\"&AR$1),\nIF(AND(AP$9<>\"\",$H$3=\"実績\"),INDIRECT(\"'\"&$D22&\"　\"&$E22&\"'!C\"&AR$1),\n\"\"))=\"対象外\",\"対象外\",AP22/AQ22),\"\")","v":""},{"$f":"IFERROR(IF(AND(AS$9<>\"\",$H$3=\"計画\"),INDIRECT(\"'\"&$D22&\"　\"&$E22&\"'!B\"&AS$1),\nIF(AND(AS$9<>\"\",$H$3=\"実績\"),INDIRECT(\"'\"&$D22&\"　\"&$E22&\"'!C\"&AS$1),\n\"\")),\"\")","v":""},{"$f":"IFERROR(IF(AND(AS$9<>\"\",$H$3=\"計画\"),INDIRECT(\"'\"&$D22&\"　\"&$E22&\"'!B\"&AT$1),\nIF(AND(AS$9<>\"\",$H$3=\"実績\"),INDIRECT(\"'\"&$D22&\"　\"&$E22&\"'!C\"&AT$1),\n\"\")),\"\")","v":""},{"$f":"IFERROR(IF(IF(AND(AS$9<>\"\",$H$3=\"計画\"),INDIRECT(\"'\"&$D22&\"　\"&$E22&\"'!B\"&AU$1),\nIF(AND(AS$9<>\"\",$H$3=\"実績\"),INDIRECT(\"'\"&$D22&\"　\"&$E22&\"'!C\"&AU$1),\n\"\"))=\"対象外\",\"対象外\",AS22/AT22),\"\")","v":""},{"$f":"IFERROR(IF(AND(AV$9<>\"\",$H$3=\"計画\"),INDIRECT(\"'\"&$D22&\"　\"&$E22&\"'!B\"&AV$1),\nIF(AND(AV$9<>\"\",$H$3=\"実績\"),INDIRECT(\"'\"&$D22&\"　\"&$E22&\"'!C\"&AV$1),\n\"\")),\"\")","v":""},{"$f":"IFERROR(IF(AND(AV$9<>\"\",$H$3=\"計画\"),INDIRECT(\"'\"&$D22&\"　\"&$E22&\"'!B\"&AW$1),\nIF(AND(AV$9<>\"\",$H$3=\"実績\"),INDIRECT(\"'\"&$D22&\"　\"&$E22&\"'!C\"&AW$1),\n\"\")),\"\")","v":""},{"$f":"IFERROR(IF(IF(AND(AV$9<>\"\",$H$3=\"計画\"),INDIRECT(\"'\"&$D22&\"　\"&$E22&\"'!B\"&AX$1),\nIF(AND(AV$9<>\"\",$H$3=\"実績\"),INDIRECT(\"'\"&$D22&\"　\"&$E22&\"'!C\"&AX$1),\n\"\"))=\"対象外\",\"対象外\",AV22/AW22),\"\")","v":""},{"$f":"IFERROR(IF(AND(AY$9<>\"\",$H$3=\"計画\"),INDIRECT(\"'\"&$D22&\"　\"&$E22&\"'!B\"&AY$1),\nIF(AND(AY$9<>\"\",$H$3=\"実績\"),INDIRECT(\"'\"&$D22&\"　\"&$E22&\"'!C\"&AY$1),\n\"\")),\"\")","v":""},{"$f":"IFERROR(IF(AND(AY$9<>\"\",$H$3=\"計画\"),INDIRECT(\"'\"&$D22&\"　\"&$E22&\"'!B\"&AZ$1),\nIF(AND(AY$9<>\"\",$H$3=\"実績\"),INDIRECT(\"'\"&$D22&\"　\"&$E22&\"'!C\"&AZ$1),\n\"\")),\"\")","v":""},{"$f":"IFERROR(IF(IF(AND(AY$9<>\"\",$H$3=\"計画\"),INDIRECT(\"'\"&$D22&\"　\"&$E22&\"'!B\"&BA$1),\nIF(AND(AY$9<>\"\",$H$3=\"実績\"),INDIRECT(\"'\"&$D22&\"　\"&$E22&\"'!C\"&BA$1),\n\"\"))=\"対象外\",\"対象外\",AY22/AZ22),\"\")","v":""},{"$f":"IFERROR(IF(AND(BB$9<>\"\",$H$3=\"計画\"),INDIRECT(\"'\"&$D22&\"　\"&$E22&\"'!B\"&BB$1),\nIF(AND(BB$9<>\"\",$H$3=\"実績\"),INDIRECT(\"'\"&$D22&\"　\"&$E22&\"'!C\"&BB$1),\n\"\")),\"\")","v":""},{"$f":"IFERROR(IF(AND(BB$9<>\"\",$H$3=\"計画\"),INDIRECT(\"'\"&$D22&\"　\"&$E22&\"'!B\"&BC$1),\nIF(AND(BB$9<>\"\",$H$3=\"実績\"),INDIRECT(\"'\"&$D22&\"　\"&$E22&\"'!C\"&BC$1),\n\"\")),\"\")","v":""},{"$f":"IFERROR(IF(IF(AND(BB$9<>\"\",$H$3=\"計画\"),INDIRECT(\"'\"&$D22&\"　\"&$E22&\"'!B\"&BD$1),\nIF(AND(BB$9<>\"\",$H$3=\"実績\"),INDIRECT(\"'\"&$D22&\"　\"&$E22&\"'!C\"&BD$1),\n\"\"))=\"対象外\",\"対象外\",BB22/BC22),\"\")","v":""},{"$f":"IFERROR(IF(AND(BE$9<>\"\",$H$3=\"計画\"),INDIRECT(\"'\"&$D22&\"　\"&$E22&\"'!B\"&BE$1),\nIF(AND(BE$9<>\"\",$H$3=\"実績\"),INDIRECT(\"'\"&$D22&\"　\"&$E22&\"'!C\"&BE$1),\n\"\")),\"\")","v":""},{"$f":"IFERROR(IF(AND(BE$9<>\"\",$H$3=\"計画\"),INDIRECT(\"'\"&$D22&\"　\"&$E22&\"'!B\"&BF$1),\nIF(AND(BE$9<>\"\",$H$3=\"実績\"),INDIRECT(\"'\"&$D22&\"　\"&$E22&\"'!C\"&BF$1),\n\"\")),\"\")","v":""},{"$f":"IFERROR(IF(IF(AND(BE$9<>\"\",$H$3=\"計画\"),INDIRECT(\"'\"&$D22&\"　\"&$E22&\"'!B\"&BG$1),\nIF(AND(BE$9<>\"\",$H$3=\"実績\"),INDIRECT(\"'\"&$D22&\"　\"&$E22&\"'!C\"&BG$1),\n\"\"))=\"対象外\",\"対象外\",BE22/BF22),\"\")","v":""},{"$f":"IFERROR(IF(AND(BH$9<>\"\",$H$3=\"計画\"),INDIRECT(\"'\"&$D22&\"　\"&$E22&\"'!B\"&BH$1),\nIF(AND(BH$9<>\"\",$H$3=\"実績\"),INDIRECT(\"'\"&$D22&\"　\"&$E22&\"'!C\"&BH$1),\n\"\")),\"\")","v":""},{"$f":"IFERROR(IF(AND(BH$9<>\"\",$H$3=\"計画\"),INDIRECT(\"'\"&$D22&\"　\"&$E22&\"'!B\"&BI$1),\nIF(AND(BH$9<>\"\",$H$3=\"実績\"),INDIRECT(\"'\"&$D22&\"　\"&$E22&\"'!C\"&BI$1),\n\"\")),\"\")","v":""},{"$f":"IFERROR(IF(IF(AND(BH$9<>\"\",$H$3=\"計画\"),INDIRECT(\"'\"&$D22&\"　\"&$E22&\"'!B\"&BJ$1),\nIF(AND(BH$9<>\"\",$H$3=\"実績\"),INDIRECT(\"'\"&$D22&\"　\"&$E22&\"'!C\"&BJ$1),\n\"\"))=\"対象外\",\"対象外\",BH22/BI22),\"\")","v":""},{"$f":"IFERROR(IF(AND(BK$9<>\"\",$H$3=\"計画\"),INDIRECT(\"'\"&$D22&\"　\"&$E22&\"'!B\"&BK$1),\nIF(AND(BK$9<>\"\",$H$3=\"実績\"),INDIRECT(\"'\"&$D22&\"　\"&$E22&\"'!C\"&BK$1),\n\"\")),\"\")","v":""},{"$f":"IFERROR(IF(AND(BK$9<>\"\",$H$3=\"計画\"),INDIRECT(\"'\"&$D22&\"　\"&$E22&\"'!B\"&BL$1),\nIF(AND(BK$9<>\"\",$H$3=\"実績\"),INDIRECT(\"'\"&$D22&\"　\"&$E22&\"'!C\"&BL$1),\n\"\")),\"\")","v":""},{"$f":"IFERROR(IF(IF(AND(BK$9<>\"\",$H$3=\"計画\"),INDIRECT(\"'\"&$D22&\"　\"&$E22&\"'!B\"&BM$1),\nIF(AND(BK$9<>\"\",$H$3=\"実績\"),INDIRECT(\"'\"&$D22&\"　\"&$E22&\"'!C\"&BM$1),\n\"\"))=\"対象外\",\"対象外\",BK22/BL22),\"\")","v":""},{"$f":"IFERROR(IF(AND(BN$9<>\"\",$H$3=\"計画\"),INDIRECT(\"'\"&$D22&\"　\"&$E22&\"'!B\"&BN$1),\nIF(AND(BN$9<>\"\",$H$3=\"実績\"),INDIRECT(\"'\"&$D22&\"　\"&$E22&\"'!C\"&BN$1),\n\"\")),\"\")","v":""},{"$f":"IFERROR(IF(AND(BN$9<>\"\",$H$3=\"計画\"),INDIRECT(\"'\"&$D22&\"　\"&$E22&\"'!B\"&BO$1),\nIF(AND(BN$9<>\"\",$H$3=\"実績\"),INDIRECT(\"'\"&$D22&\"　\"&$E22&\"'!C\"&BO$1),\n\"\")),\"\")","v":""},{"$f":"IFERROR(IF(IF(AND(BN$9<>\"\",$H$3=\"計画\"),INDIRECT(\"'\"&$D22&\"　\"&$E22&\"'!B\"&BP$1),\nIF(AND(BN$9<>\"\",$H$3=\"実績\"),INDIRECT(\"'\"&$D22&\"　\"&$E22&\"'!C\"&BP$1),\n\"\"))=\"対象外\",\"対象外\",BN22/BO22),\"\")","v":""},{"$f":"IFERROR(IF(AND(BQ$9<>\"\",$H$3=\"計画\"),INDIRECT(\"'\"&$D22&\"　\"&$E22&\"'!B\"&BQ$1),\nIF(AND(BQ$9<>\"\",$H$3=\"実績\"),INDIRECT(\"'\"&$D22&\"　\"&$E22&\"'!C\"&BQ$1),\n\"\")),\"\")","v":""},{"$f":"IFERROR(IF(AND(BQ$9<>\"\",$H$3=\"計画\"),INDIRECT(\"'\"&$D22&\"　\"&$E22&\"'!B\"&BR$1),\nIF(AND(BQ$9<>\"\",$H$3=\"実績\"),INDIRECT(\"'\"&$D22&\"　\"&$E22&\"'!C\"&BR$1),\n\"\")),\"\")","v":""},{"$f":"IFERROR(IF(IF(AND(BQ$9<>\"\",$H$3=\"計画\"),INDIRECT(\"'\"&$D22&\"　\"&$E22&\"'!B\"&BS$1),\nIF(AND(BQ$9<>\"\",$H$3=\"実績\"),INDIRECT(\"'\"&$D22&\"　\"&$E22&\"'!C\"&BS$1),\n\"\"))=\"対象外\",\"対象外\",BQ22/BR22),\"\")","v":""},{"$f":"IFERROR(IF(AND(BT$9<>\"\",$H$3=\"計画\"),INDIRECT(\"'\"&$D22&\"　\"&$E22&\"'!B\"&BT$1),\nIF(AND(BT$9<>\"\",$H$3=\"実績\"),INDIRECT(\"'\"&$D22&\"　\"&$E22&\"'!C\"&BT$1),\n\"\")),\"\")","v":""},{"$f":"IFERROR(IF(AND(BT$9<>\"\",$H$3=\"計画\"),INDIRECT(\"'\"&$D22&\"　\"&$E22&\"'!B\"&BU$1),\nIF(AND(BT$9<>\"\",$H$3=\"実績\"),INDIRECT(\"'\"&$D22&\"　\"&$E22&\"'!C\"&BU$1),\n\"\")),\"\")","v":""},{"$f":"IFERROR(IF(IF(AND(BT$9<>\"\",$H$3=\"計画\"),INDIRECT(\"'\"&$D22&\"　\"&$E22&\"'!B\"&BV$1),\nIF(AND(BT$9<>\"\",$H$3=\"実績\"),INDIRECT(\"'\"&$D22&\"　\"&$E22&\"'!C\"&BV$1),\n\"\"))=\"対象外\",\"対象外\",BT22/BU22),\"\")","v":""},{"$f":"IFERROR(IF(AND(BW$9<>\"\",$H$3=\"計画\"),INDIRECT(\"'\"&$D22&\"　\"&$E22&\"'!B\"&BW$1),\nIF(AND(BW$9<>\"\",$H$3=\"実績\"),INDIRECT(\"'\"&$D22&\"　\"&$E22&\"'!C\"&BW$1),\n\"\")),\"\")","v":""},{"$f":"IFERROR(IF(AND(BW$9<>\"\",$H$3=\"計画\"),INDIRECT(\"'\"&$D22&\"　\"&$E22&\"'!B\"&BX$1),\nIF(AND(BW$9<>\"\",$H$3=\"実績\"),INDIRECT(\"'\"&$D22&\"　\"&$E22&\"'!C\"&BX$1),\n\"\")),\"\")","v":""},{"$f":"IFERROR(IF(IF(AND(BW$9<>\"\",$H$3=\"計画\"),INDIRECT(\"'\"&$D22&\"　\"&$E22&\"'!B\"&BY$1),\nIF(AND(BW$9<>\"\",$H$3=\"実績\"),INDIRECT(\"'\"&$D22&\"　\"&$E22&\"'!C\"&BY$1),\n\"\"))=\"対象外\",\"対象外\",BW22/BX22),\"\")","v":""},{"$f":"IFERROR(IF(AND(BZ$9<>\"\",$H$3=\"計画\"),INDIRECT(\"'\"&$D22&\"　\"&$E22&\"'!B\"&BZ$1),\nIF(AND(BZ$9<>\"\",$H$3=\"実績\"),INDIRECT(\"'\"&$D22&\"　\"&$E22&\"'!C\"&BZ$1),\n\"\")),\"\")","v":""},{"$f":"IFERROR(IF(AND(BZ$9<>\"\",$H$3=\"計画\"),INDIRECT(\"'\"&$D22&\"　\"&$E22&\"'!B\"&CA$1),\nIF(AND(BZ$9<>\"\",$H$3=\"実績\"),INDIRECT(\"'\"&$D22&\"　\"&$E22&\"'!C\"&CA$1),\n\"\")),\"\")","v":""},{"$f":"IFERROR(IF(IF(AND(BZ$9<>\"\",$H$3=\"計画\"),INDIRECT(\"'\"&$D22&\"　\"&$E22&\"'!B\"&CB$1),\nIF(AND(BZ$9<>\"\",$H$3=\"実績\"),INDIRECT(\"'\"&$D22&\"　\"&$E22&\"'!C\"&CB$1),\n\"\"))=\"対象外\",\"対象外\",BZ22/CA22),\"\")","v":""},{"$f":"IFERROR(IF(AND(CC$9<>\"\",$H$3=\"計画\"),INDIRECT(\"'\"&$D22&\"　\"&$E22&\"'!B\"&CC$1),\nIF(AND(CC$9<>\"\",$H$3=\"実績\"),INDIRECT(\"'\"&$D22&\"　\"&$E22&\"'!C\"&CC$1),\n\"\")),\"\")","v":""},{"$f":"IFERROR(IF(AND(CC$9<>\"\",$H$3=\"計画\"),INDIRECT(\"'\"&$D22&\"　\"&$E22&\"'!B\"&CD$1),\nIF(AND(CC$9<>\"\",$H$3=\"実績\"),INDIRECT(\"'\"&$D22&\"　\"&$E22&\"'!C\"&CD$1),\n\"\")),\"\")","v":""},{"$f":"IFERROR(IF(IF(AND(CC$9<>\"\",$H$3=\"計画\"),INDIRECT(\"'\"&$D22&\"　\"&$E22&\"'!B\"&CE$1),\nIF(AND(CC$9<>\"\",$H$3=\"実績\"),INDIRECT(\"'\"&$D22&\"　\"&$E22&\"'!C\"&CE$1),\n\"\"))=\"対象外\",\"対象外\",CC22/CD22),\"\")","v":""},{"$f":"IFERROR(IF(AND(CF$9<>\"\",$H$3=\"計画\"),INDIRECT(\"'\"&$D22&\"　\"&$E22&\"'!B\"&CF$1),\nIF(AND(CF$9<>\"\",$H$3=\"実績\"),INDIRECT(\"'\"&$D22&\"　\"&$E22&\"'!C\"&CF$1),\n\"\")),\"\")","v":""},{"$f":"IFERROR(IF(AND(CF$9<>\"\",$H$3=\"計画\"),INDIRECT(\"'\"&$D22&\"　\"&$E22&\"'!B\"&CG$1),\nIF(AND(CF$9<>\"\",$H$3=\"実績\"),INDIRECT(\"'\"&$D22&\"　\"&$E22&\"'!C\"&CG$1),\n\"\")),\"\")","v":""},{"$f":"IFERROR(IF(IF(AND(CF$9<>\"\",$H$3=\"計画\"),INDIRECT(\"'\"&$D22&\"　\"&$E22&\"'!B\"&CH$1),\nIF(AND(CF$9<>\"\",$H$3=\"実績\"),INDIRECT(\"'\"&$D22&\"　\"&$E22&\"'!C\"&CH$1),\n\"\"))=\"対象外\",\"対象外\",CF22/CG22),\"\")","v":""},{"$f":"IFERROR(IF(AND(CI$9<>\"\",$H$3=\"計画\"),INDIRECT(\"'\"&$D22&\"　\"&$E22&\"'!B\"&CI$1),\nIF(AND(CI$9<>\"\",$H$3=\"実績\"),INDIRECT(\"'\"&$D22&\"　\"&$E22&\"'!C\"&CI$1),\n\"\")),\"\")","v":""},{"$f":"IFERROR(IF(AND(CI$9<>\"\",$H$3=\"計画\"),INDIRECT(\"'\"&$D22&\"　\"&$E22&\"'!B\"&CJ$1),\nIF(AND(CI$9<>\"\",$H$3=\"実績\"),INDIRECT(\"'\"&$D22&\"　\"&$E22&\"'!C\"&CJ$1),\n\"\")),\"\")","v":""},{"$f":"IFERROR(IF(IF(AND(CI$9<>\"\",$H$3=\"計画\"),INDIRECT(\"'\"&$D22&\"　\"&$E22&\"'!B\"&CK$1),\nIF(AND(CI$9<>\"\",$H$3=\"実績\"),INDIRECT(\"'\"&$D22&\"　\"&$E22&\"'!C\"&CK$1),\n\"\"))=\"対象外\",\"対象外\",CI22/CJ22),\"\")","v":""},{"$f":"IFERROR(IF(AND(CL$9<>\"\",$H$3=\"計画\"),INDIRECT(\"'\"&$D22&\"　\"&$E22&\"'!B\"&CL$1),\nIF(AND(CL$9<>\"\",$H$3=\"実績\"),INDIRECT(\"'\"&$D22&\"　\"&$E22&\"'!C\"&CL$1),\n\"\")),\"\")","v":""},{"$f":"IFERROR(IF(AND(CL$9<>\"\",$H$3=\"計画\"),INDIRECT(\"'\"&$D22&\"　\"&$E22&\"'!B\"&CM$1),\nIF(AND(CL$9<>\"\",$H$3=\"実績\"),INDIRECT(\"'\"&$D22&\"　\"&$E22&\"'!C\"&CM$1),\n\"\")),\"\")","v":""},{"$f":"IFERROR(IF(IF(AND(CL$9<>\"\",$H$3=\"計画\"),INDIRECT(\"'\"&$D22&\"　\"&$E22&\"'!B\"&CN$1),\nIF(AND(CL$9<>\"\",$H$3=\"実績\"),INDIRECT(\"'\"&$D22&\"　\"&$E22&\"'!C\"&CN$1),\n\"\"))=\"対象外\",\"対象外\",CL22/CM22),\"\")","v":""},{"$f":"IFERROR(IF(AND(CO$9<>\"\",$H$3=\"計画\"),INDIRECT(\"'\"&$D22&\"　\"&$E22&\"'!B\"&CO$1),\nIF(AND(CO$9<>\"\",$H$3=\"実績\"),INDIRECT(\"'\"&$D22&\"　\"&$E22&\"'!C\"&CO$1),\n\"\")),\"\")","v":""},{"$f":"IFERROR(IF(AND(CO$9<>\"\",$H$3=\"計画\"),INDIRECT(\"'\"&$D22&\"　\"&$E22&\"'!B\"&CP$1),\nIF(AND(CO$9<>\"\",$H$3=\"実績\"),INDIRECT(\"'\"&$D22&\"　\"&$E22&\"'!C\"&CP$1),\n\"\")),\"\")","v":""},{"$f":"IFERROR(IF(IF(AND(CO$9<>\"\",$H$3=\"計画\"),INDIRECT(\"'\"&$D22&\"　\"&$E22&\"'!B\"&CQ$1),\nIF(AND(CO$9<>\"\",$H$3=\"実績\"),INDIRECT(\"'\"&$D22&\"　\"&$E22&\"'!C\"&CQ$1),\n\"\"))=\"対象外\",\"対象外\",CO22/CP22),\"\")","v":""},{"$f":"IFERROR(IF(AND(CR$9<>\"\",$H$3=\"計画\"),INDIRECT(\"'\"&$D22&\"　\"&$E22&\"'!B\"&CR$1),\nIF(AND(CR$9<>\"\",$H$3=\"実績\"),INDIRECT(\"'\"&$D22&\"　\"&$E22&\"'!C\"&CR$1),\n\"\")),\"\")","v":""},{"$f":"IFERROR(IF(AND(CR$9<>\"\",$H$3=\"計画\"),INDIRECT(\"'\"&$D22&\"　\"&$E22&\"'!B\"&CS$1),\nIF(AND(CR$9<>\"\",$H$3=\"実績\"),INDIRECT(\"'\"&$D22&\"　\"&$E22&\"'!C\"&CS$1),\n\"\")),\"\")","v":""},{"$f":"IFERROR(IF(IF(AND(CR$9<>\"\",$H$3=\"計画\"),INDIRECT(\"'\"&$D22&\"　\"&$E22&\"'!B\"&CT$1),\nIF(AND(CR$9<>\"\",$H$3=\"実績\"),INDIRECT(\"'\"&$D22&\"　\"&$E22&\"'!C\"&CT$1),\n\"\"))=\"対象外\",\"対象外\",CR22/CS22),\"\")","v":""},{"$f":"IFERROR(IF(AND(CU$9<>\"\",$H$3=\"計画\"),INDIRECT(\"'\"&$D22&\"　\"&$E22&\"'!B\"&CU$1),\nIF(AND(CU$9<>\"\",$H$3=\"実績\"),INDIRECT(\"'\"&$D22&\"　\"&$E22&\"'!C\"&CU$1),\n\"\")),\"\")","v":""},{"$f":"IFERROR(IF(AND(CU$9<>\"\",$H$3=\"計画\"),INDIRECT(\"'\"&$D22&\"　\"&$E22&\"'!B\"&CV$1),\nIF(AND(CU$9<>\"\",$H$3=\"実績\"),INDIRECT(\"'\"&$D22&\"　\"&$E22&\"'!C\"&CV$1),\n\"\")),\"\")","v":""},{"$f":"IFERROR(IF(IF(AND(CU$9<>\"\",$H$3=\"計画\"),INDIRECT(\"'\"&$D22&\"　\"&$E22&\"'!B\"&CW$1),\nIF(AND(CU$9<>\"\",$H$3=\"実績\"),INDIRECT(\"'\"&$D22&\"　\"&$E22&\"'!C\"&CW$1),\n\"\"))=\"対象外\",\"対象外\",CU22/CV22),\"\")","v":""},{"$f":"IFERROR(IF(AND(CX$9<>\"\",$H$3=\"計画\"),INDIRECT(\"'\"&$D22&\"　\"&$E22&\"'!B\"&CX$1),\nIF(AND(CX$9<>\"\",$H$3=\"実績\"),INDIRECT(\"'\"&$D22&\"　\"&$E22&\"'!C\"&CX$1),\n\"\")),\"\")","v":""},{"$f":"IFERROR(IF(AND(CX$9<>\"\",$H$3=\"計画\"),INDIRECT(\"'\"&$D22&\"　\"&$E22&\"'!B\"&CY$1),\nIF(AND(CX$9<>\"\",$H$3=\"実績\"),INDIRECT(\"'\"&$D22&\"　\"&$E22&\"'!C\"&CY$1),\n\"\")),\"\")","v":""},{"$f":"IFERROR(IF(IF(AND(CX$9<>\"\",$H$3=\"計画\"),INDIRECT(\"'\"&$D22&\"　\"&$E22&\"'!B\"&CZ$1),\nIF(AND(CX$9<>\"\",$H$3=\"実績\"),INDIRECT(\"'\"&$D22&\"　\"&$E22&\"'!C\"&CZ$1),\n\"\"))=\"対象外\",\"対象外\",CX22/CY22),\"\")","v":""},{"$f":"IFERROR(IF(AND(DA$9<>\"\",$H$3=\"計画\"),INDIRECT(\"'\"&$D22&\"　\"&$E22&\"'!B\"&DA$1),\nIF(AND(DA$9<>\"\",$H$3=\"実績\"),INDIRECT(\"'\"&$D22&\"　\"&$E22&\"'!C\"&DA$1),\n\"\")),\"\")","v":""},{"$f":"IFERROR(IF(AND(DA$9<>\"\",$H$3=\"計画\"),INDIRECT(\"'\"&$D22&\"　\"&$E22&\"'!B\"&DB$1),\nIF(AND(DA$9<>\"\",$H$3=\"実績\"),INDIRECT(\"'\"&$D22&\"　\"&$E22&\"'!C\"&DB$1),\n\"\")),\"\")","v":""},{"$f":"IFERROR(IF(IF(AND(DA$9<>\"\",$H$3=\"計画\"),INDIRECT(\"'\"&$D22&\"　\"&$E22&\"'!B\"&DC$1),\nIF(AND(DA$9<>\"\",$H$3=\"実績\"),INDIRECT(\"'\"&$D22&\"　\"&$E22&\"'!C\"&DC$1),\n\"\"))=\"対象外\",\"対象外\",DA22/DB22),\"\")","v":""},{"$f":"IFERROR(IF(AND(DD$9<>\"\",$H$3=\"計画\"),INDIRECT(\"'\"&$D22&\"　\"&$E22&\"'!B\"&DD$1),\nIF(AND(DD$9<>\"\",$H$3=\"実績\"),INDIRECT(\"'\"&$D22&\"　\"&$E22&\"'!C\"&DD$1),\n\"\")),\"\")","v":""},{"$f":"IFERROR(IF(AND(DD$9<>\"\",$H$3=\"計画\"),INDIRECT(\"'\"&$D22&\"　\"&$E22&\"'!B\"&DE$1),\nIF(AND(DD$9<>\"\",$H$3=\"実績\"),INDIRECT(\"'\"&$D22&\"　\"&$E22&\"'!C\"&DE$1),\n\"\")),\"\")","v":""},{"$f":"IFERROR(IF(IF(AND(DD$9<>\"\",$H$3=\"計画\"),INDIRECT(\"'\"&$D22&\"　\"&$E22&\"'!B\"&DF$1),\nIF(AND(DD$9<>\"\",$H$3=\"実績\"),INDIRECT(\"'\"&$D22&\"　\"&$E22&\"'!C\"&DF$1),\n\"\"))=\"対象外\",\"対象外\",DD22/DE22),\"\")","v":""},{"$f":"IFERROR(IF(AND(DG$9<>\"\",$H$3=\"計画\"),INDIRECT(\"'\"&$D22&\"　\"&$E22&\"'!B\"&DG$1),\nIF(AND(DG$9<>\"\",$H$3=\"実績\"),INDIRECT(\"'\"&$D22&\"　\"&$E22&\"'!C\"&DG$1),\n\"\")),\"\")","v":""},{"$f":"IFERROR(IF(AND(DG$9<>\"\",$H$3=\"計画\"),INDIRECT(\"'\"&$D22&\"　\"&$E22&\"'!B\"&DH$1),\nIF(AND(DG$9<>\"\",$H$3=\"実績\"),INDIRECT(\"'\"&$D22&\"　\"&$E22&\"'!C\"&DH$1),\n\"\")),\"\")","v":""},{"$f":"IFERROR(IF(IF(AND(DG$9<>\"\",$H$3=\"計画\"),INDIRECT(\"'\"&$D22&\"　\"&$E22&\"'!B\"&DI$1),\nIF(AND(DG$9<>\"\",$H$3=\"実績\"),INDIRECT(\"'\"&$D22&\"　\"&$E22&\"'!C\"&DI$1),\n\"\"))=\"対象外\",\"対象外\",DG22/DH22),\"\")","v":""},{"$f":"IFERROR(IF(AND(DJ$9<>\"\",$H$3=\"計画\"),INDIRECT(\"'\"&$D22&\"　\"&$E22&\"'!B\"&DJ$1),\nIF(AND(DJ$9<>\"\",$H$3=\"実績\"),INDIRECT(\"'\"&$D22&\"　\"&$E22&\"'!C\"&DJ$1),\n\"\")),\"\")","v":""},{"$f":"IFERROR(IF(AND(DJ$9<>\"\",$H$3=\"計画\"),INDIRECT(\"'\"&$D22&\"　\"&$E22&\"'!B\"&DK$1),\nIF(AND(DJ$9<>\"\",$H$3=\"実績\"),INDIRECT(\"'\"&$D22&\"　\"&$E22&\"'!C\"&DK$1),\n\"\")),\"\")","v":""},{"$f":"IFERROR(IF(IF(AND(DJ$9<>\"\",$H$3=\"計画\"),INDIRECT(\"'\"&$D22&\"　\"&$E22&\"'!B\"&DL$1),\nIF(AND(DJ$9<>\"\",$H$3=\"実績\"),INDIRECT(\"'\"&$D22&\"　\"&$E22&\"'!C\"&DL$1),\n\"\"))=\"対象外\",\"対象外\",DJ22/DK22),\"\")","v":""}]
["成績加点（判定）",null,null,null,null,"","",{"$f":"IFERROR(IF(IF(H$3=\"計画\",INDIRECT(\"'\"&$D23&\"　\"&$E23&\"'!B\"&H$1),\nIF(H$3=\"実績\",INDIRECT(\"'\"&$D23&\"　\"&$E23&\"'!C\"&H$1),\n\"\"))>=28,F23/G23,\"対象外\"),\"\")","v":""},{"$f":"IFERROR(IF(AND(I$9<>\"\",$H$3=\"計画\"),INDIRECT(\"'\"&$D23&\"　\"&$E23&\"'!B\"&I$1),\nIF(AND(I$9<>\"\",$H$3=\"実績\"),INDIRECT(\"'\"&$D23&\"　\"&$E23&\"'!C\"&I$1),\n\"\")),\"\")","v":""},{"$f":"IFERROR(IF(AND(I$9<>\"\",$H$3=\"計画\"),INDIRECT(\"'\"&$D23&\"　\"&$E23&\"'!B\"&J$1),\nIF(AND(I$9<>\"\",$H$3=\"実績\"),INDIRECT(\"'\"&$D23&\"　\"&$E23&\"'!C\"&J$1),\n\"\")),\"\")","v":""},{"$f":"IFERROR(IF(IF(AND(I$9<>\"\",$H$3=\"計画\"),INDIRECT(\"'\"&$D23&\"　\"&$E23&\"'!B\"&K$1),\nIF(AND(I$9<>\"\",$H$3=\"実績\"),INDIRECT(\"'\"&$D23&\"　\"&$E23&\"'!C\"&K$1),\n\"\"))=\"対象外\",\"対象外\",I23/J23),\"\")","v":""},{"$f":"IFERROR(IF(AND(L$9<>\"\",$H$3=\"計画\"),INDIRECT(\"'\"&$D23&\"　\"&$E23&\"'!B\"&L$1),\nIF(AND(L$9<>\"\",$H$3=\"実績\"),INDIRECT(\"'\"&$D23&\"　\"&$E23&\"'!C\"&L$1),\n\"\")),\"\")","v":""},{"$f":"IFERROR(IF(AND(L$9<>\"\",$H$3=\"計画\"),INDIRECT(\"'\"&$D23&\"　\"&$E23&\"'!B\"&M$1),\nIF(AND(L$9<>\"\",$H$3=\"実績\"),INDIRECT(\"'\"&$D23&\"　\"&$E23&\"'!C\"&M$1),\n\"\")),\"\")","v":""},{"$f":"IFERROR(IF(IF(AND(L$9<>\"\",$H$3=\"計画\"),INDIRECT(\"'\"&$D23&\"　\"&$E23&\"'!B\"&N$1),\nIF(AND(L$9<>\"\",$H$3=\"実績\"),INDIRECT(\"'\"&$D23&\"　\"&$E23&\"'!C\"&N$1),\n\"\"))=\"対象外\",\"対象外\",L23/M23),\"\")","v":""},{"$f":"IFERROR(IF(AND(O$9<>\"\",$H$3=\"計画\"),INDIRECT(\"'\"&$D23&\"　\"&$E23&\"'!B\"&O$1),\nIF(AND(O$9<>\"\",$H$3=\"実績\"),INDIRECT(\"'\"&$D23&\"　\"&$E23&\"'!C\"&O$1),\n\"\")),\"\")","v":""},{"$f":"IFERROR(IF(AND(O$9<>\"\",$H$3=\"計画\"),INDIRECT(\"'\"&$D23&\"　\"&$E23&\"'!B\"&P$1),\nIF(AND(O$9<>\"\",$H$3=\"実績\"),INDIRECT(\"'\"&$D23&\"　\"&$E23&\"'!C\"&P$1),\n\"\")),\"\")","v":""},{"$f":"IFERROR(IF(IF(AND(O$9<>\"\",$H$3=\"計画\"),INDIRECT(\"'\"&$D23&\"　\"&$E23&\"'!B\"&Q$1),\nIF(AND(O$9<>\"\",$H$3=\"実績\"),INDIRECT(\"'\"&$D23&\"　\"&$E23&\"'!C\"&Q$1),\n\"\"))=\"対象外\",\"対象外\",O23/P23),\"\")","v":""},{"$f":"IFERROR(IF(AND(R$9<>\"\",$H$3=\"計画\"),INDIRECT(\"'\"&$D23&\"　\"&$E23&\"'!B\"&R$1),\nIF(AND(R$9<>\"\",$H$3=\"実績\"),INDIRECT(\"'\"&$D23&\"　\"&$E23&\"'!C\"&R$1),\n\"\")),\"\")","v":""},{"$f":"IFERROR(IF(AND(R$9<>\"\",$H$3=\"計画\"),INDIRECT(\"'\"&$D23&\"　\"&$E23&\"'!B\"&S$1),\nIF(AND(R$9<>\"\",$H$3=\"実績\"),INDIRECT(\"'\"&$D23&\"　\"&$E23&\"'!C\"&S$1),\n\"\")),\"\")","v":""},{"$f":"IFERROR(IF(IF(AND(R$9<>\"\",$H$3=\"計画\"),INDIRECT(\"'\"&$D23&\"　\"&$E23&\"'!B\"&T$1),\nIF(AND(R$9<>\"\",$H$3=\"実績\"),INDIRECT(\"'\"&$D23&\"　\"&$E23&\"'!C\"&T$1),\n\"\"))=\"対象外\",\"対象外\",R23/S23),\"\")","v":""},{"$f":"IFERROR(IF(AND(U$9<>\"\",$H$3=\"計画\"),INDIRECT(\"'\"&$D23&\"　\"&$E23&\"'!B\"&U$1),\nIF(AND(U$9<>\"\",$H$3=\"実績\"),INDIRECT(\"'\"&$D23&\"　\"&$E23&\"'!C\"&U$1),\n\"\")),\"\")","v":""},{"$f":"IFERROR(IF(AND(U$9<>\"\",$H$3=\"計画\"),INDIRECT(\"'\"&$D23&\"　\"&$E23&\"'!B\"&V$1),\nIF(AND(U$9<>\"\",$H$3=\"実績\"),INDIRECT(\"'\"&$D23&\"　\"&$E23&\"'!C\"&V$1),\n\"\")),\"\")","v":""},{"$f":"IFERROR(IF(IF(AND(U$9<>\"\",$H$3=\"計画\"),INDIRECT(\"'\"&$D23&\"　\"&$E23&\"'!B\"&W$1),\nIF(AND(U$9<>\"\",$H$3=\"実績\"),INDIRECT(\"'\"&$D23&\"　\"&$E23&\"'!C\"&W$1),\n\"\"))=\"対象外\",\"対象外\",U23/V23),\"\")","v":""},{"$f":"IFERROR(IF(AND(X$9<>\"\",$H$3=\"計画\"),INDIRECT(\"'\"&$D23&\"　\"&$E23&\"'!B\"&X$1),\nIF(AND(X$9<>\"\",$H$3=\"実績\"),INDIRECT(\"'\"&$D23&\"　\"&$E23&\"'!C\"&X$1),\n\"\")),\"\")","v":""},{"$f":"IFERROR(IF(AND(X$9<>\"\",$H$3=\"計画\"),INDIRECT(\"'\"&$D23&\"　\"&$E23&\"'!B\"&Y$1),\nIF(AND(X$9<>\"\",$H$3=\"実績\"),INDIRECT(\"'\"&$D23&\"　\"&$E23&\"'!C\"&Y$1),\n\"\")),\"\")","v":""},{"$f":"IFERROR(IF(IF(AND(X$9<>\"\",$H$3=\"計画\"),INDIRECT(\"'\"&$D23&\"　\"&$E23&\"'!B\"&Z$1),\nIF(AND(X$9<>\"\",$H$3=\"実績\"),INDIRECT(\"'\"&$D23&\"　\"&$E23&\"'!C\"&Z$1),\n\"\"))=\"対象外\",\"対象外\",X23/Y23),\"\")","v":""},{"$f":"IFERROR(IF(AND(AA$9<>\"\",$H$3=\"計画\"),INDIRECT(\"'\"&$D23&\"　\"&$E23&\"'!B\"&AA$1),\nIF(AND(AA$9<>\"\",$H$3=\"実績\"),INDIRECT(\"'\"&$D23&\"　\"&$E23&\"'!C\"&AA$1),\n\"\")),\"\")","v":""},{"$f":"IFERROR(IF(AND(AA$9<>\"\",$H$3=\"計画\"),INDIRECT(\"'\"&$D23&\"　\"&$E23&\"'!B\"&AB$1),\nIF(AND(AA$9<>\"\",$H$3=\"実績\"),INDIRECT(\"'\"&$D23&\"　\"&$E23&\"'!C\"&AB$1),\n\"\")),\"\")","v":""},{"$f":"IFERROR(IF(IF(AND(AA$9<>\"\",$H$3=\"計画\"),INDIRECT(\"'\"&$D23&\"　\"&$E23&\"'!B\"&AC$1),\nIF(AND(AA$9<>\"\",$H$3=\"実績\"),INDIRECT(\"'\"&$D23&\"　\"&$E23&\"'!C\"&AC$1),\n\"\"))=\"対象外\",\"対象外\",AA23/AB23),\"\")","v":""},{"$f":"IFERROR(IF(AND(AD$9<>\"\",$H$3=\"計画\"),INDIRECT(\"'\"&$D23&\"　\"&$E23&\"'!B\"&AD$1),\nIF(AND(AD$9<>\"\",$H$3=\"実績\"),INDIRECT(\"'\"&$D23&\"　\"&$E23&\"'!C\"&AD$1),\n\"\")),\"\")","v":""},{"$f":"IFERROR(IF(AND(AD$9<>\"\",$H$3=\"計画\"),INDIRECT(\"'\"&$D23&\"　\"&$E23&\"'!B\"&AE$1),\nIF(AND(AD$9<>\"\",$H$3=\"実績\"),INDIRECT(\"'\"&$D23&\"　\"&$E23&\"'!C\"&AE$1),\n\"\")),\"\")","v":""},{"$f":"IFERROR(IF(IF(AND(AD$9<>\"\",$H$3=\"計画\"),INDIRECT(\"'\"&$D23&\"　\"&$E23&\"'!B\"&AF$1),\nIF(AND(AD$9<>\"\",$H$3=\"実績\"),INDIRECT(\"'\"&$D23&\"　\"&$E23&\"'!C\"&AF$1),\n\"\"))=\"対象外\",\"対象外\",AD23/AE23),\"\")","v":""},{"$f":"IFERROR(IF(AND(AG$9<>\"\",$H$3=\"計画\"),INDIRECT(\"'\"&$D23&\"　\"&$E23&\"'!B\"&AG$1),\nIF(AND(AG$9<>\"\",$H$3=\"実績\"),INDIRECT(\"'\"&$D23&\"　\"&$E23&\"'!C\"&AG$1),\n\"\")),\"\")","v":""},{"$f":"IFERROR(IF(AND(AG$9<>\"\",$H$3=\"計画\"),INDIRECT(\"'\"&$D23&\"　\"&$E23&\"'!B\"&AH$1),\nIF(AND(AG$9<>\"\",$H$3=\"実績\"),INDIRECT(\"'\"&$D23&\"　\"&$E23&\"'!C\"&AH$1),\n\"\")),\"\")","v":""},{"$f":"IFERROR(IF(IF(AND(AG$9<>\"\",$H$3=\"計画\"),INDIRECT(\"'\"&$D23&\"　\"&$E23&\"'!B\"&AI$1),\nIF(AND(AG$9<>\"\",$H$3=\"実績\"),INDIRECT(\"'\"&$D23&\"　\"&$E23&\"'!C\"&AI$1),\n\"\"))=\"対象外\",\"対象外\",AG23/AH23),\"\")","v":""},{"$f":"IFERROR(IF(AND(AJ$9<>\"\",$H$3=\"計画\"),INDIRECT(\"'\"&$D23&\"　\"&$E23&\"'!B\"&AJ$1),\nIF(AND(AJ$9<>\"\",$H$3=\"実績\"),INDIRECT(\"'\"&$D23&\"　\"&$E23&\"'!C\"&AJ$1),\n\"\")),\"\")","v":""},{"$f":"IFERROR(IF(AND(AJ$9<>\"\",$H$3=\"計画\"),INDIRECT(\"'\"&$D23&\"　\"&$E23&\"'!B\"&AK$1),\nIF(AND(AJ$9<>\"\",$H$3=\"実績\"),INDIRECT(\"'\"&$D23&\"　\"&$E23&\"'!C\"&AK$1),\n\"\")),\"\")","v":""},{"$f":"IFERROR(IF(IF(AND(AJ$9<>\"\",$H$3=\"計画\"),INDIRECT(\"'\"&$D23&\"　\"&$E23&\"'!B\"&AL$1),\nIF(AND(AJ$9<>\"\",$H$3=\"実績\"),INDIRECT(\"'\"&$D23&\"　\"&$E23&\"'!C\"&AL$1),\n\"\"))=\"対象外\",\"対象外\",AJ23/AK23),\"\")","v":""},{"$f":"IFERROR(IF(AND(AM$9<>\"\",$H$3=\"計画\"),INDIRECT(\"'\"&$D23&\"　\"&$E23&\"'!B\"&AM$1),\nIF(AND(AM$9<>\"\",$H$3=\"実績\"),INDIRECT(\"'\"&$D23&\"　\"&$E23&\"'!C\"&AM$1),\n\"\")),\"\")","v":""},{"$f":"IFERROR(IF(AND(AM$9<>\"\",$H$3=\"計画\"),INDIRECT(\"'\"&$D23&\"　\"&$E23&\"'!B\"&AN$1),\nIF(AND(AM$9<>\"\",$H$3=\"実績\"),INDIRECT(\"'\"&$D23&\"　\"&$E23&\"'!C\"&AN$1),\n\"\")),\"\")","v":""},{"$f":"IFERROR(IF(IF(AND(AM$9<>\"\",$H$3=\"計画\"),INDIRECT(\"'\"&$D23&\"　\"&$E23&\"'!B\"&AO$1),\nIF(AND(AM$9<>\"\",$H$3=\"実績\"),INDIRECT(\"'\"&$D23&\"　\"&$E23&\"'!C\"&AO$1),\n\"\"))=\"対象外\",\"対象外\",AM23/AN23),\"\")","v":""},{"$f":"IFERROR(IF(AND(AP$9<>\"\",$H$3=\"計画\"),INDIRECT(\"'\"&$D23&\"　\"&$E23&\"'!B\"&AP$1),\nIF(AND(AP$9<>\"\",$H$3=\"実績\"),INDIRECT(\"'\"&$D23&\"　\"&$E23&\"'!C\"&AP$1),\n\"\")),\"\")","v":""},{"$f":"IFERROR(IF(AND(AP$9<>\"\",$H$3=\"計画\"),INDIRECT(\"'\"&$D23&\"　\"&$E23&\"'!B\"&AQ$1),\nIF(AND(AP$9<>\"\",$H$3=\"実績\"),INDIRECT(\"'\"&$D23&\"　\"&$E23&\"'!C\"&AQ$1),\n\"\")),\"\")","v":""},{"$f":"IFERROR(IF(IF(AND(AP$9<>\"\",$H$3=\"計画\"),INDIRECT(\"'\"&$D23&\"　\"&$E23&\"'!B\"&AR$1),\nIF(AND(AP$9<>\"\",$H$3=\"実績\"),INDIRECT(\"'\"&$D23&\"　\"&$E23&\"'!C\"&AR$1),\n\"\"))=\"対象外\",\"対象外\",AP23/AQ23),\"\")","v":""},{"$f":"IFERROR(IF(AND(AS$9<>\"\",$H$3=\"計画\"),INDIRECT(\"'\"&$D23&\"　\"&$E23&\"'!B\"&AS$1),\nIF(AND(AS$9<>\"\",$H$3=\"実績\"),INDIRECT(\"'\"&$D23&\"　\"&$E23&\"'!C\"&AS$1),\n\"\")),\"\")","v":""},{"$f":"IFERROR(IF(AND(AS$9<>\"\",$H$3=\"計画\"),INDIRECT(\"'\"&$D23&\"　\"&$E23&\"'!B\"&AT$1),\nIF(AND(AS$9<>\"\",$H$3=\"実績\"),INDIRECT(\"'\"&$D23&\"　\"&$E23&\"'!C\"&AT$1),\n\"\")),\"\")","v":""},{"$f":"IFERROR(IF(IF(AND(AS$9<>\"\",$H$3=\"計画\"),INDIRECT(\"'\"&$D23&\"　\"&$E23&\"'!B\"&AU$1),\nIF(AND(AS$9<>\"\",$H$3=\"実績\"),INDIRECT(\"'\"&$D23&\"　\"&$E23&\"'!C\"&AU$1),\n\"\"))=\"対象外\",\"対象外\",AS23/AT23),\"\")","v":""},{"$f":"IFERROR(IF(AND(AV$9<>\"\",$H$3=\"計画\"),INDIRECT(\"'\"&$D23&\"　\"&$E23&\"'!B\"&AV$1),\nIF(AND(AV$9<>\"\",$H$3=\"実績\"),INDIRECT(\"'\"&$D23&\"　\"&$E23&\"'!C\"&AV$1),\n\"\")),\"\")","v":""},{"$f":"IFERROR(IF(AND(AV$9<>\"\",$H$3=\"計画\"),INDIRECT(\"'\"&$D23&\"　\"&$E23&\"'!B\"&AW$1),\nIF(AND(AV$9<>\"\",$H$3=\"実績\"),INDIRECT(\"'\"&$D23&\"　\"&$E23&\"'!C\"&AW$1),\n\"\")),\"\")","v":""},{"$f":"IFERROR(IF(IF(AND(AV$9<>\"\",$H$3=\"計画\"),INDIRECT(\"'\"&$D23&\"　\"&$E23&\"'!B\"&AX$1),\nIF(AND(AV$9<>\"\",$H$3=\"実績\"),INDIRECT(\"'\"&$D23&\"　\"&$E23&\"'!C\"&AX$1),\n\"\"))=\"対象外\",\"対象外\",AV23/AW23),\"\")","v":""},{"$f":"IFERROR(IF(AND(AY$9<>\"\",$H$3=\"計画\"),INDIRECT(\"'\"&$D23&\"　\"&$E23&\"'!B\"&AY$1),\nIF(AND(AY$9<>\"\",$H$3=\"実績\"),INDIRECT(\"'\"&$D23&\"　\"&$E23&\"'!C\"&AY$1),\n\"\")),\"\")","v":""},{"$f":"IFERROR(IF(AND(AY$9<>\"\",$H$3=\"計画\"),INDIRECT(\"'\"&$D23&\"　\"&$E23&\"'!B\"&AZ$1),\nIF(AND(AY$9<>\"\",$H$3=\"実績\"),INDIRECT(\"'\"&$D23&\"　\"&$E23&\"'!C\"&AZ$1),\n\"\")),\"\")","v":""},{"$f":"IFERROR(IF(IF(AND(AY$9<>\"\",$H$3=\"計画\"),INDIRECT(\"'\"&$D23&\"　\"&$E23&\"'!B\"&BA$1),\nIF(AND(AY$9<>\"\",$H$3=\"実績\"),INDIRECT(\"'\"&$D23&\"　\"&$E23&\"'!C\"&BA$1),\n\"\"))=\"対象外\",\"対象外\",AY23/AZ23),\"\")","v":""},{"$f":"IFERROR(IF(AND(BB$9<>\"\",$H$3=\"計画\"),INDIRECT(\"'\"&$D23&\"　\"&$E23&\"'!B\"&BB$1),\nIF(AND(BB$9<>\"\",$H$3=\"実績\"),INDIRECT(\"'\"&$D23&\"　\"&$E23&\"'!C\"&BB$1),\n\"\")),\"\")","v":""},{"$f":"IFERROR(IF(AND(BB$9<>\"\",$H$3=\"計画\"),INDIRECT(\"'\"&$D23&\"　\"&$E23&\"'!B\"&BC$1),\nIF(AND(BB$9<>\"\",$H$3=\"実績\"),INDIRECT(\"'\"&$D23&\"　\"&$E23&\"'!C\"&BC$1),\n\"\")),\"\")","v":""},{"$f":"IFERROR(IF(IF(AND(BB$9<>\"\",$H$3=\"計画\"),INDIRECT(\"'\"&$D23&\"　\"&$E23&\"'!B\"&BD$1),\nIF(AND(BB$9<>\"\",$H$3=\"実績\"),INDIRECT(\"'\"&$D23&\"　\"&$E23&\"'!C\"&BD$1),\n\"\"))=\"対象外\",\"対象外\",BB23/BC23),\"\")","v":""},{"$f":"IFERROR(IF(AND(BE$9<>\"\",$H$3=\"計画\"),INDIRECT(\"'\"&$D23&\"　\"&$E23&\"'!B\"&BE$1),\nIF(AND(BE$9<>\"\",$H$3=\"実績\"),INDIRECT(\"'\"&$D23&\"　\"&$E23&\"'!C\"&BE$1),\n\"\")),\"\")","v":""},{"$f":"IFERROR(IF(AND(BE$9<>\"\",$H$3=\"計画\"),INDIRECT(\"'\"&$D23&\"　\"&$E23&\"'!B\"&BF$1),\nIF(AND(BE$9<>\"\",$H$3=\"実績\"),INDIRECT(\"'\"&$D23&\"　\"&$E23&\"'!C\"&BF$1),\n\"\")),\"\")","v":""},{"$f":"IFERROR(IF(IF(AND(BE$9<>\"\",$H$3=\"計画\"),INDIRECT(\"'\"&$D23&\"　\"&$E23&\"'!B\"&BG$1),\nIF(AND(BE$9<>\"\",$H$3=\"実績\"),INDIRECT(\"'\"&$D23&\"　\"&$E23&\"'!C\"&BG$1),\n\"\"))=\"対象外\",\"対象外\",BE23/BF23),\"\")","v":""},{"$f":"IFERROR(IF(AND(BH$9<>\"\",$H$3=\"計画\"),INDIRECT(\"'\"&$D23&\"　\"&$E23&\"'!B\"&BH$1),\nIF(AND(BH$9<>\"\",$H$3=\"実績\"),INDIRECT(\"'\"&$D23&\"　\"&$E23&\"'!C\"&BH$1),\n\"\")),\"\")","v":""},{"$f":"IFERROR(IF(AND(BH$9<>\"\",$H$3=\"計画\"),INDIRECT(\"'\"&$D23&\"　\"&$E23&\"'!B\"&BI$1),\nIF(AND(BH$9<>\"\",$H$3=\"実績\"),INDIRECT(\"'\"&$D23&\"　\"&$E23&\"'!C\"&BI$1),\n\"\")),\"\")","v":""},{"$f":"IFERROR(IF(IF(AND(BH$9<>\"\",$H$3=\"計画\"),INDIRECT(\"'\"&$D23&\"　\"&$E23&\"'!B\"&BJ$1),\nIF(AND(BH$9<>\"\",$H$3=\"実績\"),INDIRECT(\"'\"&$D23&\"　\"&$E23&\"'!C\"&BJ$1),\n\"\"))=\"対象外\",\"対象外\",BH23/BI23),\"\")","v":""},{"$f":"IFERROR(IF(AND(BK$9<>\"\",$H$3=\"計画\"),INDIRECT(\"'\"&$D23&\"　\"&$E23&\"'!B\"&BK$1),\nIF(AND(BK$9<>\"\",$H$3=\"実績\"),INDIRECT(\"'\"&$D23&\"　\"&$E23&\"'!C\"&BK$1),\n\"\")),\"\")","v":""},{"$f":"IFERROR(IF(AND(BK$9<>\"\",$H$3=\"計画\"),INDIRECT(\"'\"&$D23&\"　\"&$E23&\"'!B\"&BL$1),\nIF(AND(BK$9<>\"\",$H$3=\"実績\"),INDIRECT(\"'\"&$D23&\"　\"&$E23&\"'!C\"&BL$1),\n\"\")),\"\")","v":""},{"$f":"IFERROR(IF(IF(AND(BK$9<>\"\",$H$3=\"計画\"),INDIRECT(\"'\"&$D23&\"　\"&$E23&\"'!B\"&BM$1),\nIF(AND(BK$9<>\"\",$H$3=\"実績\"),INDIRECT(\"'\"&$D23&\"　\"&$E23&\"'!C\"&BM$1),\n\"\"))=\"対象外\",\"対象外\",BK23/BL23),\"\")","v":""},{"$f":"IFERROR(IF(AND(BN$9<>\"\",$H$3=\"計画\"),INDIRECT(\"'\"&$D23&\"　\"&$E23&\"'!B\"&BN$1),\nIF(AND(BN$9<>\"\",$H$3=\"実績\"),INDIRECT(\"'\"&$D23&\"　\"&$E23&\"'!C\"&BN$1),\n\"\")),\"\")","v":""},{"$f":"IFERROR(IF(AND(BN$9<>\"\",$H$3=\"計画\"),INDIRECT(\"'\"&$D23&\"　\"&$E23&\"'!B\"&BO$1),\nIF(AND(BN$9<>\"\",$H$3=\"実績\"),INDIRECT(\"'\"&$D23&\"　\"&$E23&\"'!C\"&BO$1),\n\"\")),\"\")","v":""},{"$f":"IFERROR(IF(IF(AND(BN$9<>\"\",$H$3=\"計画\"),INDIRECT(\"'\"&$D23&\"　\"&$E23&\"'!B\"&BP$1),\nIF(AND(BN$9<>\"\",$H$3=\"実績\"),INDIRECT(\"'\"&$D23&\"　\"&$E23&\"'!C\"&BP$1),\n\"\"))=\"対象外\",\"対象外\",BN23/BO23),\"\")","v":""},{"$f":"IFERROR(IF(AND(BQ$9<>\"\",$H$3=\"計画\"),INDIRECT(\"'\"&$D23&\"　\"&$E23&\"'!B\"&BQ$1),\nIF(AND(BQ$9<>\"\",$H$3=\"実績\"),INDIRECT(\"'\"&$D23&\"　\"&$E23&\"'!C\"&BQ$1),\n\"\")),\"\")","v":""},{"$f":"IFERROR(IF(AND(BQ$9<>\"\",$H$3=\"計画\"),INDIRECT(\"'\"&$D23&\"　\"&$E23&\"'!B\"&BR$1),\nIF(AND(BQ$9<>\"\",$H$3=\"実績\"),INDIRECT(\"'\"&$D23&\"　\"&$E23&\"'!C\"&BR$1),\n\"\")),\"\")","v":""},{"$f":"IFERROR(IF(IF(AND(BQ$9<>\"\",$H$3=\"計画\"),INDIRECT(\"'\"&$D23&\"　\"&$E23&\"'!B\"&BS$1),\nIF(AND(BQ$9<>\"\",$H$3=\"実績\"),INDIRECT(\"'\"&$D23&\"　\"&$E23&\"'!C\"&BS$1),\n\"\"))=\"対象外\",\"対象外\",BQ23/BR23),\"\")","v":""},{"$f":"IFERROR(IF(AND(BT$9<>\"\",$H$3=\"計画\"),INDIRECT(\"'\"&$D23&\"　\"&$E23&\"'!B\"&BT$1),\nIF(AND(BT$9<>\"\",$H$3=\"実績\"),INDIRECT(\"'\"&$D23&\"　\"&$E23&\"'!C\"&BT$1),\n\"\")),\"\")","v":""},{"$f":"IFERROR(IF(AND(BT$9<>\"\",$H$3=\"計画\"),INDIRECT(\"'\"&$D23&\"　\"&$E23&\"'!B\"&BU$1),\nIF(AND(BT$9<>\"\",$H$3=\"実績\"),INDIRECT(\"'\"&$D23&\"　\"&$E23&\"'!C\"&BU$1),\n\"\")),\"\")","v":""},{"$f":"IFERROR(IF(IF(AND(BT$9<>\"\",$H$3=\"計画\"),INDIRECT(\"'\"&$D23&\"　\"&$E23&\"'!B\"&BV$1),\nIF(AND(BT$9<>\"\",$H$3=\"実績\"),INDIRECT(\"'\"&$D23&\"　\"&$E23&\"'!C\"&BV$1),\n\"\"))=\"対象外\",\"対象外\",BT23/BU23),\"\")","v":""},{"$f":"IFERROR(IF(AND(BW$9<>\"\",$H$3=\"計画\"),INDIRECT(\"'\"&$D23&\"　\"&$E23&\"'!B\"&BW$1),\nIF(AND(BW$9<>\"\",$H$3=\"実績\"),INDIRECT(\"'\"&$D23&\"　\"&$E23&\"'!C\"&BW$1),\n\"\")),\"\")","v":""},{"$f":"IFERROR(IF(AND(BW$9<>\"\",$H$3=\"計画\"),INDIRECT(\"'\"&$D23&\"　\"&$E23&\"'!B\"&BX$1),\nIF(AND(BW$9<>\"\",$H$3=\"実績\"),INDIRECT(\"'\"&$D23&\"　\"&$E23&\"'!C\"&BX$1),\n\"\")),\"\")","v":""},{"$f":"IFERROR(IF(IF(AND(BW$9<>\"\",$H$3=\"計画\"),INDIRECT(\"'\"&$D23&\"　\"&$E23&\"'!B\"&BY$1),\nIF(AND(BW$9<>\"\",$H$3=\"実績\"),INDIRECT(\"'\"&$D23&\"　\"&$E23&\"'!C\"&BY$1),\n\"\"))=\"対象外\",\"対象外\",BW23/BX23),\"\")","v":""},{"$f":"IFERROR(IF(AND(BZ$9<>\"\",$H$3=\"計画\"),INDIRECT(\"'\"&$D23&\"　\"&$E23&\"'!B\"&BZ$1),\nIF(AND(BZ$9<>\"\",$H$3=\"実績\"),INDIRECT(\"'\"&$D23&\"　\"&$E23&\"'!C\"&BZ$1),\n\"\")),\"\")","v":""},{"$f":"IFERROR(IF(AND(BZ$9<>\"\",$H$3=\"計画\"),INDIRECT(\"'\"&$D23&\"　\"&$E23&\"'!B\"&CA$1),\nIF(AND(BZ$9<>\"\",$H$3=\"実績\"),INDIRECT(\"'\"&$D23&\"　\"&$E23&\"'!C\"&CA$1),\n\"\")),\"\")","v":""},{"$f":"IFERROR(IF(IF(AND(BZ$9<>\"\",$H$3=\"計画\"),INDIRECT(\"'\"&$D23&\"　\"&$E23&\"'!B\"&CB$1),\nIF(AND(BZ$9<>\"\",$H$3=\"実績\"),INDIRECT(\"'\"&$D23&\"　\"&$E23&\"'!C\"&CB$1),\n\"\"))=\"対象外\",\"対象外\",BZ23/CA23),\"\")","v":""},{"$f":"IFERROR(IF(AND(CC$9<>\"\",$H$3=\"計画\"),INDIRECT(\"'\"&$D23&\"　\"&$E23&\"'!B\"&CC$1),\nIF(AND(CC$9<>\"\",$H$3=\"実績\"),INDIRECT(\"'\"&$D23&\"　\"&$E23&\"'!C\"&CC$1),\n\"\")),\"\")","v":""},{"$f":"IFERROR(IF(AND(CC$9<>\"\",$H$3=\"計画\"),INDIRECT(\"'\"&$D23&\"　\"&$E23&\"'!B\"&CD$1),\nIF(AND(CC$9<>\"\",$H$3=\"実績\"),INDIRECT(\"'\"&$D23&\"　\"&$E23&\"'!C\"&CD$1),\n\"\")),\"\")","v":""},{"$f":"IFERROR(IF(IF(AND(CC$9<>\"\",$H$3=\"計画\"),INDIRECT(\"'\"&$D23&\"　\"&$E23&\"'!B\"&CE$1),\nIF(AND(CC$9<>\"\",$H$3=\"実績\"),INDIRECT(\"'\"&$D23&\"　\"&$E23&\"'!C\"&CE$1),\n\"\"))=\"対象外\",\"対象外\",CC23/CD23),\"\")","v":""},{"$f":"IFERROR(IF(AND(CF$9<>\"\",$H$3=\"計画\"),INDIRECT(\"'\"&$D23&\"　\"&$E23&\"'!B\"&CF$1),\nIF(AND(CF$9<>\"\",$H$3=\"実績\"),INDIRECT(\"'\"&$D23&\"　\"&$E23&\"'!C\"&CF$1),\n\"\")),\"\")","v":""},{"$f":"IFERROR(IF(AND(CF$9<>\"\",$H$3=\"計画\"),INDIRECT(\"'\"&$D23&\"　\"&$E23&\"'!B\"&CG$1),\nIF(AND(CF$9<>\"\",$H$3=\"実績\"),INDIRECT(\"'\"&$D23&\"　\"&$E23&\"'!C\"&CG$1),\n\"\")),\"\")","v":""},{"$f":"IFERROR(IF(IF(AND(CF$9<>\"\",$H$3=\"計画\"),INDIRECT(\"'\"&$D23&\"　\"&$E23&\"'!B\"&CH$1),\nIF(AND(CF$9<>\"\",$H$3=\"実績\"),INDIRECT(\"'\"&$D23&\"　\"&$E23&\"'!C\"&CH$1),\n\"\"))=\"対象外\",\"対象外\",CF23/CG23),\"\")","v":""},{"$f":"IFERROR(IF(AND(CI$9<>\"\",$H$3=\"計画\"),INDIRECT(\"'\"&$D23&\"　\"&$E23&\"'!B\"&CI$1),\nIF(AND(CI$9<>\"\",$H$3=\"実績\"),INDIRECT(\"'\"&$D23&\"　\"&$E23&\"'!C\"&CI$1),\n\"\")),\"\")","v":""},{"$f":"IFERROR(IF(AND(CI$9<>\"\",$H$3=\"計画\"),INDIRECT(\"'\"&$D23&\"　\"&$E23&\"'!B\"&CJ$1),\nIF(AND(CI$9<>\"\",$H$3=\"実績\"),INDIRECT(\"'\"&$D23&\"　\"&$E23&\"'!C\"&CJ$1),\n\"\")),\"\")","v":""},{"$f":"IFERROR(IF(IF(AND(CI$9<>\"\",$H$3=\"計画\"),INDIRECT(\"'\"&$D23&\"　\"&$E23&\"'!B\"&CK$1),\nIF(AND(CI$9<>\"\",$H$3=\"実績\"),INDIRECT(\"'\"&$D23&\"　\"&$E23&\"'!C\"&CK$1),\n\"\"))=\"対象外\",\"対象外\",CI23/CJ23),\"\")","v":""},{"$f":"IFERROR(IF(AND(CL$9<>\"\",$H$3=\"計画\"),INDIRECT(\"'\"&$D23&\"　\"&$E23&\"'!B\"&CL$1),\nIF(AND(CL$9<>\"\",$H$3=\"実績\"),INDIRECT(\"'\"&$D23&\"　\"&$E23&\"'!C\"&CL$1),\n\"\")),\"\")","v":""},{"$f":"IFERROR(IF(AND(CL$9<>\"\",$H$3=\"計画\"),INDIRECT(\"'\"&$D23&\"　\"&$E23&\"'!B\"&CM$1),\nIF(AND(CL$9<>\"\",$H$3=\"実績\"),INDIRECT(\"'\"&$D23&\"　\"&$E23&\"'!C\"&CM$1),\n\"\")),\"\")","v":""},{"$f":"IFERROR(IF(IF(AND(CL$9<>\"\",$H$3=\"計画\"),INDIRECT(\"'\"&$D23&\"　\"&$E23&\"'!B\"&CN$1),\nIF(AND(CL$9<>\"\",$H$3=\"実績\"),INDIRECT(\"'\"&$D23&\"　\"&$E23&\"'!C\"&CN$1),\n\"\"))=\"対象外\",\"対象外\",CL23/CM23),\"\")","v":""},{"$f":"IFERROR(IF(AND(CO$9<>\"\",$H$3=\"計画\"),INDIRECT(\"'\"&$D23&\"　\"&$E23&\"'!B\"&CO$1),\nIF(AND(CO$9<>\"\",$H$3=\"実績\"),INDIRECT(\"'\"&$D23&\"　\"&$E23&\"'!C\"&CO$1),\n\"\")),\"\")","v":""},{"$f":"IFERROR(IF(AND(CO$9<>\"\",$H$3=\"計画\"),INDIRECT(\"'\"&$D23&\"　\"&$E23&\"'!B\"&CP$1),\nIF(AND(CO$9<>\"\",$H$3=\"実績\"),INDIRECT(\"'\"&$D23&\"　\"&$E23&\"'!C\"&CP$1),\n\"\")),\"\")","v":""},{"$f":"IFERROR(IF(IF(AND(CO$9<>\"\",$H$3=\"計画\"),INDIRECT(\"'\"&$D23&\"　\"&$E23&\"'!B\"&CQ$1),\nIF(AND(CO$9<>\"\",$H$3=\"実績\"),INDIRECT(\"'\"&$D23&\"　\"&$E23&\"'!C\"&CQ$1),\n\"\"))=\"対象外\",\"対象外\",CO23/CP23),\"\")","v":""},{"$f":"IFERROR(IF(AND(CR$9<>\"\",$H$3=\"計画\"),INDIRECT(\"'\"&$D23&\"　\"&$E23&\"'!B\"&CR$1),\nIF(AND(CR$9<>\"\",$H$3=\"実績\"),INDIRECT(\"'\"&$D23&\"　\"&$E23&\"'!C\"&CR$1),\n\"\")),\"\")","v":""},{"$f":"IFERROR(IF(AND(CR$9<>\"\",$H$3=\"計画\"),INDIRECT(\"'\"&$D23&\"　\"&$E23&\"'!B\"&CS$1),\nIF(AND(CR$9<>\"\",$H$3=\"実績\"),INDIRECT(\"'\"&$D23&\"　\"&$E23&\"'!C\"&CS$1),\n\"\")),\"\")","v":""},{"$f":"IFERROR(IF(IF(AND(CR$9<>\"\",$H$3=\"計画\"),INDIRECT(\"'\"&$D23&\"　\"&$E23&\"'!B\"&CT$1),\nIF(AND(CR$9<>\"\",$H$3=\"実績\"),INDIRECT(\"'\"&$D23&\"　\"&$E23&\"'!C\"&CT$1),\n\"\"))=\"対象外\",\"対象外\",CR23/CS23),\"\")","v":""},{"$f":"IFERROR(IF(AND(CU$9<>\"\",$H$3=\"計画\"),INDIRECT(\"'\"&$D23&\"　\"&$E23&\"'!B\"&CU$1),\nIF(AND(CU$9<>\"\",$H$3=\"実績\"),INDIRECT(\"'\"&$D23&\"　\"&$E23&\"'!C\"&CU$1),\n\"\")),\"\")","v":""},{"$f":"IFERROR(IF(AND(CU$9<>\"\",$H$3=\"計画\"),INDIRECT(\"'\"&$D23&\"　\"&$E23&\"'!B\"&CV$1),\nIF(AND(CU$9<>\"\",$H$3=\"実績\"),INDIRECT(\"'\"&$D23&\"　\"&$E23&\"'!C\"&CV$1),\n\"\")),\"\")","v":""},{"$f":"IFERROR(IF(IF(AND(CU$9<>\"\",$H$3=\"計画\"),INDIRECT(\"'\"&$D23&\"　\"&$E23&\"'!B\"&CW$1),\nIF(AND(CU$9<>\"\",$H$3=\"実績\"),INDIRECT(\"'\"&$D23&\"　\"&$E23&\"'!C\"&CW$1),\n\"\"))=\"対象外\",\"対象外\",CU23/CV23),\"\")","v":""},{"$f":"IFERROR(IF(AND(CX$9<>\"\",$H$3=\"計画\"),INDIRECT(\"'\"&$D23&\"　\"&$E23&\"'!B\"&CX$1),\nIF(AND(CX$9<>\"\",$H$3=\"実績\"),INDIRECT(\"'\"&$D23&\"　\"&$E23&\"'!C\"&CX$1),\n\"\")),\"\")","v":""},{"$f":"IFERROR(IF(AND(CX$9<>\"\",$H$3=\"計画\"),INDIRECT(\"'\"&$D23&\"　\"&$E23&\"'!B\"&CY$1),\nIF(AND(CX$9<>\"\",$H$3=\"実績\"),INDIRECT(\"'\"&$D23&\"　\"&$E23&\"'!C\"&CY$1),\n\"\")),\"\")","v":""},{"$f":"IFERROR(IF(IF(AND(CX$9<>\"\",$H$3=\"計画\"),INDIRECT(\"'\"&$D23&\"　\"&$E23&\"'!B\"&CZ$1),\nIF(AND(CX$9<>\"\",$H$3=\"実績\"),INDIRECT(\"'\"&$D23&\"　\"&$E23&\"'!C\"&CZ$1),\n\"\"))=\"対象外\",\"対象外\",CX23/CY23),\"\")","v":""},{"$f":"IFERROR(IF(AND(DA$9<>\"\",$H$3=\"計画\"),INDIRECT(\"'\"&$D23&\"　\"&$E23&\"'!B\"&DA$1),\nIF(AND(DA$9<>\"\",$H$3=\"実績\"),INDIRECT(\"'\"&$D23&\"　\"&$E23&\"'!C\"&DA$1),\n\"\")),\"\")","v":""},{"$f":"IFERROR(IF(AND(DA$9<>\"\",$H$3=\"計画\"),INDIRECT(\"'\"&$D23&\"　\"&$E23&\"'!B\"&DB$1),\nIF(AND(DA$9<>\"\",$H$3=\"実績\"),INDIRECT(\"'\"&$D23&\"　\"&$E23&\"'!C\"&DB$1),\n\"\")),\"\")","v":""},{"$f":"IFERROR(IF(IF(AND(DA$9<>\"\",$H$3=\"計画\"),INDIRECT(\"'\"&$D23&\"　\"&$E23&\"'!B\"&DC$1),\nIF(AND(DA$9<>\"\",$H$3=\"実績\"),INDIRECT(\"'\"&$D23&\"　\"&$E23&\"'!C\"&DC$1),\n\"\"))=\"対象外\",\"対象外\",DA23/DB23),\"\")","v":""},{"$f":"IFERROR(IF(AND(DD$9<>\"\",$H$3=\"計画\"),INDIRECT(\"'\"&$D23&\"　\"&$E23&\"'!B\"&DD$1),\nIF(AND(DD$9<>\"\",$H$3=\"実績\"),INDIRECT(\"'\"&$D23&\"　\"&$E23&\"'!C\"&DD$1),\n\"\")),\"\")","v":""},{"$f":"IFERROR(IF(AND(DD$9<>\"\",$H$3=\"計画\"),INDIRECT(\"'\"&$D23&\"　\"&$E23&\"'!B\"&DE$1),\nIF(AND(DD$9<>\"\",$H$3=\"実績\"),INDIRECT(\"'\"&$D23&\"　\"&$E23&\"'!C\"&DE$1),\n\"\")),\"\")","v":""},{"$f":"IFERROR(IF(IF(AND(DD$9<>\"\",$H$3=\"計画\"),INDIRECT(\"'\"&$D23&\"　\"&$E23&\"'!B\"&DF$1),\nIF(AND(DD$9<>\"\",$H$3=\"実績\"),INDIRECT(\"'\"&$D23&\"　\"&$E23&\"'!C\"&DF$1),\n\"\"))=\"対象外\",\"対象外\",DD23/DE23),\"\")","v":""},{"$f":"IFERROR(IF(AND(DG$9<>\"\",$H$3=\"計画\"),INDIRECT(\"'\"&$D23&\"　\"&$E23&\"'!B\"&DG$1),\nIF(AND(DG$9<>\"\",$H$3=\"実績\"),INDIRECT(\"'\"&$D23&\"　\"&$E23&\"'!C\"&DG$1),\n\"\")),\"\")","v":""},{"$f":"IFERROR(IF(AND(DG$9<>\"\",$H$3=\"計画\"),INDIRECT(\"'\"&$D23&\"　\"&$E23&\"'!B\"&DH$1),\nIF(AND(DG$9<>\"\",$H$3=\"実績\"),INDIRECT(\"'\"&$D23&\"　\"&$E23&\"'!C\"&DH$1),\n\"\")),\"\")","v":""},{"$f":"IFERROR(IF(IF(AND(DG$9<>\"\",$H$3=\"計画\"),INDIRECT(\"'\"&$D23&\"　\"&$E23&\"'!B\"&DI$1),\nIF(AND(DG$9<>\"\",$H$3=\"実績\"),INDIRECT(\"'\"&$D23&\"　\"&$E23&\"'!C\"&DI$1),\n\"\"))=\"対象外\",\"対象外\",DG23/DH23),\"\")","v":""},{"$f":"IFERROR(IF(AND(DJ$9<>\"\",$H$3=\"計画\"),INDIRECT(\"'\"&$D23&\"　\"&$E23&\"'!B\"&DJ$1),\nIF(AND(DJ$9<>\"\",$H$3=\"実績\"),INDIRECT(\"'\"&$D23&\"　\"&$E23&\"'!C\"&DJ$1),\n\"\")),\"\")","v":""},{"$f":"IFERROR(IF(AND(DJ$9<>\"\",$H$3=\"計画\"),INDIRECT(\"'\"&$D23&\"　\"&$E23&\"'!B\"&DK$1),\nIF(AND(DJ$9<>\"\",$H$3=\"実績\"),INDIRECT(\"'\"&$D23&\"　\"&$E23&\"'!C\"&DK$1),\n\"\")),\"\")","v":""},{"$f":"IFERROR(IF(IF(AND(DJ$9<>\"\",$H$3=\"計画\"),INDIRECT(\"'\"&$D23&\"　\"&$E23&\"'!B\"&DL$1),\nIF(AND(DJ$9<>\"\",$H$3=\"実績\"),INDIRECT(\"'\"&$D23&\"　\"&$E23&\"'!C\"&DL$1),\n\"\"))=\"対象外\",\"対象外\",DJ23/DK23),\"\")","v":""}]
[null,null,null,null,null,"","",{"$f":"IFERROR(IF(IF(H$3=\"計画\",INDIRECT(\"'\"&$D24&\"　\"&$E24&\"'!B\"&H$1),\nIF(H$3=\"実績\",INDIRECT(\"'\"&$D24&\"　\"&$E24&\"'!C\"&H$1),\n\"\"))>=28,F24/G24,\"対象外\"),\"\")","v":""},{"$f":"IFERROR(IF(AND(I$9<>\"\",$H$3=\"計画\"),INDIRECT(\"'\"&$D24&\"　\"&$E24&\"'!B\"&I$1),\nIF(AND(I$9<>\"\",$H$3=\"実績\"),INDIRECT(\"'\"&$D24&\"　\"&$E24&\"'!C\"&I$1),\n\"\")),\"\")","v":""},{"$f":"IFERROR(IF(AND(I$9<>\"\",$H$3=\"計画\"),INDIRECT(\"'\"&$D24&\"　\"&$E24&\"'!B\"&J$1),\nIF(AND(I$9<>\"\",$H$3=\"実績\"),INDIRECT(\"'\"&$D24&\"　\"&$E24&\"'!C\"&J$1),\n\"\")),\"\")","v":""},{"$f":"IFERROR(IF(IF(AND(I$9<>\"\",$H$3=\"計画\"),INDIRECT(\"'\"&$D24&\"　\"&$E24&\"'!B\"&K$1),\nIF(AND(I$9<>\"\",$H$3=\"実績\"),INDIRECT(\"'\"&$D24&\"　\"&$E24&\"'!C\"&K$1),\n\"\"))=\"対象外\",\"対象外\",I24/J24),\"\")","v":""},{"$f":"IFERROR(IF(AND(L$9<>\"\",$H$3=\"計画\"),INDIRECT(\"'\"&$D24&\"　\"&$E24&\"'!B\"&L$1),\nIF(AND(L$9<>\"\",$H$3=\"実績\"),INDIRECT(\"'\"&$D24&\"　\"&$E24&\"'!C\"&L$1),\n\"\")),\"\")","v":""},{"$f":"IFERROR(IF(AND(L$9<>\"\",$H$3=\"計画\"),INDIRECT(\"'\"&$D24&\"　\"&$E24&\"'!B\"&M$1),\nIF(AND(L$9<>\"\",$H$3=\"実績\"),INDIRECT(\"'\"&$D24&\"　\"&$E24&\"'!C\"&M$1),\n\"\")),\"\")","v":""},{"$f":"IFERROR(IF(IF(AND(L$9<>\"\",$H$3=\"計画\"),INDIRECT(\"'\"&$D24&\"　\"&$E24&\"'!B\"&N$1),\nIF(AND(L$9<>\"\",$H$3=\"実績\"),INDIRECT(\"'\"&$D24&\"　\"&$E24&\"'!C\"&N$1),\n\"\"))=\"対象外\",\"対象外\",L24/M24),\"\")","v":""},{"$f":"IFERROR(IF(AND(O$9<>\"\",$H$3=\"計画\"),INDIRECT(\"'\"&$D24&\"　\"&$E24&\"'!B\"&O$1),\nIF(AND(O$9<>\"\",$H$3=\"実績\"),INDIRECT(\"'\"&$D24&\"　\"&$E24&\"'!C\"&O$1),\n\"\")),\"\")","v":""},{"$f":"IFERROR(IF(AND(O$9<>\"\",$H$3=\"計画\"),INDIRECT(\"'\"&$D24&\"　\"&$E24&\"'!B\"&P$1),\nIF(AND(O$9<>\"\",$H$3=\"実績\"),INDIRECT(\"'\"&$D24&\"　\"&$E24&\"'!C\"&P$1),\n\"\")),\"\")","v":""},{"$f":"IFERROR(IF(IF(AND(O$9<>\"\",$H$3=\"計画\"),INDIRECT(\"'\"&$D24&\"　\"&$E24&\"'!B\"&Q$1),\nIF(AND(O$9<>\"\",$H$3=\"実績\"),INDIRECT(\"'\"&$D24&\"　\"&$E24&\"'!C\"&Q$1),\n\"\"))=\"対象外\",\"対象外\",O24/P24),\"\")","v":""},{"$f":"IFERROR(IF(AND(R$9<>\"\",$H$3=\"計画\"),INDIRECT(\"'\"&$D24&\"　\"&$E24&\"'!B\"&R$1),\nIF(AND(R$9<>\"\",$H$3=\"実績\"),INDIRECT(\"'\"&$D24&\"　\"&$E24&\"'!C\"&R$1),\n\"\")),\"\")","v":""},{"$f":"IFERROR(IF(AND(R$9<>\"\",$H$3=\"計画\"),INDIRECT(\"'\"&$D24&\"　\"&$E24&\"'!B\"&S$1),\nIF(AND(R$9<>\"\",$H$3=\"実績\"),INDIRECT(\"'\"&$D24&\"　\"&$E24&\"'!C\"&S$1),\n\"\")),\"\")","v":""},{"$f":"IFERROR(IF(IF(AND(R$9<>\"\",$H$3=\"計画\"),INDIRECT(\"'\"&$D24&\"　\"&$E24&\"'!B\"&T$1),\nIF(AND(R$9<>\"\",$H$3=\"実績\"),INDIRECT(\"'\"&$D24&\"　\"&$E24&\"'!C\"&T$1),\n\"\"))=\"対象外\",\"対象外\",R24/S24),\"\")","v":""},{"$f":"IFERROR(IF(AND(U$9<>\"\",$H$3=\"計画\"),INDIRECT(\"'\"&$D24&\"　\"&$E24&\"'!B\"&U$1),\nIF(AND(U$9<>\"\",$H$3=\"実績\"),INDIRECT(\"'\"&$D24&\"　\"&$E24&\"'!C\"&U$1),\n\"\")),\"\")","v":""},{"$f":"IFERROR(IF(AND(U$9<>\"\",$H$3=\"計画\"),INDIRECT(\"'\"&$D24&\"　\"&$E24&\"'!B\"&V$1),\nIF(AND(U$9<>\"\",$H$3=\"実績\"),INDIRECT(\"'\"&$D24&\"　\"&$E24&\"'!C\"&V$1),\n\"\")),\"\")","v":""},{"$f":"IFERROR(IF(IF(AND(U$9<>\"\",$H$3=\"計画\"),INDIRECT(\"'\"&$D24&\"　\"&$E24&\"'!B\"&W$1),\nIF(AND(U$9<>\"\",$H$3=\"実績\"),INDIRECT(\"'\"&$D24&\"　\"&$E24&\"'!C\"&W$1),\n\"\"))=\"対象外\",\"対象外\",U24/V24),\"\")","v":""},{"$f":"IFERROR(IF(AND(X$9<>\"\",$H$3=\"計画\"),INDIRECT(\"'\"&$D24&\"　\"&$E24&\"'!B\"&X$1),\nIF(AND(X$9<>\"\",$H$3=\"実績\"),INDIRECT(\"'\"&$D24&\"　\"&$E24&\"'!C\"&X$1),\n\"\")),\"\")","v":""},{"$f":"IFERROR(IF(AND(X$9<>\"\",$H$3=\"計画\"),INDIRECT(\"'\"&$D24&\"　\"&$E24&\"'!B\"&Y$1),\nIF(AND(X$9<>\"\",$H$3=\"実績\"),INDIRECT(\"'\"&$D24&\"　\"&$E24&\"'!C\"&Y$1),\n\"\")),\"\")","v":""},{"$f":"IFERROR(IF(IF(AND(X$9<>\"\",$H$3=\"計画\"),INDIRECT(\"'\"&$D24&\"　\"&$E24&\"'!B\"&Z$1),\nIF(AND(X$9<>\"\",$H$3=\"実績\"),INDIRECT(\"'\"&$D24&\"　\"&$E24&\"'!C\"&Z$1),\n\"\"))=\"対象外\",\"対象外\",X24/Y24),\"\")","v":""},{"$f":"IFERROR(IF(AND(AA$9<>\"\",$H$3=\"計画\"),INDIRECT(\"'\"&$D24&\"　\"&$E24&\"'!B\"&AA$1),\nIF(AND(AA$9<>\"\",$H$3=\"実績\"),INDIRECT(\"'\"&$D24&\"　\"&$E24&\"'!C\"&AA$1),\n\"\")),\"\")","v":""},{"$f":"IFERROR(IF(AND(AA$9<>\"\",$H$3=\"計画\"),INDIRECT(\"'\"&$D24&\"　\"&$E24&\"'!B\"&AB$1),\nIF(AND(AA$9<>\"\",$H$3=\"実績\"),INDIRECT(\"'\"&$D24&\"　\"&$E24&\"'!C\"&AB$1),\n\"\")),\"\")","v":""},{"$f":"IFERROR(IF(IF(AND(AA$9<>\"\",$H$3=\"計画\"),INDIRECT(\"'\"&$D24&\"　\"&$E24&\"'!B\"&AC$1),\nIF(AND(AA$9<>\"\",$H$3=\"実績\"),INDIRECT(\"'\"&$D24&\"　\"&$E24&\"'!C\"&AC$1),\n\"\"))=\"対象外\",\"対象外\",AA24/AB24),\"\")","v":""},{"$f":"IFERROR(IF(AND(AD$9<>\"\",$H$3=\"計画\"),INDIRECT(\"'\"&$D24&\"　\"&$E24&\"'!B\"&AD$1),\nIF(AND(AD$9<>\"\",$H$3=\"実績\"),INDIRECT(\"'\"&$D24&\"　\"&$E24&\"'!C\"&AD$1),\n\"\")),\"\")","v":""},{"$f":"IFERROR(IF(AND(AD$9<>\"\",$H$3=\"計画\"),INDIRECT(\"'\"&$D24&\"　\"&$E24&\"'!B\"&AE$1),\nIF(AND(AD$9<>\"\",$H$3=\"実績\"),INDIRECT(\"'\"&$D24&\"　\"&$E24&\"'!C\"&AE$1),\n\"\")),\"\")","v":""},{"$f":"IFERROR(IF(IF(AND(AD$9<>\"\",$H$3=\"計画\"),INDIRECT(\"'\"&$D24&\"　\"&$E24&\"'!B\"&AF$1),\nIF(AND(AD$9<>\"\",$H$3=\"実績\"),INDIRECT(\"'\"&$D24&\"　\"&$E24&\"'!C\"&AF$1),\n\"\"))=\"対象外\",\"対象外\",AD24/AE24),\"\")","v":""},{"$f":"IFERROR(IF(AND(AG$9<>\"\",$H$3=\"計画\"),INDIRECT(\"'\"&$D24&\"　\"&$E24&\"'!B\"&AG$1),\nIF(AND(AG$9<>\"\",$H$3=\"実績\"),INDIRECT(\"'\"&$D24&\"　\"&$E24&\"'!C\"&AG$1),\n\"\")),\"\")","v":""},{"$f":"IFERROR(IF(AND(AG$9<>\"\",$H$3=\"計画\"),INDIRECT(\"'\"&$D24&\"　\"&$E24&\"'!B\"&AH$1),\nIF(AND(AG$9<>\"\",$H$3=\"実績\"),INDIRECT(\"'\"&$D24&\"　\"&$E24&\"'!C\"&AH$1),\n\"\")),\"\")","v":""},{"$f":"IFERROR(IF(IF(AND(AG$9<>\"\",$H$3=\"計画\"),INDIRECT(\"'\"&$D24&\"　\"&$E24&\"'!B\"&AI$1),\nIF(AND(AG$9<>\"\",$H$3=\"実績\"),INDIRECT(\"'\"&$D24&\"　\"&$E24&\"'!C\"&AI$1),\n\"\"))=\"対象外\",\"対象外\",AG24/AH24),\"\")","v":""},{"$f":"IFERROR(IF(AND(AJ$9<>\"\",$H$3=\"計画\"),INDIRECT(\"'\"&$D24&\"　\"&$E24&\"'!B\"&AJ$1),\nIF(AND(AJ$9<>\"\",$H$3=\"実績\"),INDIRECT(\"'\"&$D24&\"　\"&$E24&\"'!C\"&AJ$1),\n\"\")),\"\")","v":""},{"$f":"IFERROR(IF(AND(AJ$9<>\"\",$H$3=\"計画\"),INDIRECT(\"'\"&$D24&\"　\"&$E24&\"'!B\"&AK$1),\nIF(AND(AJ$9<>\"\",$H$3=\"実績\"),INDIRECT(\"'\"&$D24&\"　\"&$E24&\"'!C\"&AK$1),\n\"\")),\"\")","v":""},{"$f":"IFERROR(IF(IF(AND(AJ$9<>\"\",$H$3=\"計画\"),INDIRECT(\"'\"&$D24&\"　\"&$E24&\"'!B\"&AL$1),\nIF(AND(AJ$9<>\"\",$H$3=\"実績\"),INDIRECT(\"'\"&$D24&\"　\"&$E24&\"'!C\"&AL$1),\n\"\"))=\"対象外\",\"対象外\",AJ24/AK24),\"\")","v":""},{"$f":"IFERROR(IF(AND(AM$9<>\"\",$H$3=\"計画\"),INDIRECT(\"'\"&$D24&\"　\"&$E24&\"'!B\"&AM$1),\nIF(AND(AM$9<>\"\",$H$3=\"実績\"),INDIRECT(\"'\"&$D24&\"　\"&$E24&\"'!C\"&AM$1),\n\"\")),\"\")","v":""},{"$f":"IFERROR(IF(AND(AM$9<>\"\",$H$3=\"計画\"),INDIRECT(\"'\"&$D24&\"　\"&$E24&\"'!B\"&AN$1),\nIF(AND(AM$9<>\"\",$H$3=\"実績\"),INDIRECT(\"'\"&$D24&\"　\"&$E24&\"'!C\"&AN$1),\n\"\")),\"\")","v":""},{"$f":"IFERROR(IF(IF(AND(AM$9<>\"\",$H$3=\"計画\"),INDIRECT(\"'\"&$D24&\"　\"&$E24&\"'!B\"&AO$1),\nIF(AND(AM$9<>\"\",$H$3=\"実績\"),INDIRECT(\"'\"&$D24&\"　\"&$E24&\"'!C\"&AO$1),\n\"\"))=\"対象外\",\"対象外\",AM24/AN24),\"\")","v":""},{"$f":"IFERROR(IF(AND(AP$9<>\"\",$H$3=\"計画\"),INDIRECT(\"'\"&$D24&\"　\"&$E24&\"'!B\"&AP$1),\nIF(AND(AP$9<>\"\",$H$3=\"実績\"),INDIRECT(\"'\"&$D24&\"　\"&$E24&\"'!C\"&AP$1),\n\"\")),\"\")","v":""},{"$f":"IFERROR(IF(AND(AP$9<>\"\",$H$3=\"計画\"),INDIRECT(\"'\"&$D24&\"　\"&$E24&\"'!B\"&AQ$1),\nIF(AND(AP$9<>\"\",$H$3=\"実績\"),INDIRECT(\"'\"&$D24&\"　\"&$E24&\"'!C\"&AQ$1),\n\"\")),\"\")","v":""},{"$f":"IFERROR(IF(IF(AND(AP$9<>\"\",$H$3=\"計画\"),INDIRECT(\"'\"&$D24&\"　\"&$E24&\"'!B\"&AR$1),\nIF(AND(AP$9<>\"\",$H$3=\"実績\"),INDIRECT(\"'\"&$D24&\"　\"&$E24&\"'!C\"&AR$1),\n\"\"))=\"対象外\",\"対象外\",AP24/AQ24),\"\")","v":""},{"$f":"IFERROR(IF(AND(AS$9<>\"\",$H$3=\"計画\"),INDIRECT(\"'\"&$D24&\"　\"&$E24&\"'!B\"&AS$1),\nIF(AND(AS$9<>\"\",$H$3=\"実績\"),INDIRECT(\"'\"&$D24&\"　\"&$E24&\"'!C\"&AS$1),\n\"\")),\"\")","v":""},{"$f":"IFERROR(IF(AND(AS$9<>\"\",$H$3=\"計画\"),INDIRECT(\"'\"&$D24&\"　\"&$E24&\"'!B\"&AT$1),\nIF(AND(AS$9<>\"\",$H$3=\"実績\"),INDIRECT(\"'\"&$D24&\"　\"&$E24&\"'!C\"&AT$1),\n\"\")),\"\")","v":""},{"$f":"IFERROR(IF(IF(AND(AS$9<>\"\",$H$3=\"計画\"),INDIRECT(\"'\"&$D24&\"　\"&$E24&\"'!B\"&AU$1),\nIF(AND(AS$9<>\"\",$H$3=\"実績\"),INDIRECT(\"'\"&$D24&\"　\"&$E24&\"'!C\"&AU$1),\n\"\"))=\"対象外\",\"対象外\",AS24/AT24),\"\")","v":""},{"$f":"IFERROR(IF(AND(AV$9<>\"\",$H$3=\"計画\"),INDIRECT(\"'\"&$D24&\"　\"&$E24&\"'!B\"&AV$1),\nIF(AND(AV$9<>\"\",$H$3=\"実績\"),INDIRECT(\"'\"&$D24&\"　\"&$E24&\"'!C\"&AV$1),\n\"\")),\"\")","v":""},{"$f":"IFERROR(IF(AND(AV$9<>\"\",$H$3=\"計画\"),INDIRECT(\"'\"&$D24&\"　\"&$E24&\"'!B\"&AW$1),\nIF(AND(AV$9<>\"\",$H$3=\"実績\"),INDIRECT(\"'\"&$D24&\"　\"&$E24&\"'!C\"&AW$1),\n\"\")),\"\")","v":""},{"$f":"IFERROR(IF(IF(AND(AV$9<>\"\",$H$3=\"計画\"),INDIRECT(\"'\"&$D24&\"　\"&$E24&\"'!B\"&AX$1),\nIF(AND(AV$9<>\"\",$H$3=\"実績\"),INDIRECT(\"'\"&$D24&\"　\"&$E24&\"'!C\"&AX$1),\n\"\"))=\"対象外\",\"対象外\",AV24/AW24),\"\")","v":""},{"$f":"IFERROR(IF(AND(AY$9<>\"\",$H$3=\"計画\"),INDIRECT(\"'\"&$D24&\"　\"&$E24&\"'!B\"&AY$1),\nIF(AND(AY$9<>\"\",$H$3=\"実績\"),INDIRECT(\"'\"&$D24&\"　\"&$E24&\"'!C\"&AY$1),\n\"\")),\"\")","v":""},{"$f":"IFERROR(IF(AND(AY$9<>\"\",$H$3=\"計画\"),INDIRECT(\"'\"&$D24&\"　\"&$E24&\"'!B\"&AZ$1),\nIF(AND(AY$9<>\"\",$H$3=\"実績\"),INDIRECT(\"'\"&$D24&\"　\"&$E24&\"'!C\"&AZ$1),\n\"\")),\"\")","v":""},{"$f":"IFERROR(IF(IF(AND(AY$9<>\"\",$H$3=\"計画\"),INDIRECT(\"'\"&$D24&\"　\"&$E24&\"'!B\"&BA$1),\nIF(AND(AY$9<>\"\",$H$3=\"実績\"),INDIRECT(\"'\"&$D24&\"　\"&$E24&\"'!C\"&BA$1),\n\"\"))=\"対象外\",\"対象外\",AY24/AZ24),\"\")","v":""},{"$f":"IFERROR(IF(AND(BB$9<>\"\",$H$3=\"計画\"),INDIRECT(\"'\"&$D24&\"　\"&$E24&\"'!B\"&BB$1),\nIF(AND(BB$9<>\"\",$H$3=\"実績\"),INDIRECT(\"'\"&$D24&\"　\"&$E24&\"'!C\"&BB$1),\n\"\")),\"\")","v":""},{"$f":"IFERROR(IF(AND(BB$9<>\"\",$H$3=\"計画\"),INDIRECT(\"'\"&$D24&\"　\"&$E24&\"'!B\"&BC$1),\nIF(AND(BB$9<>\"\",$H$3=\"実績\"),INDIRECT(\"'\"&$D24&\"　\"&$E24&\"'!C\"&BC$1),\n\"\")),\"\")","v":""},{"$f":"IFERROR(IF(IF(AND(BB$9<>\"\",$H$3=\"計画\"),INDIRECT(\"'\"&$D24&\"　\"&$E24&\"'!B\"&BD$1),\nIF(AND(BB$9<>\"\",$H$3=\"実績\"),INDIRECT(\"'\"&$D24&\"　\"&$E24&\"'!C\"&BD$1),\n\"\"))=\"対象外\",\"対象外\",BB24/BC24),\"\")","v":""},{"$f":"IFERROR(IF(AND(BE$9<>\"\",$H$3=\"計画\"),INDIRECT(\"'\"&$D24&\"　\"&$E24&\"'!B\"&BE$1),\nIF(AND(BE$9<>\"\",$H$3=\"実績\"),INDIRECT(\"'\"&$D24&\"　\"&$E24&\"'!C\"&BE$1),\n\"\")),\"\")","v":""},{"$f":"IFERROR(IF(AND(BE$9<>\"\",$H$3=\"計画\"),INDIRECT(\"'\"&$D24&\"　\"&$E24&\"'!B\"&BF$1),\nIF(AND(BE$9<>\"\",$H$3=\"実績\"),INDIRECT(\"'\"&$D24&\"　\"&$E24&\"'!C\"&BF$1),\n\"\")),\"\")","v":""},{"$f":"IFERROR(IF(IF(AND(BE$9<>\"\",$H$3=\"計画\"),INDIRECT(\"'\"&$D24&\"　\"&$E24&\"'!B\"&BG$1),\nIF(AND(BE$9<>\"\",$H$3=\"実績\"),INDIRECT(\"'\"&$D24&\"　\"&$E24&\"'!C\"&BG$1),\n\"\"))=\"対象外\",\"対象外\",BE24/BF24),\"\")","v":""},{"$f":"IFERROR(IF(AND(BH$9<>\"\",$H$3=\"計画\"),INDIRECT(\"'\"&$D24&\"　\"&$E24&\"'!B\"&BH$1),\nIF(AND(BH$9<>\"\",$H$3=\"実績\"),INDIRECT(\"'\"&$D24&\"　\"&$E24&\"'!C\"&BH$1),\n\"\")),\"\")","v":""},{"$f":"IFERROR(IF(AND(BH$9<>\"\",$H$3=\"計画\"),INDIRECT(\"'\"&$D24&\"　\"&$E24&\"'!B\"&BI$1),\nIF(AND(BH$9<>\"\",$H$3=\"実績\"),INDIRECT(\"'\"&$D24&\"　\"&$E24&\"'!C\"&BI$1),\n\"\")),\"\")","v":""},{"$f":"IFERROR(IF(IF(AND(BH$9<>\"\",$H$3=\"計画\"),INDIRECT(\"'\"&$D24&\"　\"&$E24&\"'!B\"&BJ$1),\nIF(AND(BH$9<>\"\",$H$3=\"実績\"),INDIRECT(\"'\"&$D24&\"　\"&$E24&\"'!C\"&BJ$1),\n\"\"))=\"対象外\",\"対象外\",BH24/BI24),\"\")","v":""},{"$f":"IFERROR(IF(AND(BK$9<>\"\",$H$3=\"計画\"),INDIRECT(\"'\"&$D24&\"　\"&$E24&\"'!B\"&BK$1),\nIF(AND(BK$9<>\"\",$H$3=\"実績\"),INDIRECT(\"'\"&$D24&\"　\"&$E24&\"'!C\"&BK$1),\n\"\")),\"\")","v":""},{"$f":"IFERROR(IF(AND(BK$9<>\"\",$H$3=\"計画\"),INDIRECT(\"'\"&$D24&\"　\"&$E24&\"'!B\"&BL$1),\nIF(AND(BK$9<>\"\",$H$3=\"実績\"),INDIRECT(\"'\"&$D24&\"　\"&$E24&\"'!C\"&BL$1),\n\"\")),\"\")","v":""},{"$f":"IFERROR(IF(IF(AND(BK$9<>\"\",$H$3=\"計画\"),INDIRECT(\"'\"&$D24&\"　\"&$E24&\"'!B\"&BM$1),\nIF(AND(BK$9<>\"\",$H$3=\"実績\"),INDIRECT(\"'\"&$D24&\"　\"&$E24&\"'!C\"&BM$1),\n\"\"))=\"対象外\",\"対象外\",BK24/BL24),\"\")","v":""},{"$f":"IFERROR(IF(AND(BN$9<>\"\",$H$3=\"計画\"),INDIRECT(\"'\"&$D24&\"　\"&$E24&\"'!B\"&BN$1),\nIF(AND(BN$9<>\"\",$H$3=\"実績\"),INDIRECT(\"'\"&$D24&\"　\"&$E24&\"'!C\"&BN$1),\n\"\")),\"\")","v":""},{"$f":"IFERROR(IF(AND(BN$9<>\"\",$H$3=\"計画\"),INDIRECT(\"'\"&$D24&\"　\"&$E24&\"'!B\"&BO$1),\nIF(AND(BN$9<>\"\",$H$3=\"実績\"),INDIRECT(\"'\"&$D24&\"　\"&$E24&\"'!C\"&BO$1),\n\"\")),\"\")","v":""},{"$f":"IFERROR(IF(IF(AND(BN$9<>\"\",$H$3=\"計画\"),INDIRECT(\"'\"&$D24&\"　\"&$E24&\"'!B\"&BP$1),\nIF(AND(BN$9<>\"\",$H$3=\"実績\"),INDIRECT(\"'\"&$D24&\"　\"&$E24&\"'!C\"&BP$1),\n\"\"))=\"対象外\",\"対象外\",BN24/BO24),\"\")","v":""},{"$f":"IFERROR(IF(AND(BQ$9<>\"\",$H$3=\"計画\"),INDIRECT(\"'\"&$D24&\"　\"&$E24&\"'!B\"&BQ$1),\nIF(AND(BQ$9<>\"\",$H$3=\"実績\"),INDIRECT(\"'\"&$D24&\"　\"&$E24&\"'!C\"&BQ$1),\n\"\")),\"\")","v":""},{"$f":"IFERROR(IF(AND(BQ$9<>\"\",$H$3=\"計画\"),INDIRECT(\"'\"&$D24&\"　\"&$E24&\"'!B\"&BR$1),\nIF(AND(BQ$9<>\"\",$H$3=\"実績\"),INDIRECT(\"'\"&$D24&\"　\"&$E24&\"'!C\"&BR$1),\n\"\")),\"\")","v":""},{"$f":"IFERROR(IF(IF(AND(BQ$9<>\"\",$H$3=\"計画\"),INDIRECT(\"'\"&$D24&\"　\"&$E24&\"'!B\"&BS$1),\nIF(AND(BQ$9<>\"\",$H$3=\"実績\"),INDIRECT(\"'\"&$D24&\"　\"&$E24&\"'!C\"&BS$1),\n\"\"))=\"対象外\",\"対象外\",BQ24/BR24),\"\")","v":""},{"$f":"IFERROR(IF(AND(BT$9<>\"\",$H$3=\"計画\"),INDIRECT(\"'\"&$D24&\"　\"&$E24&\"'!B\"&BT$1),\nIF(AND(BT$9<>\"\",$H$3=\"実績\"),INDIRECT(\"'\"&$D24&\"　\"&$E24&\"'!C\"&BT$1),\n\"\")),\"\")","v":""},{"$f":"IFERROR(IF(AND(BT$9<>\"\",$H$3=\"計画\"),INDIRECT(\"'\"&$D24&\"　\"&$E24&\"'!B\"&BU$1),\nIF(AND(BT$9<>\"\",$H$3=\"実績\"),INDIRECT(\"'\"&$D24&\"　\"&$E24&\"'!C\"&BU$1),\n\"\")),\"\")","v":""},{"$f":"IFERROR(IF(IF(AND(BT$9<>\"\",$H$3=\"計画\"),INDIRECT(\"'\"&$D24&\"　\"&$E24&\"'!B\"&BV$1),\nIF(AND(BT$9<>\"\",$H$3=\"実績\"),INDIRECT(\"'\"&$D24&\"　\"&$E24&\"'!C\"&BV$1),\n\"\"))=\"対象外\",\"対象外\",BT24/BU24),\"\")","v":""},{"$f":"IFERROR(IF(AND(BW$9<>\"\",$H$3=\"計画\"),INDIRECT(\"'\"&$D24&\"　\"&$E24&\"'!B\"&BW$1),\nIF(AND(BW$9<>\"\",$H$3=\"実績\"),INDIRECT(\"'\"&$D24&\"　\"&$E24&\"'!C\"&BW$1),\n\"\")),\"\")","v":""},{"$f":"IFERROR(IF(AND(BW$9<>\"\",$H$3=\"計画\"),INDIRECT(\"'\"&$D24&\"　\"&$E24&\"'!B\"&BX$1),\nIF(AND(BW$9<>\"\",$H$3=\"実績\"),INDIRECT(\"'\"&$D24&\"　\"&$E24&\"'!C\"&BX$1),\n\"\")),\"\")","v":""},{"$f":"IFERROR(IF(IF(AND(BW$9<>\"\",$H$3=\"計画\"),INDIRECT(\"'\"&$D24&\"　\"&$E24&\"'!B\"&BY$1),\nIF(AND(BW$9<>\"\",$H$3=\"実績\"),INDIRECT(\"'\"&$D24&\"　\"&$E24&\"'!C\"&BY$1),\n\"\"))=\"対象外\",\"対象外\",BW24/BX24),\"\")","v":""},{"$f":"IFERROR(IF(AND(BZ$9<>\"\",$H$3=\"計画\"),INDIRECT(\"'\"&$D24&\"　\"&$E24&\"'!B\"&BZ$1),\nIF(AND(BZ$9<>\"\",$H$3=\"実績\"),INDIRECT(\"'\"&$D24&\"　\"&$E24&\"'!C\"&BZ$1),\n\"\")),\"\")","v":""},{"$f":"IFERROR(IF(AND(BZ$9<>\"\",$H$3=\"計画\"),INDIRECT(\"'\"&$D24&\"　\"&$E24&\"'!B\"&CA$1),\nIF(AND(BZ$9<>\"\",$H$3=\"実績\"),INDIRECT(\"'\"&$D24&\"　\"&$E24&\"'!C\"&CA$1),\n\"\")),\"\")","v":""},{"$f":"IFERROR(IF(IF(AND(BZ$9<>\"\",$H$3=\"計画\"),INDIRECT(\"'\"&$D24&\"　\"&$E24&\"'!B\"&CB$1),\nIF(AND(BZ$9<>\"\",$H$3=\"実績\"),INDIRECT(\"'\"&$D24&\"　\"&$E24&\"'!C\"&CB$1),\n\"\"))=\"対象外\",\"対象外\",BZ24/CA24),\"\")","v":""},{"$f":"IFERROR(IF(AND(CC$9<>\"\",$H$3=\"計画\"),INDIRECT(\"'\"&$D24&\"　\"&$E24&\"'!B\"&CC$1),\nIF(AND(CC$9<>\"\",$H$3=\"実績\"),INDIRECT(\"'\"&$D24&\"　\"&$E24&\"'!C\"&CC$1),\n\"\")),\"\")","v":""},{"$f":"IFERROR(IF(AND(CC$9<>\"\",$H$3=\"計画\"),INDIRECT(\"'\"&$D24&\"　\"&$E24&\"'!B\"&CD$1),\nIF(AND(CC$9<>\"\",$H$3=\"実績\"),INDIRECT(\"'\"&$D24&\"　\"&$E24&\"'!C\"&CD$1),\n\"\")),\"\")","v":""},{"$f":"IFERROR(IF(IF(AND(CC$9<>\"\",$H$3=\"計画\"),INDIRECT(\"'\"&$D24&\"　\"&$E24&\"'!B\"&CE$1),\nIF(AND(CC$9<>\"\",$H$3=\"実績\"),INDIRECT(\"'\"&$D24&\"　\"&$E24&\"'!C\"&CE$1),\n\"\"))=\"対象外\",\"対象外\",CC24/CD24),\"\")","v":""},{"$f":"IFERROR(IF(AND(CF$9<>\"\",$H$3=\"計画\"),INDIRECT(\"'\"&$D24&\"　\"&$E24&\"'!B\"&CF$1),\nIF(AND(CF$9<>\"\",$H$3=\"実績\"),INDIRECT(\"'\"&$D24&\"　\"&$E24&\"'!C\"&CF$1),\n\"\")),\"\")","v":""},{"$f":"IFERROR(IF(AND(CF$9<>\"\",$H$3=\"計画\"),INDIRECT(\"'\"&$D24&\"　\"&$E24&\"'!B\"&CG$1),\nIF(AND(CF$9<>\"\",$H$3=\"実績\"),INDIRECT(\"'\"&$D24&\"　\"&$E24&\"'!C\"&CG$1),\n\"\")),\"\")","v":""},{"$f":"IFERROR(IF(IF(AND(CF$9<>\"\",$H$3=\"計画\"),INDIRECT(\"'\"&$D24&\"　\"&$E24&\"'!B\"&CH$1),\nIF(AND(CF$9<>\"\",$H$3=\"実績\"),INDIRECT(\"'\"&$D24&\"　\"&$E24&\"'!C\"&CH$1),\n\"\"))=\"対象外\",\"対象外\",CF24/CG24),\"\")","v":""},{"$f":"IFERROR(IF(AND(CI$9<>\"\",$H$3=\"計画\"),INDIRECT(\"'\"&$D24&\"　\"&$E24&\"'!B\"&CI$1),\nIF(AND(CI$9<>\"\",$H$3=\"実績\"),INDIRECT(\"'\"&$D24&\"　\"&$E24&\"'!C\"&CI$1),\n\"\")),\"\")","v":""},{"$f":"IFERROR(IF(AND(CI$9<>\"\",$H$3=\"計画\"),INDIRECT(\"'\"&$D24&\"　\"&$E24&\"'!B\"&CJ$1),\nIF(AND(CI$9<>\"\",$H$3=\"実績\"),INDIRECT(\"'\"&$D24&\"　\"&$E24&\"'!C\"&CJ$1),\n\"\")),\"\")","v":""},{"$f":"IFERROR(IF(IF(AND(CI$9<>\"\",$H$3=\"計画\"),INDIRECT(\"'\"&$D24&\"　\"&$E24&\"'!B\"&CK$1),\nIF(AND(CI$9<>\"\",$H$3=\"実績\"),INDIRECT(\"'\"&$D24&\"　\"&$E24&\"'!C\"&CK$1),\n\"\"))=\"対象外\",\"対象外\",CI24/CJ24),\"\")","v":""},{"$f":"IFERROR(IF(AND(CL$9<>\"\",$H$3=\"計画\"),INDIRECT(\"'\"&$D24&\"　\"&$E24&\"'!B\"&CL$1),\nIF(AND(CL$9<>\"\",$H$3=\"実績\"),INDIRECT(\"'\"&$D24&\"　\"&$E24&\"'!C\"&CL$1),\n\"\")),\"\")","v":""},{"$f":"IFERROR(IF(AND(CL$9<>\"\",$H$3=\"計画\"),INDIRECT(\"'\"&$D24&\"　\"&$E24&\"'!B\"&CM$1),\nIF(AND(CL$9<>\"\",$H$3=\"実績\"),INDIRECT(\"'\"&$D24&\"　\"&$E24&\"'!C\"&CM$1),\n\"\")),\"\")","v":""},{"$f":"IFERROR(IF(IF(AND(CL$9<>\"\",$H$3=\"計画\"),INDIRECT(\"'\"&$D24&\"　\"&$E24&\"'!B\"&CN$1),\nIF(AND(CL$9<>\"\",$H$3=\"実績\"),INDIRECT(\"'\"&$D24&\"　\"&$E24&\"'!C\"&CN$1),\n\"\"))=\"対象外\",\"対象外\",CL24/CM24),\"\")","v":""},{"$f":"IFERROR(IF(AND(CO$9<>\"\",$H$3=\"計画\"),INDIRECT(\"'\"&$D24&\"　\"&$E24&\"'!B\"&CO$1),\nIF(AND(CO$9<>\"\",$H$3=\"実績\"),INDIRECT(\"'\"&$D24&\"　\"&$E24&\"'!C\"&CO$1),\n\"\")),\"\")","v":""},{"$f":"IFERROR(IF(AND(CO$9<>\"\",$H$3=\"計画\"),INDIRECT(\"'\"&$D24&\"　\"&$E24&\"'!B\"&CP$1),\nIF(AND(CO$9<>\"\",$H$3=\"実績\"),INDIRECT(\"'\"&$D24&\"　\"&$E24&\"'!C\"&CP$1),\n\"\")),\"\")","v":""},{"$f":"IFERROR(IF(IF(AND(CO$9<>\"\",$H$3=\"計画\"),INDIRECT(\"'\"&$D24&\"　\"&$E24&\"'!B\"&CQ$1),\nIF(AND(CO$9<>\"\",$H$3=\"実績\"),INDIRECT(\"'\"&$D24&\"　\"&$E24&\"'!C\"&CQ$1),\n\"\"))=\"対象外\",\"対象外\",CO24/CP24),\"\")","v":""},{"$f":"IFERROR(IF(AND(CR$9<>\"\",$H$3=\"計画\"),INDIRECT(\"'\"&$D24&\"　\"&$E24&\"'!B\"&CR$1),\nIF(AND(CR$9<>\"\",$H$3=\"実績\"),INDIRECT(\"'\"&$D24&\"　\"&$E24&\"'!C\"&CR$1),\n\"\")),\"\")","v":""},{"$f":"IFERROR(IF(AND(CR$9<>\"\",$H$3=\"計画\"),INDIRECT(\"'\"&$D24&\"　\"&$E24&\"'!B\"&CS$1),\nIF(AND(CR$9<>\"\",$H$3=\"実績\"),INDIRECT(\"'\"&$D24&\"　\"&$E24&\"'!C\"&CS$1),\n\"\")),\"\")","v":""},{"$f":"IFERROR(IF(IF(AND(CR$9<>\"\",$H$3=\"計画\"),INDIRECT(\"'\"&$D24&\"　\"&$E24&\"'!B\"&CT$1),\nIF(AND(CR$9<>\"\",$H$3=\"実績\"),INDIRECT(\"'\"&$D24&\"　\"&$E24&\"'!C\"&CT$1),\n\"\"))=\"対象外\",\"対象外\",CR24/CS24),\"\")","v":""},{"$f":"IFERROR(IF(AND(CU$9<>\"\",$H$3=\"計画\"),INDIRECT(\"'\"&$D24&\"　\"&$E24&\"'!B\"&CU$1),\nIF(AND(CU$9<>\"\",$H$3=\"実績\"),INDIRECT(\"'\"&$D24&\"　\"&$E24&\"'!C\"&CU$1),\n\"\")),\"\")","v":""},{"$f":"IFERROR(IF(AND(CU$9<>\"\",$H$3=\"計画\"),INDIRECT(\"'\"&$D24&\"　\"&$E24&\"'!B\"&CV$1),\nIF(AND(CU$9<>\"\",$H$3=\"実績\"),INDIRECT(\"'\"&$D24&\"　\"&$E24&\"'!C\"&CV$1),\n\"\")),\"\")","v":""},{"$f":"IFERROR(IF(IF(AND(CU$9<>\"\",$H$3=\"計画\"),INDIRECT(\"'\"&$D24&\"　\"&$E24&\"'!B\"&CW$1),\nIF(AND(CU$9<>\"\",$H$3=\"実績\"),INDIRECT(\"'\"&$D24&\"　\"&$E24&\"'!C\"&CW$1),\n\"\"))=\"対象外\",\"対象外\",CU24/CV24),\"\")","v":""},{"$f":"IFERROR(IF(AND(CX$9<>\"\",$H$3=\"計画\"),INDIRECT(\"'\"&$D24&\"　\"&$E24&\"'!B\"&CX$1),\nIF(AND(CX$9<>\"\",$H$3=\"実績\"),INDIRECT(\"'\"&$D24&\"　\"&$E24&\"'!C\"&CX$1),\n\"\")),\"\")","v":""},{"$f":"IFERROR(IF(AND(CX$9<>\"\",$H$3=\"計画\"),INDIRECT(\"'\"&$D24&\"　\"&$E24&\"'!B\"&CY$1),\nIF(AND(CX$9<>\"\",$H$3=\"実績\"),INDIRECT(\"'\"&$D24&\"　\"&$E24&\"'!C\"&CY$1),\n\"\")),\"\")","v":""},{"$f":"IFERROR(IF(IF(AND(CX$9<>\"\",$H$3=\"計画\"),INDIRECT(\"'\"&$D24&\"　\"&$E24&\"'!B\"&CZ$1),\nIF(AND(CX$9<>\"\",$H$3=\"実績\"),INDIRECT(\"'\"&$D24&\"　\"&$E24&\"'!C\"&CZ$1),\n\"\"))=\"対象外\",\"対象外\",CX24/CY24),\"\")","v":""},{"$f":"IFERROR(IF(AND(DA$9<>\"\",$H$3=\"計画\"),INDIRECT(\"'\"&$D24&\"　\"&$E24&\"'!B\"&DA$1),\nIF(AND(DA$9<>\"\",$H$3=\"実績\"),INDIRECT(\"'\"&$D24&\"　\"&$E24&\"'!C\"&DA$1),\n\"\")),\"\")","v":""},{"$f":"IFERROR(IF(AND(DA$9<>\"\",$H$3=\"計画\"),INDIRECT(\"'\"&$D24&\"　\"&$E24&\"'!B\"&DB$1),\nIF(AND(DA$9<>\"\",$H$3=\"実績\"),INDIRECT(\"'\"&$D24&\"　\"&$E24&\"'!C\"&DB$1),\n\"\")),\"\")","v":""},{"$f":"IFERROR(IF(IF(AND(DA$9<>\"\",$H$3=\"計画\"),INDIRECT(\"'\"&$D24&\"　\"&$E24&\"'!B\"&DC$1),\nIF(AND(DA$9<>\"\",$H$3=\"実績\"),INDIRECT(\"'\"&$D24&\"　\"&$E24&\"'!C\"&DC$1),\n\"\"))=\"対象外\",\"対象外\",DA24/DB24),\"\")","v":""},{"$f":"IFERROR(IF(AND(DD$9<>\"\",$H$3=\"計画\"),INDIRECT(\"'\"&$D24&\"　\"&$E24&\"'!B\"&DD$1),\nIF(AND(DD$9<>\"\",$H$3=\"実績\"),INDIRECT(\"'\"&$D24&\"　\"&$E24&\"'!C\"&DD$1),\n\"\")),\"\")","v":""},{"$f":"IFERROR(IF(AND(DD$9<>\"\",$H$3=\"計画\"),INDIRECT(\"'\"&$D24&\"　\"&$E24&\"'!B\"&DE$1),\nIF(AND(DD$9<>\"\",$H$3=\"実績\"),INDIRECT(\"'\"&$D24&\"　\"&$E24&\"'!C\"&DE$1),\n\"\")),\"\")","v":""},{"$f":"IFERROR(IF(IF(AND(DD$9<>\"\",$H$3=\"計画\"),INDIRECT(\"'\"&$D24&\"　\"&$E24&\"'!B\"&DF$1),\nIF(AND(DD$9<>\"\",$H$3=\"実績\"),INDIRECT(\"'\"&$D24&\"　\"&$E24&\"'!C\"&DF$1),\n\"\"))=\"対象外\",\"対象外\",DD24/DE24),\"\")","v":""},{"$f":"IFERROR(IF(AND(DG$9<>\"\",$H$3=\"計画\"),INDIRECT(\"'\"&$D24&\"　\"&$E24&\"'!B\"&DG$1),\nIF(AND(DG$9<>\"\",$H$3=\"実績\"),INDIRECT(\"'\"&$D24&\"　\"&$E24&\"'!C\"&DG$1),\n\"\")),\"\")","v":""},{"$f":"IFERROR(IF(AND(DG$9<>\"\",$H$3=\"計画\"),INDIRECT(\"'\"&$D24&\"　\"&$E24&\"'!B\"&DH$1),\nIF(AND(DG$9<>\"\",$H$3=\"実績\"),INDIRECT(\"'\"&$D24&\"　\"&$E24&\"'!C\"&DH$1),\n\"\")),\"\")","v":""},{"$f":"IFERROR(IF(IF(AND(DG$9<>\"\",$H$3=\"計画\"),INDIRECT(\"'\"&$D24&\"　\"&$E24&\"'!B\"&DI$1),\nIF(AND(DG$9<>\"\",$H$3=\"実績\"),INDIRECT(\"'\"&$D24&\"　\"&$E24&\"'!C\"&DI$1),\n\"\"))=\"対象外\",\"対象外\",DG24/DH24),\"\")","v":""},{"$f":"IFERROR(IF(AND(DJ$9<>\"\",$H$3=\"計画\"),INDIRECT(\"'\"&$D24&\"　\"&$E24&\"'!B\"&DJ$1),\nIF(AND(DJ$9<>\"\",$H$3=\"実績\"),INDIRECT(\"'\"&$D24&\"　\"&$E24&\"'!C\"&DJ$1),\n\"\")),\"\")","v":""},{"$f":"IFERROR(IF(AND(DJ$9<>\"\",$H$3=\"計画\"),INDIRECT(\"'\"&$D24&\"　\"&$E24&\"'!B\"&DK$1),\nIF(AND(DJ$9<>\"\",$H$3=\"実績\"),INDIRECT(\"'\"&$D24&\"　\"&$E24&\"'!C\"&DK$1),\n\"\")),\"\")","v":""},{"$f":"IFERROR(IF(IF(AND(DJ$9<>\"\",$H$3=\"計画\"),INDIRECT(\"'\"&$D24&\"　\"&$E24&\"'!B\"&DL$1),\nIF(AND(DJ$9<>\"\",$H$3=\"実績\"),INDIRECT(\"'\"&$D24&\"　\"&$E24&\"'!C\"&DL$1),\n\"\"))=\"対象外\",\"対象外\",DJ24/DK24),\"\")","v":""}]
[null,null,null,null,null,"","",{"$f":"IFERROR(IF(IF(H$3=\"計画\",INDIRECT(\"'\"&$D25&\"　\"&$E25&\"'!B\"&H$1),\nIF(H$3=\"実績\",INDIRECT(\"'\"&$D25&\"　\"&$E25&\"'!C\"&H$1),\n\"\"))>=28,F25/G25,\"対象外\"),\"\")","v":""},{"$f":"IFERROR(IF(AND(I$9<>\"\",$H$3=\"計画\"),INDIRECT(\"'\"&$D25&\"　\"&$E25&\"'!B\"&I$1),\nIF(AND(I$9<>\"\",$H$3=\"実績\"),INDIRECT(\"'\"&$D25&\"　\"&$E25&\"'!C\"&I$1),\n\"\")),\"\")","v":""},{"$f":"IFERROR(IF(AND(I$9<>\"\",$H$3=\"計画\"),INDIRECT(\"'\"&$D25&\"　\"&$E25&\"'!B\"&J$1),\nIF(AND(I$9<>\"\",$H$3=\"実績\"),INDIRECT(\"'\"&$D25&\"　\"&$E25&\"'!C\"&J$1),\n\"\")),\"\")","v":""},{"$f":"IFERROR(IF(IF(AND(I$9<>\"\",$H$3=\"計画\"),INDIRECT(\"'\"&$D25&\"　\"&$E25&\"'!B\"&K$1),\nIF(AND(I$9<>\"\",$H$3=\"実績\"),INDIRECT(\"'\"&$D25&\"　\"&$E25&\"'!C\"&K$1),\n\"\"))=\"対象外\",\"対象外\",I25/J25),\"\")","v":""},{"$f":"IFERROR(IF(AND(L$9<>\"\",$H$3=\"計画\"),INDIRECT(\"'\"&$D25&\"　\"&$E25&\"'!B\"&L$1),\nIF(AND(L$9<>\"\",$H$3=\"実績\"),INDIRECT(\"'\"&$D25&\"　\"&$E25&\"'!C\"&L$1),\n\"\")),\"\")","v":""},{"$f":"IFERROR(IF(AND(L$9<>\"\",$H$3=\"計画\"),INDIRECT(\"'\"&$D25&\"　\"&$E25&\"'!B\"&M$1),\nIF(AND(L$9<>\"\",$H$3=\"実績\"),INDIRECT(\"'\"&$D25&\"　\"&$E25&\"'!C\"&M$1),\n\"\")),\"\")","v":""},{"$f":"IFERROR(IF(IF(AND(L$9<>\"\",$H$3=\"計画\"),INDIRECT(\"'\"&$D25&\"　\"&$E25&\"'!B\"&N$1),\nIF(AND(L$9<>\"\",$H$3=\"実績\"),INDIRECT(\"'\"&$D25&\"　\"&$E25&\"'!C\"&N$1),\n\"\"))=\"対象外\",\"対象外\",L25/M25),\"\")","v":""},{"$f":"IFERROR(IF(AND(O$9<>\"\",$H$3=\"計画\"),INDIRECT(\"'\"&$D25&\"　\"&$E25&\"'!B\"&O$1),\nIF(AND(O$9<>\"\",$H$3=\"実績\"),INDIRECT(\"'\"&$D25&\"　\"&$E25&\"'!C\"&O$1),\n\"\")),\"\")","v":""},{"$f":"IFERROR(IF(AND(O$9<>\"\",$H$3=\"計画\"),INDIRECT(\"'\"&$D25&\"　\"&$E25&\"'!B\"&P$1),\nIF(AND(O$9<>\"\",$H$3=\"実績\"),INDIRECT(\"'\"&$D25&\"　\"&$E25&\"'!C\"&P$1),\n\"\")),\"\")","v":""},{"$f":"IFERROR(IF(IF(AND(O$9<>\"\",$H$3=\"計画\"),INDIRECT(\"'\"&$D25&\"　\"&$E25&\"'!B\"&Q$1),\nIF(AND(O$9<>\"\",$H$3=\"実績\"),INDIRECT(\"'\"&$D25&\"　\"&$E25&\"'!C\"&Q$1),\n\"\"))=\"対象外\",\"対象外\",O25/P25),\"\")","v":""},{"$f":"IFERROR(IF(AND(R$9<>\"\",$H$3=\"計画\"),INDIRECT(\"'\"&$D25&\"　\"&$E25&\"'!B\"&R$1),\nIF(AND(R$9<>\"\",$H$3=\"実績\"),INDIRECT(\"'\"&$D25&\"　\"&$E25&\"'!C\"&R$1),\n\"\")),\"\")","v":""},{"$f":"IFERROR(IF(AND(R$9<>\"\",$H$3=\"計画\"),INDIRECT(\"'\"&$D25&\"　\"&$E25&\"'!B\"&S$1),\nIF(AND(R$9<>\"\",$H$3=\"実績\"),INDIRECT(\"'\"&$D25&\"　\"&$E25&\"'!C\"&S$1),\n\"\")),\"\")","v":""},{"$f":"IFERROR(IF(IF(AND(R$9<>\"\",$H$3=\"計画\"),INDIRECT(\"'\"&$D25&\"　\"&$E25&\"'!B\"&T$1),\nIF(AND(R$9<>\"\",$H$3=\"実績\"),INDIRECT(\"'\"&$D25&\"　\"&$E25&\"'!C\"&T$1),\n\"\"))=\"対象外\",\"対象外\",R25/S25),\"\")","v":""},{"$f":"IFERROR(IF(AND(U$9<>\"\",$H$3=\"計画\"),INDIRECT(\"'\"&$D25&\"　\"&$E25&\"'!B\"&U$1),\nIF(AND(U$9<>\"\",$H$3=\"実績\"),INDIRECT(\"'\"&$D25&\"　\"&$E25&\"'!C\"&U$1),\n\"\")),\"\")","v":""},{"$f":"IFERROR(IF(AND(U$9<>\"\",$H$3=\"計画\"),INDIRECT(\"'\"&$D25&\"　\"&$E25&\"'!B\"&V$1),\nIF(AND(U$9<>\"\",$H$3=\"実績\"),INDIRECT(\"'\"&$D25&\"　\"&$E25&\"'!C\"&V$1),\n\"\")),\"\")","v":""},{"$f":"IFERROR(IF(IF(AND(U$9<>\"\",$H$3=\"計画\"),INDIRECT(\"'\"&$D25&\"　\"&$E25&\"'!B\"&W$1),\nIF(AND(U$9<>\"\",$H$3=\"実績\"),INDIRECT(\"'\"&$D25&\"　\"&$E25&\"'!C\"&W$1),\n\"\"))=\"対象外\",\"対象外\",U25/V25),\"\")","v":""},{"$f":"IFERROR(IF(AND(X$9<>\"\",$H$3=\"計画\"),INDIRECT(\"'\"&$D25&\"　\"&$E25&\"'!B\"&X$1),\nIF(AND(X$9<>\"\",$H$3=\"実績\"),INDIRECT(\"'\"&$D25&\"　\"&$E25&\"'!C\"&X$1),\n\"\")),\"\")","v":""},{"$f":"IFERROR(IF(AND(X$9<>\"\",$H$3=\"計画\"),INDIRECT(\"'\"&$D25&\"　\"&$E25&\"'!B\"&Y$1),\nIF(AND(X$9<>\"\",$H$3=\"実績\"),INDIRECT(\"'\"&$D25&\"　\"&$E25&\"'!C\"&Y$1),\n\"\")),\"\")","v":""},{"$f":"IFERROR(IF(IF(AND(X$9<>\"\",$H$3=\"計画\"),INDIRECT(\"'\"&$D25&\"　\"&$E25&\"'!B\"&Z$1),\nIF(AND(X$9<>\"\",$H$3=\"実績\"),INDIRECT(\"'\"&$D25&\"　\"&$E25&\"'!C\"&Z$1),\n\"\"))=\"対象外\",\"対象外\",X25/Y25),\"\")","v":""},{"$f":"IFERROR(IF(AND(AA$9<>\"\",$H$3=\"計画\"),INDIRECT(\"'\"&$D25&\"　\"&$E25&\"'!B\"&AA$1),\nIF(AND(AA$9<>\"\",$H$3=\"実績\"),INDIRECT(\"'\"&$D25&\"　\"&$E25&\"'!C\"&AA$1),\n\"\")),\"\")","v":""},{"$f":"IFERROR(IF(AND(AA$9<>\"\",$H$3=\"計画\"),INDIRECT(\"'\"&$D25&\"　\"&$E25&\"'!B\"&AB$1),\nIF(AND(AA$9<>\"\",$H$3=\"実績\"),INDIRECT(\"'\"&$D25&\"　\"&$E25&\"'!C\"&AB$1),\n\"\")),\"\")","v":""},{"$f":"IFERROR(IF(IF(AND(AA$9<>\"\",$H$3=\"計画\"),INDIRECT(\"'\"&$D25&\"　\"&$E25&\"'!B\"&AC$1),\nIF(AND(AA$9<>\"\",$H$3=\"実績\"),INDIRECT(\"'\"&$D25&\"　\"&$E25&\"'!C\"&AC$1),\n\"\"))=\"対象外\",\"対象外\",AA25/AB25),\"\")","v":""},{"$f":"IFERROR(IF(AND(AD$9<>\"\",$H$3=\"計画\"),INDIRECT(\"'\"&$D25&\"　\"&$E25&\"'!B\"&AD$1),\nIF(AND(AD$9<>\"\",$H$3=\"実績\"),INDIRECT(\"'\"&$D25&\"　\"&$E25&\"'!C\"&AD$1),\n\"\")),\"\")","v":""},{"$f":"IFERROR(IF(AND(AD$9<>\"\",$H$3=\"計画\"),INDIRECT(\"'\"&$D25&\"　\"&$E25&\"'!B\"&AE$1),\nIF(AND(AD$9<>\"\",$H$3=\"実績\"),INDIRECT(\"'\"&$D25&\"　\"&$E25&\"'!C\"&AE$1),\n\"\")),\"\")","v":""},{"$f":"IFERROR(IF(IF(AND(AD$9<>\"\",$H$3=\"計画\"),INDIRECT(\"'\"&$D25&\"　\"&$E25&\"'!B\"&AF$1),\nIF(AND(AD$9<>\"\",$H$3=\"実績\"),INDIRECT(\"'\"&$D25&\"　\"&$E25&\"'!C\"&AF$1),\n\"\"))=\"対象外\",\"対象外\",AD25/AE25),\"\")","v":""},{"$f":"IFERROR(IF(AND(AG$9<>\"\",$H$3=\"計画\"),INDIRECT(\"'\"&$D25&\"　\"&$E25&\"'!B\"&AG$1),\nIF(AND(AG$9<>\"\",$H$3=\"実績\"),INDIRECT(\"'\"&$D25&\"　\"&$E25&\"'!C\"&AG$1),\n\"\")),\"\")","v":""},{"$f":"IFERROR(IF(AND(AG$9<>\"\",$H$3=\"計画\"),INDIRECT(\"'\"&$D25&\"　\"&$E25&\"'!B\"&AH$1),\nIF(AND(AG$9<>\"\",$H$3=\"実績\"),INDIRECT(\"'\"&$D25&\"　\"&$E25&\"'!C\"&AH$1),\n\"\")),\"\")","v":""},{"$f":"IFERROR(IF(IF(AND(AG$9<>\"\",$H$3=\"計画\"),INDIRECT(\"'\"&$D25&\"　\"&$E25&\"'!B\"&AI$1),\nIF(AND(AG$9<>\"\",$H$3=\"実績\"),INDIRECT(\"'\"&$D25&\"　\"&$E25&\"'!C\"&AI$1),\n\"\"))=\"対象外\",\"対象外\",AG25/AH25),\"\")","v":""},{"$f":"IFERROR(IF(AND(AJ$9<>\"\",$H$3=\"計画\"),INDIRECT(\"'\"&$D25&\"　\"&$E25&\"'!B\"&AJ$1),\nIF(AND(AJ$9<>\"\",$H$3=\"実績\"),INDIRECT(\"'\"&$D25&\"　\"&$E25&\"'!C\"&AJ$1),\n\"\")),\"\")","v":""},{"$f":"IFERROR(IF(AND(AJ$9<>\"\",$H$3=\"計画\"),INDIRECT(\"'\"&$D25&\"　\"&$E25&\"'!B\"&AK$1),\nIF(AND(AJ$9<>\"\",$H$3=\"実績\"),INDIRECT(\"'\"&$D25&\"　\"&$E25&\"'!C\"&AK$1),\n\"\")),\"\")","v":""},{"$f":"IFERROR(IF(IF(AND(AJ$9<>\"\",$H$3=\"計画\"),INDIRECT(\"'\"&$D25&\"　\"&$E25&\"'!B\"&AL$1),\nIF(AND(AJ$9<>\"\",$H$3=\"実績\"),INDIRECT(\"'\"&$D25&\"　\"&$E25&\"'!C\"&AL$1),\n\"\"))=\"対象外\",\"対象外\",AJ25/AK25),\"\")","v":""},{"$f":"IFERROR(IF(AND(AM$9<>\"\",$H$3=\"計画\"),INDIRECT(\"'\"&$D25&\"　\"&$E25&\"'!B\"&AM$1),\nIF(AND(AM$9<>\"\",$H$3=\"実績\"),INDIRECT(\"'\"&$D25&\"　\"&$E25&\"'!C\"&AM$1),\n\"\")),\"\")","v":""},{"$f":"IFERROR(IF(AND(AM$9<>\"\",$H$3=\"計画\"),INDIRECT(\"'\"&$D25&\"　\"&$E25&\"'!B\"&AN$1),\nIF(AND(AM$9<>\"\",$H$3=\"実績\"),INDIRECT(\"'\"&$D25&\"　\"&$E25&\"'!C\"&AN$1),\n\"\")),\"\")","v":""},{"$f":"IFERROR(IF(IF(AND(AM$9<>\"\",$H$3=\"計画\"),INDIRECT(\"'\"&$D25&\"　\"&$E25&\"'!B\"&AO$1),\nIF(AND(AM$9<>\"\",$H$3=\"実績\"),INDIRECT(\"'\"&$D25&\"　\"&$E25&\"'!C\"&AO$1),\n\"\"))=\"対象外\",\"対象外\",AM25/AN25),\"\")","v":""},{"$f":"IFERROR(IF(AND(AP$9<>\"\",$H$3=\"計画\"),INDIRECT(\"'\"&$D25&\"　\"&$E25&\"'!B\"&AP$1),\nIF(AND(AP$9<>\"\",$H$3=\"実績\"),INDIRECT(\"'\"&$D25&\"　\"&$E25&\"'!C\"&AP$1),\n\"\")),\"\")","v":""},{"$f":"IFERROR(IF(AND(AP$9<>\"\",$H$3=\"計画\"),INDIRECT(\"'\"&$D25&\"　\"&$E25&\"'!B\"&AQ$1),\nIF(AND(AP$9<>\"\",$H$3=\"実績\"),INDIRECT(\"'\"&$D25&\"　\"&$E25&\"'!C\"&AQ$1),\n\"\")),\"\")","v":""},{"$f":"IFERROR(IF(IF(AND(AP$9<>\"\",$H$3=\"計画\"),INDIRECT(\"'\"&$D25&\"　\"&$E25&\"'!B\"&AR$1),\nIF(AND(AP$9<>\"\",$H$3=\"実績\"),INDIRECT(\"'\"&$D25&\"　\"&$E25&\"'!C\"&AR$1),\n\"\"))=\"対象外\",\"対象外\",AP25/AQ25),\"\")","v":""},{"$f":"IFERROR(IF(AND(AS$9<>\"\",$H$3=\"計画\"),INDIRECT(\"'\"&$D25&\"　\"&$E25&\"'!B\"&AS$1),\nIF(AND(AS$9<>\"\",$H$3=\"実績\"),INDIRECT(\"'\"&$D25&\"　\"&$E25&\"'!C\"&AS$1),\n\"\")),\"\")","v":""},{"$f":"IFERROR(IF(AND(AS$9<>\"\",$H$3=\"計画\"),INDIRECT(\"'\"&$D25&\"　\"&$E25&\"'!B\"&AT$1),\nIF(AND(AS$9<>\"\",$H$3=\"実績\"),INDIRECT(\"'\"&$D25&\"　\"&$E25&\"'!C\"&AT$1),\n\"\")),\"\")","v":""},{"$f":"IFERROR(IF(IF(AND(AS$9<>\"\",$H$3=\"計画\"),INDIRECT(\"'\"&$D25&\"　\"&$E25&\"'!B\"&AU$1),\nIF(AND(AS$9<>\"\",$H$3=\"実績\"),INDIRECT(\"'\"&$D25&\"　\"&$E25&\"'!C\"&AU$1),\n\"\"))=\"対象外\",\"対象外\",AS25/AT25),\"\")","v":""},{"$f":"IFERROR(IF(AND(AV$9<>\"\",$H$3=\"計画\"),INDIRECT(\"'\"&$D25&\"　\"&$E25&\"'!B\"&AV$1),\nIF(AND(AV$9<>\"\",$H$3=\"実績\"),INDIRECT(\"'\"&$D25&\"　\"&$E25&\"'!C\"&AV$1),\n\"\")),\"\")","v":""},{"$f":"IFERROR(IF(AND(AV$9<>\"\",$H$3=\"計画\"),INDIRECT(\"'\"&$D25&\"　\"&$E25&\"'!B\"&AW$1),\nIF(AND(AV$9<>\"\",$H$3=\"実績\"),INDIRECT(\"'\"&$D25&\"　\"&$E25&\"'!C\"&AW$1),\n\"\")),\"\")","v":""},{"$f":"IFERROR(IF(IF(AND(AV$9<>\"\",$H$3=\"計画\"),INDIRECT(\"'\"&$D25&\"　\"&$E25&\"'!B\"&AX$1),\nIF(AND(AV$9<>\"\",$H$3=\"実績\"),INDIRECT(\"'\"&$D25&\"　\"&$E25&\"'!C\"&AX$1),\n\"\"))=\"対象外\",\"対象外\",AV25/AW25),\"\")","v":""},{"$f":"IFERROR(IF(AND(AY$9<>\"\",$H$3=\"計画\"),INDIRECT(\"'\"&$D25&\"　\"&$E25&\"'!B\"&AY$1),\nIF(AND(AY$9<>\"\",$H$3=\"実績\"),INDIRECT(\"'\"&$D25&\"　\"&$E25&\"'!C\"&AY$1),\n\"\")),\"\")","v":""},{"$f":"IFERROR(IF(AND(AY$9<>\"\",$H$3=\"計画\"),INDIRECT(\"'\"&$D25&\"　\"&$E25&\"'!B\"&AZ$1),\nIF(AND(AY$9<>\"\",$H$3=\"実績\"),INDIRECT(\"'\"&$D25&\"　\"&$E25&\"'!C\"&AZ$1),\n\"\")),\"\")","v":""},{"$f":"IFERROR(IF(IF(AND(AY$9<>\"\",$H$3=\"計画\"),INDIRECT(\"'\"&$D25&\"　\"&$E25&\"'!B\"&BA$1),\nIF(AND(AY$9<>\"\",$H$3=\"実績\"),INDIRECT(\"'\"&$D25&\"　\"&$E25&\"'!C\"&BA$1),\n\"\"))=\"対象外\",\"対象外\",AY25/AZ25),\"\")","v":""},{"$f":"IFERROR(IF(AND(BB$9<>\"\",$H$3=\"計画\"),INDIRECT(\"'\"&$D25&\"　\"&$E25&\"'!B\"&BB$1),\nIF(AND(BB$9<>\"\",$H$3=\"実績\"),INDIRECT(\"'\"&$D25&\"　\"&$E25&\"'!C\"&BB$1),\n\"\")),\"\")","v":""},{"$f":"IFERROR(IF(AND(BB$9<>\"\",$H$3=\"計画\"),INDIRECT(\"'\"&$D25&\"　\"&$E25&\"'!B\"&BC$1),\nIF(AND(BB$9<>\"\",$H$3=\"実績\"),INDIRECT(\"'\"&$D25&\"　\"&$E25&\"'!C\"&BC$1),\n\"\")),\"\")","v":""},{"$f":"IFERROR(IF(IF(AND(BB$9<>\"\",$H$3=\"計画\"),INDIRECT(\"'\"&$D25&\"　\"&$E25&\"'!B\"&BD$1),\nIF(AND(BB$9<>\"\",$H$3=\"実績\"),INDIRECT(\"'\"&$D25&\"　\"&$E25&\"'!C\"&BD$1),\n\"\"))=\"対象外\",\"対象外\",BB25/BC25),\"\")","v":""},{"$f":"IFERROR(IF(AND(BE$9<>\"\",$H$3=\"計画\"),INDIRECT(\"'\"&$D25&\"　\"&$E25&\"'!B\"&BE$1),\nIF(AND(BE$9<>\"\",$H$3=\"実績\"),INDIRECT(\"'\"&$D25&\"　\"&$E25&\"'!C\"&BE$1),\n\"\")),\"\")","v":""},{"$f":"IFERROR(IF(AND(BE$9<>\"\",$H$3=\"計画\"),INDIRECT(\"'\"&$D25&\"　\"&$E25&\"'!B\"&BF$1),\nIF(AND(BE$9<>\"\",$H$3=\"実績\"),INDIRECT(\"'\"&$D25&\"　\"&$E25&\"'!C\"&BF$1),\n\"\")),\"\")","v":""},{"$f":"IFERROR(IF(IF(AND(BE$9<>\"\",$H$3=\"計画\"),INDIRECT(\"'\"&$D25&\"　\"&$E25&\"'!B\"&BG$1),\nIF(AND(BE$9<>\"\",$H$3=\"実績\"),INDIRECT(\"'\"&$D25&\"　\"&$E25&\"'!C\"&BG$1),\n\"\"))=\"対象外\",\"対象外\",BE25/BF25),\"\")","v":""},{"$f":"IFERROR(IF(AND(BH$9<>\"\",$H$3=\"計画\"),INDIRECT(\"'\"&$D25&\"　\"&$E25&\"'!B\"&BH$1),\nIF(AND(BH$9<>\"\",$H$3=\"実績\"),INDIRECT(\"'\"&$D25&\"　\"&$E25&\"'!C\"&BH$1),\n\"\")),\"\")","v":""},{"$f":"IFERROR(IF(AND(BH$9<>\"\",$H$3=\"計画\"),INDIRECT(\"'\"&$D25&\"　\"&$E25&\"'!B\"&BI$1),\nIF(AND(BH$9<>\"\",$H$3=\"実績\"),INDIRECT(\"'\"&$D25&\"　\"&$E25&\"'!C\"&BI$1),\n\"\")),\"\")","v":""},{"$f":"IFERROR(IF(IF(AND(BH$9<>\"\",$H$3=\"計画\"),INDIRECT(\"'\"&$D25&\"　\"&$E25&\"'!B\"&BJ$1),\nIF(AND(BH$9<>\"\",$H$3=\"実績\"),INDIRECT(\"'\"&$D25&\"　\"&$E25&\"'!C\"&BJ$1),\n\"\"))=\"対象外\",\"対象外\",BH25/BI25),\"\")","v":""},{"$f":"IFERROR(IF(AND(BK$9<>\"\",$H$3=\"計画\"),INDIRECT(\"'\"&$D25&\"　\"&$E25&\"'!B\"&BK$1),\nIF(AND(BK$9<>\"\",$H$3=\"実績\"),INDIRECT(\"'\"&$D25&\"　\"&$E25&\"'!C\"&BK$1),\n\"\")),\"\")","v":""},{"$f":"IFERROR(IF(AND(BK$9<>\"\",$H$3=\"計画\"),INDIRECT(\"'\"&$D25&\"　\"&$E25&\"'!B\"&BL$1),\nIF(AND(BK$9<>\"\",$H$3=\"実績\"),INDIRECT(\"'\"&$D25&\"　\"&$E25&\"'!C\"&BL$1),\n\"\")),\"\")","v":""},{"$f":"IFERROR(IF(IF(AND(BK$9<>\"\",$H$3=\"計画\"),INDIRECT(\"'\"&$D25&\"　\"&$E25&\"'!B\"&BM$1),\nIF(AND(BK$9<>\"\",$H$3=\"実績\"),INDIRECT(\"'\"&$D25&\"　\"&$E25&\"'!C\"&BM$1),\n\"\"))=\"対象外\",\"対象外\",BK25/BL25),\"\")","v":""},{"$f":"IFERROR(IF(AND(BN$9<>\"\",$H$3=\"計画\"),INDIRECT(\"'\"&$D25&\"　\"&$E25&\"'!B\"&BN$1),\nIF(AND(BN$9<>\"\",$H$3=\"実績\"),INDIRECT(\"'\"&$D25&\"　\"&$E25&\"'!C\"&BN$1),\n\"\")),\"\")","v":""},{"$f":"IFERROR(IF(AND(BN$9<>\"\",$H$3=\"計画\"),INDIRECT(\"'\"&$D25&\"　\"&$E25&\"'!B\"&BO$1),\nIF(AND(BN$9<>\"\",$H$3=\"実績\"),INDIRECT(\"'\"&$D25&\"　\"&$E25&\"'!C\"&BO$1),\n\"\")),\"\")","v":""},{"$f":"IFERROR(IF(IF(AND(BN$9<>\"\",$H$3=\"計画\"),INDIRECT(\"'\"&$D25&\"　\"&$E25&\"'!B\"&BP$1),\nIF(AND(BN$9<>\"\",$H$3=\"実績\"),INDIRECT(\"'\"&$D25&\"　\"&$E25&\"'!C\"&BP$1),\n\"\"))=\"対象外\",\"対象外\",BN25/BO25),\"\")","v":""},{"$f":"IFERROR(IF(AND(BQ$9<>\"\",$H$3=\"計画\"),INDIRECT(\"'\"&$D25&\"　\"&$E25&\"'!B\"&BQ$1),\nIF(AND(BQ$9<>\"\",$H$3=\"実績\"),INDIRECT(\"'\"&$D25&\"　\"&$E25&\"'!C\"&BQ$1),\n\"\")),\"\")","v":""},{"$f":"IFERROR(IF(AND(BQ$9<>\"\",$H$3=\"計画\"),INDIRECT(\"'\"&$D25&\"　\"&$E25&\"'!B\"&BR$1),\nIF(AND(BQ$9<>\"\",$H$3=\"実績\"),INDIRECT(\"'\"&$D25&\"　\"&$E25&\"'!C\"&BR$1),\n\"\")),\"\")","v":""},{"$f":"IFERROR(IF(IF(AND(BQ$9<>\"\",$H$3=\"計画\"),INDIRECT(\"'\"&$D25&\"　\"&$E25&\"'!B\"&BS$1),\nIF(AND(BQ$9<>\"\",$H$3=\"実績\"),INDIRECT(\"'\"&$D25&\"　\"&$E25&\"'!C\"&BS$1),\n\"\"))=\"対象外\",\"対象外\",BQ25/BR25),\"\")","v":""},{"$f":"IFERROR(IF(AND(BT$9<>\"\",$H$3=\"計画\"),INDIRECT(\"'\"&$D25&\"　\"&$E25&\"'!B\"&BT$1),\nIF(AND(BT$9<>\"\",$H$3=\"実績\"),INDIRECT(\"'\"&$D25&\"　\"&$E25&\"'!C\"&BT$1),\n\"\")),\"\")","v":""},{"$f":"IFERROR(IF(AND(BT$9<>\"\",$H$3=\"計画\"),INDIRECT(\"'\"&$D25&\"　\"&$E25&\"'!B\"&BU$1),\nIF(AND(BT$9<>\"\",$H$3=\"実績\"),INDIRECT(\"'\"&$D25&\"　\"&$E25&\"'!C\"&BU$1),\n\"\")),\"\")","v":""},{"$f":"IFERROR(IF(IF(AND(BT$9<>\"\",$H$3=\"計画\"),INDIRECT(\"'\"&$D25&\"　\"&$E25&\"'!B\"&BV$1),\nIF(AND(BT$9<>\"\",$H$3=\"実績\"),INDIRECT(\"'\"&$D25&\"　\"&$E25&\"'!C\"&BV$1),\n\"\"))=\"対象外\",\"対象外\",BT25/BU25),\"\")","v":""},{"$f":"IFERROR(IF(AND(BW$9<>\"\",$H$3=\"計画\"),INDIRECT(\"'\"&$D25&\"　\"&$E25&\"'!B\"&BW$1),\nIF(AND(BW$9<>\"\",$H$3=\"実績\"),INDIRECT(\"'\"&$D25&\"　\"&$E25&\"'!C\"&BW$1),\n\"\")),\"\")","v":""},{"$f":"IFERROR(IF(AND(BW$9<>\"\",$H$3=\"計画\"),INDIRECT(\"'\"&$D25&\"　\"&$E25&\"'!B\"&BX$1),\nIF(AND(BW$9<>\"\",$H$3=\"実績\"),INDIRECT(\"'\"&$D25&\"　\"&$E25&\"'!C\"&BX$1),\n\"\")),\"\")","v":""},{"$f":"IFERROR(IF(IF(AND(BW$9<>\"\",$H$3=\"計画\"),INDIRECT(\"'\"&$D25&\"　\"&$E25&\"'!B\"&BY$1),\nIF(AND(BW$9<>\"\",$H$3=\"実績\"),INDIRECT(\"'\"&$D25&\"　\"&$E25&\"'!C\"&BY$1),\n\"\"))=\"対象外\",\"対象外\",BW25/BX25),\"\")","v":""},{"$f":"IFERROR(IF(AND(BZ$9<>\"\",$H$3=\"計画\"),INDIRECT(\"'\"&$D25&\"　\"&$E25&\"'!B\"&BZ$1),\nIF(AND(BZ$9<>\"\",$H$3=\"実績\"),INDIRECT(\"'\"&$D25&\"　\"&$E25&\"'!C\"&BZ$1),\n\"\")),\"\")","v":""},{"$f":"IFERROR(IF(AND(BZ$9<>\"\",$H$3=\"計画\"),INDIRECT(\"'\"&$D25&\"　\"&$E25&\"'!B\"&CA$1),\nIF(AND(BZ$9<>\"\",$H$3=\"実績\"),INDIRECT(\"'\"&$D25&\"　\"&$E25&\"'!C\"&CA$1),\n\"\")),\"\")","v":""},{"$f":"IFERROR(IF(IF(AND(BZ$9<>\"\",$H$3=\"計画\"),INDIRECT(\"'\"&$D25&\"　\"&$E25&\"'!B\"&CB$1),\nIF(AND(BZ$9<>\"\",$H$3=\"実績\"),INDIRECT(\"'\"&$D25&\"　\"&$E25&\"'!C\"&CB$1),\n\"\"))=\"対象外\",\"対象外\",BZ25/CA25),\"\")","v":""},{"$f":"IFERROR(IF(AND(CC$9<>\"\",$H$3=\"計画\"),INDIRECT(\"'\"&$D25&\"　\"&$E25&\"'!B\"&CC$1),\nIF(AND(CC$9<>\"\",$H$3=\"実績\"),INDIRECT(\"'\"&$D25&\"　\"&$E25&\"'!C\"&CC$1),\n\"\")),\"\")","v":""},{"$f":"IFERROR(IF(AND(CC$9<>\"\",$H$3=\"計画\"),INDIRECT(\"'\"&$D25&\"　\"&$E25&\"'!B\"&CD$1),\nIF(AND(CC$9<>\"\",$H$3=\"実績\"),INDIRECT(\"'\"&$D25&\"　\"&$E25&\"'!C\"&CD$1),\n\"\")),\"\")","v":""},{"$f":"IFERROR(IF(IF(AND(CC$9<>\"\",$H$3=\"計画\"),INDIRECT(\"'\"&$D25&\"　\"&$E25&\"'!B\"&CE$1),\nIF(AND(CC$9<>\"\",$H$3=\"実績\"),INDIRECT(\"'\"&$D25&\"　\"&$E25&\"'!C\"&CE$1),\n\"\"))=\"対象外\",\"対象外\",CC25/CD25),\"\")","v":""},{"$f":"IFERROR(IF(AND(CF$9<>\"\",$H$3=\"計画\"),INDIRECT(\"'\"&$D25&\"　\"&$E25&\"'!B\"&CF$1),\nIF(AND(CF$9<>\"\",$H$3=\"実績\"),INDIRECT(\"'\"&$D25&\"　\"&$E25&\"'!C\"&CF$1),\n\"\")),\"\")","v":""},{"$f":"IFERROR(IF(AND(CF$9<>\"\",$H$3=\"計画\"),INDIRECT(\"'\"&$D25&\"　\"&$E25&\"'!B\"&CG$1),\nIF(AND(CF$9<>\"\",$H$3=\"実績\"),INDIRECT(\"'\"&$D25&\"　\"&$E25&\"'!C\"&CG$1),\n\"\")),\"\")","v":""},{"$f":"IFERROR(IF(IF(AND(CF$9<>\"\",$H$3=\"計画\"),INDIRECT(\"'\"&$D25&\"　\"&$E25&\"'!B\"&CH$1),\nIF(AND(CF$9<>\"\",$H$3=\"実績\"),INDIRECT(\"'\"&$D25&\"　\"&$E25&\"'!C\"&CH$1),\n\"\"))=\"対象外\",\"対象外\",CF25/CG25),\"\")","v":""},{"$f":"IFERROR(IF(AND(CI$9<>\"\",$H$3=\"計画\"),INDIRECT(\"'\"&$D25&\"　\"&$E25&\"'!B\"&CI$1),\nIF(AND(CI$9<>\"\",$H$3=\"実績\"),INDIRECT(\"'\"&$D25&\"　\"&$E25&\"'!C\"&CI$1),\n\"\")),\"\")","v":""},{"$f":"IFERROR(IF(AND(CI$9<>\"\",$H$3=\"計画\"),INDIRECT(\"'\"&$D25&\"　\"&$E25&\"'!B\"&CJ$1),\nIF(AND(CI$9<>\"\",$H$3=\"実績\"),INDIRECT(\"'\"&$D25&\"　\"&$E25&\"'!C\"&CJ$1),\n\"\")),\"\")","v":""},{"$f":"IFERROR(IF(IF(AND(CI$9<>\"\",$H$3=\"計画\"),INDIRECT(\"'\"&$D25&\"　\"&$E25&\"'!B\"&CK$1),\nIF(AND(CI$9<>\"\",$H$3=\"実績\"),INDIRECT(\"'\"&$D25&\"　\"&$E25&\"'!C\"&CK$1),\n\"\"))=\"対象外\",\"対象外\",CI25/CJ25),\"\")","v":""},{"$f":"IFERROR(IF(AND(CL$9<>\"\",$H$3=\"計画\"),INDIRECT(\"'\"&$D25&\"　\"&$E25&\"'!B\"&CL$1),\nIF(AND(CL$9<>\"\",$H$3=\"実績\"),INDIRECT(\"'\"&$D25&\"　\"&$E25&\"'!C\"&CL$1),\n\"\")),\"\")","v":""},{"$f":"IFERROR(IF(AND(CL$9<>\"\",$H$3=\"計画\"),INDIRECT(\"'\"&$D25&\"　\"&$E25&\"'!B\"&CM$1),\nIF(AND(CL$9<>\"\",$H$3=\"実績\"),INDIRECT(\"'\"&$D25&\"　\"&$E25&\"'!C\"&CM$1),\n\"\")),\"\")","v":""},{"$f":"IFERROR(IF(IF(AND(CL$9<>\"\",$H$3=\"計画\"),INDIRECT(\"'\"&$D25&\"　\"&$E25&\"'!B\"&CN$1),\nIF(AND(CL$9<>\"\",$H$3=\"実績\"),INDIRECT(\"'\"&$D25&\"　\"&$E25&\"'!C\"&CN$1),\n\"\"))=\"対象外\",\"対象外\",CL25/CM25),\"\")","v":""},{"$f":"IFERROR(IF(AND(CO$9<>\"\",$H$3=\"計画\"),INDIRECT(\"'\"&$D25&\"　\"&$E25&\"'!B\"&CO$1),\nIF(AND(CO$9<>\"\",$H$3=\"実績\"),INDIRECT(\"'\"&$D25&\"　\"&$E25&\"'!C\"&CO$1),\n\"\")),\"\")","v":""},{"$f":"IFERROR(IF(AND(CO$9<>\"\",$H$3=\"計画\"),INDIRECT(\"'\"&$D25&\"　\"&$E25&\"'!B\"&CP$1),\nIF(AND(CO$9<>\"\",$H$3=\"実績\"),INDIRECT(\"'\"&$D25&\"　\"&$E25&\"'!C\"&CP$1),\n\"\")),\"\")","v":""},{"$f":"IFERROR(IF(IF(AND(CO$9<>\"\",$H$3=\"計画\"),INDIRECT(\"'\"&$D25&\"　\"&$E25&\"'!B\"&CQ$1),\nIF(AND(CO$9<>\"\",$H$3=\"実績\"),INDIRECT(\"'\"&$D25&\"　\"&$E25&\"'!C\"&CQ$1),\n\"\"))=\"対象外\",\"対象外\",CO25/CP25),\"\")","v":""},{"$f":"IFERROR(IF(AND(CR$9<>\"\",$H$3=\"計画\"),INDIRECT(\"'\"&$D25&\"　\"&$E25&\"'!B\"&CR$1),\nIF(AND(CR$9<>\"\",$H$3=\"実績\"),INDIRECT(\"'\"&$D25&\"　\"&$E25&\"'!C\"&CR$1),\n\"\")),\"\")","v":""},{"$f":"IFERROR(IF(AND(CR$9<>\"\",$H$3=\"計画\"),INDIRECT(\"'\"&$D25&\"　\"&$E25&\"'!B\"&CS$1),\nIF(AND(CR$9<>\"\",$H$3=\"実績\"),INDIRECT(\"'\"&$D25&\"　\"&$E25&\"'!C\"&CS$1),\n\"\")),\"\")","v":""},{"$f":"IFERROR(IF(IF(AND(CR$9<>\"\",$H$3=\"計画\"),INDIRECT(\"'\"&$D25&\"　\"&$E25&\"'!B\"&CT$1),\nIF(AND(CR$9<>\"\",$H$3=\"実績\"),INDIRECT(\"'\"&$D25&\"　\"&$E25&\"'!C\"&CT$1),\n\"\"))=\"対象外\",\"対象外\",CR25/CS25),\"\")","v":""},{"$f":"IFERROR(IF(AND(CU$9<>\"\",$H$3=\"計画\"),INDIRECT(\"'\"&$D25&\"　\"&$E25&\"'!B\"&CU$1),\nIF(AND(CU$9<>\"\",$H$3=\"実績\"),INDIRECT(\"'\"&$D25&\"　\"&$E25&\"'!C\"&CU$1),\n\"\")),\"\")","v":""},{"$f":"IFERROR(IF(AND(CU$9<>\"\",$H$3=\"計画\"),INDIRECT(\"'\"&$D25&\"　\"&$E25&\"'!B\"&CV$1),\nIF(AND(CU$9<>\"\",$H$3=\"実績\"),INDIRECT(\"'\"&$D25&\"　\"&$E25&\"'!C\"&CV$1),\n\"\")),\"\")","v":""},{"$f":"IFERROR(IF(IF(AND(CU$9<>\"\",$H$3=\"計画\"),INDIRECT(\"'\"&$D25&\"　\"&$E25&\"'!B\"&CW$1),\nIF(AND(CU$9<>\"\",$H$3=\"実績\"),INDIRECT(\"'\"&$D25&\"　\"&$E25&\"'!C\"&CW$1),\n\"\"))=\"対象外\",\"対象外\",CU25/CV25),\"\")","v":""},{"$f":"IFERROR(IF(AND(CX$9<>\"\",$H$3=\"計画\"),INDIRECT(\"'\"&$D25&\"　\"&$E25&\"'!B\"&CX$1),\nIF(AND(CX$9<>\"\",$H$3=\"実績\"),INDIRECT(\"'\"&$D25&\"　\"&$E25&\"'!C\"&CX$1),\n\"\")),\"\")","v":""},{"$f":"IFERROR(IF(AND(CX$9<>\"\",$H$3=\"計画\"),INDIRECT(\"'\"&$D25&\"　\"&$E25&\"'!B\"&CY$1),\nIF(AND(CX$9<>\"\",$H$3=\"実績\"),INDIRECT(\"'\"&$D25&\"　\"&$E25&\"'!C\"&CY$1),\n\"\")),\"\")","v":""},{"$f":"IFERROR(IF(IF(AND(CX$9<>\"\",$H$3=\"計画\"),INDIRECT(\"'\"&$D25&\"　\"&$E25&\"'!B\"&CZ$1),\nIF(AND(CX$9<>\"\",$H$3=\"実績\"),INDIRECT(\"'\"&$D25&\"　\"&$E25&\"'!C\"&CZ$1),\n\"\"))=\"対象外\",\"対象外\",CX25/CY25),\"\")","v":""},{"$f":"IFERROR(IF(AND(DA$9<>\"\",$H$3=\"計画\"),INDIRECT(\"'\"&$D25&\"　\"&$E25&\"'!B\"&DA$1),\nIF(AND(DA$9<>\"\",$H$3=\"実績\"),INDIRECT(\"'\"&$D25&\"　\"&$E25&\"'!C\"&DA$1),\n\"\")),\"\")","v":""},{"$f":"IFERROR(IF(AND(DA$9<>\"\",$H$3=\"計画\"),INDIRECT(\"'\"&$D25&\"　\"&$E25&\"'!B\"&DB$1),\nIF(AND(DA$9<>\"\",$H$3=\"実績\"),INDIRECT(\"'\"&$D25&\"　\"&$E25&\"'!C\"&DB$1),\n\"\")),\"\")","v":""},{"$f":"IFERROR(IF(IF(AND(DA$9<>\"\",$H$3=\"計画\"),INDIRECT(\"'\"&$D25&\"　\"&$E25&\"'!B\"&DC$1),\nIF(AND(DA$9<>\"\",$H$3=\"実績\"),INDIRECT(\"'\"&$D25&\"　\"&$E25&\"'!C\"&DC$1),\n\"\"))=\"対象外\",\"対象外\",DA25/DB25),\"\")","v":""},{"$f":"IFERROR(IF(AND(DD$9<>\"\",$H$3=\"計画\"),INDIRECT(\"'\"&$D25&\"　\"&$E25&\"'!B\"&DD$1),\nIF(AND(DD$9<>\"\",$H$3=\"実績\"),INDIRECT(\"'\"&$D25&\"　\"&$E25&\"'!C\"&DD$1),\n\"\")),\"\")","v":""},{"$f":"IFERROR(IF(AND(DD$9<>\"\",$H$3=\"計画\"),INDIRECT(\"'\"&$D25&\"　\"&$E25&\"'!B\"&DE$1),\nIF(AND(DD$9<>\"\",$H$3=\"実績\"),INDIRECT(\"'\"&$D25&\"　\"&$E25&\"'!C\"&DE$1),\n\"\")),\"\")","v":""},{"$f":"IFERROR(IF(IF(AND(DD$9<>\"\",$H$3=\"計画\"),INDIRECT(\"'\"&$D25&\"　\"&$E25&\"'!B\"&DF$1),\nIF(AND(DD$9<>\"\",$H$3=\"実績\"),INDIRECT(\"'\"&$D25&\"　\"&$E25&\"'!C\"&DF$1),\n\"\"))=\"対象外\",\"対象外\",DD25/DE25),\"\")","v":""},{"$f":"IFERROR(IF(AND(DG$9<>\"\",$H$3=\"計画\"),INDIRECT(\"'\"&$D25&\"　\"&$E25&\"'!B\"&DG$1),\nIF(AND(DG$9<>\"\",$H$3=\"実績\"),INDIRECT(\"'\"&$D25&\"　\"&$E25&\"'!C\"&DG$1),\n\"\")),\"\")","v":""},{"$f":"IFERROR(IF(AND(DG$9<>\"\",$H$3=\"計画\"),INDIRECT(\"'\"&$D25&\"　\"&$E25&\"'!B\"&DH$1),\nIF(AND(DG$9<>\"\",$H$3=\"実績\"),INDIRECT(\"'\"&$D25&\"　\"&$E25&\"'!C\"&DH$1),\n\"\")),\"\")","v":""},{"$f":"IFERROR(IF(IF(AND(DG$9<>\"\",$H$3=\"計画\"),INDIRECT(\"'\"&$D25&\"　\"&$E25&\"'!B\"&DI$1),\nIF(AND(DG$9<>\"\",$H$3=\"実績\"),INDIRECT(\"'\"&$D25&\"　\"&$E25&\"'!C\"&DI$1),\n\"\"))=\"対象外\",\"対象外\",DG25/DH25),\"\")","v":""},{"$f":"IFERROR(IF(AND(DJ$9<>\"\",$H$3=\"計画\"),INDIRECT(\"'\"&$D25&\"　\"&$E25&\"'!B\"&DJ$1),\nIF(AND(DJ$9<>\"\",$H$3=\"実績\"),INDIRECT(\"'\"&$D25&\"　\"&$E25&\"'!C\"&DJ$1),\n\"\")),\"\")","v":""},{"$f":"IFERROR(IF(AND(DJ$9<>\"\",$H$3=\"計画\"),INDIRECT(\"'\"&$D25&\"　\"&$E25&\"'!B\"&DK$1),\nIF(AND(DJ$9<>\"\",$H$3=\"実績\"),INDIRECT(\"'\"&$D25&\"　\"&$E25&\"'!C\"&DK$1),\n\"\")),\"\")","v":""},{"$f":"IFERROR(IF(IF(AND(DJ$9<>\"\",$H$3=\"計画\"),INDIRECT(\"'\"&$D25&\"　\"&$E25&\"'!B\"&DL$1),\nIF(AND(DJ$9<>\"\",$H$3=\"実績\"),INDIRECT(\"'\"&$D25&\"　\"&$E25&\"'!C\"&DL$1),\n\"\"))=\"対象外\",\"対象外\",DJ25/DK25),\"\")","v":""}]
[null,null,null,null,null,"","",{"$f":"IFERROR(IF(IF(H$3=\"計画\",INDIRECT(\"'\"&$D26&\"　\"&$E26&\"'!B\"&H$1),\nIF(H$3=\"実績\",INDIRECT(\"'\"&$D26&\"　\"&$E26&\"'!C\"&H$1),\n\"\"))>=28,F26/G26,\"対象外\"),\"\")","v":""},{"$f":"IFERROR(IF(AND(I$9<>\"\",$H$3=\"計画\"),INDIRECT(\"'\"&$D26&\"　\"&$E26&\"'!B\"&I$1),\nIF(AND(I$9<>\"\",$H$3=\"実績\"),INDIRECT(\"'\"&$D26&\"　\"&$E26&\"'!C\"&I$1),\n\"\")),\"\")","v":""},{"$f":"IFERROR(IF(AND(I$9<>\"\",$H$3=\"計画\"),INDIRECT(\"'\"&$D26&\"　\"&$E26&\"'!B\"&J$1),\nIF(AND(I$9<>\"\",$H$3=\"実績\"),INDIRECT(\"'\"&$D26&\"　\"&$E26&\"'!C\"&J$1),\n\"\")),\"\")","v":""},{"$f":"IFERROR(IF(IF(AND(I$9<>\"\",$H$3=\"計画\"),INDIRECT(\"'\"&$D26&\"　\"&$E26&\"'!B\"&K$1),\nIF(AND(I$9<>\"\",$H$3=\"実績\"),INDIRECT(\"'\"&$D26&\"　\"&$E26&\"'!C\"&K$1),\n\"\"))=\"対象外\",\"対象外\",I26/J26),\"\")","v":""},{"$f":"IFERROR(IF(AND(L$9<>\"\",$H$3=\"計画\"),INDIRECT(\"'\"&$D26&\"　\"&$E26&\"'!B\"&L$1),\nIF(AND(L$9<>\"\",$H$3=\"実績\"),INDIRECT(\"'\"&$D26&\"　\"&$E26&\"'!C\"&L$1),\n\"\")),\"\")","v":""},{"$f":"IFERROR(IF(AND(L$9<>\"\",$H$3=\"計画\"),INDIRECT(\"'\"&$D26&\"　\"&$E26&\"'!B\"&M$1),\nIF(AND(L$9<>\"\",$H$3=\"実績\"),INDIRECT(\"'\"&$D26&\"　\"&$E26&\"'!C\"&M$1),\n\"\")),\"\")","v":""},{"$f":"IFERROR(IF(IF(AND(L$9<>\"\",$H$3=\"計画\"),INDIRECT(\"'\"&$D26&\"　\"&$E26&\"'!B\"&N$1),\nIF(AND(L$9<>\"\",$H$3=\"実績\"),INDIRECT(\"'\"&$D26&\"　\"&$E26&\"'!C\"&N$1),\n\"\"))=\"対象外\",\"対象外\",L26/M26),\"\")","v":""},{"$f":"IFERROR(IF(AND(O$9<>\"\",$H$3=\"計画\"),INDIRECT(\"'\"&$D26&\"　\"&$E26&\"'!B\"&O$1),\nIF(AND(O$9<>\"\",$H$3=\"実績\"),INDIRECT(\"'\"&$D26&\"　\"&$E26&\"'!C\"&O$1),\n\"\")),\"\")","v":""},{"$f":"IFERROR(IF(AND(O$9<>\"\",$H$3=\"計画\"),INDIRECT(\"'\"&$D26&\"　\"&$E26&\"'!B\"&P$1),\nIF(AND(O$9<>\"\",$H$3=\"実績\"),INDIRECT(\"'\"&$D26&\"　\"&$E26&\"'!C\"&P$1),\n\"\")),\"\")","v":""},{"$f":"IFERROR(IF(IF(AND(O$9<>\"\",$H$3=\"計画\"),INDIRECT(\"'\"&$D26&\"　\"&$E26&\"'!B\"&Q$1),\nIF(AND(O$9<>\"\",$H$3=\"実績\"),INDIRECT(\"'\"&$D26&\"　\"&$E26&\"'!C\"&Q$1),\n\"\"))=\"対象外\",\"対象外\",O26/P26),\"\")","v":""},{"$f":"IFERROR(IF(AND(R$9<>\"\",$H$3=\"計画\"),INDIRECT(\"'\"&$D26&\"　\"&$E26&\"'!B\"&R$1),\nIF(AND(R$9<>\"\",$H$3=\"実績\"),INDIRECT(\"'\"&$D26&\"　\"&$E26&\"'!C\"&R$1),\n\"\")),\"\")","v":""},{"$f":"IFERROR(IF(AND(R$9<>\"\",$H$3=\"計画\"),INDIRECT(\"'\"&$D26&\"　\"&$E26&\"'!B\"&S$1),\nIF(AND(R$9<>\"\",$H$3=\"実績\"),INDIRECT(\"'\"&$D26&\"　\"&$E26&\"'!C\"&S$1),\n\"\")),\"\")","v":""},{"$f":"IFERROR(IF(IF(AND(R$9<>\"\",$H$3=\"計画\"),INDIRECT(\"'\"&$D26&\"　\"&$E26&\"'!B\"&T$1),\nIF(AND(R$9<>\"\",$H$3=\"実績\"),INDIRECT(\"'\"&$D26&\"　\"&$E26&\"'!C\"&T$1),\n\"\"))=\"対象外\",\"対象外\",R26/S26),\"\")","v":""},{"$f":"IFERROR(IF(AND(U$9<>\"\",$H$3=\"計画\"),INDIRECT(\"'\"&$D26&\"　\"&$E26&\"'!B\"&U$1),\nIF(AND(U$9<>\"\",$H$3=\"実績\"),INDIRECT(\"'\"&$D26&\"　\"&$E26&\"'!C\"&U$1),\n\"\")),\"\")","v":""},{"$f":"IFERROR(IF(AND(U$9<>\"\",$H$3=\"計画\"),INDIRECT(\"'\"&$D26&\"　\"&$E26&\"'!B\"&V$1),\nIF(AND(U$9<>\"\",$H$3=\"実績\"),INDIRECT(\"'\"&$D26&\"　\"&$E26&\"'!C\"&V$1),\n\"\")),\"\")","v":""},{"$f":"IFERROR(IF(IF(AND(U$9<>\"\",$H$3=\"計画\"),INDIRECT(\"'\"&$D26&\"　\"&$E26&\"'!B\"&W$1),\nIF(AND(U$9<>\"\",$H$3=\"実績\"),INDIRECT(\"'\"&$D26&\"　\"&$E26&\"'!C\"&W$1),\n\"\"))=\"対象外\",\"対象外\",U26/V26),\"\")","v":""},{"$f":"IFERROR(IF(AND(X$9<>\"\",$H$3=\"計画\"),INDIRECT(\"'\"&$D26&\"　\"&$E26&\"'!B\"&X$1),\nIF(AND(X$9<>\"\",$H$3=\"実績\"),INDIRECT(\"'\"&$D26&\"　\"&$E26&\"'!C\"&X$1),\n\"\")),\"\")","v":""},{"$f":"IFERROR(IF(AND(X$9<>\"\",$H$3=\"計画\"),INDIRECT(\"'\"&$D26&\"　\"&$E26&\"'!B\"&Y$1),\nIF(AND(X$9<>\"\",$H$3=\"実績\"),INDIRECT(\"'\"&$D26&\"　\"&$E26&\"'!C\"&Y$1),\n\"\")),\"\")","v":""},{"$f":"IFERROR(IF(IF(AND(X$9<>\"\",$H$3=\"計画\"),INDIRECT(\"'\"&$D26&\"　\"&$E26&\"'!B\"&Z$1),\nIF(AND(X$9<>\"\",$H$3=\"実績\"),INDIRECT(\"'\"&$D26&\"　\"&$E26&\"'!C\"&Z$1),\n\"\"))=\"対象外\",\"対象外\",X26/Y26),\"\")","v":""},{"$f":"IFERROR(IF(AND(AA$9<>\"\",$H$3=\"計画\"),INDIRECT(\"'\"&$D26&\"　\"&$E26&\"'!B\"&AA$1),\nIF(AND(AA$9<>\"\",$H$3=\"実績\"),INDIRECT(\"'\"&$D26&\"　\"&$E26&\"'!C\"&AA$1),\n\"\")),\"\")","v":""},{"$f":"IFERROR(IF(AND(AA$9<>\"\",$H$3=\"計画\"),INDIRECT(\"'\"&$D26&\"　\"&$E26&\"'!B\"&AB$1),\nIF(AND(AA$9<>\"\",$H$3=\"実績\"),INDIRECT(\"'\"&$D26&\"　\"&$E26&\"'!C\"&AB$1),\n\"\")),\"\")","v":""},{"$f":"IFERROR(IF(IF(AND(AA$9<>\"\",$H$3=\"計画\"),INDIRECT(\"'\"&$D26&\"　\"&$E26&\"'!B\"&AC$1),\nIF(AND(AA$9<>\"\",$H$3=\"実績\"),INDIRECT(\"'\"&$D26&\"　\"&$E26&\"'!C\"&AC$1),\n\"\"))=\"対象外\",\"対象外\",AA26/AB26),\"\")","v":""},{"$f":"IFERROR(IF(AND(AD$9<>\"\",$H$3=\"計画\"),INDIRECT(\"'\"&$D26&\"　\"&$E26&\"'!B\"&AD$1),\nIF(AND(AD$9<>\"\",$H$3=\"実績\"),INDIRECT(\"'\"&$D26&\"　\"&$E26&\"'!C\"&AD$1),\n\"\")),\"\")","v":""},{"$f":"IFERROR(IF(AND(AD$9<>\"\",$H$3=\"計画\"),INDIRECT(\"'\"&$D26&\"　\"&$E26&\"'!B\"&AE$1),\nIF(AND(AD$9<>\"\",$H$3=\"実績\"),INDIRECT(\"'\"&$D26&\"　\"&$E26&\"'!C\"&AE$1),\n\"\")),\"\")","v":""},{"$f":"IFERROR(IF(IF(AND(AD$9<>\"\",$H$3=\"計画\"),INDIRECT(\"'\"&$D26&\"　\"&$E26&\"'!B\"&AF$1),\nIF(AND(AD$9<>\"\",$H$3=\"実績\"),INDIRECT(\"'\"&$D26&\"　\"&$E26&\"'!C\"&AF$1),\n\"\"))=\"対象外\",\"対象外\",AD26/AE26),\"\")","v":""},{"$f":"IFERROR(IF(AND(AG$9<>\"\",$H$3=\"計画\"),INDIRECT(\"'\"&$D26&\"　\"&$E26&\"'!B\"&AG$1),\nIF(AND(AG$9<>\"\",$H$3=\"実績\"),INDIRECT(\"'\"&$D26&\"　\"&$E26&\"'!C\"&AG$1),\n\"\")),\"\")","v":""},{"$f":"IFERROR(IF(AND(AG$9<>\"\",$H$3=\"計画\"),INDIRECT(\"'\"&$D26&\"　\"&$E26&\"'!B\"&AH$1),\nIF(AND(AG$9<>\"\",$H$3=\"実績\"),INDIRECT(\"'\"&$D26&\"　\"&$E26&\"'!C\"&AH$1),\n\"\")),\"\")","v":""},{"$f":"IFERROR(IF(IF(AND(AG$9<>\"\",$H$3=\"計画\"),INDIRECT(\"'\"&$D26&\"　\"&$E26&\"'!B\"&AI$1),\nIF(AND(AG$9<>\"\",$H$3=\"実績\"),INDIRECT(\"'\"&$D26&\"　\"&$E26&\"'!C\"&AI$1),\n\"\"))=\"対象外\",\"対象外\",AG26/AH26),\"\")","v":""},{"$f":"IFERROR(IF(AND(AJ$9<>\"\",$H$3=\"計画\"),INDIRECT(\"'\"&$D26&\"　\"&$E26&\"'!B\"&AJ$1),\nIF(AND(AJ$9<>\"\",$H$3=\"実績\"),INDIRECT(\"'\"&$D26&\"　\"&$E26&\"'!C\"&AJ$1),\n\"\")),\"\")","v":""},{"$f":"IFERROR(IF(AND(AJ$9<>\"\",$H$3=\"計画\"),INDIRECT(\"'\"&$D26&\"　\"&$E26&\"'!B\"&AK$1),\nIF(AND(AJ$9<>\"\",$H$3=\"実績\"),INDIRECT(\"'\"&$D26&\"　\"&$E26&\"'!C\"&AK$1),\n\"\")),\"\")","v":""},{"$f":"IFERROR(IF(IF(AND(AJ$9<>\"\",$H$3=\"計画\"),INDIRECT(\"'\"&$D26&\"　\"&$E26&\"'!B\"&AL$1),\nIF(AND(AJ$9<>\"\",$H$3=\"実績\"),INDIRECT(\"'\"&$D26&\"　\"&$E26&\"'!C\"&AL$1),\n\"\"))=\"対象外\",\"対象外\",AJ26/AK26),\"\")","v":""},{"$f":"IFERROR(IF(AND(AM$9<>\"\",$H$3=\"計画\"),INDIRECT(\"'\"&$D26&\"　\"&$E26&\"'!B\"&AM$1),\nIF(AND(AM$9<>\"\",$H$3=\"実績\"),INDIRECT(\"'\"&$D26&\"　\"&$E26&\"'!C\"&AM$1),\n\"\")),\"\")","v":""},{"$f":"IFERROR(IF(AND(AM$9<>\"\",$H$3=\"計画\"),INDIRECT(\"'\"&$D26&\"　\"&$E26&\"'!B\"&AN$1),\nIF(AND(AM$9<>\"\",$H$3=\"実績\"),INDIRECT(\"'\"&$D26&\"　\"&$E26&\"'!C\"&AN$1),\n\"\")),\"\")","v":""},{"$f":"IFERROR(IF(IF(AND(AM$9<>\"\",$H$3=\"計画\"),INDIRECT(\"'\"&$D26&\"　\"&$E26&\"'!B\"&AO$1),\nIF(AND(AM$9<>\"\",$H$3=\"実績\"),INDIRECT(\"'\"&$D26&\"　\"&$E26&\"'!C\"&AO$1),\n\"\"))=\"対象外\",\"対象外\",AM26/AN26),\"\")","v":""},{"$f":"IFERROR(IF(AND(AP$9<>\"\",$H$3=\"計画\"),INDIRECT(\"'\"&$D26&\"　\"&$E26&\"'!B\"&AP$1),\nIF(AND(AP$9<>\"\",$H$3=\"実績\"),INDIRECT(\"'\"&$D26&\"　\"&$E26&\"'!C\"&AP$1),\n\"\")),\"\")","v":""},{"$f":"IFERROR(IF(AND(AP$9<>\"\",$H$3=\"計画\"),INDIRECT(\"'\"&$D26&\"　\"&$E26&\"'!B\"&AQ$1),\nIF(AND(AP$9<>\"\",$H$3=\"実績\"),INDIRECT(\"'\"&$D26&\"　\"&$E26&\"'!C\"&AQ$1),\n\"\")),\"\")","v":""},{"$f":"IFERROR(IF(IF(AND(AP$9<>\"\",$H$3=\"計画\"),INDIRECT(\"'\"&$D26&\"　\"&$E26&\"'!B\"&AR$1),\nIF(AND(AP$9<>\"\",$H$3=\"実績\"),INDIRECT(\"'\"&$D26&\"　\"&$E26&\"'!C\"&AR$1),\n\"\"))=\"対象外\",\"対象外\",AP26/AQ26),\"\")","v":""},{"$f":"IFERROR(IF(AND(AS$9<>\"\",$H$3=\"計画\"),INDIRECT(\"'\"&$D26&\"　\"&$E26&\"'!B\"&AS$1),\nIF(AND(AS$9<>\"\",$H$3=\"実績\"),INDIRECT(\"'\"&$D26&\"　\"&$E26&\"'!C\"&AS$1),\n\"\")),\"\")","v":""},{"$f":"IFERROR(IF(AND(AS$9<>\"\",$H$3=\"計画\"),INDIRECT(\"'\"&$D26&\"　\"&$E26&\"'!B\"&AT$1),\nIF(AND(AS$9<>\"\",$H$3=\"実績\"),INDIRECT(\"'\"&$D26&\"　\"&$E26&\"'!C\"&AT$1),\n\"\")),\"\")","v":""},{"$f":"IFERROR(IF(IF(AND(AS$9<>\"\",$H$3=\"計画\"),INDIRECT(\"'\"&$D26&\"　\"&$E26&\"'!B\"&AU$1),\nIF(AND(AS$9<>\"\",$H$3=\"実績\"),INDIRECT(\"'\"&$D26&\"　\"&$E26&\"'!C\"&AU$1),\n\"\"))=\"対象外\",\"対象外\",AS26/AT26),\"\")","v":""},{"$f":"IFERROR(IF(AND(AV$9<>\"\",$H$3=\"計画\"),INDIRECT(\"'\"&$D26&\"　\"&$E26&\"'!B\"&AV$1),\nIF(AND(AV$9<>\"\",$H$3=\"実績\"),INDIRECT(\"'\"&$D26&\"　\"&$E26&\"'!C\"&AV$1),\n\"\")),\"\")","v":""},{"$f":"IFERROR(IF(AND(AV$9<>\"\",$H$3=\"計画\"),INDIRECT(\"'\"&$D26&\"　\"&$E26&\"'!B\"&AW$1),\nIF(AND(AV$9<>\"\",$H$3=\"実績\"),INDIRECT(\"'\"&$D26&\"　\"&$E26&\"'!C\"&AW$1),\n\"\")),\"\")","v":""},{"$f":"IFERROR(IF(IF(AND(AV$9<>\"\",$H$3=\"計画\"),INDIRECT(\"'\"&$D26&\"　\"&$E26&\"'!B\"&AX$1),\nIF(AND(AV$9<>\"\",$H$3=\"実績\"),INDIRECT(\"'\"&$D26&\"　\"&$E26&\"'!C\"&AX$1),\n\"\"))=\"対象外\",\"対象外\",AV26/AW26),\"\")","v":""},{"$f":"IFERROR(IF(AND(AY$9<>\"\",$H$3=\"計画\"),INDIRECT(\"'\"&$D26&\"　\"&$E26&\"'!B\"&AY$1),\nIF(AND(AY$9<>\"\",$H$3=\"実績\"),INDIRECT(\"'\"&$D26&\"　\"&$E26&\"'!C\"&AY$1),\n\"\")),\"\")","v":""},{"$f":"IFERROR(IF(AND(AY$9<>\"\",$H$3=\"計画\"),INDIRECT(\"'\"&$D26&\"　\"&$E26&\"'!B\"&AZ$1),\nIF(AND(AY$9<>\"\",$H$3=\"実績\"),INDIRECT(\"'\"&$D26&\"　\"&$E26&\"'!C\"&AZ$1),\n\"\")),\"\")","v":""},{"$f":"IFERROR(IF(IF(AND(AY$9<>\"\",$H$3=\"計画\"),INDIRECT(\"'\"&$D26&\"　\"&$E26&\"'!B\"&BA$1),\nIF(AND(AY$9<>\"\",$H$3=\"実績\"),INDIRECT(\"'\"&$D26&\"　\"&$E26&\"'!C\"&BA$1),\n\"\"))=\"対象外\",\"対象外\",AY26/AZ26),\"\")","v":""},{"$f":"IFERROR(IF(AND(BB$9<>\"\",$H$3=\"計画\"),INDIRECT(\"'\"&$D26&\"　\"&$E26&\"'!B\"&BB$1),\nIF(AND(BB$9<>\"\",$H$3=\"実績\"),INDIRECT(\"'\"&$D26&\"　\"&$E26&\"'!C\"&BB$1),\n\"\")),\"\")","v":""},{"$f":"IFERROR(IF(AND(BB$9<>\"\",$H$3=\"計画\"),INDIRECT(\"'\"&$D26&\"　\"&$E26&\"'!B\"&BC$1),\nIF(AND(BB$9<>\"\",$H$3=\"実績\"),INDIRECT(\"'\"&$D26&\"　\"&$E26&\"'!C\"&BC$1),\n\"\")),\"\")","v":""},{"$f":"IFERROR(IF(IF(AND(BB$9<>\"\",$H$3=\"計画\"),INDIRECT(\"'\"&$D26&\"　\"&$E26&\"'!B\"&BD$1),\nIF(AND(BB$9<>\"\",$H$3=\"実績\"),INDIRECT(\"'\"&$D26&\"　\"&$E26&\"'!C\"&BD$1),\n\"\"))=\"対象外\",\"対象外\",BB26/BC26),\"\")","v":""},{"$f":"IFERROR(IF(AND(BE$9<>\"\",$H$3=\"計画\"),INDIRECT(\"'\"&$D26&\"　\"&$E26&\"'!B\"&BE$1),\nIF(AND(BE$9<>\"\",$H$3=\"実績\"),INDIRECT(\"'\"&$D26&\"　\"&$E26&\"'!C\"&BE$1),\n\"\")),\"\")","v":""},{"$f":"IFERROR(IF(AND(BE$9<>\"\",$H$3=\"計画\"),INDIRECT(\"'\"&$D26&\"　\"&$E26&\"'!B\"&BF$1),\nIF(AND(BE$9<>\"\",$H$3=\"実績\"),INDIRECT(\"'\"&$D26&\"　\"&$E26&\"'!C\"&BF$1),\n\"\")),\"\")","v":""},{"$f":"IFERROR(IF(IF(AND(BE$9<>\"\",$H$3=\"計画\"),INDIRECT(\"'\"&$D26&\"　\"&$E26&\"'!B\"&BG$1),\nIF(AND(BE$9<>\"\",$H$3=\"実績\"),INDIRECT(\"'\"&$D26&\"　\"&$E26&\"'!C\"&BG$1),\n\"\"))=\"対象外\",\"対象外\",BE26/BF26),\"\")","v":""},{"$f":"IFERROR(IF(AND(BH$9<>\"\",$H$3=\"計画\"),INDIRECT(\"'\"&$D26&\"　\"&$E26&\"'!B\"&BH$1),\nIF(AND(BH$9<>\"\",$H$3=\"実績\"),INDIRECT(\"'\"&$D26&\"　\"&$E26&\"'!C\"&BH$1),\n\"\")),\"\")","v":""},{"$f":"IFERROR(IF(AND(BH$9<>\"\",$H$3=\"計画\"),INDIRECT(\"'\"&$D26&\"　\"&$E26&\"'!B\"&BI$1),\nIF(AND(BH$9<>\"\",$H$3=\"実績\"),INDIRECT(\"'\"&$D26&\"　\"&$E26&\"'!C\"&BI$1),\n\"\")),\"\")","v":""},{"$f":"IFERROR(IF(IF(AND(BH$9<>\"\",$H$3=\"計画\"),INDIRECT(\"'\"&$D26&\"　\"&$E26&\"'!B\"&BJ$1),\nIF(AND(BH$9<>\"\",$H$3=\"実績\"),INDIRECT(\"'\"&$D26&\"　\"&$E26&\"'!C\"&BJ$1),\n\"\"))=\"対象外\",\"対象外\",BH26/BI26),\"\")","v":""},{"$f":"IFERROR(IF(AND(BK$9<>\"\",$H$3=\"計画\"),INDIRECT(\"'\"&$D26&\"　\"&$E26&\"'!B\"&BK$1),\nIF(AND(BK$9<>\"\",$H$3=\"実績\"),INDIRECT(\"'\"&$D26&\"　\"&$E26&\"'!C\"&BK$1),\n\"\")),\"\")","v":""},{"$f":"IFERROR(IF(AND(BK$9<>\"\",$H$3=\"計画\"),INDIRECT(\"'\"&$D26&\"　\"&$E26&\"'!B\"&BL$1),\nIF(AND(BK$9<>\"\",$H$3=\"実績\"),INDIRECT(\"'\"&$D26&\"　\"&$E26&\"'!C\"&BL$1),\n\"\")),\"\")","v":""},{"$f":"IFERROR(IF(IF(AND(BK$9<>\"\",$H$3=\"計画\"),INDIRECT(\"'\"&$D26&\"　\"&$E26&\"'!B\"&BM$1),\nIF(AND(BK$9<>\"\",$H$3=\"実績\"),INDIRECT(\"'\"&$D26&\"　\"&$E26&\"'!C\"&BM$1),\n\"\"))=\"対象外\",\"対象外\",BK26/BL26),\"\")","v":""},{"$f":"IFERROR(IF(AND(BN$9<>\"\",$H$3=\"計画\"),INDIRECT(\"'\"&$D26&\"　\"&$E26&\"'!B\"&BN$1),\nIF(AND(BN$9<>\"\",$H$3=\"実績\"),INDIRECT(\"'\"&$D26&\"　\"&$E26&\"'!C\"&BN$1),\n\"\")),\"\")","v":""},{"$f":"IFERROR(IF(AND(BN$9<>\"\",$H$3=\"計画\"),INDIRECT(\"'\"&$D26&\"　\"&$E26&\"'!B\"&BO$1),\nIF(AND(BN$9<>\"\",$H$3=\"実績\"),INDIRECT(\"'\"&$D26&\"　\"&$E26&\"'!C\"&BO$1),\n\"\")),\"\")","v":""},{"$f":"IFERROR(IF(IF(AND(BN$9<>\"\",$H$3=\"計画\"),INDIRECT(\"'\"&$D26&\"　\"&$E26&\"'!B\"&BP$1),\nIF(AND(BN$9<>\"\",$H$3=\"実績\"),INDIRECT(\"'\"&$D26&\"　\"&$E26&\"'!C\"&BP$1),\n\"\"))=\"対象外\",\"対象外\",BN26/BO26),\"\")","v":""},{"$f":"IFERROR(IF(AND(BQ$9<>\"\",$H$3=\"計画\"),INDIRECT(\"'\"&$D26&\"　\"&$E26&\"'!B\"&BQ$1),\nIF(AND(BQ$9<>\"\",$H$3=\"実績\"),INDIRECT(\"'\"&$D26&\"　\"&$E26&\"'!C\"&BQ$1),\n\"\")),\"\")","v":""},{"$f":"IFERROR(IF(AND(BQ$9<>\"\",$H$3=\"計画\"),INDIRECT(\"'\"&$D26&\"　\"&$E26&\"'!B\"&BR$1),\nIF(AND(BQ$9<>\"\",$H$3=\"実績\"),INDIRECT(\"'\"&$D26&\"　\"&$E26&\"'!C\"&BR$1),\n\"\")),\"\")","v":""},{"$f":"IFERROR(IF(IF(AND(BQ$9<>\"\",$H$3=\"計画\"),INDIRECT(\"'\"&$D26&\"　\"&$E26&\"'!B\"&BS$1),\nIF(AND(BQ$9<>\"\",$H$3=\"実績\"),INDIRECT(\"'\"&$D26&\"　\"&$E26&\"'!C\"&BS$1),\n\"\"))=\"対象外\",\"対象外\",BQ26/BR26),\"\")","v":""},{"$f":"IFERROR(IF(AND(BT$9<>\"\",$H$3=\"計画\"),INDIRECT(\"'\"&$D26&\"　\"&$E26&\"'!B\"&BT$1),\nIF(AND(BT$9<>\"\",$H$3=\"実績\"),INDIRECT(\"'\"&$D26&\"　\"&$E26&\"'!C\"&BT$1),\n\"\")),\"\")","v":""},{"$f":"IFERROR(IF(AND(BT$9<>\"\",$H$3=\"計画\"),INDIRECT(\"'\"&$D26&\"　\"&$E26&\"'!B\"&BU$1),\nIF(AND(BT$9<>\"\",$H$3=\"実績\"),INDIRECT(\"'\"&$D26&\"　\"&$E26&\"'!C\"&BU$1),\n\"\")),\"\")","v":""},{"$f":"IFERROR(IF(IF(AND(BT$9<>\"\",$H$3=\"計画\"),INDIRECT(\"'\"&$D26&\"　\"&$E26&\"'!B\"&BV$1),\nIF(AND(BT$9<>\"\",$H$3=\"実績\"),INDIRECT(\"'\"&$D26&\"　\"&$E26&\"'!C\"&BV$1),\n\"\"))=\"対象外\",\"対象外\",BT26/BU26),\"\")","v":""},{"$f":"IFERROR(IF(AND(BW$9<>\"\",$H$3=\"計画\"),INDIRECT(\"'\"&$D26&\"　\"&$E26&\"'!B\"&BW$1),\nIF(AND(BW$9<>\"\",$H$3=\"実績\"),INDIRECT(\"'\"&$D26&\"　\"&$E26&\"'!C\"&BW$1),\n\"\")),\"\")","v":""},{"$f":"IFERROR(IF(AND(BW$9<>\"\",$H$3=\"計画\"),INDIRECT(\"'\"&$D26&\"　\"&$E26&\"'!B\"&BX$1),\nIF(AND(BW$9<>\"\",$H$3=\"実績\"),INDIRECT(\"'\"&$D26&\"　\"&$E26&\"'!C\"&BX$1),\n\"\")),\"\")","v":""},{"$f":"IFERROR(IF(IF(AND(BW$9<>\"\",$H$3=\"計画\"),INDIRECT(\"'\"&$D26&\"　\"&$E26&\"'!B\"&BY$1),\nIF(AND(BW$9<>\"\",$H$3=\"実績\"),INDIRECT(\"'\"&$D26&\"　\"&$E26&\"'!C\"&BY$1),\n\"\"))=\"対象外\",\"対象外\",BW26/BX26),\"\")","v":""},{"$f":"IFERROR(IF(AND(BZ$9<>\"\",$H$3=\"計画\"),INDIRECT(\"'\"&$D26&\"　\"&$E26&\"'!B\"&BZ$1),\nIF(AND(BZ$9<>\"\",$H$3=\"実績\"),INDIRECT(\"'\"&$D26&\"　\"&$E26&\"'!C\"&BZ$1),\n\"\")),\"\")","v":""},{"$f":"IFERROR(IF(AND(BZ$9<>\"\",$H$3=\"計画\"),INDIRECT(\"'\"&$D26&\"　\"&$E26&\"'!B\"&CA$1),\nIF(AND(BZ$9<>\"\",$H$3=\"実績\"),INDIRECT(\"'\"&$D26&\"　\"&$E26&\"'!C\"&CA$1),\n\"\")),\"\")","v":""},{"$f":"IFERROR(IF(IF(AND(BZ$9<>\"\",$H$3=\"計画\"),INDIRECT(\"'\"&$D26&\"　\"&$E26&\"'!B\"&CB$1),\nIF(AND(BZ$9<>\"\",$H$3=\"実績\"),INDIRECT(\"'\"&$D26&\"　\"&$E26&\"'!C\"&CB$1),\n\"\"))=\"対象外\",\"対象外\",BZ26/CA26),\"\")","v":""},{"$f":"IFERROR(IF(AND(CC$9<>\"\",$H$3=\"計画\"),INDIRECT(\"'\"&$D26&\"　\"&$E26&\"'!B\"&CC$1),\nIF(AND(CC$9<>\"\",$H$3=\"実績\"),INDIRECT(\"'\"&$D26&\"　\"&$E26&\"'!C\"&CC$1),\n\"\")),\"\")","v":""},{"$f":"IFERROR(IF(AND(CC$9<>\"\",$H$3=\"計画\"),INDIRECT(\"'\"&$D26&\"　\"&$E26&\"'!B\"&CD$1),\nIF(AND(CC$9<>\"\",$H$3=\"実績\"),INDIRECT(\"'\"&$D26&\"　\"&$E26&\"'!C\"&CD$1),\n\"\")),\"\")","v":""},{"$f":"IFERROR(IF(IF(AND(CC$9<>\"\",$H$3=\"計画\"),INDIRECT(\"'\"&$D26&\"　\"&$E26&\"'!B\"&CE$1),\nIF(AND(CC$9<>\"\",$H$3=\"実績\"),INDIRECT(\"'\"&$D26&\"　\"&$E26&\"'!C\"&CE$1),\n\"\"))=\"対象外\",\"対象外\",CC26/CD26),\"\")","v":""},{"$f":"IFERROR(IF(AND(CF$9<>\"\",$H$3=\"計画\"),INDIRECT(\"'\"&$D26&\"　\"&$E26&\"'!B\"&CF$1),\nIF(AND(CF$9<>\"\",$H$3=\"実績\"),INDIRECT(\"'\"&$D26&\"　\"&$E26&\"'!C\"&CF$1),\n\"\")),\"\")","v":""},{"$f":"IFERROR(IF(AND(CF$9<>\"\",$H$3=\"計画\"),INDIRECT(\"'\"&$D26&\"　\"&$E26&\"'!B\"&CG$1),\nIF(AND(CF$9<>\"\",$H$3=\"実績\"),INDIRECT(\"'\"&$D26&\"　\"&$E26&\"'!C\"&CG$1),\n\"\")),\"\")","v":""},{"$f":"IFERROR(IF(IF(AND(CF$9<>\"\",$H$3=\"計画\"),INDIRECT(\"'\"&$D26&\"　\"&$E26&\"'!B\"&CH$1),\nIF(AND(CF$9<>\"\",$H$3=\"実績\"),INDIRECT(\"'\"&$D26&\"　\"&$E26&\"'!C\"&CH$1),\n\"\"))=\"対象外\",\"対象外\",CF26/CG26),\"\")","v":""},{"$f":"IFERROR(IF(AND(CI$9<>\"\",$H$3=\"計画\"),INDIRECT(\"'\"&$D26&\"　\"&$E26&\"'!B\"&CI$1),\nIF(AND(CI$9<>\"\",$H$3=\"実績\"),INDIRECT(\"'\"&$D26&\"　\"&$E26&\"'!C\"&CI$1),\n\"\")),\"\")","v":""},{"$f":"IFERROR(IF(AND(CI$9<>\"\",$H$3=\"計画\"),INDIRECT(\"'\"&$D26&\"　\"&$E26&\"'!B\"&CJ$1),\nIF(AND(CI$9<>\"\",$H$3=\"実績\"),INDIRECT(\"'\"&$D26&\"　\"&$E26&\"'!C\"&CJ$1),\n\"\")),\"\")","v":""},{"$f":"IFERROR(IF(IF(AND(CI$9<>\"\",$H$3=\"計画\"),INDIRECT(\"'\"&$D26&\"　\"&$E26&\"'!B\"&CK$1),\nIF(AND(CI$9<>\"\",$H$3=\"実績\"),INDIRECT(\"'\"&$D26&\"　\"&$E26&\"'!C\"&CK$1),\n\"\"))=\"対象外\",\"対象外\",CI26/CJ26),\"\")","v":""},{"$f":"IFERROR(IF(AND(CL$9<>\"\",$H$3=\"計画\"),INDIRECT(\"'\"&$D26&\"　\"&$E26&\"'!B\"&CL$1),\nIF(AND(CL$9<>\"\",$H$3=\"実績\"),INDIRECT(\"'\"&$D26&\"　\"&$E26&\"'!C\"&CL$1),\n\"\")),\"\")","v":""},{"$f":"IFERROR(IF(AND(CL$9<>\"\",$H$3=\"計画\"),INDIRECT(\"'\"&$D26&\"　\"&$E26&\"'!B\"&CM$1),\nIF(AND(CL$9<>\"\",$H$3=\"実績\"),INDIRECT(\"'\"&$D26&\"　\"&$E26&\"'!C\"&CM$1),\n\"\")),\"\")","v":""},{"$f":"IFERROR(IF(IF(AND(CL$9<>\"\",$H$3=\"計画\"),INDIRECT(\"'\"&$D26&\"　\"&$E26&\"'!B\"&CN$1),\nIF(AND(CL$9<>\"\",$H$3=\"実績\"),INDIRECT(\"'\"&$D26&\"　\"&$E26&\"'!C\"&CN$1),\n\"\"))=\"対象外\",\"対象外\",CL26/CM26),\"\")","v":""},{"$f":"IFERROR(IF(AND(CO$9<>\"\",$H$3=\"計画\"),INDIRECT(\"'\"&$D26&\"　\"&$E26&\"'!B\"&CO$1),\nIF(AND(CO$9<>\"\",$H$3=\"実績\"),INDIRECT(\"'\"&$D26&\"　\"&$E26&\"'!C\"&CO$1),\n\"\")),\"\")","v":""},{"$f":"IFERROR(IF(AND(CO$9<>\"\",$H$3=\"計画\"),INDIRECT(\"'\"&$D26&\"　\"&$E26&\"'!B\"&CP$1),\nIF(AND(CO$9<>\"\",$H$3=\"実績\"),INDIRECT(\"'\"&$D26&\"　\"&$E26&\"'!C\"&CP$1),\n\"\")),\"\")","v":""},{"$f":"IFERROR(IF(IF(AND(CO$9<>\"\",$H$3=\"計画\"),INDIRECT(\"'\"&$D26&\"　\"&$E26&\"'!B\"&CQ$1),\nIF(AND(CO$9<>\"\",$H$3=\"実績\"),INDIRECT(\"'\"&$D26&\"　\"&$E26&\"'!C\"&CQ$1),\n\"\"))=\"対象外\",\"対象外\",CO26/CP26),\"\")","v":""},{"$f":"IFERROR(IF(AND(CR$9<>\"\",$H$3=\"計画\"),INDIRECT(\"'\"&$D26&\"　\"&$E26&\"'!B\"&CR$1),\nIF(AND(CR$9<>\"\",$H$3=\"実績\"),INDIRECT(\"'\"&$D26&\"　\"&$E26&\"'!C\"&CR$1),\n\"\")),\"\")","v":""},{"$f":"IFERROR(IF(AND(CR$9<>\"\",$H$3=\"計画\"),INDIRECT(\"'\"&$D26&\"　\"&$E26&\"'!B\"&CS$1),\nIF(AND(CR$9<>\"\",$H$3=\"実績\"),INDIRECT(\"'\"&$D26&\"　\"&$E26&\"'!C\"&CS$1),\n\"\")),\"\")","v":""},{"$f":"IFERROR(IF(IF(AND(CR$9<>\"\",$H$3=\"計画\"),INDIRECT(\"'\"&$D26&\"　\"&$E26&\"'!B\"&CT$1),\nIF(AND(CR$9<>\"\",$H$3=\"実績\"),INDIRECT(\"'\"&$D26&\"　\"&$E26&\"'!C\"&CT$1),\n\"\"))=\"対象外\",\"対象外\",CR26/CS26),\"\")","v":""},{"$f":"IFERROR(IF(AND(CU$9<>\"\",$H$3=\"計画\"),INDIRECT(\"'\"&$D26&\"　\"&$E26&\"'!B\"&CU$1),\nIF(AND(CU$9<>\"\",$H$3=\"実績\"),INDIRECT(\"'\"&$D26&\"　\"&$E26&\"'!C\"&CU$1),\n\"\")),\"\")","v":""},{"$f":"IFERROR(IF(AND(CU$9<>\"\",$H$3=\"計画\"),INDIRECT(\"'\"&$D26&\"　\"&$E26&\"'!B\"&CV$1),\nIF(AND(CU$9<>\"\",$H$3=\"実績\"),INDIRECT(\"'\"&$D26&\"　\"&$E26&\"'!C\"&CV$1),\n\"\")),\"\")","v":""},{"$f":"IFERROR(IF(IF(AND(CU$9<>\"\",$H$3=\"計画\"),INDIRECT(\"'\"&$D26&\"　\"&$E26&\"'!B\"&CW$1),\nIF(AND(CU$9<>\"\",$H$3=\"実績\"),INDIRECT(\"'\"&$D26&\"　\"&$E26&\"'!C\"&CW$1),\n\"\"))=\"対象外\",\"対象外\",CU26/CV26),\"\")","v":""},{"$f":"IFERROR(IF(AND(CX$9<>\"\",$H$3=\"計画\"),INDIRECT(\"'\"&$D26&\"　\"&$E26&\"'!B\"&CX$1),\nIF(AND(CX$9<>\"\",$H$3=\"実績\"),INDIRECT(\"'\"&$D26&\"　\"&$E26&\"'!C\"&CX$1),\n\"\")),\"\")","v":""},{"$f":"IFERROR(IF(AND(CX$9<>\"\",$H$3=\"計画\"),INDIRECT(\"'\"&$D26&\"　\"&$E26&\"'!B\"&CY$1),\nIF(AND(CX$9<>\"\",$H$3=\"実績\"),INDIRECT(\"'\"&$D26&\"　\"&$E26&\"'!C\"&CY$1),\n\"\")),\"\")","v":""},{"$f":"IFERROR(IF(IF(AND(CX$9<>\"\",$H$3=\"計画\"),INDIRECT(\"'\"&$D26&\"　\"&$E26&\"'!B\"&CZ$1),\nIF(AND(CX$9<>\"\",$H$3=\"実績\"),INDIRECT(\"'\"&$D26&\"　\"&$E26&\"'!C\"&CZ$1),\n\"\"))=\"対象外\",\"対象外\",CX26/CY26),\"\")","v":""},{"$f":"IFERROR(IF(AND(DA$9<>\"\",$H$3=\"計画\"),INDIRECT(\"'\"&$D26&\"　\"&$E26&\"'!B\"&DA$1),\nIF(AND(DA$9<>\"\",$H$3=\"実績\"),INDIRECT(\"'\"&$D26&\"　\"&$E26&\"'!C\"&DA$1),\n\"\")),\"\")","v":""},{"$f":"IFERROR(IF(AND(DA$9<>\"\",$H$3=\"計画\"),INDIRECT(\"'\"&$D26&\"　\"&$E26&\"'!B\"&DB$1),\nIF(AND(DA$9<>\"\",$H$3=\"実績\"),INDIRECT(\"'\"&$D26&\"　\"&$E26&\"'!C\"&DB$1),\n\"\")),\"\")","v":""},{"$f":"IFERROR(IF(IF(AND(DA$9<>\"\",$H$3=\"計画\"),INDIRECT(\"'\"&$D26&\"　\"&$E26&\"'!B\"&DC$1),\nIF(AND(DA$9<>\"\",$H$3=\"実績\"),INDIRECT(\"'\"&$D26&\"　\"&$E26&\"'!C\"&DC$1),\n\"\"))=\"対象外\",\"対象外\",DA26/DB26),\"\")","v":""},{"$f":"IFERROR(IF(AND(DD$9<>\"\",$H$3=\"計画\"),INDIRECT(\"'\"&$D26&\"　\"&$E26&\"'!B\"&DD$1),\nIF(AND(DD$9<>\"\",$H$3=\"実績\"),INDIRECT(\"'\"&$D26&\"　\"&$E26&\"'!C\"&DD$1),\n\"\")),\"\")","v":""},{"$f":"IFERROR(IF(AND(DD$9<>\"\",$H$3=\"計画\"),INDIRECT(\"'\"&$D26&\"　\"&$E26&\"'!B\"&DE$1),\nIF(AND(DD$9<>\"\",$H$3=\"実績\"),INDIRECT(\"'\"&$D26&\"　\"&$E26&\"'!C\"&DE$1),\n\"\")),\"\")","v":""},{"$f":"IFERROR(IF(IF(AND(DD$9<>\"\",$H$3=\"計画\"),INDIRECT(\"'\"&$D26&\"　\"&$E26&\"'!B\"&DF$1),\nIF(AND(DD$9<>\"\",$H$3=\"実績\"),INDIRECT(\"'\"&$D26&\"　\"&$E26&\"'!C\"&DF$1),\n\"\"))=\"対象外\",\"対象外\",DD26/DE26),\"\")","v":""},{"$f":"IFERROR(IF(AND(DG$9<>\"\",$H$3=\"計画\"),INDIRECT(\"'\"&$D26&\"　\"&$E26&\"'!B\"&DG$1),\nIF(AND(DG$9<>\"\",$H$3=\"実績\"),INDIRECT(\"'\"&$D26&\"　\"&$E26&\"'!C\"&DG$1),\n\"\")),\"\")","v":""},{"$f":"IFERROR(IF(AND(DG$9<>\"\",$H$3=\"計画\"),INDIRECT(\"'\"&$D26&\"　\"&$E26&\"'!B\"&DH$1),\nIF(AND(DG$9<>\"\",$H$3=\"実績\"),INDIRECT(\"'\"&$D26&\"　\"&$E26&\"'!C\"&DH$1),\n\"\")),\"\")","v":""},{"$f":"IFERROR(IF(IF(AND(DG$9<>\"\",$H$3=\"計画\"),INDIRECT(\"'\"&$D26&\"　\"&$E26&\"'!B\"&DI$1),\nIF(AND(DG$9<>\"\",$H$3=\"実績\"),INDIRECT(\"'\"&$D26&\"　\"&$E26&\"'!C\"&DI$1),\n\"\"))=\"対象外\",\"対象外\",DG26/DH26),\"\")","v":""},{"$f":"IFERROR(IF(AND(DJ$9<>\"\",$H$3=\"計画\"),INDIRECT(\"'\"&$D26&\"　\"&$E26&\"'!B\"&DJ$1),\nIF(AND(DJ$9<>\"\",$H$3=\"実績\"),INDIRECT(\"'\"&$D26&\"　\"&$E26&\"'!C\"&DJ$1),\n\"\")),\"\")","v":""},{"$f":"IFERROR(IF(AND(DJ$9<>\"\",$H$3=\"計画\"),INDIRECT(\"'\"&$D26&\"　\"&$E26&\"'!B\"&DK$1),\nIF(AND(DJ$9<>\"\",$H$3=\"実績\"),INDIRECT(\"'\"&$D26&\"　\"&$E26&\"'!C\"&DK$1),\n\"\")),\"\")","v":""},{"$f":"IFERROR(IF(IF(AND(DJ$9<>\"\",$H$3=\"計画\"),INDIRECT(\"'\"&$D26&\"　\"&$E26&\"'!B\"&DL$1),\nIF(AND(DJ$9<>\"\",$H$3=\"実績\"),INDIRECT(\"'\"&$D26&\"　\"&$E26&\"'!C\"&DL$1),\n\"\"))=\"対象外\",\"対象外\",DJ26/DK26),\"\")","v":""}]
[null,null,null,null,null,"","",{"$f":"IFERROR(IF(IF(H$3=\"計画\",INDIRECT(\"'\"&$D27&\"　\"&$E27&\"'!B\"&H$1),\nIF(H$3=\"実績\",INDIRECT(\"'\"&$D27&\"　\"&$E27&\"'!C\"&H$1),\n\"\"))>=28,F27/G27,\"対象外\"),\"\")","v":""},{"$f":"IFERROR(IF(AND(I$9<>\"\",$H$3=\"計画\"),INDIRECT(\"'\"&$D27&\"　\"&$E27&\"'!B\"&I$1),\nIF(AND(I$9<>\"\",$H$3=\"実績\"),INDIRECT(\"'\"&$D27&\"　\"&$E27&\"'!C\"&I$1),\n\"\")),\"\")","v":""},{"$f":"IFERROR(IF(AND(I$9<>\"\",$H$3=\"計画\"),INDIRECT(\"'\"&$D27&\"　\"&$E27&\"'!B\"&J$1),\nIF(AND(I$9<>\"\",$H$3=\"実績\"),INDIRECT(\"'\"&$D27&\"　\"&$E27&\"'!C\"&J$1),\n\"\")),\"\")","v":""},{"$f":"IFERROR(IF(IF(AND(I$9<>\"\",$H$3=\"計画\"),INDIRECT(\"'\"&$D27&\"　\"&$E27&\"'!B\"&K$1),\nIF(AND(I$9<>\"\",$H$3=\"実績\"),INDIRECT(\"'\"&$D27&\"　\"&$E27&\"'!C\"&K$1),\n\"\"))=\"対象外\",\"対象外\",I27/J27),\"\")","v":""},{"$f":"IFERROR(IF(AND(L$9<>\"\",$H$3=\"計画\"),INDIRECT(\"'\"&$D27&\"　\"&$E27&\"'!B\"&L$1),\nIF(AND(L$9<>\"\",$H$3=\"実績\"),INDIRECT(\"'\"&$D27&\"　\"&$E27&\"'!C\"&L$1),\n\"\")),\"\")","v":""},{"$f":"IFERROR(IF(AND(L$9<>\"\",$H$3=\"計画\"),INDIRECT(\"'\"&$D27&\"　\"&$E27&\"'!B\"&M$1),\nIF(AND(L$9<>\"\",$H$3=\"実績\"),INDIRECT(\"'\"&$D27&\"　\"&$E27&\"'!C\"&M$1),\n\"\")),\"\")","v":""},{"$f":"IFERROR(IF(IF(AND(L$9<>\"\",$H$3=\"計画\"),INDIRECT(\"'\"&$D27&\"　\"&$E27&\"'!B\"&N$1),\nIF(AND(L$9<>\"\",$H$3=\"実績\"),INDIRECT(\"'\"&$D27&\"　\"&$E27&\"'!C\"&N$1),\n\"\"))=\"対象外\",\"対象外\",L27/M27),\"\")","v":""},{"$f":"IFERROR(IF(AND(O$9<>\"\",$H$3=\"計画\"),INDIRECT(\"'\"&$D27&\"　\"&$E27&\"'!B\"&O$1),\nIF(AND(O$9<>\"\",$H$3=\"実績\"),INDIRECT(\"'\"&$D27&\"　\"&$E27&\"'!C\"&O$1),\n\"\")),\"\")","v":""},{"$f":"IFERROR(IF(AND(O$9<>\"\",$H$3=\"計画\"),INDIRECT(\"'\"&$D27&\"　\"&$E27&\"'!B\"&P$1),\nIF(AND(O$9<>\"\",$H$3=\"実績\"),INDIRECT(\"'\"&$D27&\"　\"&$E27&\"'!C\"&P$1),\n\"\")),\"\")","v":""},{"$f":"IFERROR(IF(IF(AND(O$9<>\"\",$H$3=\"計画\"),INDIRECT(\"'\"&$D27&\"　\"&$E27&\"'!B\"&Q$1),\nIF(AND(O$9<>\"\",$H$3=\"実績\"),INDIRECT(\"'\"&$D27&\"　\"&$E27&\"'!C\"&Q$1),\n\"\"))=\"対象外\",\"対象外\",O27/P27),\"\")","v":""},{"$f":"IFERROR(IF(AND(R$9<>\"\",$H$3=\"計画\"),INDIRECT(\"'\"&$D27&\"　\"&$E27&\"'!B\"&R$1),\nIF(AND(R$9<>\"\",$H$3=\"実績\"),INDIRECT(\"'\"&$D27&\"　\"&$E27&\"'!C\"&R$1),\n\"\")),\"\")","v":""},{"$f":"IFERROR(IF(AND(R$9<>\"\",$H$3=\"計画\"),INDIRECT(\"'\"&$D27&\"　\"&$E27&\"'!B\"&S$1),\nIF(AND(R$9<>\"\",$H$3=\"実績\"),INDIRECT(\"'\"&$D27&\"　\"&$E27&\"'!C\"&S$1),\n\"\")),\"\")","v":""},{"$f":"IFERROR(IF(IF(AND(R$9<>\"\",$H$3=\"計画\"),INDIRECT(\"'\"&$D27&\"　\"&$E27&\"'!B\"&T$1),\nIF(AND(R$9<>\"\",$H$3=\"実績\"),INDIRECT(\"'\"&$D27&\"　\"&$E27&\"'!C\"&T$1),\n\"\"))=\"対象外\",\"対象外\",R27/S27),\"\")","v":""},{"$f":"IFERROR(IF(AND(U$9<>\"\",$H$3=\"計画\"),INDIRECT(\"'\"&$D27&\"　\"&$E27&\"'!B\"&U$1),\nIF(AND(U$9<>\"\",$H$3=\"実績\"),INDIRECT(\"'\"&$D27&\"　\"&$E27&\"'!C\"&U$1),\n\"\")),\"\")","v":""},{"$f":"IFERROR(IF(AND(U$9<>\"\",$H$3=\"計画\"),INDIRECT(\"'\"&$D27&\"　\"&$E27&\"'!B\"&V$1),\nIF(AND(U$9<>\"\",$H$3=\"実績\"),INDIRECT(\"'\"&$D27&\"　\"&$E27&\"'!C\"&V$1),\n\"\")),\"\")","v":""},{"$f":"IFERROR(IF(IF(AND(U$9<>\"\",$H$3=\"計画\"),INDIRECT(\"'\"&$D27&\"　\"&$E27&\"'!B\"&W$1),\nIF(AND(U$9<>\"\",$H$3=\"実績\"),INDIRECT(\"'\"&$D27&\"　\"&$E27&\"'!C\"&W$1),\n\"\"))=\"対象外\",\"対象外\",U27/V27),\"\")","v":""},{"$f":"IFERROR(IF(AND(X$9<>\"\",$H$3=\"計画\"),INDIRECT(\"'\"&$D27&\"　\"&$E27&\"'!B\"&X$1),\nIF(AND(X$9<>\"\",$H$3=\"実績\"),INDIRECT(\"'\"&$D27&\"　\"&$E27&\"'!C\"&X$1),\n\"\")),\"\")","v":""},{"$f":"IFERROR(IF(AND(X$9<>\"\",$H$3=\"計画\"),INDIRECT(\"'\"&$D27&\"　\"&$E27&\"'!B\"&Y$1),\nIF(AND(X$9<>\"\",$H$3=\"実績\"),INDIRECT(\"'\"&$D27&\"　\"&$E27&\"'!C\"&Y$1),\n\"\")),\"\")","v":""},{"$f":"IFERROR(IF(IF(AND(X$9<>\"\",$H$3=\"計画\"),INDIRECT(\"'\"&$D27&\"　\"&$E27&\"'!B\"&Z$1),\nIF(AND(X$9<>\"\",$H$3=\"実績\"),INDIRECT(\"'\"&$D27&\"　\"&$E27&\"'!C\"&Z$1),\n\"\"))=\"対象外\",\"対象外\",X27/Y27),\"\")","v":""},{"$f":"IFERROR(IF(AND(AA$9<>\"\",$H$3=\"計画\"),INDIRECT(\"'\"&$D27&\"　\"&$E27&\"'!B\"&AA$1),\nIF(AND(AA$9<>\"\",$H$3=\"実績\"),INDIRECT(\"'\"&$D27&\"　\"&$E27&\"'!C\"&AA$1),\n\"\")),\"\")","v":""},{"$f":"IFERROR(IF(AND(AA$9<>\"\",$H$3=\"計画\"),INDIRECT(\"'\"&$D27&\"　\"&$E27&\"'!B\"&AB$1),\nIF(AND(AA$9<>\"\",$H$3=\"実績\"),INDIRECT(\"'\"&$D27&\"　\"&$E27&\"'!C\"&AB$1),\n\"\")),\"\")","v":""},{"$f":"IFERROR(IF(IF(AND(AA$9<>\"\",$H$3=\"計画\"),INDIRECT(\"'\"&$D27&\"　\"&$E27&\"'!B\"&AC$1),\nIF(AND(AA$9<>\"\",$H$3=\"実績\"),INDIRECT(\"'\"&$D27&\"　\"&$E27&\"'!C\"&AC$1),\n\"\"))=\"対象外\",\"対象外\",AA27/AB27),\"\")","v":""},{"$f":"IFERROR(IF(AND(AD$9<>\"\",$H$3=\"計画\"),INDIRECT(\"'\"&$D27&\"　\"&$E27&\"'!B\"&AD$1),\nIF(AND(AD$9<>\"\",$H$3=\"実績\"),INDIRECT(\"'\"&$D27&\"　\"&$E27&\"'!C\"&AD$1),\n\"\")),\"\")","v":""},{"$f":"IFERROR(IF(AND(AD$9<>\"\",$H$3=\"計画\"),INDIRECT(\"'\"&$D27&\"　\"&$E27&\"'!B\"&AE$1),\nIF(AND(AD$9<>\"\",$H$3=\"実績\"),INDIRECT(\"'\"&$D27&\"　\"&$E27&\"'!C\"&AE$1),\n\"\")),\"\")","v":""},{"$f":"IFERROR(IF(IF(AND(AD$9<>\"\",$H$3=\"計画\"),INDIRECT(\"'\"&$D27&\"　\"&$E27&\"'!B\"&AF$1),\nIF(AND(AD$9<>\"\",$H$3=\"実績\"),INDIRECT(\"'\"&$D27&\"　\"&$E27&\"'!C\"&AF$1),\n\"\"))=\"対象外\",\"対象外\",AD27/AE27),\"\")","v":""},{"$f":"IFERROR(IF(AND(AG$9<>\"\",$H$3=\"計画\"),INDIRECT(\"'\"&$D27&\"　\"&$E27&\"'!B\"&AG$1),\nIF(AND(AG$9<>\"\",$H$3=\"実績\"),INDIRECT(\"'\"&$D27&\"　\"&$E27&\"'!C\"&AG$1),\n\"\")),\"\")","v":""},{"$f":"IFERROR(IF(AND(AG$9<>\"\",$H$3=\"計画\"),INDIRECT(\"'\"&$D27&\"　\"&$E27&\"'!B\"&AH$1),\nIF(AND(AG$9<>\"\",$H$3=\"実績\"),INDIRECT(\"'\"&$D27&\"　\"&$E27&\"'!C\"&AH$1),\n\"\")),\"\")","v":""},{"$f":"IFERROR(IF(IF(AND(AG$9<>\"\",$H$3=\"計画\"),INDIRECT(\"'\"&$D27&\"　\"&$E27&\"'!B\"&AI$1),\nIF(AND(AG$9<>\"\",$H$3=\"実績\"),INDIRECT(\"'\"&$D27&\"　\"&$E27&\"'!C\"&AI$1),\n\"\"))=\"対象外\",\"対象外\",AG27/AH27),\"\")","v":""},{"$f":"IFERROR(IF(AND(AJ$9<>\"\",$H$3=\"計画\"),INDIRECT(\"'\"&$D27&\"　\"&$E27&\"'!B\"&AJ$1),\nIF(AND(AJ$9<>\"\",$H$3=\"実績\"),INDIRECT(\"'\"&$D27&\"　\"&$E27&\"'!C\"&AJ$1),\n\"\")),\"\")","v":""},{"$f":"IFERROR(IF(AND(AJ$9<>\"\",$H$3=\"計画\"),INDIRECT(\"'\"&$D27&\"　\"&$E27&\"'!B\"&AK$1),\nIF(AND(AJ$9<>\"\",$H$3=\"実績\"),INDIRECT(\"'\"&$D27&\"　\"&$E27&\"'!C\"&AK$1),\n\"\")),\"\")","v":""},{"$f":"IFERROR(IF(IF(AND(AJ$9<>\"\",$H$3=\"計画\"),INDIRECT(\"'\"&$D27&\"　\"&$E27&\"'!B\"&AL$1),\nIF(AND(AJ$9<>\"\",$H$3=\"実績\"),INDIRECT(\"'\"&$D27&\"　\"&$E27&\"'!C\"&AL$1),\n\"\"))=\"対象外\",\"対象外\",AJ27/AK27),\"\")","v":""},{"$f":"IFERROR(IF(AND(AM$9<>\"\",$H$3=\"計画\"),INDIRECT(\"'\"&$D27&\"　\"&$E27&\"'!B\"&AM$1),\nIF(AND(AM$9<>\"\",$H$3=\"実績\"),INDIRECT(\"'\"&$D27&\"　\"&$E27&\"'!C\"&AM$1),\n\"\")),\"\")","v":""},{"$f":"IFERROR(IF(AND(AM$9<>\"\",$H$3=\"計画\"),INDIRECT(\"'\"&$D27&\"　\"&$E27&\"'!B\"&AN$1),\nIF(AND(AM$9<>\"\",$H$3=\"実績\"),INDIRECT(\"'\"&$D27&\"　\"&$E27&\"'!C\"&AN$1),\n\"\")),\"\")","v":""},{"$f":"IFERROR(IF(IF(AND(AM$9<>\"\",$H$3=\"計画\"),INDIRECT(\"'\"&$D27&\"　\"&$E27&\"'!B\"&AO$1),\nIF(AND(AM$9<>\"\",$H$3=\"実績\"),INDIRECT(\"'\"&$D27&\"　\"&$E27&\"'!C\"&AO$1),\n\"\"))=\"対象外\",\"対象外\",AM27/AN27),\"\")","v":""},{"$f":"IFERROR(IF(AND(AP$9<>\"\",$H$3=\"計画\"),INDIRECT(\"'\"&$D27&\"　\"&$E27&\"'!B\"&AP$1),\nIF(AND(AP$9<>\"\",$H$3=\"実績\"),INDIRECT(\"'\"&$D27&\"　\"&$E27&\"'!C\"&AP$1),\n\"\")),\"\")","v":""},{"$f":"IFERROR(IF(AND(AP$9<>\"\",$H$3=\"計画\"),INDIRECT(\"'\"&$D27&\"　\"&$E27&\"'!B\"&AQ$1),\nIF(AND(AP$9<>\"\",$H$3=\"実績\"),INDIRECT(\"'\"&$D27&\"　\"&$E27&\"'!C\"&AQ$1),\n\"\")),\"\")","v":""},{"$f":"IFERROR(IF(IF(AND(AP$9<>\"\",$H$3=\"計画\"),INDIRECT(\"'\"&$D27&\"　\"&$E27&\"'!B\"&AR$1),\nIF(AND(AP$9<>\"\",$H$3=\"実績\"),INDIRECT(\"'\"&$D27&\"　\"&$E27&\"'!C\"&AR$1),\n\"\"))=\"対象外\",\"対象外\",AP27/AQ27),\"\")","v":""},{"$f":"IFERROR(IF(AND(AS$9<>\"\",$H$3=\"計画\"),INDIRECT(\"'\"&$D27&\"　\"&$E27&\"'!B\"&AS$1),\nIF(AND(AS$9<>\"\",$H$3=\"実績\"),INDIRECT(\"'\"&$D27&\"　\"&$E27&\"'!C\"&AS$1),\n\"\")),\"\")","v":""},{"$f":"IFERROR(IF(AND(AS$9<>\"\",$H$3=\"計画\"),INDIRECT(\"'\"&$D27&\"　\"&$E27&\"'!B\"&AT$1),\nIF(AND(AS$9<>\"\",$H$3=\"実績\"),INDIRECT(\"'\"&$D27&\"　\"&$E27&\"'!C\"&AT$1),\n\"\")),\"\")","v":""},{"$f":"IFERROR(IF(IF(AND(AS$9<>\"\",$H$3=\"計画\"),INDIRECT(\"'\"&$D27&\"　\"&$E27&\"'!B\"&AU$1),\nIF(AND(AS$9<>\"\",$H$3=\"実績\"),INDIRECT(\"'\"&$D27&\"　\"&$E27&\"'!C\"&AU$1),\n\"\"))=\"対象外\",\"対象外\",AS27/AT27),\"\")","v":""},{"$f":"IFERROR(IF(AND(AV$9<>\"\",$H$3=\"計画\"),INDIRECT(\"'\"&$D27&\"　\"&$E27&\"'!B\"&AV$1),\nIF(AND(AV$9<>\"\",$H$3=\"実績\"),INDIRECT(\"'\"&$D27&\"　\"&$E27&\"'!C\"&AV$1),\n\"\")),\"\")","v":""},{"$f":"IFERROR(IF(AND(AV$9<>\"\",$H$3=\"計画\"),INDIRECT(\"'\"&$D27&\"　\"&$E27&\"'!B\"&AW$1),\nIF(AND(AV$9<>\"\",$H$3=\"実績\"),INDIRECT(\"'\"&$D27&\"　\"&$E27&\"'!C\"&AW$1),\n\"\")),\"\")","v":""},{"$f":"IFERROR(IF(IF(AND(AV$9<>\"\",$H$3=\"計画\"),INDIRECT(\"'\"&$D27&\"　\"&$E27&\"'!B\"&AX$1),\nIF(AND(AV$9<>\"\",$H$3=\"実績\"),INDIRECT(\"'\"&$D27&\"　\"&$E27&\"'!C\"&AX$1),\n\"\"))=\"対象外\",\"対象外\",AV27/AW27),\"\")","v":""},{"$f":"IFERROR(IF(AND(AY$9<>\"\",$H$3=\"計画\"),INDIRECT(\"'\"&$D27&\"　\"&$E27&\"'!B\"&AY$1),\nIF(AND(AY$9<>\"\",$H$3=\"実績\"),INDIRECT(\"'\"&$D27&\"　\"&$E27&\"'!C\"&AY$1),\n\"\")),\"\")","v":""},{"$f":"IFERROR(IF(AND(AY$9<>\"\",$H$3=\"計画\"),INDIRECT(\"'\"&$D27&\"　\"&$E27&\"'!B\"&AZ$1),\nIF(AND(AY$9<>\"\",$H$3=\"実績\"),INDIRECT(\"'\"&$D27&\"　\"&$E27&\"'!C\"&AZ$1),\n\"\")),\"\")","v":""},{"$f":"IFERROR(IF(IF(AND(AY$9<>\"\",$H$3=\"計画\"),INDIRECT(\"'\"&$D27&\"　\"&$E27&\"'!B\"&BA$1),\nIF(AND(AY$9<>\"\",$H$3=\"実績\"),INDIRECT(\"'\"&$D27&\"　\"&$E27&\"'!C\"&BA$1),\n\"\"))=\"対象外\",\"対象外\",AY27/AZ27),\"\")","v":""},{"$f":"IFERROR(IF(AND(BB$9<>\"\",$H$3=\"計画\"),INDIRECT(\"'\"&$D27&\"　\"&$E27&\"'!B\"&BB$1),\nIF(AND(BB$9<>\"\",$H$3=\"実績\"),INDIRECT(\"'\"&$D27&\"　\"&$E27&\"'!C\"&BB$1),\n\"\")),\"\")","v":""},{"$f":"IFERROR(IF(AND(BB$9<>\"\",$H$3=\"計画\"),INDIRECT(\"'\"&$D27&\"　\"&$E27&\"'!B\"&BC$1),\nIF(AND(BB$9<>\"\",$H$3=\"実績\"),INDIRECT(\"'\"&$D27&\"　\"&$E27&\"'!C\"&BC$1),\n\"\")),\"\")","v":""},{"$f":"IFERROR(IF(IF(AND(BB$9<>\"\",$H$3=\"計画\"),INDIRECT(\"'\"&$D27&\"　\"&$E27&\"'!B\"&BD$1),\nIF(AND(BB$9<>\"\",$H$3=\"実績\"),INDIRECT(\"'\"&$D27&\"　\"&$E27&\"'!C\"&BD$1),\n\"\"))=\"対象外\",\"対象外\",BB27/BC27),\"\")","v":""},{"$f":"IFERROR(IF(AND(BE$9<>\"\",$H$3=\"計画\"),INDIRECT(\"'\"&$D27&\"　\"&$E27&\"'!B\"&BE$1),\nIF(AND(BE$9<>\"\",$H$3=\"実績\"),INDIRECT(\"'\"&$D27&\"　\"&$E27&\"'!C\"&BE$1),\n\"\")),\"\")","v":""},{"$f":"IFERROR(IF(AND(BE$9<>\"\",$H$3=\"計画\"),INDIRECT(\"'\"&$D27&\"　\"&$E27&\"'!B\"&BF$1),\nIF(AND(BE$9<>\"\",$H$3=\"実績\"),INDIRECT(\"'\"&$D27&\"　\"&$E27&\"'!C\"&BF$1),\n\"\")),\"\")","v":""},{"$f":"IFERROR(IF(IF(AND(BE$9<>\"\",$H$3=\"計画\"),INDIRECT(\"'\"&$D27&\"　\"&$E27&\"'!B\"&BG$1),\nIF(AND(BE$9<>\"\",$H$3=\"実績\"),INDIRECT(\"'\"&$D27&\"　\"&$E27&\"'!C\"&BG$1),\n\"\"))=\"対象外\",\"対象外\",BE27/BF27),\"\")","v":""},{"$f":"IFERROR(IF(AND(BH$9<>\"\",$H$3=\"計画\"),INDIRECT(\"'\"&$D27&\"　\"&$E27&\"'!B\"&BH$1),\nIF(AND(BH$9<>\"\",$H$3=\"実績\"),INDIRECT(\"'\"&$D27&\"　\"&$E27&\"'!C\"&BH$1),\n\"\")),\"\")","v":""},{"$f":"IFERROR(IF(AND(BH$9<>\"\",$H$3=\"計画\"),INDIRECT(\"'\"&$D27&\"　\"&$E27&\"'!B\"&BI$1),\nIF(AND(BH$9<>\"\",$H$3=\"実績\"),INDIRECT(\"'\"&$D27&\"　\"&$E27&\"'!C\"&BI$1),\n\"\")),\"\")","v":""},{"$f":"IFERROR(IF(IF(AND(BH$9<>\"\",$H$3=\"計画\"),INDIRECT(\"'\"&$D27&\"　\"&$E27&\"'!B\"&BJ$1),\nIF(AND(BH$9<>\"\",$H$3=\"実績\"),INDIRECT(\"'\"&$D27&\"　\"&$E27&\"'!C\"&BJ$1),\n\"\"))=\"対象外\",\"対象外\",BH27/BI27),\"\")","v":""},{"$f":"IFERROR(IF(AND(BK$9<>\"\",$H$3=\"計画\"),INDIRECT(\"'\"&$D27&\"　\"&$E27&\"'!B\"&BK$1),\nIF(AND(BK$9<>\"\",$H$3=\"実績\"),INDIRECT(\"'\"&$D27&\"　\"&$E27&\"'!C\"&BK$1),\n\"\")),\"\")","v":""},{"$f":"IFERROR(IF(AND(BK$9<>\"\",$H$3=\"計画\"),INDIRECT(\"'\"&$D27&\"　\"&$E27&\"'!B\"&BL$1),\nIF(AND(BK$9<>\"\",$H$3=\"実績\"),INDIRECT(\"'\"&$D27&\"　\"&$E27&\"'!C\"&BL$1),\n\"\")),\"\")","v":""},{"$f":"IFERROR(IF(IF(AND(BK$9<>\"\",$H$3=\"計画\"),INDIRECT(\"'\"&$D27&\"　\"&$E27&\"'!B\"&BM$1),\nIF(AND(BK$9<>\"\",$H$3=\"実績\"),INDIRECT(\"'\"&$D27&\"　\"&$E27&\"'!C\"&BM$1),\n\"\"))=\"対象外\",\"対象外\",BK27/BL27),\"\")","v":""},{"$f":"IFERROR(IF(AND(BN$9<>\"\",$H$3=\"計画\"),INDIRECT(\"'\"&$D27&\"　\"&$E27&\"'!B\"&BN$1),\nIF(AND(BN$9<>\"\",$H$3=\"実績\"),INDIRECT(\"'\"&$D27&\"　\"&$E27&\"'!C\"&BN$1),\n\"\")),\"\")","v":""},{"$f":"IFERROR(IF(AND(BN$9<>\"\",$H$3=\"計画\"),INDIRECT(\"'\"&$D27&\"　\"&$E27&\"'!B\"&BO$1),\nIF(AND(BN$9<>\"\",$H$3=\"実績\"),INDIRECT(\"'\"&$D27&\"　\"&$E27&\"'!C\"&BO$1),\n\"\")),\"\")","v":""},{"$f":"IFERROR(IF(IF(AND(BN$9<>\"\",$H$3=\"計画\"),INDIRECT(\"'\"&$D27&\"　\"&$E27&\"'!B\"&BP$1),\nIF(AND(BN$9<>\"\",$H$3=\"実績\"),INDIRECT(\"'\"&$D27&\"　\"&$E27&\"'!C\"&BP$1),\n\"\"))=\"対象外\",\"対象外\",BN27/BO27),\"\")","v":""},{"$f":"IFERROR(IF(AND(BQ$9<>\"\",$H$3=\"計画\"),INDIRECT(\"'\"&$D27&\"　\"&$E27&\"'!B\"&BQ$1),\nIF(AND(BQ$9<>\"\",$H$3=\"実績\"),INDIRECT(\"'\"&$D27&\"　\"&$E27&\"'!C\"&BQ$1),\n\"\")),\"\")","v":""},{"$f":"IFERROR(IF(AND(BQ$9<>\"\",$H$3=\"計画\"),INDIRECT(\"'\"&$D27&\"　\"&$E27&\"'!B\"&BR$1),\nIF(AND(BQ$9<>\"\",$H$3=\"実績\"),INDIRECT(\"'\"&$D27&\"　\"&$E27&\"'!C\"&BR$1),\n\"\")),\"\")","v":""},{"$f":"IFERROR(IF(IF(AND(BQ$9<>\"\",$H$3=\"計画\"),INDIRECT(\"'\"&$D27&\"　\"&$E27&\"'!B\"&BS$1),\nIF(AND(BQ$9<>\"\",$H$3=\"実績\"),INDIRECT(\"'\"&$D27&\"　\"&$E27&\"'!C\"&BS$1),\n\"\"))=\"対象外\",\"対象外\",BQ27/BR27),\"\")","v":""},{"$f":"IFERROR(IF(AND(BT$9<>\"\",$H$3=\"計画\"),INDIRECT(\"'\"&$D27&\"　\"&$E27&\"'!B\"&BT$1),\nIF(AND(BT$9<>\"\",$H$3=\"実績\"),INDIRECT(\"'\"&$D27&\"　\"&$E27&\"'!C\"&BT$1),\n\"\")),\"\")","v":""},{"$f":"IFERROR(IF(AND(BT$9<>\"\",$H$3=\"計画\"),INDIRECT(\"'\"&$D27&\"　\"&$E27&\"'!B\"&BU$1),\nIF(AND(BT$9<>\"\",$H$3=\"実績\"),INDIRECT(\"'\"&$D27&\"　\"&$E27&\"'!C\"&BU$1),\n\"\")),\"\")","v":""},{"$f":"IFERROR(IF(IF(AND(BT$9<>\"\",$H$3=\"計画\"),INDIRECT(\"'\"&$D27&\"　\"&$E27&\"'!B\"&BV$1),\nIF(AND(BT$9<>\"\",$H$3=\"実績\"),INDIRECT(\"'\"&$D27&\"　\"&$E27&\"'!C\"&BV$1),\n\"\"))=\"対象外\",\"対象外\",BT27/BU27),\"\")","v":""},{"$f":"IFERROR(IF(AND(BW$9<>\"\",$H$3=\"計画\"),INDIRECT(\"'\"&$D27&\"　\"&$E27&\"'!B\"&BW$1),\nIF(AND(BW$9<>\"\",$H$3=\"実績\"),INDIRECT(\"'\"&$D27&\"　\"&$E27&\"'!C\"&BW$1),\n\"\")),\"\")","v":""},{"$f":"IFERROR(IF(AND(BW$9<>\"\",$H$3=\"計画\"),INDIRECT(\"'\"&$D27&\"　\"&$E27&\"'!B\"&BX$1),\nIF(AND(BW$9<>\"\",$H$3=\"実績\"),INDIRECT(\"'\"&$D27&\"　\"&$E27&\"'!C\"&BX$1),\n\"\")),\"\")","v":""},{"$f":"IFERROR(IF(IF(AND(BW$9<>\"\",$H$3=\"計画\"),INDIRECT(\"'\"&$D27&\"　\"&$E27&\"'!B\"&BY$1),\nIF(AND(BW$9<>\"\",$H$3=\"実績\"),INDIRECT(\"'\"&$D27&\"　\"&$E27&\"'!C\"&BY$1),\n\"\"))=\"対象外\",\"対象外\",BW27/BX27),\"\")","v":""},{"$f":"IFERROR(IF(AND(BZ$9<>\"\",$H$3=\"計画\"),INDIRECT(\"'\"&$D27&\"　\"&$E27&\"'!B\"&BZ$1),\nIF(AND(BZ$9<>\"\",$H$3=\"実績\"),INDIRECT(\"'\"&$D27&\"　\"&$E27&\"'!C\"&BZ$1),\n\"\")),\"\")","v":""},{"$f":"IFERROR(IF(AND(BZ$9<>\"\",$H$3=\"計画\"),INDIRECT(\"'\"&$D27&\"　\"&$E27&\"'!B\"&CA$1),\nIF(AND(BZ$9<>\"\",$H$3=\"実績\"),INDIRECT(\"'\"&$D27&\"　\"&$E27&\"'!C\"&CA$1),\n\"\")),\"\")","v":""},{"$f":"IFERROR(IF(IF(AND(BZ$9<>\"\",$H$3=\"計画\"),INDIRECT(\"'\"&$D27&\"　\"&$E27&\"'!B\"&CB$1),\nIF(AND(BZ$9<>\"\",$H$3=\"実績\"),INDIRECT(\"'\"&$D27&\"　\"&$E27&\"'!C\"&CB$1),\n\"\"))=\"対象外\",\"対象外\",BZ27/CA27),\"\")","v":""},{"$f":"IFERROR(IF(AND(CC$9<>\"\",$H$3=\"計画\"),INDIRECT(\"'\"&$D27&\"　\"&$E27&\"'!B\"&CC$1),\nIF(AND(CC$9<>\"\",$H$3=\"実績\"),INDIRECT(\"'\"&$D27&\"　\"&$E27&\"'!C\"&CC$1),\n\"\")),\"\")","v":""},{"$f":"IFERROR(IF(AND(CC$9<>\"\",$H$3=\"計画\"),INDIRECT(\"'\"&$D27&\"　\"&$E27&\"'!B\"&CD$1),\nIF(AND(CC$9<>\"\",$H$3=\"実績\"),INDIRECT(\"'\"&$D27&\"　\"&$E27&\"'!C\"&CD$1),\n\"\")),\"\")","v":""},{"$f":"IFERROR(IF(IF(AND(CC$9<>\"\",$H$3=\"計画\"),INDIRECT(\"'\"&$D27&\"　\"&$E27&\"'!B\"&CE$1),\nIF(AND(CC$9<>\"\",$H$3=\"実績\"),INDIRECT(\"'\"&$D27&\"　\"&$E27&\"'!C\"&CE$1),\n\"\"))=\"対象外\",\"対象外\",CC27/CD27),\"\")","v":""},{"$f":"IFERROR(IF(AND(CF$9<>\"\",$H$3=\"計画\"),INDIRECT(\"'\"&$D27&\"　\"&$E27&\"'!B\"&CF$1),\nIF(AND(CF$9<>\"\",$H$3=\"実績\"),INDIRECT(\"'\"&$D27&\"　\"&$E27&\"'!C\"&CF$1),\n\"\")),\"\")","v":""},{"$f":"IFERROR(IF(AND(CF$9<>\"\",$H$3=\"計画\"),INDIRECT(\"'\"&$D27&\"　\"&$E27&\"'!B\"&CG$1),\nIF(AND(CF$9<>\"\",$H$3=\"実績\"),INDIRECT(\"'\"&$D27&\"　\"&$E27&\"'!C\"&CG$1),\n\"\")),\"\")","v":""},{"$f":"IFERROR(IF(IF(AND(CF$9<>\"\",$H$3=\"計画\"),INDIRECT(\"'\"&$D27&\"　\"&$E27&\"'!B\"&CH$1),\nIF(AND(CF$9<>\"\",$H$3=\"実績\"),INDIRECT(\"'\"&$D27&\"　\"&$E27&\"'!C\"&CH$1),\n\"\"))=\"対象外\",\"対象外\",CF27/CG27),\"\")","v":""},{"$f":"IFERROR(IF(AND(CI$9<>\"\",$H$3=\"計画\"),INDIRECT(\"'\"&$D27&\"　\"&$E27&\"'!B\"&CI$1),\nIF(AND(CI$9<>\"\",$H$3=\"実績\"),INDIRECT(\"'\"&$D27&\"　\"&$E27&\"'!C\"&CI$1),\n\"\")),\"\")","v":""},{"$f":"IFERROR(IF(AND(CI$9<>\"\",$H$3=\"計画\"),INDIRECT(\"'\"&$D27&\"　\"&$E27&\"'!B\"&CJ$1),\nIF(AND(CI$9<>\"\",$H$3=\"実績\"),INDIRECT(\"'\"&$D27&\"　\"&$E27&\"'!C\"&CJ$1),\n\"\")),\"\")","v":""},{"$f":"IFERROR(IF(IF(AND(CI$9<>\"\",$H$3=\"計画\"),INDIRECT(\"'\"&$D27&\"　\"&$E27&\"'!B\"&CK$1),\nIF(AND(CI$9<>\"\",$H$3=\"実績\"),INDIRECT(\"'\"&$D27&\"　\"&$E27&\"'!C\"&CK$1),\n\"\"))=\"対象外\",\"対象外\",CI27/CJ27),\"\")","v":""},{"$f":"IFERROR(IF(AND(CL$9<>\"\",$H$3=\"計画\"),INDIRECT(\"'\"&$D27&\"　\"&$E27&\"'!B\"&CL$1),\nIF(AND(CL$9<>\"\",$H$3=\"実績\"),INDIRECT(\"'\"&$D27&\"　\"&$E27&\"'!C\"&CL$1),\n\"\")),\"\")","v":""},{"$f":"IFERROR(IF(AND(CL$9<>\"\",$H$3=\"計画\"),INDIRECT(\"'\"&$D27&\"　\"&$E27&\"'!B\"&CM$1),\nIF(AND(CL$9<>\"\",$H$3=\"実績\"),INDIRECT(\"'\"&$D27&\"　\"&$E27&\"'!C\"&CM$1),\n\"\")),\"\")","v":""},{"$f":"IFERROR(IF(IF(AND(CL$9<>\"\",$H$3=\"計画\"),INDIRECT(\"'\"&$D27&\"　\"&$E27&\"'!B\"&CN$1),\nIF(AND(CL$9<>\"\",$H$3=\"実績\"),INDIRECT(\"'\"&$D27&\"　\"&$E27&\"'!C\"&CN$1),\n\"\"))=\"対象外\",\"対象外\",CL27/CM27),\"\")","v":""},{"$f":"IFERROR(IF(AND(CO$9<>\"\",$H$3=\"計画\"),INDIRECT(\"'\"&$D27&\"　\"&$E27&\"'!B\"&CO$1),\nIF(AND(CO$9<>\"\",$H$3=\"実績\"),INDIRECT(\"'\"&$D27&\"　\"&$E27&\"'!C\"&CO$1),\n\"\")),\"\")","v":""},{"$f":"IFERROR(IF(AND(CO$9<>\"\",$H$3=\"計画\"),INDIRECT(\"'\"&$D27&\"　\"&$E27&\"'!B\"&CP$1),\nIF(AND(CO$9<>\"\",$H$3=\"実績\"),INDIRECT(\"'\"&$D27&\"　\"&$E27&\"'!C\"&CP$1),\n\"\")),\"\")","v":""},{"$f":"IFERROR(IF(IF(AND(CO$9<>\"\",$H$3=\"計画\"),INDIRECT(\"'\"&$D27&\"　\"&$E27&\"'!B\"&CQ$1),\nIF(AND(CO$9<>\"\",$H$3=\"実績\"),INDIRECT(\"'\"&$D27&\"　\"&$E27&\"'!C\"&CQ$1),\n\"\"))=\"対象外\",\"対象外\",CO27/CP27),\"\")","v":""},{"$f":"IFERROR(IF(AND(CR$9<>\"\",$H$3=\"計画\"),INDIRECT(\"'\"&$D27&\"　\"&$E27&\"'!B\"&CR$1),\nIF(AND(CR$9<>\"\",$H$3=\"実績\"),INDIRECT(\"'\"&$D27&\"　\"&$E27&\"'!C\"&CR$1),\n\"\")),\"\")","v":""},{"$f":"IFERROR(IF(AND(CR$9<>\"\",$H$3=\"計画\"),INDIRECT(\"'\"&$D27&\"　\"&$E27&\"'!B\"&CS$1),\nIF(AND(CR$9<>\"\",$H$3=\"実績\"),INDIRECT(\"'\"&$D27&\"　\"&$E27&\"'!C\"&CS$1),\n\"\")),\"\")","v":""},{"$f":"IFERROR(IF(IF(AND(CR$9<>\"\",$H$3=\"計画\"),INDIRECT(\"'\"&$D27&\"　\"&$E27&\"'!B\"&CT$1),\nIF(AND(CR$9<>\"\",$H$3=\"実績\"),INDIRECT(\"'\"&$D27&\"　\"&$E27&\"'!C\"&CT$1),\n\"\"))=\"対象外\",\"対象外\",CR27/CS27),\"\")","v":""},{"$f":"IFERROR(IF(AND(CU$9<>\"\",$H$3=\"計画\"),INDIRECT(\"'\"&$D27&\"　\"&$E27&\"'!B\"&CU$1),\nIF(AND(CU$9<>\"\",$H$3=\"実績\"),INDIRECT(\"'\"&$D27&\"　\"&$E27&\"'!C\"&CU$1),\n\"\")),\"\")","v":""},{"$f":"IFERROR(IF(AND(CU$9<>\"\",$H$3=\"計画\"),INDIRECT(\"'\"&$D27&\"　\"&$E27&\"'!B\"&CV$1),\nIF(AND(CU$9<>\"\",$H$3=\"実績\"),INDIRECT(\"'\"&$D27&\"　\"&$E27&\"'!C\"&CV$1),\n\"\")),\"\")","v":""},{"$f":"IFERROR(IF(IF(AND(CU$9<>\"\",$H$3=\"計画\"),INDIRECT(\"'\"&$D27&\"　\"&$E27&\"'!B\"&CW$1),\nIF(AND(CU$9<>\"\",$H$3=\"実績\"),INDIRECT(\"'\"&$D27&\"　\"&$E27&\"'!C\"&CW$1),\n\"\"))=\"対象外\",\"対象外\",CU27/CV27),\"\")","v":""},{"$f":"IFERROR(IF(AND(CX$9<>\"\",$H$3=\"計画\"),INDIRECT(\"'\"&$D27&\"　\"&$E27&\"'!B\"&CX$1),\nIF(AND(CX$9<>\"\",$H$3=\"実績\"),INDIRECT(\"'\"&$D27&\"　\"&$E27&\"'!C\"&CX$1),\n\"\")),\"\")","v":""},{"$f":"IFERROR(IF(AND(CX$9<>\"\",$H$3=\"計画\"),INDIRECT(\"'\"&$D27&\"　\"&$E27&\"'!B\"&CY$1),\nIF(AND(CX$9<>\"\",$H$3=\"実績\"),INDIRECT(\"'\"&$D27&\"　\"&$E27&\"'!C\"&CY$1),\n\"\")),\"\")","v":""},{"$f":"IFERROR(IF(IF(AND(CX$9<>\"\",$H$3=\"計画\"),INDIRECT(\"'\"&$D27&\"　\"&$E27&\"'!B\"&CZ$1),\nIF(AND(CX$9<>\"\",$H$3=\"実績\"),INDIRECT(\"'\"&$D27&\"　\"&$E27&\"'!C\"&CZ$1),\n\"\"))=\"対象外\",\"対象外\",CX27/CY27),\"\")","v":""},{"$f":"IFERROR(IF(AND(DA$9<>\"\",$H$3=\"計画\"),INDIRECT(\"'\"&$D27&\"　\"&$E27&\"'!B\"&DA$1),\nIF(AND(DA$9<>\"\",$H$3=\"実績\"),INDIRECT(\"'\"&$D27&\"　\"&$E27&\"'!C\"&DA$1),\n\"\")),\"\")","v":""},{"$f":"IFERROR(IF(AND(DA$9<>\"\",$H$3=\"計画\"),INDIRECT(\"'\"&$D27&\"　\"&$E27&\"'!B\"&DB$1),\nIF(AND(DA$9<>\"\",$H$3=\"実績\"),INDIRECT(\"'\"&$D27&\"　\"&$E27&\"'!C\"&DB$1),\n\"\")),\"\")","v":""},{"$f":"IFERROR(IF(IF(AND(DA$9<>\"\",$H$3=\"計画\"),INDIRECT(\"'\"&$D27&\"　\"&$E27&\"'!B\"&DC$1),\nIF(AND(DA$9<>\"\",$H$3=\"実績\"),INDIRECT(\"'\"&$D27&\"　\"&$E27&\"'!C\"&DC$1),\n\"\"))=\"対象外\",\"対象外\",DA27/DB27),\"\")","v":""},{"$f":"IFERROR(IF(AND(DD$9<>\"\",$H$3=\"計画\"),INDIRECT(\"'\"&$D27&\"　\"&$E27&\"'!B\"&DD$1),\nIF(AND(DD$9<>\"\",$H$3=\"実績\"),INDIRECT(\"'\"&$D27&\"　\"&$E27&\"'!C\"&DD$1),\n\"\")),\"\")","v":""},{"$f":"IFERROR(IF(AND(DD$9<>\"\",$H$3=\"計画\"),INDIRECT(\"'\"&$D27&\"　\"&$E27&\"'!B\"&DE$1),\nIF(AND(DD$9<>\"\",$H$3=\"実績\"),INDIRECT(\"'\"&$D27&\"　\"&$E27&\"'!C\"&DE$1),\n\"\")),\"\")","v":""},{"$f":"IFERROR(IF(IF(AND(DD$9<>\"\",$H$3=\"計画\"),INDIRECT(\"'\"&$D27&\"　\"&$E27&\"'!B\"&DF$1),\nIF(AND(DD$9<>\"\",$H$3=\"実績\"),INDIRECT(\"'\"&$D27&\"　\"&$E27&\"'!C\"&DF$1),\n\"\"))=\"対象外\",\"対象外\",DD27/DE27),\"\")","v":""},{"$f":"IFERROR(IF(AND(DG$9<>\"\",$H$3=\"計画\"),INDIRECT(\"'\"&$D27&\"　\"&$E27&\"'!B\"&DG$1),\nIF(AND(DG$9<>\"\",$H$3=\"実績\"),INDIRECT(\"'\"&$D27&\"　\"&$E27&\"'!C\"&DG$1),\n\"\")),\"\")","v":""},{"$f":"IFERROR(IF(AND(DG$9<>\"\",$H$3=\"計画\"),INDIRECT(\"'\"&$D27&\"　\"&$E27&\"'!B\"&DH$1),\nIF(AND(DG$9<>\"\",$H$3=\"実績\"),INDIRECT(\"'\"&$D27&\"　\"&$E27&\"'!C\"&DH$1),\n\"\")),\"\")","v":""},{"$f":"IFERROR(IF(IF(AND(DG$9<>\"\",$H$3=\"計画\"),INDIRECT(\"'\"&$D27&\"　\"&$E27&\"'!B\"&DI$1),\nIF(AND(DG$9<>\"\",$H$3=\"実績\"),INDIRECT(\"'\"&$D27&\"　\"&$E27&\"'!C\"&DI$1),\n\"\"))=\"対象外\",\"対象外\",DG27/DH27),\"\")","v":""},{"$f":"IFERROR(IF(AND(DJ$9<>\"\",$H$3=\"計画\"),INDIRECT(\"'\"&$D27&\"　\"&$E27&\"'!B\"&DJ$1),\nIF(AND(DJ$9<>\"\",$H$3=\"実績\"),INDIRECT(\"'\"&$D27&\"　\"&$E27&\"'!C\"&DJ$1),\n\"\")),\"\")","v":""},{"$f":"IFERROR(IF(AND(DJ$9<>\"\",$H$3=\"計画\"),INDIRECT(\"'\"&$D27&\"　\"&$E27&\"'!B\"&DK$1),\nIF(AND(DJ$9<>\"\",$H$3=\"実績\"),INDIRECT(\"'\"&$D27&\"　\"&$E27&\"'!C\"&DK$1),\n\"\")),\"\")","v":""},{"$f":"IFERROR(IF(IF(AND(DJ$9<>\"\",$H$3=\"計画\"),INDIRECT(\"'\"&$D27&\"　\"&$E27&\"'!B\"&DL$1),\nIF(AND(DJ$9<>\"\",$H$3=\"実績\"),INDIRECT(\"'\"&$D27&\"　\"&$E27&\"'!C\"&DL$1),\n\"\"))=\"対象外\",\"対象外\",DJ27/DK27),\"\")","v":""}]
[{"$f":"IF(COUNTIF(A$11:A27,\"\")=ROWS(A$11:A27)*COLUMNS(A$11:A27),\"\",\nIFERROR(AVERAGE(A$11:A27),\"対象外\"))","v":"対象外"},null,null,null,null,"","",{"$f":"IFERROR(IF(IF(H$3=\"計画\",INDIRECT(\"'\"&$D28&\"　\"&$E28&\"'!B\"&H$1),\nIF(H$3=\"実績\",INDIRECT(\"'\"&$D28&\"　\"&$E28&\"'!C\"&H$1),\n\"\"))>=28,F28/G28,\"対象外\"),\"\")","v":""},{"$f":"IFERROR(IF(AND(I$9<>\"\",$H$3=\"計画\"),INDIRECT(\"'\"&$D28&\"　\"&$E28&\"'!B\"&I$1),\nIF(AND(I$9<>\"\",$H$3=\"実績\"),INDIRECT(\"'\"&$D28&\"　\"&$E28&\"'!C\"&I$1),\n\"\")),\"\")","v":""},{"$f":"IFERROR(IF(AND(I$9<>\"\",$H$3=\"計画\"),INDIRECT(\"'\"&$D28&\"　\"&$E28&\"'!B\"&J$1),\nIF(AND(I$9<>\"\",$H$3=\"実績\"),INDIRECT(\"'\"&$D28&\"　\"&$E28&\"'!C\"&J$1),\n\"\")),\"\")","v":""},{"$f":"IFERROR(IF(IF(AND(I$9<>\"\",$H$3=\"計画\"),INDIRECT(\"'\"&$D28&\"　\"&$E28&\"'!B\"&K$1),\nIF(AND(I$9<>\"\",$H$3=\"実績\"),INDIRECT(\"'\"&$D28&\"　\"&$E28&\"'!C\"&K$1),\n\"\"))=\"対象外\",\"対象外\",I28/J28),\"\")","v":""},{"$f":"IFERROR(IF(AND(L$9<>\"\",$H$3=\"計画\"),INDIRECT(\"'\"&$D28&\"　\"&$E28&\"'!B\"&L$1),\nIF(AND(L$9<>\"\",$H$3=\"実績\"),INDIRECT(\"'\"&$D28&\"　\"&$E28&\"'!C\"&L$1),\n\"\")),\"\")","v":""},{"$f":"IFERROR(IF(AND(L$9<>\"\",$H$3=\"計画\"),INDIRECT(\"'\"&$D28&\"　\"&$E28&\"'!B\"&M$1),\nIF(AND(L$9<>\"\",$H$3=\"実績\"),INDIRECT(\"'\"&$D28&\"　\"&$E28&\"'!C\"&M$1),\n\"\")),\"\")","v":""},{"$f":"IFERROR(IF(IF(AND(L$9<>\"\",$H$3=\"計画\"),INDIRECT(\"'\"&$D28&\"　\"&$E28&\"'!B\"&N$1),\nIF(AND(L$9<>\"\",$H$3=\"実績\"),INDIRECT(\"'\"&$D28&\"　\"&$E28&\"'!C\"&N$1),\n\"\"))=\"対象外\",\"対象外\",L28/M28),\"\")","v":""},{"$f":"IFERROR(IF(AND(O$9<>\"\",$H$3=\"計画\"),INDIRECT(\"'\"&$D28&\"　\"&$E28&\"'!B\"&O$1),\nIF(AND(O$9<>\"\",$H$3=\"実績\"),INDIRECT(\"'\"&$D28&\"　\"&$E28&\"'!C\"&O$1),\n\"\")),\"\")","v":""},{"$f":"IFERROR(IF(AND(O$9<>\"\",$H$3=\"計画\"),INDIRECT(\"'\"&$D28&\"　\"&$E28&\"'!B\"&P$1),\nIF(AND(O$9<>\"\",$H$3=\"実績\"),INDIRECT(\"'\"&$D28&\"　\"&$E28&\"'!C\"&P$1),\n\"\")),\"\")","v":""},{"$f":"IFERROR(IF(IF(AND(O$9<>\"\",$H$3=\"計画\"),INDIRECT(\"'\"&$D28&\"　\"&$E28&\"'!B\"&Q$1),\nIF(AND(O$9<>\"\",$H$3=\"実績\"),INDIRECT(\"'\"&$D28&\"　\"&$E28&\"'!C\"&Q$1),\n\"\"))=\"対象外\",\"対象外\",O28/P28),\"\")","v":""},{"$f":"IFERROR(IF(AND(R$9<>\"\",$H$3=\"計画\"),INDIRECT(\"'\"&$D28&\"　\"&$E28&\"'!B\"&R$1),\nIF(AND(R$9<>\"\",$H$3=\"実績\"),INDIRECT(\"'\"&$D28&\"　\"&$E28&\"'!C\"&R$1),\n\"\")),\"\")","v":""},{"$f":"IFERROR(IF(AND(R$9<>\"\",$H$3=\"計画\"),INDIRECT(\"'\"&$D28&\"　\"&$E28&\"'!B\"&S$1),\nIF(AND(R$9<>\"\",$H$3=\"実績\"),INDIRECT(\"'\"&$D28&\"　\"&$E28&\"'!C\"&S$1),\n\"\")),\"\")","v":""},{"$f":"IFERROR(IF(IF(AND(R$9<>\"\",$H$3=\"計画\"),INDIRECT(\"'\"&$D28&\"　\"&$E28&\"'!B\"&T$1),\nIF(AND(R$9<>\"\",$H$3=\"実績\"),INDIRECT(\"'\"&$D28&\"　\"&$E28&\"'!C\"&T$1),\n\"\"))=\"対象外\",\"対象外\",R28/S28),\"\")","v":""},{"$f":"IFERROR(IF(AND(U$9<>\"\",$H$3=\"計画\"),INDIRECT(\"'\"&$D28&\"　\"&$E28&\"'!B\"&U$1),\nIF(AND(U$9<>\"\",$H$3=\"実績\"),INDIRECT(\"'\"&$D28&\"　\"&$E28&\"'!C\"&U$1),\n\"\")),\"\")","v":""},{"$f":"IFERROR(IF(AND(U$9<>\"\",$H$3=\"計画\"),INDIRECT(\"'\"&$D28&\"　\"&$E28&\"'!B\"&V$1),\nIF(AND(U$9<>\"\",$H$3=\"実績\"),INDIRECT(\"'\"&$D28&\"　\"&$E28&\"'!C\"&V$1),\n\"\")),\"\")","v":""},{"$f":"IFERROR(IF(IF(AND(U$9<>\"\",$H$3=\"計画\"),INDIRECT(\"'\"&$D28&\"　\"&$E28&\"'!B\"&W$1),\nIF(AND(U$9<>\"\",$H$3=\"実績\"),INDIRECT(\"'\"&$D28&\"　\"&$E28&\"'!C\"&W$1),\n\"\"))=\"対象外\",\"対象外\",U28/V28),\"\")","v":""},{"$f":"IFERROR(IF(AND(X$9<>\"\",$H$3=\"計画\"),INDIRECT(\"'\"&$D28&\"　\"&$E28&\"'!B\"&X$1),\nIF(AND(X$9<>\"\",$H$3=\"実績\"),INDIRECT(\"'\"&$D28&\"　\"&$E28&\"'!C\"&X$1),\n\"\")),\"\")","v":""},{"$f":"IFERROR(IF(AND(X$9<>\"\",$H$3=\"計画\"),INDIRECT(\"'\"&$D28&\"　\"&$E28&\"'!B\"&Y$1),\nIF(AND(X$9<>\"\",$H$3=\"実績\"),INDIRECT(\"'\"&$D28&\"　\"&$E28&\"'!C\"&Y$1),\n\"\")),\"\")","v":""},{"$f":"IFERROR(IF(IF(AND(X$9<>\"\",$H$3=\"計画\"),INDIRECT(\"'\"&$D28&\"　\"&$E28&\"'!B\"&Z$1),\nIF(AND(X$9<>\"\",$H$3=\"実績\"),INDIRECT(\"'\"&$D28&\"　\"&$E28&\"'!C\"&Z$1),\n\"\"))=\"対象外\",\"対象外\",X28/Y28),\"\")","v":""},{"$f":"IFERROR(IF(AND(AA$9<>\"\",$H$3=\"計画\"),INDIRECT(\"'\"&$D28&\"　\"&$E28&\"'!B\"&AA$1),\nIF(AND(AA$9<>\"\",$H$3=\"実績\"),INDIRECT(\"'\"&$D28&\"　\"&$E28&\"'!C\"&AA$1),\n\"\")),\"\")","v":""},{"$f":"IFERROR(IF(AND(AA$9<>\"\",$H$3=\"計画\"),INDIRECT(\"'\"&$D28&\"　\"&$E28&\"'!B\"&AB$1),\nIF(AND(AA$9<>\"\",$H$3=\"実績\"),INDIRECT(\"'\"&$D28&\"　\"&$E28&\"'!C\"&AB$1),\n\"\")),\"\")","v":""},{"$f":"IFERROR(IF(IF(AND(AA$9<>\"\",$H$3=\"計画\"),INDIRECT(\"'\"&$D28&\"　\"&$E28&\"'!B\"&AC$1),\nIF(AND(AA$9<>\"\",$H$3=\"実績\"),INDIRECT(\"'\"&$D28&\"　\"&$E28&\"'!C\"&AC$1),\n\"\"))=\"対象外\",\"対象外\",AA28/AB28),\"\")","v":""},{"$f":"IFERROR(IF(AND(AD$9<>\"\",$H$3=\"計画\"),INDIRECT(\"'\"&$D28&\"　\"&$E28&\"'!B\"&AD$1),\nIF(AND(AD$9<>\"\",$H$3=\"実績\"),INDIRECT(\"'\"&$D28&\"　\"&$E28&\"'!C\"&AD$1),\n\"\")),\"\")","v":""},{"$f":"IFERROR(IF(AND(AD$9<>\"\",$H$3=\"計画\"),INDIRECT(\"'\"&$D28&\"　\"&$E28&\"'!B\"&AE$1),\nIF(AND(AD$9<>\"\",$H$3=\"実績\"),INDIRECT(\"'\"&$D28&\"　\"&$E28&\"'!C\"&AE$1),\n\"\")),\"\")","v":""},{"$f":"IFERROR(IF(IF(AND(AD$9<>\"\",$H$3=\"計画\"),INDIRECT(\"'\"&$D28&\"　\"&$E28&\"'!B\"&AF$1),\nIF(AND(AD$9<>\"\",$H$3=\"実績\"),INDIRECT(\"'\"&$D28&\"　\"&$E28&\"'!C\"&AF$1),\n\"\"))=\"対象外\",\"対象外\",AD28/AE28),\"\")","v":""},{"$f":"IFERROR(IF(AND(AG$9<>\"\",$H$3=\"計画\"),INDIRECT(\"'\"&$D28&\"　\"&$E28&\"'!B\"&AG$1),\nIF(AND(AG$9<>\"\",$H$3=\"実績\"),INDIRECT(\"'\"&$D28&\"　\"&$E28&\"'!C\"&AG$1),\n\"\")),\"\")","v":""},{"$f":"IFERROR(IF(AND(AG$9<>\"\",$H$3=\"計画\"),INDIRECT(\"'\"&$D28&\"　\"&$E28&\"'!B\"&AH$1),\nIF(AND(AG$9<>\"\",$H$3=\"実績\"),INDIRECT(\"'\"&$D28&\"　\"&$E28&\"'!C\"&AH$1),\n\"\")),\"\")","v":""},{"$f":"IFERROR(IF(IF(AND(AG$9<>\"\",$H$3=\"計画\"),INDIRECT(\"'\"&$D28&\"　\"&$E28&\"'!B\"&AI$1),\nIF(AND(AG$9<>\"\",$H$3=\"実績\"),INDIRECT(\"'\"&$D28&\"　\"&$E28&\"'!C\"&AI$1),\n\"\"))=\"対象外\",\"対象外\",AG28/AH28),\"\")","v":""},{"$f":"IFERROR(IF(AND(AJ$9<>\"\",$H$3=\"計画\"),INDIRECT(\"'\"&$D28&\"　\"&$E28&\"'!B\"&AJ$1),\nIF(AND(AJ$9<>\"\",$H$3=\"実績\"),INDIRECT(\"'\"&$D28&\"　\"&$E28&\"'!C\"&AJ$1),\n\"\")),\"\")","v":""},{"$f":"IFERROR(IF(AND(AJ$9<>\"\",$H$3=\"計画\"),INDIRECT(\"'\"&$D28&\"　\"&$E28&\"'!B\"&AK$1),\nIF(AND(AJ$9<>\"\",$H$3=\"実績\"),INDIRECT(\"'\"&$D28&\"　\"&$E28&\"'!C\"&AK$1),\n\"\")),\"\")","v":""},{"$f":"IFERROR(IF(IF(AND(AJ$9<>\"\",$H$3=\"計画\"),INDIRECT(\"'\"&$D28&\"　\"&$E28&\"'!B\"&AL$1),\nIF(AND(AJ$9<>\"\",$H$3=\"実績\"),INDIRECT(\"'\"&$D28&\"　\"&$E28&\"'!C\"&AL$1),\n\"\"))=\"対象外\",\"対象外\",AJ28/AK28),\"\")","v":""},{"$f":"IFERROR(IF(AND(AM$9<>\"\",$H$3=\"計画\"),INDIRECT(\"'\"&$D28&\"　\"&$E28&\"'!B\"&AM$1),\nIF(AND(AM$9<>\"\",$H$3=\"実績\"),INDIRECT(\"'\"&$D28&\"　\"&$E28&\"'!C\"&AM$1),\n\"\")),\"\")","v":""},{"$f":"IFERROR(IF(AND(AM$9<>\"\",$H$3=\"計画\"),INDIRECT(\"'\"&$D28&\"　\"&$E28&\"'!B\"&AN$1),\nIF(AND(AM$9<>\"\",$H$3=\"実績\"),INDIRECT(\"'\"&$D28&\"　\"&$E28&\"'!C\"&AN$1),\n\"\")),\"\")","v":""},{"$f":"IFERROR(IF(IF(AND(AM$9<>\"\",$H$3=\"計画\"),INDIRECT(\"'\"&$D28&\"　\"&$E28&\"'!B\"&AO$1),\nIF(AND(AM$9<>\"\",$H$3=\"実績\"),INDIRECT(\"'\"&$D28&\"　\"&$E28&\"'!C\"&AO$1),\n\"\"))=\"対象外\",\"対象外\",AM28/AN28),\"\")","v":""},{"$f":"IFERROR(IF(AND(AP$9<>\"\",$H$3=\"計画\"),INDIRECT(\"'\"&$D28&\"　\"&$E28&\"'!B\"&AP$1),\nIF(AND(AP$9<>\"\",$H$3=\"実績\"),INDIRECT(\"'\"&$D28&\"　\"&$E28&\"'!C\"&AP$1),\n\"\")),\"\")","v":""},{"$f":"IFERROR(IF(AND(AP$9<>\"\",$H$3=\"計画\"),INDIRECT(\"'\"&$D28&\"　\"&$E28&\"'!B\"&AQ$1),\nIF(AND(AP$9<>\"\",$H$3=\"実績\"),INDIRECT(\"'\"&$D28&\"　\"&$E28&\"'!C\"&AQ$1),\n\"\")),\"\")","v":""},{"$f":"IFERROR(IF(IF(AND(AP$9<>\"\",$H$3=\"計画\"),INDIRECT(\"'\"&$D28&\"　\"&$E28&\"'!B\"&AR$1),\nIF(AND(AP$9<>\"\",$H$3=\"実績\"),INDIRECT(\"'\"&$D28&\"　\"&$E28&\"'!C\"&AR$1),\n\"\"))=\"対象外\",\"対象外\",AP28/AQ28),\"\")","v":""},{"$f":"IFERROR(IF(AND(AS$9<>\"\",$H$3=\"計画\"),INDIRECT(\"'\"&$D28&\"　\"&$E28&\"'!B\"&AS$1),\nIF(AND(AS$9<>\"\",$H$3=\"実績\"),INDIRECT(\"'\"&$D28&\"　\"&$E28&\"'!C\"&AS$1),\n\"\")),\"\")","v":""},{"$f":"IFERROR(IF(AND(AS$9<>\"\",$H$3=\"計画\"),INDIRECT(\"'\"&$D28&\"　\"&$E28&\"'!B\"&AT$1),\nIF(AND(AS$9<>\"\",$H$3=\"実績\"),INDIRECT(\"'\"&$D28&\"　\"&$E28&\"'!C\"&AT$1),\n\"\")),\"\")","v":""},{"$f":"IFERROR(IF(IF(AND(AS$9<>\"\",$H$3=\"計画\"),INDIRECT(\"'\"&$D28&\"　\"&$E28&\"'!B\"&AU$1),\nIF(AND(AS$9<>\"\",$H$3=\"実績\"),INDIRECT(\"'\"&$D28&\"　\"&$E28&\"'!C\"&AU$1),\n\"\"))=\"対象外\",\"対象外\",AS28/AT28),\"\")","v":""},{"$f":"IFERROR(IF(AND(AV$9<>\"\",$H$3=\"計画\"),INDIRECT(\"'\"&$D28&\"　\"&$E28&\"'!B\"&AV$1),\nIF(AND(AV$9<>\"\",$H$3=\"実績\"),INDIRECT(\"'\"&$D28&\"　\"&$E28&\"'!C\"&AV$1),\n\"\")),\"\")","v":""},{"$f":"IFERROR(IF(AND(AV$9<>\"\",$H$3=\"計画\"),INDIRECT(\"'\"&$D28&\"　\"&$E28&\"'!B\"&AW$1),\nIF(AND(AV$9<>\"\",$H$3=\"実績\"),INDIRECT(\"'\"&$D28&\"　\"&$E28&\"'!C\"&AW$1),\n\"\")),\"\")","v":""},{"$f":"IFERROR(IF(IF(AND(AV$9<>\"\",$H$3=\"計画\"),INDIRECT(\"'\"&$D28&\"　\"&$E28&\"'!B\"&AX$1),\nIF(AND(AV$9<>\"\",$H$3=\"実績\"),INDIRECT(\"'\"&$D28&\"　\"&$E28&\"'!C\"&AX$1),\n\"\"))=\"対象外\",\"対象外\",AV28/AW28),\"\")","v":""},{"$f":"IFERROR(IF(AND(AY$9<>\"\",$H$3=\"計画\"),INDIRECT(\"'\"&$D28&\"　\"&$E28&\"'!B\"&AY$1),\nIF(AND(AY$9<>\"\",$H$3=\"実績\"),INDIRECT(\"'\"&$D28&\"　\"&$E28&\"'!C\"&AY$1),\n\"\")),\"\")","v":""},{"$f":"IFERROR(IF(AND(AY$9<>\"\",$H$3=\"計画\"),INDIRECT(\"'\"&$D28&\"　\"&$E28&\"'!B\"&AZ$1),\nIF(AND(AY$9<>\"\",$H$3=\"実績\"),INDIRECT(\"'\"&$D28&\"　\"&$E28&\"'!C\"&AZ$1),\n\"\")),\"\")","v":""},{"$f":"IFERROR(IF(IF(AND(AY$9<>\"\",$H$3=\"計画\"),INDIRECT(\"'\"&$D28&\"　\"&$E28&\"'!B\"&BA$1),\nIF(AND(AY$9<>\"\",$H$3=\"実績\"),INDIRECT(\"'\"&$D28&\"　\"&$E28&\"'!C\"&BA$1),\n\"\"))=\"対象外\",\"対象外\",AY28/AZ28),\"\")","v":""},{"$f":"IFERROR(IF(AND(BB$9<>\"\",$H$3=\"計画\"),INDIRECT(\"'\"&$D28&\"　\"&$E28&\"'!B\"&BB$1),\nIF(AND(BB$9<>\"\",$H$3=\"実績\"),INDIRECT(\"'\"&$D28&\"　\"&$E28&\"'!C\"&BB$1),\n\"\")),\"\")","v":""},{"$f":"IFERROR(IF(AND(BB$9<>\"\",$H$3=\"計画\"),INDIRECT(\"'\"&$D28&\"　\"&$E28&\"'!B\"&BC$1),\nIF(AND(BB$9<>\"\",$H$3=\"実績\"),INDIRECT(\"'\"&$D28&\"　\"&$E28&\"'!C\"&BC$1),\n\"\")),\"\")","v":""},{"$f":"IFERROR(IF(IF(AND(BB$9<>\"\",$H$3=\"計画\"),INDIRECT(\"'\"&$D28&\"　\"&$E28&\"'!B\"&BD$1),\nIF(AND(BB$9<>\"\",$H$3=\"実績\"),INDIRECT(\"'\"&$D28&\"　\"&$E28&\"'!C\"&BD$1),\n\"\"))=\"対象外\",\"対象外\",BB28/BC28),\"\")","v":""},{"$f":"IFERROR(IF(AND(BE$9<>\"\",$H$3=\"計画\"),INDIRECT(\"'\"&$D28&\"　\"&$E28&\"'!B\"&BE$1),\nIF(AND(BE$9<>\"\",$H$3=\"実績\"),INDIRECT(\"'\"&$D28&\"　\"&$E28&\"'!C\"&BE$1),\n\"\")),\"\")","v":""},{"$f":"IFERROR(IF(AND(BE$9<>\"\",$H$3=\"計画\"),INDIRECT(\"'\"&$D28&\"　\"&$E28&\"'!B\"&BF$1),\nIF(AND(BE$9<>\"\",$H$3=\"実績\"),INDIRECT(\"'\"&$D28&\"　\"&$E28&\"'!C\"&BF$1),\n\"\")),\"\")","v":""},{"$f":"IFERROR(IF(IF(AND(BE$9<>\"\",$H$3=\"計画\"),INDIRECT(\"'\"&$D28&\"　\"&$E28&\"'!B\"&BG$1),\nIF(AND(BE$9<>\"\",$H$3=\"実績\"),INDIRECT(\"'\"&$D28&\"　\"&$E28&\"'!C\"&BG$1),\n\"\"))=\"対象外\",\"対象外\",BE28/BF28),\"\")","v":""},{"$f":"IFERROR(IF(AND(BH$9<>\"\",$H$3=\"計画\"),INDIRECT(\"'\"&$D28&\"　\"&$E28&\"'!B\"&BH$1),\nIF(AND(BH$9<>\"\",$H$3=\"実績\"),INDIRECT(\"'\"&$D28&\"　\"&$E28&\"'!C\"&BH$1),\n\"\")),\"\")","v":""},{"$f":"IFERROR(IF(AND(BH$9<>\"\",$H$3=\"計画\"),INDIRECT(\"'\"&$D28&\"　\"&$E28&\"'!B\"&BI$1),\nIF(AND(BH$9<>\"\",$H$3=\"実績\"),INDIRECT(\"'\"&$D28&\"　\"&$E28&\"'!C\"&BI$1),\n\"\")),\"\")","v":""},{"$f":"IFERROR(IF(IF(AND(BH$9<>\"\",$H$3=\"計画\"),INDIRECT(\"'\"&$D28&\"　\"&$E28&\"'!B\"&BJ$1),\nIF(AND(BH$9<>\"\",$H$3=\"実績\"),INDIRECT(\"'\"&$D28&\"　\"&$E28&\"'!C\"&BJ$1),\n\"\"))=\"対象外\",\"対象外\",BH28/BI28),\"\")","v":""},{"$f":"IFERROR(IF(AND(BK$9<>\"\",$H$3=\"計画\"),INDIRECT(\"'\"&$D28&\"　\"&$E28&\"'!B\"&BK$1),\nIF(AND(BK$9<>\"\",$H$3=\"実績\"),INDIRECT(\"'\"&$D28&\"　\"&$E28&\"'!C\"&BK$1),\n\"\")),\"\")","v":""},{"$f":"IFERROR(IF(AND(BK$9<>\"\",$H$3=\"計画\"),INDIRECT(\"'\"&$D28&\"　\"&$E28&\"'!B\"&BL$1),\nIF(AND(BK$9<>\"\",$H$3=\"実績\"),INDIRECT(\"'\"&$D28&\"　\"&$E28&\"'!C\"&BL$1),\n\"\")),\"\")","v":""},{"$f":"IFERROR(IF(IF(AND(BK$9<>\"\",$H$3=\"計画\"),INDIRECT(\"'\"&$D28&\"　\"&$E28&\"'!B\"&BM$1),\nIF(AND(BK$9<>\"\",$H$3=\"実績\"),INDIRECT(\"'\"&$D28&\"　\"&$E28&\"'!C\"&BM$1),\n\"\"))=\"対象外\",\"対象外\",BK28/BL28),\"\")","v":""},{"$f":"IFERROR(IF(AND(BN$9<>\"\",$H$3=\"計画\"),INDIRECT(\"'\"&$D28&\"　\"&$E28&\"'!B\"&BN$1),\nIF(AND(BN$9<>\"\",$H$3=\"実績\"),INDIRECT(\"'\"&$D28&\"　\"&$E28&\"'!C\"&BN$1),\n\"\")),\"\")","v":""},{"$f":"IFERROR(IF(AND(BN$9<>\"\",$H$3=\"計画\"),INDIRECT(\"'\"&$D28&\"　\"&$E28&\"'!B\"&BO$1),\nIF(AND(BN$9<>\"\",$H$3=\"実績\"),INDIRECT(\"'\"&$D28&\"　\"&$E28&\"'!C\"&BO$1),\n\"\")),\"\")","v":""},{"$f":"IFERROR(IF(IF(AND(BN$9<>\"\",$H$3=\"計画\"),INDIRECT(\"'\"&$D28&\"　\"&$E28&\"'!B\"&BP$1),\nIF(AND(BN$9<>\"\",$H$3=\"実績\"),INDIRECT(\"'\"&$D28&\"　\"&$E28&\"'!C\"&BP$1),\n\"\"))=\"対象外\",\"対象外\",BN28/BO28),\"\")","v":""},{"$f":"IFERROR(IF(AND(BQ$9<>\"\",$H$3=\"計画\"),INDIRECT(\"'\"&$D28&\"　\"&$E28&\"'!B\"&BQ$1),\nIF(AND(BQ$9<>\"\",$H$3=\"実績\"),INDIRECT(\"'\"&$D28&\"　\"&$E28&\"'!C\"&BQ$1),\n\"\")),\"\")","v":""},{"$f":"IFERROR(IF(AND(BQ$9<>\"\",$H$3=\"計画\"),INDIRECT(\"'\"&$D28&\"　\"&$E28&\"'!B\"&BR$1),\nIF(AND(BQ$9<>\"\",$H$3=\"実績\"),INDIRECT(\"'\"&$D28&\"　\"&$E28&\"'!C\"&BR$1),\n\"\")),\"\")","v":""},{"$f":"IFERROR(IF(IF(AND(BQ$9<>\"\",$H$3=\"計画\"),INDIRECT(\"'\"&$D28&\"　\"&$E28&\"'!B\"&BS$1),\nIF(AND(BQ$9<>\"\",$H$3=\"実績\"),INDIRECT(\"'\"&$D28&\"　\"&$E28&\"'!C\"&BS$1),\n\"\"))=\"対象外\",\"対象外\",BQ28/BR28),\"\")","v":""},{"$f":"IFERROR(IF(AND(BT$9<>\"\",$H$3=\"計画\"),INDIRECT(\"'\"&$D28&\"　\"&$E28&\"'!B\"&BT$1),\nIF(AND(BT$9<>\"\",$H$3=\"実績\"),INDIRECT(\"'\"&$D28&\"　\"&$E28&\"'!C\"&BT$1),\n\"\")),\"\")","v":""},{"$f":"IFERROR(IF(AND(BT$9<>\"\",$H$3=\"計画\"),INDIRECT(\"'\"&$D28&\"　\"&$E28&\"'!B\"&BU$1),\nIF(AND(BT$9<>\"\",$H$3=\"実績\"),INDIRECT(\"'\"&$D28&\"　\"&$E28&\"'!C\"&BU$1),\n\"\")),\"\")","v":""},{"$f":"IFERROR(IF(IF(AND(BT$9<>\"\",$H$3=\"計画\"),INDIRECT(\"'\"&$D28&\"　\"&$E28&\"'!B\"&BV$1),\nIF(AND(BT$9<>\"\",$H$3=\"実績\"),INDIRECT(\"'\"&$D28&\"　\"&$E28&\"'!C\"&BV$1),\n\"\"))=\"対象外\",\"対象外\",BT28/BU28),\"\")","v":""},{"$f":"IFERROR(IF(AND(BW$9<>\"\",$H$3=\"計画\"),INDIRECT(\"'\"&$D28&\"　\"&$E28&\"'!B\"&BW$1),\nIF(AND(BW$9<>\"\",$H$3=\"実績\"),INDIRECT(\"'\"&$D28&\"　\"&$E28&\"'!C\"&BW$1),\n\"\")),\"\")","v":""},{"$f":"IFERROR(IF(AND(BW$9<>\"\",$H$3=\"計画\"),INDIRECT(\"'\"&$D28&\"　\"&$E28&\"'!B\"&BX$1),\nIF(AND(BW$9<>\"\",$H$3=\"実績\"),INDIRECT(\"'\"&$D28&\"　\"&$E28&\"'!C\"&BX$1),\n\"\")),\"\")","v":""},{"$f":"IFERROR(IF(IF(AND(BW$9<>\"\",$H$3=\"計画\"),INDIRECT(\"'\"&$D28&\"　\"&$E28&\"'!B\"&BY$1),\nIF(AND(BW$9<>\"\",$H$3=\"実績\"),INDIRECT(\"'\"&$D28&\"　\"&$E28&\"'!C\"&BY$1),\n\"\"))=\"対象外\",\"対象外\",BW28/BX28),\"\")","v":""},{"$f":"IFERROR(IF(AND(BZ$9<>\"\",$H$3=\"計画\"),INDIRECT(\"'\"&$D28&\"　\"&$E28&\"'!B\"&BZ$1),\nIF(AND(BZ$9<>\"\",$H$3=\"実績\"),INDIRECT(\"'\"&$D28&\"　\"&$E28&\"'!C\"&BZ$1),\n\"\")),\"\")","v":""},{"$f":"IFERROR(IF(AND(BZ$9<>\"\",$H$3=\"計画\"),INDIRECT(\"'\"&$D28&\"　\"&$E28&\"'!B\"&CA$1),\nIF(AND(BZ$9<>\"\",$H$3=\"実績\"),INDIRECT(\"'\"&$D28&\"　\"&$E28&\"'!C\"&CA$1),\n\"\")),\"\")","v":""},{"$f":"IFERROR(IF(IF(AND(BZ$9<>\"\",$H$3=\"計画\"),INDIRECT(\"'\"&$D28&\"　\"&$E28&\"'!B\"&CB$1),\nIF(AND(BZ$9<>\"\",$H$3=\"実績\"),INDIRECT(\"'\"&$D28&\"　\"&$E28&\"'!C\"&CB$1),\n\"\"))=\"対象外\",\"対象外\",BZ28/CA28),\"\")","v":""},{"$f":"IFERROR(IF(AND(CC$9<>\"\",$H$3=\"計画\"),INDIRECT(\"'\"&$D28&\"　\"&$E28&\"'!B\"&CC$1),\nIF(AND(CC$9<>\"\",$H$3=\"実績\"),INDIRECT(\"'\"&$D28&\"　\"&$E28&\"'!C\"&CC$1),\n\"\")),\"\")","v":""},{"$f":"IFERROR(IF(AND(CC$9<>\"\",$H$3=\"計画\"),INDIRECT(\"'\"&$D28&\"　\"&$E28&\"'!B\"&CD$1),\nIF(AND(CC$9<>\"\",$H$3=\"実績\"),INDIRECT(\"'\"&$D28&\"　\"&$E28&\"'!C\"&CD$1),\n\"\")),\"\")","v":""},{"$f":"IFERROR(IF(IF(AND(CC$9<>\"\",$H$3=\"計画\"),INDIRECT(\"'\"&$D28&\"　\"&$E28&\"'!B\"&CE$1),\nIF(AND(CC$9<>\"\",$H$3=\"実績\"),INDIRECT(\"'\"&$D28&\"　\"&$E28&\"'!C\"&CE$1),\n\"\"))=\"対象外\",\"対象外\",CC28/CD28),\"\")","v":""},{"$f":"IFERROR(IF(AND(CF$9<>\"\",$H$3=\"計画\"),INDIRECT(\"'\"&$D28&\"　\"&$E28&\"'!B\"&CF$1),\nIF(AND(CF$9<>\"\",$H$3=\"実績\"),INDIRECT(\"'\"&$D28&\"　\"&$E28&\"'!C\"&CF$1),\n\"\")),\"\")","v":""},{"$f":"IFERROR(IF(AND(CF$9<>\"\",$H$3=\"計画\"),INDIRECT(\"'\"&$D28&\"　\"&$E28&\"'!B\"&CG$1),\nIF(AND(CF$9<>\"\",$H$3=\"実績\"),INDIRECT(\"'\"&$D28&\"　\"&$E28&\"'!C\"&CG$1),\n\"\")),\"\")","v":""},{"$f":"IFERROR(IF(IF(AND(CF$9<>\"\",$H$3=\"計画\"),INDIRECT(\"'\"&$D28&\"　\"&$E28&\"'!B\"&CH$1),\nIF(AND(CF$9<>\"\",$H$3=\"実績\"),INDIRECT(\"'\"&$D28&\"　\"&$E28&\"'!C\"&CH$1),\n\"\"))=\"対象外\",\"対象外\",CF28/CG28),\"\")","v":""},{"$f":"IFERROR(IF(AND(CI$9<>\"\",$H$3=\"計画\"),INDIRECT(\"'\"&$D28&\"　\"&$E28&\"'!B\"&CI$1),\nIF(AND(CI$9<>\"\",$H$3=\"実績\"),INDIRECT(\"'\"&$D28&\"　\"&$E28&\"'!C\"&CI$1),\n\"\")),\"\")","v":""},{"$f":"IFERROR(IF(AND(CI$9<>\"\",$H$3=\"計画\"),INDIRECT(\"'\"&$D28&\"　\"&$E28&\"'!B\"&CJ$1),\nIF(AND(CI$9<>\"\",$H$3=\"実績\"),INDIRECT(\"'\"&$D28&\"　\"&$E28&\"'!C\"&CJ$1),\n\"\")),\"\")","v":""},{"$f":"IFERROR(IF(IF(AND(CI$9<>\"\",$H$3=\"計画\"),INDIRECT(\"'\"&$D28&\"　\"&$E28&\"'!B\"&CK$1),\nIF(AND(CI$9<>\"\",$H$3=\"実績\"),INDIRECT(\"'\"&$D28&\"　\"&$E28&\"'!C\"&CK$1),\n\"\"))=\"対象外\",\"対象外\",CI28/CJ28),\"\")","v":""},{"$f":"IFERROR(IF(AND(CL$9<>\"\",$H$3=\"計画\"),INDIRECT(\"'\"&$D28&\"　\"&$E28&\"'!B\"&CL$1),\nIF(AND(CL$9<>\"\",$H$3=\"実績\"),INDIRECT(\"'\"&$D28&\"　\"&$E28&\"'!C\"&CL$1),\n\"\")),\"\")","v":""},{"$f":"IFERROR(IF(AND(CL$9<>\"\",$H$3=\"計画\"),INDIRECT(\"'\"&$D28&\"　\"&$E28&\"'!B\"&CM$1),\nIF(AND(CL$9<>\"\",$H$3=\"実績\"),INDIRECT(\"'\"&$D28&\"　\"&$E28&\"'!C\"&CM$1),\n\"\")),\"\")","v":""},{"$f":"IFERROR(IF(IF(AND(CL$9<>\"\",$H$3=\"計画\"),INDIRECT(\"'\"&$D28&\"　\"&$E28&\"'!B\"&CN$1),\nIF(AND(CL$9<>\"\",$H$3=\"実績\"),INDIRECT(\"'\"&$D28&\"　\"&$E28&\"'!C\"&CN$1),\n\"\"))=\"対象外\",\"対象外\",CL28/CM28),\"\")","v":""},{"$f":"IFERROR(IF(AND(CO$9<>\"\",$H$3=\"計画\"),INDIRECT(\"'\"&$D28&\"　\"&$E28&\"'!B\"&CO$1),\nIF(AND(CO$9<>\"\",$H$3=\"実績\"),INDIRECT(\"'\"&$D28&\"　\"&$E28&\"'!C\"&CO$1),\n\"\")),\"\")","v":""},{"$f":"IFERROR(IF(AND(CO$9<>\"\",$H$3=\"計画\"),INDIRECT(\"'\"&$D28&\"　\"&$E28&\"'!B\"&CP$1),\nIF(AND(CO$9<>\"\",$H$3=\"実績\"),INDIRECT(\"'\"&$D28&\"　\"&$E28&\"'!C\"&CP$1),\n\"\")),\"\")","v":""},{"$f":"IFERROR(IF(IF(AND(CO$9<>\"\",$H$3=\"計画\"),INDIRECT(\"'\"&$D28&\"　\"&$E28&\"'!B\"&CQ$1),\nIF(AND(CO$9<>\"\",$H$3=\"実績\"),INDIRECT(\"'\"&$D28&\"　\"&$E28&\"'!C\"&CQ$1),\n\"\"))=\"対象外\",\"対象外\",CO28/CP28),\"\")","v":""},{"$f":"IFERROR(IF(AND(CR$9<>\"\",$H$3=\"計画\"),INDIRECT(\"'\"&$D28&\"　\"&$E28&\"'!B\"&CR$1),\nIF(AND(CR$9<>\"\",$H$3=\"実績\"),INDIRECT(\"'\"&$D28&\"　\"&$E28&\"'!C\"&CR$1),\n\"\")),\"\")","v":""},{"$f":"IFERROR(IF(AND(CR$9<>\"\",$H$3=\"計画\"),INDIRECT(\"'\"&$D28&\"　\"&$E28&\"'!B\"&CS$1),\nIF(AND(CR$9<>\"\",$H$3=\"実績\"),INDIRECT(\"'\"&$D28&\"　\"&$E28&\"'!C\"&CS$1),\n\"\")),\"\")","v":""},{"$f":"IFERROR(IF(IF(AND(CR$9<>\"\",$H$3=\"計画\"),INDIRECT(\"'\"&$D28&\"　\"&$E28&\"'!B\"&CT$1),\nIF(AND(CR$9<>\"\",$H$3=\"実績\"),INDIRECT(\"'\"&$D28&\"　\"&$E28&\"'!C\"&CT$1),\n\"\"))=\"対象外\",\"対象外\",CR28/CS28),\"\")","v":""},{"$f":"IFERROR(IF(AND(CU$9<>\"\",$H$3=\"計画\"),INDIRECT(\"'\"&$D28&\"　\"&$E28&\"'!B\"&CU$1),\nIF(AND(CU$9<>\"\",$H$3=\"実績\"),INDIRECT(\"'\"&$D28&\"　\"&$E28&\"'!C\"&CU$1),\n\"\")),\"\")","v":""},{"$f":"IFERROR(IF(AND(CU$9<>\"\",$H$3=\"計画\"),INDIRECT(\"'\"&$D28&\"　\"&$E28&\"'!B\"&CV$1),\nIF(AND(CU$9<>\"\",$H$3=\"実績\"),INDIRECT(\"'\"&$D28&\"　\"&$E28&\"'!C\"&CV$1),\n\"\")),\"\")","v":""},{"$f":"IFERROR(IF(IF(AND(CU$9<>\"\",$H$3=\"計画\"),INDIRECT(\"'\"&$D28&\"　\"&$E28&\"'!B\"&CW$1),\nIF(AND(CU$9<>\"\",$H$3=\"実績\"),INDIRECT(\"'\"&$D28&\"　\"&$E28&\"'!C\"&CW$1),\n\"\"))=\"対象外\",\"対象外\",CU28/CV28),\"\")","v":""},{"$f":"IFERROR(IF(AND(CX$9<>\"\",$H$3=\"計画\"),INDIRECT(\"'\"&$D28&\"　\"&$E28&\"'!B\"&CX$1),\nIF(AND(CX$9<>\"\",$H$3=\"実績\"),INDIRECT(\"'\"&$D28&\"　\"&$E28&\"'!C\"&CX$1),\n\"\")),\"\")","v":""},{"$f":"IFERROR(IF(AND(CX$9<>\"\",$H$3=\"計画\"),INDIRECT(\"'\"&$D28&\"　\"&$E28&\"'!B\"&CY$1),\nIF(AND(CX$9<>\"\",$H$3=\"実績\"),INDIRECT(\"'\"&$D28&\"　\"&$E28&\"'!C\"&CY$1),\n\"\")),\"\")","v":""},{"$f":"IFERROR(IF(IF(AND(CX$9<>\"\",$H$3=\"計画\"),INDIRECT(\"'\"&$D28&\"　\"&$E28&\"'!B\"&CZ$1),\nIF(AND(CX$9<>\"\",$H$3=\"実績\"),INDIRECT(\"'\"&$D28&\"　\"&$E28&\"'!C\"&CZ$1),\n\"\"))=\"対象外\",\"対象外\",CX28/CY28),\"\")","v":""},{"$f":"IFERROR(IF(AND(DA$9<>\"\",$H$3=\"計画\"),INDIRECT(\"'\"&$D28&\"　\"&$E28&\"'!B\"&DA$1),\nIF(AND(DA$9<>\"\",$H$3=\"実績\"),INDIRECT(\"'\"&$D28&\"　\"&$E28&\"'!C\"&DA$1),\n\"\")),\"\")","v":""},{"$f":"IFERROR(IF(AND(DA$9<>\"\",$H$3=\"計画\"),INDIRECT(\"'\"&$D28&\"　\"&$E28&\"'!B\"&DB$1),\nIF(AND(DA$9<>\"\",$H$3=\"実績\"),INDIRECT(\"'\"&$D28&\"　\"&$E28&\"'!C\"&DB$1),\n\"\")),\"\")","v":""},{"$f":"IFERROR(IF(IF(AND(DA$9<>\"\",$H$3=\"計画\"),INDIRECT(\"'\"&$D28&\"　\"&$E28&\"'!B\"&DC$1),\nIF(AND(DA$9<>\"\",$H$3=\"実績\"),INDIRECT(\"'\"&$D28&\"　\"&$E28&\"'!C\"&DC$1),\n\"\"))=\"対象外\",\"対象外\",DA28/DB28),\"\")","v":""},{"$f":"IFERROR(IF(AND(DD$9<>\"\",$H$3=\"計画\"),INDIRECT(\"'\"&$D28&\"　\"&$E28&\"'!B\"&DD$1),\nIF(AND(DD$9<>\"\",$H$3=\"実績\"),INDIRECT(\"'\"&$D28&\"　\"&$E28&\"'!C\"&DD$1),\n\"\")),\"\")","v":""},{"$f":"IFERROR(IF(AND(DD$9<>\"\",$H$3=\"計画\"),INDIRECT(\"'\"&$D28&\"　\"&$E28&\"'!B\"&DE$1),\nIF(AND(DD$9<>\"\",$H$3=\"実績\"),INDIRECT(\"'\"&$D28&\"　\"&$E28&\"'!C\"&DE$1),\n\"\")),\"\")","v":""},{"$f":"IFERROR(IF(IF(AND(DD$9<>\"\",$H$3=\"計画\"),INDIRECT(\"'\"&$D28&\"　\"&$E28&\"'!B\"&DF$1),\nIF(AND(DD$9<>\"\",$H$3=\"実績\"),INDIRECT(\"'\"&$D28&\"　\"&$E28&\"'!C\"&DF$1),\n\"\"))=\"対象外\",\"対象外\",DD28/DE28),\"\")","v":""},{"$f":"IFERROR(IF(AND(DG$9<>\"\",$H$3=\"計画\"),INDIRECT(\"'\"&$D28&\"　\"&$E28&\"'!B\"&DG$1),\nIF(AND(DG$9<>\"\",$H$3=\"実績\"),INDIRECT(\"'\"&$D28&\"　\"&$E28&\"'!C\"&DG$1),\n\"\")),\"\")","v":""},{"$f":"IFERROR(IF(AND(DG$9<>\"\",$H$3=\"計画\"),INDIRECT(\"'\"&$D28&\"　\"&$E28&\"'!B\"&DH$1),\nIF(AND(DG$9<>\"\",$H$3=\"実績\"),INDIRECT(\"'\"&$D28&\"　\"&$E28&\"'!C\"&DH$1),\n\"\")),\"\")","v":""},{"$f":"IFERROR(IF(IF(AND(DG$9<>\"\",$H$3=\"計画\"),INDIRECT(\"'\"&$D28&\"　\"&$E28&\"'!B\"&DI$1),\nIF(AND(DG$9<>\"\",$H$3=\"実績\"),INDIRECT(\"'\"&$D28&\"　\"&$E28&\"'!C\"&DI$1),\n\"\"))=\"対象外\",\"対象外\",DG28/DH28),\"\")","v":""},{"$f":"IFERROR(IF(AND(DJ$9<>\"\",$H$3=\"計画\"),INDIRECT(\"'\"&$D28&\"　\"&$E28&\"'!B\"&DJ$1),\nIF(AND(DJ$9<>\"\",$H$3=\"実績\"),INDIRECT(\"'\"&$D28&\"　\"&$E28&\"'!C\"&DJ$1),\n\"\")),\"\")","v":""},{"$f":"IFERROR(IF(AND(DJ$9<>\"\",$H$3=\"計画\"),INDIRECT(\"'\"&$D28&\"　\"&$E28&\"'!B\"&DK$1),\nIF(AND(DJ$9<>\"\",$H$3=\"実績\"),INDIRECT(\"'\"&$D28&\"　\"&$E28&\"'!C\"&DK$1),\n\"\")),\"\")","v":""},{"$f":"IFERROR(IF(IF(AND(DJ$9<>\"\",$H$3=\"計画\"),INDIRECT(\"'\"&$D28&\"　\"&$E28&\"'!B\"&DL$1),\nIF(AND(DJ$9<>\"\",$H$3=\"実績\"),INDIRECT(\"'\"&$D28&\"　\"&$E28&\"'!C\"&DL$1),\n\"\"))=\"対象外\",\"対象外\",DJ28/DK28),\"\")","v":""}]
[{"$f":"IF(A28=\"\",\"\",\nIF(A28<原稿!$C$1,\"×\",\"○\"))","v":"○"},null,null,null,null,"","",{"$f":"IFERROR(IF(IF(H$3=\"計画\",INDIRECT(\"'\"&$D29&\"　\"&$E29&\"'!B\"&H$1),\nIF(H$3=\"実績\",INDIRECT(\"'\"&$D29&\"　\"&$E29&\"'!C\"&H$1),\n\"\"))>=28,F29/G29,\"対象外\"),\"\")","v":""},{"$f":"IFERROR(IF(AND(I$9<>\"\",$H$3=\"計画\"),INDIRECT(\"'\"&$D29&\"　\"&$E29&\"'!B\"&I$1),\nIF(AND(I$9<>\"\",$H$3=\"実績\"),INDIRECT(\"'\"&$D29&\"　\"&$E29&\"'!C\"&I$1),\n\"\")),\"\")","v":""},{"$f":"IFERROR(IF(AND(I$9<>\"\",$H$3=\"計画\"),INDIRECT(\"'\"&$D29&\"　\"&$E29&\"'!B\"&J$1),\nIF(AND(I$9<>\"\",$H$3=\"実績\"),INDIRECT(\"'\"&$D29&\"　\"&$E29&\"'!C\"&J$1),\n\"\")),\"\")","v":""},{"$f":"IFERROR(IF(IF(AND(I$9<>\"\",$H$3=\"計画\"),INDIRECT(\"'\"&$D29&\"　\"&$E29&\"'!B\"&K$1),\nIF(AND(I$9<>\"\",$H$3=\"実績\"),INDIRECT(\"'\"&$D29&\"　\"&$E29&\"'!C\"&K$1),\n\"\"))=\"対象外\",\"対象外\",I29/J29),\"\")","v":""},{"$f":"IFERROR(IF(AND(L$9<>\"\",$H$3=\"計画\"),INDIRECT(\"'\"&$D29&\"　\"&$E29&\"'!B\"&L$1),\nIF(AND(L$9<>\"\",$H$3=\"実績\"),INDIRECT(\"'\"&$D29&\"　\"&$E29&\"'!C\"&L$1),\n\"\")),\"\")","v":""},{"$f":"IFERROR(IF(AND(L$9<>\"\",$H$3=\"計画\"),INDIRECT(\"'\"&$D29&\"　\"&$E29&\"'!B\"&M$1),\nIF(AND(L$9<>\"\",$H$3=\"実績\"),INDIRECT(\"'\"&$D29&\"　\"&$E29&\"'!C\"&M$1),\n\"\")),\"\")","v":""},{"$f":"IFERROR(IF(IF(AND(L$9<>\"\",$H$3=\"計画\"),INDIRECT(\"'\"&$D29&\"　\"&$E29&\"'!B\"&N$1),\nIF(AND(L$9<>\"\",$H$3=\"実績\"),INDIRECT(\"'\"&$D29&\"　\"&$E29&\"'!C\"&N$1),\n\"\"))=\"対象外\",\"対象外\",L29/M29),\"\")","v":""},{"$f":"IFERROR(IF(AND(O$9<>\"\",$H$3=\"計画\"),INDIRECT(\"'\"&$D29&\"　\"&$E29&\"'!B\"&O$1),\nIF(AND(O$9<>\"\",$H$3=\"実績\"),INDIRECT(\"'\"&$D29&\"　\"&$E29&\"'!C\"&O$1),\n\"\")),\"\")","v":""},{"$f":"IFERROR(IF(AND(O$9<>\"\",$H$3=\"計画\"),INDIRECT(\"'\"&$D29&\"　\"&$E29&\"'!B\"&P$1),\nIF(AND(O$9<>\"\",$H$3=\"実績\"),INDIRECT(\"'\"&$D29&\"　\"&$E29&\"'!C\"&P$1),\n\"\")),\"\")","v":""},{"$f":"IFERROR(IF(IF(AND(O$9<>\"\",$H$3=\"計画\"),INDIRECT(\"'\"&$D29&\"　\"&$E29&\"'!B\"&Q$1),\nIF(AND(O$9<>\"\",$H$3=\"実績\"),INDIRECT(\"'\"&$D29&\"　\"&$E29&\"'!C\"&Q$1),\n\"\"))=\"対象外\",\"対象外\",O29/P29),\"\")","v":""},{"$f":"IFERROR(IF(AND(R$9<>\"\",$H$3=\"計画\"),INDIRECT(\"'\"&$D29&\"　\"&$E29&\"'!B\"&R$1),\nIF(AND(R$9<>\"\",$H$3=\"実績\"),INDIRECT(\"'\"&$D29&\"　\"&$E29&\"'!C\"&R$1),\n\"\")),\"\")","v":""},{"$f":"IFERROR(IF(AND(R$9<>\"\",$H$3=\"計画\"),INDIRECT(\"'\"&$D29&\"　\"&$E29&\"'!B\"&S$1),\nIF(AND(R$9<>\"\",$H$3=\"実績\"),INDIRECT(\"'\"&$D29&\"　\"&$E29&\"'!C\"&S$1),\n\"\")),\"\")","v":""},{"$f":"IFERROR(IF(IF(AND(R$9<>\"\",$H$3=\"計画\"),INDIRECT(\"'\"&$D29&\"　\"&$E29&\"'!B\"&T$1),\nIF(AND(R$9<>\"\",$H$3=\"実績\"),INDIRECT(\"'\"&$D29&\"　\"&$E29&\"'!C\"&T$1),\n\"\"))=\"対象外\",\"対象外\",R29/S29),\"\")","v":""},{"$f":"IFERROR(IF(AND(U$9<>\"\",$H$3=\"計画\"),INDIRECT(\"'\"&$D29&\"　\"&$E29&\"'!B\"&U$1),\nIF(AND(U$9<>\"\",$H$3=\"実績\"),INDIRECT(\"'\"&$D29&\"　\"&$E29&\"'!C\"&U$1),\n\"\")),\"\")","v":""},{"$f":"IFERROR(IF(AND(U$9<>\"\",$H$3=\"計画\"),INDIRECT(\"'\"&$D29&\"　\"&$E29&\"'!B\"&V$1),\nIF(AND(U$9<>\"\",$H$3=\"実績\"),INDIRECT(\"'\"&$D29&\"　\"&$E29&\"'!C\"&V$1),\n\"\")),\"\")","v":""},{"$f":"IFERROR(IF(IF(AND(U$9<>\"\",$H$3=\"計画\"),INDIRECT(\"'\"&$D29&\"　\"&$E29&\"'!B\"&W$1),\nIF(AND(U$9<>\"\",$H$3=\"実績\"),INDIRECT(\"'\"&$D29&\"　\"&$E29&\"'!C\"&W$1),\n\"\"))=\"対象外\",\"対象外\",U29/V29),\"\")","v":""},{"$f":"IFERROR(IF(AND(X$9<>\"\",$H$3=\"計画\"),INDIRECT(\"'\"&$D29&\"　\"&$E29&\"'!B\"&X$1),\nIF(AND(X$9<>\"\",$H$3=\"実績\"),INDIRECT(\"'\"&$D29&\"　\"&$E29&\"'!C\"&X$1),\n\"\")),\"\")","v":""},{"$f":"IFERROR(IF(AND(X$9<>\"\",$H$3=\"計画\"),INDIRECT(\"'\"&$D29&\"　\"&$E29&\"'!B\"&Y$1),\nIF(AND(X$9<>\"\",$H$3=\"実績\"),INDIRECT(\"'\"&$D29&\"　\"&$E29&\"'!C\"&Y$1),\n\"\")),\"\")","v":""},{"$f":"IFERROR(IF(IF(AND(X$9<>\"\",$H$3=\"計画\"),INDIRECT(\"'\"&$D29&\"　\"&$E29&\"'!B\"&Z$1),\nIF(AND(X$9<>\"\",$H$3=\"実績\"),INDIRECT(\"'\"&$D29&\"　\"&$E29&\"'!C\"&Z$1),\n\"\"))=\"対象外\",\"対象外\",X29/Y29),\"\")","v":""},{"$f":"IFERROR(IF(AND(AA$9<>\"\",$H$3=\"計画\"),INDIRECT(\"'\"&$D29&\"　\"&$E29&\"'!B\"&AA$1),\nIF(AND(AA$9<>\"\",$H$3=\"実績\"),INDIRECT(\"'\"&$D29&\"　\"&$E29&\"'!C\"&AA$1),\n\"\")),\"\")","v":""},{"$f":"IFERROR(IF(AND(AA$9<>\"\",$H$3=\"計画\"),INDIRECT(\"'\"&$D29&\"　\"&$E29&\"'!B\"&AB$1),\nIF(AND(AA$9<>\"\",$H$3=\"実績\"),INDIRECT(\"'\"&$D29&\"　\"&$E29&\"'!C\"&AB$1),\n\"\")),\"\")","v":""},{"$f":"IFERROR(IF(IF(AND(AA$9<>\"\",$H$3=\"計画\"),INDIRECT(\"'\"&$D29&\"　\"&$E29&\"'!B\"&AC$1),\nIF(AND(AA$9<>\"\",$H$3=\"実績\"),INDIRECT(\"'\"&$D29&\"　\"&$E29&\"'!C\"&AC$1),\n\"\"))=\"対象外\",\"対象外\",AA29/AB29),\"\")","v":""},{"$f":"IFERROR(IF(AND(AD$9<>\"\",$H$3=\"計画\"),INDIRECT(\"'\"&$D29&\"　\"&$E29&\"'!B\"&AD$1),\nIF(AND(AD$9<>\"\",$H$3=\"実績\"),INDIRECT(\"'\"&$D29&\"　\"&$E29&\"'!C\"&AD$1),\n\"\")),\"\")","v":""},{"$f":"IFERROR(IF(AND(AD$9<>\"\",$H$3=\"計画\"),INDIRECT(\"'\"&$D29&\"　\"&$E29&\"'!B\"&AE$1),\nIF(AND(AD$9<>\"\",$H$3=\"実績\"),INDIRECT(\"'\"&$D29&\"　\"&$E29&\"'!C\"&AE$1),\n\"\")),\"\")","v":""},{"$f":"IFERROR(IF(IF(AND(AD$9<>\"\",$H$3=\"計画\"),INDIRECT(\"'\"&$D29&\"　\"&$E29&\"'!B\"&AF$1),\nIF(AND(AD$9<>\"\",$H$3=\"実績\"),INDIRECT(\"'\"&$D29&\"　\"&$E29&\"'!C\"&AF$1),\n\"\"))=\"対象外\",\"対象外\",AD29/AE29),\"\")","v":""},{"$f":"IFERROR(IF(AND(AG$9<>\"\",$H$3=\"計画\"),INDIRECT(\"'\"&$D29&\"　\"&$E29&\"'!B\"&AG$1),\nIF(AND(AG$9<>\"\",$H$3=\"実績\"),INDIRECT(\"'\"&$D29&\"　\"&$E29&\"'!C\"&AG$1),\n\"\")),\"\")","v":""},{"$f":"IFERROR(IF(AND(AG$9<>\"\",$H$3=\"計画\"),INDIRECT(\"'\"&$D29&\"　\"&$E29&\"'!B\"&AH$1),\nIF(AND(AG$9<>\"\",$H$3=\"実績\"),INDIRECT(\"'\"&$D29&\"　\"&$E29&\"'!C\"&AH$1),\n\"\")),\"\")","v":""},{"$f":"IFERROR(IF(IF(AND(AG$9<>\"\",$H$3=\"計画\"),INDIRECT(\"'\"&$D29&\"　\"&$E29&\"'!B\"&AI$1),\nIF(AND(AG$9<>\"\",$H$3=\"実績\"),INDIRECT(\"'\"&$D29&\"　\"&$E29&\"'!C\"&AI$1),\n\"\"))=\"対象外\",\"対象外\",AG29/AH29),\"\")","v":""},{"$f":"IFERROR(IF(AND(AJ$9<>\"\",$H$3=\"計画\"),INDIRECT(\"'\"&$D29&\"　\"&$E29&\"'!B\"&AJ$1),\nIF(AND(AJ$9<>\"\",$H$3=\"実績\"),INDIRECT(\"'\"&$D29&\"　\"&$E29&\"'!C\"&AJ$1),\n\"\")),\"\")","v":""},{"$f":"IFERROR(IF(AND(AJ$9<>\"\",$H$3=\"計画\"),INDIRECT(\"'\"&$D29&\"　\"&$E29&\"'!B\"&AK$1),\nIF(AND(AJ$9<>\"\",$H$3=\"実績\"),INDIRECT(\"'\"&$D29&\"　\"&$E29&\"'!C\"&AK$1),\n\"\")),\"\")","v":""},{"$f":"IFERROR(IF(IF(AND(AJ$9<>\"\",$H$3=\"計画\"),INDIRECT(\"'\"&$D29&\"　\"&$E29&\"'!B\"&AL$1),\nIF(AND(AJ$9<>\"\",$H$3=\"実績\"),INDIRECT(\"'\"&$D29&\"　\"&$E29&\"'!C\"&AL$1),\n\"\"))=\"対象外\",\"対象外\",AJ29/AK29),\"\")","v":""},{"$f":"IFERROR(IF(AND(AM$9<>\"\",$H$3=\"計画\"),INDIRECT(\"'\"&$D29&\"　\"&$E29&\"'!B\"&AM$1),\nIF(AND(AM$9<>\"\",$H$3=\"実績\"),INDIRECT(\"'\"&$D29&\"　\"&$E29&\"'!C\"&AM$1),\n\"\")),\"\")","v":""},{"$f":"IFERROR(IF(AND(AM$9<>\"\",$H$3=\"計画\"),INDIRECT(\"'\"&$D29&\"　\"&$E29&\"'!B\"&AN$1),\nIF(AND(AM$9<>\"\",$H$3=\"実績\"),INDIRECT(\"'\"&$D29&\"　\"&$E29&\"'!C\"&AN$1),\n\"\")),\"\")","v":""},{"$f":"IFERROR(IF(IF(AND(AM$9<>\"\",$H$3=\"計画\"),INDIRECT(\"'\"&$D29&\"　\"&$E29&\"'!B\"&AO$1),\nIF(AND(AM$9<>\"\",$H$3=\"実績\"),INDIRECT(\"'\"&$D29&\"　\"&$E29&\"'!C\"&AO$1),\n\"\"))=\"対象外\",\"対象外\",AM29/AN29),\"\")","v":""},{"$f":"IFERROR(IF(AND(AP$9<>\"\",$H$3=\"計画\"),INDIRECT(\"'\"&$D29&\"　\"&$E29&\"'!B\"&AP$1),\nIF(AND(AP$9<>\"\",$H$3=\"実績\"),INDIRECT(\"'\"&$D29&\"　\"&$E29&\"'!C\"&AP$1),\n\"\")),\"\")","v":""},{"$f":"IFERROR(IF(AND(AP$9<>\"\",$H$3=\"計画\"),INDIRECT(\"'\"&$D29&\"　\"&$E29&\"'!B\"&AQ$1),\nIF(AND(AP$9<>\"\",$H$3=\"実績\"),INDIRECT(\"'\"&$D29&\"　\"&$E29&\"'!C\"&AQ$1),\n\"\")),\"\")","v":""},{"$f":"IFERROR(IF(IF(AND(AP$9<>\"\",$H$3=\"計画\"),INDIRECT(\"'\"&$D29&\"　\"&$E29&\"'!B\"&AR$1),\nIF(AND(AP$9<>\"\",$H$3=\"実績\"),INDIRECT(\"'\"&$D29&\"　\"&$E29&\"'!C\"&AR$1),\n\"\"))=\"対象外\",\"対象外\",AP29/AQ29),\"\")","v":""},{"$f":"IFERROR(IF(AND(AS$9<>\"\",$H$3=\"計画\"),INDIRECT(\"'\"&$D29&\"　\"&$E29&\"'!B\"&AS$1),\nIF(AND(AS$9<>\"\",$H$3=\"実績\"),INDIRECT(\"'\"&$D29&\"　\"&$E29&\"'!C\"&AS$1),\n\"\")),\"\")","v":""},{"$f":"IFERROR(IF(AND(AS$9<>\"\",$H$3=\"計画\"),INDIRECT(\"'\"&$D29&\"　\"&$E29&\"'!B\"&AT$1),\nIF(AND(AS$9<>\"\",$H$3=\"実績\"),INDIRECT(\"'\"&$D29&\"　\"&$E29&\"'!C\"&AT$1),\n\"\")),\"\")","v":""},{"$f":"IFERROR(IF(IF(AND(AS$9<>\"\",$H$3=\"計画\"),INDIRECT(\"'\"&$D29&\"　\"&$E29&\"'!B\"&AU$1),\nIF(AND(AS$9<>\"\",$H$3=\"実績\"),INDIRECT(\"'\"&$D29&\"　\"&$E29&\"'!C\"&AU$1),\n\"\"))=\"対象外\",\"対象外\",AS29/AT29),\"\")","v":""},{"$f":"IFERROR(IF(AND(AV$9<>\"\",$H$3=\"計画\"),INDIRECT(\"'\"&$D29&\"　\"&$E29&\"'!B\"&AV$1),\nIF(AND(AV$9<>\"\",$H$3=\"実績\"),INDIRECT(\"'\"&$D29&\"　\"&$E29&\"'!C\"&AV$1),\n\"\")),\"\")","v":""},{"$f":"IFERROR(IF(AND(AV$9<>\"\",$H$3=\"計画\"),INDIRECT(\"'\"&$D29&\"　\"&$E29&\"'!B\"&AW$1),\nIF(AND(AV$9<>\"\",$H$3=\"実績\"),INDIRECT(\"'\"&$D29&\"　\"&$E29&\"'!C\"&AW$1),\n\"\")),\"\")","v":""},{"$f":"IFERROR(IF(IF(AND(AV$9<>\"\",$H$3=\"計画\"),INDIRECT(\"'\"&$D29&\"　\"&$E29&\"'!B\"&AX$1),\nIF(AND(AV$9<>\"\",$H$3=\"実績\"),INDIRECT(\"'\"&$D29&\"　\"&$E29&\"'!C\"&AX$1),\n\"\"))=\"対象外\",\"対象外\",AV29/AW29),\"\")","v":""},{"$f":"IFERROR(IF(AND(AY$9<>\"\",$H$3=\"計画\"),INDIRECT(\"'\"&$D29&\"　\"&$E29&\"'!B\"&AY$1),\nIF(AND(AY$9<>\"\",$H$3=\"実績\"),INDIRECT(\"'\"&$D29&\"　\"&$E29&\"'!C\"&AY$1),\n\"\")),\"\")","v":""},{"$f":"IFERROR(IF(AND(AY$9<>\"\",$H$3=\"計画\"),INDIRECT(\"'\"&$D29&\"　\"&$E29&\"'!B\"&AZ$1),\nIF(AND(AY$9<>\"\",$H$3=\"実績\"),INDIRECT(\"'\"&$D29&\"　\"&$E29&\"'!C\"&AZ$1),\n\"\")),\"\")","v":""},{"$f":"IFERROR(IF(IF(AND(AY$9<>\"\",$H$3=\"計画\"),INDIRECT(\"'\"&$D29&\"　\"&$E29&\"'!B\"&BA$1),\nIF(AND(AY$9<>\"\",$H$3=\"実績\"),INDIRECT(\"'\"&$D29&\"　\"&$E29&\"'!C\"&BA$1),\n\"\"))=\"対象外\",\"対象外\",AY29/AZ29),\"\")","v":""},{"$f":"IFERROR(IF(AND(BB$9<>\"\",$H$3=\"計画\"),INDIRECT(\"'\"&$D29&\"　\"&$E29&\"'!B\"&BB$1),\nIF(AND(BB$9<>\"\",$H$3=\"実績\"),INDIRECT(\"'\"&$D29&\"　\"&$E29&\"'!C\"&BB$1),\n\"\")),\"\")","v":""},{"$f":"IFERROR(IF(AND(BB$9<>\"\",$H$3=\"計画\"),INDIRECT(\"'\"&$D29&\"　\"&$E29&\"'!B\"&BC$1),\nIF(AND(BB$9<>\"\",$H$3=\"実績\"),INDIRECT(\"'\"&$D29&\"　\"&$E29&\"'!C\"&BC$1),\n\"\")),\"\")","v":""},{"$f":"IFERROR(IF(IF(AND(BB$9<>\"\",$H$3=\"計画\"),INDIRECT(\"'\"&$D29&\"　\"&$E29&\"'!B\"&BD$1),\nIF(AND(BB$9<>\"\",$H$3=\"実績\"),INDIRECT(\"'\"&$D29&\"　\"&$E29&\"'!C\"&BD$1),\n\"\"))=\"対象外\",\"対象外\",BB29/BC29),\"\")","v":""},{"$f":"IFERROR(IF(AND(BE$9<>\"\",$H$3=\"計画\"),INDIRECT(\"'\"&$D29&\"　\"&$E29&\"'!B\"&BE$1),\nIF(AND(BE$9<>\"\",$H$3=\"実績\"),INDIRECT(\"'\"&$D29&\"　\"&$E29&\"'!C\"&BE$1),\n\"\")),\"\")","v":""},{"$f":"IFERROR(IF(AND(BE$9<>\"\",$H$3=\"計画\"),INDIRECT(\"'\"&$D29&\"　\"&$E29&\"'!B\"&BF$1),\nIF(AND(BE$9<>\"\",$H$3=\"実績\"),INDIRECT(\"'\"&$D29&\"　\"&$E29&\"'!C\"&BF$1),\n\"\")),\"\")","v":""},{"$f":"IFERROR(IF(IF(AND(BE$9<>\"\",$H$3=\"計画\"),INDIRECT(\"'\"&$D29&\"　\"&$E29&\"'!B\"&BG$1),\nIF(AND(BE$9<>\"\",$H$3=\"実績\"),INDIRECT(\"'\"&$D29&\"　\"&$E29&\"'!C\"&BG$1),\n\"\"))=\"対象外\",\"対象外\",BE29/BF29),\"\")","v":""},{"$f":"IFERROR(IF(AND(BH$9<>\"\",$H$3=\"計画\"),INDIRECT(\"'\"&$D29&\"　\"&$E29&\"'!B\"&BH$1),\nIF(AND(BH$9<>\"\",$H$3=\"実績\"),INDIRECT(\"'\"&$D29&\"　\"&$E29&\"'!C\"&BH$1),\n\"\")),\"\")","v":""},{"$f":"IFERROR(IF(AND(BH$9<>\"\",$H$3=\"計画\"),INDIRECT(\"'\"&$D29&\"　\"&$E29&\"'!B\"&BI$1),\nIF(AND(BH$9<>\"\",$H$3=\"実績\"),INDIRECT(\"'\"&$D29&\"　\"&$E29&\"'!C\"&BI$1),\n\"\")),\"\")","v":""},{"$f":"IFERROR(IF(IF(AND(BH$9<>\"\",$H$3=\"計画\"),INDIRECT(\"'\"&$D29&\"　\"&$E29&\"'!B\"&BJ$1),\nIF(AND(BH$9<>\"\",$H$3=\"実績\"),INDIRECT(\"'\"&$D29&\"　\"&$E29&\"'!C\"&BJ$1),\n\"\"))=\"対象外\",\"対象外\",BH29/BI29),\"\")","v":""},{"$f":"IFERROR(IF(AND(BK$9<>\"\",$H$3=\"計画\"),INDIRECT(\"'\"&$D29&\"　\"&$E29&\"'!B\"&BK$1),\nIF(AND(BK$9<>\"\",$H$3=\"実績\"),INDIRECT(\"'\"&$D29&\"　\"&$E29&\"'!C\"&BK$1),\n\"\")),\"\")","v":""},{"$f":"IFERROR(IF(AND(BK$9<>\"\",$H$3=\"計画\"),INDIRECT(\"'\"&$D29&\"　\"&$E29&\"'!B\"&BL$1),\nIF(AND(BK$9<>\"\",$H$3=\"実績\"),INDIRECT(\"'\"&$D29&\"　\"&$E29&\"'!C\"&BL$1),\n\"\")),\"\")","v":""},{"$f":"IFERROR(IF(IF(AND(BK$9<>\"\",$H$3=\"計画\"),INDIRECT(\"'\"&$D29&\"　\"&$E29&\"'!B\"&BM$1),\nIF(AND(BK$9<>\"\",$H$3=\"実績\"),INDIRECT(\"'\"&$D29&\"　\"&$E29&\"'!C\"&BM$1),\n\"\"))=\"対象外\",\"対象外\",BK29/BL29),\"\")","v":""},{"$f":"IFERROR(IF(AND(BN$9<>\"\",$H$3=\"計画\"),INDIRECT(\"'\"&$D29&\"　\"&$E29&\"'!B\"&BN$1),\nIF(AND(BN$9<>\"\",$H$3=\"実績\"),INDIRECT(\"'\"&$D29&\"　\"&$E29&\"'!C\"&BN$1),\n\"\")),\"\")","v":""},{"$f":"IFERROR(IF(AND(BN$9<>\"\",$H$3=\"計画\"),INDIRECT(\"'\"&$D29&\"　\"&$E29&\"'!B\"&BO$1),\nIF(AND(BN$9<>\"\",$H$3=\"実績\"),INDIRECT(\"'\"&$D29&\"　\"&$E29&\"'!C\"&BO$1),\n\"\")),\"\")","v":""},{"$f":"IFERROR(IF(IF(AND(BN$9<>\"\",$H$3=\"計画\"),INDIRECT(\"'\"&$D29&\"　\"&$E29&\"'!B\"&BP$1),\nIF(AND(BN$9<>\"\",$H$3=\"実績\"),INDIRECT(\"'\"&$D29&\"　\"&$E29&\"'!C\"&BP$1),\n\"\"))=\"対象外\",\"対象外\",BN29/BO29),\"\")","v":""},{"$f":"IFERROR(IF(AND(BQ$9<>\"\",$H$3=\"計画\"),INDIRECT(\"'\"&$D29&\"　\"&$E29&\"'!B\"&BQ$1),\nIF(AND(BQ$9<>\"\",$H$3=\"実績\"),INDIRECT(\"'\"&$D29&\"　\"&$E29&\"'!C\"&BQ$1),\n\"\")),\"\")","v":""},{"$f":"IFERROR(IF(AND(BQ$9<>\"\",$H$3=\"計画\"),INDIRECT(\"'\"&$D29&\"　\"&$E29&\"'!B\"&BR$1),\nIF(AND(BQ$9<>\"\",$H$3=\"実績\"),INDIRECT(\"'\"&$D29&\"　\"&$E29&\"'!C\"&BR$1),\n\"\")),\"\")","v":""},{"$f":"IFERROR(IF(IF(AND(BQ$9<>\"\",$H$3=\"計画\"),INDIRECT(\"'\"&$D29&\"　\"&$E29&\"'!B\"&BS$1),\nIF(AND(BQ$9<>\"\",$H$3=\"実績\"),INDIRECT(\"'\"&$D29&\"　\"&$E29&\"'!C\"&BS$1),\n\"\"))=\"対象外\",\"対象外\",BQ29/BR29),\"\")","v":""},{"$f":"IFERROR(IF(AND(BT$9<>\"\",$H$3=\"計画\"),INDIRECT(\"'\"&$D29&\"　\"&$E29&\"'!B\"&BT$1),\nIF(AND(BT$9<>\"\",$H$3=\"実績\"),INDIRECT(\"'\"&$D29&\"　\"&$E29&\"'!C\"&BT$1),\n\"\")),\"\")","v":""},{"$f":"IFERROR(IF(AND(BT$9<>\"\",$H$3=\"計画\"),INDIRECT(\"'\"&$D29&\"　\"&$E29&\"'!B\"&BU$1),\nIF(AND(BT$9<>\"\",$H$3=\"実績\"),INDIRECT(\"'\"&$D29&\"　\"&$E29&\"'!C\"&BU$1),\n\"\")),\"\")","v":""},{"$f":"IFERROR(IF(IF(AND(BT$9<>\"\",$H$3=\"計画\"),INDIRECT(\"'\"&$D29&\"　\"&$E29&\"'!B\"&BV$1),\nIF(AND(BT$9<>\"\",$H$3=\"実績\"),INDIRECT(\"'\"&$D29&\"　\"&$E29&\"'!C\"&BV$1),\n\"\"))=\"対象外\",\"対象外\",BT29/BU29),\"\")","v":""},{"$f":"IFERROR(IF(AND(BW$9<>\"\",$H$3=\"計画\"),INDIRECT(\"'\"&$D29&\"　\"&$E29&\"'!B\"&BW$1),\nIF(AND(BW$9<>\"\",$H$3=\"実績\"),INDIRECT(\"'\"&$D29&\"　\"&$E29&\"'!C\"&BW$1),\n\"\")),\"\")","v":""},{"$f":"IFERROR(IF(AND(BW$9<>\"\",$H$3=\"計画\"),INDIRECT(\"'\"&$D29&\"　\"&$E29&\"'!B\"&BX$1),\nIF(AND(BW$9<>\"\",$H$3=\"実績\"),INDIRECT(\"'\"&$D29&\"　\"&$E29&\"'!C\"&BX$1),\n\"\")),\"\")","v":""},{"$f":"IFERROR(IF(IF(AND(BW$9<>\"\",$H$3=\"計画\"),INDIRECT(\"'\"&$D29&\"　\"&$E29&\"'!B\"&BY$1),\nIF(AND(BW$9<>\"\",$H$3=\"実績\"),INDIRECT(\"'\"&$D29&\"　\"&$E29&\"'!C\"&BY$1),\n\"\"))=\"対象外\",\"対象外\",BW29/BX29),\"\")","v":""},{"$f":"IFERROR(IF(AND(BZ$9<>\"\",$H$3=\"計画\"),INDIRECT(\"'\"&$D29&\"　\"&$E29&\"'!B\"&BZ$1),\nIF(AND(BZ$9<>\"\",$H$3=\"実績\"),INDIRECT(\"'\"&$D29&\"　\"&$E29&\"'!C\"&BZ$1),\n\"\")),\"\")","v":""},{"$f":"IFERROR(IF(AND(BZ$9<>\"\",$H$3=\"計画\"),INDIRECT(\"'\"&$D29&\"　\"&$E29&\"'!B\"&CA$1),\nIF(AND(BZ$9<>\"\",$H$3=\"実績\"),INDIRECT(\"'\"&$D29&\"　\"&$E29&\"'!C\"&CA$1),\n\"\")),\"\")","v":""},{"$f":"IFERROR(IF(IF(AND(BZ$9<>\"\",$H$3=\"計画\"),INDIRECT(\"'\"&$D29&\"　\"&$E29&\"'!B\"&CB$1),\nIF(AND(BZ$9<>\"\",$H$3=\"実績\"),INDIRECT(\"'\"&$D29&\"　\"&$E29&\"'!C\"&CB$1),\n\"\"))=\"対象外\",\"対象外\",BZ29/CA29),\"\")","v":""},{"$f":"IFERROR(IF(AND(CC$9<>\"\",$H$3=\"計画\"),INDIRECT(\"'\"&$D29&\"　\"&$E29&\"'!B\"&CC$1),\nIF(AND(CC$9<>\"\",$H$3=\"実績\"),INDIRECT(\"'\"&$D29&\"　\"&$E29&\"'!C\"&CC$1),\n\"\")),\"\")","v":""},{"$f":"IFERROR(IF(AND(CC$9<>\"\",$H$3=\"計画\"),INDIRECT(\"'\"&$D29&\"　\"&$E29&\"'!B\"&CD$1),\nIF(AND(CC$9<>\"\",$H$3=\"実績\"),INDIRECT(\"'\"&$D29&\"　\"&$E29&\"'!C\"&CD$1),\n\"\")),\"\")","v":""},{"$f":"IFERROR(IF(IF(AND(CC$9<>\"\",$H$3=\"計画\"),INDIRECT(\"'\"&$D29&\"　\"&$E29&\"'!B\"&CE$1),\nIF(AND(CC$9<>\"\",$H$3=\"実績\"),INDIRECT(\"'\"&$D29&\"　\"&$E29&\"'!C\"&CE$1),\n\"\"))=\"対象外\",\"対象外\",CC29/CD29),\"\")","v":""},{"$f":"IFERROR(IF(AND(CF$9<>\"\",$H$3=\"計画\"),INDIRECT(\"'\"&$D29&\"　\"&$E29&\"'!B\"&CF$1),\nIF(AND(CF$9<>\"\",$H$3=\"実績\"),INDIRECT(\"'\"&$D29&\"　\"&$E29&\"'!C\"&CF$1),\n\"\")),\"\")","v":""},{"$f":"IFERROR(IF(AND(CF$9<>\"\",$H$3=\"計画\"),INDIRECT(\"'\"&$D29&\"　\"&$E29&\"'!B\"&CG$1),\nIF(AND(CF$9<>\"\",$H$3=\"実績\"),INDIRECT(\"'\"&$D29&\"　\"&$E29&\"'!C\"&CG$1),\n\"\")),\"\")","v":""},{"$f":"IFERROR(IF(IF(AND(CF$9<>\"\",$H$3=\"計画\"),INDIRECT(\"'\"&$D29&\"　\"&$E29&\"'!B\"&CH$1),\nIF(AND(CF$9<>\"\",$H$3=\"実績\"),INDIRECT(\"'\"&$D29&\"　\"&$E29&\"'!C\"&CH$1),\n\"\"))=\"対象外\",\"対象外\",CF29/CG29),\"\")","v":""},{"$f":"IFERROR(IF(AND(CI$9<>\"\",$H$3=\"計画\"),INDIRECT(\"'\"&$D29&\"　\"&$E29&\"'!B\"&CI$1),\nIF(AND(CI$9<>\"\",$H$3=\"実績\"),INDIRECT(\"'\"&$D29&\"　\"&$E29&\"'!C\"&CI$1),\n\"\")),\"\")","v":""},{"$f":"IFERROR(IF(AND(CI$9<>\"\",$H$3=\"計画\"),INDIRECT(\"'\"&$D29&\"　\"&$E29&\"'!B\"&CJ$1),\nIF(AND(CI$9<>\"\",$H$3=\"実績\"),INDIRECT(\"'\"&$D29&\"　\"&$E29&\"'!C\"&CJ$1),\n\"\")),\"\")","v":""},{"$f":"IFERROR(IF(IF(AND(CI$9<>\"\",$H$3=\"計画\"),INDIRECT(\"'\"&$D29&\"　\"&$E29&\"'!B\"&CK$1),\nIF(AND(CI$9<>\"\",$H$3=\"実績\"),INDIRECT(\"'\"&$D29&\"　\"&$E29&\"'!C\"&CK$1),\n\"\"))=\"対象外\",\"対象外\",CI29/CJ29),\"\")","v":""},{"$f":"IFERROR(IF(AND(CL$9<>\"\",$H$3=\"計画\"),INDIRECT(\"'\"&$D29&\"　\"&$E29&\"'!B\"&CL$1),\nIF(AND(CL$9<>\"\",$H$3=\"実績\"),INDIRECT(\"'\"&$D29&\"　\"&$E29&\"'!C\"&CL$1),\n\"\")),\"\")","v":""},{"$f":"IFERROR(IF(AND(CL$9<>\"\",$H$3=\"計画\"),INDIRECT(\"'\"&$D29&\"　\"&$E29&\"'!B\"&CM$1),\nIF(AND(CL$9<>\"\",$H$3=\"実績\"),INDIRECT(\"'\"&$D29&\"　\"&$E29&\"'!C\"&CM$1),\n\"\")),\"\")","v":""},{"$f":"IFERROR(IF(IF(AND(CL$9<>\"\",$H$3=\"計画\"),INDIRECT(\"'\"&$D29&\"　\"&$E29&\"'!B\"&CN$1),\nIF(AND(CL$9<>\"\",$H$3=\"実績\"),INDIRECT(\"'\"&$D29&\"　\"&$E29&\"'!C\"&CN$1),\n\"\"))=\"対象外\",\"対象外\",CL29/CM29),\"\")","v":""},{"$f":"IFERROR(IF(AND(CO$9<>\"\",$H$3=\"計画\"),INDIRECT(\"'\"&$D29&\"　\"&$E29&\"'!B\"&CO$1),\nIF(AND(CO$9<>\"\",$H$3=\"実績\"),INDIRECT(\"'\"&$D29&\"　\"&$E29&\"'!C\"&CO$1),\n\"\")),\"\")","v":""},{"$f":"IFERROR(IF(AND(CO$9<>\"\",$H$3=\"計画\"),INDIRECT(\"'\"&$D29&\"　\"&$E29&\"'!B\"&CP$1),\nIF(AND(CO$9<>\"\",$H$3=\"実績\"),INDIRECT(\"'\"&$D29&\"　\"&$E29&\"'!C\"&CP$1),\n\"\")),\"\")","v":""},{"$f":"IFERROR(IF(IF(AND(CO$9<>\"\",$H$3=\"計画\"),INDIRECT(\"'\"&$D29&\"　\"&$E29&\"'!B\"&CQ$1),\nIF(AND(CO$9<>\"\",$H$3=\"実績\"),INDIRECT(\"'\"&$D29&\"　\"&$E29&\"'!C\"&CQ$1),\n\"\"))=\"対象外\",\"対象外\",CO29/CP29),\"\")","v":""},{"$f":"IFERROR(IF(AND(CR$9<>\"\",$H$3=\"計画\"),INDIRECT(\"'\"&$D29&\"　\"&$E29&\"'!B\"&CR$1),\nIF(AND(CR$9<>\"\",$H$3=\"実績\"),INDIRECT(\"'\"&$D29&\"　\"&$E29&\"'!C\"&CR$1),\n\"\")),\"\")","v":""},{"$f":"IFERROR(IF(AND(CR$9<>\"\",$H$3=\"計画\"),INDIRECT(\"'\"&$D29&\"　\"&$E29&\"'!B\"&CS$1),\nIF(AND(CR$9<>\"\",$H$3=\"実績\"),INDIRECT(\"'\"&$D29&\"　\"&$E29&\"'!C\"&CS$1),\n\"\")),\"\")","v":""},{"$f":"IFERROR(IF(IF(AND(CR$9<>\"\",$H$3=\"計画\"),INDIRECT(\"'\"&$D29&\"　\"&$E29&\"'!B\"&CT$1),\nIF(AND(CR$9<>\"\",$H$3=\"実績\"),INDIRECT(\"'\"&$D29&\"　\"&$E29&\"'!C\"&CT$1),\n\"\"))=\"対象外\",\"対象外\",CR29/CS29),\"\")","v":""},{"$f":"IFERROR(IF(AND(CU$9<>\"\",$H$3=\"計画\"),INDIRECT(\"'\"&$D29&\"　\"&$E29&\"'!B\"&CU$1),\nIF(AND(CU$9<>\"\",$H$3=\"実績\"),INDIRECT(\"'\"&$D29&\"　\"&$E29&\"'!C\"&CU$1),\n\"\")),\"\")","v":""},{"$f":"IFERROR(IF(AND(CU$9<>\"\",$H$3=\"計画\"),INDIRECT(\"'\"&$D29&\"　\"&$E29&\"'!B\"&CV$1),\nIF(AND(CU$9<>\"\",$H$3=\"実績\"),INDIRECT(\"'\"&$D29&\"　\"&$E29&\"'!C\"&CV$1),\n\"\")),\"\")","v":""},{"$f":"IFERROR(IF(IF(AND(CU$9<>\"\",$H$3=\"計画\"),INDIRECT(\"'\"&$D29&\"　\"&$E29&\"'!B\"&CW$1),\nIF(AND(CU$9<>\"\",$H$3=\"実績\"),INDIRECT(\"'\"&$D29&\"　\"&$E29&\"'!C\"&CW$1),\n\"\"))=\"対象外\",\"対象外\",CU29/CV29),\"\")","v":""},{"$f":"IFERROR(IF(AND(CX$9<>\"\",$H$3=\"計画\"),INDIRECT(\"'\"&$D29&\"　\"&$E29&\"'!B\"&CX$1),\nIF(AND(CX$9<>\"\",$H$3=\"実績\"),INDIRECT(\"'\"&$D29&\"　\"&$E29&\"'!C\"&CX$1),\n\"\")),\"\")","v":""},{"$f":"IFERROR(IF(AND(CX$9<>\"\",$H$3=\"計画\"),INDIRECT(\"'\"&$D29&\"　\"&$E29&\"'!B\"&CY$1),\nIF(AND(CX$9<>\"\",$H$3=\"実績\"),INDIRECT(\"'\"&$D29&\"　\"&$E29&\"'!C\"&CY$1),\n\"\")),\"\")","v":""},{"$f":"IFERROR(IF(IF(AND(CX$9<>\"\",$H$3=\"計画\"),INDIRECT(\"'\"&$D29&\"　\"&$E29&\"'!B\"&CZ$1),\nIF(AND(CX$9<>\"\",$H$3=\"実績\"),INDIRECT(\"'\"&$D29&\"　\"&$E29&\"'!C\"&CZ$1),\n\"\"))=\"対象外\",\"対象外\",CX29/CY29),\"\")","v":""},{"$f":"IFERROR(IF(AND(DA$9<>\"\",$H$3=\"計画\"),INDIRECT(\"'\"&$D29&\"　\"&$E29&\"'!B\"&DA$1),\nIF(AND(DA$9<>\"\",$H$3=\"実績\"),INDIRECT(\"'\"&$D29&\"　\"&$E29&\"'!C\"&DA$1),\n\"\")),\"\")","v":""},{"$f":"IFERROR(IF(AND(DA$9<>\"\",$H$3=\"計画\"),INDIRECT(\"'\"&$D29&\"　\"&$E29&\"'!B\"&DB$1),\nIF(AND(DA$9<>\"\",$H$3=\"実績\"),INDIRECT(\"'\"&$D29&\"　\"&$E29&\"'!C\"&DB$1),\n\"\")),\"\")","v":""},{"$f":"IFERROR(IF(IF(AND(DA$9<>\"\",$H$3=\"計画\"),INDIRECT(\"'\"&$D29&\"　\"&$E29&\"'!B\"&DC$1),\nIF(AND(DA$9<>\"\",$H$3=\"実績\"),INDIRECT(\"'\"&$D29&\"　\"&$E29&\"'!C\"&DC$1),\n\"\"))=\"対象外\",\"対象外\",DA29/DB29),\"\")","v":""},{"$f":"IFERROR(IF(AND(DD$9<>\"\",$H$3=\"計画\"),INDIRECT(\"'\"&$D29&\"　\"&$E29&\"'!B\"&DD$1),\nIF(AND(DD$9<>\"\",$H$3=\"実績\"),INDIRECT(\"'\"&$D29&\"　\"&$E29&\"'!C\"&DD$1),\n\"\")),\"\")","v":""},{"$f":"IFERROR(IF(AND(DD$9<>\"\",$H$3=\"計画\"),INDIRECT(\"'\"&$D29&\"　\"&$E29&\"'!B\"&DE$1),\nIF(AND(DD$9<>\"\",$H$3=\"実績\"),INDIRECT(\"'\"&$D29&\"　\"&$E29&\"'!C\"&DE$1),\n\"\")),\"\")","v":""},{"$f":"IFERROR(IF(IF(AND(DD$9<>\"\",$H$3=\"計画\"),INDIRECT(\"'\"&$D29&\"　\"&$E29&\"'!B\"&DF$1),\nIF(AND(DD$9<>\"\",$H$3=\"実績\"),INDIRECT(\"'\"&$D29&\"　\"&$E29&\"'!C\"&DF$1),\n\"\"))=\"対象外\",\"対象外\",DD29/DE29),\"\")","v":""},{"$f":"IFERROR(IF(AND(DG$9<>\"\",$H$3=\"計画\"),INDIRECT(\"'\"&$D29&\"　\"&$E29&\"'!B\"&DG$1),\nIF(AND(DG$9<>\"\",$H$3=\"実績\"),INDIRECT(\"'\"&$D29&\"　\"&$E29&\"'!C\"&DG$1),\n\"\")),\"\")","v":""},{"$f":"IFERROR(IF(AND(DG$9<>\"\",$H$3=\"計画\"),INDIRECT(\"'\"&$D29&\"　\"&$E29&\"'!B\"&DH$1),\nIF(AND(DG$9<>\"\",$H$3=\"実績\"),INDIRECT(\"'\"&$D29&\"　\"&$E29&\"'!C\"&DH$1),\n\"\")),\"\")","v":""},{"$f":"IFERROR(IF(IF(AND(DG$9<>\"\",$H$3=\"計画\"),INDIRECT(\"'\"&$D29&\"　\"&$E29&\"'!B\"&DI$1),\nIF(AND(DG$9<>\"\",$H$3=\"実績\"),INDIRECT(\"'\"&$D29&\"　\"&$E29&\"'!C\"&DI$1),\n\"\"))=\"対象外\",\"対象外\",DG29/DH29),\"\")","v":""},{"$f":"IFERROR(IF(AND(DJ$9<>\"\",$H$3=\"計画\"),INDIRECT(\"'\"&$D29&\"　\"&$E29&\"'!B\"&DJ$1),\nIF(AND(DJ$9<>\"\",$H$3=\"実績\"),INDIRECT(\"'\"&$D29&\"　\"&$E29&\"'!C\"&DJ$1),\n\"\")),\"\")","v":""},{"$f":"IFERROR(IF(AND(DJ$9<>\"\",$H$3=\"計画\"),INDIRECT(\"'\"&$D29&\"　\"&$E29&\"'!B\"&DK$1),\nIF(AND(DJ$9<>\"\",$H$3=\"実績\"),INDIRECT(\"'\"&$D29&\"　\"&$E29&\"'!C\"&DK$1),\n\"\")),\"\")","v":""},{"$f":"IFERROR(IF(IF(AND(DJ$9<>\"\",$H$3=\"計画\"),INDIRECT(\"'\"&$D29&\"　\"&$E29&\"'!B\"&DL$1),\nIF(AND(DJ$9<>\"\",$H$3=\"実績\"),INDIRECT(\"'\"&$D29&\"　\"&$E29&\"'!C\"&DL$1),\n\"\"))=\"対象外\",\"対象外\",DJ29/DK29),\"\")","v":""}]
[{"$f":"IF(COUNTIF(A$11:A27,\"\")=ROWS(A$11:A27)*COLUMNS(A$11:A27),\"\",\nIF(COUNTIF(A$11:A27,\"<\"&原稿!$C$1)>0,\"×\",\"○\"))","v":"○"},null,null,null,null,"","",{"$f":"IFERROR(IF(IF(H$3=\"計画\",INDIRECT(\"'\"&$D30&\"　\"&$E30&\"'!B\"&H$1),\nIF(H$3=\"実績\",INDIRECT(\"'\"&$D30&\"　\"&$E30&\"'!C\"&H$1),\n\"\"))>=28,F30/G30,\"対象外\"),\"\")","v":""},{"$f":"IFERROR(IF(AND(I$9<>\"\",$H$3=\"計画\"),INDIRECT(\"'\"&$D30&\"　\"&$E30&\"'!B\"&I$1),\nIF(AND(I$9<>\"\",$H$3=\"実績\"),INDIRECT(\"'\"&$D30&\"　\"&$E30&\"'!C\"&I$1),\n\"\")),\"\")","v":""},{"$f":"IFERROR(IF(AND(I$9<>\"\",$H$3=\"計画\"),INDIRECT(\"'\"&$D30&\"　\"&$E30&\"'!B\"&J$1),\nIF(AND(I$9<>\"\",$H$3=\"実績\"),INDIRECT(\"'\"&$D30&\"　\"&$E30&\"'!C\"&J$1),\n\"\")),\"\")","v":""},{"$f":"IFERROR(IF(IF(AND(I$9<>\"\",$H$3=\"計画\"),INDIRECT(\"'\"&$D30&\"　\"&$E30&\"'!B\"&K$1),\nIF(AND(I$9<>\"\",$H$3=\"実績\"),INDIRECT(\"'\"&$D30&\"　\"&$E30&\"'!C\"&K$1),\n\"\"))=\"対象外\",\"対象外\",I30/J30),\"\")","v":""},{"$f":"IFERROR(IF(AND(L$9<>\"\",$H$3=\"計画\"),INDIRECT(\"'\"&$D30&\"　\"&$E30&\"'!B\"&L$1),\nIF(AND(L$9<>\"\",$H$3=\"実績\"),INDIRECT(\"'\"&$D30&\"　\"&$E30&\"'!C\"&L$1),\n\"\")),\"\")","v":""},{"$f":"IFERROR(IF(AND(L$9<>\"\",$H$3=\"計画\"),INDIRECT(\"'\"&$D30&\"　\"&$E30&\"'!B\"&M$1),\nIF(AND(L$9<>\"\",$H$3=\"実績\"),INDIRECT(\"'\"&$D30&\"　\"&$E30&\"'!C\"&M$1),\n\"\")),\"\")","v":""},{"$f":"IFERROR(IF(IF(AND(L$9<>\"\",$H$3=\"計画\"),INDIRECT(\"'\"&$D30&\"　\"&$E30&\"'!B\"&N$1),\nIF(AND(L$9<>\"\",$H$3=\"実績\"),INDIRECT(\"'\"&$D30&\"　\"&$E30&\"'!C\"&N$1),\n\"\"))=\"対象外\",\"対象外\",L30/M30),\"\")","v":""},{"$f":"IFERROR(IF(AND(O$9<>\"\",$H$3=\"計画\"),INDIRECT(\"'\"&$D30&\"　\"&$E30&\"'!B\"&O$1),\nIF(AND(O$9<>\"\",$H$3=\"実績\"),INDIRECT(\"'\"&$D30&\"　\"&$E30&\"'!C\"&O$1),\n\"\")),\"\")","v":""},{"$f":"IFERROR(IF(AND(O$9<>\"\",$H$3=\"計画\"),INDIRECT(\"'\"&$D30&\"　\"&$E30&\"'!B\"&P$1),\nIF(AND(O$9<>\"\",$H$3=\"実績\"),INDIRECT(\"'\"&$D30&\"　\"&$E30&\"'!C\"&P$1),\n\"\")),\"\")","v":""},{"$f":"IFERROR(IF(IF(AND(O$9<>\"\",$H$3=\"計画\"),INDIRECT(\"'\"&$D30&\"　\"&$E30&\"'!B\"&Q$1),\nIF(AND(O$9<>\"\",$H$3=\"実績\"),INDIRECT(\"'\"&$D30&\"　\"&$E30&\"'!C\"&Q$1),\n\"\"))=\"対象外\",\"対象外\",O30/P30),\"\")","v":""},{"$f":"IFERROR(IF(AND(R$9<>\"\",$H$3=\"計画\"),INDIRECT(\"'\"&$D30&\"　\"&$E30&\"'!B\"&R$1),\nIF(AND(R$9<>\"\",$H$3=\"実績\"),INDIRECT(\"'\"&$D30&\"　\"&$E30&\"'!C\"&R$1),\n\"\")),\"\")","v":""},{"$f":"IFERROR(IF(AND(R$9<>\"\",$H$3=\"計画\"),INDIRECT(\"'\"&$D30&\"　\"&$E30&\"'!B\"&S$1),\nIF(AND(R$9<>\"\",$H$3=\"実績\"),INDIRECT(\"'\"&$D30&\"　\"&$E30&\"'!C\"&S$1),\n\"\")),\"\")","v":""},{"$f":"IFERROR(IF(IF(AND(R$9<>\"\",$H$3=\"計画\"),INDIRECT(\"'\"&$D30&\"　\"&$E30&\"'!B\"&T$1),\nIF(AND(R$9<>\"\",$H$3=\"実績\"),INDIRECT(\"'\"&$D30&\"　\"&$E30&\"'!C\"&T$1),\n\"\"))=\"対象外\",\"対象外\",R30/S30),\"\")","v":""},{"$f":"IFERROR(IF(AND(U$9<>\"\",$H$3=\"計画\"),INDIRECT(\"'\"&$D30&\"　\"&$E30&\"'!B\"&U$1),\nIF(AND(U$9<>\"\",$H$3=\"実績\"),INDIRECT(\"'\"&$D30&\"　\"&$E30&\"'!C\"&U$1),\n\"\")),\"\")","v":""},{"$f":"IFERROR(IF(AND(U$9<>\"\",$H$3=\"計画\"),INDIRECT(\"'\"&$D30&\"　\"&$E30&\"'!B\"&V$1),\nIF(AND(U$9<>\"\",$H$3=\"実績\"),INDIRECT(\"'\"&$D30&\"　\"&$E30&\"'!C\"&V$1),\n\"\")),\"\")","v":""},{"$f":"IFERROR(IF(IF(AND(U$9<>\"\",$H$3=\"計画\"),INDIRECT(\"'\"&$D30&\"　\"&$E30&\"'!B\"&W$1),\nIF(AND(U$9<>\"\",$H$3=\"実績\"),INDIRECT(\"'\"&$D30&\"　\"&$E30&\"'!C\"&W$1),\n\"\"))=\"対象外\",\"対象外\",U30/V30),\"\")","v":""},{"$f":"IFERROR(IF(AND(X$9<>\"\",$H$3=\"計画\"),INDIRECT(\"'\"&$D30&\"　\"&$E30&\"'!B\"&X$1),\nIF(AND(X$9<>\"\",$H$3=\"実績\"),INDIRECT(\"'\"&$D30&\"　\"&$E30&\"'!C\"&X$1),\n\"\")),\"\")","v":""},{"$f":"IFERROR(IF(AND(X$9<>\"\",$H$3=\"計画\"),INDIRECT(\"'\"&$D30&\"　\"&$E30&\"'!B\"&Y$1),\nIF(AND(X$9<>\"\",$H$3=\"実績\"),INDIRECT(\"'\"&$D30&\"　\"&$E30&\"'!C\"&Y$1),\n\"\")),\"\")","v":""},{"$f":"IFERROR(IF(IF(AND(X$9<>\"\",$H$3=\"計画\"),INDIRECT(\"'\"&$D30&\"　\"&$E30&\"'!B\"&Z$1),\nIF(AND(X$9<>\"\",$H$3=\"実績\"),INDIRECT(\"'\"&$D30&\"　\"&$E30&\"'!C\"&Z$1),\n\"\"))=\"対象外\",\"対象外\",X30/Y30),\"\")","v":""},{"$f":"IFERROR(IF(AND(AA$9<>\"\",$H$3=\"計画\"),INDIRECT(\"'\"&$D30&\"　\"&$E30&\"'!B\"&AA$1),\nIF(AND(AA$9<>\"\",$H$3=\"実績\"),INDIRECT(\"'\"&$D30&\"　\"&$E30&\"'!C\"&AA$1),\n\"\")),\"\")","v":""},{"$f":"IFERROR(IF(AND(AA$9<>\"\",$H$3=\"計画\"),INDIRECT(\"'\"&$D30&\"　\"&$E30&\"'!B\"&AB$1),\nIF(AND(AA$9<>\"\",$H$3=\"実績\"),INDIRECT(\"'\"&$D30&\"　\"&$E30&\"'!C\"&AB$1),\n\"\")),\"\")","v":""},{"$f":"IFERROR(IF(IF(AND(AA$9<>\"\",$H$3=\"計画\"),INDIRECT(\"'\"&$D30&\"　\"&$E30&\"'!B\"&AC$1),\nIF(AND(AA$9<>\"\",$H$3=\"実績\"),INDIRECT(\"'\"&$D30&\"　\"&$E30&\"'!C\"&AC$1),\n\"\"))=\"対象外\",\"対象外\",AA30/AB30),\"\")","v":""},{"$f":"IFERROR(IF(AND(AD$9<>\"\",$H$3=\"計画\"),INDIRECT(\"'\"&$D30&\"　\"&$E30&\"'!B\"&AD$1),\nIF(AND(AD$9<>\"\",$H$3=\"実績\"),INDIRECT(\"'\"&$D30&\"　\"&$E30&\"'!C\"&AD$1),\n\"\")),\"\")","v":""},{"$f":"IFERROR(IF(AND(AD$9<>\"\",$H$3=\"計画\"),INDIRECT(\"'\"&$D30&\"　\"&$E30&\"'!B\"&AE$1),\nIF(AND(AD$9<>\"\",$H$3=\"実績\"),INDIRECT(\"'\"&$D30&\"　\"&$E30&\"'!C\"&AE$1),\n\"\")),\"\")","v":""},{"$f":"IFERROR(IF(IF(AND(AD$9<>\"\",$H$3=\"計画\"),INDIRECT(\"'\"&$D30&\"　\"&$E30&\"'!B\"&AF$1),\nIF(AND(AD$9<>\"\",$H$3=\"実績\"),INDIRECT(\"'\"&$D30&\"　\"&$E30&\"'!C\"&AF$1),\n\"\"))=\"対象外\",\"対象外\",AD30/AE30),\"\")","v":""},{"$f":"IFERROR(IF(AND(AG$9<>\"\",$H$3=\"計画\"),INDIRECT(\"'\"&$D30&\"　\"&$E30&\"'!B\"&AG$1),\nIF(AND(AG$9<>\"\",$H$3=\"実績\"),INDIRECT(\"'\"&$D30&\"　\"&$E30&\"'!C\"&AG$1),\n\"\")),\"\")","v":""},{"$f":"IFERROR(IF(AND(AG$9<>\"\",$H$3=\"計画\"),INDIRECT(\"'\"&$D30&\"　\"&$E30&\"'!B\"&AH$1),\nIF(AND(AG$9<>\"\",$H$3=\"実績\"),INDIRECT(\"'\"&$D30&\"　\"&$E30&\"'!C\"&AH$1),\n\"\")),\"\")","v":""},{"$f":"IFERROR(IF(IF(AND(AG$9<>\"\",$H$3=\"計画\"),INDIRECT(\"'\"&$D30&\"　\"&$E30&\"'!B\"&AI$1),\nIF(AND(AG$9<>\"\",$H$3=\"実績\"),INDIRECT(\"'\"&$D30&\"　\"&$E30&\"'!C\"&AI$1),\n\"\"))=\"対象外\",\"対象外\",AG30/AH30),\"\")","v":""},{"$f":"IFERROR(IF(AND(AJ$9<>\"\",$H$3=\"計画\"),INDIRECT(\"'\"&$D30&\"　\"&$E30&\"'!B\"&AJ$1),\nIF(AND(AJ$9<>\"\",$H$3=\"実績\"),INDIRECT(\"'\"&$D30&\"　\"&$E30&\"'!C\"&AJ$1),\n\"\")),\"\")","v":""},{"$f":"IFERROR(IF(AND(AJ$9<>\"\",$H$3=\"計画\"),INDIRECT(\"'\"&$D30&\"　\"&$E30&\"'!B\"&AK$1),\nIF(AND(AJ$9<>\"\",$H$3=\"実績\"),INDIRECT(\"'\"&$D30&\"　\"&$E30&\"'!C\"&AK$1),\n\"\")),\"\")","v":""},{"$f":"IFERROR(IF(IF(AND(AJ$9<>\"\",$H$3=\"計画\"),INDIRECT(\"'\"&$D30&\"　\"&$E30&\"'!B\"&AL$1),\nIF(AND(AJ$9<>\"\",$H$3=\"実績\"),INDIRECT(\"'\"&$D30&\"　\"&$E30&\"'!C\"&AL$1),\n\"\"))=\"対象外\",\"対象外\",AJ30/AK30),\"\")","v":""},{"$f":"IFERROR(IF(AND(AM$9<>\"\",$H$3=\"計画\"),INDIRECT(\"'\"&$D30&\"　\"&$E30&\"'!B\"&AM$1),\nIF(AND(AM$9<>\"\",$H$3=\"実績\"),INDIRECT(\"'\"&$D30&\"　\"&$E30&\"'!C\"&AM$1),\n\"\")),\"\")","v":""},{"$f":"IFERROR(IF(AND(AM$9<>\"\",$H$3=\"計画\"),INDIRECT(\"'\"&$D30&\"　\"&$E30&\"'!B\"&AN$1),\nIF(AND(AM$9<>\"\",$H$3=\"実績\"),INDIRECT(\"'\"&$D30&\"　\"&$E30&\"'!C\"&AN$1),\n\"\")),\"\")","v":""},{"$f":"IFERROR(IF(IF(AND(AM$9<>\"\",$H$3=\"計画\"),INDIRECT(\"'\"&$D30&\"　\"&$E30&\"'!B\"&AO$1),\nIF(AND(AM$9<>\"\",$H$3=\"実績\"),INDIRECT(\"'\"&$D30&\"　\"&$E30&\"'!C\"&AO$1),\n\"\"))=\"対象外\",\"対象外\",AM30/AN30),\"\")","v":""},{"$f":"IFERROR(IF(AND(AP$9<>\"\",$H$3=\"計画\"),INDIRECT(\"'\"&$D30&\"　\"&$E30&\"'!B\"&AP$1),\nIF(AND(AP$9<>\"\",$H$3=\"実績\"),INDIRECT(\"'\"&$D30&\"　\"&$E30&\"'!C\"&AP$1),\n\"\")),\"\")","v":""},{"$f":"IFERROR(IF(AND(AP$9<>\"\",$H$3=\"計画\"),INDIRECT(\"'\"&$D30&\"　\"&$E30&\"'!B\"&AQ$1),\nIF(AND(AP$9<>\"\",$H$3=\"実績\"),INDIRECT(\"'\"&$D30&\"　\"&$E30&\"'!C\"&AQ$1),\n\"\")),\"\")","v":""},{"$f":"IFERROR(IF(IF(AND(AP$9<>\"\",$H$3=\"計画\"),INDIRECT(\"'\"&$D30&\"　\"&$E30&\"'!B\"&AR$1),\nIF(AND(AP$9<>\"\",$H$3=\"実績\"),INDIRECT(\"'\"&$D30&\"　\"&$E30&\"'!C\"&AR$1),\n\"\"))=\"対象外\",\"対象外\",AP30/AQ30),\"\")","v":""},{"$f":"IFERROR(IF(AND(AS$9<>\"\",$H$3=\"計画\"),INDIRECT(\"'\"&$D30&\"　\"&$E30&\"'!B\"&AS$1),\nIF(AND(AS$9<>\"\",$H$3=\"実績\"),INDIRECT(\"'\"&$D30&\"　\"&$E30&\"'!C\"&AS$1),\n\"\")),\"\")","v":""},{"$f":"IFERROR(IF(AND(AS$9<>\"\",$H$3=\"計画\"),INDIRECT(\"'\"&$D30&\"　\"&$E30&\"'!B\"&AT$1),\nIF(AND(AS$9<>\"\",$H$3=\"実績\"),INDIRECT(\"'\"&$D30&\"　\"&$E30&\"'!C\"&AT$1),\n\"\")),\"\")","v":""},{"$f":"IFERROR(IF(IF(AND(AS$9<>\"\",$H$3=\"計画\"),INDIRECT(\"'\"&$D30&\"　\"&$E30&\"'!B\"&AU$1),\nIF(AND(AS$9<>\"\",$H$3=\"実績\"),INDIRECT(\"'\"&$D30&\"　\"&$E30&\"'!C\"&AU$1),\n\"\"))=\"対象外\",\"対象外\",AS30/AT30),\"\")","v":""},{"$f":"IFERROR(IF(AND(AV$9<>\"\",$H$3=\"計画\"),INDIRECT(\"'\"&$D30&\"　\"&$E30&\"'!B\"&AV$1),\nIF(AND(AV$9<>\"\",$H$3=\"実績\"),INDIRECT(\"'\"&$D30&\"　\"&$E30&\"'!C\"&AV$1),\n\"\")),\"\")","v":""},{"$f":"IFERROR(IF(AND(AV$9<>\"\",$H$3=\"計画\"),INDIRECT(\"'\"&$D30&\"　\"&$E30&\"'!B\"&AW$1),\nIF(AND(AV$9<>\"\",$H$3=\"実績\"),INDIRECT(\"'\"&$D30&\"　\"&$E30&\"'!C\"&AW$1),\n\"\")),\"\")","v":""},{"$f":"IFERROR(IF(IF(AND(AV$9<>\"\",$H$3=\"計画\"),INDIRECT(\"'\"&$D30&\"　\"&$E30&\"'!B\"&AX$1),\nIF(AND(AV$9<>\"\",$H$3=\"実績\"),INDIRECT(\"'\"&$D30&\"　\"&$E30&\"'!C\"&AX$1),\n\"\"))=\"対象外\",\"対象外\",AV30/AW30),\"\")","v":""},{"$f":"IFERROR(IF(AND(AY$9<>\"\",$H$3=\"計画\"),INDIRECT(\"'\"&$D30&\"　\"&$E30&\"'!B\"&AY$1),\nIF(AND(AY$9<>\"\",$H$3=\"実績\"),INDIRECT(\"'\"&$D30&\"　\"&$E30&\"'!C\"&AY$1),\n\"\")),\"\")","v":""},{"$f":"IFERROR(IF(AND(AY$9<>\"\",$H$3=\"計画\"),INDIRECT(\"'\"&$D30&\"　\"&$E30&\"'!B\"&AZ$1),\nIF(AND(AY$9<>\"\",$H$3=\"実績\"),INDIRECT(\"'\"&$D30&\"　\"&$E30&\"'!C\"&AZ$1),\n\"\")),\"\")","v":""},{"$f":"IFERROR(IF(IF(AND(AY$9<>\"\",$H$3=\"計画\"),INDIRECT(\"'\"&$D30&\"　\"&$E30&\"'!B\"&BA$1),\nIF(AND(AY$9<>\"\",$H$3=\"実績\"),INDIRECT(\"'\"&$D30&\"　\"&$E30&\"'!C\"&BA$1),\n\"\"))=\"対象外\",\"対象外\",AY30/AZ30),\"\")","v":""},{"$f":"IFERROR(IF(AND(BB$9<>\"\",$H$3=\"計画\"),INDIRECT(\"'\"&$D30&\"　\"&$E30&\"'!B\"&BB$1),\nIF(AND(BB$9<>\"\",$H$3=\"実績\"),INDIRECT(\"'\"&$D30&\"　\"&$E30&\"'!C\"&BB$1),\n\"\")),\"\")","v":""},{"$f":"IFERROR(IF(AND(BB$9<>\"\",$H$3=\"計画\"),INDIRECT(\"'\"&$D30&\"　\"&$E30&\"'!B\"&BC$1),\nIF(AND(BB$9<>\"\",$H$3=\"実績\"),INDIRECT(\"'\"&$D30&\"　\"&$E30&\"'!C\"&BC$1),\n\"\")),\"\")","v":""},{"$f":"IFERROR(IF(IF(AND(BB$9<>\"\",$H$3=\"計画\"),INDIRECT(\"'\"&$D30&\"　\"&$E30&\"'!B\"&BD$1),\nIF(AND(BB$9<>\"\",$H$3=\"実績\"),INDIRECT(\"'\"&$D30&\"　\"&$E30&\"'!C\"&BD$1),\n\"\"))=\"対象外\",\"対象外\",BB30/BC30),\"\")","v":""},{"$f":"IFERROR(IF(AND(BE$9<>\"\",$H$3=\"計画\"),INDIRECT(\"'\"&$D30&\"　\"&$E30&\"'!B\"&BE$1),\nIF(AND(BE$9<>\"\",$H$3=\"実績\"),INDIRECT(\"'\"&$D30&\"　\"&$E30&\"'!C\"&BE$1),\n\"\")),\"\")","v":""},{"$f":"IFERROR(IF(AND(BE$9<>\"\",$H$3=\"計画\"),INDIRECT(\"'\"&$D30&\"　\"&$E30&\"'!B\"&BF$1),\nIF(AND(BE$9<>\"\",$H$3=\"実績\"),INDIRECT(\"'\"&$D30&\"　\"&$E30&\"'!C\"&BF$1),\n\"\")),\"\")","v":""},{"$f":"IFERROR(IF(IF(AND(BE$9<>\"\",$H$3=\"計画\"),INDIRECT(\"'\"&$D30&\"　\"&$E30&\"'!B\"&BG$1),\nIF(AND(BE$9<>\"\",$H$3=\"実績\"),INDIRECT(\"'\"&$D30&\"　\"&$E30&\"'!C\"&BG$1),\n\"\"))=\"対象外\",\"対象外\",BE30/BF30),\"\")","v":""},{"$f":"IFERROR(IF(AND(BH$9<>\"\",$H$3=\"計画\"),INDIRECT(\"'\"&$D30&\"　\"&$E30&\"'!B\"&BH$1),\nIF(AND(BH$9<>\"\",$H$3=\"実績\"),INDIRECT(\"'\"&$D30&\"　\"&$E30&\"'!C\"&BH$1),\n\"\")),\"\")","v":""},{"$f":"IFERROR(IF(AND(BH$9<>\"\",$H$3=\"計画\"),INDIRECT(\"'\"&$D30&\"　\"&$E30&\"'!B\"&BI$1),\nIF(AND(BH$9<>\"\",$H$3=\"実績\"),INDIRECT(\"'\"&$D30&\"　\"&$E30&\"'!C\"&BI$1),\n\"\")),\"\")","v":""},{"$f":"IFERROR(IF(IF(AND(BH$9<>\"\",$H$3=\"計画\"),INDIRECT(\"'\"&$D30&\"　\"&$E30&\"'!B\"&BJ$1),\nIF(AND(BH$9<>\"\",$H$3=\"実績\"),INDIRECT(\"'\"&$D30&\"　\"&$E30&\"'!C\"&BJ$1),\n\"\"))=\"対象外\",\"対象外\",BH30/BI30),\"\")","v":""},{"$f":"IFERROR(IF(AND(BK$9<>\"\",$H$3=\"計画\"),INDIRECT(\"'\"&$D30&\"　\"&$E30&\"'!B\"&BK$1),\nIF(AND(BK$9<>\"\",$H$3=\"実績\"),INDIRECT(\"'\"&$D30&\"　\"&$E30&\"'!C\"&BK$1),\n\"\")),\"\")","v":""},{"$f":"IFERROR(IF(AND(BK$9<>\"\",$H$3=\"計画\"),INDIRECT(\"'\"&$D30&\"　\"&$E30&\"'!B\"&BL$1),\nIF(AND(BK$9<>\"\",$H$3=\"実績\"),INDIRECT(\"'\"&$D30&\"　\"&$E30&\"'!C\"&BL$1),\n\"\")),\"\")","v":""},{"$f":"IFERROR(IF(IF(AND(BK$9<>\"\",$H$3=\"計画\"),INDIRECT(\"'\"&$D30&\"　\"&$E30&\"'!B\"&BM$1),\nIF(AND(BK$9<>\"\",$H$3=\"実績\"),INDIRECT(\"'\"&$D30&\"　\"&$E30&\"'!C\"&BM$1),\n\"\"))=\"対象外\",\"対象外\",BK30/BL30),\"\")","v":""},{"$f":"IFERROR(IF(AND(BN$9<>\"\",$H$3=\"計画\"),INDIRECT(\"'\"&$D30&\"　\"&$E30&\"'!B\"&BN$1),\nIF(AND(BN$9<>\"\",$H$3=\"実績\"),INDIRECT(\"'\"&$D30&\"　\"&$E30&\"'!C\"&BN$1),\n\"\")),\"\")","v":""},{"$f":"IFERROR(IF(AND(BN$9<>\"\",$H$3=\"計画\"),INDIRECT(\"'\"&$D30&\"　\"&$E30&\"'!B\"&BO$1),\nIF(AND(BN$9<>\"\",$H$3=\"実績\"),INDIRECT(\"'\"&$D30&\"　\"&$E30&\"'!C\"&BO$1),\n\"\")),\"\")","v":""},{"$f":"IFERROR(IF(IF(AND(BN$9<>\"\",$H$3=\"計画\"),INDIRECT(\"'\"&$D30&\"　\"&$E30&\"'!B\"&BP$1),\nIF(AND(BN$9<>\"\",$H$3=\"実績\"),INDIRECT(\"'\"&$D30&\"　\"&$E30&\"'!C\"&BP$1),\n\"\"))=\"対象外\",\"対象外\",BN30/BO30),\"\")","v":""},{"$f":"IFERROR(IF(AND(BQ$9<>\"\",$H$3=\"計画\"),INDIRECT(\"'\"&$D30&\"　\"&$E30&\"'!B\"&BQ$1),\nIF(AND(BQ$9<>\"\",$H$3=\"実績\"),INDIRECT(\"'\"&$D30&\"　\"&$E30&\"'!C\"&BQ$1),\n\"\")),\"\")","v":""},{"$f":"IFERROR(IF(AND(BQ$9<>\"\",$H$3=\"計画\"),INDIRECT(\"'\"&$D30&\"　\"&$E30&\"'!B\"&BR$1),\nIF(AND(BQ$9<>\"\",$H$3=\"実績\"),INDIRECT(\"'\"&$D30&\"　\"&$E30&\"'!C\"&BR$1),\n\"\")),\"\")","v":""},{"$f":"IFERROR(IF(IF(AND(BQ$9<>\"\",$H$3=\"計画\"),INDIRECT(\"'\"&$D30&\"　\"&$E30&\"'!B\"&BS$1),\nIF(AND(BQ$9<>\"\",$H$3=\"実績\"),INDIRECT(\"'\"&$D30&\"　\"&$E30&\"'!C\"&BS$1),\n\"\"))=\"対象外\",\"対象外\",BQ30/BR30),\"\")","v":""},{"$f":"IFERROR(IF(AND(BT$9<>\"\",$H$3=\"計画\"),INDIRECT(\"'\"&$D30&\"　\"&$E30&\"'!B\"&BT$1),\nIF(AND(BT$9<>\"\",$H$3=\"実績\"),INDIRECT(\"'\"&$D30&\"　\"&$E30&\"'!C\"&BT$1),\n\"\")),\"\")","v":""},{"$f":"IFERROR(IF(AND(BT$9<>\"\",$H$3=\"計画\"),INDIRECT(\"'\"&$D30&\"　\"&$E30&\"'!B\"&BU$1),\nIF(AND(BT$9<>\"\",$H$3=\"実績\"),INDIRECT(\"'\"&$D30&\"　\"&$E30&\"'!C\"&BU$1),\n\"\")),\"\")","v":""},{"$f":"IFERROR(IF(IF(AND(BT$9<>\"\",$H$3=\"計画\"),INDIRECT(\"'\"&$D30&\"　\"&$E30&\"'!B\"&BV$1),\nIF(AND(BT$9<>\"\",$H$3=\"実績\"),INDIRECT(\"'\"&$D30&\"　\"&$E30&\"'!C\"&BV$1),\n\"\"))=\"対象外\",\"対象外\",BT30/BU30),\"\")","v":""},{"$f":"IFERROR(IF(AND(BW$9<>\"\",$H$3=\"計画\"),INDIRECT(\"'\"&$D30&\"　\"&$E30&\"'!B\"&BW$1),\nIF(AND(BW$9<>\"\",$H$3=\"実績\"),INDIRECT(\"'\"&$D30&\"　\"&$E30&\"'!C\"&BW$1),\n\"\")),\"\")","v":""},{"$f":"IFERROR(IF(AND(BW$9<>\"\",$H$3=\"計画\"),INDIRECT(\"'\"&$D30&\"　\"&$E30&\"'!B\"&BX$1),\nIF(AND(BW$9<>\"\",$H$3=\"実績\"),INDIRECT(\"'\"&$D30&\"　\"&$E30&\"'!C\"&BX$1),\n\"\")),\"\")","v":""},{"$f":"IFERROR(IF(IF(AND(BW$9<>\"\",$H$3=\"計画\"),INDIRECT(\"'\"&$D30&\"　\"&$E30&\"'!B\"&BY$1),\nIF(AND(BW$9<>\"\",$H$3=\"実績\"),INDIRECT(\"'\"&$D30&\"　\"&$E30&\"'!C\"&BY$1),\n\"\"))=\"対象外\",\"対象外\",BW30/BX30),\"\")","v":""},{"$f":"IFERROR(IF(AND(BZ$9<>\"\",$H$3=\"計画\"),INDIRECT(\"'\"&$D30&\"　\"&$E30&\"'!B\"&BZ$1),\nIF(AND(BZ$9<>\"\",$H$3=\"実績\"),INDIRECT(\"'\"&$D30&\"　\"&$E30&\"'!C\"&BZ$1),\n\"\")),\"\")","v":""},{"$f":"IFERROR(IF(AND(BZ$9<>\"\",$H$3=\"計画\"),INDIRECT(\"'\"&$D30&\"　\"&$E30&\"'!B\"&CA$1),\nIF(AND(BZ$9<>\"\",$H$3=\"実績\"),INDIRECT(\"'\"&$D30&\"　\"&$E30&\"'!C\"&CA$1),\n\"\")),\"\")","v":""},{"$f":"IFERROR(IF(IF(AND(BZ$9<>\"\",$H$3=\"計画\"),INDIRECT(\"'\"&$D30&\"　\"&$E30&\"'!B\"&CB$1),\nIF(AND(BZ$9<>\"\",$H$3=\"実績\"),INDIRECT(\"'\"&$D30&\"　\"&$E30&\"'!C\"&CB$1),\n\"\"))=\"対象外\",\"対象外\",BZ30/CA30),\"\")","v":""},{"$f":"IFERROR(IF(AND(CC$9<>\"\",$H$3=\"計画\"),INDIRECT(\"'\"&$D30&\"　\"&$E30&\"'!B\"&CC$1),\nIF(AND(CC$9<>\"\",$H$3=\"実績\"),INDIRECT(\"'\"&$D30&\"　\"&$E30&\"'!C\"&CC$1),\n\"\")),\"\")","v":""},{"$f":"IFERROR(IF(AND(CC$9<>\"\",$H$3=\"計画\"),INDIRECT(\"'\"&$D30&\"　\"&$E30&\"'!B\"&CD$1),\nIF(AND(CC$9<>\"\",$H$3=\"実績\"),INDIRECT(\"'\"&$D30&\"　\"&$E30&\"'!C\"&CD$1),\n\"\")),\"\")","v":""},{"$f":"IFERROR(IF(IF(AND(CC$9<>\"\",$H$3=\"計画\"),INDIRECT(\"'\"&$D30&\"　\"&$E30&\"'!B\"&CE$1),\nIF(AND(CC$9<>\"\",$H$3=\"実績\"),INDIRECT(\"'\"&$D30&\"　\"&$E30&\"'!C\"&CE$1),\n\"\"))=\"対象外\",\"対象外\",CC30/CD30),\"\")","v":""},{"$f":"IFERROR(IF(AND(CF$9<>\"\",$H$3=\"計画\"),INDIRECT(\"'\"&$D30&\"　\"&$E30&\"'!B\"&CF$1),\nIF(AND(CF$9<>\"\",$H$3=\"実績\"),INDIRECT(\"'\"&$D30&\"　\"&$E30&\"'!C\"&CF$1),\n\"\")),\"\")","v":""},{"$f":"IFERROR(IF(AND(CF$9<>\"\",$H$3=\"計画\"),INDIRECT(\"'\"&$D30&\"　\"&$E30&\"'!B\"&CG$1),\nIF(AND(CF$9<>\"\",$H$3=\"実績\"),INDIRECT(\"'\"&$D30&\"　\"&$E30&\"'!C\"&CG$1),\n\"\")),\"\")","v":""},{"$f":"IFERROR(IF(IF(AND(CF$9<>\"\",$H$3=\"計画\"),INDIRECT(\"'\"&$D30&\"　\"&$E30&\"'!B\"&CH$1),\nIF(AND(CF$9<>\"\",$H$3=\"実績\"),INDIRECT(\"'\"&$D30&\"　\"&$E30&\"'!C\"&CH$1),\n\"\"))=\"対象外\",\"対象外\",CF30/CG30),\"\")","v":""},{"$f":"IFERROR(IF(AND(CI$9<>\"\",$H$3=\"計画\"),INDIRECT(\"'\"&$D30&\"　\"&$E30&\"'!B\"&CI$1),\nIF(AND(CI$9<>\"\",$H$3=\"実績\"),INDIRECT(\"'\"&$D30&\"　\"&$E30&\"'!C\"&CI$1),\n\"\")),\"\")","v":""},{"$f":"IFERROR(IF(AND(CI$9<>\"\",$H$3=\"計画\"),INDIRECT(\"'\"&$D30&\"　\"&$E30&\"'!B\"&CJ$1),\nIF(AND(CI$9<>\"\",$H$3=\"実績\"),INDIRECT(\"'\"&$D30&\"　\"&$E30&\"'!C\"&CJ$1),\n\"\")),\"\")","v":""},{"$f":"IFERROR(IF(IF(AND(CI$9<>\"\",$H$3=\"計画\"),INDIRECT(\"'\"&$D30&\"　\"&$E30&\"'!B\"&CK$1),\nIF(AND(CI$9<>\"\",$H$3=\"実績\"),INDIRECT(\"'\"&$D30&\"　\"&$E30&\"'!C\"&CK$1),\n\"\"))=\"対象外\",\"対象外\",CI30/CJ30),\"\")","v":""},{"$f":"IFERROR(IF(AND(CL$9<>\"\",$H$3=\"計画\"),INDIRECT(\"'\"&$D30&\"　\"&$E30&\"'!B\"&CL$1),\nIF(AND(CL$9<>\"\",$H$3=\"実績\"),INDIRECT(\"'\"&$D30&\"　\"&$E30&\"'!C\"&CL$1),\n\"\")),\"\")","v":""},{"$f":"IFERROR(IF(AND(CL$9<>\"\",$H$3=\"計画\"),INDIRECT(\"'\"&$D30&\"　\"&$E30&\"'!B\"&CM$1),\nIF(AND(CL$9<>\"\",$H$3=\"実績\"),INDIRECT(\"'\"&$D30&\"　\"&$E30&\"'!C\"&CM$1),\n\"\")),\"\")","v":""},{"$f":"IFERROR(IF(IF(AND(CL$9<>\"\",$H$3=\"計画\"),INDIRECT(\"'\"&$D30&\"　\"&$E30&\"'!B\"&CN$1),\nIF(AND(CL$9<>\"\",$H$3=\"実績\"),INDIRECT(\"'\"&$D30&\"　\"&$E30&\"'!C\"&CN$1),\n\"\"))=\"対象外\",\"対象外\",CL30/CM30),\"\")","v":""},{"$f":"IFERROR(IF(AND(CO$9<>\"\",$H$3=\"計画\"),INDIRECT(\"'\"&$D30&\"　\"&$E30&\"'!B\"&CO$1),\nIF(AND(CO$9<>\"\",$H$3=\"実績\"),INDIRECT(\"'\"&$D30&\"　\"&$E30&\"'!C\"&CO$1),\n\"\")),\"\")","v":""},{"$f":"IFERROR(IF(AND(CO$9<>\"\",$H$3=\"計画\"),INDIRECT(\"'\"&$D30&\"　\"&$E30&\"'!B\"&CP$1),\nIF(AND(CO$9<>\"\",$H$3=\"実績\"),INDIRECT(\"'\"&$D30&\"　\"&$E30&\"'!C\"&CP$1),\n\"\")),\"\")","v":""},{"$f":"IFERROR(IF(IF(AND(CO$9<>\"\",$H$3=\"計画\"),INDIRECT(\"'\"&$D30&\"　\"&$E30&\"'!B\"&CQ$1),\nIF(AND(CO$9<>\"\",$H$3=\"実績\"),INDIRECT(\"'\"&$D30&\"　\"&$E30&\"'!C\"&CQ$1),\n\"\"))=\"対象外\",\"対象外\",CO30/CP30),\"\")","v":""},{"$f":"IFERROR(IF(AND(CR$9<>\"\",$H$3=\"計画\"),INDIRECT(\"'\"&$D30&\"　\"&$E30&\"'!B\"&CR$1),\nIF(AND(CR$9<>\"\",$H$3=\"実績\"),INDIRECT(\"'\"&$D30&\"　\"&$E30&\"'!C\"&CR$1),\n\"\")),\"\")","v":""},{"$f":"IFERROR(IF(AND(CR$9<>\"\",$H$3=\"計画\"),INDIRECT(\"'\"&$D30&\"　\"&$E30&\"'!B\"&CS$1),\nIF(AND(CR$9<>\"\",$H$3=\"実績\"),INDIRECT(\"'\"&$D30&\"　\"&$E30&\"'!C\"&CS$1),\n\"\")),\"\")","v":""},{"$f":"IFERROR(IF(IF(AND(CR$9<>\"\",$H$3=\"計画\"),INDIRECT(\"'\"&$D30&\"　\"&$E30&\"'!B\"&CT$1),\nIF(AND(CR$9<>\"\",$H$3=\"実績\"),INDIRECT(\"'\"&$D30&\"　\"&$E30&\"'!C\"&CT$1),\n\"\"))=\"対象外\",\"対象外\",CR30/CS30),\"\")","v":""},{"$f":"IFERROR(IF(AND(CU$9<>\"\",$H$3=\"計画\"),INDIRECT(\"'\"&$D30&\"　\"&$E30&\"'!B\"&CU$1),\nIF(AND(CU$9<>\"\",$H$3=\"実績\"),INDIRECT(\"'\"&$D30&\"　\"&$E30&\"'!C\"&CU$1),\n\"\")),\"\")","v":""},{"$f":"IFERROR(IF(AND(CU$9<>\"\",$H$3=\"計画\"),INDIRECT(\"'\"&$D30&\"　\"&$E30&\"'!B\"&CV$1),\nIF(AND(CU$9<>\"\",$H$3=\"実績\"),INDIRECT(\"'\"&$D30&\"　\"&$E30&\"'!C\"&CV$1),\n\"\")),\"\")","v":""},{"$f":"IFERROR(IF(IF(AND(CU$9<>\"\",$H$3=\"計画\"),INDIRECT(\"'\"&$D30&\"　\"&$E30&\"'!B\"&CW$1),\nIF(AND(CU$9<>\"\",$H$3=\"実績\"),INDIRECT(\"'\"&$D30&\"　\"&$E30&\"'!C\"&CW$1),\n\"\"))=\"対象外\",\"対象外\",CU30/CV30),\"\")","v":""},{"$f":"IFERROR(IF(AND(CX$9<>\"\",$H$3=\"計画\"),INDIRECT(\"'\"&$D30&\"　\"&$E30&\"'!B\"&CX$1),\nIF(AND(CX$9<>\"\",$H$3=\"実績\"),INDIRECT(\"'\"&$D30&\"　\"&$E30&\"'!C\"&CX$1),\n\"\")),\"\")","v":""},{"$f":"IFERROR(IF(AND(CX$9<>\"\",$H$3=\"計画\"),INDIRECT(\"'\"&$D30&\"　\"&$E30&\"'!B\"&CY$1),\nIF(AND(CX$9<>\"\",$H$3=\"実績\"),INDIRECT(\"'\"&$D30&\"　\"&$E30&\"'!C\"&CY$1),\n\"\")),\"\")","v":""},{"$f":"IFERROR(IF(IF(AND(CX$9<>\"\",$H$3=\"計画\"),INDIRECT(\"'\"&$D30&\"　\"&$E30&\"'!B\"&CZ$1),\nIF(AND(CX$9<>\"\",$H$3=\"実績\"),INDIRECT(\"'\"&$D30&\"　\"&$E30&\"'!C\"&CZ$1),\n\"\"))=\"対象外\",\"対象外\",CX30/CY30),\"\")","v":""},{"$f":"IFERROR(IF(AND(DA$9<>\"\",$H$3=\"計画\"),INDIRECT(\"'\"&$D30&\"　\"&$E30&\"'!B\"&DA$1),\nIF(AND(DA$9<>\"\",$H$3=\"実績\"),INDIRECT(\"'\"&$D30&\"　\"&$E30&\"'!C\"&DA$1),\n\"\")),\"\")","v":""},{"$f":"IFERROR(IF(AND(DA$9<>\"\",$H$3=\"計画\"),INDIRECT(\"'\"&$D30&\"　\"&$E30&\"'!B\"&DB$1),\nIF(AND(DA$9<>\"\",$H$3=\"実績\"),INDIRECT(\"'\"&$D30&\"　\"&$E30&\"'!C\"&DB$1),\n\"\")),\"\")","v":""},{"$f":"IFERROR(IF(IF(AND(DA$9<>\"\",$H$3=\"計画\"),INDIRECT(\"'\"&$D30&\"　\"&$E30&\"'!B\"&DC$1),\nIF(AND(DA$9<>\"\",$H$3=\"実績\"),INDIRECT(\"'\"&$D30&\"　\"&$E30&\"'!C\"&DC$1),\n\"\"))=\"対象外\",\"対象外\",DA30/DB30),\"\")","v":""},{"$f":"IFERROR(IF(AND(DD$9<>\"\",$H$3=\"計画\"),INDIRECT(\"'\"&$D30&\"　\"&$E30&\"'!B\"&DD$1),\nIF(AND(DD$9<>\"\",$H$3=\"実績\"),INDIRECT(\"'\"&$D30&\"　\"&$E30&\"'!C\"&DD$1),\n\"\")),\"\")","v":""},{"$f":"IFERROR(IF(AND(DD$9<>\"\",$H$3=\"計画\"),INDIRECT(\"'\"&$D30&\"　\"&$E30&\"'!B\"&DE$1),\nIF(AND(DD$9<>\"\",$H$3=\"実績\"),INDIRECT(\"'\"&$D30&\"　\"&$E30&\"'!C\"&DE$1),\n\"\")),\"\")","v":""},{"$f":"IFERROR(IF(IF(AND(DD$9<>\"\",$H$3=\"計画\"),INDIRECT(\"'\"&$D30&\"　\"&$E30&\"'!B\"&DF$1),\nIF(AND(DD$9<>\"\",$H$3=\"実績\"),INDIRECT(\"'\"&$D30&\"　\"&$E30&\"'!C\"&DF$1),\n\"\"))=\"対象外\",\"対象外\",DD30/DE30),\"\")","v":""},{"$f":"IFERROR(IF(AND(DG$9<>\"\",$H$3=\"計画\"),INDIRECT(\"'\"&$D30&\"　\"&$E30&\"'!B\"&DG$1),\nIF(AND(DG$9<>\"\",$H$3=\"実績\"),INDIRECT(\"'\"&$D30&\"　\"&$E30&\"'!C\"&DG$1),\n\"\")),\"\")","v":""},{"$f":"IFERROR(IF(AND(DG$9<>\"\",$H$3=\"計画\"),INDIRECT(\"'\"&$D30&\"　\"&$E30&\"'!B\"&DH$1),\nIF(AND(DG$9<>\"\",$H$3=\"実績\"),INDIRECT(\"'\"&$D30&\"　\"&$E30&\"'!C\"&DH$1),\n\"\")),\"\")","v":""},{"$f":"IFERROR(IF(IF(AND(DG$9<>\"\",$H$3=\"計画\"),INDIRECT(\"'\"&$D30&\"　\"&$E30&\"'!B\"&DI$1),\nIF(AND(DG$9<>\"\",$H$3=\"実績\"),INDIRECT(\"'\"&$D30&\"　\"&$E30&\"'!C\"&DI$1),\n\"\"))=\"対象外\",\"対象外\",DG30/DH30),\"\")","v":""},{"$f":"IFERROR(IF(AND(DJ$9<>\"\",$H$3=\"計画\"),INDIRECT(\"'\"&$D30&\"　\"&$E30&\"'!B\"&DJ$1),\nIF(AND(DJ$9<>\"\",$H$3=\"実績\"),INDIRECT(\"'\"&$D30&\"　\"&$E30&\"'!C\"&DJ$1),\n\"\")),\"\")","v":""},{"$f":"IFERROR(IF(AND(DJ$9<>\"\",$H$3=\"計画\"),INDIRECT(\"'\"&$D30&\"　\"&$E30&\"'!B\"&DK$1),\nIF(AND(DJ$9<>\"\",$H$3=\"実績\"),INDIRECT(\"'\"&$D30&\"　\"&$E30&\"'!C\"&DK$1),\n\"\")),\"\")","v":""},{"$f":"IFERROR(IF(IF(AND(DJ$9<>\"\",$H$3=\"計画\"),INDIRECT(\"'\"&$D30&\"　\"&$E30&\"'!B\"&DL$1),\nIF(AND(DJ$9<>\"\",$H$3=\"実績\"),INDIRECT(\"'\"&$D30&\"　\"&$E30&\"'!C\"&DL$1),\n\"\"))=\"対象外\",\"対象外\",DJ30/DK30),\"\")","v":""}]
[null,null,null,null,null,"休暇率　（平均）",null,{"$f":"IF(COUNTIF(H$11:H30,\"\")=ROWS(H$11:H30)*COLUMNS(H$11:H30),\"\",\nIFERROR(AVERAGE(H$11:H30),\"対象外\"))","v":""},null,null,{"$f":"IF(COUNTIF(K$11:K30,\"\")=ROWS(K$11:K30)*COLUMNS(K$11:K30),\"\",\nIFERROR(AVERAGE(K$11:K30),\"対象外\"))","v":""},null,null,{"$f":"IF(COUNTIF(N$11:N30,\"\")=ROWS(N$11:N30)*COLUMNS(N$11:N30),\"\",\nIFERROR(AVERAGE(N$11:N30),\"対象外\"))","v":""},null,null,{"$f":"IF(COUNTIF(Q$11:Q30,\"\")=ROWS(Q$11:Q30)*COLUMNS(Q$11:Q30),\"\",\nIFERROR(AVERAGE(Q$11:Q30),\"対象外\"))","v":""},null,null,{"$f":"IF(COUNTIF(T$11:T30,\"\")=ROWS(T$11:T30)*COLUMNS(T$11:T30),\"\",\nIFERROR(AVERAGE(T$11:T30),\"対象外\"))","v":""},null,null,{"$f":"IF(COUNTIF(W$11:W30,\"\")=ROWS(W$11:W30)*COLUMNS(W$11:W30),\"\",\nIFERROR(AVERAGE(W$11:W30),\"対象外\"))","v":""},null,null,{"$f":"IF(COUNTIF(Z$11:Z30,\"\")=ROWS(Z$11:Z30)*COLUMNS(Z$11:Z30),\"\",\nIFERROR(AVERAGE(Z$11:Z30),\"対象外\"))","v":""},null,null,{"$f":"IF(COUNTIF(AC$11:AC30,\"\")=ROWS(AC$11:AC30)*COLUMNS(AC$11:AC30),\"\",\nIFERROR(AVERAGE(AC$11:AC30),\"対象外\"))","v":""},null,null,{"$f":"IF(COUNTIF(AF$11:AF30,\"\")=ROWS(AF$11:AF30)*COLUMNS(AF$11:AF30),\"\",\nIFERROR(AVERAGE(AF$11:AF30),\"対象外\"))","v":""},null,null,{"$f":"IF(COUNTIF(AI$11:AI30,\"\")=ROWS(AI$11:AI30)*COLUMNS(AI$11:AI30),\"\",\nIFERROR(AVERAGE(AI$11:AI30),\"対象外\"))","v":""},null,null,{"$f":"IF(COUNTIF(AL$11:AL30,\"\")=ROWS(AL$11:AL30)*COLUMNS(AL$11:AL30),\"\",\nIFERROR(AVERAGE(AL$11:AL30),\"対象外\"))","v":""},null,null,{"$f":"IF(COUNTIF(AO$11:AO30,\"\")=ROWS(AO$11:AO30)*COLUMNS(AO$11:AO30),\"\",\nIFERROR(AVERAGE(AO$11:AO30),\"対象外\"))","v":""},null,null,{"$f":"IF(COUNTIF(AR$11:AR30,\"\")=ROWS(AR$11:AR30)*COLUMNS(AR$11:AR30),\"\",\nIFERROR(AVERAGE(AR$11:AR30),\"対象外\"))","v":""},null,null,{"$f":"IF(COUNTIF(AU$11:AU30,\"\")=ROWS(AU$11:AU30)*COLUMNS(AU$11:AU30),\"\",\nIFERROR(AVERAGE(AU$11:AU30),\"対象外\"))","v":""},null,null,{"$f":"IF(COUNTIF(AX$11:AX30,\"\")=ROWS(AX$11:AX30)*COLUMNS(AX$11:AX30),\"\",\nIFERROR(AVERAGE(AX$11:AX30),\"対象外\"))","v":""},null,null,{"$f":"IF(COUNTIF(BA$11:BA30,\"\")=ROWS(BA$11:BA30)*COLUMNS(BA$11:BA30),\"\",\nIFERROR(AVERAGE(BA$11:BA30),\"対象外\"))","v":""},null,null,{"$f":"IF(COUNTIF(BD$11:BD30,\"\")=ROWS(BD$11:BD30)*COLUMNS(BD$11:BD30),\"\",\nIFERROR(AVERAGE(BD$11:BD30),\"対象外\"))","v":""},null,null,{"$f":"IF(COUNTIF(BG$11:BG30,\"\")=ROWS(BG$11:BG30)*COLUMNS(BG$11:BG30),\"\",\nIFERROR(AVERAGE(BG$11:BG30),\"対象外\"))","v":""},null,null,{"$f":"IF(COUNTIF(BJ$11:BJ30,\"\")=ROWS(BJ$11:BJ30)*COLUMNS(BJ$11:BJ30),\"\",\nIFERROR(AVERAGE(BJ$11:BJ30),\"対象外\"))","v":""},null,null,{"$f":"IF(COUNTIF(BM$11:BM30,\"\")=ROWS(BM$11:BM30)*COLUMNS(BM$11:BM30),\"\",\nIFERROR(AVERAGE(BM$11:BM30),\"対象外\"))","v":""},null,null,{"$f":"IF(COUNTIF(BP$11:BP30,\"\")=ROWS(BP$11:BP30)*COLUMNS(BP$11:BP30),\"\",\nIFERROR(AVERAGE(BP$11:BP30),\"対象外\"))","v":""},null,null,{"$f":"IF(COUNTIF(BS$11:BS30,\"\")=ROWS(BS$11:BS30)*COLUMNS(BS$11:BS30),\"\",\nIFERROR(AVERAGE(BS$11:BS30),\"対象外\"))","v":""},null,null,{"$f":"IF(COUNTIF(BV$11:BV30,\"\")=ROWS(BV$11:BV30)*COLUMNS(BV$11:BV30),\"\",\nIFERROR(AVERAGE(BV$11:BV30),\"対象外\"))","v":""},null,null,{"$f":"IF(COUNTIF(BY$11:BY30,\"\")=ROWS(BY$11:BY30)*COLUMNS(BY$11:BY30),\"\",\nIFERROR(AVERAGE(BY$11:BY30),\"対象外\"))","v":""},null,null,{"$f":"IF(COUNTIF(CB$11:CB30,\"\")=ROWS(CB$11:CB30)*COLUMNS(CB$11:CB30),\"\",\nIFERROR(AVERAGE(CB$11:CB30),\"対象外\"))","v":""},null,null,{"$f":"IF(COUNTIF(CE$11:CE30,\"\")=ROWS(CE$11:CE30)*COLUMNS(CE$11:CE30),\"\",\nIFERROR(AVERAGE(CE$11:CE30),\"対象外\"))","v":""},null,null,{"$f":"IF(COUNTIF(CH$11:CH30,\"\")=ROWS(CH$11:CH30)*COLUMNS(CH$11:CH30),\"\",\nIFERROR(AVERAGE(CH$11:CH30),\"対象外\"))","v":""},null,null,{"$f":"IF(COUNTIF(CK$11:CK30,\"\")=ROWS(CK$11:CK30)*COLUMNS(CK$11:CK30),\"\",\nIFERROR(AVERAGE(CK$11:CK30),\"対象外\"))","v":""},null,null,{"$f":"IF(COUNTIF(CN$11:CN30,\"\")=ROWS(CN$11:CN30)*COLUMNS(CN$11:CN30),\"\",\nIFERROR(AVERAGE(CN$11:CN30),\"対象外\"))","v":""},null,null,{"$f":"IF(COUNTIF(CQ$11:CQ30,\"\")=ROWS(CQ$11:CQ30)*COLUMNS(CQ$11:CQ30),\"\",\nIFERROR(AVERAGE(CQ$11:CQ30),\"対象外\"))","v":""},null,null,{"$f":"IF(COUNTIF(CT$11:CT30,\"\")=ROWS(CT$11:CT30)*COLUMNS(CT$11:CT30),\"\",\nIFERROR(AVERAGE(CT$11:CT30),\"対象外\"))","v":""},null,null,{"$f":"IF(COUNTIF(CW$11:CW30,\"\")=ROWS(CW$11:CW30)*COLUMNS(CW$11:CW30),\"\",\nIFERROR(AVERAGE(CW$11:CW30),\"対象外\"))","v":""},null,null,{"$f":"IF(COUNTIF(CZ$11:CZ30,\"\")=ROWS(CZ$11:CZ30)*COLUMNS(CZ$11:CZ30),\"\",\nIFERROR(AVERAGE(CZ$11:CZ30),\"対象外\"))","v":""},null,null,{"$f":"IF(COUNTIF(DC$11:DC30,\"\")=ROWS(DC$11:DC30)*COLUMNS(DC$11:DC30),\"\",\nIFERROR(AVERAGE(DC$11:DC30),\"対象外\"))","v":""},null,null,{"$f":"IF(COUNTIF(DF$11:DF30,\"\")=ROWS(DF$11:DF30)*COLUMNS(DF$11:DF30),\"\",\nIFERROR(AVERAGE(DF$11:DF30),\"対象外\"))","v":""},null,null,{"$f":"IF(COUNTIF(DI$11:DI30,\"\")=ROWS(DI$11:DI30)*COLUMNS(DI$11:DI30),\"\",\nIFERROR(AVERAGE(DI$11:DI30),\"対象外\"))","v":""},null,null,{"$f":"IF(COUNTIF(DL$11:DL30,\"\")=ROWS(DL$11:DL30)*COLUMNS(DL$11:DL30),\"\",\nIFERROR(AVERAGE(DL$11:DL30),\"対象外\"))","v":""}]
[null,null,null,null,null,"休暇率　（判定）",null,null,null,null,{"$f":"IF(K31=\"\",\"\",\nIF(K31<原稿!$C$1,\"×\",\"○\"))","v":""},null,null,{"$f":"IF(N31=\"\",\"\",\nIF(N31<原稿!$C$1,\"×\",\"○\"))","v":""},null,null,{"$f":"IF(Q31=\"\",\"\",\nIF(Q31<原稿!$C$1,\"×\",\"○\"))","v":""},null,null,{"$f":"IF(T31=\"\",\"\",\nIF(T31<原稿!$C$1,\"×\",\"○\"))","v":""},null,null,{"$f":"IF(W31=\"\",\"\",\nIF(W31<原稿!$C$1,\"×\",\"○\"))","v":""},null,null,{"$f":"IF(Z31=\"\",\"\",\nIF(Z31<原稿!$C$1,\"×\",\"○\"))","v":""},null,null,{"$f":"IF(AC31=\"\",\"\",\nIF(AC31<原稿!$C$1,\"×\",\"○\"))","v":""},null,null,{"$f":"IF(AF31=\"\",\"\",\nIF(AF31<原稿!$C$1,\"×\",\"○\"))","v":""},null,null,{"$f":"IF(AI31=\"\",\"\",\nIF(AI31<原稿!$C$1,\"×\",\"○\"))","v":""},null,null,{"$f":"IF(AL31=\"\",\"\",\nIF(AL31<原稿!$C$1,\"×\",\"○\"))","v":""},null,null,{"$f":"IF(AO31=\"\",\"\",\nIF(AO31<原稿!$C$1,\"×\",\"○\"))","v":""},null,null,{"$f":"IF(AR31=\"\",\"\",\nIF(AR31<原稿!$C$1,\"×\",\"○\"))","v":""},null,null,{"$f":"IF(AU31=\"\",\"\",\nIF(AU31<原稿!$C$1,\"×\",\"○\"))","v":""},null,null,{"$f":"IF(AX31=\"\",\"\",\nIF(AX31<原稿!$C$1,\"×\",\"○\"))","v":""},null,null,{"$f":"IF(BA31=\"\",\"\",\nIF(BA31<原稿!$C$1,\"×\",\"○\"))","v":""},null,null,{"$f":"IF(BD31=\"\",\"\",\nIF(BD31<原稿!$C$1,\"×\",\"○\"))","v":""},null,null,{"$f":"IF(BG31=\"\",\"\",\nIF(BG31<原稿!$C$1,\"×\",\"○\"))","v":""},null,null,{"$f":"IF(BJ31=\"\",\"\",\nIF(BJ31<原稿!$C$1,\"×\",\"○\"))","v":""},null,null,{"$f":"IF(BM31=\"\",\"\",\nIF(BM31<原稿!$C$1,\"×\",\"○\"))","v":""},null,null,{"$f":"IF(BP31=\"\",\"\",\nIF(BP31<原稿!$C$1,\"×\",\"○\"))","v":""},null,null,{"$f":"IF(BS31=\"\",\"\",\nIF(BS31<原稿!$C$1,\"×\",\"○\"))","v":""},null,null,{"$f":"IF(BV31=\"\",\"\",\nIF(BV31<原稿!$C$1,\"×\",\"○\"))","v":""},null,null,{"$f":"IF(BY31=\"\",\"\",\nIF(BY31<原稿!$C$1,\"×\",\"○\"))","v":""},null,null,{"$f":"IF(CB31=\"\",\"\",\nIF(CB31<原稿!$C$1,\"×\",\"○\"))","v":""},null,null,{"$f":"IF(CE31=\"\",\"\",\nIF(CE31<原稿!$C$1,\"×\",\"○\"))","v":""},null,null,{"$f":"IF(CH31=\"\",\"\",\nIF(CH31<原稿!$C$1,\"×\",\"○\"))","v":""},null,null,{"$f":"IF(CK31=\"\",\"\",\nIF(CK31<原稿!$C$1,\"×\",\"○\"))","v":""},null,null,{"$f":"IF(CN31=\"\",\"\",\nIF(CN31<原稿!$C$1,\"×\",\"○\"))","v":""},null,null,{"$f":"IF(CQ31=\"\",\"\",\nIF(CQ31<原稿!$C$1,\"×\",\"○\"))","v":""},null,null,{"$f":"IF(CT31=\"\",\"\",\nIF(CT31<原稿!$C$1,\"×\",\"○\"))","v":""},null,null,{"$f":"IF(CW31=\"\",\"\",\nIF(CW31<原稿!$C$1,\"×\",\"○\"))","v":""},null,null,{"$f":"IF(CZ31=\"\",\"\",\nIF(CZ31<原稿!$C$1,\"×\",\"○\"))","v":""},null,null,{"$f":"IF(DC31=\"\",\"\",\nIF(DC31<原稿!$C$1,\"×\",\"○\"))","v":""},null,null,{"$f":"IF(DF31=\"\",\"\",\nIF(DF31<原稿!$C$1,\"×\",\"○\"))","v":""},null,null,{"$f":"IF(DI31=\"\",\"\",\nIF(DI31<原稿!$C$1,\"×\",\"○\"))","v":""},null,null,{"$f":"IF(DL31=\"\",\"\",\nIF(DL31<原稿!$C$1,\"×\",\"○\"))","v":""}]
[null,null,null,null,null,"成績加点（判定）",null,null,null,null,{"$f":"IF(COUNTIF(K$11:K30,\"\")=ROWS(K$11:K30)*COLUMNS(K$11:K30),\"\",\nIF(COUNTIF(K$11:K30,\"<\"&原稿!$C$1)>0,\"×\",\"○\"))","v":""},null,null,{"$f":"IF(COUNTIF(N$11:N30,\"\")=ROWS(N$11:N30)*COLUMNS(N$11:N30),\"\",\nIF(COUNTIF(N$11:N30,\"<\"&原稿!$C$1)>0,\"×\",\"○\"))","v":""},null,null,{"$f":"IF(COUNTIF(Q$11:Q30,\"\")=ROWS(Q$11:Q30)*COLUMNS(Q$11:Q30),\"\",\nIF(COUNTIF(Q$11:Q30,\"<\"&原稿!$C$1)>0,\"×\",\"○\"))","v":""},null,null,{"$f":"IF(COUNTIF(T$11:T30,\"\")=ROWS(T$11:T30)*COLUMNS(T$11:T30),\"\",\nIF(COUNTIF(T$11:T30,\"<\"&原稿!$C$1)>0,\"×\",\"○\"))","v":""},null,null,{"$f":"IF(COUNTIF(W$11:W30,\"\")=ROWS(W$11:W30)*COLUMNS(W$11:W30),\"\",\nIF(COUNTIF(W$11:W30,\"<\"&原稿!$C$1)>0,\"×\",\"○\"))","v":""},null,null,{"$f":"IF(COUNTIF(Z$11:Z30,\"\")=ROWS(Z$11:Z30)*COLUMNS(Z$11:Z30),\"\",\nIF(COUNTIF(Z$11:Z30,\"<\"&原稿!$C$1)>0,\"×\",\"○\"))","v":""},null,null,{"$f":"IF(COUNTIF(AC$11:AC30,\"\")=ROWS(AC$11:AC30)*COLUMNS(AC$11:AC30),\"\",\nIF(COUNTIF(AC$11:AC30,\"<\"&原稿!$C$1)>0,\"×\",\"○\"))","v":""},null,null,{"$f":"IF(COUNTIF(AF$11:AF30,\"\")=ROWS(AF$11:AF30)*COLUMNS(AF$11:AF30),\"\",\nIF(COUNTIF(AF$11:AF30,\"<\"&原稿!$C$1)>0,\"×\",\"○\"))","v":""},null,null,{"$f":"IF(COUNTIF(AI$11:AI30,\"\")=ROWS(AI$11:AI30)*COLUMNS(AI$11:AI30),\"\",\nIF(COUNTIF(AI$11:AI30,\"<\"&原稿!$C$1)>0,\"×\",\"○\"))","v":""},null,null,{"$f":"IF(COUNTIF(AL$11:AL30,\"\")=ROWS(AL$11:AL30)*COLUMNS(AL$11:AL30),\"\",\nIF(COUNTIF(AL$11:AL30,\"<\"&原稿!$C$1)>0,\"×\",\"○\"))","v":""},null,null,{"$f":"IF(COUNTIF(AO$11:AO30,\"\")=ROWS(AO$11:AO30)*COLUMNS(AO$11:AO30),\"\",\nIF(COUNTIF(AO$11:AO30,\"<\"&原稿!$C$1)>0,\"×\",\"○\"))","v":""},null,null,{"$f":"IF(COUNTIF(AR$11:AR30,\"\")=ROWS(AR$11:AR30)*COLUMNS(AR$11:AR30),\"\",\nIF(COUNTIF(AR$11:AR30,\"<\"&原稿!$C$1)>0,\"×\",\"○\"))","v":""},null,null,{"$f":"IF(COUNTIF(AU$11:AU30,\"\")=ROWS(AU$11:AU30)*COLUMNS(AU$11:AU30),\"\",\nIF(COUNTIF(AU$11:AU30,\"<\"&原稿!$C$1)>0,\"×\",\"○\"))","v":""},null,null,{"$f":"IF(COUNTIF(AX$11:AX30,\"\")=ROWS(AX$11:AX30)*COLUMNS(AX$11:AX30),\"\",\nIF(COUNTIF(AX$11:AX30,\"<\"&原稿!$C$1)>0,\"×\",\"○\"))","v":""},null,null,{"$f":"IF(COUNTIF(BA$11:BA30,\"\")=ROWS(BA$11:BA30)*COLUMNS(BA$11:BA30),\"\",\nIF(COUNTIF(BA$11:BA30,\"<\"&原稿!$C$1)>0,\"×\",\"○\"))","v":""},null,null,{"$f":"IF(COUNTIF(BD$11:BD30,\"\")=ROWS(BD$11:BD30)*COLUMNS(BD$11:BD30),\"\",\nIF(COUNTIF(BD$11:BD30,\"<\"&原稿!$C$1)>0,\"×\",\"○\"))","v":""},null,null,{"$f":"IF(COUNTIF(BG$11:BG30,\"\")=ROWS(BG$11:BG30)*COLUMNS(BG$11:BG30),\"\",\nIF(COUNTIF(BG$11:BG30,\"<\"&原稿!$C$1)>0,\"×\",\"○\"))","v":""},null,null,{"$f":"IF(COUNTIF(BJ$11:BJ30,\"\")=ROWS(BJ$11:BJ30)*COLUMNS(BJ$11:BJ30),\"\",\nIF(COUNTIF(BJ$11:BJ30,\"<\"&原稿!$C$1)>0,\"×\",\"○\"))","v":""},null,null,{"$f":"IF(COUNTIF(BM$11:BM30,\"\")=ROWS(BM$11:BM30)*COLUMNS(BM$11:BM30),\"\",\nIF(COUNTIF(BM$11:BM30,\"<\"&原稿!$C$1)>0,\"×\",\"○\"))","v":""},null,null,{"$f":"IF(COUNTIF(BP$11:BP30,\"\")=ROWS(BP$11:BP30)*COLUMNS(BP$11:BP30),\"\",\nIF(COUNTIF(BP$11:BP30,\"<\"&原稿!$C$1)>0,\"×\",\"○\"))","v":""},null,null,{"$f":"IF(COUNTIF(BS$11:BS30,\"\")=ROWS(BS$11:BS30)*COLUMNS(BS$11:BS30),\"\",\nIF(COUNTIF(BS$11:BS30,\"<\"&原稿!$C$1)>0,\"×\",\"○\"))","v":""},null,null,{"$f":"IF(COUNTIF(BV$11:BV30,\"\")=ROWS(BV$11:BV30)*COLUMNS(BV$11:BV30),\"\",\nIF(COUNTIF(BV$11:BV30,\"<\"&原稿!$C$1)>0,\"×\",\"○\"))","v":""},null,null,{"$f":"IF(COUNTIF(BY$11:BY30,\"\")=ROWS(BY$11:BY30)*COLUMNS(BY$11:BY30),\"\",\nIF(COUNTIF(BY$11:BY30,\"<\"&原稿!$C$1)>0,\"×\",\"○\"))","v":""},null,null,{"$f":"IF(COUNTIF(CB$11:CB30,\"\")=ROWS(CB$11:CB30)*COLUMNS(CB$11:CB30),\"\",\nIF(COUNTIF(CB$11:CB30,\"<\"&原稿!$C$1)>0,\"×\",\"○\"))","v":""},null,null,{"$f":"IF(COUNTIF(CE$11:CE30,\"\")=ROWS(CE$11:CE30)*COLUMNS(CE$11:CE30),\"\",\nIF(COUNTIF(CE$11:CE30,\"<\"&原稿!$C$1)>0,\"×\",\"○\"))","v":""},null,null,{"$f":"IF(COUNTIF(CH$11:CH30,\"\")=ROWS(CH$11:CH30)*COLUMNS(CH$11:CH30),\"\",\nIF(COUNTIF(CH$11:CH30,\"<\"&原稿!$C$1)>0,\"×\",\"○\"))","v":""},null,null,{"$f":"IF(COUNTIF(CK$11:CK30,\"\")=ROWS(CK$11:CK30)*COLUMNS(CK$11:CK30),\"\",\nIF(COUNTIF(CK$11:CK30,\"<\"&原稿!$C$1)>0,\"×\",\"○\"))","v":""},null,null,{"$f":"IF(COUNTIF(CN$11:CN30,\"\")=ROWS(CN$11:CN30)*COLUMNS(CN$11:CN30),\"\",\nIF(COUNTIF(CN$11:CN30,\"<\"&原稿!$C$1)>0,\"×\",\"○\"))","v":""},null,null,{"$f":"IF(COUNTIF(CQ$11:CQ30,\"\")=ROWS(CQ$11:CQ30)*COLUMNS(CQ$11:CQ30),\"\",\nIF(COUNTIF(CQ$11:CQ30,\"<\"&原稿!$C$1)>0,\"×\",\"○\"))","v":""},null,null,{"$f":"IF(COUNTIF(CT$11:CT30,\"\")=ROWS(CT$11:CT30)*COLUMNS(CT$11:CT30),\"\",\nIF(COUNTIF(CT$11:CT30,\"<\"&原稿!$C$1)>0,\"×\",\"○\"))","v":""},null,null,{"$f":"IF(COUNTIF(CW$11:CW30,\"\")=ROWS(CW$11:CW30)*COLUMNS(CW$11:CW30),\"\",\nIF(COUNTIF(CW$11:CW30,\"<\"&原稿!$C$1)>0,\"×\",\"○\"))","v":""},null,null,{"$f":"IF(COUNTIF(CZ$11:CZ30,\"\")=ROWS(CZ$11:CZ30)*COLUMNS(CZ$11:CZ30),\"\",\nIF(COUNTIF(CZ$11:CZ30,\"<\"&原稿!$C$1)>0,\"×\",\"○\"))","v":""},null,null,{"$f":"IF(COUNTIF(DC$11:DC30,\"\")=ROWS(DC$11:DC30)*COLUMNS(DC$11:DC30),\"\",\nIF(COUNTIF(DC$11:DC30,\"<\"&原稿!$C$1)>0,\"×\",\"○\"))","v":""},null,null,{"$f":"IF(COUNTIF(DF$11:DF30,\"\")=ROWS(DF$11:DF30)*COLUMNS(DF$11:DF30),\"\",\nIF(COUNTIF(DF$11:DF30,\"<\"&原稿!$C$1)>0,\"×\",\"○\"))","v":""},null,null,{"$f":"IF(COUNTIF(DI$11:DI30,\"\")=ROWS(DI$11:DI30)*COLUMNS(DI$11:DI30),\"\",\nIF(COUNTIF(DI$11:DI30,\"<\"&原稿!$C$1)>0,\"×\",\"○\"))","v":""},null,null,{"$f":"IF(COUNTIF(DL$11:DL30,\"\")=ROWS(DL$11:DL30)*COLUMNS(DL$11:DL30),\"\",\nIF(COUNTIF(DL$11:DL30,\"<\"&原稿!$C$1)>0,\"×\",\"○\"))","v":""}]