{"text_format":"1","workbook":"xlsx","n_sheets":13,"sheets":["入力要領・学校名入力","小1","小2","小3","小4","小5","小6","児童記録票","生活ア回答用紙","目標値（例）","ふりかえりシート（印刷用）","計算式シート","判定式"],"not_rendered":{"charts":116,"images":8,"macros":1,"external_links":0,"defined_names":17,"comments":0,"pivot_tables":0},"unopened":[],"bounds":{"document_bytes":16777216,"sheet_cells":100000,"rows_first":2000,"rows_last":500,"rows_between":2000,"halvings":0,"cell_chars":16384,"cell_head_chars":4096},"cells_cut":0,"cells_raw":0,"read":"whole","date_system":"1900"}

{"sheet":"入力要領・学校名入力","index":0,"n_rows":30,"n_cols":9,"rows_kept":30,"cut":false,"hidden":false,"merged":[[28,2,28,10],[6,2,6,10],[19,2,19,10],[10,2,10,10],[11,2,11,10],[12,2,12,10],[13,2,13,10],[14,2,14,10],[15,2,15,10],[16,2,16,10],[25,2,25,10],[22,2,22,10],[2,1,2,7],[0,1,0,10],[1,7,1,10],[7,2,7,10],[4,5,4,6]]}
[null,"三重県児童生徒の体力・運動能力調査"]
[null,null,null,null,"年度",null,"学校名"]
[null,null,null,null,null,null,null,null,"例：○○市町立△△小学校"]
[null,null,null,null,null,"シートの保護解除",null,"　"]
[null,null,null,null,null,"全シート共通　mie"]
[null,"１．学校名入力について"]
[null,"①","セルD2に年度を入力してください。各シートに反映します。"]
[null,"②","セルH２に学校名を入力してください。"]
[]
[null,"２．各学年シートについて"]
[null,"①","名前は、抽出調査提出時には入力されていなくてもかまいません。"]
[null,"②","年齢は、誕生日に関係なく同じ学年であれば同じ年齢です。"]
[null,"③","男子の入力欄の下に女子の入力欄があります。"]
[null,"④","調査項目欄に数値等を入力するとセル枠が白色に変わります。"]
[null,"⑤","未実施種目は、自動計算により入力されます。"]
[null,"⑥","「シートの保護」を解除する場合のパスワードは、mieです。"]
[null,"⑦","６年生のみ生活アンケートを実施し、回答結果を入力してください。"]
[]
[null,"３．児童記録票について…自己目標を記入することができます。"]
[null,"①","【ファイル】⇒【印刷】⇒設定　により、印刷するページを指定して印刷してください。"]
[]
[null,"４．生活アンケート回答用紙について…実施対象６年生"]
[null,"①","【ファイル】⇒【印刷】により、印刷してください。"]
[]
[null,"５．目標値（例）"]
[null,"①","三重県抽出結果、全国体力・運動能力、運動習慣等調査結果を加味して、設定してあります。"]
[]
[null,"６．ふりかえりシートについて"]
[null,"①","各学年の入力が終了すれば、自動計算されます。"]
[null,"②","１６ページ分印刷されます。"]

{"sheet":"小1","index":1,"n_rows":269,"n_cols":22,"rows_kept":269,"cut":false,"hidden":false,"merged":[[146,3,148,3],[147,12,148,12],[147,13,148,13],[147,14,148,14],[18,19,19,19],[18,15,19,15],[18,16,19,16],[18,17,19,17],[146,12,146,19],[146,4,146,11],[147,19,148,19],[147,15,148,15],[147,16,148,16],[147,17,148,17],[147,18,148,18],[18,14,19,14],[17,3,19,3],[18,12,19,12],[18,13,19,13],[1,2,1,5],[17,12,17,19],[18,18,19,18],[3,13,3,19],[4,2,7,2],[7,14,7,16],[8,2,11,2],[11,14,11,16],[17,4,17,11]]}
[null,{"$f":"IF(入力要領・学校名入力!D2=0,\"\",入力要領・学校名入力!D2)","v":""},"年度","三重県体力・運動能力調査実技種目（新体力テスト）集計表"]
[null,"学校名",{"$f":"IF(入力要領・学校名入力!H2=0,\"\",入力要領・学校名入力!H2)","v":""},null,null,null,"「年度」「学校名」は【入力要領・学校名入力】シートにて行ってください。"]
[]
[null,"集計速報値",null,"種目","握力","上体起こし","長座体前屈","反復横とび","20mシャトルラン","５０ｍ走","立ち幅とび","ｿﾌﾄﾎﾞｰﾙ投げ","体力合計点","総合評価"]
[null,null,"小１\n男子","標本数",{"$f":"COUNT(E21:E140)","v":0},0,0,0,0,0,0,0,{"$f":"COUNT(U21:U140)","v":0},"判定","A","B","C","D","E","判定外"]
[null,null,null,"平均",{"$f":"IF(ISERROR(AVERAGE(E21:E140)),\"\",AVERAGE(E21:E140))","v":""},"","","","","","","",{"$f":"IF(ISERROR(AVERAGE(U21:U140)),\"\",AVERAGE(U21:U140))","v":""},"人数",{"$f":"COUNTIF($V21:$V140,\"A\")","v":0},{"$f":"COUNTIF($V21:$V140,\"B\")","v":0},{"$f":"COUNTIF($V21:$V140,\"C\")","v":0},{"$f":"COUNTIF($V21:$V140,\"d\")","v":0},{"$f":"COUNTIF($V21:$V140,\"e\")","v":0},{"$f":"COUNTIF($V21:$V140,\"判定外\")","v":0}]
[null,null,null,"標準偏差",{"$f":"IF(ISERROR(STDEV(E21:E140)),\"\",STDEV(E21:E140))","v":""},"","","","","","","",{"$f":"IF(ISERROR(STDEV(U21:U140)),\"\",STDEV(U21:U140))","v":""},"割合",{"$f":"IFERROR(O6/SUM($O$6:$S$6),0)","v":0},{"$f":"IFERROR(P6/SUM($O$6:$S$6),0)","v":0},0,0,0]
[null,null,null,"目標値",9,11,26,28,18,11.7,110,9,29,"ABC",{"$f":"SUM(O7:Q7)","v":0},null,null,"AB－DE",{"$f":"(+O7+P7)-(R7+S7)","v":0}]
[null,null,"小１\n女子","標本数",{"$f":"COUNT(E150:E269)","v":0},{"$f":"COUNT(F150:F269)","v":0},0,0,0,0,0,0,{"$f":"COUNT(U150:U269)","v":0},"判定","A","B","C","D","E","判定外"]
[null,null,null,"平均",{"$f":"IF(ISERROR(AVERAGE(E150:E269)),\"\",AVERAGE(E150:E269))","v":""},"","","","","","","",{"$f":"IF(ISERROR(AVERAGE(U150:U269)),\"\",AVERAGE(U150:U269))","v":""},"人数",{"$f":"COUNTIF($V150:$V269,\"A\")","v":0},{"$f":"COUNTIF($V150:$V269,\"B\")","v":0},{"$f":"COUNTIF($V150:$V269,\"C\")","v":0},{"$f":"COUNTIF($V150:$V269,\"d\")","v":0},{"$f":"COUNTIF($V150:$V269,\"e\")","v":0},{"$f":"COUNTIF($V150:$V269,\"判定外\")","v":0}]
[null,null,null,"標準偏差",{"$f":"IF(ISERROR(STDEV(E150:E269)),\"\",STDEV(E150:E269))","v":""},"","","","","","","",{"$f":"IF(ISERROR(STDEV(U150:U269)),\"\",STDEV(U150:U269))","v":""},"割合",{"$f":"IFERROR(O10/SUM($O$10:$S$10),0)","v":0},{"$f":"IFERROR(P10/SUM($O$10:$S$10),0)","v":0},0,0,0]
[null,null,null,"目標値",9,10,29,27,15,11.9,104,6,31,"ABC",{"$f":"SUM(O11:Q11)","v":0},null,null,"AB－DE",{"$f":"(+O11+P11)-(R11+S11)","v":0}]
[]
[null,"男子入力欄（女子は下段）"]
[]
[null,"提出時、名前記入は任意","年齢は、全員６",null,null,null,null,"５０m走は、1/100秒を切り上げて、「例：9.72→9.8」のように1/１０秒単位を入力する"]
[null,"小１　男子",6,"自動","整数","整数","整数","整数","整数","小数第１位","整数","整数"]
[null,null,"年齢","未実施\n項目数","調　　査　　項　　目　　記　　録",null,null,null,null,null,null,null,"実技種目得点"]
["Ｎｏ．","名前","半角",null,"握力","上体起こし","長座体前屈","反復横とび","シャトルラン","５０ｍ走","立ち幅とび","ﾎﾞｰﾙ投げ","握力","上体\n起こし","長座\n体前屈","反復\n横跳び","ｼｬﾄﾙ\nﾗﾝ","50ｍ\n走","立ち\n幅とび","ボール\n投げ","体力","総合"]
[null,null,6,null,"（ｋｇ）","（回）","（ｃｍ）","（回）","（回）","（秒）","（ｃｍ）","（ｍ）",null,null,null,null,null,null,null,null,"合計点","評価"]
[1,null,null,{"$f":"IF(COUNTBLANK(E21:L21)=0,\"\",IF(COUNTBLANK(E21:L21)=8,\"-\",COUNTBLANK(E21:L21)))","v":"-"},null,null,null,null,null,null,null,null,{"$f":"IF(E21=\"\",\"\",VLOOKUP(E21,判定式!C$3:$J$12,8,TRUE))","v":""},{"$f":"IF(F21=\"\",\"\",VLOOKUP(F21,判定式!D$3:$J$12,7,TRUE))","v":""},{"$f":"IF(G21=\"\",\"\",VLOOKUP(G21,判定式!E$3:$J$12,6,TRUE))","v":""},{"$f":"IF(H21=\"\",\"\",VLOOKUP(H21,判定式!F$3:$J$12,5,TRUE))","v":""},{"$f":"IF(I21=\"\",\"\",VLOOKUP(I21,判定式!I$3:$J$12,2,TRUE))","v":""},{"$f":"IF(J21=\"\",\"\",VLOOKUP(J21,判定式!L$3:$M$12,2,TRUE))","v":""},{"$f":"IF(K21=\"\",\"\",VLOOKUP(K21,判定式!G$3:$J$12,4,TRUE))","v":""},{"$f":"IF(L21=\"\",\"\",VLOOKUP(L21,判定式!H$3:$J$12,3,TRUE))","v":""},{"$f":"IF(COUNTBLANK(M21:T21)=0,SUM(M21:T21),\"\")","v":""},{"$f":"IF(ISNUMBER(D21),\"判定外\",IF(C21=6,VLOOKUP(U21,判定式!$C$15:I$19,7,TRUE),IF(C21=7,VLOOKUP(U21,判定式!$D$15:I$19,6,TRUE),IF(C21=8,VLOOKUP(U21,判定式!$E$15:I$19,5,TRUE),IF(C21=9,VLOOKUP(U21,判定式!$F$15:I$19,4,TRUE),IF(C21=10,VLOOKUP(U21,判定式!$G$15:I$19,3,TRUE),IF(C21=11,VLOOKUP(U21,判定式!$H$15:I$19,2,TRUE))))))))","v":false}]
[2,null,null,"-",null,null,null,null,null,null,null,null,{"$f":"IF(E22=\"\",\"\",VLOOKUP(E22,判定式!C$3:$J$12,8,TRUE))","v":""},{"$f":"IF(F22=\"\",\"\",VLOOKUP(F22,判定式!D$3:$J$12,7,TRUE))","v":""},{"$f":"IF(G22=\"\",\"\",VLOOKUP(G22,判定式!E$3:$J$12,6,TRUE))","v":""},{"$f":"IF(H22=\"\",\"\",VLOOKUP(H22,判定式!F$3:$J$12,5,TRUE))","v":""},{"$f":"IF(I22=\"\",\"\",VLOOKUP(I22,判定式!I$3:$J$12,2,TRUE))","v":""},{"$f":"IF(J22=\"\",\"\",VLOOKUP(J22,判定式!L$3:$M$12,2,TRUE))","v":""},{"$f":"IF(K22=\"\",\"\",VLOOKUP(K22,判定式!G$3:$J$12,4,TRUE))","v":""},{"$f":"IF(L22=\"\",\"\",VLOOKUP(L22,判定式!H$3:$J$12,3,TRUE))","v":""},"",{"$f":"IF(ISNUMBER(D22),\"判定外\",IF(C22=6,VLOOKUP(U22,判定式!$C$15:I$19,7,TRUE),IF(C22=7,VLOOKUP(U22,判定式!$D$15:I$19,6,TRUE),IF(C22=8,VLOOKUP(U22,判定式!$E$15:I$19,5,TRUE),IF(C22=9,VLOOKUP(U22,判定式!$F$15:I$19,4,TRUE),IF(C22=10,VLOOKUP(U22,判定式!$G$15:I$19,3,TRUE),IF(C22=11,VLOOKUP(U22,判定式!$H$15:I$19,2,TRUE))))))))","v":false}]
[3,null,null,"-",null,null,null,null,null,null,null,null,{"$f":"IF(E23=\"\",\"\",VLOOKUP(E23,判定式!C$3:$J$12,8,TRUE))","v":""},{"$f":"IF(F23=\"\",\"\",VLOOKUP(F23,判定式!D$3:$J$12,7,TRUE))","v":""},{"$f":"IF(G23=\"\",\"\",VLOOKUP(G23,判定式!E$3:$J$12,6,TRUE))","v":""},{"$f":"IF(H23=\"\",\"\",VLOOKUP(H23,判定式!F$3:$J$12,5,TRUE))","v":""},{"$f":"IF(I23=\"\",\"\",VLOOKUP(I23,判定式!I$3:$J$12,2,TRUE))","v":""},{"$f":"IF(J23=\"\",\"\",VLOOKUP(J23,判定式!L$3:$M$12,2,TRUE))","v":""},{"$f":"IF(K23=\"\",\"\",VLOOKUP(K23,判定式!G$3:$J$12,4,TRUE))","v":""},{"$f":"IF(L23=\"\",\"\",VLOOKUP(L23,判定式!H$3:$J$12,3,TRUE))","v":""},"",{"$f":"IF(ISNUMBER(D23),\"判定外\",IF(C23=6,VLOOKUP(U23,判定式!$C$15:I$19,7,TRUE),IF(C23=7,VLOOKUP(U23,判定式!$D$15:I$19,6,TRUE),IF(C23=8,VLOOKUP(U23,判定式!$E$15:I$19,5,TRUE),IF(C23=9,VLOOKUP(U23,判定式!$F$15:I$19,4,TRUE),IF(C23=10,VLOOKUP(U23,判定式!$G$15:I$19,3,TRUE),IF(C23=11,VLOOKUP(U23,判定式!$H$15:I$19,2,TRUE))))))))","v":false}]
[4,null,null,"-",null,null,null,null,null,null,null,null,{"$f":"IF(E24=\"\",\"\",VLOOKUP(E24,判定式!C$3:$J$12,8,TRUE))","v":""},{"$f":"IF(F24=\"\",\"\",VLOOKUP(F24,判定式!D$3:$J$12,7,TRUE))","v":""},{"$f":"IF(G24=\"\",\"\",VLOOKUP(G24,判定式!E$3:$J$12,6,TRUE))","v":""},{"$f":"IF(H24=\"\",\"\",VLOOKUP(H24,判定式!F$3:$J$12,5,TRUE))","v":""},{"$f":"IF(I24=\"\",\"\",VLOOKUP(I24,判定式!I$3:$J$12,2,TRUE))","v":""},{"$f":"IF(J24=\"\",\"\",VLOOKUP(J24,判定式!L$3:$M$12,2,TRUE))","v":""},{"$f":"IF(K24=\"\",\"\",VLOOKUP(K24,判定式!G$3:$J$12,4,TRUE))","v":""},{"$f":"IF(L24=\"\",\"\",VLOOKUP(L24,判定式!H$3:$J$12,3,TRUE))","v":""},"",{"$f":"IF(ISNUMBER(D24),\"判定外\",IF(C24=6,VLOOKUP(U24,判定式!$C$15:I$19,7,TRUE),IF(C24=7,VLOOKUP(U24,判定式!$D$15:I$19,6,TRUE),IF(C24=8,VLOOKUP(U24,判定式!$E$15:I$19,5,TRUE),IF(C24=9,VLOOKUP(U24,判定式!$F$15:I$19,4,TRUE),IF(C24=10,VLOOKUP(U24,判定式!$G$15:I$19,3,TRUE),IF(C24=11,VLOOKUP(U24,判定式!$H$15:I$19,2,TRUE))))))))","v":false}]
[5,null,null,"-",null,null,null,null,null,null,null,null,{"$f":"IF(E25=\"\",\"\",VLOOKUP(E25,判定式!C$3:$J$12,8,TRUE))","v":""},{"$f":"IF(F25=\"\",\"\",VLOOKUP(F25,判定式!D$3:$J$12,7,TRUE))","v":""},{"$f":"IF(G25=\"\",\"\",VLOOKUP(G25,判定式!E$3:$J$12,6,TRUE))","v":""},{"$f":"IF(H25=\"\",\"\",VLOOKUP(H25,判定式!F$3:$J$12,5,TRUE))","v":""},{"$f":"IF(I25=\"\",\"\",VLOOKUP(I25,判定式!I$3:$J$12,2,TRUE))","v":""},{"$f":"IF(J25=\"\",\"\",VLOOKUP(J25,判定式!L$3:$M$12,2,TRUE))","v":""},{"$f":"IF(K25=\"\",\"\",VLOOKUP(K25,判定式!G$3:$J$12,4,TRUE))","v":""},{"$f":"IF(L25=\"\",\"\",VLOOKUP(L25,判定式!H$3:$J$12,3,TRUE))","v":""},"",{"$f":"IF(ISNUMBER(D25),\"判定外\",IF(C25=6,VLOOKUP(U25,判定式!$C$15:I$19,7,TRUE),IF(C25=7,VLOOKUP(U25,判定式!$D$15:I$19,6,TRUE),IF(C25=8,VLOOKUP(U25,判定式!$E$15:I$19,5,TRUE),IF(C25=9,VLOOKUP(U25,判定式!$F$15:I$19,4,TRUE),IF(C25=10,VLOOKUP(U25,判定式!$G$15:I$19,3,TRUE),IF(C25=11,VLOOKUP(U25,判定式!$H$15:I$19,2,TRUE))))))))","v":false}]
[6,null,null,"-",null,null,null,null,null,null,null,null,{"$f":"IF(E26=\"\",\"\",VLOOKUP(E26,判定式!C$3:$J$12,8,TRUE))","v":""},{"$f":"IF(F26=\"\",\"\",VLOOKUP(F26,判定式!D$3:$J$12,7,TRUE))","v":""},{"$f":"IF(G26=\"\",\"\",VLOOKUP(G26,判定式!E$3:$J$12,6,TRUE))","v":""},{"$f":"IF(H26=\"\",\"\",VLOOKUP(H26,判定式!F$3:$J$12,5,TRUE))","v":""},{"$f":"IF(I26=\"\",\"\",VLOOKUP(I26,判定式!I$3:$J$12,2,TRUE))","v":""},{"$f":"IF(J26=\"\",\"\",VLOOKUP(J26,判定式!L$3:$M$12,2,TRUE))","v":""},{"$f":"IF(K26=\"\",\"\",VLOOKUP(K26,判定式!G$3:$J$12,4,TRUE))","v":""},{"$f":"IF(L26=\"\",\"\",VLOOKUP(L26,判定式!H$3:$J$12,3,TRUE))","v":""},"",{"$f":"IF(ISNUMBER(D26),\"判定外\",IF(C26=6,VLOOKUP(U26,判定式!$C$15:I$19,7,TRUE),IF(C26=7,VLOOKUP(U26,判定式!$D$15:I$19,6,TRUE),IF(C26=8,VLOOKUP(U26,判定式!$E$15:I$19,5,TRUE),IF(C26=9,VLOOKUP(U26,判定式!$F$15:I$19,4,TRUE),IF(C26=10,VLOOKUP(U26,判定式!$G$15:I$19,3,TRUE),IF(C26=11,VLOOKUP(U26,判定式!$H$15:I$19,2,TRUE))))))))","v":false}]
[7,null,null,"-",null,null,null,null,null,null,null,null,{"$f":"IF(E27=\"\",\"\",VLOOKUP(E27,判定式!C$3:$J$12,8,TRUE))","v":""},{"$f":"IF(F27=\"\",\"\",VLOOKUP(F27,判定式!D$3:$J$12,7,TRUE))","v":""},{"$f":"IF(G27=\"\",\"\",VLOOKUP(G27,判定式!E$3:$J$12,6,TRUE))","v":""},{"$f":"IF(H27=\"\",\"\",VLOOKUP(H27,判定式!F$3:$J$12,5,TRUE))","v":""},{"$f":"IF(I27=\"\",\"\",VLOOKUP(I27,判定式!I$3:$J$12,2,TRUE))","v":""},{"$f":"IF(J27=\"\",\"\",VLOOKUP(J27,判定式!L$3:$M$12,2,TRUE))","v":""},{"$f":"IF(K27=\"\",\"\",VLOOKUP(K27,判定式!G$3:$J$12,4,TRUE))","v":""},{"$f":"IF(L27=\"\",\"\",VLOOKUP(L27,判定式!H$3:$J$12,3,TRUE))","v":""},"",{"$f":"IF(ISNUMBER(D27),\"判定外\",IF(C27=6,VLOOKUP(U27,判定式!$C$15:I$19,7,TRUE),IF(C27=7,VLOOKUP(U27,判定式!$D$15:I$19,6,TRUE),IF(C27=8,VLOOKUP(U27,判定式!$E$15:I$19,5,TRUE),IF(C27=9,VLOOKUP(U27,判定式!$F$15:I$19,4,TRUE),IF(C27=10,VLOOKUP(U27,判定式!$G$15:I$19,3,TRUE),IF(C27=11,VLOOKUP(U27,判定式!$H$15:I$19,2,TRUE))))))))","v":false}]
[8,null,null,"-",null,null,null,null,null,null,null,null,{"$f":"IF(E28=\"\",\"\",VLOOKUP(E28,判定式!C$3:$J$12,8,TRUE))","v":""},{"$f":"IF(F28=\"\",\"\",VLOOKUP(F28,判定式!D$3:$J$12,7,TRUE))","v":""},{"$f":"IF(G28=\"\",\"\",VLOOKUP(G28,判定式!E$3:$J$12,6,TRUE))","v":""},{"$f":"IF(H28=\"\",\"\",VLOOKUP(H28,判定式!F$3:$J$12,5,TRUE))","v":""},{"$f":"IF(I28=\"\",\"\",VLOOKUP(I28,判定式!I$3:$J$12,2,TRUE))","v":""},{"$f":"IF(J28=\"\",\"\",VLOOKUP(J28,判定式!L$3:$M$12,2,TRUE))","v":""},{"$f":"IF(K28=\"\",\"\",VLOOKUP(K28,判定式!G$3:$J$12,4,TRUE))","v":""},{"$f":"IF(L28=\"\",\"\",VLOOKUP(L28,判定式!H$3:$J$12,3,TRUE))","v":""},"",{"$f":"IF(ISNUMBER(D28),\"判定外\",IF(C28=6,VLOOKUP(U28,判定式!$C$15:I$19,7,TRUE),IF(C28=7,VLOOKUP(U28,判定式!$D$15:I$19,6,TRUE),IF(C28=8,VLOOKUP(U28,判定式!$E$15:I$19,5,TRUE),IF(C28=9,VLOOKUP(U28,判定式!$F$15:I$19,4,TRUE),IF(C28=10,VLOOKUP(U28,判定式!$G$15:I$19,3,TRUE),IF(C28=11,VLOOKUP(U28,判定式!$H$15:I$19,2,TRUE))))))))","v":false}]
[9,null,null,"-",null,null,null,null,null,null,null,null,{"$f":"IF(E29=\"\",\"\",VLOOKUP(E29,判定式!C$3:$J$12,8,TRUE))","v":""},{"$f":"IF(F29=\"\",\"\",VLOOKUP(F29,判定式!D$3:$J$12,7,TRUE))","v":""},{"$f":"IF(G29=\"\",\"\",VLOOKUP(G29,判定式!E$3:$J$12,6,TRUE))","v":""},{"$f":"IF(H29=\"\",\"\",VLOOKUP(H29,判定式!F$3:$J$12,5,TRUE))","v":""},{"$f":"IF(I29=\"\",\"\",VLOOKUP(I29,判定式!I$3:$J$12,2,TRUE))","v":""},{"$f":"IF(J29=\"\",\"\",VLOOKUP(J29,判定式!L$3:$M$12,2,TRUE))","v":""},{"$f":"IF(K29=\"\",\"\",VLOOKUP(K29,判定式!G$3:$J$12,4,TRUE))","v":""},{"$f":"IF(L29=\"\",\"\",VLOOKUP(L29,判定式!H$3:$J$12,3,TRUE))","v":""},"",{"$f":"IF(ISNUMBER(D29),\"判定外\",IF(C29=6,VLOOKUP(U29,判定式!$C$15:I$19,7,TRUE),IF(C29=7,VLOOKUP(U29,判定式!$D$15:I$19,6,TRUE),IF(C29=8,VLOOKUP(U29,判定式!$E$15:I$19,5,TRUE),IF(C29=9,VLOOKUP(U29,判定式!$F$15:I$19,4,TRUE),IF(C29=10,VLOOKUP(U29,判定式!$G$15:I$19,3,TRUE),IF(C29=11,VLOOKUP(U29,判定式!$H$15:I$19,2,TRUE))))))))","v":false}]
[10,null,null,"-",null,null,null,null,null,null,null,null,{"$f":"IF(E30=\"\",\"\",VLOOKUP(E30,判定式!C$3:$J$12,8,TRUE))","v":""},{"$f":"IF(F30=\"\",\"\",VLOOKUP(F30,判定式!D$3:$J$12,7,TRUE))","v":""},{"$f":"IF(G30=\"\",\"\",VLOOKUP(G30,判定式!E$3:$J$12,6,TRUE))","v":""},{"$f":"IF(H30=\"\",\"\",VLOOKUP(H30,判定式!F$3:$J$12,5,TRUE))","v":""},{"$f":"IF(I30=\"\",\"\",VLOOKUP(I30,判定式!I$3:$J$12,2,TRUE))","v":""},{"$f":"IF(J30=\"\",\"\",VLOOKUP(J30,判定式!L$3:$M$12,2,TRUE))","v":""},{"$f":"IF(K30=\"\",\"\",VLOOKUP(K30,判定式!G$3:$J$12,4,TRUE))","v":""},{"$f":"IF(L30=\"\",\"\",VLOOKUP(L30,判定式!H$3:$J$12,3,TRUE))","v":""},"",{"$f":"IF(ISNUMBER(D30),\"判定外\",IF(C30=6,VLOOKUP(U30,判定式!$C$15:I$19,7,TRUE),IF(C30=7,VLOOKUP(U30,判定式!$D$15:I$19,6,TRUE),IF(C30=8,VLOOKUP(U30,判定式!$E$15:I$19,5,TRUE),IF(C30=9,VLOOKUP(U30,判定式!$F$15:I$19,4,TRUE),IF(C30=10,VLOOKUP(U30,判定式!$G$15:I$19,3,TRUE),IF(C30=11,VLOOKUP(U30,判定式!$H$15:I$19,2,TRUE))))))))","v":false}]
[11,null,null,"-",null,null,null,null,null,null,null,null,{"$f":"IF(E31=\"\",\"\",VLOOKUP(E31,判定式!C$3:$J$12,8,TRUE))","v":""},{"$f":"IF(F31=\"\",\"\",VLOOKUP(F31,判定式!D$3:$J$12,7,TRUE))","v":""},{"$f":"IF(G31=\"\",\"\",VLOOKUP(G31,判定式!E$3:$J$12,6,TRUE))","v":""},{"$f":"IF(H31=\"\",\"\",VLOOKUP(H31,判定式!F$3:$J$12,5,TRUE))","v":""},{"$f":"IF(I31=\"\",\"\",VLOOKUP(I31,判定式!I$3:$J$12,2,TRUE))","v":""},{"$f":"IF(J31=\"\",\"\",VLOOKUP(J31,判定式!L$3:$M$12,2,TRUE))","v":""},{"$f":"IF(K31=\"\",\"\",VLOOKUP(K31,判定式!G$3:$J$12,4,TRUE))","v":""},{"$f":"IF(L31=\"\",\"\",VLOOKUP(L31,判定式!H$3:$J$12,3,TRUE))","v":""},"",{"$f":"IF(ISNUMBER(D31),\"判定外\",IF(C31=6,VLOOKUP(U31,判定式!$C$15:I$19,7,TRUE),IF(C31=7,VLOOKUP(U31,判定式!$D$15:I$19,6,TRUE),IF(C31=8,VLOOKUP(U31,判定式!$E$15:I$19,5,TRUE),IF(C31=9,VLOOKUP(U31,判定式!$F$15:I$19,4,TRUE),IF(C31=10,VLOOKUP(U31,判定式!$G$15:I$19,3,TRUE),IF(C31=11,VLOOKUP(U31,判定式!$H$15:I$19,2,TRUE))))))))","v":false}]
[12,null,null,"-",null,null,null,null,null,null,null,null,{"$f":"IF(E32=\"\",\"\",VLOOKUP(E32,判定式!C$3:$J$12,8,TRUE))","v":""},{"$f":"IF(F32=\"\",\"\",VLOOKUP(F32,判定式!D$3:$J$12,7,TRUE))","v":""},{"$f":"IF(G32=\"\",\"\",VLOOKUP(G32,判定式!E$3:$J$12,6,TRUE))","v":""},{"$f":"IF(H32=\"\",\"\",VLOOKUP(H32,判定式!F$3:$J$12,5,TRUE))","v":""},{"$f":"IF(I32=\"\",\"\",VLOOKUP(I32,判定式!I$3:$J$12,2,TRUE))","v":""},{"$f":"IF(J32=\"\",\"\",VLOOKUP(J32,判定式!L$3:$M$12,2,TRUE))","v":""},{"$f":"IF(K32=\"\",\"\",VLOOKUP(K32,判定式!G$3:$J$12,4,TRUE))","v":""},{"$f":"IF(L32=\"\",\"\",VLOOKUP(L32,判定式!H$3:$J$12,3,TRUE))","v":""},"",{"$f":"IF(ISNUMBER(D32),\"判定外\",IF(C32=6,VLOOKUP(U32,判定式!$C$15:I$19,7,TRUE),IF(C32=7,VLOOKUP(U32,判定式!$D$15:I$19,6,TRUE),IF(C32=8,VLOOKUP(U32,判定式!$E$15:I$19,5,TRUE),IF(C32=9,VLOOKUP(U32,判定式!$F$15:I$19,4,TRUE),IF(C32=10,VLOOKUP(U32,判定式!$G$15:I$19,3,TRUE),IF(C32=11,VLOOKUP(U32,判定式!$H$15:I$19,2,TRUE))))))))","v":false}]
[13,null,null,"-",null,null,null,null,null,null,null,null,{"$f":"IF(E33=\"\",\"\",VLOOKUP(E33,判定式!C$3:$J$12,8,TRUE))","v":""},{"$f":"IF(F33=\"\",\"\",VLOOKUP(F33,判定式!D$3:$J$12,7,TRUE))","v":""},{"$f":"IF(G33=\"\",\"\",VLOOKUP(G33,判定式!E$3:$J$12,6,TRUE))","v":""},{"$f":"IF(H33=\"\",\"\",VLOOKUP(H33,判定式!F$3:$J$12,5,TRUE))","v":""},{"$f":"IF(I33=\"\",\"\",VLOOKUP(I33,判定式!I$3:$J$12,2,TRUE))","v":""},{"$f":"IF(J33=\"\",\"\",VLOOKUP(J33,判定式!L$3:$M$12,2,TRUE))","v":""},{"$f":"IF(K33=\"\",\"\",VLOOKUP(K33,判定式!G$3:$J$12,4,TRUE))","v":""},{"$f":"IF(L33=\"\",\"\",VLOOKUP(L33,判定式!H$3:$J$12,3,TRUE))","v":""},"",{"$f":"IF(ISNUMBER(D33),\"判定外\",IF(C33=6,VLOOKUP(U33,判定式!$C$15:I$19,7,TRUE),IF(C33=7,VLOOKUP(U33,判定式!$D$15:I$19,6,TRUE),IF(C33=8,VLOOKUP(U33,判定式!$E$15:I$19,5,TRUE),IF(C33=9,VLOOKUP(U33,判定式!$F$15:I$19,4,TRUE),IF(C33=10,VLOOKUP(U33,判定式!$G$15:I$19,3,TRUE),IF(C33=11,VLOOKUP(U33,判定式!$H$15:I$19,2,TRUE))))))))","v":false}]
[14,null,null,"-",null,null,null,null,null,null,null,null,{"$f":"IF(E34=\"\",\"\",VLOOKUP(E34,判定式!C$3:$J$12,8,TRUE))","v":""},{"$f":"IF(F34=\"\",\"\",VLOOKUP(F34,判定式!D$3:$J$12,7,TRUE))","v":""},{"$f":"IF(G34=\"\",\"\",VLOOKUP(G34,判定式!E$3:$J$12,6,TRUE))","v":""},{"$f":"IF(H34=\"\",\"\",VLOOKUP(H34,判定式!F$3:$J$12,5,TRUE))","v":""},{"$f":"IF(I34=\"\",\"\",VLOOKUP(I34,判定式!I$3:$J$12,2,TRUE))","v":""},{"$f":"IF(J34=\"\",\"\",VLOOKUP(J34,判定式!L$3:$M$12,2,TRUE))","v":""},{"$f":"IF(K34=\"\",\"\",VLOOKUP(K34,判定式!G$3:$J$12,4,TRUE))","v":""},{"$f":"IF(L34=\"\",\"\",VLOOKUP(L34,判定式!H$3:$J$12,3,TRUE))","v":""},"",{"$f":"IF(ISNUMBER(D34),\"判定外\",IF(C34=6,VLOOKUP(U34,判定式!$C$15:I$19,7,TRUE),IF(C34=7,VLOOKUP(U34,判定式!$D$15:I$19,6,TRUE),IF(C34=8,VLOOKUP(U34,判定式!$E$15:I$19,5,TRUE),IF(C34=9,VLOOKUP(U34,判定式!$F$15:I$19,4,TRUE),IF(C34=10,VLOOKUP(U34,判定式!$G$15:I$19,3,TRUE),IF(C34=11,VLOOKUP(U34,判定式!$H$15:I$19,2,TRUE))))))))","v":false}]
[15,null,null,"-",null,null,null,null,null,null,null,null,{"$f":"IF(E35=\"\",\"\",VLOOKUP(E35,判定式!C$3:$J$12,8,TRUE))","v":""},{"$f":"IF(F35=\"\",\"\",VLOOKUP(F35,判定式!D$3:$J$12,7,TRUE))","v":""},{"$f":"IF(G35=\"\",\"\",VLOOKUP(G35,判定式!E$3:$J$12,6,TRUE))","v":""},{"$f":"IF(H35=\"\",\"\",VLOOKUP(H35,判定式!F$3:$J$12,5,TRUE))","v":""},{"$f":"IF(I35=\"\",\"\",VLOOKUP(I35,判定式!I$3:$J$12,2,TRUE))","v":""},{"$f":"IF(J35=\"\",\"\",VLOOKUP(J35,判定式!L$3:$M$12,2,TRUE))","v":""},{"$f":"IF(K35=\"\",\"\",VLOOKUP(K35,判定式!G$3:$J$12,4,TRUE))","v":""},{"$f":"IF(L35=\"\",\"\",VLOOKUP(L35,判定式!H$3:$J$12,3,TRUE))","v":""},"",{"$f":"IF(ISNUMBER(D35),\"判定外\",IF(C35=6,VLOOKUP(U35,判定式!$C$15:I$19,7,TRUE),IF(C35=7,VLOOKUP(U35,判定式!$D$15:I$19,6,TRUE),IF(C35=8,VLOOKUP(U35,判定式!$E$15:I$19,5,TRUE),IF(C35=9,VLOOKUP(U35,判定式!$F$15:I$19,4,TRUE),IF(C35=10,VLOOKUP(U35,判定式!$G$15:I$19,3,TRUE),IF(C35=11,VLOOKUP(U35,判定式!$H$15:I$19,2,TRUE))))))))","v":false}]
[16,null,null,"-",null,null,null,null,null,null,null,null,{"$f":"IF(E36=\"\",\"\",VLOOKUP(E36,判定式!C$3:$J$12,8,TRUE))","v":""},{"$f":"IF(F36=\"\",\"\",VLOOKUP(F36,判定式!D$3:$J$12,7,TRUE))","v":""},{"$f":"IF(G36=\"\",\"\",VLOOKUP(G36,判定式!E$3:$J$12,6,TRUE))","v":""},{"$f":"IF(H36=\"\",\"\",VLOOKUP(H36,判定式!F$3:$J$12,5,TRUE))","v":""},{"$f":"IF(I36=\"\",\"\",VLOOKUP(I36,判定式!I$3:$J$12,2,TRUE))","v":""},{"$f":"IF(J36=\"\",\"\",VLOOKUP(J36,判定式!L$3:$M$12,2,TRUE))","v":""},{"$f":"IF(K36=\"\",\"\",VLOOKUP(K36,判定式!G$3:$J$12,4,TRUE))","v":""},{"$f":"IF(L36=\"\",\"\",VLOOKUP(L36,判定式!H$3:$J$12,3,TRUE))","v":""},"",{"$f":"IF(ISNUMBER(D36),\"判定外\",IF(C36=6,VLOOKUP(U36,判定式!$C$15:I$19,7,TRUE),IF(C36=7,VLOOKUP(U36,判定式!$D$15:I$19,6,TRUE),IF(C36=8,VLOOKUP(U36,判定式!$E$15:I$19,5,TRUE),IF(C36=9,VLOOKUP(U36,判定式!$F$15:I$19,4,TRUE),IF(C36=10,VLOOKUP(U36,判定式!$G$15:I$19,3,TRUE),IF(C36=11,VLOOKUP(U36,判定式!$H$15:I$19,2,TRUE))))))))","v":false}]
[17,null,null,"-",null,null,null,null,null,null,null,null,{"$f":"IF(E37=\"\",\"\",VLOOKUP(E37,判定式!C$3:$J$12,8,TRUE))","v":""},{"$f":"IF(F37=\"\",\"\",VLOOKUP(F37,判定式!D$3:$J$12,7,TRUE))","v":""},{"$f":"IF(G37=\"\",\"\",VLOOKUP(G37,判定式!E$3:$J$12,6,TRUE))","v":""},{"$f":"IF(H37=\"\",\"\",VLOOKUP(H37,判定式!F$3:$J$12,5,TRUE))","v":""},{"$f":"IF(I37=\"\",\"\",VLOOKUP(I37,判定式!I$3:$J$12,2,TRUE))","v":""},{"$f":"IF(J37=\"\",\"\",VLOOKUP(J37,判定式!L$3:$M$12,2,TRUE))","v":""},{"$f":"IF(K37=\"\",\"\",VLOOKUP(K37,判定式!G$3:$J$12,4,TRUE))","v":""},{"$f":"IF(L37=\"\",\"\",VLOOKUP(L37,判定式!H$3:$J$12,3,TRUE))","v":""},"",{"$f":"IF(ISNUMBER(D37),\"判定外\",IF(C37=6,VLOOKUP(U37,判定式!$C$15:I$19,7,TRUE),IF(C37=7,VLOOKUP(U37,判定式!$D$15:I$19,6,TRUE),IF(C37=8,VLOOKUP(U37,判定式!$E$15:I$19,5,TRUE),IF(C37=9,VLOOKUP(U37,判定式!$F$15:I$19,4,TRUE),IF(C37=10,VLOOKUP(U37,判定式!$G$15:I$19,3,TRUE),IF(C37=11,VLOOKUP(U37,判定式!$H$15:I$19,2,TRUE))))))))","v":false}]
[18,null,null,"-",null,null,null,null,null,null,null,null,{"$f":"IF(E38=\"\",\"\",VLOOKUP(E38,判定式!C$3:$J$12,8,TRUE))","v":""},{"$f":"IF(F38=\"\",\"\",VLOOKUP(F38,判定式!D$3:$J$12,7,TRUE))","v":""},{"$f":"IF(G38=\"\",\"\",VLOOKUP(G38,判定式!E$3:$J$12,6,TRUE))","v":""},{"$f":"IF(H38=\"\",\"\",VLOOKUP(H38,判定式!F$3:$J$12,5,TRUE))","v":""},{"$f":"IF(I38=\"\",\"\",VLOOKUP(I38,判定式!I$3:$J$12,2,TRUE))","v":""},{"$f":"IF(J38=\"\",\"\",VLOOKUP(J38,判定式!L$3:$M$12,2,TRUE))","v":""},{"$f":"IF(K38=\"\",\"\",VLOOKUP(K38,判定式!G$3:$J$12,4,TRUE))","v":""},{"$f":"IF(L38=\"\",\"\",VLOOKUP(L38,判定式!H$3:$J$12,3,TRUE))","v":""},"",{"$f":"IF(ISNUMBER(D38),\"判定外\",IF(C38=6,VLOOKUP(U38,判定式!$C$15:I$19,7,TRUE),IF(C38=7,VLOOKUP(U38,判定式!$D$15:I$19,6,TRUE),IF(C38=8,VLOOKUP(U38,判定式!$E$15:I$19,5,TRUE),IF(C38=9,VLOOKUP(U38,判定式!$F$15:I$19,4,TRUE),IF(C38=10,VLOOKUP(U38,判定式!$G$15:I$19,3,TRUE),IF(C38=11,VLOOKUP(U38,判定式!$H$15:I$19,2,TRUE))))))))","v":false}]
[19,null,null,"-",null,null,null,null,null,null,null,null,{"$f":"IF(E39=\"\",\"\",VLOOKUP(E39,判定式!C$3:$J$12,8,TRUE))","v":""},{"$f":"IF(F39=\"\",\"\",VLOOKUP(F39,判定式!D$3:$J$12,7,TRUE))","v":""},{"$f":"IF(G39=\"\",\"\",VLOOKUP(G39,判定式!E$3:$J$12,6,TRUE))","v":""},{"$f":"IF(H39=\"\",\"\",VLOOKUP(H39,判定式!F$3:$J$12,5,TRUE))","v":""},{"$f":"IF(I39=\"\",\"\",VLOOKUP(I39,判定式!I$3:$J$12,2,TRUE))","v":""},{"$f":"IF(J39=\"\",\"\",VLOOKUP(J39,判定式!L$3:$M$12,2,TRUE))","v":""},{"$f":"IF(K39=\"\",\"\",VLOOKUP(K39,判定式!G$3:$J$12,4,TRUE))","v":""},{"$f":"IF(L39=\"\",\"\",VLOOKUP(L39,判定式!H$3:$J$12,3,TRUE))","v":""},"",{"$f":"IF(ISNUMBER(D39),\"判定外\",IF(C39=6,VLOOKUP(U39,判定式!$C$15:I$19,7,TRUE),IF(C39=7,VLOOKUP(U39,判定式!$D$15:I$19,6,TRUE),IF(C39=8,VLOOKUP(U39,判定式!$E$15:I$19,5,TRUE),IF(C39=9,VLOOKUP(U39,判定式!$F$15:I$19,4,TRUE),IF(C39=10,VLOOKUP(U39,判定式!$G$15:I$19,3,TRUE),IF(C39=11,VLOOKUP(U39,判定式!$H$15:I$19,2,TRUE))))))))","v":false}]
[20,null,null,"-",null,null,null,null,null,null,null,null,{"$f":"IF(E40=\"\",\"\",VLOOKUP(E40,判定式!C$3:$J$12,8,TRUE))","v":""},{"$f":"IF(F40=\"\",\"\",VLOOKUP(F40,判定式!D$3:$J$12,7,TRUE))","v":""},{"$f":"IF(G40=\"\",\"\",VLOOKUP(G40,判定式!E$3:$J$12,6,TRUE))","v":""},{"$f":"IF(H40=\"\",\"\",VLOOKUP(H40,判定式!F$3:$J$12,5,TRUE))","v":""},{"$f":"IF(I40=\"\",\"\",VLOOKUP(I40,判定式!I$3:$J$12,2,TRUE))","v":""},{"$f":"IF(J40=\"\",\"\",VLOOKUP(J40,判定式!L$3:$M$12,2,TRUE))","v":""},{"$f":"IF(K40=\"\",\"\",VLOOKUP(K40,判定式!G$3:$J$12,4,TRUE))","v":""},{"$f":"IF(L40=\"\",\"\",VLOOKUP(L40,判定式!H$3:$J$12,3,TRUE))","v":""},"",{"$f":"IF(ISNUMBER(D40),\"判定外\",IF(C40=6,VLOOKUP(U40,判定式!$C$15:I$19,7,TRUE),IF(C40=7,VLOOKUP(U40,判定式!$D$15:I$19,6,TRUE),IF(C40=8,VLOOKUP(U40,判定式!$E$15:I$19,5,TRUE),IF(C40=9,VLOOKUP(U40,判定式!$F$15:I$19,4,TRUE),IF(C40=10,VLOOKUP(U40,判定式!$G$15:I$19,3,TRUE),IF(C40=11,VLOOKUP(U40,判定式!$H$15:I$19,2,TRUE))))))))","v":false}]
[21,null,null,"-",null,null,null,null,null,null,null,null,{"$f":"IF(E41=\"\",\"\",VLOOKUP(E41,判定式!C$3:$J$12,8,TRUE))","v":""},{"$f":"IF(F41=\"\",\"\",VLOOKUP(F41,判定式!D$3:$J$12,7,TRUE))","v":""},{"$f":"IF(G41=\"\",\"\",VLOOKUP(G41,判定式!E$3:$J$12,6,TRUE))","v":""},{"$f":"IF(H41=\"\",\"\",VLOOKUP(H41,判定式!F$3:$J$12,5,TRUE))","v":""},{"$f":"IF(I41=\"\",\"\",VLOOKUP(I41,判定式!I$3:$J$12,2,TRUE))","v":""},{"$f":"IF(J41=\"\",\"\",VLOOKUP(J41,判定式!L$3:$M$12,2,TRUE))","v":""},{"$f":"IF(K41=\"\",\"\",VLOOKUP(K41,判定式!G$3:$J$12,4,TRUE))","v":""},{"$f":"IF(L41=\"\",\"\",VLOOKUP(L41,判定式!H$3:$J$12,3,TRUE))","v":""},"",{"$f":"IF(ISNUMBER(D41),\"判定外\",IF(C41=6,VLOOKUP(U41,判定式!$C$15:I$19,7,TRUE),IF(C41=7,VLOOKUP(U41,判定式!$D$15:I$19,6,TRUE),IF(C41=8,VLOOKUP(U41,判定式!$E$15:I$19,5,TRUE),IF(C41=9,VLOOKUP(U41,判定式!$F$15:I$19,4,TRUE),IF(C41=10,VLOOKUP(U41,判定式!$G$15:I$19,3,TRUE),IF(C41=11,VLOOKUP(U41,判定式!$H$15:I$19,2,TRUE))))))))","v":false}]
[22,null,null,"-",null,null,null,null,null,null,null,null,{"$f":"IF(E42=\"\",\"\",VLOOKUP(E42,判定式!C$3:$J$12,8,TRUE))","v":""},{"$f":"IF(F42=\"\",\"\",VLOOKUP(F42,判定式!D$3:$J$12,7,TRUE))","v":""},{"$f":"IF(G42=\"\",\"\",VLOOKUP(G42,判定式!E$3:$J$12,6,TRUE))","v":""},{"$f":"IF(H42=\"\",\"\",VLOOKUP(H42,判定式!F$3:$J$12,5,TRUE))","v":""},{"$f":"IF(I42=\"\",\"\",VLOOKUP(I42,判定式!I$3:$J$12,2,TRUE))","v":""},{"$f":"IF(J42=\"\",\"\",VLOOKUP(J42,判定式!L$3:$M$12,2,TRUE))","v":""},{"$f":"IF(K42=\"\",\"\",VLOOKUP(K42,判定式!G$3:$J$12,4,TRUE))","v":""},{"$f":"IF(L42=\"\",\"\",VLOOKUP(L42,判定式!H$3:$J$12,3,TRUE))","v":""},"",{"$f":"IF(ISNUMBER(D42),\"判定外\",IF(C42=6,VLOOKUP(U42,判定式!$C$15:I$19,7,TRUE),IF(C42=7,VLOOKUP(U42,判定式!$D$15:I$19,6,TRUE),IF(C42=8,VLOOKUP(U42,判定式!$E$15:I$19,5,TRUE),IF(C42=9,VLOOKUP(U42,判定式!$F$15:I$19,4,TRUE),IF(C42=10,VLOOKUP(U42,判定式!$G$15:I$19,3,TRUE),IF(C42=11,VLOOKUP(U42,判定式!$H$15:I$19,2,TRUE))))))))","v":false}]
[23,null,null,"-",null,null,null,null,null,null,null,null,{"$f":"IF(E43=\"\",\"\",VLOOKUP(E43,判定式!C$3:$J$12,8,TRUE))","v":""},{"$f":"IF(F43=\"\",\"\",VLOOKUP(F43,判定式!D$3:$J$12,7,TRUE))","v":""},{"$f":"IF(G43=\"\",\"\",VLOOKUP(G43,判定式!E$3:$J$12,6,TRUE))","v":""},{"$f":"IF(H43=\"\",\"\",VLOOKUP(H43,判定式!F$3:$J$12,5,TRUE))","v":""},{"$f":"IF(I43=\"\",\"\",VLOOKUP(I43,判定式!I$3:$J$12,2,TRUE))","v":""},{"$f":"IF(J43=\"\",\"\",VLOOKUP(J43,判定式!L$3:$M$12,2,TRUE))","v":""},{"$f":"IF(K43=\"\",\"\",VLOOKUP(K43,判定式!G$3:$J$12,4,TRUE))","v":""},{"$f":"IF(L43=\"\",\"\",VLOOKUP(L43,判定式!H$3:$J$12,3,TRUE))","v":""},"",{"$f":"IF(ISNUMBER(D43),\"判定外\",IF(C43=6,VLOOKUP(U43,判定式!$C$15:I$19,7,TRUE),IF(C43=7,VLOOKUP(U43,判定式!$D$15:I$19,6,TRUE),IF(C43=8,VLOOKUP(U43,判定式!$E$15:I$19,5,TRUE),IF(C43=9,VLOOKUP(U43,判定式!$F$15:I$19,4,TRUE),IF(C43=10,VLOOKUP(U43,判定式!$G$15:I$19,3,TRUE),IF(C43=11,VLOOKUP(U43,判定式!$H$15:I$19,2,TRUE))))))))","v":false}]
[24,null,null,"-",null,null,null,null,null,null,null,null,{"$f":"IF(E44=\"\",\"\",VLOOKUP(E44,判定式!C$3:$J$12,8,TRUE))","v":""},{"$f":"IF(F44=\"\",\"\",VLOOKUP(F44,判定式!D$3:$J$12,7,TRUE))","v":""},{"$f":"IF(G44=\"\",\"\",VLOOKUP(G44,判定式!E$3:$J$12,6,TRUE))","v":""},{"$f":"IF(H44=\"\",\"\",VLOOKUP(H44,判定式!F$3:$J$12,5,TRUE))","v":""},{"$f":"IF(I44=\"\",\"\",VLOOKUP(I44,判定式!I$3:$J$12,2,TRUE))","v":""},{"$f":"IF(J44=\"\",\"\",VLOOKUP(J44,判定式!L$3:$M$12,2,TRUE))","v":""},{"$f":"IF(K44=\"\",\"\",VLOOKUP(K44,判定式!G$3:$J$12,4,TRUE))","v":""},{"$f":"IF(L44=\"\",\"\",VLOOKUP(L44,判定式!H$3:$J$12,3,TRUE))","v":""},"",{"$f":"IF(ISNUMBER(D44),\"判定外\",IF(C44=6,VLOOKUP(U44,判定式!$C$15:I$19,7,TRUE),IF(C44=7,VLOOKUP(U44,判定式!$D$15:I$19,6,TRUE),IF(C44=8,VLOOKUP(U44,判定式!$E$15:I$19,5,TRUE),IF(C44=9,VLOOKUP(U44,判定式!$F$15:I$19,4,TRUE),IF(C44=10,VLOOKUP(U44,判定式!$G$15:I$19,3,TRUE),IF(C44=11,VLOOKUP(U44,判定式!$H$15:I$19,2,TRUE))))))))","v":false}]
[25,null,null,"-",null,null,null,null,null,null,null,null,{"$f":"IF(E45=\"\",\"\",VLOOKUP(E45,判定式!C$3:$J$12,8,TRUE))","v":""},{"$f":"IF(F45=\"\",\"\",VLOOKUP(F45,判定式!D$3:$J$12,7,TRUE))","v":""},{"$f":"IF(G45=\"\",\"\",VLOOKUP(G45,判定式!E$3:$J$12,6,TRUE))","v":""},{"$f":"IF(H45=\"\",\"\",VLOOKUP(H45,判定式!F$3:$J$12,5,TRUE))","v":""},{"$f":"IF(I45=\"\",\"\",VLOOKUP(I45,判定式!I$3:$J$12,2,TRUE))","v":""},{"$f":"IF(J45=\"\",\"\",VLOOKUP(J45,判定式!L$3:$M$12,2,TRUE))","v":""},{"$f":"IF(K45=\"\",\"\",VLOOKUP(K45,判定式!G$3:$J$12,4,TRUE))","v":""},{"$f":"IF(L45=\"\",\"\",VLOOKUP(L45,判定式!H$3:$J$12,3,TRUE))","v":""},"",{"$f":"IF(ISNUMBER(D45),\"判定外\",IF(C45=6,VLOOKUP(U45,判定式!$C$15:I$19,7,TRUE),IF(C45=7,VLOOKUP(U45,判定式!$D$15:I$19,6,TRUE),IF(C45=8,VLOOKUP(U45,判定式!$E$15:I$19,5,TRUE),IF(C45=9,VLOOKUP(U45,判定式!$F$15:I$19,4,TRUE),IF(C45=10,VLOOKUP(U45,判定式!$G$15:I$19,3,TRUE),IF(C45=11,VLOOKUP(U45,判定式!$H$15:I$19,2,TRUE))))))))","v":false}]
[26,null,null,"-",null,null,null,null,null,null,null,null,{"$f":"IF(E46=\"\",\"\",VLOOKUP(E46,判定式!C$3:$J$12,8,TRUE))","v":""},{"$f":"IF(F46=\"\",\"\",VLOOKUP(F46,判定式!D$3:$J$12,7,TRUE))","v":""},{"$f":"IF(G46=\"\",\"\",VLOOKUP(G46,判定式!E$3:$J$12,6,TRUE))","v":""},{"$f":"IF(H46=\"\",\"\",VLOOKUP(H46,判定式!F$3:$J$12,5,TRUE))","v":""},{"$f":"IF(I46=\"\",\"\",VLOOKUP(I46,判定式!I$3:$J$12,2,TRUE))","v":""},{"$f":"IF(J46=\"\",\"\",VLOOKUP(J46,判定式!L$3:$M$12,2,TRUE))","v":""},{"$f":"IF(K46=\"\",\"\",VLOOKUP(K46,判定式!G$3:$J$12,4,TRUE))","v":""},{"$f":"IF(L46=\"\",\"\",VLOOKUP(L46,判定式!H$3:$J$12,3,TRUE))","v":""},"",{"$f":"IF(ISNUMBER(D46),\"判定外\",IF(C46=6,VLOOKUP(U46,判定式!$C$15:I$19,7,TRUE),IF(C46=7,VLOOKUP(U46,判定式!$D$15:I$19,6,TRUE),IF(C46=8,VLOOKUP(U46,判定式!$E$15:I$19,5,TRUE),IF(C46=9,VLOOKUP(U46,判定式!$F$15:I$19,4,TRUE),IF(C46=10,VLOOKUP(U46,判定式!$G$15:I$19,3,TRUE),IF(C46=11,VLOOKUP(U46,判定式!$H$15:I$19,2,TRUE))))))))","v":false}]
[27,null,null,"-",null,null,null,null,null,null,null,null,{"$f":"IF(E47=\"\",\"\",VLOOKUP(E47,判定式!C$3:$J$12,8,TRUE))","v":""},{"$f":"IF(F47=\"\",\"\",VLOOKUP(F47,判定式!D$3:$J$12,7,TRUE))","v":""},{"$f":"IF(G47=\"\",\"\",VLOOKUP(G47,判定式!E$3:$J$12,6,TRUE))","v":""},{"$f":"IF(H47=\"\",\"\",VLOOKUP(H47,判定式!F$3:$J$12,5,TRUE))","v":""},{"$f":"IF(I47=\"\",\"\",VLOOKUP(I47,判定式!I$3:$J$12,2,TRUE))","v":""},{"$f":"IF(J47=\"\",\"\",VLOOKUP(J47,判定式!L$3:$M$12,2,TRUE))","v":""},{"$f":"IF(K47=\"\",\"\",VLOOKUP(K47,判定式!G$3:$J$12,4,TRUE))","v":""},{"$f":"IF(L47=\"\",\"\",VLOOKUP(L47,判定式!H$3:$J$12,3,TRUE))","v":""},"",{"$f":"IF(ISNUMBER(D47),\"判定外\",IF(C47=6,VLOOKUP(U47,判定式!$C$15:I$19,7,TRUE),IF(C47=7,VLOOKUP(U47,判定式!$D$15:I$19,6,TRUE),IF(C47=8,VLOOKUP(U47,判定式!$E$15:I$19,5,TRUE),IF(C47=9,VLOOKUP(U47,判定式!$F$15:I$19,4,TRUE),IF(C47=10,VLOOKUP(U47,判定式!$G$15:I$19,3,TRUE),IF(C47=11,VLOOKUP(U47,判定式!$H$15:I$19,2,TRUE))))))))","v":false}]
[28,null,null,"-",null,null,null,null,null,null,null,null,{"$f":"IF(E48=\"\",\"\",VLOOKUP(E48,判定式!C$3:$J$12,8,TRUE))","v":""},{"$f":"IF(F48=\"\",\"\",VLOOKUP(F48,判定式!D$3:$J$12,7,TRUE))","v":""},{"$f":"IF(G48=\"\",\"\",VLOOKUP(G48,判定式!E$3:$J$12,6,TRUE))","v":""},{"$f":"IF(H48=\"\",\"\",VLOOKUP(H48,判定式!F$3:$J$12,5,TRUE))","v":""},{"$f":"IF(I48=\"\",\"\",VLOOKUP(I48,判定式!I$3:$J$12,2,TRUE))","v":""},{"$f":"IF(J48=\"\",\"\",VLOOKUP(J48,判定式!L$3:$M$12,2,TRUE))","v":""},{"$f":"IF(K48=\"\",\"\",VLOOKUP(K48,判定式!G$3:$J$12,4,TRUE))","v":""},{"$f":"IF(L48=\"\",\"\",VLOOKUP(L48,判定式!H$3:$J$12,3,TRUE))","v":""},"",{"$f":"IF(ISNUMBER(D48),\"判定外\",IF(C48=6,VLOOKUP(U48,判定式!$C$15:I$19,7,TRUE),IF(C48=7,VLOOKUP(U48,判定式!$D$15:I$19,6,TRUE),IF(C48=8,VLOOKUP(U48,判定式!$E$15:I$19,5,TRUE),IF(C48=9,VLOOKUP(U48,判定式!$F$15:I$19,4,TRUE),IF(C48=10,VLOOKUP(U48,判定式!$G$15:I$19,3,TRUE),IF(C48=11,VLOOKUP(U48,判定式!$H$15:I$19,2,TRUE))))))))","v":false}]
[29,null,null,"-",null,null,null,null,null,null,null,null,{"$f":"IF(E49=\"\",\"\",VLOOKUP(E49,判定式!C$3:$J$12,8,TRUE))","v":""},{"$f":"IF(F49=\"\",\"\",VLOOKUP(F49,判定式!D$3:$J$12,7,TRUE))","v":""},{"$f":"IF(G49=\"\",\"\",VLOOKUP(G49,判定式!E$3:$J$12,6,TRUE))","v":""},{"$f":"IF(H49=\"\",\"\",VLOOKUP(H49,判定式!F$3:$J$12,5,TRUE))","v":""},{"$f":"IF(I49=\"\",\"\",VLOOKUP(I49,判定式!I$3:$J$12,2,TRUE))","v":""},{"$f":"IF(J49=\"\",\"\",VLOOKUP(J49,判定式!L$3:$M$12,2,TRUE))","v":""},{"$f":"IF(K49=\"\",\"\",VLOOKUP(K49,判定式!G$3:$J$12,4,TRUE))","v":""},{"$f":"IF(L49=\"\",\"\",VLOOKUP(L49,判定式!H$3:$J$12,3,TRUE))","v":""},"",{"$f":"IF(ISNUMBER(D49),\"判定外\",IF(C49=6,VLOOKUP(U49,判定式!$C$15:I$19,7,TRUE),IF(C49=7,VLOOKUP(U49,判定式!$D$15:I$19,6,TRUE),IF(C49=8,VLOOKUP(U49,判定式!$E$15:I$19,5,TRUE),IF(C49=9,VLOOKUP(U49,判定式!$F$15:I$19,4,TRUE),IF(C49=10,VLOOKUP(U49,判定式!$G$15:I$19,3,TRUE),IF(C49=11,VLOOKUP(U49,判定式!$H$15:I$19,2,TRUE))))))))","v":false}]
[30,null,null,"-",null,null,null,null,null,null,null,null,{"$f":"IF(E50=\"\",\"\",VLOOKUP(E50,判定式!C$3:$J$12,8,TRUE))","v":""},{"$f":"IF(F50=\"\",\"\",VLOOKUP(F50,判定式!D$3:$J$12,7,TRUE))","v":""},{"$f":"IF(G50=\"\",\"\",VLOOKUP(G50,判定式!E$3:$J$12,6,TRUE))","v":""},{"$f":"IF(H50=\"\",\"\",VLOOKUP(H50,判定式!F$3:$J$12,5,TRUE))","v":""},{"$f":"IF(I50=\"\",\"\",VLOOKUP(I50,判定式!I$3:$J$12,2,TRUE))","v":""},{"$f":"IF(J50=\"\",\"\",VLOOKUP(J50,判定式!L$3:$M$12,2,TRUE))","v":""},{"$f":"IF(K50=\"\",\"\",VLOOKUP(K50,判定式!G$3:$J$12,4,TRUE))","v":""},{"$f":"IF(L50=\"\",\"\",VLOOKUP(L50,判定式!H$3:$J$12,3,TRUE))","v":""},"",{"$f":"IF(ISNUMBER(D50),\"判定外\",IF(C50=6,VLOOKUP(U50,判定式!$C$15:I$19,7,TRUE),IF(C50=7,VLOOKUP(U50,判定式!$D$15:I$19,6,TRUE),IF(C50=8,VLOOKUP(U50,判定式!$E$15:I$19,5,TRUE),IF(C50=9,VLOOKUP(U50,判定式!$F$15:I$19,4,TRUE),IF(C50=10,VLOOKUP(U50,判定式!$G$15:I$19,3,TRUE),IF(C50=11,VLOOKUP(U50,判定式!$H$15:I$19,2,TRUE))))))))","v":false}]
[31,null,null,"-",null,null,null,null,null,null,null,null,{"$f":"IF(E51=\"\",\"\",VLOOKUP(E51,判定式!C$3:$J$12,8,TRUE))","v":""},{"$f":"IF(F51=\"\",\"\",VLOOKUP(F51,判定式!D$3:$J$12,7,TRUE))","v":""},{"$f":"IF(G51=\"\",\"\",VLOOKUP(G51,判定式!E$3:$J$12,6,TRUE))","v":""},{"$f":"IF(H51=\"\",\"\",VLOOKUP(H51,判定式!F$3:$J$12,5,TRUE))","v":""},{"$f":"IF(I51=\"\",\"\",VLOOKUP(I51,判定式!I$3:$J$12,2,TRUE))","v":""},{"$f":"IF(J51=\"\",\"\",VLOOKUP(J51,判定式!L$3:$M$12,2,TRUE))","v":""},{"$f":"IF(K51=\"\",\"\",VLOOKUP(K51,判定式!G$3:$J$12,4,TRUE))","v":""},{"$f":"IF(L51=\"\",\"\",VLOOKUP(L51,判定式!H$3:$J$12,3,TRUE))","v":""},"",{"$f":"IF(ISNUMBER(D51),\"判定外\",IF(C51=6,VLOOKUP(U51,判定式!$C$15:I$19,7,TRUE),IF(C51=7,VLOOKUP(U51,判定式!$D$15:I$19,6,TRUE),IF(C51=8,VLOOKUP(U51,判定式!$E$15:I$19,5,TRUE),IF(C51=9,VLOOKUP(U51,判定式!$F$15:I$19,4,TRUE),IF(C51=10,VLOOKUP(U51,判定式!$G$15:I$19,3,TRUE),IF(C51=11,VLOOKUP(U51,判定式!$H$15:I$19,2,TRUE))))))))","v":false}]
[32,null,null,"-",null,null,null,null,null,null,null,null,{"$f":"IF(E52=\"\",\"\",VLOOKUP(E52,判定式!C$3:$J$12,8,TRUE))","v":""},{"$f":"IF(F52=\"\",\"\",VLOOKUP(F52,判定式!D$3:$J$12,7,TRUE))","v":""},{"$f":"IF(G52=\"\",\"\",VLOOKUP(G52,判定式!E$3:$J$12,6,TRUE))","v":""},{"$f":"IF(H52=\"\",\"\",VLOOKUP(H52,判定式!F$3:$J$12,5,TRUE))","v":""},{"$f":"IF(I52=\"\",\"\",VLOOKUP(I52,判定式!I$3:$J$12,2,TRUE))","v":""},{"$f":"IF(J52=\"\",\"\",VLOOKUP(J52,判定式!L$3:$M$12,2,TRUE))","v":""},{"$f":"IF(K52=\"\",\"\",VLOOKUP(K52,判定式!G$3:$J$12,4,TRUE))","v":""},{"$f":"IF(L52=\"\",\"\",VLOOKUP(L52,判定式!H$3:$J$12,3,TRUE))","v":""},"",{"$f":"IF(ISNUMBER(D52),\"判定外\",IF(C52=6,VLOOKUP(U52,判定式!$C$15:I$19,7,TRUE),IF(C52=7,VLOOKUP(U52,判定式!$D$15:I$19,6,TRUE),IF(C52=8,VLOOKUP(U52,判定式!$E$15:I$19,5,TRUE),IF(C52=9,VLOOKUP(U52,判定式!$F$15:I$19,4,TRUE),IF(C52=10,VLOOKUP(U52,判定式!$G$15:I$19,3,TRUE),IF(C52=11,VLOOKUP(U52,判定式!$H$15:I$19,2,TRUE))))))))","v":false}]
[33,null,null,{"$f":"IF(COUNTBLANK(E53:L53)=0,\"\",IF(COUNTBLANK(E53:L53)=8,\"-\",COUNTBLANK(E53:L53)))","v":"-"},null,null,null,null,null,null,null,null,{"$f":"IF(E53=\"\",\"\",VLOOKUP(E53,判定式!C$3:$J$12,8,TRUE))","v":""},{"$f":"IF(F53=\"\",\"\",VLOOKUP(F53,判定式!D$3:$J$12,7,TRUE))","v":""},{"$f":"IF(G53=\"\",\"\",VLOOKUP(G53,判定式!E$3:$J$12,6,TRUE))","v":""},{"$f":"IF(H53=\"\",\"\",VLOOKUP(H53,判定式!F$3:$J$12,5,TRUE))","v":""},{"$f":"IF(I53=\"\",\"\",VLOOKUP(I53,判定式!I$3:$J$12,2,TRUE))","v":""},{"$f":"IF(J53=\"\",\"\",VLOOKUP(J53,判定式!L$3:$M$12,2,TRUE))","v":""},{"$f":"IF(K53=\"\",\"\",VLOOKUP(K53,判定式!G$3:$J$12,4,TRUE))","v":""},{"$f":"IF(L53=\"\",\"\",VLOOKUP(L53,判定式!H$3:$J$12,3,TRUE))","v":""},{"$f":"IF(COUNTBLANK(M53:T53)=0,SUM(M53:T53),\"\")","v":""},{"$f":"IF(ISNUMBER(D53),\"判定外\",IF(C53=6,VLOOKUP(U53,判定式!$C$15:I$19,7,TRUE),IF(C53=7,VLOOKUP(U53,判定式!$D$15:I$19,6,TRUE),IF(C53=8,VLOOKUP(U53,判定式!$E$15:I$19,5,TRUE),IF(C53=9,VLOOKUP(U53,判定式!$F$15:I$19,4,TRUE),IF(C53=10,VLOOKUP(U53,判定式!$G$15:I$19,3,TRUE),IF(C53=11,VLOOKUP(U53,判定式!$H$15:I$19,2,TRUE))))))))","v":false}]
[34,null,null,"-",null,null,null,null,null,null,null,null,{"$f":"IF(E54=\"\",\"\",VLOOKUP(E54,判定式!C$3:$J$12,8,TRUE))","v":""},{"$f":"IF(F54=\"\",\"\",VLOOKUP(F54,判定式!D$3:$J$12,7,TRUE))","v":""},{"$f":"IF(G54=\"\",\"\",VLOOKUP(G54,判定式!E$3:$J$12,6,TRUE))","v":""},{"$f":"IF(H54=\"\",\"\",VLOOKUP(H54,判定式!F$3:$J$12,5,TRUE))","v":""},{"$f":"IF(I54=\"\",\"\",VLOOKUP(I54,判定式!I$3:$J$12,2,TRUE))","v":""},{"$f":"IF(J54=\"\",\"\",VLOOKUP(J54,判定式!L$3:$M$12,2,TRUE))","v":""},{"$f":"IF(K54=\"\",\"\",VLOOKUP(K54,判定式!G$3:$J$12,4,TRUE))","v":""},{"$f":"IF(L54=\"\",\"\",VLOOKUP(L54,判定式!H$3:$J$12,3,TRUE))","v":""},"",{"$f":"IF(ISNUMBER(D54),\"判定外\",IF(C54=6,VLOOKUP(U54,判定式!$C$15:I$19,7,TRUE),IF(C54=7,VLOOKUP(U54,判定式!$D$15:I$19,6,TRUE),IF(C54=8,VLOOKUP(U54,判定式!$E$15:I$19,5,TRUE),IF(C54=9,VLOOKUP(U54,判定式!$F$15:I$19,4,TRUE),IF(C54=10,VLOOKUP(U54,判定式!$G$15:I$19,3,TRUE),IF(C54=11,VLOOKUP(U54,判定式!$H$15:I$19,2,TRUE))))))))","v":false}]
[35,null,null,"-",null,null,null,null,null,null,null,null,{"$f":"IF(E55=\"\",\"\",VLOOKUP(E55,判定式!C$3:$J$12,8,TRUE))","v":""},{"$f":"IF(F55=\"\",\"\",VLOOKUP(F55,判定式!D$3:$J$12,7,TRUE))","v":""},{"$f":"IF(G55=\"\",\"\",VLOOKUP(G55,判定式!E$3:$J$12,6,TRUE))","v":""},{"$f":"IF(H55=\"\",\"\",VLOOKUP(H55,判定式!F$3:$J$12,5,TRUE))","v":""},{"$f":"IF(I55=\"\",\"\",VLOOKUP(I55,判定式!I$3:$J$12,2,TRUE))","v":""},{"$f":"IF(J55=\"\",\"\",VLOOKUP(J55,判定式!L$3:$M$12,2,TRUE))","v":""},{"$f":"IF(K55=\"\",\"\",VLOOKUP(K55,判定式!G$3:$J$12,4,TRUE))","v":""},{"$f":"IF(L55=\"\",\"\",VLOOKUP(L55,判定式!H$3:$J$12,3,TRUE))","v":""},"",{"$f":"IF(ISNUMBER(D55),\"判定外\",IF(C55=6,VLOOKUP(U55,判定式!$C$15:I$19,7,TRUE),IF(C55=7,VLOOKUP(U55,判定式!$D$15:I$19,6,TRUE),IF(C55=8,VLOOKUP(U55,判定式!$E$15:I$19,5,TRUE),IF(C55=9,VLOOKUP(U55,判定式!$F$15:I$19,4,TRUE),IF(C55=10,VLOOKUP(U55,判定式!$G$15:I$19,3,TRUE),IF(C55=11,VLOOKUP(U55,判定式!$H$15:I$19,2,TRUE))))))))","v":false}]
[36,null,null,"-",null,null,null,null,null,null,null,null,{"$f":"IF(E56=\"\",\"\",VLOOKUP(E56,判定式!C$3:$J$12,8,TRUE))","v":""},{"$f":"IF(F56=\"\",\"\",VLOOKUP(F56,判定式!D$3:$J$12,7,TRUE))","v":""},{"$f":"IF(G56=\"\",\"\",VLOOKUP(G56,判定式!E$3:$J$12,6,TRUE))","v":""},{"$f":"IF(H56=\"\",\"\",VLOOKUP(H56,判定式!F$3:$J$12,5,TRUE))","v":""},{"$f":"IF(I56=\"\",\"\",VLOOKUP(I56,判定式!I$3:$J$12,2,TRUE))","v":""},{"$f":"IF(J56=\"\",\"\",VLOOKUP(J56,判定式!L$3:$M$12,2,TRUE))","v":""},{"$f":"IF(K56=\"\",\"\",VLOOKUP(K56,判定式!G$3:$J$12,4,TRUE))","v":""},{"$f":"IF(L56=\"\",\"\",VLOOKUP(L56,判定式!H$3:$J$12,3,TRUE))","v":""},"",{"$f":"IF(ISNUMBER(D56),\"判定外\",IF(C56=6,VLOOKUP(U56,判定式!$C$15:I$19,7,TRUE),IF(C56=7,VLOOKUP(U56,判定式!$D$15:I$19,6,TRUE),IF(C56=8,VLOOKUP(U56,判定式!$E$15:I$19,5,TRUE),IF(C56=9,VLOOKUP(U56,判定式!$F$15:I$19,4,TRUE),IF(C56=10,VLOOKUP(U56,判定式!$G$15:I$19,3,TRUE),IF(C56=11,VLOOKUP(U56,判定式!$H$15:I$19,2,TRUE))))))))","v":false}]
[37,null,null,"-",null,null,null,null,null,null,null,null,{"$f":"IF(E57=\"\",\"\",VLOOKUP(E57,判定式!C$3:$J$12,8,TRUE))","v":""},{"$f":"IF(F57=\"\",\"\",VLOOKUP(F57,判定式!D$3:$J$12,7,TRUE))","v":""},{"$f":"IF(G57=\"\",\"\",VLOOKUP(G57,判定式!E$3:$J$12,6,TRUE))","v":""},{"$f":"IF(H57=\"\",\"\",VLOOKUP(H57,判定式!F$3:$J$12,5,TRUE))","v":""},{"$f":"IF(I57=\"\",\"\",VLOOKUP(I57,判定式!I$3:$J$12,2,TRUE))","v":""},{"$f":"IF(J57=\"\",\"\",VLOOKUP(J57,判定式!L$3:$M$12,2,TRUE))","v":""},{"$f":"IF(K57=\"\",\"\",VLOOKUP(K57,判定式!G$3:$J$12,4,TRUE))","v":""},{"$f":"IF(L57=\"\",\"\",VLOOKUP(L57,判定式!H$3:$J$12,3,TRUE))","v":""},"",{"$f":"IF(ISNUMBER(D57),\"判定外\",IF(C57=6,VLOOKUP(U57,判定式!$C$15:I$19,7,TRUE),IF(C57=7,VLOOKUP(U57,判定式!$D$15:I$19,6,TRUE),IF(C57=8,VLOOKUP(U57,判定式!$E$15:I$19,5,TRUE),IF(C57=9,VLOOKUP(U57,判定式!$F$15:I$19,4,TRUE),IF(C57=10,VLOOKUP(U57,判定式!$G$15:I$19,3,TRUE),IF(C57=11,VLOOKUP(U57,判定式!$H$15:I$19,2,TRUE))))))))","v":false}]
[38,null,null,"-",null,null,null,null,null,null,null,null,{"$f":"IF(E58=\"\",\"\",VLOOKUP(E58,判定式!C$3:$J$12,8,TRUE))","v":""},{"$f":"IF(F58=\"\",\"\",VLOOKUP(F58,判定式!D$3:$J$12,7,TRUE))","v":""},{"$f":"IF(G58=\"\",\"\",VLOOKUP(G58,判定式!E$3:$J$12,6,TRUE))","v":""},{"$f":"IF(H58=\"\",\"\",VLOOKUP(H58,判定式!F$3:$J$12,5,TRUE))","v":""},{"$f":"IF(I58=\"\",\"\",VLOOKUP(I58,判定式!I$3:$J$12,2,TRUE))","v":""},{"$f":"IF(J58=\"\",\"\",VLOOKUP(J58,判定式!L$3:$M$12,2,TRUE))","v":""},{"$f":"IF(K58=\"\",\"\",VLOOKUP(K58,判定式!G$3:$J$12,4,TRUE))","v":""},{"$f":"IF(L58=\"\",\"\",VLOOKUP(L58,判定式!H$3:$J$12,3,TRUE))","v":""},"",{"$f":"IF(ISNUMBER(D58),\"判定外\",IF(C58=6,VLOOKUP(U58,判定式!$C$15:I$19,7,TRUE),IF(C58=7,VLOOKUP(U58,判定式!$D$15:I$19,6,TRUE),IF(C58=8,VLOOKUP(U58,判定式!$E$15:I$19,5,TRUE),IF(C58=9,VLOOKUP(U58,判定式!$F$15:I$19,4,TRUE),IF(C58=10,VLOOKUP(U58,判定式!$G$15:I$19,3,TRUE),IF(C58=11,VLOOKUP(U58,判定式!$H$15:I$19,2,TRUE))))))))","v":false}]
[39,null,null,"-",null,null,null,null,null,null,null,null,{"$f":"IF(E59=\"\",\"\",VLOOKUP(E59,判定式!C$3:$J$12,8,TRUE))","v":""},{"$f":"IF(F59=\"\",\"\",VLOOKUP(F59,判定式!D$3:$J$12,7,TRUE))","v":""},{"$f":"IF(G59=\"\",\"\",VLOOKUP(G59,判定式!E$3:$J$12,6,TRUE))","v":""},{"$f":"IF(H59=\"\",\"\",VLOOKUP(H59,判定式!F$3:$J$12,5,TRUE))","v":""},{"$f":"IF(I59=\"\",\"\",VLOOKUP(I59,判定式!I$3:$J$12,2,TRUE))","v":""},{"$f":"IF(J59=\"\",\"\",VLOOKUP(J59,判定式!L$3:$M$12,2,TRUE))","v":""},{"$f":"IF(K59=\"\",\"\",VLOOKUP(K59,判定式!G$3:$J$12,4,TRUE))","v":""},{"$f":"IF(L59=\"\",\"\",VLOOKUP(L59,判定式!H$3:$J$12,3,TRUE))","v":""},"",{"$f":"IF(ISNUMBER(D59),\"判定外\",IF(C59=6,VLOOKUP(U59,判定式!$C$15:I$19,7,TRUE),IF(C59=7,VLOOKUP(U59,判定式!$D$15:I$19,6,TRUE),IF(C59=8,VLOOKUP(U59,判定式!$E$15:I$19,5,TRUE),IF(C59=9,VLOOKUP(U59,判定式!$F$15:I$19,4,TRUE),IF(C59=10,VLOOKUP(U59,判定式!$G$15:I$19,3,TRUE),IF(C59=11,VLOOKUP(U59,判定式!$H$15:I$19,2,TRUE))))))))","v":false}]
[40,null,null,"-",null,null,null,null,null,null,null,null,{"$f":"IF(E60=\"\",\"\",VLOOKUP(E60,判定式!C$3:$J$12,8,TRUE))","v":""},{"$f":"IF(F60=\"\",\"\",VLOOKUP(F60,判定式!D$3:$J$12,7,TRUE))","v":""},{"$f":"IF(G60=\"\",\"\",VLOOKUP(G60,判定式!E$3:$J$12,6,TRUE))","v":""},{"$f":"IF(H60=\"\",\"\",VLOOKUP(H60,判定式!F$3:$J$12,5,TRUE))","v":""},{"$f":"IF(I60=\"\",\"\",VLOOKUP(I60,判定式!I$3:$J$12,2,TRUE))","v":""},{"$f":"IF(J60=\"\",\"\",VLOOKUP(J60,判定式!L$3:$M$12,2,TRUE))","v":""},{"$f":"IF(K60=\"\",\"\",VLOOKUP(K60,判定式!G$3:$J$12,4,TRUE))","v":""},{"$f":"IF(L60=\"\",\"\",VLOOKUP(L60,判定式!H$3:$J$12,3,TRUE))","v":""},"",{"$f":"IF(ISNUMBER(D60),\"判定外\",IF(C60=6,VLOOKUP(U60,判定式!$C$15:I$19,7,TRUE),IF(C60=7,VLOOKUP(U60,判定式!$D$15:I$19,6,TRUE),IF(C60=8,VLOOKUP(U60,判定式!$E$15:I$19,5,TRUE),IF(C60=9,VLOOKUP(U60,判定式!$F$15:I$19,4,TRUE),IF(C60=10,VLOOKUP(U60,判定式!$G$15:I$19,3,TRUE),IF(C60=11,VLOOKUP(U60,判定式!$H$15:I$19,2,TRUE))))))))","v":false}]
[41,null,null,"-",null,null,null,null,null,null,null,null,{"$f":"IF(E61=\"\",\"\",VLOOKUP(E61,判定式!C$3:$J$12,8,TRUE))","v":""},{"$f":"IF(F61=\"\",\"\",VLOOKUP(F61,判定式!D$3:$J$12,7,TRUE))","v":""},{"$f":"IF(G61=\"\",\"\",VLOOKUP(G61,判定式!E$3:$J$12,6,TRUE))","v":""},{"$f":"IF(H61=\"\",\"\",VLOOKUP(H61,判定式!F$3:$J$12,5,TRUE))","v":""},{"$f":"IF(I61=\"\",\"\",VLOOKUP(I61,判定式!I$3:$J$12,2,TRUE))","v":""},{"$f":"IF(J61=\"\",\"\",VLOOKUP(J61,判定式!L$3:$M$12,2,TRUE))","v":""},{"$f":"IF(K61=\"\",\"\",VLOOKUP(K61,判定式!G$3:$J$12,4,TRUE))","v":""},{"$f":"IF(L61=\"\",\"\",VLOOKUP(L61,判定式!H$3:$J$12,3,TRUE))","v":""},"",{"$f":"IF(ISNUMBER(D61),\"判定外\",IF(C61=6,VLOOKUP(U61,判定式!$C$15:I$19,7,TRUE),IF(C61=7,VLOOKUP(U61,判定式!$D$15:I$19,6,TRUE),IF(C61=8,VLOOKUP(U61,判定式!$E$15:I$19,5,TRUE),IF(C61=9,VLOOKUP(U61,判定式!$F$15:I$19,4,TRUE),IF(C61=10,VLOOKUP(U61,判定式!$G$15:I$19,3,TRUE),IF(C61=11,VLOOKUP(U61,判定式!$H$15:I$19,2,TRUE))))))))","v":false}]
[42,null,null,"-",null,null,null,null,null,null,null,null,{"$f":"IF(E62=\"\",\"\",VLOOKUP(E62,判定式!C$3:$J$12,8,TRUE))","v":""},{"$f":"IF(F62=\"\",\"\",VLOOKUP(F62,判定式!D$3:$J$12,7,TRUE))","v":""},{"$f":"IF(G62=\"\",\"\",VLOOKUP(G62,判定式!E$3:$J$12,6,TRUE))","v":""},{"$f":"IF(H62=\"\",\"\",VLOOKUP(H62,判定式!F$3:$J$12,5,TRUE))","v":""},{"$f":"IF(I62=\"\",\"\",VLOOKUP(I62,判定式!I$3:$J$12,2,TRUE))","v":""},{"$f":"IF(J62=\"\",\"\",VLOOKUP(J62,判定式!L$3:$M$12,2,TRUE))","v":""},{"$f":"IF(K62=\"\",\"\",VLOOKUP(K62,判定式!G$3:$J$12,4,TRUE))","v":""},{"$f":"IF(L62=\"\",\"\",VLOOKUP(L62,判定式!H$3:$J$12,3,TRUE))","v":""},"",{"$f":"IF(ISNUMBER(D62),\"判定外\",IF(C62=6,VLOOKUP(U62,判定式!$C$15:I$19,7,TRUE),IF(C62=7,VLOOKUP(U62,判定式!$D$15:I$19,6,TRUE),IF(C62=8,VLOOKUP(U62,判定式!$E$15:I$19,5,TRUE),IF(C62=9,VLOOKUP(U62,判定式!$F$15:I$19,4,TRUE),IF(C62=10,VLOOKUP(U62,判定式!$G$15:I$19,3,TRUE),IF(C62=11,VLOOKUP(U62,判定式!$H$15:I$19,2,TRUE))))))))","v":false}]
[43,null,null,"-",null,null,null,null,null,null,null,null,{"$f":"IF(E63=\"\",\"\",VLOOKUP(E63,判定式!C$3:$J$12,8,TRUE))","v":""},{"$f":"IF(F63=\"\",\"\",VLOOKUP(F63,判定式!D$3:$J$12,7,TRUE))","v":""},{"$f":"IF(G63=\"\",\"\",VLOOKUP(G63,判定式!E$3:$J$12,6,TRUE))","v":""},{"$f":"IF(H63=\"\",\"\",VLOOKUP(H63,判定式!F$3:$J$12,5,TRUE))","v":""},{"$f":"IF(I63=\"\",\"\",VLOOKUP(I63,判定式!I$3:$J$12,2,TRUE))","v":""},{"$f":"IF(J63=\"\",\"\",VLOOKUP(J63,判定式!L$3:$M$12,2,TRUE))","v":""},{"$f":"IF(K63=\"\",\"\",VLOOKUP(K63,判定式!G$3:$J$12,4,TRUE))","v":""},{"$f":"IF(L63=\"\",\"\",VLOOKUP(L63,判定式!H$3:$J$12,3,TRUE))","v":""},"",{"$f":"IF(ISNUMBER(D63),\"判定外\",IF(C63=6,VLOOKUP(U63,判定式!$C$15:I$19,7,TRUE),IF(C63=7,VLOOKUP(U63,判定式!$D$15:I$19,6,TRUE),IF(C63=8,VLOOKUP(U63,判定式!$E$15:I$19,5,TRUE),IF(C63=9,VLOOKUP(U63,判定式!$F$15:I$19,4,TRUE),IF(C63=10,VLOOKUP(U63,判定式!$G$15:I$19,3,TRUE),IF(C63=11,VLOOKUP(U63,判定式!$H$15:I$19,2,TRUE))))))))","v":false}]
[44,null,null,"-",null,null,null,null,null,null,null,null,{"$f":"IF(E64=\"\",\"\",VLOOKUP(E64,判定式!C$3:$J$12,8,TRUE))","v":""},{"$f":"IF(F64=\"\",\"\",VLOOKUP(F64,判定式!D$3:$J$12,7,TRUE))","v":""},{"$f":"IF(G64=\"\",\"\",VLOOKUP(G64,判定式!E$3:$J$12,6,TRUE))","v":""},{"$f":"IF(H64=\"\",\"\",VLOOKUP(H64,判定式!F$3:$J$12,5,TRUE))","v":""},{"$f":"IF(I64=\"\",\"\",VLOOKUP(I64,判定式!I$3:$J$12,2,TRUE))","v":""},{"$f":"IF(J64=\"\",\"\",VLOOKUP(J64,判定式!L$3:$M$12,2,TRUE))","v":""},{"$f":"IF(K64=\"\",\"\",VLOOKUP(K64,判定式!G$3:$J$12,4,TRUE))","v":""},{"$f":"IF(L64=\"\",\"\",VLOOKUP(L64,判定式!H$3:$J$12,3,TRUE))","v":""},"",{"$f":"IF(ISNUMBER(D64),\"判定外\",IF(C64=6,VLOOKUP(U64,判定式!$C$15:I$19,7,TRUE),IF(C64=7,VLOOKUP(U64,判定式!$D$15:I$19,6,TRUE),IF(C64=8,VLOOKUP(U64,判定式!$E$15:I$19,5,TRUE),IF(C64=9,VLOOKUP(U64,判定式!$F$15:I$19,4,TRUE),IF(C64=10,VLOOKUP(U64,判定式!$G$15:I$19,3,TRUE),IF(C64=11,VLOOKUP(U64,判定式!$H$15:I$19,2,TRUE))))))))","v":false}]
[45,null,null,"-",null,null,null,null,null,null,null,null,{"$f":"IF(E65=\"\",\"\",VLOOKUP(E65,判定式!C$3:$J$12,8,TRUE))","v":""},{"$f":"IF(F65=\"\",\"\",VLOOKUP(F65,判定式!D$3:$J$12,7,TRUE))","v":""},{"$f":"IF(G65=\"\",\"\",VLOOKUP(G65,判定式!E$3:$J$12,6,TRUE))","v":""},{"$f":"IF(H65=\"\",\"\",VLOOKUP(H65,判定式!F$3:$J$12,5,TRUE))","v":""},{"$f":"IF(I65=\"\",\"\",VLOOKUP(I65,判定式!I$3:$J$12,2,TRUE))","v":""},{"$f":"IF(J65=\"\",\"\",VLOOKUP(J65,判定式!L$3:$M$12,2,TRUE))","v":""},{"$f":"IF(K65=\"\",\"\",VLOOKUP(K65,判定式!G$3:$J$12,4,TRUE))","v":""},{"$f":"IF(L65=\"\",\"\",VLOOKUP(L65,判定式!H$3:$J$12,3,TRUE))","v":""},"",{"$f":"IF(ISNUMBER(D65),\"判定外\",IF(C65=6,VLOOKUP(U65,判定式!$C$15:I$19,7,TRUE),IF(C65=7,VLOOKUP(U65,判定式!$D$15:I$19,6,TRUE),IF(C65=8,VLOOKUP(U65,判定式!$E$15:I$19,5,TRUE),IF(C65=9,VLOOKUP(U65,判定式!$F$15:I$19,4,TRUE),IF(C65=10,VLOOKUP(U65,判定式!$G$15:I$19,3,TRUE),IF(C65=11,VLOOKUP(U65,判定式!$H$15:I$19,2,TRUE))))))))","v":false}]
[46,null,null,"-",null,null,null,null,null,null,null,null,{"$f":"IF(E66=\"\",\"\",VLOOKUP(E66,判定式!C$3:$J$12,8,TRUE))","v":""},{"$f":"IF(F66=\"\",\"\",VLOOKUP(F66,判定式!D$3:$J$12,7,TRUE))","v":""},{"$f":"IF(G66=\"\",\"\",VLOOKUP(G66,判定式!E$3:$J$12,6,TRUE))","v":""},{"$f":"IF(H66=\"\",\"\",VLOOKUP(H66,判定式!F$3:$J$12,5,TRUE))","v":""},{"$f":"IF(I66=\"\",\"\",VLOOKUP(I66,判定式!I$3:$J$12,2,TRUE))","v":""},{"$f":"IF(J66=\"\",\"\",VLOOKUP(J66,判定式!L$3:$M$12,2,TRUE))","v":""},{"$f":"IF(K66=\"\",\"\",VLOOKUP(K66,判定式!G$3:$J$12,4,TRUE))","v":""},{"$f":"IF(L66=\"\",\"\",VLOOKUP(L66,判定式!H$3:$J$12,3,TRUE))","v":""},"",{"$f":"IF(ISNUMBER(D66),\"判定外\",IF(C66=6,VLOOKUP(U66,判定式!$C$15:I$19,7,TRUE),IF(C66=7,VLOOKUP(U66,判定式!$D$15:I$19,6,TRUE),IF(C66=8,VLOOKUP(U66,判定式!$E$15:I$19,5,TRUE),IF(C66=9,VLOOKUP(U66,判定式!$F$15:I$19,4,TRUE),IF(C66=10,VLOOKUP(U66,判定式!$G$15:I$19,3,TRUE),IF(C66=11,VLOOKUP(U66,判定式!$H$15:I$19,2,TRUE))))))))","v":false}]
[47,null,null,"-",null,null,null,null,null,null,null,null,{"$f":"IF(E67=\"\",\"\",VLOOKUP(E67,判定式!C$3:$J$12,8,TRUE))","v":""},{"$f":"IF(F67=\"\",\"\",VLOOKUP(F67,判定式!D$3:$J$12,7,TRUE))","v":""},{"$f":"IF(G67=\"\",\"\",VLOOKUP(G67,判定式!E$3:$J$12,6,TRUE))","v":""},{"$f":"IF(H67=\"\",\"\",VLOOKUP(H67,判定式!F$3:$J$12,5,TRUE))","v":""},{"$f":"IF(I67=\"\",\"\",VLOOKUP(I67,判定式!I$3:$J$12,2,TRUE))","v":""},{"$f":"IF(J67=\"\",\"\",VLOOKUP(J67,判定式!L$3:$M$12,2,TRUE))","v":""},{"$f":"IF(K67=\"\",\"\",VLOOKUP(K67,判定式!G$3:$J$12,4,TRUE))","v":""},{"$f":"IF(L67=\"\",\"\",VLOOKUP(L67,判定式!H$3:$J$12,3,TRUE))","v":""},"",{"$f":"IF(ISNUMBER(D67),\"判定外\",IF(C67=6,VLOOKUP(U67,判定式!$C$15:I$19,7,TRUE),IF(C67=7,VLOOKUP(U67,判定式!$D$15:I$19,6,TRUE),IF(C67=8,VLOOKUP(U67,判定式!$E$15:I$19,5,TRUE),IF(C67=9,VLOOKUP(U67,判定式!$F$15:I$19,4,TRUE),IF(C67=10,VLOOKUP(U67,判定式!$G$15:I$19,3,TRUE),IF(C67=11,VLOOKUP(U67,判定式!$H$15:I$19,2,TRUE))))))))","v":false}]
[48,null,null,"-",null,null,null,null,null,null,null,null,{"$f":"IF(E68=\"\",\"\",VLOOKUP(E68,判定式!C$3:$J$12,8,TRUE))","v":""},{"$f":"IF(F68=\"\",\"\",VLOOKUP(F68,判定式!D$3:$J$12,7,TRUE))","v":""},{"$f":"IF(G68=\"\",\"\",VLOOKUP(G68,判定式!E$3:$J$12,6,TRUE))","v":""},{"$f":"IF(H68=\"\",\"\",VLOOKUP(H68,判定式!F$3:$J$12,5,TRUE))","v":""},{"$f":"IF(I68=\"\",\"\",VLOOKUP(I68,判定式!I$3:$J$12,2,TRUE))","v":""},{"$f":"IF(J68=\"\",\"\",VLOOKUP(J68,判定式!L$3:$M$12,2,TRUE))","v":""},{"$f":"IF(K68=\"\",\"\",VLOOKUP(K68,判定式!G$3:$J$12,4,TRUE))","v":""},{"$f":"IF(L68=\"\",\"\",VLOOKUP(L68,判定式!H$3:$J$12,3,TRUE))","v":""},"",{"$f":"IF(ISNUMBER(D68),\"判定外\",IF(C68=6,VLOOKUP(U68,判定式!$C$15:I$19,7,TRUE),IF(C68=7,VLOOKUP(U68,判定式!$D$15:I$19,6,TRUE),IF(C68=8,VLOOKUP(U68,判定式!$E$15:I$19,5,TRUE),IF(C68=9,VLOOKUP(U68,判定式!$F$15:I$19,4,TRUE),IF(C68=10,VLOOKUP(U68,判定式!$G$15:I$19,3,TRUE),IF(C68=11,VLOOKUP(U68,判定式!$H$15:I$19,2,TRUE))))))))","v":false}]
[49,null,null,"-",null,null,null,null,null,null,null,null,{"$f":"IF(E69=\"\",\"\",VLOOKUP(E69,判定式!C$3:$J$12,8,TRUE))","v":""},{"$f":"IF(F69=\"\",\"\",VLOOKUP(F69,判定式!D$3:$J$12,7,TRUE))","v":""},{"$f":"IF(G69=\"\",\"\",VLOOKUP(G69,判定式!E$3:$J$12,6,TRUE))","v":""},{"$f":"IF(H69=\"\",\"\",VLOOKUP(H69,判定式!F$3:$J$12,5,TRUE))","v":""},{"$f":"IF(I69=\"\",\"\",VLOOKUP(I69,判定式!I$3:$J$12,2,TRUE))","v":""},{"$f":"IF(J69=\"\",\"\",VLOOKUP(J69,判定式!L$3:$M$12,2,TRUE))","v":""},{"$f":"IF(K69=\"\",\"\",VLOOKUP(K69,判定式!G$3:$J$12,4,TRUE))","v":""},{"$f":"IF(L69=\"\",\"\",VLOOKUP(L69,判定式!H$3:$J$12,3,TRUE))","v":""},"",{"$f":"IF(ISNUMBER(D69),\"判定外\",IF(C69=6,VLOOKUP(U69,判定式!$C$15:I$19,7,TRUE),IF(C69=7,VLOOKUP(U69,判定式!$D$15:I$19,6,TRUE),IF(C69=8,VLOOKUP(U69,判定式!$E$15:I$19,5,TRUE),IF(C69=9,VLOOKUP(U69,判定式!$F$15:I$19,4,TRUE),IF(C69=10,VLOOKUP(U69,判定式!$G$15:I$19,3,TRUE),IF(C69=11,VLOOKUP(U69,判定式!$H$15:I$19,2,TRUE))))))))","v":false}]
[50,null,null,"-",null,null,null,null,null,null,null,null,{"$f":"IF(E70=\"\",\"\",VLOOKUP(E70,判定式!C$3:$J$12,8,TRUE))","v":""},{"$f":"IF(F70=\"\",\"\",VLOOKUP(F70,判定式!D$3:$J$12,7,TRUE))","v":""},{"$f":"IF(G70=\"\",\"\",VLOOKUP(G70,判定式!E$3:$J$12,6,TRUE))","v":""},{"$f":"IF(H70=\"\",\"\",VLOOKUP(H70,判定式!F$3:$J$12,5,TRUE))","v":""},{"$f":"IF(I70=\"\",\"\",VLOOKUP(I70,判定式!I$3:$J$12,2,TRUE))","v":""},{"$f":"IF(J70=\"\",\"\",VLOOKUP(J70,判定式!L$3:$M$12,2,TRUE))","v":""},{"$f":"IF(K70=\"\",\"\",VLOOKUP(K70,判定式!G$3:$J$12,4,TRUE))","v":""},{"$f":"IF(L70=\"\",\"\",VLOOKUP(L70,判定式!H$3:$J$12,3,TRUE))","v":""},"",{"$f":"IF(ISNUMBER(D70),\"判定外\",IF(C70=6,VLOOKUP(U70,判定式!$C$15:I$19,7,TRUE),IF(C70=7,VLOOKUP(U70,判定式!$D$15:I$19,6,TRUE),IF(C70=8,VLOOKUP(U70,判定式!$E$15:I$19,5,TRUE),IF(C70=9,VLOOKUP(U70,判定式!$F$15:I$19,4,TRUE),IF(C70=10,VLOOKUP(U70,判定式!$G$15:I$19,3,TRUE),IF(C70=11,VLOOKUP(U70,判定式!$H$15:I$19,2,TRUE))))))))","v":false}]
[51,null,null,"-",null,null,null,null,null,null,null,null,{"$f":"IF(E71=\"\",\"\",VLOOKUP(E71,判定式!C$3:$J$12,8,TRUE))","v":""},{"$f":"IF(F71=\"\",\"\",VLOOKUP(F71,判定式!D$3:$J$12,7,TRUE))","v":""},{"$f":"IF(G71=\"\",\"\",VLOOKUP(G71,判定式!E$3:$J$12,6,TRUE))","v":""},{"$f":"IF(H71=\"\",\"\",VLOOKUP(H71,判定式!F$3:$J$12,5,TRUE))","v":""},{"$f":"IF(I71=\"\",\"\",VLOOKUP(I71,判定式!I$3:$J$12,2,TRUE))","v":""},{"$f":"IF(J71=\"\",\"\",VLOOKUP(J71,判定式!L$3:$M$12,2,TRUE))","v":""},{"$f":"IF(K71=\"\",\"\",VLOOKUP(K71,判定式!G$3:$J$12,4,TRUE))","v":""},{"$f":"IF(L71=\"\",\"\",VLOOKUP(L71,判定式!H$3:$J$12,3,TRUE))","v":""},"",{"$f":"IF(ISNUMBER(D71),\"判定外\",IF(C71=6,VLOOKUP(U71,判定式!$C$15:I$19,7,TRUE),IF(C71=7,VLOOKUP(U71,判定式!$D$15:I$19,6,TRUE),IF(C71=8,VLOOKUP(U71,判定式!$E$15:I$19,5,TRUE),IF(C71=9,VLOOKUP(U71,判定式!$F$15:I$19,4,TRUE),IF(C71=10,VLOOKUP(U71,判定式!$G$15:I$19,3,TRUE),IF(C71=11,VLOOKUP(U71,判定式!$H$15:I$19,2,TRUE))))))))","v":false}]
[52,null,null,"-",null,null,null,null,null,null,null,null,{"$f":"IF(E72=\"\",\"\",VLOOKUP(E72,判定式!C$3:$J$12,8,TRUE))","v":""},{"$f":"IF(F72=\"\",\"\",VLOOKUP(F72,判定式!D$3:$J$12,7,TRUE))","v":""},{"$f":"IF(G72=\"\",\"\",VLOOKUP(G72,判定式!E$3:$J$12,6,TRUE))","v":""},{"$f":"IF(H72=\"\",\"\",VLOOKUP(H72,判定式!F$3:$J$12,5,TRUE))","v":""},{"$f":"IF(I72=\"\",\"\",VLOOKUP(I72,判定式!I$3:$J$12,2,TRUE))","v":""},{"$f":"IF(J72=\"\",\"\",VLOOKUP(J72,判定式!L$3:$M$12,2,TRUE))","v":""},{"$f":"IF(K72=\"\",\"\",VLOOKUP(K72,判定式!G$3:$J$12,4,TRUE))","v":""},{"$f":"IF(L72=\"\",\"\",VLOOKUP(L72,判定式!H$3:$J$12,3,TRUE))","v":""},"",{"$f":"IF(ISNUMBER(D72),\"判定外\",IF(C72=6,VLOOKUP(U72,判定式!$C$15:I$19,7,TRUE),IF(C72=7,VLOOKUP(U72,判定式!$D$15:I$19,6,TRUE),IF(C72=8,VLOOKUP(U72,判定式!$E$15:I$19,5,TRUE),IF(C72=9,VLOOKUP(U72,判定式!$F$15:I$19,4,TRUE),IF(C72=10,VLOOKUP(U72,判定式!$G$15:I$19,3,TRUE),IF(C72=11,VLOOKUP(U72,判定式!$H$15:I$19,2,TRUE))))))))","v":false}]
[53,null,null,"-",null,null,null,null,null,null,null,null,{"$f":"IF(E73=\"\",\"\",VLOOKUP(E73,判定式!C$3:$J$12,8,TRUE))","v":""},{"$f":"IF(F73=\"\",\"\",VLOOKUP(F73,判定式!D$3:$J$12,7,TRUE))","v":""},{"$f":"IF(G73=\"\",\"\",VLOOKUP(G73,判定式!E$3:$J$12,6,TRUE))","v":""},{"$f":"IF(H73=\"\",\"\",VLOOKUP(H73,判定式!F$3:$J$12,5,TRUE))","v":""},{"$f":"IF(I73=\"\",\"\",VLOOKUP(I73,判定式!I$3:$J$12,2,TRUE))","v":""},{"$f":"IF(J73=\"\",\"\",VLOOKUP(J73,判定式!L$3:$M$12,2,TRUE))","v":""},{"$f":"IF(K73=\"\",\"\",VLOOKUP(K73,判定式!G$3:$J$12,4,TRUE))","v":""},{"$f":"IF(L73=\"\",\"\",VLOOKUP(L73,判定式!H$3:$J$12,3,TRUE))","v":""},"",{"$f":"IF(ISNUMBER(D73),\"判定外\",IF(C73=6,VLOOKUP(U73,判定式!$C$15:I$19,7,TRUE),IF(C73=7,VLOOKUP(U73,判定式!$D$15:I$19,6,TRUE),IF(C73=8,VLOOKUP(U73,判定式!$E$15:I$19,5,TRUE),IF(C73=9,VLOOKUP(U73,判定式!$F$15:I$19,4,TRUE),IF(C73=10,VLOOKUP(U73,判定式!$G$15:I$19,3,TRUE),IF(C73=11,VLOOKUP(U73,判定式!$H$15:I$19,2,TRUE))))))))","v":false}]
[54,null,null,"-",null,null,null,null,null,null,null,null,{"$f":"IF(E74=\"\",\"\",VLOOKUP(E74,判定式!C$3:$J$12,8,TRUE))","v":""},{"$f":"IF(F74=\"\",\"\",VLOOKUP(F74,判定式!D$3:$J$12,7,TRUE))","v":""},{"$f":"IF(G74=\"\",\"\",VLOOKUP(G74,判定式!E$3:$J$12,6,TRUE))","v":""},{"$f":"IF(H74=\"\",\"\",VLOOKUP(H74,判定式!F$3:$J$12,5,TRUE))","v":""},{"$f":"IF(I74=\"\",\"\",VLOOKUP(I74,判定式!I$3:$J$12,2,TRUE))","v":""},{"$f":"IF(J74=\"\",\"\",VLOOKUP(J74,判定式!L$3:$M$12,2,TRUE))","v":""},{"$f":"IF(K74=\"\",\"\",VLOOKUP(K74,判定式!G$3:$J$12,4,TRUE))","v":""},{"$f":"IF(L74=\"\",\"\",VLOOKUP(L74,判定式!H$3:$J$12,3,TRUE))","v":""},"",{"$f":"IF(ISNUMBER(D74),\"判定外\",IF(C74=6,VLOOKUP(U74,判定式!$C$15:I$19,7,TRUE),IF(C74=7,VLOOKUP(U74,判定式!$D$15:I$19,6,TRUE),IF(C74=8,VLOOKUP(U74,判定式!$E$15:I$19,5,TRUE),IF(C74=9,VLOOKUP(U74,判定式!$F$15:I$19,4,TRUE),IF(C74=10,VLOOKUP(U74,判定式!$G$15:I$19,3,TRUE),IF(C74=11,VLOOKUP(U74,判定式!$H$15:I$19,2,TRUE))))))))","v":false}]
[55,null,null,"-",null,null,null,null,null,null,null,null,{"$f":"IF(E75=\"\",\"\",VLOOKUP(E75,判定式!C$3:$J$12,8,TRUE))","v":""},{"$f":"IF(F75=\"\",\"\",VLOOKUP(F75,判定式!D$3:$J$12,7,TRUE))","v":""},{"$f":"IF(G75=\"\",\"\",VLOOKUP(G75,判定式!E$3:$J$12,6,TRUE))","v":""},{"$f":"IF(H75=\"\",\"\",VLOOKUP(H75,判定式!F$3:$J$12,5,TRUE))","v":""},{"$f":"IF(I75=\"\",\"\",VLOOKUP(I75,判定式!I$3:$J$12,2,TRUE))","v":""},{"$f":"IF(J75=\"\",\"\",VLOOKUP(J75,判定式!L$3:$M$12,2,TRUE))","v":""},{"$f":"IF(K75=\"\",\"\",VLOOKUP(K75,判定式!G$3:$J$12,4,TRUE))","v":""},{"$f":"IF(L75=\"\",\"\",VLOOKUP(L75,判定式!H$3:$J$12,3,TRUE))","v":""},"",{"$f":"IF(ISNUMBER(D75),\"判定外\",IF(C75=6,VLOOKUP(U75,判定式!$C$15:I$19,7,TRUE),IF(C75=7,VLOOKUP(U75,判定式!$D$15:I$19,6,TRUE),IF(C75=8,VLOOKUP(U75,判定式!$E$15:I$19,5,TRUE),IF(C75=9,VLOOKUP(U75,判定式!$F$15:I$19,4,TRUE),IF(C75=10,VLOOKUP(U75,判定式!$G$15:I$19,3,TRUE),IF(C75=11,VLOOKUP(U75,判定式!$H$15:I$19,2,TRUE))))))))","v":false}]
[56,null,null,"-",null,null,null,null,null,null,null,null,{"$f":"IF(E76=\"\",\"\",VLOOKUP(E76,判定式!C$3:$J$12,8,TRUE))","v":""},{"$f":"IF(F76=\"\",\"\",VLOOKUP(F76,判定式!D$3:$J$12,7,TRUE))","v":""},{"$f":"IF(G76=\"\",\"\",VLOOKUP(G76,判定式!E$3:$J$12,6,TRUE))","v":""},{"$f":"IF(H76=\"\",\"\",VLOOKUP(H76,判定式!F$3:$J$12,5,TRUE))","v":""},{"$f":"IF(I76=\"\",\"\",VLOOKUP(I76,判定式!I$3:$J$12,2,TRUE))","v":""},{"$f":"IF(J76=\"\",\"\",VLOOKUP(J76,判定式!L$3:$M$12,2,TRUE))","v":""},{"$f":"IF(K76=\"\",\"\",VLOOKUP(K76,判定式!G$3:$J$12,4,TRUE))","v":""},{"$f":"IF(L76=\"\",\"\",VLOOKUP(L76,判定式!H$3:$J$12,3,TRUE))","v":""},"",{"$f":"IF(ISNUMBER(D76),\"判定外\",IF(C76=6,VLOOKUP(U76,判定式!$C$15:I$19,7,TRUE),IF(C76=7,VLOOKUP(U76,判定式!$D$15:I$19,6,TRUE),IF(C76=8,VLOOKUP(U76,判定式!$E$15:I$19,5,TRUE),IF(C76=9,VLOOKUP(U76,判定式!$F$15:I$19,4,TRUE),IF(C76=10,VLOOKUP(U76,判定式!$G$15:I$19,3,TRUE),IF(C76=11,VLOOKUP(U76,判定式!$H$15:I$19,2,TRUE))))))))","v":false}]
[57,null,null,"-",null,null,null,null,null,null,null,null,{"$f":"IF(E77=\"\",\"\",VLOOKUP(E77,判定式!C$3:$J$12,8,TRUE))","v":""},{"$f":"IF(F77=\"\",\"\",VLOOKUP(F77,判定式!D$3:$J$12,7,TRUE))","v":""},{"$f":"IF(G77=\"\",\"\",VLOOKUP(G77,判定式!E$3:$J$12,6,TRUE))","v":""},{"$f":"IF(H77=\"\",\"\",VLOOKUP(H77,判定式!F$3:$J$12,5,TRUE))","v":""},{"$f":"IF(I77=\"\",\"\",VLOOKUP(I77,判定式!I$3:$J$12,2,TRUE))","v":""},{"$f":"IF(J77=\"\",\"\",VLOOKUP(J77,判定式!L$3:$M$12,2,TRUE))","v":""},{"$f":"IF(K77=\"\",\"\",VLOOKUP(K77,判定式!G$3:$J$12,4,TRUE))","v":""},{"$f":"IF(L77=\"\",\"\",VLOOKUP(L77,判定式!H$3:$J$12,3,TRUE))","v":""},"",{"$f":"IF(ISNUMBER(D77),\"判定外\",IF(C77=6,VLOOKUP(U77,判定式!$C$15:I$19,7,TRUE),IF(C77=7,VLOOKUP(U77,判定式!$D$15:I$19,6,TRUE),IF(C77=8,VLOOKUP(U77,判定式!$E$15:I$19,5,TRUE),IF(C77=9,VLOOKUP(U77,判定式!$F$15:I$19,4,TRUE),IF(C77=10,VLOOKUP(U77,判定式!$G$15:I$19,3,TRUE),IF(C77=11,VLOOKUP(U77,判定式!$H$15:I$19,2,TRUE))))))))","v":false}]
[58,null,null,"-",null,null,null,null,null,null,null,null,{"$f":"IF(E78=\"\",\"\",VLOOKUP(E78,判定式!C$3:$J$12,8,TRUE))","v":""},{"$f":"IF(F78=\"\",\"\",VLOOKUP(F78,判定式!D$3:$J$12,7,TRUE))","v":""},{"$f":"IF(G78=\"\",\"\",VLOOKUP(G78,判定式!E$3:$J$12,6,TRUE))","v":""},{"$f":"IF(H78=\"\",\"\",VLOOKUP(H78,判定式!F$3:$J$12,5,TRUE))","v":""},{"$f":"IF(I78=\"\",\"\",VLOOKUP(I78,判定式!I$3:$J$12,2,TRUE))","v":""},{"$f":"IF(J78=\"\",\"\",VLOOKUP(J78,判定式!L$3:$M$12,2,TRUE))","v":""},{"$f":"IF(K78=\"\",\"\",VLOOKUP(K78,判定式!G$3:$J$12,4,TRUE))","v":""},{"$f":"IF(L78=\"\",\"\",VLOOKUP(L78,判定式!H$3:$J$12,3,TRUE))","v":""},"",{"$f":"IF(ISNUMBER(D78),\"判定外\",IF(C78=6,VLOOKUP(U78,判定式!$C$15:I$19,7,TRUE),IF(C78=7,VLOOKUP(U78,判定式!$D$15:I$19,6,TRUE),IF(C78=8,VLOOKUP(U78,判定式!$E$15:I$19,5,TRUE),IF(C78=9,VLOOKUP(U78,判定式!$F$15:I$19,4,TRUE),IF(C78=10,VLOOKUP(U78,判定式!$G$15:I$19,3,TRUE),IF(C78=11,VLOOKUP(U78,判定式!$H$15:I$19,2,TRUE))))))))","v":false}]
[59,null,null,"-",null,null,null,null,null,null,null,null,{"$f":"IF(E79=\"\",\"\",VLOOKUP(E79,判定式!C$3:$J$12,8,TRUE))","v":""},{"$f":"IF(F79=\"\",\"\",VLOOKUP(F79,判定式!D$3:$J$12,7,TRUE))","v":""},{"$f":"IF(G79=\"\",\"\",VLOOKUP(G79,判定式!E$3:$J$12,6,TRUE))","v":""},{"$f":"IF(H79=\"\",\"\",VLOOKUP(H79,判定式!F$3:$J$12,5,TRUE))","v":""},{"$f":"IF(I79=\"\",\"\",VLOOKUP(I79,判定式!I$3:$J$12,2,TRUE))","v":""},{"$f":"IF(J79=\"\",\"\",VLOOKUP(J79,判定式!L$3:$M$12,2,TRUE))","v":""},{"$f":"IF(K79=\"\",\"\",VLOOKUP(K79,判定式!G$3:$J$12,4,TRUE))","v":""},{"$f":"IF(L79=\"\",\"\",VLOOKUP(L79,判定式!H$3:$J$12,3,TRUE))","v":""},"",{"$f":"IF(ISNUMBER(D79),\"判定外\",IF(C79=6,VLOOKUP(U79,判定式!$C$15:I$19,7,TRUE),IF(C79=7,VLOOKUP(U79,判定式!$D$15:I$19,6,TRUE),IF(C79=8,VLOOKUP(U79,判定式!$E$15:I$19,5,TRUE),IF(C79=9,VLOOKUP(U79,判定式!$F$15:I$19,4,TRUE),IF(C79=10,VLOOKUP(U79,判定式!$G$15:I$19,3,TRUE),IF(C79=11,VLOOKUP(U79,判定式!$H$15:I$19,2,TRUE))))))))","v":false}]
[60,null,null,"-",null,null,null,null,null,null,null,null,{"$f":"IF(E80=\"\",\"\",VLOOKUP(E80,判定式!C$3:$J$12,8,TRUE))","v":""},{"$f":"IF(F80=\"\",\"\",VLOOKUP(F80,判定式!D$3:$J$12,7,TRUE))","v":""},{"$f":"IF(G80=\"\",\"\",VLOOKUP(G80,判定式!E$3:$J$12,6,TRUE))","v":""},{"$f":"IF(H80=\"\",\"\",VLOOKUP(H80,判定式!F$3:$J$12,5,TRUE))","v":""},{"$f":"IF(I80=\"\",\"\",VLOOKUP(I80,判定式!I$3:$J$12,2,TRUE))","v":""},{"$f":"IF(J80=\"\",\"\",VLOOKUP(J80,判定式!L$3:$M$12,2,TRUE))","v":""},{"$f":"IF(K80=\"\",\"\",VLOOKUP(K80,判定式!G$3:$J$12,4,TRUE))","v":""},{"$f":"IF(L80=\"\",\"\",VLOOKUP(L80,判定式!H$3:$J$12,3,TRUE))","v":""},"",{"$f":"IF(ISNUMBER(D80),\"判定外\",IF(C80=6,VLOOKUP(U80,判定式!$C$15:I$19,7,TRUE),IF(C80=7,VLOOKUP(U80,判定式!$D$15:I$19,6,TRUE),IF(C80=8,VLOOKUP(U80,判定式!$E$15:I$19,5,TRUE),IF(C80=9,VLOOKUP(U80,判定式!$F$15:I$19,4,TRUE),IF(C80=10,VLOOKUP(U80,判定式!$G$15:I$19,3,TRUE),IF(C80=11,VLOOKUP(U80,判定式!$H$15:I$19,2,TRUE))))))))","v":false}]
[61,null,null,"-",null,null,null,null,null,null,null,null,{"$f":"IF(E81=\"\",\"\",VLOOKUP(E81,判定式!C$3:$J$12,8,TRUE))","v":""},{"$f":"IF(F81=\"\",\"\",VLOOKUP(F81,判定式!D$3:$J$12,7,TRUE))","v":""},{"$f":"IF(G81=\"\",\"\",VLOOKUP(G81,判定式!E$3:$J$12,6,TRUE))","v":""},{"$f":"IF(H81=\"\",\"\",VLOOKUP(H81,判定式!F$3:$J$12,5,TRUE))","v":""},{"$f":"IF(I81=\"\",\"\",VLOOKUP(I81,判定式!I$3:$J$12,2,TRUE))","v":""},{"$f":"IF(J81=\"\",\"\",VLOOKUP(J81,判定式!L$3:$M$12,2,TRUE))","v":""},{"$f":"IF(K81=\"\",\"\",VLOOKUP(K81,判定式!G$3:$J$12,4,TRUE))","v":""},{"$f":"IF(L81=\"\",\"\",VLOOKUP(L81,判定式!H$3:$J$12,3,TRUE))","v":""},"",{"$f":"IF(ISNUMBER(D81),\"判定外\",IF(C81=6,VLOOKUP(U81,判定式!$C$15:I$19,7,TRUE),IF(C81=7,VLOOKUP(U81,判定式!$D$15:I$19,6,TRUE),IF(C81=8,VLOOKUP(U81,判定式!$E$15:I$19,5,TRUE),IF(C81=9,VLOOKUP(U81,判定式!$F$15:I$19,4,TRUE),IF(C81=10,VLOOKUP(U81,判定式!$G$15:I$19,3,TRUE),IF(C81=11,VLOOKUP(U81,判定式!$H$15:I$19,2,TRUE))))))))","v":false}]
[62,null,null,"-",null,null,null,null,null,null,null,null,{"$f":"IF(E82=\"\",\"\",VLOOKUP(E82,判定式!C$3:$J$12,8,TRUE))","v":""},{"$f":"IF(F82=\"\",\"\",VLOOKUP(F82,判定式!D$3:$J$12,7,TRUE))","v":""},{"$f":"IF(G82=\"\",\"\",VLOOKUP(G82,判定式!E$3:$J$12,6,TRUE))","v":""},{"$f":"IF(H82=\"\",\"\",VLOOKUP(H82,判定式!F$3:$J$12,5,TRUE))","v":""},{"$f":"IF(I82=\"\",\"\",VLOOKUP(I82,判定式!I$3:$J$12,2,TRUE))","v":""},{"$f":"IF(J82=\"\",\"\",VLOOKUP(J82,判定式!L$3:$M$12,2,TRUE))","v":""},{"$f":"IF(K82=\"\",\"\",VLOOKUP(K82,判定式!G$3:$J$12,4,TRUE))","v":""},{"$f":"IF(L82=\"\",\"\",VLOOKUP(L82,判定式!H$3:$J$12,3,TRUE))","v":""},"",{"$f":"IF(ISNUMBER(D82),\"判定外\",IF(C82=6,VLOOKUP(U82,判定式!$C$15:I$19,7,TRUE),IF(C82=7,VLOOKUP(U82,判定式!$D$15:I$19,6,TRUE),IF(C82=8,VLOOKUP(U82,判定式!$E$15:I$19,5,TRUE),IF(C82=9,VLOOKUP(U82,判定式!$F$15:I$19,4,TRUE),IF(C82=10,VLOOKUP(U82,判定式!$G$15:I$19,3,TRUE),IF(C82=11,VLOOKUP(U82,判定式!$H$15:I$19,2,TRUE))))))))","v":false}]
[63,null,null,"-",null,null,null,null,null,null,null,null,{"$f":"IF(E83=\"\",\"\",VLOOKUP(E83,判定式!C$3:$J$12,8,TRUE))","v":""},{"$f":"IF(F83=\"\",\"\",VLOOKUP(F83,判定式!D$3:$J$12,7,TRUE))","v":""},{"$f":"IF(G83=\"\",\"\",VLOOKUP(G83,判定式!E$3:$J$12,6,TRUE))","v":""},{"$f":"IF(H83=\"\",\"\",VLOOKUP(H83,判定式!F$3:$J$12,5,TRUE))","v":""},{"$f":"IF(I83=\"\",\"\",VLOOKUP(I83,判定式!I$3:$J$12,2,TRUE))","v":""},{"$f":"IF(J83=\"\",\"\",VLOOKUP(J83,判定式!L$3:$M$12,2,TRUE))","v":""},{"$f":"IF(K83=\"\",\"\",VLOOKUP(K83,判定式!G$3:$J$12,4,TRUE))","v":""},{"$f":"IF(L83=\"\",\"\",VLOOKUP(L83,判定式!H$3:$J$12,3,TRUE))","v":""},"",{"$f":"IF(ISNUMBER(D83),\"判定外\",IF(C83=6,VLOOKUP(U83,判定式!$C$15:I$19,7,TRUE),IF(C83=7,VLOOKUP(U83,判定式!$D$15:I$19,6,TRUE),IF(C83=8,VLOOKUP(U83,判定式!$E$15:I$19,5,TRUE),IF(C83=9,VLOOKUP(U83,判定式!$F$15:I$19,4,TRUE),IF(C83=10,VLOOKUP(U83,判定式!$G$15:I$19,3,TRUE),IF(C83=11,VLOOKUP(U83,判定式!$H$15:I$19,2,TRUE))))))))","v":false}]
[64,null,null,"-",null,null,null,null,null,null,null,null,{"$f":"IF(E84=\"\",\"\",VLOOKUP(E84,判定式!C$3:$J$12,8,TRUE))","v":""},{"$f":"IF(F84=\"\",\"\",VLOOKUP(F84,判定式!D$3:$J$12,7,TRUE))","v":""},{"$f":"IF(G84=\"\",\"\",VLOOKUP(G84,判定式!E$3:$J$12,6,TRUE))","v":""},{"$f":"IF(H84=\"\",\"\",VLOOKUP(H84,判定式!F$3:$J$12,5,TRUE))","v":""},{"$f":"IF(I84=\"\",\"\",VLOOKUP(I84,判定式!I$3:$J$12,2,TRUE))","v":""},{"$f":"IF(J84=\"\",\"\",VLOOKUP(J84,判定式!L$3:$M$12,2,TRUE))","v":""},{"$f":"IF(K84=\"\",\"\",VLOOKUP(K84,判定式!G$3:$J$12,4,TRUE))","v":""},{"$f":"IF(L84=\"\",\"\",VLOOKUP(L84,判定式!H$3:$J$12,3,TRUE))","v":""},"",{"$f":"IF(ISNUMBER(D84),\"判定外\",IF(C84=6,VLOOKUP(U84,判定式!$C$15:I$19,7,TRUE),IF(C84=7,VLOOKUP(U84,判定式!$D$15:I$19,6,TRUE),IF(C84=8,VLOOKUP(U84,判定式!$E$15:I$19,5,TRUE),IF(C84=9,VLOOKUP(U84,判定式!$F$15:I$19,4,TRUE),IF(C84=10,VLOOKUP(U84,判定式!$G$15:I$19,3,TRUE),IF(C84=11,VLOOKUP(U84,判定式!$H$15:I$19,2,TRUE))))))))","v":false}]
[65,null,null,{"$f":"IF(COUNTBLANK(E85:L85)=0,\"\",IF(COUNTBLANK(E85:L85)=8,\"-\",COUNTBLANK(E85:L85)))","v":"-"},null,null,null,null,null,null,null,null,{"$f":"IF(E85=\"\",\"\",VLOOKUP(E85,判定式!C$3:$J$12,8,TRUE))","v":""},{"$f":"IF(F85=\"\",\"\",VLOOKUP(F85,判定式!D$3:$J$12,7,TRUE))","v":""},{"$f":"IF(G85=\"\",\"\",VLOOKUP(G85,判定式!E$3:$J$12,6,TRUE))","v":""},{"$f":"IF(H85=\"\",\"\",VLOOKUP(H85,判定式!F$3:$J$12,5,TRUE))","v":""},{"$f":"IF(I85=\"\",\"\",VLOOKUP(I85,判定式!I$3:$J$12,2,TRUE))","v":""},{"$f":"IF(J85=\"\",\"\",VLOOKUP(J85,判定式!L$3:$M$12,2,TRUE))","v":""},{"$f":"IF(K85=\"\",\"\",VLOOKUP(K85,判定式!G$3:$J$12,4,TRUE))","v":""},{"$f":"IF(L85=\"\",\"\",VLOOKUP(L85,判定式!H$3:$J$12,3,TRUE))","v":""},{"$f":"IF(COUNTBLANK(M85:T85)=0,SUM(M85:T85),\"\")","v":""},{"$f":"IF(ISNUMBER(D85),\"判定外\",IF(C85=6,VLOOKUP(U85,判定式!$C$15:I$19,7,TRUE),IF(C85=7,VLOOKUP(U85,判定式!$D$15:I$19,6,TRUE),IF(C85=8,VLOOKUP(U85,判定式!$E$15:I$19,5,TRUE),IF(C85=9,VLOOKUP(U85,判定式!$F$15:I$19,4,TRUE),IF(C85=10,VLOOKUP(U85,判定式!$G$15:I$19,3,TRUE),IF(C85=11,VLOOKUP(U85,判定式!$H$15:I$19,2,TRUE))))))))","v":false}]
[66,null,null,"-",null,null,null,null,null,null,null,null,{"$f":"IF(E86=\"\",\"\",VLOOKUP(E86,判定式!C$3:$J$12,8,TRUE))","v":""},{"$f":"IF(F86=\"\",\"\",VLOOKUP(F86,判定式!D$3:$J$12,7,TRUE))","v":""},{"$f":"IF(G86=\"\",\"\",VLOOKUP(G86,判定式!E$3:$J$12,6,TRUE))","v":""},{"$f":"IF(H86=\"\",\"\",VLOOKUP(H86,判定式!F$3:$J$12,5,TRUE))","v":""},{"$f":"IF(I86=\"\",\"\",VLOOKUP(I86,判定式!I$3:$J$12,2,TRUE))","v":""},{"$f":"IF(J86=\"\",\"\",VLOOKUP(J86,判定式!L$3:$M$12,2,TRUE))","v":""},{"$f":"IF(K86=\"\",\"\",VLOOKUP(K86,判定式!G$3:$J$12,4,TRUE))","v":""},{"$f":"IF(L86=\"\",\"\",VLOOKUP(L86,判定式!H$3:$J$12,3,TRUE))","v":""},"",{"$f":"IF(ISNUMBER(D86),\"判定外\",IF(C86=6,VLOOKUP(U86,判定式!$C$15:I$19,7,TRUE),IF(C86=7,VLOOKUP(U86,判定式!$D$15:I$19,6,TRUE),IF(C86=8,VLOOKUP(U86,判定式!$E$15:I$19,5,TRUE),IF(C86=9,VLOOKUP(U86,判定式!$F$15:I$19,4,TRUE),IF(C86=10,VLOOKUP(U86,判定式!$G$15:I$19,3,TRUE),IF(C86=11,VLOOKUP(U86,判定式!$H$15:I$19,2,TRUE))))))))","v":false}]
[67,null,null,"-",null,null,null,null,null,null,null,null,{"$f":"IF(E87=\"\",\"\",VLOOKUP(E87,判定式!C$3:$J$12,8,TRUE))","v":""},{"$f":"IF(F87=\"\",\"\",VLOOKUP(F87,判定式!D$3:$J$12,7,TRUE))","v":""},{"$f":"IF(G87=\"\",\"\",VLOOKUP(G87,判定式!E$3:$J$12,6,TRUE))","v":""},{"$f":"IF(H87=\"\",\"\",VLOOKUP(H87,判定式!F$3:$J$12,5,TRUE))","v":""},{"$f":"IF(I87=\"\",\"\",VLOOKUP(I87,判定式!I$3:$J$12,2,TRUE))","v":""},{"$f":"IF(J87=\"\",\"\",VLOOKUP(J87,判定式!L$3:$M$12,2,TRUE))","v":""},{"$f":"IF(K87=\"\",\"\",VLOOKUP(K87,判定式!G$3:$J$12,4,TRUE))","v":""},{"$f":"IF(L87=\"\",\"\",VLOOKUP(L87,判定式!H$3:$J$12,3,TRUE))","v":""},"",{"$f":"IF(ISNUMBER(D87),\"判定外\",IF(C87=6,VLOOKUP(U87,判定式!$C$15:I$19,7,TRUE),IF(C87=7,VLOOKUP(U87,判定式!$D$15:I$19,6,TRUE),IF(C87=8,VLOOKUP(U87,判定式!$E$15:I$19,5,TRUE),IF(C87=9,VLOOKUP(U87,判定式!$F$15:I$19,4,TRUE),IF(C87=10,VLOOKUP(U87,判定式!$G$15:I$19,3,TRUE),IF(C87=11,VLOOKUP(U87,判定式!$H$15:I$19,2,TRUE))))))))","v":false}]
[68,null,null,"-",null,null,null,null,null,null,null,null,{"$f":"IF(E88=\"\",\"\",VLOOKUP(E88,判定式!C$3:$J$12,8,TRUE))","v":""},{"$f":"IF(F88=\"\",\"\",VLOOKUP(F88,判定式!D$3:$J$12,7,TRUE))","v":""},{"$f":"IF(G88=\"\",\"\",VLOOKUP(G88,判定式!E$3:$J$12,6,TRUE))","v":""},{"$f":"IF(H88=\"\",\"\",VLOOKUP(H88,判定式!F$3:$J$12,5,TRUE))","v":""},{"$f":"IF(I88=\"\",\"\",VLOOKUP(I88,判定式!I$3:$J$12,2,TRUE))","v":""},{"$f":"IF(J88=\"\",\"\",VLOOKUP(J88,判定式!L$3:$M$12,2,TRUE))","v":""},{"$f":"IF(K88=\"\",\"\",VLOOKUP(K88,判定式!G$3:$J$12,4,TRUE))","v":""},{"$f":"IF(L88=\"\",\"\",VLOOKUP(L88,判定式!H$3:$J$12,3,TRUE))","v":""},"",{"$f":"IF(ISNUMBER(D88),\"判定外\",IF(C88=6,VLOOKUP(U88,判定式!$C$15:I$19,7,TRUE),IF(C88=7,VLOOKUP(U88,判定式!$D$15:I$19,6,TRUE),IF(C88=8,VLOOKUP(U88,判定式!$E$15:I$19,5,TRUE),IF(C88=9,VLOOKUP(U88,判定式!$F$15:I$19,4,TRUE),IF(C88=10,VLOOKUP(U88,判定式!$G$15:I$19,3,TRUE),IF(C88=11,VLOOKUP(U88,判定式!$H$15:I$19,2,TRUE))))))))","v":false}]
[69,null,null,"-",null,null,null,null,null,null,null,null,{"$f":"IF(E89=\"\",\"\",VLOOKUP(E89,判定式!C$3:$J$12,8,TRUE))","v":""},{"$f":"IF(F89=\"\",\"\",VLOOKUP(F89,判定式!D$3:$J$12,7,TRUE))","v":""},{"$f":"IF(G89=\"\",\"\",VLOOKUP(G89,判定式!E$3:$J$12,6,TRUE))","v":""},{"$f":"IF(H89=\"\",\"\",VLOOKUP(H89,判定式!F$3:$J$12,5,TRUE))","v":""},{"$f":"IF(I89=\"\",\"\",VLOOKUP(I89,判定式!I$3:$J$12,2,TRUE))","v":""},{"$f":"IF(J89=\"\",\"\",VLOOKUP(J89,判定式!L$3:$M$12,2,TRUE))","v":""},{"$f":"IF(K89=\"\",\"\",VLOOKUP(K89,判定式!G$3:$J$12,4,TRUE))","v":""},{"$f":"IF(L89=\"\",\"\",VLOOKUP(L89,判定式!H$3:$J$12,3,TRUE))","v":""},"",{"$f":"IF(ISNUMBER(D89),\"判定外\",IF(C89=6,VLOOKUP(U89,判定式!$C$15:I$19,7,TRUE),IF(C89=7,VLOOKUP(U89,判定式!$D$15:I$19,6,TRUE),IF(C89=8,VLOOKUP(U89,判定式!$E$15:I$19,5,TRUE),IF(C89=9,VLOOKUP(U89,判定式!$F$15:I$19,4,TRUE),IF(C89=10,VLOOKUP(U89,判定式!$G$15:I$19,3,TRUE),IF(C89=11,VLOOKUP(U89,判定式!$H$15:I$19,2,TRUE))))))))","v":false}]
[70,null,null,"-",null,null,null,null,null,null,null,null,{"$f":"IF(E90=\"\",\"\",VLOOKUP(E90,判定式!C$3:$J$12,8,TRUE))","v":""},{"$f":"IF(F90=\"\",\"\",VLOOKUP(F90,判定式!D$3:$J$12,7,TRUE))","v":""},{"$f":"IF(G90=\"\",\"\",VLOOKUP(G90,判定式!E$3:$J$12,6,TRUE))","v":""},{"$f":"IF(H90=\"\",\"\",VLOOKUP(H90,判定式!F$3:$J$12,5,TRUE))","v":""},{"$f":"IF(I90=\"\",\"\",VLOOKUP(I90,判定式!I$3:$J$12,2,TRUE))","v":""},{"$f":"IF(J90=\"\",\"\",VLOOKUP(J90,判定式!L$3:$M$12,2,TRUE))","v":""},{"$f":"IF(K90=\"\",\"\",VLOOKUP(K90,判定式!G$3:$J$12,4,TRUE))","v":""},{"$f":"IF(L90=\"\",\"\",VLOOKUP(L90,判定式!H$3:$J$12,3,TRUE))","v":""},"",{"$f":"IF(ISNUMBER(D90),\"判定外\",IF(C90=6,VLOOKUP(U90,判定式!$C$15:I$19,7,TRUE),IF(C90=7,VLOOKUP(U90,判定式!$D$15:I$19,6,TRUE),IF(C90=8,VLOOKUP(U90,判定式!$E$15:I$19,5,TRUE),IF(C90=9,VLOOKUP(U90,判定式!$F$15:I$19,4,TRUE),IF(C90=10,VLOOKUP(U90,判定式!$G$15:I$19,3,TRUE),IF(C90=11,VLOOKUP(U90,判定式!$H$15:I$19,2,TRUE))))))))","v":false}]
[71,null,null,"-",null,null,null,null,null,null,null,null,{"$f":"IF(E91=\"\",\"\",VLOOKUP(E91,判定式!C$3:$J$12,8,TRUE))","v":""},{"$f":"IF(F91=\"\",\"\",VLOOKUP(F91,判定式!D$3:$J$12,7,TRUE))","v":""},{"$f":"IF(G91=\"\",\"\",VLOOKUP(G91,判定式!E$3:$J$12,6,TRUE))","v":""},{"$f":"IF(H91=\"\",\"\",VLOOKUP(H91,判定式!F$3:$J$12,5,TRUE))","v":""},{"$f":"IF(I91=\"\",\"\",VLOOKUP(I91,判定式!I$3:$J$12,2,TRUE))","v":""},{"$f":"IF(J91=\"\",\"\",VLOOKUP(J91,判定式!L$3:$M$12,2,TRUE))","v":""},{"$f":"IF(K91=\"\",\"\",VLOOKUP(K91,判定式!G$3:$J$12,4,TRUE))","v":""},{"$f":"IF(L91=\"\",\"\",VLOOKUP(L91,判定式!H$3:$J$12,3,TRUE))","v":""},"",{"$f":"IF(ISNUMBER(D91),\"判定外\",IF(C91=6,VLOOKUP(U91,判定式!$C$15:I$19,7,TRUE),IF(C91=7,VLOOKUP(U91,判定式!$D$15:I$19,6,TRUE),IF(C91=8,VLOOKUP(U91,判定式!$E$15:I$19,5,TRUE),IF(C91=9,VLOOKUP(U91,判定式!$F$15:I$19,4,TRUE),IF(C91=10,VLOOKUP(U91,判定式!$G$15:I$19,3,TRUE),IF(C91=11,VLOOKUP(U91,判定式!$H$15:I$19,2,TRUE))))))))","v":false}]
[72,null,null,"-",null,null,null,null,null,null,null,null,{"$f":"IF(E92=\"\",\"\",VLOOKUP(E92,判定式!C$3:$J$12,8,TRUE))","v":""},{"$f":"IF(F92=\"\",\"\",VLOOKUP(F92,判定式!D$3:$J$12,7,TRUE))","v":""},{"$f":"IF(G92=\"\",\"\",VLOOKUP(G92,判定式!E$3:$J$12,6,TRUE))","v":""},{"$f":"IF(H92=\"\",\"\",VLOOKUP(H92,判定式!F$3:$J$12,5,TRUE))","v":""},{"$f":"IF(I92=\"\",\"\",VLOOKUP(I92,判定式!I$3:$J$12,2,TRUE))","v":""},{"$f":"IF(J92=\"\",\"\",VLOOKUP(J92,判定式!L$3:$M$12,2,TRUE))","v":""},{"$f":"IF(K92=\"\",\"\",VLOOKUP(K92,判定式!G$3:$J$12,4,TRUE))","v":""},{"$f":"IF(L92=\"\",\"\",VLOOKUP(L92,判定式!H$3:$J$12,3,TRUE))","v":""},"",{"$f":"IF(ISNUMBER(D92),\"判定外\",IF(C92=6,VLOOKUP(U92,判定式!$C$15:I$19,7,TRUE),IF(C92=7,VLOOKUP(U92,判定式!$D$15:I$19,6,TRUE),IF(C92=8,VLOOKUP(U92,判定式!$E$15:I$19,5,TRUE),IF(C92=9,VLOOKUP(U92,判定式!$F$15:I$19,4,TRUE),IF(C92=10,VLOOKUP(U92,判定式!$G$15:I$19,3,TRUE),IF(C92=11,VLOOKUP(U92,判定式!$H$15:I$19,2,TRUE))))))))","v":false}]
[73,null,null,"-",null,null,null,null,null,null,null,null,{"$f":"IF(E93=\"\",\"\",VLOOKUP(E93,判定式!C$3:$J$12,8,TRUE))","v":""},{"$f":"IF(F93=\"\",\"\",VLOOKUP(F93,判定式!D$3:$J$12,7,TRUE))","v":""},{"$f":"IF(G93=\"\",\"\",VLOOKUP(G93,判定式!E$3:$J$12,6,TRUE))","v":""},{"$f":"IF(H93=\"\",\"\",VLOOKUP(H93,判定式!F$3:$J$12,5,TRUE))","v":""},{"$f":"IF(I93=\"\",\"\",VLOOKUP(I93,判定式!I$3:$J$12,2,TRUE))","v":""},{"$f":"IF(J93=\"\",\"\",VLOOKUP(J93,判定式!L$3:$M$12,2,TRUE))","v":""},{"$f":"IF(K93=\"\",\"\",VLOOKUP(K93,判定式!G$3:$J$12,4,TRUE))","v":""},{"$f":"IF(L93=\"\",\"\",VLOOKUP(L93,判定式!H$3:$J$12,3,TRUE))","v":""},"",{"$f":"IF(ISNUMBER(D93),\"判定外\",IF(C93=6,VLOOKUP(U93,判定式!$C$15:I$19,7,TRUE),IF(C93=7,VLOOKUP(U93,判定式!$D$15:I$19,6,TRUE),IF(C93=8,VLOOKUP(U93,判定式!$E$15:I$19,5,TRUE),IF(C93=9,VLOOKUP(U93,判定式!$F$15:I$19,4,TRUE),IF(C93=10,VLOOKUP(U93,判定式!$G$15:I$19,3,TRUE),IF(C93=11,VLOOKUP(U93,判定式!$H$15:I$19,2,TRUE))))))))","v":false}]
[74,null,null,"-",null,null,null,null,null,null,null,null,{"$f":"IF(E94=\"\",\"\",VLOOKUP(E94,判定式!C$3:$J$12,8,TRUE))","v":""},{"$f":"IF(F94=\"\",\"\",VLOOKUP(F94,判定式!D$3:$J$12,7,TRUE))","v":""},{"$f":"IF(G94=\"\",\"\",VLOOKUP(G94,判定式!E$3:$J$12,6,TRUE))","v":""},{"$f":"IF(H94=\"\",\"\",VLOOKUP(H94,判定式!F$3:$J$12,5,TRUE))","v":""},{"$f":"IF(I94=\"\",\"\",VLOOKUP(I94,判定式!I$3:$J$12,2,TRUE))","v":""},{"$f":"IF(J94=\"\",\"\",VLOOKUP(J94,判定式!L$3:$M$12,2,TRUE))","v":""},{"$f":"IF(K94=\"\",\"\",VLOOKUP(K94,判定式!G$3:$J$12,4,TRUE))","v":""},{"$f":"IF(L94=\"\",\"\",VLOOKUP(L94,判定式!H$3:$J$12,3,TRUE))","v":""},"",{"$f":"IF(ISNUMBER(D94),\"判定外\",IF(C94=6,VLOOKUP(U94,判定式!$C$15:I$19,7,TRUE),IF(C94=7,VLOOKUP(U94,判定式!$D$15:I$19,6,TRUE),IF(C94=8,VLOOKUP(U94,判定式!$E$15:I$19,5,TRUE),IF(C94=9,VLOOKUP(U94,判定式!$F$15:I$19,4,TRUE),IF(C94=10,VLOOKUP(U94,判定式!$G$15:I$19,3,TRUE),IF(C94=11,VLOOKUP(U94,判定式!$H$15:I$19,2,TRUE))))))))","v":false}]
[75,null,null,"-",null,null,null,null,null,null,null,null,{"$f":"IF(E95=\"\",\"\",VLOOKUP(E95,判定式!C$3:$J$12,8,TRUE))","v":""},{"$f":"IF(F95=\"\",\"\",VLOOKUP(F95,判定式!D$3:$J$12,7,TRUE))","v":""},{"$f":"IF(G95=\"\",\"\",VLOOKUP(G95,判定式!E$3:$J$12,6,TRUE))","v":""},{"$f":"IF(H95=\"\",\"\",VLOOKUP(H95,判定式!F$3:$J$12,5,TRUE))","v":""},{"$f":"IF(I95=\"\",\"\",VLOOKUP(I95,判定式!I$3:$J$12,2,TRUE))","v":""},{"$f":"IF(J95=\"\",\"\",VLOOKUP(J95,判定式!L$3:$M$12,2,TRUE))","v":""},{"$f":"IF(K95=\"\",\"\",VLOOKUP(K95,判定式!G$3:$J$12,4,TRUE))","v":""},{"$f":"IF(L95=\"\",\"\",VLOOKUP(L95,判定式!H$3:$J$12,3,TRUE))","v":""},"",{"$f":"IF(ISNUMBER(D95),\"判定外\",IF(C95=6,VLOOKUP(U95,判定式!$C$15:I$19,7,TRUE),IF(C95=7,VLOOKUP(U95,判定式!$D$15:I$19,6,TRUE),IF(C95=8,VLOOKUP(U95,判定式!$E$15:I$19,5,TRUE),IF(C95=9,VLOOKUP(U95,判定式!$F$15:I$19,4,TRUE),IF(C95=10,VLOOKUP(U95,判定式!$G$15:I$19,3,TRUE),IF(C95=11,VLOOKUP(U95,判定式!$H$15:I$19,2,TRUE))))))))","v":false}]
[76,null,null,"-",null,null,null,null,null,null,null,null,{"$f":"IF(E96=\"\",\"\",VLOOKUP(E96,判定式!C$3:$J$12,8,TRUE))","v":""},{"$f":"IF(F96=\"\",\"\",VLOOKUP(F96,判定式!D$3:$J$12,7,TRUE))","v":""},{"$f":"IF(G96=\"\",\"\",VLOOKUP(G96,判定式!E$3:$J$12,6,TRUE))","v":""},{"$f":"IF(H96=\"\",\"\",VLOOKUP(H96,判定式!F$3:$J$12,5,TRUE))","v":""},{"$f":"IF(I96=\"\",\"\",VLOOKUP(I96,判定式!I$3:$J$12,2,TRUE))","v":""},{"$f":"IF(J96=\"\",\"\",VLOOKUP(J96,判定式!L$3:$M$12,2,TRUE))","v":""},{"$f":"IF(K96=\"\",\"\",VLOOKUP(K96,判定式!G$3:$J$12,4,TRUE))","v":""},{"$f":"IF(L96=\"\",\"\",VLOOKUP(L96,判定式!H$3:$J$12,3,TRUE))","v":""},"",{"$f":"IF(ISNUMBER(D96),\"判定外\",IF(C96=6,VLOOKUP(U96,判定式!$C$15:I$19,7,TRUE),IF(C96=7,VLOOKUP(U96,判定式!$D$15:I$19,6,TRUE),IF(C96=8,VLOOKUP(U96,判定式!$E$15:I$19,5,TRUE),IF(C96=9,VLOOKUP(U96,判定式!$F$15:I$19,4,TRUE),IF(C96=10,VLOOKUP(U96,判定式!$G$15:I$19,3,TRUE),IF(C96=11,VLOOKUP(U96,判定式!$H$15:I$19,2,TRUE))))))))","v":false}]
[77,null,null,"-",null,null,null,null,null,null,null,null,{"$f":"IF(E97=\"\",\"\",VLOOKUP(E97,判定式!C$3:$J$12,8,TRUE))","v":""},{"$f":"IF(F97=\"\",\"\",VLOOKUP(F97,判定式!D$3:$J$12,7,TRUE))","v":""},{"$f":"IF(G97=\"\",\"\",VLOOKUP(G97,判定式!E$3:$J$12,6,TRUE))","v":""},{"$f":"IF(H97=\"\",\"\",VLOOKUP(H97,判定式!F$3:$J$12,5,TRUE))","v":""},{"$f":"IF(I97=\"\",\"\",VLOOKUP(I97,判定式!I$3:$J$12,2,TRUE))","v":""},{"$f":"IF(J97=\"\",\"\",VLOOKUP(J97,判定式!L$3:$M$12,2,TRUE))","v":""},{"$f":"IF(K97=\"\",\"\",VLOOKUP(K97,判定式!G$3:$J$12,4,TRUE))","v":""},{"$f":"IF(L97=\"\",\"\",VLOOKUP(L97,判定式!H$3:$J$12,3,TRUE))","v":""},"",{"$f":"IF(ISNUMBER(D97),\"判定外\",IF(C97=6,VLOOKUP(U97,判定式!$C$15:I$19,7,TRUE),IF(C97=7,VLOOKUP(U97,判定式!$D$15:I$19,6,TRUE),IF(C97=8,VLOOKUP(U97,判定式!$E$15:I$19,5,TRUE),IF(C97=9,VLOOKUP(U97,判定式!$F$15:I$19,4,TRUE),IF(C97=10,VLOOKUP(U97,判定式!$G$15:I$19,3,TRUE),IF(C97=11,VLOOKUP(U97,判定式!$H$15:I$19,2,TRUE))))))))","v":false}]
[78,null,null,"-",null,null,null,null,null,null,null,null,{"$f":"IF(E98=\"\",\"\",VLOOKUP(E98,判定式!C$3:$J$12,8,TRUE))","v":""},{"$f":"IF(F98=\"\",\"\",VLOOKUP(F98,判定式!D$3:$J$12,7,TRUE))","v":""},{"$f":"IF(G98=\"\",\"\",VLOOKUP(G98,判定式!E$3:$J$12,6,TRUE))","v":""},{"$f":"IF(H98=\"\",\"\",VLOOKUP(H98,判定式!F$3:$J$12,5,TRUE))","v":""},{"$f":"IF(I98=\"\",\"\",VLOOKUP(I98,判定式!I$3:$J$12,2,TRUE))","v":""},{"$f":"IF(J98=\"\",\"\",VLOOKUP(J98,判定式!L$3:$M$12,2,TRUE))","v":""},{"$f":"IF(K98=\"\",\"\",VLOOKUP(K98,判定式!G$3:$J$12,4,TRUE))","v":""},{"$f":"IF(L98=\"\",\"\",VLOOKUP(L98,判定式!H$3:$J$12,3,TRUE))","v":""},"",{"$f":"IF(ISNUMBER(D98),\"判定外\",IF(C98=6,VLOOKUP(U98,判定式!$C$15:I$19,7,TRUE),IF(C98=7,VLOOKUP(U98,判定式!$D$15:I$19,6,TRUE),IF(C98=8,VLOOKUP(U98,判定式!$E$15:I$19,5,TRUE),IF(C98=9,VLOOKUP(U98,判定式!$F$15:I$19,4,TRUE),IF(C98=10,VLOOKUP(U98,判定式!$G$15:I$19,3,TRUE),IF(C98=11,VLOOKUP(U98,判定式!$H$15:I$19,2,TRUE))))))))","v":false}]
[79,null,null,"-",null,null,null,null,null,null,null,null,{"$f":"IF(E99=\"\",\"\",VLOOKUP(E99,判定式!C$3:$J$12,8,TRUE))","v":""},{"$f":"IF(F99=\"\",\"\",VLOOKUP(F99,判定式!D$3:$J$12,7,TRUE))","v":""},{"$f":"IF(G99=\"\",\"\",VLOOKUP(G99,判定式!E$3:$J$12,6,TRUE))","v":""},{"$f":"IF(H99=\"\",\"\",VLOOKUP(H99,判定式!F$3:$J$12,5,TRUE))","v":""},{"$f":"IF(I99=\"\",\"\",VLOOKUP(I99,判定式!I$3:$J$12,2,TRUE))","v":""},{"$f":"IF(J99=\"\",\"\",VLOOKUP(J99,判定式!L$3:$M$12,2,TRUE))","v":""},{"$f":"IF(K99=\"\",\"\",VLOOKUP(K99,判定式!G$3:$J$12,4,TRUE))","v":""},{"$f":"IF(L99=\"\",\"\",VLOOKUP(L99,判定式!H$3:$J$12,3,TRUE))","v":""},"",{"$f":"IF(ISNUMBER(D99),\"判定外\",IF(C99=6,VLOOKUP(U99,判定式!$C$15:I$19,7,TRUE),IF(C99=7,VLOOKUP(U99,判定式!$D$15:I$19,6,TRUE),IF(C99=8,VLOOKUP(U99,判定式!$E$15:I$19,5,TRUE),IF(C99=9,VLOOKUP(U99,判定式!$F$15:I$19,4,TRUE),IF(C99=10,VLOOKUP(U99,判定式!$G$15:I$19,3,TRUE),IF(C99=11,VLOOKUP(U99,判定式!$H$15:I$19,2,TRUE))))))))","v":false}]
[80,null,null,"-",null,null,null,null,null,null,null,null,{"$f":"IF(E100=\"\",\"\",VLOOKUP(E100,判定式!C$3:$J$12,8,TRUE))","v":""},{"$f":"IF(F100=\"\",\"\",VLOOKUP(F100,判定式!D$3:$J$12,7,TRUE))","v":""},{"$f":"IF(G100=\"\",\"\",VLOOKUP(G100,判定式!E$3:$J$12,6,TRUE))","v":""},{"$f":"IF(H100=\"\",\"\",VLOOKUP(H100,判定式!F$3:$J$12,5,TRUE))","v":""},{"$f":"IF(I100=\"\",\"\",VLOOKUP(I100,判定式!I$3:$J$12,2,TRUE))","v":""},{"$f":"IF(J100=\"\",\"\",VLOOKUP(J100,判定式!L$3:$M$12,2,TRUE))","v":""},{"$f":"IF(K100=\"\",\"\",VLOOKUP(K100,判定式!G$3:$J$12,4,TRUE))","v":""},{"$f":"IF(L100=\"\",\"\",VLOOKUP(L100,判定式!H$3:$J$12,3,TRUE))","v":""},"",{"$f":"IF(ISNUMBER(D100),\"判定外\",IF(C100=6,VLOOKUP(U100,判定式!$C$15:I$19,7,TRUE),IF(C100=7,VLOOKUP(U100,判定式!$D$15:I$19,6,TRUE),IF(C100=8,VLOOKUP(U100,判定式!$E$15:I$19,5,TRUE),IF(C100=9,VLOOKUP(U100,判定式!$F$15:I$19,4,TRUE),IF(C100=10,VLOOKUP(U100,判定式!$G$15:I$19,3,TRUE),IF(C100=11,VLOOKUP(U100,判定式!$H$15:I$19,2,TRUE))))))))","v":false}]
[81,null,null,"-",null,null,null,null,null,null,null,null,{"$f":"IF(E101=\"\",\"\",VLOOKUP(E101,判定式!C$3:$J$12,8,TRUE))","v":""},{"$f":"IF(F101=\"\",\"\",VLOOKUP(F101,判定式!D$3:$J$12,7,TRUE))","v":""},{"$f":"IF(G101=\"\",\"\",VLOOKUP(G101,判定式!E$3:$J$12,6,TRUE))","v":""},{"$f":"IF(H101=\"\",\"\",VLOOKUP(H101,判定式!F$3:$J$12,5,TRUE))","v":""},{"$f":"IF(I101=\"\",\"\",VLOOKUP(I101,判定式!I$3:$J$12,2,TRUE))","v":""},{"$f":"IF(J101=\"\",\"\",VLOOKUP(J101,判定式!L$3:$M$12,2,TRUE))","v":""},{"$f":"IF(K101=\"\",\"\",VLOOKUP(K101,判定式!G$3:$J$12,4,TRUE))","v":""},{"$f":"IF(L101=\"\",\"\",VLOOKUP(L101,判定式!H$3:$J$12,3,TRUE))","v":""},"",{"$f":"IF(ISNUMBER(D101),\"判定外\",IF(C101=6,VLOOKUP(U101,判定式!$C$15:I$19,7,TRUE),IF(C101=7,VLOOKUP(U101,判定式!$D$15:I$19,6,TRUE),IF(C101=8,VLOOKUP(U101,判定式!$E$15:I$19,5,TRUE),IF(C101=9,VLOOKUP(U101,判定式!$F$15:I$19,4,TRUE),IF(C101=10,VLOOKUP(U101,判定式!$G$15:I$19,3,TRUE),IF(C101=11,VLOOKUP(U101,判定式!$H$15:I$19,2,TRUE))))))))","v":false}]
[82,null,null,"-",null,null,null,null,null,null,null,null,{"$f":"IF(E102=\"\",\"\",VLOOKUP(E102,判定式!C$3:$J$12,8,TRUE))","v":""},{"$f":"IF(F102=\"\",\"\",VLOOKUP(F102,判定式!D$3:$J$12,7,TRUE))","v":""},{"$f":"IF(G102=\"\",\"\",VLOOKUP(G102,判定式!E$3:$J$12,6,TRUE))","v":""},{"$f":"IF(H102=\"\",\"\",VLOOKUP(H102,判定式!F$3:$J$12,5,TRUE))","v":""},{"$f":"IF(I102=\"\",\"\",VLOOKUP(I102,判定式!I$3:$J$12,2,TRUE))","v":""},{"$f":"IF(J102=\"\",\"\",VLOOKUP(J102,判定式!L$3:$M$12,2,TRUE))","v":""},{"$f":"IF(K102=\"\",\"\",VLOOKUP(K102,判定式!G$3:$J$12,4,TRUE))","v":""},{"$f":"IF(L102=\"\",\"\",VLOOKUP(L102,判定式!H$3:$J$12,3,TRUE))","v":""},"",{"$f":"IF(ISNUMBER(D102),\"判定外\",IF(C102=6,VLOOKUP(U102,判定式!$C$15:I$19,7,TRUE),IF(C102=7,VLOOKUP(U102,判定式!$D$15:I$19,6,TRUE),IF(C102=8,VLOOKUP(U102,判定式!$E$15:I$19,5,TRUE),IF(C102=9,VLOOKUP(U102,判定式!$F$15:I$19,4,TRUE),IF(C102=10,VLOOKUP(U102,判定式!$G$15:I$19,3,TRUE),IF(C102=11,VLOOKUP(U102,判定式!$H$15:I$19,2,TRUE))))))))","v":false}]
[83,null,null,"-",null,null,null,null,null,null,null,null,{"$f":"IF(E103=\"\",\"\",VLOOKUP(E103,判定式!C$3:$J$12,8,TRUE))","v":""},{"$f":"IF(F103=\"\",\"\",VLOOKUP(F103,判定式!D$3:$J$12,7,TRUE))","v":""},{"$f":"IF(G103=\"\",\"\",VLOOKUP(G103,判定式!E$3:$J$12,6,TRUE))","v":""},{"$f":"IF(H103=\"\",\"\",VLOOKUP(H103,判定式!F$3:$J$12,5,TRUE))","v":""},{"$f":"IF(I103=\"\",\"\",VLOOKUP(I103,判定式!I$3:$J$12,2,TRUE))","v":""},{"$f":"IF(J103=\"\",\"\",VLOOKUP(J103,判定式!L$3:$M$12,2,TRUE))","v":""},{"$f":"IF(K103=\"\",\"\",VLOOKUP(K103,判定式!G$3:$J$12,4,TRUE))","v":""},{"$f":"IF(L103=\"\",\"\",VLOOKUP(L103,判定式!H$3:$J$12,3,TRUE))","v":""},"",{"$f":"IF(ISNUMBER(D103),\"判定外\",IF(C103=6,VLOOKUP(U103,判定式!$C$15:I$19,7,TRUE),IF(C103=7,VLOOKUP(U103,判定式!$D$15:I$19,6,TRUE),IF(C103=8,VLOOKUP(U103,判定式!$E$15:I$19,5,TRUE),IF(C103=9,VLOOKUP(U103,判定式!$F$15:I$19,4,TRUE),IF(C103=10,VLOOKUP(U103,判定式!$G$15:I$19,3,TRUE),IF(C103=11,VLOOKUP(U103,判定式!$H$15:I$19,2,TRUE))))))))","v":false}]
[84,null,null,"-",null,null,null,null,null,null,null,null,{"$f":"IF(E104=\"\",\"\",VLOOKUP(E104,判定式!C$3:$J$12,8,TRUE))","v":""},{"$f":"IF(F104=\"\",\"\",VLOOKUP(F104,判定式!D$3:$J$12,7,TRUE))","v":""},{"$f":"IF(G104=\"\",\"\",VLOOKUP(G104,判定式!E$3:$J$12,6,TRUE))","v":""},{"$f":"IF(H104=\"\",\"\",VLOOKUP(H104,判定式!F$3:$J$12,5,TRUE))","v":""},{"$f":"IF(I104=\"\",\"\",VLOOKUP(I104,判定式!I$3:$J$12,2,TRUE))","v":""},{"$f":"IF(J104=\"\",\"\",VLOOKUP(J104,判定式!L$3:$M$12,2,TRUE))","v":""},{"$f":"IF(K104=\"\",\"\",VLOOKUP(K104,判定式!G$3:$J$12,4,TRUE))","v":""},{"$f":"IF(L104=\"\",\"\",VLOOKUP(L104,判定式!H$3:$J$12,3,TRUE))","v":""},"",{"$f":"IF(ISNUMBER(D104),\"判定外\",IF(C104=6,VLOOKUP(U104,判定式!$C$15:I$19,7,TRUE),IF(C104=7,VLOOKUP(U104,判定式!$D$15:I$19,6,TRUE),IF(C104=8,VLOOKUP(U104,判定式!$E$15:I$19,5,TRUE),IF(C104=9,VLOOKUP(U104,判定式!$F$15:I$19,4,TRUE),IF(C104=10,VLOOKUP(U104,判定式!$G$15:I$19,3,TRUE),IF(C104=11,VLOOKUP(U104,判定式!$H$15:I$19,2,TRUE))))))))","v":false}]
[85,null,null,"-",null,null,null,null,null,null,null,null,{"$f":"IF(E105=\"\",\"\",VLOOKUP(E105,判定式!C$3:$J$12,8,TRUE))","v":""},{"$f":"IF(F105=\"\",\"\",VLOOKUP(F105,判定式!D$3:$J$12,7,TRUE))","v":""},{"$f":"IF(G105=\"\",\"\",VLOOKUP(G105,判定式!E$3:$J$12,6,TRUE))","v":""},{"$f":"IF(H105=\"\",\"\",VLOOKUP(H105,判定式!F$3:$J$12,5,TRUE))","v":""},{"$f":"IF(I105=\"\",\"\",VLOOKUP(I105,判定式!I$3:$J$12,2,TRUE))","v":""},{"$f":"IF(J105=\"\",\"\",VLOOKUP(J105,判定式!L$3:$M$12,2,TRUE))","v":""},{"$f":"IF(K105=\"\",\"\",VLOOKUP(K105,判定式!G$3:$J$12,4,TRUE))","v":""},{"$f":"IF(L105=\"\",\"\",VLOOKUP(L105,判定式!H$3:$J$12,3,TRUE))","v":""},"",{"$f":"IF(ISNUMBER(D105),\"判定外\",IF(C105=6,VLOOKUP(U105,判定式!$C$15:I$19,7,TRUE),IF(C105=7,VLOOKUP(U105,判定式!$D$15:I$19,6,TRUE),IF(C105=8,VLOOKUP(U105,判定式!$E$15:I$19,5,TRUE),IF(C105=9,VLOOKUP(U105,判定式!$F$15:I$19,4,TRUE),IF(C105=10,VLOOKUP(U105,判定式!$G$15:I$19,3,TRUE),IF(C105=11,VLOOKUP(U105,判定式!$H$15:I$19,2,TRUE))))))))","v":false}]
[86,null,null,"-",null,null,null,null,null,null,null,null,{"$f":"IF(E106=\"\",\"\",VLOOKUP(E106,判定式!C$3:$J$12,8,TRUE))","v":""},{"$f":"IF(F106=\"\",\"\",VLOOKUP(F106,判定式!D$3:$J$12,7,TRUE))","v":""},{"$f":"IF(G106=\"\",\"\",VLOOKUP(G106,判定式!E$3:$J$12,6,TRUE))","v":""},{"$f":"IF(H106=\"\",\"\",VLOOKUP(H106,判定式!F$3:$J$12,5,TRUE))","v":""},{"$f":"IF(I106=\"\",\"\",VLOOKUP(I106,判定式!I$3:$J$12,2,TRUE))","v":""},{"$f":"IF(J106=\"\",\"\",VLOOKUP(J106,判定式!L$3:$M$12,2,TRUE))","v":""},{"$f":"IF(K106=\"\",\"\",VLOOKUP(K106,判定式!G$3:$J$12,4,TRUE))","v":""},{"$f":"IF(L106=\"\",\"\",VLOOKUP(L106,判定式!H$3:$J$12,3,TRUE))","v":""},"",{"$f":"IF(ISNUMBER(D106),\"判定外\",IF(C106=6,VLOOKUP(U106,判定式!$C$15:I$19,7,TRUE),IF(C106=7,VLOOKUP(U106,判定式!$D$15:I$19,6,TRUE),IF(C106=8,VLOOKUP(U106,判定式!$E$15:I$19,5,TRUE),IF(C106=9,VLOOKUP(U106,判定式!$F$15:I$19,4,TRUE),IF(C106=10,VLOOKUP(U106,判定式!$G$15:I$19,3,TRUE),IF(C106=11,VLOOKUP(U106,判定式!$H$15:I$19,2,TRUE))))))))","v":false}]
[87,null,null,"-",null,null,null,null,null,null,null,null,{"$f":"IF(E107=\"\",\"\",VLOOKUP(E107,判定式!C$3:$J$12,8,TRUE))","v":""},{"$f":"IF(F107=\"\",\"\",VLOOKUP(F107,判定式!D$3:$J$12,7,TRUE))","v":""},{"$f":"IF(G107=\"\",\"\",VLOOKUP(G107,判定式!E$3:$J$12,6,TRUE))","v":""},{"$f":"IF(H107=\"\",\"\",VLOOKUP(H107,判定式!F$3:$J$12,5,TRUE))","v":""},{"$f":"IF(I107=\"\",\"\",VLOOKUP(I107,判定式!I$3:$J$12,2,TRUE))","v":""},{"$f":"IF(J107=\"\",\"\",VLOOKUP(J107,判定式!L$3:$M$12,2,TRUE))","v":""},{"$f":"IF(K107=\"\",\"\",VLOOKUP(K107,判定式!G$3:$J$12,4,TRUE))","v":""},{"$f":"IF(L107=\"\",\"\",VLOOKUP(L107,判定式!H$3:$J$12,3,TRUE))","v":""},"",{"$f":"IF(ISNUMBER(D107),\"判定外\",IF(C107=6,VLOOKUP(U107,判定式!$C$15:I$19,7,TRUE),IF(C107=7,VLOOKUP(U107,判定式!$D$15:I$19,6,TRUE),IF(C107=8,VLOOKUP(U107,判定式!$E$15:I$19,5,TRUE),IF(C107=9,VLOOKUP(U107,判定式!$F$15:I$19,4,TRUE),IF(C107=10,VLOOKUP(U107,判定式!$G$15:I$19,3,TRUE),IF(C107=11,VLOOKUP(U107,判定式!$H$15:I$19,2,TRUE))))))))","v":false}]
[88,null,null,"-",null,null,null,null,null,null,null,null,{"$f":"IF(E108=\"\",\"\",VLOOKUP(E108,判定式!C$3:$J$12,8,TRUE))","v":""},{"$f":"IF(F108=\"\",\"\",VLOOKUP(F108,判定式!D$3:$J$12,7,TRUE))","v":""},{"$f":"IF(G108=\"\",\"\",VLOOKUP(G108,判定式!E$3:$J$12,6,TRUE))","v":""},{"$f":"IF(H108=\"\",\"\",VLOOKUP(H108,判定式!F$3:$J$12,5,TRUE))","v":""},{"$f":"IF(I108=\"\",\"\",VLOOKUP(I108,判定式!I$3:$J$12,2,TRUE))","v":""},{"$f":"IF(J108=\"\",\"\",VLOOKUP(J108,判定式!L$3:$M$12,2,TRUE))","v":""},{"$f":"IF(K108=\"\",\"\",VLOOKUP(K108,判定式!G$3:$J$12,4,TRUE))","v":""},{"$f":"IF(L108=\"\",\"\",VLOOKUP(L108,判定式!H$3:$J$12,3,TRUE))","v":""},"",{"$f":"IF(ISNUMBER(D108),\"判定外\",IF(C108=6,VLOOKUP(U108,判定式!$C$15:I$19,7,TRUE),IF(C108=7,VLOOKUP(U108,判定式!$D$15:I$19,6,TRUE),IF(C108=8,VLOOKUP(U108,判定式!$E$15:I$19,5,TRUE),IF(C108=9,VLOOKUP(U108,判定式!$F$15:I$19,4,TRUE),IF(C108=10,VLOOKUP(U108,判定式!$G$15:I$19,3,TRUE),IF(C108=11,VLOOKUP(U108,判定式!$H$15:I$19,2,TRUE))))))))","v":false}]
[89,null,null,"-",null,null,null,null,null,null,null,null,{"$f":"IF(E109=\"\",\"\",VLOOKUP(E109,判定式!C$3:$J$12,8,TRUE))","v":""},{"$f":"IF(F109=\"\",\"\",VLOOKUP(F109,判定式!D$3:$J$12,7,TRUE))","v":""},{"$f":"IF(G109=\"\",\"\",VLOOKUP(G109,判定式!E$3:$J$12,6,TRUE))","v":""},{"$f":"IF(H109=\"\",\"\",VLOOKUP(H109,判定式!F$3:$J$12,5,TRUE))","v":""},{"$f":"IF(I109=\"\",\"\",VLOOKUP(I109,判定式!I$3:$J$12,2,TRUE))","v":""},{"$f":"IF(J109=\"\",\"\",VLOOKUP(J109,判定式!L$3:$M$12,2,TRUE))","v":""},{"$f":"IF(K109=\"\",\"\",VLOOKUP(K109,判定式!G$3:$J$12,4,TRUE))","v":""},{"$f":"IF(L109=\"\",\"\",VLOOKUP(L109,判定式!H$3:$J$12,3,TRUE))","v":""},"",{"$f":"IF(ISNUMBER(D109),\"判定外\",IF(C109=6,VLOOKUP(U109,判定式!$C$15:I$19,7,TRUE),IF(C109=7,VLOOKUP(U109,判定式!$D$15:I$19,6,TRUE),IF(C109=8,VLOOKUP(U109,判定式!$E$15:I$19,5,TRUE),IF(C109=9,VLOOKUP(U109,判定式!$F$15:I$19,4,TRUE),IF(C109=10,VLOOKUP(U109,判定式!$G$15:I$19,3,TRUE),IF(C109=11,VLOOKUP(U109,判定式!$H$15:I$19,2,TRUE))))))))","v":false}]
[90,null,null,"-",null,null,null,null,null,null,null,null,{"$f":"IF(E110=\"\",\"\",VLOOKUP(E110,判定式!C$3:$J$12,8,TRUE))","v":""},{"$f":"IF(F110=\"\",\"\",VLOOKUP(F110,判定式!D$3:$J$12,7,TRUE))","v":""},{"$f":"IF(G110=\"\",\"\",VLOOKUP(G110,判定式!E$3:$J$12,6,TRUE))","v":""},{"$f":"IF(H110=\"\",\"\",VLOOKUP(H110,判定式!F$3:$J$12,5,TRUE))","v":""},{"$f":"IF(I110=\"\",\"\",VLOOKUP(I110,判定式!I$3:$J$12,2,TRUE))","v":""},{"$f":"IF(J110=\"\",\"\",VLOOKUP(J110,判定式!L$3:$M$12,2,TRUE))","v":""},{"$f":"IF(K110=\"\",\"\",VLOOKUP(K110,判定式!G$3:$J$12,4,TRUE))","v":""},{"$f":"IF(L110=\"\",\"\",VLOOKUP(L110,判定式!H$3:$J$12,3,TRUE))","v":""},"",{"$f":"IF(ISNUMBER(D110),\"判定外\",IF(C110=6,VLOOKUP(U110,判定式!$C$15:I$19,7,TRUE),IF(C110=7,VLOOKUP(U110,判定式!$D$15:I$19,6,TRUE),IF(C110=8,VLOOKUP(U110,判定式!$E$15:I$19,5,TRUE),IF(C110=9,VLOOKUP(U110,判定式!$F$15:I$19,4,TRUE),IF(C110=10,VLOOKUP(U110,判定式!$G$15:I$19,3,TRUE),IF(C110=11,VLOOKUP(U110,判定式!$H$15:I$19,2,TRUE))))))))","v":false}]
[91,null,null,"-",null,null,null,null,null,null,null,null,{"$f":"IF(E111=\"\",\"\",VLOOKUP(E111,判定式!C$3:$J$12,8,TRUE))","v":""},{"$f":"IF(F111=\"\",\"\",VLOOKUP(F111,判定式!D$3:$J$12,7,TRUE))","v":""},{"$f":"IF(G111=\"\",\"\",VLOOKUP(G111,判定式!E$3:$J$12,6,TRUE))","v":""},{"$f":"IF(H111=\"\",\"\",VLOOKUP(H111,判定式!F$3:$J$12,5,TRUE))","v":""},{"$f":"IF(I111=\"\",\"\",VLOOKUP(I111,判定式!I$3:$J$12,2,TRUE))","v":""},{"$f":"IF(J111=\"\",\"\",VLOOKUP(J111,判定式!L$3:$M$12,2,TRUE))","v":""},{"$f":"IF(K111=\"\",\"\",VLOOKUP(K111,判定式!G$3:$J$12,4,TRUE))","v":""},{"$f":"IF(L111=\"\",\"\",VLOOKUP(L111,判定式!H$3:$J$12,3,TRUE))","v":""},"",{"$f":"IF(ISNUMBER(D111),\"判定外\",IF(C111=6,VLOOKUP(U111,判定式!$C$15:I$19,7,TRUE),IF(C111=7,VLOOKUP(U111,判定式!$D$15:I$19,6,TRUE),IF(C111=8,VLOOKUP(U111,判定式!$E$15:I$19,5,TRUE),IF(C111=9,VLOOKUP(U111,判定式!$F$15:I$19,4,TRUE),IF(C111=10,VLOOKUP(U111,判定式!$G$15:I$19,3,TRUE),IF(C111=11,VLOOKUP(U111,判定式!$H$15:I$19,2,TRUE))))))))","v":false}]
[92,null,null,"-",null,null,null,null,null,null,null,null,{"$f":"IF(E112=\"\",\"\",VLOOKUP(E112,判定式!C$3:$J$12,8,TRUE))","v":""},{"$f":"IF(F112=\"\",\"\",VLOOKUP(F112,判定式!D$3:$J$12,7,TRUE))","v":""},{"$f":"IF(G112=\"\",\"\",VLOOKUP(G112,判定式!E$3:$J$12,6,TRUE))","v":""},{"$f":"IF(H112=\"\",\"\",VLOOKUP(H112,判定式!F$3:$J$12,5,TRUE))","v":""},{"$f":"IF(I112=\"\",\"\",VLOOKUP(I112,判定式!I$3:$J$12,2,TRUE))","v":""},{"$f":"IF(J112=\"\",\"\",VLOOKUP(J112,判定式!L$3:$M$12,2,TRUE))","v":""},{"$f":"IF(K112=\"\",\"\",VLOOKUP(K112,判定式!G$3:$J$12,4,TRUE))","v":""},{"$f":"IF(L112=\"\",\"\",VLOOKUP(L112,判定式!H$3:$J$12,3,TRUE))","v":""},"",{"$f":"IF(ISNUMBER(D112),\"判定外\",IF(C112=6,VLOOKUP(U112,判定式!$C$15:I$19,7,TRUE),IF(C112=7,VLOOKUP(U112,判定式!$D$15:I$19,6,TRUE),IF(C112=8,VLOOKUP(U112,判定式!$E$15:I$19,5,TRUE),IF(C112=9,VLOOKUP(U112,判定式!$F$15:I$19,4,TRUE),IF(C112=10,VLOOKUP(U112,判定式!$G$15:I$19,3,TRUE),IF(C112=11,VLOOKUP(U112,判定式!$H$15:I$19,2,TRUE))))))))","v":false}]
[93,null,null,"-",null,null,null,null,null,null,null,null,{"$f":"IF(E113=\"\",\"\",VLOOKUP(E113,判定式!C$3:$J$12,8,TRUE))","v":""},{"$f":"IF(F113=\"\",\"\",VLOOKUP(F113,判定式!D$3:$J$12,7,TRUE))","v":""},{"$f":"IF(G113=\"\",\"\",VLOOKUP(G113,判定式!E$3:$J$12,6,TRUE))","v":""},{"$f":"IF(H113=\"\",\"\",VLOOKUP(H113,判定式!F$3:$J$12,5,TRUE))","v":""},{"$f":"IF(I113=\"\",\"\",VLOOKUP(I113,判定式!I$3:$J$12,2,TRUE))","v":""},{"$f":"IF(J113=\"\",\"\",VLOOKUP(J113,判定式!L$3:$M$12,2,TRUE))","v":""},{"$f":"IF(K113=\"\",\"\",VLOOKUP(K113,判定式!G$3:$J$12,4,TRUE))","v":""},{"$f":"IF(L113=\"\",\"\",VLOOKUP(L113,判定式!H$3:$J$12,3,TRUE))","v":""},"",{"$f":"IF(ISNUMBER(D113),\"判定外\",IF(C113=6,VLOOKUP(U113,判定式!$C$15:I$19,7,TRUE),IF(C113=7,VLOOKUP(U113,判定式!$D$15:I$19,6,TRUE),IF(C113=8,VLOOKUP(U113,判定式!$E$15:I$19,5,TRUE),IF(C113=9,VLOOKUP(U113,判定式!$F$15:I$19,4,TRUE),IF(C113=10,VLOOKUP(U113,判定式!$G$15:I$19,3,TRUE),IF(C113=11,VLOOKUP(U113,判定式!$H$15:I$19,2,TRUE))))))))","v":false}]
[94,null,null,"-",null,null,null,null,null,null,null,null,{"$f":"IF(E114=\"\",\"\",VLOOKUP(E114,判定式!C$3:$J$12,8,TRUE))","v":""},{"$f":"IF(F114=\"\",\"\",VLOOKUP(F114,判定式!D$3:$J$12,7,TRUE))","v":""},{"$f":"IF(G114=\"\",\"\",VLOOKUP(G114,判定式!E$3:$J$12,6,TRUE))","v":""},{"$f":"IF(H114=\"\",\"\",VLOOKUP(H114,判定式!F$3:$J$12,5,TRUE))","v":""},{"$f":"IF(I114=\"\",\"\",VLOOKUP(I114,判定式!I$3:$J$12,2,TRUE))","v":""},{"$f":"IF(J114=\"\",\"\",VLOOKUP(J114,判定式!L$3:$M$12,2,TRUE))","v":""},{"$f":"IF(K114=\"\",\"\",VLOOKUP(K114,判定式!G$3:$J$12,4,TRUE))","v":""},{"$f":"IF(L114=\"\",\"\",VLOOKUP(L114,判定式!H$3:$J$12,3,TRUE))","v":""},"",{"$f":"IF(ISNUMBER(D114),\"判定外\",IF(C114=6,VLOOKUP(U114,判定式!$C$15:I$19,7,TRUE),IF(C114=7,VLOOKUP(U114,判定式!$D$15:I$19,6,TRUE),IF(C114=8,VLOOKUP(U114,判定式!$E$15:I$19,5,TRUE),IF(C114=9,VLOOKUP(U114,判定式!$F$15:I$19,4,TRUE),IF(C114=10,VLOOKUP(U114,判定式!$G$15:I$19,3,TRUE),IF(C114=11,VLOOKUP(U114,判定式!$H$15:I$19,2,TRUE))))))))","v":false}]
[95,null,null,"-",null,null,null,null,null,null,null,null,{"$f":"IF(E115=\"\",\"\",VLOOKUP(E115,判定式!C$3:$J$12,8,TRUE))","v":""},{"$f":"IF(F115=\"\",\"\",VLOOKUP(F115,判定式!D$3:$J$12,7,TRUE))","v":""},{"$f":"IF(G115=\"\",\"\",VLOOKUP(G115,判定式!E$3:$J$12,6,TRUE))","v":""},{"$f":"IF(H115=\"\",\"\",VLOOKUP(H115,判定式!F$3:$J$12,5,TRUE))","v":""},{"$f":"IF(I115=\"\",\"\",VLOOKUP(I115,判定式!I$3:$J$12,2,TRUE))","v":""},{"$f":"IF(J115=\"\",\"\",VLOOKUP(J115,判定式!L$3:$M$12,2,TRUE))","v":""},{"$f":"IF(K115=\"\",\"\",VLOOKUP(K115,判定式!G$3:$J$12,4,TRUE))","v":""},{"$f":"IF(L115=\"\",\"\",VLOOKUP(L115,判定式!H$3:$J$12,3,TRUE))","v":""},"",{"$f":"IF(ISNUMBER(D115),\"判定外\",IF(C115=6,VLOOKUP(U115,判定式!$C$15:I$19,7,TRUE),IF(C115=7,VLOOKUP(U115,判定式!$D$15:I$19,6,TRUE),IF(C115=8,VLOOKUP(U115,判定式!$E$15:I$19,5,TRUE),IF(C115=9,VLOOKUP(U115,判定式!$F$15:I$19,4,TRUE),IF(C115=10,VLOOKUP(U115,判定式!$G$15:I$19,3,TRUE),IF(C115=11,VLOOKUP(U115,判定式!$H$15:I$19,2,TRUE))))))))","v":false}]
[96,null,null,"-",null,null,null,null,null,null,null,null,{"$f":"IF(E116=\"\",\"\",VLOOKUP(E116,判定式!C$3:$J$12,8,TRUE))","v":""},{"$f":"IF(F116=\"\",\"\",VLOOKUP(F116,判定式!D$3:$J$12,7,TRUE))","v":""},{"$f":"IF(G116=\"\",\"\",VLOOKUP(G116,判定式!E$3:$J$12,6,TRUE))","v":""},{"$f":"IF(H116=\"\",\"\",VLOOKUP(H116,判定式!F$3:$J$12,5,TRUE))","v":""},{"$f":"IF(I116=\"\",\"\",VLOOKUP(I116,判定式!I$3:$J$12,2,TRUE))","v":""},{"$f":"IF(J116=\"\",\"\",VLOOKUP(J116,判定式!L$3:$M$12,2,TRUE))","v":""},{"$f":"IF(K116=\"\",\"\",VLOOKUP(K116,判定式!G$3:$J$12,4,TRUE))","v":""},{"$f":"IF(L116=\"\",\"\",VLOOKUP(L116,判定式!H$3:$J$12,3,TRUE))","v":""},"",{"$f":"IF(ISNUMBER(D116),\"判定外\",IF(C116=6,VLOOKUP(U116,判定式!$C$15:I$19,7,TRUE),IF(C116=7,VLOOKUP(U116,判定式!$D$15:I$19,6,TRUE),IF(C116=8,VLOOKUP(U116,判定式!$E$15:I$19,5,TRUE),IF(C116=9,VLOOKUP(U116,判定式!$F$15:I$19,4,TRUE),IF(C116=10,VLOOKUP(U116,判定式!$G$15:I$19,3,TRUE),IF(C116=11,VLOOKUP(U116,判定式!$H$15:I$19,2,TRUE))))))))","v":false}]
[97,null,null,{"$f":"IF(COUNTBLANK(E117:L117)=0,\"\",IF(COUNTBLANK(E117:L117)=8,\"-\",COUNTBLANK(E117:L117)))","v":"-"},null,null,null,null,null,null,null,null,{"$f":"IF(E117=\"\",\"\",VLOOKUP(E117,判定式!C$3:$J$12,8,TRUE))","v":""},{"$f":"IF(F117=\"\",\"\",VLOOKUP(F117,判定式!D$3:$J$12,7,TRUE))","v":""},{"$f":"IF(G117=\"\",\"\",VLOOKUP(G117,判定式!E$3:$J$12,6,TRUE))","v":""},{"$f":"IF(H117=\"\",\"\",VLOOKUP(H117,判定式!F$3:$J$12,5,TRUE))","v":""},{"$f":"IF(I117=\"\",\"\",VLOOKUP(I117,判定式!I$3:$J$12,2,TRUE))","v":""},{"$f":"IF(J117=\"\",\"\",VLOOKUP(J117,判定式!L$3:$M$12,2,TRUE))","v":""},{"$f":"IF(K117=\"\",\"\",VLOOKUP(K117,判定式!G$3:$J$12,4,TRUE))","v":""},{"$f":"IF(L117=\"\",\"\",VLOOKUP(L117,判定式!H$3:$J$12,3,TRUE))","v":""},{"$f":"IF(COUNTBLANK(M117:T117)=0,SUM(M117:T117),\"\")","v":""},{"$f":"IF(ISNUMBER(D117),\"判定外\",IF(C117=6,VLOOKUP(U117,判定式!$C$15:I$19,7,TRUE),IF(C117=7,VLOOKUP(U117,判定式!$D$15:I$19,6,TRUE),IF(C117=8,VLOOKUP(U117,判定式!$E$15:I$19,5,TRUE),IF(C117=9,VLOOKUP(U117,判定式!$F$15:I$19,4,TRUE),IF(C117=10,VLOOKUP(U117,判定式!$G$15:I$19,3,TRUE),IF(C117=11,VLOOKUP(U117,判定式!$H$15:I$19,2,TRUE))))))))","v":false}]
[98,null,null,"-",null,null,null,null,null,null,null,null,{"$f":"IF(E118=\"\",\"\",VLOOKUP(E118,判定式!C$3:$J$12,8,TRUE))","v":""},{"$f":"IF(F118=\"\",\"\",VLOOKUP(F118,判定式!D$3:$J$12,7,TRUE))","v":""},{"$f":"IF(G118=\"\",\"\",VLOOKUP(G118,判定式!E$3:$J$12,6,TRUE))","v":""},{"$f":"IF(H118=\"\",\"\",VLOOKUP(H118,判定式!F$3:$J$12,5,TRUE))","v":""},{"$f":"IF(I118=\"\",\"\",VLOOKUP(I118,判定式!I$3:$J$12,2,TRUE))","v":""},{"$f":"IF(J118=\"\",\"\",VLOOKUP(J118,判定式!L$3:$M$12,2,TRUE))","v":""},{"$f":"IF(K118=\"\",\"\",VLOOKUP(K118,判定式!G$3:$J$12,4,TRUE))","v":""},{"$f":"IF(L118=\"\",\"\",VLOOKUP(L118,判定式!H$3:$J$12,3,TRUE))","v":""},"",{"$f":"IF(ISNUMBER(D118),\"判定外\",IF(C118=6,VLOOKUP(U118,判定式!$C$15:I$19,7,TRUE),IF(C118=7,VLOOKUP(U118,判定式!$D$15:I$19,6,TRUE),IF(C118=8,VLOOKUP(U118,判定式!$E$15:I$19,5,TRUE),IF(C118=9,VLOOKUP(U118,判定式!$F$15:I$19,4,TRUE),IF(C118=10,VLOOKUP(U118,判定式!$G$15:I$19,3,TRUE),IF(C118=11,VLOOKUP(U118,判定式!$H$15:I$19,2,TRUE))))))))","v":false}]
[99,null,null,"-",null,null,null,null,null,null,null,null,{"$f":"IF(E119=\"\",\"\",VLOOKUP(E119,判定式!C$3:$J$12,8,TRUE))","v":""},{"$f":"IF(F119=\"\",\"\",VLOOKUP(F119,判定式!D$3:$J$12,7,TRUE))","v":""},{"$f":"IF(G119=\"\",\"\",VLOOKUP(G119,判定式!E$3:$J$12,6,TRUE))","v":""},{"$f":"IF(H119=\"\",\"\",VLOOKUP(H119,判定式!F$3:$J$12,5,TRUE))","v":""},{"$f":"IF(I119=\"\",\"\",VLOOKUP(I119,判定式!I$3:$J$12,2,TRUE))","v":""},{"$f":"IF(J119=\"\",\"\",VLOOKUP(J119,判定式!L$3:$M$12,2,TRUE))","v":""},{"$f":"IF(K119=\"\",\"\",VLOOKUP(K119,判定式!G$3:$J$12,4,TRUE))","v":""},{"$f":"IF(L119=\"\",\"\",VLOOKUP(L119,判定式!H$3:$J$12,3,TRUE))","v":""},"",{"$f":"IF(ISNUMBER(D119),\"判定外\",IF(C119=6,VLOOKUP(U119,判定式!$C$15:I$19,7,TRUE),IF(C119=7,VLOOKUP(U119,判定式!$D$15:I$19,6,TRUE),IF(C119=8,VLOOKUP(U119,判定式!$E$15:I$19,5,TRUE),IF(C119=9,VLOOKUP(U119,判定式!$F$15:I$19,4,TRUE),IF(C119=10,VLOOKUP(U119,判定式!$G$15:I$19,3,TRUE),IF(C119=11,VLOOKUP(U119,判定式!$H$15:I$19,2,TRUE))))))))","v":false}]
[100,null,null,"-",null,null,null,null,null,null,null,null,{"$f":"IF(E120=\"\",\"\",VLOOKUP(E120,判定式!C$3:$J$12,8,TRUE))","v":""},{"$f":"IF(F120=\"\",\"\",VLOOKUP(F120,判定式!D$3:$J$12,7,TRUE))","v":""},{"$f":"IF(G120=\"\",\"\",VLOOKUP(G120,判定式!E$3:$J$12,6,TRUE))","v":""},{"$f":"IF(H120=\"\",\"\",VLOOKUP(H120,判定式!F$3:$J$12,5,TRUE))","v":""},{"$f":"IF(I120=\"\",\"\",VLOOKUP(I120,判定式!I$3:$J$12,2,TRUE))","v":""},{"$f":"IF(J120=\"\",\"\",VLOOKUP(J120,判定式!L$3:$M$12,2,TRUE))","v":""},{"$f":"IF(K120=\"\",\"\",VLOOKUP(K120,判定式!G$3:$J$12,4,TRUE))","v":""},{"$f":"IF(L120=\"\",\"\",VLOOKUP(L120,判定式!H$3:$J$12,3,TRUE))","v":""},"",{"$f":"IF(ISNUMBER(D120),\"判定外\",IF(C120=6,VLOOKUP(U120,判定式!$C$15:I$19,7,TRUE),IF(C120=7,VLOOKUP(U120,判定式!$D$15:I$19,6,TRUE),IF(C120=8,VLOOKUP(U120,判定式!$E$15:I$19,5,TRUE),IF(C120=9,VLOOKUP(U120,判定式!$F$15:I$19,4,TRUE),IF(C120=10,VLOOKUP(U120,判定式!$G$15:I$19,3,TRUE),IF(C120=11,VLOOKUP(U120,判定式!$H$15:I$19,2,TRUE))))))))","v":false}]
[101,null,null,"-",null,null,null,null,null,null,null,null,{"$f":"IF(E121=\"\",\"\",VLOOKUP(E121,判定式!C$3:$J$12,8,TRUE))","v":""},{"$f":"IF(F121=\"\",\"\",VLOOKUP(F121,判定式!D$3:$J$12,7,TRUE))","v":""},{"$f":"IF(G121=\"\",\"\",VLOOKUP(G121,判定式!E$3:$J$12,6,TRUE))","v":""},{"$f":"IF(H121=\"\",\"\",VLOOKUP(H121,判定式!F$3:$J$12,5,TRUE))","v":""},{"$f":"IF(I121=\"\",\"\",VLOOKUP(I121,判定式!I$3:$J$12,2,TRUE))","v":""},{"$f":"IF(J121=\"\",\"\",VLOOKUP(J121,判定式!L$3:$M$12,2,TRUE))","v":""},{"$f":"IF(K121=\"\",\"\",VLOOKUP(K121,判定式!G$3:$J$12,4,TRUE))","v":""},{"$f":"IF(L121=\"\",\"\",VLOOKUP(L121,判定式!H$3:$J$12,3,TRUE))","v":""},"",{"$f":"IF(ISNUMBER(D121),\"判定外\",IF(C121=6,VLOOKUP(U121,判定式!$C$15:I$19,7,TRUE),IF(C121=7,VLOOKUP(U121,判定式!$D$15:I$19,6,TRUE),IF(C121=8,VLOOKUP(U121,判定式!$E$15:I$19,5,TRUE),IF(C121=9,VLOOKUP(U121,判定式!$F$15:I$19,4,TRUE),IF(C121=10,VLOOKUP(U121,判定式!$G$15:I$19,3,TRUE),IF(C121=11,VLOOKUP(U121,判定式!$H$15:I$19,2,TRUE))))))))","v":false}]
[102,null,null,"-",null,null,null,null,null,null,null,null,{"$f":"IF(E122=\"\",\"\",VLOOKUP(E122,判定式!C$3:$J$12,8,TRUE))","v":""},{"$f":"IF(F122=\"\",\"\",VLOOKUP(F122,判定式!D$3:$J$12,7,TRUE))","v":""},{"$f":"IF(G122=\"\",\"\",VLOOKUP(G122,判定式!E$3:$J$12,6,TRUE))","v":""},{"$f":"IF(H122=\"\",\"\",VLOOKUP(H122,判定式!F$3:$J$12,5,TRUE))","v":""},{"$f":"IF(I122=\"\",\"\",VLOOKUP(I122,判定式!I$3:$J$12,2,TRUE))","v":""},{"$f":"IF(J122=\"\",\"\",VLOOKUP(J122,判定式!L$3:$M$12,2,TRUE))","v":""},{"$f":"IF(K122=\"\",\"\",VLOOKUP(K122,判定式!G$3:$J$12,4,TRUE))","v":""},{"$f":"IF(L122=\"\",\"\",VLOOKUP(L122,判定式!H$3:$J$12,3,TRUE))","v":""},"",{"$f":"IF(ISNUMBER(D122),\"判定外\",IF(C122=6,VLOOKUP(U122,判定式!$C$15:I$19,7,TRUE),IF(C122=7,VLOOKUP(U122,判定式!$D$15:I$19,6,TRUE),IF(C122=8,VLOOKUP(U122,判定式!$E$15:I$19,5,TRUE),IF(C122=9,VLOOKUP(U122,判定式!$F$15:I$19,4,TRUE),IF(C122=10,VLOOKUP(U122,判定式!$G$15:I$19,3,TRUE),IF(C122=11,VLOOKUP(U122,判定式!$H$15:I$19,2,TRUE))))))))","v":false}]
[103,null,null,"-",null,null,null,null,null,null,null,null,{"$f":"IF(E123=\"\",\"\",VLOOKUP(E123,判定式!C$3:$J$12,8,TRUE))","v":""},{"$f":"IF(F123=\"\",\"\",VLOOKUP(F123,判定式!D$3:$J$12,7,TRUE))","v":""},{"$f":"IF(G123=\"\",\"\",VLOOKUP(G123,判定式!E$3:$J$12,6,TRUE))","v":""},{"$f":"IF(H123=\"\",\"\",VLOOKUP(H123,判定式!F$3:$J$12,5,TRUE))","v":""},{"$f":"IF(I123=\"\",\"\",VLOOKUP(I123,判定式!I$3:$J$12,2,TRUE))","v":""},{"$f":"IF(J123=\"\",\"\",VLOOKUP(J123,判定式!L$3:$M$12,2,TRUE))","v":""},{"$f":"IF(K123=\"\",\"\",VLOOKUP(K123,判定式!G$3:$J$12,4,TRUE))","v":""},{"$f":"IF(L123=\"\",\"\",VLOOKUP(L123,判定式!H$3:$J$12,3,TRUE))","v":""},"",{"$f":"IF(ISNUMBER(D123),\"判定外\",IF(C123=6,VLOOKUP(U123,判定式!$C$15:I$19,7,TRUE),IF(C123=7,VLOOKUP(U123,判定式!$D$15:I$19,6,TRUE),IF(C123=8,VLOOKUP(U123,判定式!$E$15:I$19,5,TRUE),IF(C123=9,VLOOKUP(U123,判定式!$F$15:I$19,4,TRUE),IF(C123=10,VLOOKUP(U123,判定式!$G$15:I$19,3,TRUE),IF(C123=11,VLOOKUP(U123,判定式!$H$15:I$19,2,TRUE))))))))","v":false}]
[104,null,null,"-",null,null,null,null,null,null,null,null,{"$f":"IF(E124=\"\",\"\",VLOOKUP(E124,判定式!C$3:$J$12,8,TRUE))","v":""},{"$f":"IF(F124=\"\",\"\",VLOOKUP(F124,判定式!D$3:$J$12,7,TRUE))","v":""},{"$f":"IF(G124=\"\",\"\",VLOOKUP(G124,判定式!E$3:$J$12,6,TRUE))","v":""},{"$f":"IF(H124=\"\",\"\",VLOOKUP(H124,判定式!F$3:$J$12,5,TRUE))","v":""},{"$f":"IF(I124=\"\",\"\",VLOOKUP(I124,判定式!I$3:$J$12,2,TRUE))","v":""},{"$f":"IF(J124=\"\",\"\",VLOOKUP(J124,判定式!L$3:$M$12,2,TRUE))","v":""},{"$f":"IF(K124=\"\",\"\",VLOOKUP(K124,判定式!G$3:$J$12,4,TRUE))","v":""},{"$f":"IF(L124=\"\",\"\",VLOOKUP(L124,判定式!H$3:$J$12,3,TRUE))","v":""},"",{"$f":"IF(ISNUMBER(D124),\"判定外\",IF(C124=6,VLOOKUP(U124,判定式!$C$15:I$19,7,TRUE),IF(C124=7,VLOOKUP(U124,判定式!$D$15:I$19,6,TRUE),IF(C124=8,VLOOKUP(U124,判定式!$E$15:I$19,5,TRUE),IF(C124=9,VLOOKUP(U124,判定式!$F$15:I$19,4,TRUE),IF(C124=10,VLOOKUP(U124,判定式!$G$15:I$19,3,TRUE),IF(C124=11,VLOOKUP(U124,判定式!$H$15:I$19,2,TRUE))))))))","v":false}]
[105,null,null,"-",null,null,null,null,null,null,null,null,{"$f":"IF(E125=\"\",\"\",VLOOKUP(E125,判定式!C$3:$J$12,8,TRUE))","v":""},{"$f":"IF(F125=\"\",\"\",VLOOKUP(F125,判定式!D$3:$J$12,7,TRUE))","v":""},{"$f":"IF(G125=\"\",\"\",VLOOKUP(G125,判定式!E$3:$J$12,6,TRUE))","v":""},{"$f":"IF(H125=\"\",\"\",VLOOKUP(H125,判定式!F$3:$J$12,5,TRUE))","v":""},{"$f":"IF(I125=\"\",\"\",VLOOKUP(I125,判定式!I$3:$J$12,2,TRUE))","v":""},{"$f":"IF(J125=\"\",\"\",VLOOKUP(J125,判定式!L$3:$M$12,2,TRUE))","v":""},{"$f":"IF(K125=\"\",\"\",VLOOKUP(K125,判定式!G$3:$J$12,4,TRUE))","v":""},{"$f":"IF(L125=\"\",\"\",VLOOKUP(L125,判定式!H$3:$J$12,3,TRUE))","v":""},"",{"$f":"IF(ISNUMBER(D125),\"判定外\",IF(C125=6,VLOOKUP(U125,判定式!$C$15:I$19,7,TRUE),IF(C125=7,VLOOKUP(U125,判定式!$D$15:I$19,6,TRUE),IF(C125=8,VLOOKUP(U125,判定式!$E$15:I$19,5,TRUE),IF(C125=9,VLOOKUP(U125,判定式!$F$15:I$19,4,TRUE),IF(C125=10,VLOOKUP(U125,判定式!$G$15:I$19,3,TRUE),IF(C125=11,VLOOKUP(U125,判定式!$H$15:I$19,2,TRUE))))))))","v":false}]
[106,null,null,"-",null,null,null,null,null,null,null,null,{"$f":"IF(E126=\"\",\"\",VLOOKUP(E126,判定式!C$3:$J$12,8,TRUE))","v":""},{"$f":"IF(F126=\"\",\"\",VLOOKUP(F126,判定式!D$3:$J$12,7,TRUE))","v":""},{"$f":"IF(G126=\"\",\"\",VLOOKUP(G126,判定式!E$3:$J$12,6,TRUE))","v":""},{"$f":"IF(H126=\"\",\"\",VLOOKUP(H126,判定式!F$3:$J$12,5,TRUE))","v":""},{"$f":"IF(I126=\"\",\"\",VLOOKUP(I126,判定式!I$3:$J$12,2,TRUE))","v":""},{"$f":"IF(J126=\"\",\"\",VLOOKUP(J126,判定式!L$3:$M$12,2,TRUE))","v":""},{"$f":"IF(K126=\"\",\"\",VLOOKUP(K126,判定式!G$3:$J$12,4,TRUE))","v":""},{"$f":"IF(L126=\"\",\"\",VLOOKUP(L126,判定式!H$3:$J$12,3,TRUE))","v":""},"",{"$f":"IF(ISNUMBER(D126),\"判定外\",IF(C126=6,VLOOKUP(U126,判定式!$C$15:I$19,7,TRUE),IF(C126=7,VLOOKUP(U126,判定式!$D$15:I$19,6,TRUE),IF(C126=8,VLOOKUP(U126,判定式!$E$15:I$19,5,TRUE),IF(C126=9,VLOOKUP(U126,判定式!$F$15:I$19,4,TRUE),IF(C126=10,VLOOKUP(U126,判定式!$G$15:I$19,3,TRUE),IF(C126=11,VLOOKUP(U126,判定式!$H$15:I$19,2,TRUE))))))))","v":false}]
[107,null,null,"-",null,null,null,null,null,null,null,null,{"$f":"IF(E127=\"\",\"\",VLOOKUP(E127,判定式!C$3:$J$12,8,TRUE))","v":""},{"$f":"IF(F127=\"\",\"\",VLOOKUP(F127,判定式!D$3:$J$12,7,TRUE))","v":""},{"$f":"IF(G127=\"\",\"\",VLOOKUP(G127,判定式!E$3:$J$12,6,TRUE))","v":""},{"$f":"IF(H127=\"\",\"\",VLOOKUP(H127,判定式!F$3:$J$12,5,TRUE))","v":""},{"$f":"IF(I127=\"\",\"\",VLOOKUP(I127,判定式!I$3:$J$12,2,TRUE))","v":""},{"$f":"IF(J127=\"\",\"\",VLOOKUP(J127,判定式!L$3:$M$12,2,TRUE))","v":""},{"$f":"IF(K127=\"\",\"\",VLOOKUP(K127,判定式!G$3:$J$12,4,TRUE))","v":""},{"$f":"IF(L127=\"\",\"\",VLOOKUP(L127,判定式!H$3:$J$12,3,TRUE))","v":""},"",{"$f":"IF(ISNUMBER(D127),\"判定外\",IF(C127=6,VLOOKUP(U127,判定式!$C$15:I$19,7,TRUE),IF(C127=7,VLOOKUP(U127,判定式!$D$15:I$19,6,TRUE),IF(C127=8,VLOOKUP(U127,判定式!$E$15:I$19,5,TRUE),IF(C127=9,VLOOKUP(U127,判定式!$F$15:I$19,4,TRUE),IF(C127=10,VLOOKUP(U127,判定式!$G$15:I$19,3,TRUE),IF(C127=11,VLOOKUP(U127,判定式!$H$15:I$19,2,TRUE))))))))","v":false}]
[108,null,null,"-",null,null,null,null,null,null,null,null,{"$f":"IF(E128=\"\",\"\",VLOOKUP(E128,判定式!C$3:$J$12,8,TRUE))","v":""},{"$f":"IF(F128=\"\",\"\",VLOOKUP(F128,判定式!D$3:$J$12,7,TRUE))","v":""},{"$f":"IF(G128=\"\",\"\",VLOOKUP(G128,判定式!E$3:$J$12,6,TRUE))","v":""},{"$f":"IF(H128=\"\",\"\",VLOOKUP(H128,判定式!F$3:$J$12,5,TRUE))","v":""},{"$f":"IF(I128=\"\",\"\",VLOOKUP(I128,判定式!I$3:$J$12,2,TRUE))","v":""},{"$f":"IF(J128=\"\",\"\",VLOOKUP(J128,判定式!L$3:$M$12,2,TRUE))","v":""},{"$f":"IF(K128=\"\",\"\",VLOOKUP(K128,判定式!G$3:$J$12,4,TRUE))","v":""},{"$f":"IF(L128=\"\",\"\",VLOOKUP(L128,判定式!H$3:$J$12,3,TRUE))","v":""},"",{"$f":"IF(ISNUMBER(D128),\"判定外\",IF(C128=6,VLOOKUP(U128,判定式!$C$15:I$19,7,TRUE),IF(C128=7,VLOOKUP(U128,判定式!$D$15:I$19,6,TRUE),IF(C128=8,VLOOKUP(U128,判定式!$E$15:I$19,5,TRUE),IF(C128=9,VLOOKUP(U128,判定式!$F$15:I$19,4,TRUE),IF(C128=10,VLOOKUP(U128,判定式!$G$15:I$19,3,TRUE),IF(C128=11,VLOOKUP(U128,判定式!$H$15:I$19,2,TRUE))))))))","v":false}]
[109,null,null,"-",null,null,null,null,null,null,null,null,{"$f":"IF(E129=\"\",\"\",VLOOKUP(E129,判定式!C$3:$J$12,8,TRUE))","v":""},{"$f":"IF(F129=\"\",\"\",VLOOKUP(F129,判定式!D$3:$J$12,7,TRUE))","v":""},{"$f":"IF(G129=\"\",\"\",VLOOKUP(G129,判定式!E$3:$J$12,6,TRUE))","v":""},{"$f":"IF(H129=\"\",\"\",VLOOKUP(H129,判定式!F$3:$J$12,5,TRUE))","v":""},{"$f":"IF(I129=\"\",\"\",VLOOKUP(I129,判定式!I$3:$J$12,2,TRUE))","v":""},{"$f":"IF(J129=\"\",\"\",VLOOKUP(J129,判定式!L$3:$M$12,2,TRUE))","v":""},{"$f":"IF(K129=\"\",\"\",VLOOKUP(K129,判定式!G$3:$J$12,4,TRUE))","v":""},{"$f":"IF(L129=\"\",\"\",VLOOKUP(L129,判定式!H$3:$J$12,3,TRUE))","v":""},"",{"$f":"IF(ISNUMBER(D129),\"判定外\",IF(C129=6,VLOOKUP(U129,判定式!$C$15:I$19,7,TRUE),IF(C129=7,VLOOKUP(U129,判定式!$D$15:I$19,6,TRUE),IF(C129=8,VLOOKUP(U129,判定式!$E$15:I$19,5,TRUE),IF(C129=9,VLOOKUP(U129,判定式!$F$15:I$19,4,TRUE),IF(C129=10,VLOOKUP(U129,判定式!$G$15:I$19,3,TRUE),IF(C129=11,VLOOKUP(U129,判定式!$H$15:I$19,2,TRUE))))))))","v":false}]
[110,null,null,"-",null,null,null,null,null,null,null,null,{"$f":"IF(E130=\"\",\"\",VLOOKUP(E130,判定式!C$3:$J$12,8,TRUE))","v":""},{"$f":"IF(F130=\"\",\"\",VLOOKUP(F130,判定式!D$3:$J$12,7,TRUE))","v":""},{"$f":"IF(G130=\"\",\"\",VLOOKUP(G130,判定式!E$3:$J$12,6,TRUE))","v":""},{"$f":"IF(H130=\"\",\"\",VLOOKUP(H130,判定式!F$3:$J$12,5,TRUE))","v":""},{"$f":"IF(I130=\"\",\"\",VLOOKUP(I130,判定式!I$3:$J$12,2,TRUE))","v":""},{"$f":"IF(J130=\"\",\"\",VLOOKUP(J130,判定式!L$3:$M$12,2,TRUE))","v":""},{"$f":"IF(K130=\"\",\"\",VLOOKUP(K130,判定式!G$3:$J$12,4,TRUE))","v":""},{"$f":"IF(L130=\"\",\"\",VLOOKUP(L130,判定式!H$3:$J$12,3,TRUE))","v":""},"",{"$f":"IF(ISNUMBER(D130),\"判定外\",IF(C130=6,VLOOKUP(U130,判定式!$C$15:I$19,7,TRUE),IF(C130=7,VLOOKUP(U130,判定式!$D$15:I$19,6,TRUE),IF(C130=8,VLOOKUP(U130,判定式!$E$15:I$19,5,TRUE),IF(C130=9,VLOOKUP(U130,判定式!$F$15:I$19,4,TRUE),IF(C130=10,VLOOKUP(U130,判定式!$G$15:I$19,3,TRUE),IF(C130=11,VLOOKUP(U130,判定式!$H$15:I$19,2,TRUE))))))))","v":false}]
[111,null,null,"-",null,null,null,null,null,null,null,null,{"$f":"IF(E131=\"\",\"\",VLOOKUP(E131,判定式!C$3:$J$12,8,TRUE))","v":""},{"$f":"IF(F131=\"\",\"\",VLOOKUP(F131,判定式!D$3:$J$12,7,TRUE))","v":""},{"$f":"IF(G131=\"\",\"\",VLOOKUP(G131,判定式!E$3:$J$12,6,TRUE))","v":""},{"$f":"IF(H131=\"\",\"\",VLOOKUP(H131,判定式!F$3:$J$12,5,TRUE))","v":""},{"$f":"IF(I131=\"\",\"\",VLOOKUP(I131,判定式!I$3:$J$12,2,TRUE))","v":""},{"$f":"IF(J131=\"\",\"\",VLOOKUP(J131,判定式!L$3:$M$12,2,TRUE))","v":""},{"$f":"IF(K131=\"\",\"\",VLOOKUP(K131,判定式!G$3:$J$12,4,TRUE))","v":""},{"$f":"IF(L131=\"\",\"\",VLOOKUP(L131,判定式!H$3:$J$12,3,TRUE))","v":""},"",{"$f":"IF(ISNUMBER(D131),\"判定外\",IF(C131=6,VLOOKUP(U131,判定式!$C$15:I$19,7,TRUE),IF(C131=7,VLOOKUP(U131,判定式!$D$15:I$19,6,TRUE),IF(C131=8,VLOOKUP(U131,判定式!$E$15:I$19,5,TRUE),IF(C131=9,VLOOKUP(U131,判定式!$F$15:I$19,4,TRUE),IF(C131=10,VLOOKUP(U131,判定式!$G$15:I$19,3,TRUE),IF(C131=11,VLOOKUP(U131,判定式!$H$15:I$19,2,TRUE))))))))","v":false}]
[112,null,null,"-",null,null,null,null,null,null,null,null,{"$f":"IF(E132=\"\",\"\",VLOOKUP(E132,判定式!C$3:$J$12,8,TRUE))","v":""},{"$f":"IF(F132=\"\",\"\",VLOOKUP(F132,判定式!D$3:$J$12,7,TRUE))","v":""},{"$f":"IF(G132=\"\",\"\",VLOOKUP(G132,判定式!E$3:$J$12,6,TRUE))","v":""},{"$f":"IF(H132=\"\",\"\",VLOOKUP(H132,判定式!F$3:$J$12,5,TRUE))","v":""},{"$f":"IF(I132=\"\",\"\",VLOOKUP(I132,判定式!I$3:$J$12,2,TRUE))","v":""},{"$f":"IF(J132=\"\",\"\",VLOOKUP(J132,判定式!L$3:$M$12,2,TRUE))","v":""},{"$f":"IF(K132=\"\",\"\",VLOOKUP(K132,判定式!G$3:$J$12,4,TRUE))","v":""},{"$f":"IF(L132=\"\",\"\",VLOOKUP(L132,判定式!H$3:$J$12,3,TRUE))","v":""},"",{"$f":"IF(ISNUMBER(D132),\"判定外\",IF(C132=6,VLOOKUP(U132,判定式!$C$15:I$19,7,TRUE),IF(C132=7,VLOOKUP(U132,判定式!$D$15:I$19,6,TRUE),IF(C132=8,VLOOKUP(U132,判定式!$E$15:I$19,5,TRUE),IF(C132=9,VLOOKUP(U132,判定式!$F$15:I$19,4,TRUE),IF(C132=10,VLOOKUP(U132,判定式!$G$15:I$19,3,TRUE),IF(C132=11,VLOOKUP(U132,判定式!$H$15:I$19,2,TRUE))))))))","v":false}]
[113,null,null,"-",null,null,null,null,null,null,null,null,{"$f":"IF(E133=\"\",\"\",VLOOKUP(E133,判定式!C$3:$J$12,8,TRUE))","v":""},{"$f":"IF(F133=\"\",\"\",VLOOKUP(F133,判定式!D$3:$J$12,7,TRUE))","v":""},{"$f":"IF(G133=\"\",\"\",VLOOKUP(G133,判定式!E$3:$J$12,6,TRUE))","v":""},{"$f":"IF(H133=\"\",\"\",VLOOKUP(H133,判定式!F$3:$J$12,5,TRUE))","v":""},{"$f":"IF(I133=\"\",\"\",VLOOKUP(I133,判定式!I$3:$J$12,2,TRUE))","v":""},{"$f":"IF(J133=\"\",\"\",VLOOKUP(J133,判定式!L$3:$M$12,2,TRUE))","v":""},{"$f":"IF(K133=\"\",\"\",VLOOKUP(K133,判定式!G$3:$J$12,4,TRUE))","v":""},{"$f":"IF(L133=\"\",\"\",VLOOKUP(L133,判定式!H$3:$J$12,3,TRUE))","v":""},"",{"$f":"IF(ISNUMBER(D133),\"判定外\",IF(C133=6,VLOOKUP(U133,判定式!$C$15:I$19,7,TRUE),IF(C133=7,VLOOKUP(U133,判定式!$D$15:I$19,6,TRUE),IF(C133=8,VLOOKUP(U133,判定式!$E$15:I$19,5,TRUE),IF(C133=9,VLOOKUP(U133,判定式!$F$15:I$19,4,TRUE),IF(C133=10,VLOOKUP(U133,判定式!$G$15:I$19,3,TRUE),IF(C133=11,VLOOKUP(U133,判定式!$H$15:I$19,2,TRUE))))))))","v":false}]
[114,null,null,"-",null,null,null,null,null,null,null,null,{"$f":"IF(E134=\"\",\"\",VLOOKUP(E134,判定式!C$3:$J$12,8,TRUE))","v":""},{"$f":"IF(F134=\"\",\"\",VLOOKUP(F134,判定式!D$3:$J$12,7,TRUE))","v":""},{"$f":"IF(G134=\"\",\"\",VLOOKUP(G134,判定式!E$3:$J$12,6,TRUE))","v":""},{"$f":"IF(H134=\"\",\"\",VLOOKUP(H134,判定式!F$3:$J$12,5,TRUE))","v":""},{"$f":"IF(I134=\"\",\"\",VLOOKUP(I134,判定式!I$3:$J$12,2,TRUE))","v":""},{"$f":"IF(J134=\"\",\"\",VLOOKUP(J134,判定式!L$3:$M$12,2,TRUE))","v":""},{"$f":"IF(K134=\"\",\"\",VLOOKUP(K134,判定式!G$3:$J$12,4,TRUE))","v":""},{"$f":"IF(L134=\"\",\"\",VLOOKUP(L134,判定式!H$3:$J$12,3,TRUE))","v":""},"",{"$f":"IF(ISNUMBER(D134),\"判定外\",IF(C134=6,VLOOKUP(U134,判定式!$C$15:I$19,7,TRUE),IF(C134=7,VLOOKUP(U134,判定式!$D$15:I$19,6,TRUE),IF(C134=8,VLOOKUP(U134,判定式!$E$15:I$19,5,TRUE),IF(C134=9,VLOOKUP(U134,判定式!$F$15:I$19,4,TRUE),IF(C134=10,VLOOKUP(U134,判定式!$G$15:I$19,3,TRUE),IF(C134=11,VLOOKUP(U134,判定式!$H$15:I$19,2,TRUE))))))))","v":false}]
[115,null,null,"-",null,null,null,null,null,null,null,null,{"$f":"IF(E135=\"\",\"\",VLOOKUP(E135,判定式!C$3:$J$12,8,TRUE))","v":""},{"$f":"IF(F135=\"\",\"\",VLOOKUP(F135,判定式!D$3:$J$12,7,TRUE))","v":""},{"$f":"IF(G135=\"\",\"\",VLOOKUP(G135,判定式!E$3:$J$12,6,TRUE))","v":""},{"$f":"IF(H135=\"\",\"\",VLOOKUP(H135,判定式!F$3:$J$12,5,TRUE))","v":""},{"$f":"IF(I135=\"\",\"\",VLOOKUP(I135,判定式!I$3:$J$12,2,TRUE))","v":""},{"$f":"IF(J135=\"\",\"\",VLOOKUP(J135,判定式!L$3:$M$12,2,TRUE))","v":""},{"$f":"IF(K135=\"\",\"\",VLOOKUP(K135,判定式!G$3:$J$12,4,TRUE))","v":""},{"$f":"IF(L135=\"\",\"\",VLOOKUP(L135,判定式!H$3:$J$12,3,TRUE))","v":""},"",{"$f":"IF(ISNUMBER(D135),\"判定外\",IF(C135=6,VLOOKUP(U135,判定式!$C$15:I$19,7,TRUE),IF(C135=7,VLOOKUP(U135,判定式!$D$15:I$19,6,TRUE),IF(C135=8,VLOOKUP(U135,判定式!$E$15:I$19,5,TRUE),IF(C135=9,VLOOKUP(U135,判定式!$F$15:I$19,4,TRUE),IF(C135=10,VLOOKUP(U135,判定式!$G$15:I$19,3,TRUE),IF(C135=11,VLOOKUP(U135,判定式!$H$15:I$19,2,TRUE))))))))","v":false}]
[116,null,null,"-",null,null,null,null,null,null,null,null,{"$f":"IF(E136=\"\",\"\",VLOOKUP(E136,判定式!C$3:$J$12,8,TRUE))","v":""},{"$f":"IF(F136=\"\",\"\",VLOOKUP(F136,判定式!D$3:$J$12,7,TRUE))","v":""},{"$f":"IF(G136=\"\",\"\",VLOOKUP(G136,判定式!E$3:$J$12,6,TRUE))","v":""},{"$f":"IF(H136=\"\",\"\",VLOOKUP(H136,判定式!F$3:$J$12,5,TRUE))","v":""},{"$f":"IF(I136=\"\",\"\",VLOOKUP(I136,判定式!I$3:$J$12,2,TRUE))","v":""},{"$f":"IF(J136=\"\",\"\",VLOOKUP(J136,判定式!L$3:$M$12,2,TRUE))","v":""},{"$f":"IF(K136=\"\",\"\",VLOOKUP(K136,判定式!G$3:$J$12,4,TRUE))","v":""},{"$f":"IF(L136=\"\",\"\",VLOOKUP(L136,判定式!H$3:$J$12,3,TRUE))","v":""},"",{"$f":"IF(ISNUMBER(D136),\"判定外\",IF(C136=6,VLOOKUP(U136,判定式!$C$15:I$19,7,TRUE),IF(C136=7,VLOOKUP(U136,判定式!$D$15:I$19,6,TRUE),IF(C136=8,VLOOKUP(U136,判定式!$E$15:I$19,5,TRUE),IF(C136=9,VLOOKUP(U136,判定式!$F$15:I$19,4,TRUE),IF(C136=10,VLOOKUP(U136,判定式!$G$15:I$19,3,TRUE),IF(C136=11,VLOOKUP(U136,判定式!$H$15:I$19,2,TRUE))))))))","v":false}]
[117,null,null,"-",null,null,null,null,null,null,null,null,{"$f":"IF(E137=\"\",\"\",VLOOKUP(E137,判定式!C$3:$J$12,8,TRUE))","v":""},{"$f":"IF(F137=\"\",\"\",VLOOKUP(F137,判定式!D$3:$J$12,7,TRUE))","v":""},{"$f":"IF(G137=\"\",\"\",VLOOKUP(G137,判定式!E$3:$J$12,6,TRUE))","v":""},{"$f":"IF(H137=\"\",\"\",VLOOKUP(H137,判定式!F$3:$J$12,5,TRUE))","v":""},{"$f":"IF(I137=\"\",\"\",VLOOKUP(I137,判定式!I$3:$J$12,2,TRUE))","v":""},{"$f":"IF(J137=\"\",\"\",VLOOKUP(J137,判定式!L$3:$M$12,2,TRUE))","v":""},{"$f":"IF(K137=\"\",\"\",VLOOKUP(K137,判定式!G$3:$J$12,4,TRUE))","v":""},{"$f":"IF(L137=\"\",\"\",VLOOKUP(L137,判定式!H$3:$J$12,3,TRUE))","v":""},"",{"$f":"IF(ISNUMBER(D137),\"判定外\",IF(C137=6,VLOOKUP(U137,判定式!$C$15:I$19,7,TRUE),IF(C137=7,VLOOKUP(U137,判定式!$D$15:I$19,6,TRUE),IF(C137=8,VLOOKUP(U137,判定式!$E$15:I$19,5,TRUE),IF(C137=9,VLOOKUP(U137,判定式!$F$15:I$19,4,TRUE),IF(C137=10,VLOOKUP(U137,判定式!$G$15:I$19,3,TRUE),IF(C137=11,VLOOKUP(U137,判定式!$H$15:I$19,2,TRUE))))))))","v":false}]
[118,null,null,"-",null,null,null,null,null,null,null,null,{"$f":"IF(E138=\"\",\"\",VLOOKUP(E138,判定式!C$3:$J$12,8,TRUE))","v":""},{"$f":"IF(F138=\"\",\"\",VLOOKUP(F138,判定式!D$3:$J$12,7,TRUE))","v":""},{"$f":"IF(G138=\"\",\"\",VLOOKUP(G138,判定式!E$3:$J$12,6,TRUE))","v":""},{"$f":"IF(H138=\"\",\"\",VLOOKUP(H138,判定式!F$3:$J$12,5,TRUE))","v":""},{"$f":"IF(I138=\"\",\"\",VLOOKUP(I138,判定式!I$3:$J$12,2,TRUE))","v":""},{"$f":"IF(J138=\"\",\"\",VLOOKUP(J138,判定式!L$3:$M$12,2,TRUE))","v":""},{"$f":"IF(K138=\"\",\"\",VLOOKUP(K138,判定式!G$3:$J$12,4,TRUE))","v":""},{"$f":"IF(L138=\"\",\"\",VLOOKUP(L138,判定式!H$3:$J$12,3,TRUE))","v":""},"",{"$f":"IF(ISNUMBER(D138),\"判定外\",IF(C138=6,VLOOKUP(U138,判定式!$C$15:I$19,7,TRUE),IF(C138=7,VLOOKUP(U138,判定式!$D$15:I$19,6,TRUE),IF(C138=8,VLOOKUP(U138,判定式!$E$15:I$19,5,TRUE),IF(C138=9,VLOOKUP(U138,判定式!$F$15:I$19,4,TRUE),IF(C138=10,VLOOKUP(U138,判定式!$G$15:I$19,3,TRUE),IF(C138=11,VLOOKUP(U138,判定式!$H$15:I$19,2,TRUE))))))))","v":false}]
[119,null,null,"-",null,null,null,null,null,null,null,null,{"$f":"IF(E139=\"\",\"\",VLOOKUP(E139,判定式!C$3:$J$12,8,TRUE))","v":""},{"$f":"IF(F139=\"\",\"\",VLOOKUP(F139,判定式!D$3:$J$12,7,TRUE))","v":""},{"$f":"IF(G139=\"\",\"\",VLOOKUP(G139,判定式!E$3:$J$12,6,TRUE))","v":""},{"$f":"IF(H139=\"\",\"\",VLOOKUP(H139,判定式!F$3:$J$12,5,TRUE))","v":""},{"$f":"IF(I139=\"\",\"\",VLOOKUP(I139,判定式!I$3:$J$12,2,TRUE))","v":""},{"$f":"IF(J139=\"\",\"\",VLOOKUP(J139,判定式!L$3:$M$12,2,TRUE))","v":""},{"$f":"IF(K139=\"\",\"\",VLOOKUP(K139,判定式!G$3:$J$12,4,TRUE))","v":""},{"$f":"IF(L139=\"\",\"\",VLOOKUP(L139,判定式!H$3:$J$12,3,TRUE))","v":""},"",{"$f":"IF(ISNUMBER(D139),\"判定外\",IF(C139=6,VLOOKUP(U139,判定式!$C$15:I$19,7,TRUE),IF(C139=7,VLOOKUP(U139,判定式!$D$15:I$19,6,TRUE),IF(C139=8,VLOOKUP(U139,判定式!$E$15:I$19,5,TRUE),IF(C139=9,VLOOKUP(U139,判定式!$F$15:I$19,4,TRUE),IF(C139=10,VLOOKUP(U139,判定式!$G$15:I$19,3,TRUE),IF(C139=11,VLOOKUP(U139,判定式!$H$15:I$19,2,TRUE))))))))","v":false}]
[120,null,null,"-",null,null,null,null,null,null,null,null,{"$f":"IF(E140=\"\",\"\",VLOOKUP(E140,判定式!C$3:$J$12,8,TRUE))","v":""},{"$f":"IF(F140=\"\",\"\",VLOOKUP(F140,判定式!D$3:$J$12,7,TRUE))","v":""},{"$f":"IF(G140=\"\",\"\",VLOOKUP(G140,判定式!E$3:$J$12,6,TRUE))","v":""},{"$f":"IF(H140=\"\",\"\",VLOOKUP(H140,判定式!F$3:$J$12,5,TRUE))","v":""},{"$f":"IF(I140=\"\",\"\",VLOOKUP(I140,判定式!I$3:$J$12,2,TRUE))","v":""},{"$f":"IF(J140=\"\",\"\",VLOOKUP(J140,判定式!L$3:$M$12,2,TRUE))","v":""},{"$f":"IF(K140=\"\",\"\",VLOOKUP(K140,判定式!G$3:$J$12,4,TRUE))","v":""},{"$f":"IF(L140=\"\",\"\",VLOOKUP(L140,判定式!H$3:$J$12,3,TRUE))","v":""},"",{"$f":"IF(ISNUMBER(D140),\"判定外\",IF(C140=6,VLOOKUP(U140,判定式!$C$15:I$19,7,TRUE),IF(C140=7,VLOOKUP(U140,判定式!$D$15:I$19,6,TRUE),IF(C140=8,VLOOKUP(U140,判定式!$E$15:I$19,5,TRUE),IF(C140=9,VLOOKUP(U140,判定式!$F$15:I$19,4,TRUE),IF(C140=10,VLOOKUP(U140,判定式!$G$15:I$19,3,TRUE),IF(C140=11,VLOOKUP(U140,判定式!$H$15:I$19,2,TRUE))))))))","v":false}]
[]
[]
[null,"女子入力欄（男子は上段）"]
[]
[null,"提出時、名前記入は任意","年齢は、全員６",null,null,null,null,"５０m走は、1/100秒を切り上げて、「例：9.72→9.8」のように1/１０秒単位を入力する"]
[null,"小１　女子",6,"自動","整数","整数","整数","整数","整数","小数第１位","整数","整数"]
[null,null,"年齢","未実施\n項目数","調　　査　　項　　目　　記　　録",null,null,null,null,null,null,null,"実技種目得点"]
["Ｎｏ．","名前","半角",null,"握力","上体起こし","長座体前屈","反復横とび","シャトルラン","５０ｍ走","立ち幅とび","ﾎﾞｰﾙ投げ","握力","上体\n起こし","長座\n体前屈","反復\n横跳び","ｼｬﾄﾙ\nﾗﾝ","50ｍ\n走","立ち\n幅とび","ボール\n投げ","体力","総合"]
[null,null,6,null,"（ｋｇ）","（回）","（ｃｍ）","（回）","（回）","（秒）","（ｃｍ）","（ｍ）",null,null,null,null,null,null,null,null,"合計点","評価"]
[1,null,null,{"$f":"IF(COUNTBLANK(E150:L150)=0,\"\",IF(COUNTBLANK(E150:L150)=8,\"-\",COUNTBLANK(E150:L150)))","v":"-"},null,null,null,null,null,null,null,null,{"$f":"IF($E150=\"\",\"\",VLOOKUP($E150,判定式!$P$3:$W$12,8,TRUE))","v":""},{"$f":"IF($F150=\"\",\"\",VLOOKUP($F150,判定式!$Q$3:$W$12,7,TRUE))","v":""},{"$f":"IF($G150=\"\",\"\",VLOOKUP($G150,判定式!$R$3:$W$12,6,TRUE))","v":""},{"$f":"IF($H150=\"\",\"\",VLOOKUP($H150,判定式!$S$3:$W$12,5,TRUE))","v":""},{"$f":"IF($I150=\"\",\"\",VLOOKUP($I150,判定式!$V$3:$W$12,2,TRUE))","v":""},{"$f":"IF($J150=\"\",\"\",VLOOKUP($J150,判定式!$Y$3:$Z$12,2,TRUE))","v":""},{"$f":"IF($K150=\"\",\"\",VLOOKUP($K150,判定式!$T$3:$W$12,4,TRUE))","v":""},{"$f":"IF($L150=\"\",\"\",VLOOKUP($L150,判定式!$U$3:$W$12,3,TRUE))","v":""},{"$f":"IF(COUNTBLANK(M150:T150)=0,SUM(M150:T150),\"\")","v":""},{"$f":"IF(ISNUMBER(D150),\"判定外\",IF(C150=6,VLOOKUP(U150,判定式!$C$15:I$19,7,TRUE),IF(C150=7,VLOOKUP(U150,判定式!$D$15:I$19,6,TRUE),IF(C150=8,VLOOKUP(U150,判定式!$E$15:I$19,5,TRUE),IF(C150=9,VLOOKUP(U150,判定式!$F$15:I$19,4,TRUE),IF(C150=10,VLOOKUP(U150,判定式!$G$15:I$19,3,TRUE),IF(C150=11,VLOOKUP(U150,判定式!$H$15:I$19,2,TRUE))))))))","v":false}]
[2,null,null,"-",null,null,null,null,null,null,null,null,{"$f":"IF($E151=\"\",\"\",VLOOKUP($E151,判定式!$P$3:$W$12,8,TRUE))","v":""},{"$f":"IF($F151=\"\",\"\",VLOOKUP($F151,判定式!$Q$3:$W$12,7,TRUE))","v":""},{"$f":"IF($G151=\"\",\"\",VLOOKUP($G151,判定式!$R$3:$W$12,6,TRUE))","v":""},{"$f":"IF($H151=\"\",\"\",VLOOKUP($H151,判定式!$S$3:$W$12,5,TRUE))","v":""},{"$f":"IF($I151=\"\",\"\",VLOOKUP($I151,判定式!$V$3:$W$12,2,TRUE))","v":""},{"$f":"IF($J151=\"\",\"\",VLOOKUP($J151,判定式!$Y$3:$Z$12,2,TRUE))","v":""},{"$f":"IF($K151=\"\",\"\",VLOOKUP($K151,判定式!$T$3:$W$12,4,TRUE))","v":""},{"$f":"IF($L151=\"\",\"\",VLOOKUP($L151,判定式!$U$3:$W$12,3,TRUE))","v":""},"",{"$f":"IF(ISNUMBER(D151),\"判定外\",IF(C151=6,VLOOKUP(U151,判定式!$C$15:I$19,7,TRUE),IF(C151=7,VLOOKUP(U151,判定式!$D$15:I$19,6,TRUE),IF(C151=8,VLOOKUP(U151,判定式!$E$15:I$19,5,TRUE),IF(C151=9,VLOOKUP(U151,判定式!$F$15:I$19,4,TRUE),IF(C151=10,VLOOKUP(U151,判定式!$G$15:I$19,3,TRUE),IF(C151=11,VLOOKUP(U151,判定式!$H$15:I$19,2,TRUE))))))))","v":false}]
[3,null,null,"-",null,null,null,null,null,null,null,null,{"$f":"IF($E152=\"\",\"\",VLOOKUP($E152,判定式!$P$3:$W$12,8,TRUE))","v":""},{"$f":"IF($F152=\"\",\"\",VLOOKUP($F152,判定式!$Q$3:$W$12,7,TRUE))","v":""},{"$f":"IF($G152=\"\",\"\",VLOOKUP($G152,判定式!$R$3:$W$12,6,TRUE))","v":""},{"$f":"IF($H152=\"\",\"\",VLOOKUP($H152,判定式!$S$3:$W$12,5,TRUE))","v":""},{"$f":"IF($I152=\"\",\"\",VLOOKUP($I152,判定式!$V$3:$W$12,2,TRUE))","v":""},{"$f":"IF($J152=\"\",\"\",VLOOKUP($J152,判定式!$Y$3:$Z$12,2,TRUE))","v":""},{"$f":"IF($K152=\"\",\"\",VLOOKUP($K152,判定式!$T$3:$W$12,4,TRUE))","v":""},{"$f":"IF($L152=\"\",\"\",VLOOKUP($L152,判定式!$U$3:$W$12,3,TRUE))","v":""},"",{"$f":"IF(ISNUMBER(D152),\"判定外\",IF(C152=6,VLOOKUP(U152,判定式!$C$15:I$19,7,TRUE),IF(C152=7,VLOOKUP(U152,判定式!$D$15:I$19,6,TRUE),IF(C152=8,VLOOKUP(U152,判定式!$E$15:I$19,5,TRUE),IF(C152=9,VLOOKUP(U152,判定式!$F$15:I$19,4,TRUE),IF(C152=10,VLOOKUP(U152,判定式!$G$15:I$19,3,TRUE),IF(C152=11,VLOOKUP(U152,判定式!$H$15:I$19,2,TRUE))))))))","v":false}]
[4,null,null,"-",null,null,null,null,null,null,null,null,{"$f":"IF($E153=\"\",\"\",VLOOKUP($E153,判定式!$P$3:$W$12,8,TRUE))","v":""},{"$f":"IF($F153=\"\",\"\",VLOOKUP($F153,判定式!$Q$3:$W$12,7,TRUE))","v":""},{"$f":"IF($G153=\"\",\"\",VLOOKUP($G153,判定式!$R$3:$W$12,6,TRUE))","v":""},{"$f":"IF($H153=\"\",\"\",VLOOKUP($H153,判定式!$S$3:$W$12,5,TRUE))","v":""},{"$f":"IF($I153=\"\",\"\",VLOOKUP($I153,判定式!$V$3:$W$12,2,TRUE))","v":""},{"$f":"IF($J153=\"\",\"\",VLOOKUP($J153,判定式!$Y$3:$Z$12,2,TRUE))","v":""},{"$f":"IF($K153=\"\",\"\",VLOOKUP($K153,判定式!$T$3:$W$12,4,TRUE))","v":""},{"$f":"IF($L153=\"\",\"\",VLOOKUP($L153,判定式!$U$3:$W$12,3,TRUE))","v":""},"",{"$f":"IF(ISNUMBER(D153),\"判定外\",IF(C153=6,VLOOKUP(U153,判定式!$C$15:I$19,7,TRUE),IF(C153=7,VLOOKUP(U153,判定式!$D$15:I$19,6,TRUE),IF(C153=8,VLOOKUP(U153,判定式!$E$15:I$19,5,TRUE),IF(C153=9,VLOOKUP(U153,判定式!$F$15:I$19,4,TRUE),IF(C153=10,VLOOKUP(U153,判定式!$G$15:I$19,3,TRUE),IF(C153=11,VLOOKUP(U153,判定式!$H$15:I$19,2,TRUE))))))))","v":false}]
[5,null,null,"-",null,null,null,null,null,null,null,null,{"$f":"IF($E154=\"\",\"\",VLOOKUP($E154,判定式!$P$3:$W$12,8,TRUE))","v":""},{"$f":"IF($F154=\"\",\"\",VLOOKUP($F154,判定式!$Q$3:$W$12,7,TRUE))","v":""},{"$f":"IF($G154=\"\",\"\",VLOOKUP($G154,判定式!$R$3:$W$12,6,TRUE))","v":""},{"$f":"IF($H154=\"\",\"\",VLOOKUP($H154,判定式!$S$3:$W$12,5,TRUE))","v":""},{"$f":"IF($I154=\"\",\"\",VLOOKUP($I154,判定式!$V$3:$W$12,2,TRUE))","v":""},{"$f":"IF($J154=\"\",\"\",VLOOKUP($J154,判定式!$Y$3:$Z$12,2,TRUE))","v":""},{"$f":"IF($K154=\"\",\"\",VLOOKUP($K154,判定式!$T$3:$W$12,4,TRUE))","v":""},{"$f":"IF($L154=\"\",\"\",VLOOKUP($L154,判定式!$U$3:$W$12,3,TRUE))","v":""},"",{"$f":"IF(ISNUMBER(D154),\"判定外\",IF(C154=6,VLOOKUP(U154,判定式!$C$15:I$19,7,TRUE),IF(C154=7,VLOOKUP(U154,判定式!$D$15:I$19,6,TRUE),IF(C154=8,VLOOKUP(U154,判定式!$E$15:I$19,5,TRUE),IF(C154=9,VLOOKUP(U154,判定式!$F$15:I$19,4,TRUE),IF(C154=10,VLOOKUP(U154,判定式!$G$15:I$19,3,TRUE),IF(C154=11,VLOOKUP(U154,判定式!$H$15:I$19,2,TRUE))))))))","v":false}]
[6,null,null,"-",null,null,null,null,null,null,null,null,{"$f":"IF($E155=\"\",\"\",VLOOKUP($E155,判定式!$P$3:$W$12,8,TRUE))","v":""},{"$f":"IF($F155=\"\",\"\",VLOOKUP($F155,判定式!$Q$3:$W$12,7,TRUE))","v":""},{"$f":"IF($G155=\"\",\"\",VLOOKUP($G155,判定式!$R$3:$W$12,6,TRUE))","v":""},{"$f":"IF($H155=\"\",\"\",VLOOKUP($H155,判定式!$S$3:$W$12,5,TRUE))","v":""},{"$f":"IF($I155=\"\",\"\",VLOOKUP($I155,判定式!$V$3:$W$12,2,TRUE))","v":""},{"$f":"IF($J155=\"\",\"\",VLOOKUP($J155,判定式!$Y$3:$Z$12,2,TRUE))","v":""},{"$f":"IF($K155=\"\",\"\",VLOOKUP($K155,判定式!$T$3:$W$12,4,TRUE))","v":""},{"$f":"IF($L155=\"\",\"\",VLOOKUP($L155,判定式!$U$3:$W$12,3,TRUE))","v":""},"",{"$f":"IF(ISNUMBER(D155),\"判定外\",IF(C155=6,VLOOKUP(U155,判定式!$C$15:I$19,7,TRUE),IF(C155=7,VLOOKUP(U155,判定式!$D$15:I$19,6,TRUE),IF(C155=8,VLOOKUP(U155,判定式!$E$15:I$19,5,TRUE),IF(C155=9,VLOOKUP(U155,判定式!$F$15:I$19,4,TRUE),IF(C155=10,VLOOKUP(U155,判定式!$G$15:I$19,3,TRUE),IF(C155=11,VLOOKUP(U155,判定式!$H$15:I$19,2,TRUE))))))))","v":false}]
[7,null,null,"-",null,null,null,null,null,null,null,null,{"$f":"IF($E156=\"\",\"\",VLOOKUP($E156,判定式!$P$3:$W$12,8,TRUE))","v":""},{"$f":"IF($F156=\"\",\"\",VLOOKUP($F156,判定式!$Q$3:$W$12,7,TRUE))","v":""},{"$f":"IF($G156=\"\",\"\",VLOOKUP($G156,判定式!$R$3:$W$12,6,TRUE))","v":""},{"$f":"IF($H156=\"\",\"\",VLOOKUP($H156,判定式!$S$3:$W$12,5,TRUE))","v":""},{"$f":"IF($I156=\"\",\"\",VLOOKUP($I156,判定式!$V$3:$W$12,2,TRUE))","v":""},{"$f":"IF($J156=\"\",\"\",VLOOKUP($J156,判定式!$Y$3:$Z$12,2,TRUE))","v":""},{"$f":"IF($K156=\"\",\"\",VLOOKUP($K156,判定式!$T$3:$W$12,4,TRUE))","v":""},{"$f":"IF($L156=\"\",\"\",VLOOKUP($L156,判定式!$U$3:$W$12,3,TRUE))","v":""},"",{"$f":"IF(ISNUMBER(D156),\"判定外\",IF(C156=6,VLOOKUP(U156,判定式!$C$15:I$19,7,TRUE),IF(C156=7,VLOOKUP(U156,判定式!$D$15:I$19,6,TRUE),IF(C156=8,VLOOKUP(U156,判定式!$E$15:I$19,5,TRUE),IF(C156=9,VLOOKUP(U156,判定式!$F$15:I$19,4,TRUE),IF(C156=10,VLOOKUP(U156,判定式!$G$15:I$19,3,TRUE),IF(C156=11,VLOOKUP(U156,判定式!$H$15:I$19,2,TRUE))))))))","v":false}]
[8,null,null,"-",null,null,null,null,null,null,null,null,{"$f":"IF($E157=\"\",\"\",VLOOKUP($E157,判定式!$P$3:$W$12,8,TRUE))","v":""},{"$f":"IF($F157=\"\",\"\",VLOOKUP($F157,判定式!$Q$3:$W$12,7,TRUE))","v":""},{"$f":"IF($G157=\"\",\"\",VLOOKUP($G157,判定式!$R$3:$W$12,6,TRUE))","v":""},{"$f":"IF($H157=\"\",\"\",VLOOKUP($H157,判定式!$S$3:$W$12,5,TRUE))","v":""},{"$f":"IF($I157=\"\",\"\",VLOOKUP($I157,判定式!$V$3:$W$12,2,TRUE))","v":""},{"$f":"IF($J157=\"\",\"\",VLOOKUP($J157,判定式!$Y$3:$Z$12,2,TRUE))","v":""},{"$f":"IF($K157=\"\",\"\",VLOOKUP($K157,判定式!$T$3:$W$12,4,TRUE))","v":""},{"$f":"IF($L157=\"\",\"\",VLOOKUP($L157,判定式!$U$3:$W$12,3,TRUE))","v":""},"",{"$f":"IF(ISNUMBER(D157),\"判定外\",IF(C157=6,VLOOKUP(U157,判定式!$C$15:I$19,7,TRUE),IF(C157=7,VLOOKUP(U157,判定式!$D$15:I$19,6,TRUE),IF(C157=8,VLOOKUP(U157,判定式!$E$15:I$19,5,TRUE),IF(C157=9,VLOOKUP(U157,判定式!$F$15:I$19,4,TRUE),IF(C157=10,VLOOKUP(U157,判定式!$G$15:I$19,3,TRUE),IF(C157=11,VLOOKUP(U157,判定式!$H$15:I$19,2,TRUE))))))))","v":false}]
[9,null,null,"-",null,null,null,null,null,null,null,null,{"$f":"IF($E158=\"\",\"\",VLOOKUP($E158,判定式!$P$3:$W$12,8,TRUE))","v":""},{"$f":"IF($F158=\"\",\"\",VLOOKUP($F158,判定式!$Q$3:$W$12,7,TRUE))","v":""},{"$f":"IF($G158=\"\",\"\",VLOOKUP($G158,判定式!$R$3:$W$12,6,TRUE))","v":""},{"$f":"IF($H158=\"\",\"\",VLOOKUP($H158,判定式!$S$3:$W$12,5,TRUE))","v":""},{"$f":"IF($I158=\"\",\"\",VLOOKUP($I158,判定式!$V$3:$W$12,2,TRUE))","v":""},{"$f":"IF($J158=\"\",\"\",VLOOKUP($J158,判定式!$Y$3:$Z$12,2,TRUE))","v":""},{"$f":"IF($K158=\"\",\"\",VLOOKUP($K158,判定式!$T$3:$W$12,4,TRUE))","v":""},{"$f":"IF($L158=\"\",\"\",VLOOKUP($L158,判定式!$U$3:$W$12,3,TRUE))","v":""},"",{"$f":"IF(ISNUMBER(D158),\"判定外\",IF(C158=6,VLOOKUP(U158,判定式!$C$15:I$19,7,TRUE),IF(C158=7,VLOOKUP(U158,判定式!$D$15:I$19,6,TRUE),IF(C158=8,VLOOKUP(U158,判定式!$E$15:I$19,5,TRUE),IF(C158=9,VLOOKUP(U158,判定式!$F$15:I$19,4,TRUE),IF(C158=10,VLOOKUP(U158,判定式!$G$15:I$19,3,TRUE),IF(C158=11,VLOOKUP(U158,判定式!$H$15:I$19,2,TRUE))))))))","v":false}]
[10,null,null,"-",null,null,null,null,null,null,null,null,{"$f":"IF($E159=\"\",\"\",VLOOKUP($E159,判定式!$P$3:$W$12,8,TRUE))","v":""},{"$f":"IF($F159=\"\",\"\",VLOOKUP($F159,判定式!$Q$3:$W$12,7,TRUE))","v":""},{"$f":"IF($G159=\"\",\"\",VLOOKUP($G159,判定式!$R$3:$W$12,6,TRUE))","v":""},{"$f":"IF($H159=\"\",\"\",VLOOKUP($H159,判定式!$S$3:$W$12,5,TRUE))","v":""},{"$f":"IF($I159=\"\",\"\",VLOOKUP($I159,判定式!$V$3:$W$12,2,TRUE))","v":""},{"$f":"IF($J159=\"\",\"\",VLOOKUP($J159,判定式!$Y$3:$Z$12,2,TRUE))","v":""},{"$f":"IF($K159=\"\",\"\",VLOOKUP($K159,判定式!$T$3:$W$12,4,TRUE))","v":""},{"$f":"IF($L159=\"\",\"\",VLOOKUP($L159,判定式!$U$3:$W$12,3,TRUE))","v":""},"",{"$f":"IF(ISNUMBER(D159),\"判定外\",IF(C159=6,VLOOKUP(U159,判定式!$C$15:I$19,7,TRUE),IF(C159=7,VLOOKUP(U159,判定式!$D$15:I$19,6,TRUE),IF(C159=8,VLOOKUP(U159,判定式!$E$15:I$19,5,TRUE),IF(C159=9,VLOOKUP(U159,判定式!$F$15:I$19,4,TRUE),IF(C159=10,VLOOKUP(U159,判定式!$G$15:I$19,3,TRUE),IF(C159=11,VLOOKUP(U159,判定式!$H$15:I$19,2,TRUE))))))))","v":false}]
[11,null,null,"-",null,null,null,null,null,null,null,null,{"$f":"IF($E160=\"\",\"\",VLOOKUP($E160,判定式!$P$3:$W$12,8,TRUE))","v":""},{"$f":"IF($F160=\"\",\"\",VLOOKUP($F160,判定式!$Q$3:$W$12,7,TRUE))","v":""},{"$f":"IF($G160=\"\",\"\",VLOOKUP($G160,判定式!$R$3:$W$12,6,TRUE))","v":""},{"$f":"IF($H160=\"\",\"\",VLOOKUP($H160,判定式!$S$3:$W$12,5,TRUE))","v":""},{"$f":"IF($I160=\"\",\"\",VLOOKUP($I160,判定式!$V$3:$W$12,2,TRUE))","v":""},{"$f":"IF($J160=\"\",\"\",VLOOKUP($J160,判定式!$Y$3:$Z$12,2,TRUE))","v":""},{"$f":"IF($K160=\"\",\"\",VLOOKUP($K160,判定式!$T$3:$W$12,4,TRUE))","v":""},{"$f":"IF($L160=\"\",\"\",VLOOKUP($L160,判定式!$U$3:$W$12,3,TRUE))","v":""},"",{"$f":"IF(ISNUMBER(D160),\"判定外\",IF(C160=6,VLOOKUP(U160,判定式!$C$15:I$19,7,TRUE),IF(C160=7,VLOOKUP(U160,判定式!$D$15:I$19,6,TRUE),IF(C160=8,VLOOKUP(U160,判定式!$E$15:I$19,5,TRUE),IF(C160=9,VLOOKUP(U160,判定式!$F$15:I$19,4,TRUE),IF(C160=10,VLOOKUP(U160,判定式!$G$15:I$19,3,TRUE),IF(C160=11,VLOOKUP(U160,判定式!$H$15:I$19,2,TRUE))))))))","v":false}]
[12,null,null,"-",null,null,null,null,null,null,null,null,{"$f":"IF($E161=\"\",\"\",VLOOKUP($E161,判定式!$P$3:$W$12,8,TRUE))","v":""},{"$f":"IF($F161=\"\",\"\",VLOOKUP($F161,判定式!$Q$3:$W$12,7,TRUE))","v":""},{"$f":"IF($G161=\"\",\"\",VLOOKUP($G161,判定式!$R$3:$W$12,6,TRUE))","v":""},{"$f":"IF($H161=\"\",\"\",VLOOKUP($H161,判定式!$S$3:$W$12,5,TRUE))","v":""},{"$f":"IF($I161=\"\",\"\",VLOOKUP($I161,判定式!$V$3:$W$12,2,TRUE))","v":""},{"$f":"IF($J161=\"\",\"\",VLOOKUP($J161,判定式!$Y$3:$Z$12,2,TRUE))","v":""},{"$f":"IF($K161=\"\",\"\",VLOOKUP($K161,判定式!$T$3:$W$12,4,TRUE))","v":""},{"$f":"IF($L161=\"\",\"\",VLOOKUP($L161,判定式!$U$3:$W$12,3,TRUE))","v":""},"",{"$f":"IF(ISNUMBER(D161),\"判定外\",IF(C161=6,VLOOKUP(U161,判定式!$C$15:I$19,7,TRUE),IF(C161=7,VLOOKUP(U161,判定式!$D$15:I$19,6,TRUE),IF(C161=8,VLOOKUP(U161,判定式!$E$15:I$19,5,TRUE),IF(C161=9,VLOOKUP(U161,判定式!$F$15:I$19,4,TRUE),IF(C161=10,VLOOKUP(U161,判定式!$G$15:I$19,3,TRUE),IF(C161=11,VLOOKUP(U161,判定式!$H$15:I$19,2,TRUE))))))))","v":false}]
[13,null,null,"-",null,null,null,null,null,null,null,null,{"$f":"IF($E162=\"\",\"\",VLOOKUP($E162,判定式!$P$3:$W$12,8,TRUE))","v":""},{"$f":"IF($F162=\"\",\"\",VLOOKUP($F162,判定式!$Q$3:$W$12,7,TRUE))","v":""},{"$f":"IF($G162=\"\",\"\",VLOOKUP($G162,判定式!$R$3:$W$12,6,TRUE))","v":""},{"$f":"IF($H162=\"\",\"\",VLOOKUP($H162,判定式!$S$3:$W$12,5,TRUE))","v":""},{"$f":"IF($I162=\"\",\"\",VLOOKUP($I162,判定式!$V$3:$W$12,2,TRUE))","v":""},{"$f":"IF($J162=\"\",\"\",VLOOKUP($J162,判定式!$Y$3:$Z$12,2,TRUE))","v":""},{"$f":"IF($K162=\"\",\"\",VLOOKUP($K162,判定式!$T$3:$W$12,4,TRUE))","v":""},{"$f":"IF($L162=\"\",\"\",VLOOKUP($L162,判定式!$U$3:$W$12,3,TRUE))","v":""},"",{"$f":"IF(ISNUMBER(D162),\"判定外\",IF(C162=6,VLOOKUP(U162,判定式!$C$15:I$19,7,TRUE),IF(C162=7,VLOOKUP(U162,判定式!$D$15:I$19,6,TRUE),IF(C162=8,VLOOKUP(U162,判定式!$E$15:I$19,5,TRUE),IF(C162=9,VLOOKUP(U162,判定式!$F$15:I$19,4,TRUE),IF(C162=10,VLOOKUP(U162,判定式!$G$15:I$19,3,TRUE),IF(C162=11,VLOOKUP(U162,判定式!$H$15:I$19,2,TRUE))))))))","v":false}]
[14,null,null,"-",null,null,null,null,null,null,null,null,{"$f":"IF($E163=\"\",\"\",VLOOKUP($E163,判定式!$P$3:$W$12,8,TRUE))","v":""},{"$f":"IF($F163=\"\",\"\",VLOOKUP($F163,判定式!$Q$3:$W$12,7,TRUE))","v":""},{"$f":"IF($G163=\"\",\"\",VLOOKUP($G163,判定式!$R$3:$W$12,6,TRUE))","v":""},{"$f":"IF($H163=\"\",\"\",VLOOKUP($H163,判定式!$S$3:$W$12,5,TRUE))","v":""},{"$f":"IF($I163=\"\",\"\",VLOOKUP($I163,判定式!$V$3:$W$12,2,TRUE))","v":""},{"$f":"IF($J163=\"\",\"\",VLOOKUP($J163,判定式!$Y$3:$Z$12,2,TRUE))","v":""},{"$f":"IF($K163=\"\",\"\",VLOOKUP($K163,判定式!$T$3:$W$12,4,TRUE))","v":""},{"$f":"IF($L163=\"\",\"\",VLOOKUP($L163,判定式!$U$3:$W$12,3,TRUE))","v":""},"",{"$f":"IF(ISNUMBER(D163),\"判定外\",IF(C163=6,VLOOKUP(U163,判定式!$C$15:I$19,7,TRUE),IF(C163=7,VLOOKUP(U163,判定式!$D$15:I$19,6,TRUE),IF(C163=8,VLOOKUP(U163,判定式!$E$15:I$19,5,TRUE),IF(C163=9,VLOOKUP(U163,判定式!$F$15:I$19,4,TRUE),IF(C163=10,VLOOKUP(U163,判定式!$G$15:I$19,3,TRUE),IF(C163=11,VLOOKUP(U163,判定式!$H$15:I$19,2,TRUE))))))))","v":false}]
[15,null,null,"-",null,null,null,null,null,null,null,null,{"$f":"IF($E164=\"\",\"\",VLOOKUP($E164,判定式!$P$3:$W$12,8,TRUE))","v":""},{"$f":"IF($F164=\"\",\"\",VLOOKUP($F164,判定式!$Q$3:$W$12,7,TRUE))","v":""},{"$f":"IF($G164=\"\",\"\",VLOOKUP($G164,判定式!$R$3:$W$12,6,TRUE))","v":""},{"$f":"IF($H164=\"\",\"\",VLOOKUP($H164,判定式!$S$3:$W$12,5,TRUE))","v":""},{"$f":"IF($I164=\"\",\"\",VLOOKUP($I164,判定式!$V$3:$W$12,2,TRUE))","v":""},{"$f":"IF($J164=\"\",\"\",VLOOKUP($J164,判定式!$Y$3:$Z$12,2,TRUE))","v":""},{"$f":"IF($K164=\"\",\"\",VLOOKUP($K164,判定式!$T$3:$W$12,4,TRUE))","v":""},{"$f":"IF($L164=\"\",\"\",VLOOKUP($L164,判定式!$U$3:$W$12,3,TRUE))","v":""},"",{"$f":"IF(ISNUMBER(D164),\"判定外\",IF(C164=6,VLOOKUP(U164,判定式!$C$15:I$19,7,TRUE),IF(C164=7,VLOOKUP(U164,判定式!$D$15:I$19,6,TRUE),IF(C164=8,VLOOKUP(U164,判定式!$E$15:I$19,5,TRUE),IF(C164=9,VLOOKUP(U164,判定式!$F$15:I$19,4,TRUE),IF(C164=10,VLOOKUP(U164,判定式!$G$15:I$19,3,TRUE),IF(C164=11,VLOOKUP(U164,判定式!$H$15:I$19,2,TRUE))))))))","v":false}]
[16,null,null,"-",null,null,null,null,null,null,null,null,{"$f":"IF($E165=\"\",\"\",VLOOKUP($E165,判定式!$P$3:$W$12,8,TRUE))","v":""},{"$f":"IF($F165=\"\",\"\",VLOOKUP($F165,判定式!$Q$3:$W$12,7,TRUE))","v":""},{"$f":"IF($G165=\"\",\"\",VLOOKUP($G165,判定式!$R$3:$W$12,6,TRUE))","v":""},{"$f":"IF($H165=\"\",\"\",VLOOKUP($H165,判定式!$S$3:$W$12,5,TRUE))","v":""},{"$f":"IF($I165=\"\",\"\",VLOOKUP($I165,判定式!$V$3:$W$12,2,TRUE))","v":""},{"$f":"IF($J165=\"\",\"\",VLOOKUP($J165,判定式!$Y$3:$Z$12,2,TRUE))","v":""},{"$f":"IF($K165=\"\",\"\",VLOOKUP($K165,判定式!$T$3:$W$12,4,TRUE))","v":""},{"$f":"IF($L165=\"\",\"\",VLOOKUP($L165,判定式!$U$3:$W$12,3,TRUE))","v":""},"",{"$f":"IF(ISNUMBER(D165),\"判定外\",IF(C165=6,VLOOKUP(U165,判定式!$C$15:I$19,7,TRUE),IF(C165=7,VLOOKUP(U165,判定式!$D$15:I$19,6,TRUE),IF(C165=8,VLOOKUP(U165,判定式!$E$15:I$19,5,TRUE),IF(C165=9,VLOOKUP(U165,判定式!$F$15:I$19,4,TRUE),IF(C165=10,VLOOKUP(U165,判定式!$G$15:I$19,3,TRUE),IF(C165=11,VLOOKUP(U165,判定式!$H$15:I$19,2,TRUE))))))))","v":false}]
[17,null,null,"-",null,null,null,null,null,null,null,null,{"$f":"IF($E166=\"\",\"\",VLOOKUP($E166,判定式!$P$3:$W$12,8,TRUE))","v":""},{"$f":"IF($F166=\"\",\"\",VLOOKUP($F166,判定式!$Q$3:$W$12,7,TRUE))","v":""},{"$f":"IF($G166=\"\",\"\",VLOOKUP($G166,判定式!$R$3:$W$12,6,TRUE))","v":""},{"$f":"IF($H166=\"\",\"\",VLOOKUP($H166,判定式!$S$3:$W$12,5,TRUE))","v":""},{"$f":"IF($I166=\"\",\"\",VLOOKUP($I166,判定式!$V$3:$W$12,2,TRUE))","v":""},{"$f":"IF($J166=\"\",\"\",VLOOKUP($J166,判定式!$Y$3:$Z$12,2,TRUE))","v":""},{"$f":"IF($K166=\"\",\"\",VLOOKUP($K166,判定式!$T$3:$W$12,4,TRUE))","v":""},{"$f":"IF($L166=\"\",\"\",VLOOKUP($L166,判定式!$U$3:$W$12,3,TRUE))","v":""},"",{"$f":"IF(ISNUMBER(D166),\"判定外\",IF(C166=6,VLOOKUP(U166,判定式!$C$15:I$19,7,TRUE),IF(C166=7,VLOOKUP(U166,判定式!$D$15:I$19,6,TRUE),IF(C166=8,VLOOKUP(U166,判定式!$E$15:I$19,5,TRUE),IF(C166=9,VLOOKUP(U166,判定式!$F$15:I$19,4,TRUE),IF(C166=10,VLOOKUP(U166,判定式!$G$15:I$19,3,TRUE),IF(C166=11,VLOOKUP(U166,判定式!$H$15:I$19,2,TRUE))))))))","v":false}]
[18,null,null,"-",null,null,null,null,null,null,null,null,{"$f":"IF($E167=\"\",\"\",VLOOKUP($E167,判定式!$P$3:$W$12,8,TRUE))","v":""},{"$f":"IF($F167=\"\",\"\",VLOOKUP($F167,判定式!$Q$3:$W$12,7,TRUE))","v":""},{"$f":"IF($G167=\"\",\"\",VLOOKUP($G167,判定式!$R$3:$W$12,6,TRUE))","v":""},{"$f":"IF($H167=\"\",\"\",VLOOKUP($H167,判定式!$S$3:$W$12,5,TRUE))","v":""},{"$f":"IF($I167=\"\",\"\",VLOOKUP($I167,判定式!$V$3:$W$12,2,TRUE))","v":""},{"$f":"IF($J167=\"\",\"\",VLOOKUP($J167,判定式!$Y$3:$Z$12,2,TRUE))","v":""},{"$f":"IF($K167=\"\",\"\",VLOOKUP($K167,判定式!$T$3:$W$12,4,TRUE))","v":""},{"$f":"IF($L167=\"\",\"\",VLOOKUP($L167,判定式!$U$3:$W$12,3,TRUE))","v":""},"",{"$f":"IF(ISNUMBER(D167),\"判定外\",IF(C167=6,VLOOKUP(U167,判定式!$C$15:I$19,7,TRUE),IF(C167=7,VLOOKUP(U167,判定式!$D$15:I$19,6,TRUE),IF(C167=8,VLOOKUP(U167,判定式!$E$15:I$19,5,TRUE),IF(C167=9,VLOOKUP(U167,判定式!$F$15:I$19,4,TRUE),IF(C167=10,VLOOKUP(U167,判定式!$G$15:I$19,3,TRUE),IF(C167=11,VLOOKUP(U167,判定式!$H$15:I$19,2,TRUE))))))))","v":false}]
[19,null,null,"-",null,null,null,null,null,null,null,null,{"$f":"IF($E168=\"\",\"\",VLOOKUP($E168,判定式!$P$3:$W$12,8,TRUE))","v":""},{"$f":"IF($F168=\"\",\"\",VLOOKUP($F168,判定式!$Q$3:$W$12,7,TRUE))","v":""},{"$f":"IF($G168=\"\",\"\",VLOOKUP($G168,判定式!$R$3:$W$12,6,TRUE))","v":""},{"$f":"IF($H168=\"\",\"\",VLOOKUP($H168,判定式!$S$3:$W$12,5,TRUE))","v":""},{"$f":"IF($I168=\"\",\"\",VLOOKUP($I168,判定式!$V$3:$W$12,2,TRUE))","v":""},{"$f":"IF($J168=\"\",\"\",VLOOKUP($J168,判定式!$Y$3:$Z$12,2,TRUE))","v":""},{"$f":"IF($K168=\"\",\"\",VLOOKUP($K168,判定式!$T$3:$W$12,4,TRUE))","v":""},{"$f":"IF($L168=\"\",\"\",VLOOKUP($L168,判定式!$U$3:$W$12,3,TRUE))","v":""},"",{"$f":"IF(ISNUMBER(D168),\"判定外\",IF(C168=6,VLOOKUP(U168,判定式!$C$15:I$19,7,TRUE),IF(C168=7,VLOOKUP(U168,判定式!$D$15:I$19,6,TRUE),IF(C168=8,VLOOKUP(U168,判定式!$E$15:I$19,5,TRUE),IF(C168=9,VLOOKUP(U168,判定式!$F$15:I$19,4,TRUE),IF(C168=10,VLOOKUP(U168,判定式!$G$15:I$19,3,TRUE),IF(C168=11,VLOOKUP(U168,判定式!$H$15:I$19,2,TRUE))))))))","v":false}]
[20,null,null,"-",null,null,null,null,null,null,null,null,{"$f":"IF($E169=\"\",\"\",VLOOKUP($E169,判定式!$P$3:$W$12,8,TRUE))","v":""},{"$f":"IF($F169=\"\",\"\",VLOOKUP($F169,判定式!$Q$3:$W$12,7,TRUE))","v":""},{"$f":"IF($G169=\"\",\"\",VLOOKUP($G169,判定式!$R$3:$W$12,6,TRUE))","v":""},{"$f":"IF($H169=\"\",\"\",VLOOKUP($H169,判定式!$S$3:$W$12,5,TRUE))","v":""},{"$f":"IF($I169=\"\",\"\",VLOOKUP($I169,判定式!$V$3:$W$12,2,TRUE))","v":""},{"$f":"IF($J169=\"\",\"\",VLOOKUP($J169,判定式!$Y$3:$Z$12,2,TRUE))","v":""},{"$f":"IF($K169=\"\",\"\",VLOOKUP($K169,判定式!$T$3:$W$12,4,TRUE))","v":""},{"$f":"IF($L169=\"\",\"\",VLOOKUP($L169,判定式!$U$3:$W$12,3,TRUE))","v":""},"",{"$f":"IF(ISNUMBER(D169),\"判定外\",IF(C169=6,VLOOKUP(U169,判定式!$C$15:I$19,7,TRUE),IF(C169=7,VLOOKUP(U169,判定式!$D$15:I$19,6,TRUE),IF(C169=8,VLOOKUP(U169,判定式!$E$15:I$19,5,TRUE),IF(C169=9,VLOOKUP(U169,判定式!$F$15:I$19,4,TRUE),IF(C169=10,VLOOKUP(U169,判定式!$G$15:I$19,3,TRUE),IF(C169=11,VLOOKUP(U169,判定式!$H$15:I$19,2,TRUE))))))))","v":false}]
[21,null,null,"-",null,null,null,null,null,null,null,null,{"$f":"IF($E170=\"\",\"\",VLOOKUP($E170,判定式!$P$3:$W$12,8,TRUE))","v":""},{"$f":"IF($F170=\"\",\"\",VLOOKUP($F170,判定式!$Q$3:$W$12,7,TRUE))","v":""},{"$f":"IF($G170=\"\",\"\",VLOOKUP($G170,判定式!$R$3:$W$12,6,TRUE))","v":""},{"$f":"IF($H170=\"\",\"\",VLOOKUP($H170,判定式!$S$3:$W$12,5,TRUE))","v":""},{"$f":"IF($I170=\"\",\"\",VLOOKUP($I170,判定式!$V$3:$W$12,2,TRUE))","v":""},{"$f":"IF($J170=\"\",\"\",VLOOKUP($J170,判定式!$Y$3:$Z$12,2,TRUE))","v":""},{"$f":"IF($K170=\"\",\"\",VLOOKUP($K170,判定式!$T$3:$W$12,4,TRUE))","v":""},{"$f":"IF($L170=\"\",\"\",VLOOKUP($L170,判定式!$U$3:$W$12,3,TRUE))","v":""},"",{"$f":"IF(ISNUMBER(D170),\"判定外\",IF(C170=6,VLOOKUP(U170,判定式!$C$15:I$19,7,TRUE),IF(C170=7,VLOOKUP(U170,判定式!$D$15:I$19,6,TRUE),IF(C170=8,VLOOKUP(U170,判定式!$E$15:I$19,5,TRUE),IF(C170=9,VLOOKUP(U170,判定式!$F$15:I$19,4,TRUE),IF(C170=10,VLOOKUP(U170,判定式!$G$15:I$19,3,TRUE),IF(C170=11,VLOOKUP(U170,判定式!$H$15:I$19,2,TRUE))))))))","v":false}]
[22,null,null,"-",null,null,null,null,null,null,null,null,{"$f":"IF($E171=\"\",\"\",VLOOKUP($E171,判定式!$P$3:$W$12,8,TRUE))","v":""},{"$f":"IF($F171=\"\",\"\",VLOOKUP($F171,判定式!$Q$3:$W$12,7,TRUE))","v":""},{"$f":"IF($G171=\"\",\"\",VLOOKUP($G171,判定式!$R$3:$W$12,6,TRUE))","v":""},{"$f":"IF($H171=\"\",\"\",VLOOKUP($H171,判定式!$S$3:$W$12,5,TRUE))","v":""},{"$f":"IF($I171=\"\",\"\",VLOOKUP($I171,判定式!$V$3:$W$12,2,TRUE))","v":""},{"$f":"IF($J171=\"\",\"\",VLOOKUP($J171,判定式!$Y$3:$Z$12,2,TRUE))","v":""},{"$f":"IF($K171=\"\",\"\",VLOOKUP($K171,判定式!$T$3:$W$12,4,TRUE))","v":""},{"$f":"IF($L171=\"\",\"\",VLOOKUP($L171,判定式!$U$3:$W$12,3,TRUE))","v":""},"",{"$f":"IF(ISNUMBER(D171),\"判定外\",IF(C171=6,VLOOKUP(U171,判定式!$C$15:I$19,7,TRUE),IF(C171=7,VLOOKUP(U171,判定式!$D$15:I$19,6,TRUE),IF(C171=8,VLOOKUP(U171,判定式!$E$15:I$19,5,TRUE),IF(C171=9,VLOOKUP(U171,判定式!$F$15:I$19,4,TRUE),IF(C171=10,VLOOKUP(U171,判定式!$G$15:I$19,3,TRUE),IF(C171=11,VLOOKUP(U171,判定式!$H$15:I$19,2,TRUE))))))))","v":false}]
[23,null,null,"-",null,null,null,null,null,null,null,null,{"$f":"IF($E172=\"\",\"\",VLOOKUP($E172,判定式!$P$3:$W$12,8,TRUE))","v":""},{"$f":"IF($F172=\"\",\"\",VLOOKUP($F172,判定式!$Q$3:$W$12,7,TRUE))","v":""},{"$f":"IF($G172=\"\",\"\",VLOOKUP($G172,判定式!$R$3:$W$12,6,TRUE))","v":""},{"$f":"IF($H172=\"\",\"\",VLOOKUP($H172,判定式!$S$3:$W$12,5,TRUE))","v":""},{"$f":"IF($I172=\"\",\"\",VLOOKUP($I172,判定式!$V$3:$W$12,2,TRUE))","v":""},{"$f":"IF($J172=\"\",\"\",VLOOKUP($J172,判定式!$Y$3:$Z$12,2,TRUE))","v":""},{"$f":"IF($K172=\"\",\"\",VLOOKUP($K172,判定式!$T$3:$W$12,4,TRUE))","v":""},{"$f":"IF($L172=\"\",\"\",VLOOKUP($L172,判定式!$U$3:$W$12,3,TRUE))","v":""},"",{"$f":"IF(ISNUMBER(D172),\"判定外\",IF(C172=6,VLOOKUP(U172,判定式!$C$15:I$19,7,TRUE),IF(C172=7,VLOOKUP(U172,判定式!$D$15:I$19,6,TRUE),IF(C172=8,VLOOKUP(U172,判定式!$E$15:I$19,5,TRUE),IF(C172=9,VLOOKUP(U172,判定式!$F$15:I$19,4,TRUE),IF(C172=10,VLOOKUP(U172,判定式!$G$15:I$19,3,TRUE),IF(C172=11,VLOOKUP(U172,判定式!$H$15:I$19,2,TRUE))))))))","v":false}]
[24,null,null,"-",null,null,null,null,null,null,null,null,{"$f":"IF($E173=\"\",\"\",VLOOKUP($E173,判定式!$P$3:$W$12,8,TRUE))","v":""},{"$f":"IF($F173=\"\",\"\",VLOOKUP($F173,判定式!$Q$3:$W$12,7,TRUE))","v":""},{"$f":"IF($G173=\"\",\"\",VLOOKUP($G173,判定式!$R$3:$W$12,6,TRUE))","v":""},{"$f":"IF($H173=\"\",\"\",VLOOKUP($H173,判定式!$S$3:$W$12,5,TRUE))","v":""},{"$f":"IF($I173=\"\",\"\",VLOOKUP($I173,判定式!$V$3:$W$12,2,TRUE))","v":""},{"$f":"IF($J173=\"\",\"\",VLOOKUP($J173,判定式!$Y$3:$Z$12,2,TRUE))","v":""},{"$f":"IF($K173=\"\",\"\",VLOOKUP($K173,判定式!$T$3:$W$12,4,TRUE))","v":""},{"$f":"IF($L173=\"\",\"\",VLOOKUP($L173,判定式!$U$3:$W$12,3,TRUE))","v":""},"",{"$f":"IF(ISNUMBER(D173),\"判定外\",IF(C173=6,VLOOKUP(U173,判定式!$C$15:I$19,7,TRUE),IF(C173=7,VLOOKUP(U173,判定式!$D$15:I$19,6,TRUE),IF(C173=8,VLOOKUP(U173,判定式!$E$15:I$19,5,TRUE),IF(C173=9,VLOOKUP(U173,判定式!$F$15:I$19,4,TRUE),IF(C173=10,VLOOKUP(U173,判定式!$G$15:I$19,3,TRUE),IF(C173=11,VLOOKUP(U173,判定式!$H$15:I$19,2,TRUE))))))))","v":false}]
[25,null,null,"-",null,null,null,null,null,null,null,null,{"$f":"IF($E174=\"\",\"\",VLOOKUP($E174,判定式!$P$3:$W$12,8,TRUE))","v":""},{"$f":"IF($F174=\"\",\"\",VLOOKUP($F174,判定式!$Q$3:$W$12,7,TRUE))","v":""},{"$f":"IF($G174=\"\",\"\",VLOOKUP($G174,判定式!$R$3:$W$12,6,TRUE))","v":""},{"$f":"IF($H174=\"\",\"\",VLOOKUP($H174,判定式!$S$3:$W$12,5,TRUE))","v":""},{"$f":"IF($I174=\"\",\"\",VLOOKUP($I174,判定式!$V$3:$W$12,2,TRUE))","v":""},{"$f":"IF($J174=\"\",\"\",VLOOKUP($J174,判定式!$Y$3:$Z$12,2,TRUE))","v":""},{"$f":"IF($K174=\"\",\"\",VLOOKUP($K174,判定式!$T$3:$W$12,4,TRUE))","v":""},{"$f":"IF($L174=\"\",\"\",VLOOKUP($L174,判定式!$U$3:$W$12,3,TRUE))","v":""},"",{"$f":"IF(ISNUMBER(D174),\"判定外\",IF(C174=6,VLOOKUP(U174,判定式!$C$15:I$19,7,TRUE),IF(C174=7,VLOOKUP(U174,判定式!$D$15:I$19,6,TRUE),IF(C174=8,VLOOKUP(U174,判定式!$E$15:I$19,5,TRUE),IF(C174=9,VLOOKUP(U174,判定式!$F$15:I$19,4,TRUE),IF(C174=10,VLOOKUP(U174,判定式!$G$15:I$19,3,TRUE),IF(C174=11,VLOOKUP(U174,判定式!$H$15:I$19,2,TRUE))))))))","v":false}]
[26,null,null,"-",null,null,null,null,null,null,null,null,{"$f":"IF($E175=\"\",\"\",VLOOKUP($E175,判定式!$P$3:$W$12,8,TRUE))","v":""},{"$f":"IF($F175=\"\",\"\",VLOOKUP($F175,判定式!$Q$3:$W$12,7,TRUE))","v":""},{"$f":"IF($G175=\"\",\"\",VLOOKUP($G175,判定式!$R$3:$W$12,6,TRUE))","v":""},{"$f":"IF($H175=\"\",\"\",VLOOKUP($H175,判定式!$S$3:$W$12,5,TRUE))","v":""},{"$f":"IF($I175=\"\",\"\",VLOOKUP($I175,判定式!$V$3:$W$12,2,TRUE))","v":""},{"$f":"IF($J175=\"\",\"\",VLOOKUP($J175,判定式!$Y$3:$Z$12,2,TRUE))","v":""},{"$f":"IF($K175=\"\",\"\",VLOOKUP($K175,判定式!$T$3:$W$12,4,TRUE))","v":""},{"$f":"IF($L175=\"\",\"\",VLOOKUP($L175,判定式!$U$3:$W$12,3,TRUE))","v":""},"",{"$f":"IF(ISNUMBER(D175),\"判定外\",IF(C175=6,VLOOKUP(U175,判定式!$C$15:I$19,7,TRUE),IF(C175=7,VLOOKUP(U175,判定式!$D$15:I$19,6,TRUE),IF(C175=8,VLOOKUP(U175,判定式!$E$15:I$19,5,TRUE),IF(C175=9,VLOOKUP(U175,判定式!$F$15:I$19,4,TRUE),IF(C175=10,VLOOKUP(U175,判定式!$G$15:I$19,3,TRUE),IF(C175=11,VLOOKUP(U175,判定式!$H$15:I$19,2,TRUE))))))))","v":false}]
[27,null,null,"-",null,null,null,null,null,null,null,null,{"$f":"IF($E176=\"\",\"\",VLOOKUP($E176,判定式!$P$3:$W$12,8,TRUE))","v":""},{"$f":"IF($F176=\"\",\"\",VLOOKUP($F176,判定式!$Q$3:$W$12,7,TRUE))","v":""},{"$f":"IF($G176=\"\",\"\",VLOOKUP($G176,判定式!$R$3:$W$12,6,TRUE))","v":""},{"$f":"IF($H176=\"\",\"\",VLOOKUP($H176,判定式!$S$3:$W$12,5,TRUE))","v":""},{"$f":"IF($I176=\"\",\"\",VLOOKUP($I176,判定式!$V$3:$W$12,2,TRUE))","v":""},{"$f":"IF($J176=\"\",\"\",VLOOKUP($J176,判定式!$Y$3:$Z$12,2,TRUE))","v":""},{"$f":"IF($K176=\"\",\"\",VLOOKUP($K176,判定式!$T$3:$W$12,4,TRUE))","v":""},{"$f":"IF($L176=\"\",\"\",VLOOKUP($L176,判定式!$U$3:$W$12,3,TRUE))","v":""},"",{"$f":"IF(ISNUMBER(D176),\"判定外\",IF(C176=6,VLOOKUP(U176,判定式!$C$15:I$19,7,TRUE),IF(C176=7,VLOOKUP(U176,判定式!$D$15:I$19,6,TRUE),IF(C176=8,VLOOKUP(U176,判定式!$E$15:I$19,5,TRUE),IF(C176=9,VLOOKUP(U176,判定式!$F$15:I$19,4,TRUE),IF(C176=10,VLOOKUP(U176,判定式!$G$15:I$19,3,TRUE),IF(C176=11,VLOOKUP(U176,判定式!$H$15:I$19,2,TRUE))))))))","v":false}]
[28,null,null,"-",null,null,null,null,null,null,null,null,{"$f":"IF($E177=\"\",\"\",VLOOKUP($E177,判定式!$P$3:$W$12,8,TRUE))","v":""},{"$f":"IF($F177=\"\",\"\",VLOOKUP($F177,判定式!$Q$3:$W$12,7,TRUE))","v":""},{"$f":"IF($G177=\"\",\"\",VLOOKUP($G177,判定式!$R$3:$W$12,6,TRUE))","v":""},{"$f":"IF($H177=\"\",\"\",VLOOKUP($H177,判定式!$S$3:$W$12,5,TRUE))","v":""},{"$f":"IF($I177=\"\",\"\",VLOOKUP($I177,判定式!$V$3:$W$12,2,TRUE))","v":""},{"$f":"IF($J177=\"\",\"\",VLOOKUP($J177,判定式!$Y$3:$Z$12,2,TRUE))","v":""},{"$f":"IF($K177=\"\",\"\",VLOOKUP($K177,判定式!$T$3:$W$12,4,TRUE))","v":""},{"$f":"IF($L177=\"\",\"\",VLOOKUP($L177,判定式!$U$3:$W$12,3,TRUE))","v":""},"",{"$f":"IF(ISNUMBER(D177),\"判定外\",IF(C177=6,VLOOKUP(U177,判定式!$C$15:I$19,7,TRUE),IF(C177=7,VLOOKUP(U177,判定式!$D$15:I$19,6,TRUE),IF(C177=8,VLOOKUP(U177,判定式!$E$15:I$19,5,TRUE),IF(C177=9,VLOOKUP(U177,判定式!$F$15:I$19,4,TRUE),IF(C177=10,VLOOKUP(U177,判定式!$G$15:I$19,3,TRUE),IF(C177=11,VLOOKUP(U177,判定式!$H$15:I$19,2,TRUE))))))))","v":false}]
[29,null,null,"-",null,null,null,null,null,null,null,null,{"$f":"IF($E178=\"\",\"\",VLOOKUP($E178,判定式!$P$3:$W$12,8,TRUE))","v":""},{"$f":"IF($F178=\"\",\"\",VLOOKUP($F178,判定式!$Q$3:$W$12,7,TRUE))","v":""},{"$f":"IF($G178=\"\",\"\",VLOOKUP($G178,判定式!$R$3:$W$12,6,TRUE))","v":""},{"$f":"IF($H178=\"\",\"\",VLOOKUP($H178,判定式!$S$3:$W$12,5,TRUE))","v":""},{"$f":"IF($I178=\"\",\"\",VLOOKUP($I178,判定式!$V$3:$W$12,2,TRUE))","v":""},{"$f":"IF($J178=\"\",\"\",VLOOKUP($J178,判定式!$Y$3:$Z$12,2,TRUE))","v":""},{"$f":"IF($K178=\"\",\"\",VLOOKUP($K178,判定式!$T$3:$W$12,4,TRUE))","v":""},{"$f":"IF($L178=\"\",\"\",VLOOKUP($L178,判定式!$U$3:$W$12,3,TRUE))","v":""},"",{"$f":"IF(ISNUMBER(D178),\"判定外\",IF(C178=6,VLOOKUP(U178,判定式!$C$15:I$19,7,TRUE),IF(C178=7,VLOOKUP(U178,判定式!$D$15:I$19,6,TRUE),IF(C178=8,VLOOKUP(U178,判定式!$E$15:I$19,5,TRUE),IF(C178=9,VLOOKUP(U178,判定式!$F$15:I$19,4,TRUE),IF(C178=10,VLOOKUP(U178,判定式!$G$15:I$19,3,TRUE),IF(C178=11,VLOOKUP(U178,判定式!$H$15:I$19,2,TRUE))))))))","v":false}]
[30,null,null,"-",null,null,null,null,null,null,null,null,{"$f":"IF($E179=\"\",\"\",VLOOKUP($E179,判定式!$P$3:$W$12,8,TRUE))","v":""},{"$f":"IF($F179=\"\",\"\",VLOOKUP($F179,判定式!$Q$3:$W$12,7,TRUE))","v":""},{"$f":"IF($G179=\"\",\"\",VLOOKUP($G179,判定式!$R$3:$W$12,6,TRUE))","v":""},{"$f":"IF($H179=\"\",\"\",VLOOKUP($H179,判定式!$S$3:$W$12,5,TRUE))","v":""},{"$f":"IF($I179=\"\",\"\",VLOOKUP($I179,判定式!$V$3:$W$12,2,TRUE))","v":""},{"$f":"IF($J179=\"\",\"\",VLOOKUP($J179,判定式!$Y$3:$Z$12,2,TRUE))","v":""},{"$f":"IF($K179=\"\",\"\",VLOOKUP($K179,判定式!$T$3:$W$12,4,TRUE))","v":""},{"$f":"IF($L179=\"\",\"\",VLOOKUP($L179,判定式!$U$3:$W$12,3,TRUE))","v":""},"",{"$f":"IF(ISNUMBER(D179),\"判定外\",IF(C179=6,VLOOKUP(U179,判定式!$C$15:I$19,7,TRUE),IF(C179=7,VLOOKUP(U179,判定式!$D$15:I$19,6,TRUE),IF(C179=8,VLOOKUP(U179,判定式!$E$15:I$19,5,TRUE),IF(C179=9,VLOOKUP(U179,判定式!$F$15:I$19,4,TRUE),IF(C179=10,VLOOKUP(U179,判定式!$G$15:I$19,3,TRUE),IF(C179=11,VLOOKUP(U179,判定式!$H$15:I$19,2,TRUE))))))))","v":false}]
[31,null,null,"-",null,null,null,null,null,null,null,null,{"$f":"IF($E180=\"\",\"\",VLOOKUP($E180,判定式!$P$3:$W$12,8,TRUE))","v":""},{"$f":"IF($F180=\"\",\"\",VLOOKUP($F180,判定式!$Q$3:$W$12,7,TRUE))","v":""},{"$f":"IF($G180=\"\",\"\",VLOOKUP($G180,判定式!$R$3:$W$12,6,TRUE))","v":""},{"$f":"IF($H180=\"\",\"\",VLOOKUP($H180,判定式!$S$3:$W$12,5,TRUE))","v":""},{"$f":"IF($I180=\"\",\"\",VLOOKUP($I180,判定式!$V$3:$W$12,2,TRUE))","v":""},{"$f":"IF($J180=\"\",\"\",VLOOKUP($J180,判定式!$Y$3:$Z$12,2,TRUE))","v":""},{"$f":"IF($K180=\"\",\"\",VLOOKUP($K180,判定式!$T$3:$W$12,4,TRUE))","v":""},{"$f":"IF($L180=\"\",\"\",VLOOKUP($L180,判定式!$U$3:$W$12,3,TRUE))","v":""},"",{"$f":"IF(ISNUMBER(D180),\"判定外\",IF(C180=6,VLOOKUP(U180,判定式!$C$15:I$19,7,TRUE),IF(C180=7,VLOOKUP(U180,判定式!$D$15:I$19,6,TRUE),IF(C180=8,VLOOKUP(U180,判定式!$E$15:I$19,5,TRUE),IF(C180=9,VLOOKUP(U180,判定式!$F$15:I$19,4,TRUE),IF(C180=10,VLOOKUP(U180,判定式!$G$15:I$19,3,TRUE),IF(C180=11,VLOOKUP(U180,判定式!$H$15:I$19,2,TRUE))))))))","v":false}]
[32,null,null,"-",null,null,null,null,null,null,null,null,{"$f":"IF($E181=\"\",\"\",VLOOKUP($E181,判定式!$P$3:$W$12,8,TRUE))","v":""},{"$f":"IF($F181=\"\",\"\",VLOOKUP($F181,判定式!$Q$3:$W$12,7,TRUE))","v":""},{"$f":"IF($G181=\"\",\"\",VLOOKUP($G181,判定式!$R$3:$W$12,6,TRUE))","v":""},{"$f":"IF($H181=\"\",\"\",VLOOKUP($H181,判定式!$S$3:$W$12,5,TRUE))","v":""},{"$f":"IF($I181=\"\",\"\",VLOOKUP($I181,判定式!$V$3:$W$12,2,TRUE))","v":""},{"$f":"IF($J181=\"\",\"\",VLOOKUP($J181,判定式!$Y$3:$Z$12,2,TRUE))","v":""},{"$f":"IF($K181=\"\",\"\",VLOOKUP($K181,判定式!$T$3:$W$12,4,TRUE))","v":""},{"$f":"IF($L181=\"\",\"\",VLOOKUP($L181,判定式!$U$3:$W$12,3,TRUE))","v":""},"",{"$f":"IF(ISNUMBER(D181),\"判定外\",IF(C181=6,VLOOKUP(U181,判定式!$C$15:I$19,7,TRUE),IF(C181=7,VLOOKUP(U181,判定式!$D$15:I$19,6,TRUE),IF(C181=8,VLOOKUP(U181,判定式!$E$15:I$19,5,TRUE),IF(C181=9,VLOOKUP(U181,判定式!$F$15:I$19,4,TRUE),IF(C181=10,VLOOKUP(U181,判定式!$G$15:I$19,3,TRUE),IF(C181=11,VLOOKUP(U181,判定式!$H$15:I$19,2,TRUE))))))))","v":false}]
[33,null,null,{"$f":"IF(COUNTBLANK(E182:L182)=0,\"\",IF(COUNTBLANK(E182:L182)=8,\"-\",COUNTBLANK(E182:L182)))","v":"-"},null,null,null,null,null,null,null,null,{"$f":"IF($E182=\"\",\"\",VLOOKUP($E182,判定式!$P$3:$W$12,8,TRUE))","v":""},{"$f":"IF($F182=\"\",\"\",VLOOKUP($F182,判定式!$Q$3:$W$12,7,TRUE))","v":""},{"$f":"IF($G182=\"\",\"\",VLOOKUP($G182,判定式!$R$3:$W$12,6,TRUE))","v":""},{"$f":"IF($H182=\"\",\"\",VLOOKUP($H182,判定式!$S$3:$W$12,5,TRUE))","v":""},{"$f":"IF($I182=\"\",\"\",VLOOKUP($I182,判定式!$V$3:$W$12,2,TRUE))","v":""},{"$f":"IF($J182=\"\",\"\",VLOOKUP($J182,判定式!$Y$3:$Z$12,2,TRUE))","v":""},{"$f":"IF($K182=\"\",\"\",VLOOKUP($K182,判定式!$T$3:$W$12,4,TRUE))","v":""},{"$f":"IF($L182=\"\",\"\",VLOOKUP($L182,判定式!$U$3:$W$12,3,TRUE))","v":""},{"$f":"IF(COUNTBLANK(M182:T182)=0,SUM(M182:T182),\"\")","v":""},{"$f":"IF(ISNUMBER(D182),\"判定外\",IF(C182=6,VLOOKUP(U182,判定式!$C$15:I$19,7,TRUE),IF(C182=7,VLOOKUP(U182,判定式!$D$15:I$19,6,TRUE),IF(C182=8,VLOOKUP(U182,判定式!$E$15:I$19,5,TRUE),IF(C182=9,VLOOKUP(U182,判定式!$F$15:I$19,4,TRUE),IF(C182=10,VLOOKUP(U182,判定式!$G$15:I$19,3,TRUE),IF(C182=11,VLOOKUP(U182,判定式!$H$15:I$19,2,TRUE))))))))","v":false}]
[34,null,null,"-",null,null,null,null,null,null,null,null,{"$f":"IF($E183=\"\",\"\",VLOOKUP($E183,判定式!$P$3:$W$12,8,TRUE))","v":""},{"$f":"IF($F183=\"\",\"\",VLOOKUP($F183,判定式!$Q$3:$W$12,7,TRUE))","v":""},{"$f":"IF($G183=\"\",\"\",VLOOKUP($G183,判定式!$R$3:$W$12,6,TRUE))","v":""},{"$f":"IF($H183=\"\",\"\",VLOOKUP($H183,判定式!$S$3:$W$12,5,TRUE))","v":""},{"$f":"IF($I183=\"\",\"\",VLOOKUP($I183,判定式!$V$3:$W$12,2,TRUE))","v":""},{"$f":"IF($J183=\"\",\"\",VLOOKUP($J183,判定式!$Y$3:$Z$12,2,TRUE))","v":""},{"$f":"IF($K183=\"\",\"\",VLOOKUP($K183,判定式!$T$3:$W$12,4,TRUE))","v":""},{"$f":"IF($L183=\"\",\"\",VLOOKUP($L183,判定式!$U$3:$W$12,3,TRUE))","v":""},"",{"$f":"IF(ISNUMBER(D183),\"判定外\",IF(C183=6,VLOOKUP(U183,判定式!$C$15:I$19,7,TRUE),IF(C183=7,VLOOKUP(U183,判定式!$D$15:I$19,6,TRUE),IF(C183=8,VLOOKUP(U183,判定式!$E$15:I$19,5,TRUE),IF(C183=9,VLOOKUP(U183,判定式!$F$15:I$19,4,TRUE),IF(C183=10,VLOOKUP(U183,判定式!$G$15:I$19,3,TRUE),IF(C183=11,VLOOKUP(U183,判定式!$H$15:I$19,2,TRUE))))))))","v":false}]
[35,null,null,"-",null,null,null,null,null,null,null,null,{"$f":"IF($E184=\"\",\"\",VLOOKUP($E184,判定式!$P$3:$W$12,8,TRUE))","v":""},{"$f":"IF($F184=\"\",\"\",VLOOKUP($F184,判定式!$Q$3:$W$12,7,TRUE))","v":""},{"$f":"IF($G184=\"\",\"\",VLOOKUP($G184,判定式!$R$3:$W$12,6,TRUE))","v":""},{"$f":"IF($H184=\"\",\"\",VLOOKUP($H184,判定式!$S$3:$W$12,5,TRUE))","v":""},{"$f":"IF($I184=\"\",\"\",VLOOKUP($I184,判定式!$V$3:$W$12,2,TRUE))","v":""},{"$f":"IF($J184=\"\",\"\",VLOOKUP($J184,判定式!$Y$3:$Z$12,2,TRUE))","v":""},{"$f":"IF($K184=\"\",\"\",VLOOKUP($K184,判定式!$T$3:$W$12,4,TRUE))","v":""},{"$f":"IF($L184=\"\",\"\",VLOOKUP($L184,判定式!$U$3:$W$12,3,TRUE))","v":""},"",{"$f":"IF(ISNUMBER(D184),\"判定外\",IF(C184=6,VLOOKUP(U184,判定式!$C$15:I$19,7,TRUE),IF(C184=7,VLOOKUP(U184,判定式!$D$15:I$19,6,TRUE),IF(C184=8,VLOOKUP(U184,判定式!$E$15:I$19,5,TRUE),IF(C184=9,VLOOKUP(U184,判定式!$F$15:I$19,4,TRUE),IF(C184=10,VLOOKUP(U184,判定式!$G$15:I$19,3,TRUE),IF(C184=11,VLOOKUP(U184,判定式!$H$15:I$19,2,TRUE))))))))","v":false}]
[36,null,null,"-",null,null,null,null,null,null,null,null,{"$f":"IF($E185=\"\",\"\",VLOOKUP($E185,判定式!$P$3:$W$12,8,TRUE))","v":""},{"$f":"IF($F185=\"\",\"\",VLOOKUP($F185,判定式!$Q$3:$W$12,7,TRUE))","v":""},{"$f":"IF($G185=\"\",\"\",VLOOKUP($G185,判定式!$R$3:$W$12,6,TRUE))","v":""},{"$f":"IF($H185=\"\",\"\",VLOOKUP($H185,判定式!$S$3:$W$12,5,TRUE))","v":""},{"$f":"IF($I185=\"\",\"\",VLOOKUP($I185,判定式!$V$3:$W$12,2,TRUE))","v":""},{"$f":"IF($J185=\"\",\"\",VLOOKUP($J185,判定式!$Y$3:$Z$12,2,TRUE))","v":""},{"$f":"IF($K185=\"\",\"\",VLOOKUP($K185,判定式!$T$3:$W$12,4,TRUE))","v":""},{"$f":"IF($L185=\"\",\"\",VLOOKUP($L185,判定式!$U$3:$W$12,3,TRUE))","v":""},"",{"$f":"IF(ISNUMBER(D185),\"判定外\",IF(C185=6,VLOOKUP(U185,判定式!$C$15:I$19,7,TRUE),IF(C185=7,VLOOKUP(U185,判定式!$D$15:I$19,6,TRUE),IF(C185=8,VLOOKUP(U185,判定式!$E$15:I$19,5,TRUE),IF(C185=9,VLOOKUP(U185,判定式!$F$15:I$19,4,TRUE),IF(C185=10,VLOOKUP(U185,判定式!$G$15:I$19,3,TRUE),IF(C185=11,VLOOKUP(U185,判定式!$H$15:I$19,2,TRUE))))))))","v":false}]
[37,null,null,"-",null,null,null,null,null,null,null,null,{"$f":"IF($E186=\"\",\"\",VLOOKUP($E186,判定式!$P$3:$W$12,8,TRUE))","v":""},{"$f":"IF($F186=\"\",\"\",VLOOKUP($F186,判定式!$Q$3:$W$12,7,TRUE))","v":""},{"$f":"IF($G186=\"\",\"\",VLOOKUP($G186,判定式!$R$3:$W$12,6,TRUE))","v":""},{"$f":"IF($H186=\"\",\"\",VLOOKUP($H186,判定式!$S$3:$W$12,5,TRUE))","v":""},{"$f":"IF($I186=\"\",\"\",VLOOKUP($I186,判定式!$V$3:$W$12,2,TRUE))","v":""},{"$f":"IF($J186=\"\",\"\",VLOOKUP($J186,判定式!$Y$3:$Z$12,2,TRUE))","v":""},{"$f":"IF($K186=\"\",\"\",VLOOKUP($K186,判定式!$T$3:$W$12,4,TRUE))","v":""},{"$f":"IF($L186=\"\",\"\",VLOOKUP($L186,判定式!$U$3:$W$12,3,TRUE))","v":""},"",{"$f":"IF(ISNUMBER(D186),\"判定外\",IF(C186=6,VLOOKUP(U186,判定式!$C$15:I$19,7,TRUE),IF(C186=7,VLOOKUP(U186,判定式!$D$15:I$19,6,TRUE),IF(C186=8,VLOOKUP(U186,判定式!$E$15:I$19,5,TRUE),IF(C186=9,VLOOKUP(U186,判定式!$F$15:I$19,4,TRUE),IF(C186=10,VLOOKUP(U186,判定式!$G$15:I$19,3,TRUE),IF(C186=11,VLOOKUP(U186,判定式!$H$15:I$19,2,TRUE))))))))","v":false}]
[38,null,null,"-",null,null,null,null,null,null,null,null,{"$f":"IF($E187=\"\",\"\",VLOOKUP($E187,判定式!$P$3:$W$12,8,TRUE))","v":""},{"$f":"IF($F187=\"\",\"\",VLOOKUP($F187,判定式!$Q$3:$W$12,7,TRUE))","v":""},{"$f":"IF($G187=\"\",\"\",VLOOKUP($G187,判定式!$R$3:$W$12,6,TRUE))","v":""},{"$f":"IF($H187=\"\",\"\",VLOOKUP($H187,判定式!$S$3:$W$12,5,TRUE))","v":""},{"$f":"IF($I187=\"\",\"\",VLOOKUP($I187,判定式!$V$3:$W$12,2,TRUE))","v":""},{"$f":"IF($J187=\"\",\"\",VLOOKUP($J187,判定式!$Y$3:$Z$12,2,TRUE))","v":""},{"$f":"IF($K187=\"\",\"\",VLOOKUP($K187,判定式!$T$3:$W$12,4,TRUE))","v":""},{"$f":"IF($L187=\"\",\"\",VLOOKUP($L187,判定式!$U$3:$W$12,3,TRUE))","v":""},"",{"$f":"IF(ISNUMBER(D187),\"判定外\",IF(C187=6,VLOOKUP(U187,判定式!$C$15:I$19,7,TRUE),IF(C187=7,VLOOKUP(U187,判定式!$D$15:I$19,6,TRUE),IF(C187=8,VLOOKUP(U187,判定式!$E$15:I$19,5,TRUE),IF(C187=9,VLOOKUP(U187,判定式!$F$15:I$19,4,TRUE),IF(C187=10,VLOOKUP(U187,判定式!$G$15:I$19,3,TRUE),IF(C187=11,VLOOKUP(U187,判定式!$H$15:I$19,2,TRUE))))))))","v":false}]
[39,null,null,"-",null,null,null,null,null,null,null,null,{"$f":"IF($E188=\"\",\"\",VLOOKUP($E188,判定式!$P$3:$W$12,8,TRUE))","v":""},{"$f":"IF($F188=\"\",\"\",VLOOKUP($F188,判定式!$Q$3:$W$12,7,TRUE))","v":""},{"$f":"IF($G188=\"\",\"\",VLOOKUP($G188,判定式!$R$3:$W$12,6,TRUE))","v":""},{"$f":"IF($H188=\"\",\"\",VLOOKUP($H188,判定式!$S$3:$W$12,5,TRUE))","v":""},{"$f":"IF($I188=\"\",\"\",VLOOKUP($I188,判定式!$V$3:$W$12,2,TRUE))","v":""},{"$f":"IF($J188=\"\",\"\",VLOOKUP($J188,判定式!$Y$3:$Z$12,2,TRUE))","v":""},{"$f":"IF($K188=\"\",\"\",VLOOKUP($K188,判定式!$T$3:$W$12,4,TRUE))","v":""},{"$f":"IF($L188=\"\",\"\",VLOOKUP($L188,判定式!$U$3:$W$12,3,TRUE))","v":""},"",{"$f":"IF(ISNUMBER(D188),\"判定外\",IF(C188=6,VLOOKUP(U188,判定式!$C$15:I$19,7,TRUE),IF(C188=7,VLOOKUP(U188,判定式!$D$15:I$19,6,TRUE),IF(C188=8,VLOOKUP(U188,判定式!$E$15:I$19,5,TRUE),IF(C188=9,VLOOKUP(U188,判定式!$F$15:I$19,4,TRUE),IF(C188=10,VLOOKUP(U188,判定式!$G$15:I$19,3,TRUE),IF(C188=11,VLOOKUP(U188,判定式!$H$15:I$19,2,TRUE))))))))","v":false}]
[40,null,null,"-",null,null,null,null,null,null,null,null,{"$f":"IF($E189=\"\",\"\",VLOOKUP($E189,判定式!$P$3:$W$12,8,TRUE))","v":""},{"$f":"IF($F189=\"\",\"\",VLOOKUP($F189,判定式!$Q$3:$W$12,7,TRUE))","v":""},{"$f":"IF($G189=\"\",\"\",VLOOKUP($G189,判定式!$R$3:$W$12,6,TRUE))","v":""},{"$f":"IF($H189=\"\",\"\",VLOOKUP($H189,判定式!$S$3:$W$12,5,TRUE))","v":""},{"$f":"IF($I189=\"\",\"\",VLOOKUP($I189,判定式!$V$3:$W$12,2,TRUE))","v":""},{"$f":"IF($J189=\"\",\"\",VLOOKUP($J189,判定式!$Y$3:$Z$12,2,TRUE))","v":""},{"$f":"IF($K189=\"\",\"\",VLOOKUP($K189,判定式!$T$3:$W$12,4,TRUE))","v":""},{"$f":"IF($L189=\"\",\"\",VLOOKUP($L189,判定式!$U$3:$W$12,3,TRUE))","v":""},"",{"$f":"IF(ISNUMBER(D189),\"判定外\",IF(C189=6,VLOOKUP(U189,判定式!$C$15:I$19,7,TRUE),IF(C189=7,VLOOKUP(U189,判定式!$D$15:I$19,6,TRUE),IF(C189=8,VLOOKUP(U189,判定式!$E$15:I$19,5,TRUE),IF(C189=9,VLOOKUP(U189,判定式!$F$15:I$19,4,TRUE),IF(C189=10,VLOOKUP(U189,判定式!$G$15:I$19,3,TRUE),IF(C189=11,VLOOKUP(U189,判定式!$H$15:I$19,2,TRUE))))))))","v":false}]
[41,null,null,"-",null,null,null,null,null,null,null,null,{"$f":"IF($E190=\"\",\"\",VLOOKUP($E190,判定式!$P$3:$W$12,8,TRUE))","v":""},{"$f":"IF($F190=\"\",\"\",VLOOKUP($F190,判定式!$Q$3:$W$12,7,TRUE))","v":""},{"$f":"IF($G190=\"\",\"\",VLOOKUP($G190,判定式!$R$3:$W$12,6,TRUE))","v":""},{"$f":"IF($H190=\"\",\"\",VLOOKUP($H190,判定式!$S$3:$W$12,5,TRUE))","v":""},{"$f":"IF($I190=\"\",\"\",VLOOKUP($I190,判定式!$V$3:$W$12,2,TRUE))","v":""},{"$f":"IF($J190=\"\",\"\",VLOOKUP($J190,判定式!$Y$3:$Z$12,2,TRUE))","v":""},{"$f":"IF($K190=\"\",\"\",VLOOKUP($K190,判定式!$T$3:$W$12,4,TRUE))","v":""},{"$f":"IF($L190=\"\",\"\",VLOOKUP($L190,判定式!$U$3:$W$12,3,TRUE))","v":""},"",{"$f":"IF(ISNUMBER(D190),\"判定外\",IF(C190=6,VLOOKUP(U190,判定式!$C$15:I$19,7,TRUE),IF(C190=7,VLOOKUP(U190,判定式!$D$15:I$19,6,TRUE),IF(C190=8,VLOOKUP(U190,判定式!$E$15:I$19,5,TRUE),IF(C190=9,VLOOKUP(U190,判定式!$F$15:I$19,4,TRUE),IF(C190=10,VLOOKUP(U190,判定式!$G$15:I$19,3,TRUE),IF(C190=11,VLOOKUP(U190,判定式!$H$15:I$19,2,TRUE))))))))","v":false}]
[42,null,null,"-",null,null,null,null,null,null,null,null,{"$f":"IF($E191=\"\",\"\",VLOOKUP($E191,判定式!$P$3:$W$12,8,TRUE))","v":""},{"$f":"IF($F191=\"\",\"\",VLOOKUP($F191,判定式!$Q$3:$W$12,7,TRUE))","v":""},{"$f":"IF($G191=\"\",\"\",VLOOKUP($G191,判定式!$R$3:$W$12,6,TRUE))","v":""},{"$f":"IF($H191=\"\",\"\",VLOOKUP($H191,判定式!$S$3:$W$12,5,TRUE))","v":""},{"$f":"IF($I191=\"\",\"\",VLOOKUP($I191,判定式!$V$3:$W$12,2,TRUE))","v":""},{"$f":"IF($J191=\"\",\"\",VLOOKUP($J191,判定式!$Y$3:$Z$12,2,TRUE))","v":""},{"$f":"IF($K191=\"\",\"\",VLOOKUP($K191,判定式!$T$3:$W$12,4,TRUE))","v":""},{"$f":"IF($L191=\"\",\"\",VLOOKUP($L191,判定式!$U$3:$W$12,3,TRUE))","v":""},"",{"$f":"IF(ISNUMBER(D191),\"判定外\",IF(C191=6,VLOOKUP(U191,判定式!$C$15:I$19,7,TRUE),IF(C191=7,VLOOKUP(U191,判定式!$D$15:I$19,6,TRUE),IF(C191=8,VLOOKUP(U191,判定式!$E$15:I$19,5,TRUE),IF(C191=9,VLOOKUP(U191,判定式!$F$15:I$19,4,TRUE),IF(C191=10,VLOOKUP(U191,判定式!$G$15:I$19,3,TRUE),IF(C191=11,VLOOKUP(U191,判定式!$H$15:I$19,2,TRUE))))))))","v":false}]
[43,null,null,"-",null,null,null,null,null,null,null,null,{"$f":"IF($E192=\"\",\"\",VLOOKUP($E192,判定式!$P$3:$W$12,8,TRUE))","v":""},{"$f":"IF($F192=\"\",\"\",VLOOKUP($F192,判定式!$Q$3:$W$12,7,TRUE))","v":""},{"$f":"IF($G192=\"\",\"\",VLOOKUP($G192,判定式!$R$3:$W$12,6,TRUE))","v":""},{"$f":"IF($H192=\"\",\"\",VLOOKUP($H192,判定式!$S$3:$W$12,5,TRUE))","v":""},{"$f":"IF($I192=\"\",\"\",VLOOKUP($I192,判定式!$V$3:$W$12,2,TRUE))","v":""},{"$f":"IF($J192=\"\",\"\",VLOOKUP($J192,判定式!$Y$3:$Z$12,2,TRUE))","v":""},{"$f":"IF($K192=\"\",\"\",VLOOKUP($K192,判定式!$T$3:$W$12,4,TRUE))","v":""},{"$f":"IF($L192=\"\",\"\",VLOOKUP($L192,判定式!$U$3:$W$12,3,TRUE))","v":""},"",{"$f":"IF(ISNUMBER(D192),\"判定外\",IF(C192=6,VLOOKUP(U192,判定式!$C$15:I$19,7,TRUE),IF(C192=7,VLOOKUP(U192,判定式!$D$15:I$19,6,TRUE),IF(C192=8,VLOOKUP(U192,判定式!$E$15:I$19,5,TRUE),IF(C192=9,VLOOKUP(U192,判定式!$F$15:I$19,4,TRUE),IF(C192=10,VLOOKUP(U192,判定式!$G$15:I$19,3,TRUE),IF(C192=11,VLOOKUP(U192,判定式!$H$15:I$19,2,TRUE))))))))","v":false}]
[44,null,null,"-",null,null,null,null,null,null,null,null,{"$f":"IF($E193=\"\",\"\",VLOOKUP($E193,判定式!$P$3:$W$12,8,TRUE))","v":""},{"$f":"IF($F193=\"\",\"\",VLOOKUP($F193,判定式!$Q$3:$W$12,7,TRUE))","v":""},{"$f":"IF($G193=\"\",\"\",VLOOKUP($G193,判定式!$R$3:$W$12,6,TRUE))","v":""},{"$f":"IF($H193=\"\",\"\",VLOOKUP($H193,判定式!$S$3:$W$12,5,TRUE))","v":""},{"$f":"IF($I193=\"\",\"\",VLOOKUP($I193,判定式!$V$3:$W$12,2,TRUE))","v":""},{"$f":"IF($J193=\"\",\"\",VLOOKUP($J193,判定式!$Y$3:$Z$12,2,TRUE))","v":""},{"$f":"IF($K193=\"\",\"\",VLOOKUP($K193,判定式!$T$3:$W$12,4,TRUE))","v":""},{"$f":"IF($L193=\"\",\"\",VLOOKUP($L193,判定式!$U$3:$W$12,3,TRUE))","v":""},"",{"$f":"IF(ISNUMBER(D193),\"判定外\",IF(C193=6,VLOOKUP(U193,判定式!$C$15:I$19,7,TRUE),IF(C193=7,VLOOKUP(U193,判定式!$D$15:I$19,6,TRUE),IF(C193=8,VLOOKUP(U193,判定式!$E$15:I$19,5,TRUE),IF(C193=9,VLOOKUP(U193,判定式!$F$15:I$19,4,TRUE),IF(C193=10,VLOOKUP(U193,判定式!$G$15:I$19,3,TRUE),IF(C193=11,VLOOKUP(U193,判定式!$H$15:I$19,2,TRUE))))))))","v":false}]
[45,null,null,"-",null,null,null,null,null,null,null,null,{"$f":"IF($E194=\"\",\"\",VLOOKUP($E194,判定式!$P$3:$W$12,8,TRUE))","v":""},{"$f":"IF($F194=\"\",\"\",VLOOKUP($F194,判定式!$Q$3:$W$12,7,TRUE))","v":""},{"$f":"IF($G194=\"\",\"\",VLOOKUP($G194,判定式!$R$3:$W$12,6,TRUE))","v":""},{"$f":"IF($H194=\"\",\"\",VLOOKUP($H194,判定式!$S$3:$W$12,5,TRUE))","v":""},{"$f":"IF($I194=\"\",\"\",VLOOKUP($I194,判定式!$V$3:$W$12,2,TRUE))","v":""},{"$f":"IF($J194=\"\",\"\",VLOOKUP($J194,判定式!$Y$3:$Z$12,2,TRUE))","v":""},{"$f":"IF($K194=\"\",\"\",VLOOKUP($K194,判定式!$T$3:$W$12,4,TRUE))","v":""},{"$f":"IF($L194=\"\",\"\",VLOOKUP($L194,判定式!$U$3:$W$12,3,TRUE))","v":""},"",{"$f":"IF(ISNUMBER(D194),\"判定外\",IF(C194=6,VLOOKUP(U194,判定式!$C$15:I$19,7,TRUE),IF(C194=7,VLOOKUP(U194,判定式!$D$15:I$19,6,TRUE),IF(C194=8,VLOOKUP(U194,判定式!$E$15:I$19,5,TRUE),IF(C194=9,VLOOKUP(U194,判定式!$F$15:I$19,4,TRUE),IF(C194=10,VLOOKUP(U194,判定式!$G$15:I$19,3,TRUE),IF(C194=11,VLOOKUP(U194,判定式!$H$15:I$19,2,TRUE))))))))","v":false}]
[46,null,null,"-",null,null,null,null,null,null,null,null,{"$f":"IF($E195=\"\",\"\",VLOOKUP($E195,判定式!$P$3:$W$12,8,TRUE))","v":""},{"$f":"IF($F195=\"\",\"\",VLOOKUP($F195,判定式!$Q$3:$W$12,7,TRUE))","v":""},{"$f":"IF($G195=\"\",\"\",VLOOKUP($G195,判定式!$R$3:$W$12,6,TRUE))","v":""},{"$f":"IF($H195=\"\",\"\",VLOOKUP($H195,判定式!$S$3:$W$12,5,TRUE))","v":""},{"$f":"IF($I195=\"\",\"\",VLOOKUP($I195,判定式!$V$3:$W$12,2,TRUE))","v":""},{"$f":"IF($J195=\"\",\"\",VLOOKUP($J195,判定式!$Y$3:$Z$12,2,TRUE))","v":""},{"$f":"IF($K195=\"\",\"\",VLOOKUP($K195,判定式!$T$3:$W$12,4,TRUE))","v":""},{"$f":"IF($L195=\"\",\"\",VLOOKUP($L195,判定式!$U$3:$W$12,3,TRUE))","v":""},"",{"$f":"IF(ISNUMBER(D195),\"判定外\",IF(C195=6,VLOOKUP(U195,判定式!$C$15:I$19,7,TRUE),IF(C195=7,VLOOKUP(U195,判定式!$D$15:I$19,6,TRUE),IF(C195=8,VLOOKUP(U195,判定式!$E$15:I$19,5,TRUE),IF(C195=9,VLOOKUP(U195,判定式!$F$15:I$19,4,TRUE),IF(C195=10,VLOOKUP(U195,判定式!$G$15:I$19,3,TRUE),IF(C195=11,VLOOKUP(U195,判定式!$H$15:I$19,2,TRUE))))))))","v":false}]
[47,null,null,"-",null,null,null,null,null,null,null,null,{"$f":"IF($E196=\"\",\"\",VLOOKUP($E196,判定式!$P$3:$W$12,8,TRUE))","v":""},{"$f":"IF($F196=\"\",\"\",VLOOKUP($F196,判定式!$Q$3:$W$12,7,TRUE))","v":""},{"$f":"IF($G196=\"\",\"\",VLOOKUP($G196,判定式!$R$3:$W$12,6,TRUE))","v":""},{"$f":"IF($H196=\"\",\"\",VLOOKUP($H196,判定式!$S$3:$W$12,5,TRUE))","v":""},{"$f":"IF($I196=\"\",\"\",VLOOKUP($I196,判定式!$V$3:$W$12,2,TRUE))","v":""},{"$f":"IF($J196=\"\",\"\",VLOOKUP($J196,判定式!$Y$3:$Z$12,2,TRUE))","v":""},{"$f":"IF($K196=\"\",\"\",VLOOKUP($K196,判定式!$T$3:$W$12,4,TRUE))","v":""},{"$f":"IF($L196=\"\",\"\",VLOOKUP($L196,判定式!$U$3:$W$12,3,TRUE))","v":""},"",{"$f":"IF(ISNUMBER(D196),\"判定外\",IF(C196=6,VLOOKUP(U196,判定式!$C$15:I$19,7,TRUE),IF(C196=7,VLOOKUP(U196,判定式!$D$15:I$19,6,TRUE),IF(C196=8,VLOOKUP(U196,判定式!$E$15:I$19,5,TRUE),IF(C196=9,VLOOKUP(U196,判定式!$F$15:I$19,4,TRUE),IF(C196=10,VLOOKUP(U196,判定式!$G$15:I$19,3,TRUE),IF(C196=11,VLOOKUP(U196,判定式!$H$15:I$19,2,TRUE))))))))","v":false}]
[48,null,null,"-",null,null,null,null,null,null,null,null,{"$f":"IF($E197=\"\",\"\",VLOOKUP($E197,判定式!$P$3:$W$12,8,TRUE))","v":""},{"$f":"IF($F197=\"\",\"\",VLOOKUP($F197,判定式!$Q$3:$W$12,7,TRUE))","v":""},{"$f":"IF($G197=\"\",\"\",VLOOKUP($G197,判定式!$R$3:$W$12,6,TRUE))","v":""},{"$f":"IF($H197=\"\",\"\",VLOOKUP($H197,判定式!$S$3:$W$12,5,TRUE))","v":""},{"$f":"IF($I197=\"\",\"\",VLOOKUP($I197,判定式!$V$3:$W$12,2,TRUE))","v":""},{"$f":"IF($J197=\"\",\"\",VLOOKUP($J197,判定式!$Y$3:$Z$12,2,TRUE))","v":""},{"$f":"IF($K197=\"\",\"\",VLOOKUP($K197,判定式!$T$3:$W$12,4,TRUE))","v":""},{"$f":"IF($L197=\"\",\"\",VLOOKUP($L197,判定式!$U$3:$W$12,3,TRUE))","v":""},"",{"$f":"IF(ISNUMBER(D197),\"判定外\",IF(C197=6,VLOOKUP(U197,判定式!$C$15:I$19,7,TRUE),IF(C197=7,VLOOKUP(U197,判定式!$D$15:I$19,6,TRUE),IF(C197=8,VLOOKUP(U197,判定式!$E$15:I$19,5,TRUE),IF(C197=9,VLOOKUP(U197,判定式!$F$15:I$19,4,TRUE),IF(C197=10,VLOOKUP(U197,判定式!$G$15:I$19,3,TRUE),IF(C197=11,VLOOKUP(U197,判定式!$H$15:I$19,2,TRUE))))))))","v":false}]
[49,null,null,"-",null,null,null,null,null,null,null,null,{"$f":"IF($E198=\"\",\"\",VLOOKUP($E198,判定式!$P$3:$W$12,8,TRUE))","v":""},{"$f":"IF($F198=\"\",\"\",VLOOKUP($F198,判定式!$Q$3:$W$12,7,TRUE))","v":""},{"$f":"IF($G198=\"\",\"\",VLOOKUP($G198,判定式!$R$3:$W$12,6,TRUE))","v":""},{"$f":"IF($H198=\"\",\"\",VLOOKUP($H198,判定式!$S$3:$W$12,5,TRUE))","v":""},{"$f":"IF($I198=\"\",\"\",VLOOKUP($I198,判定式!$V$3:$W$12,2,TRUE))","v":""},{"$f":"IF($J198=\"\",\"\",VLOOKUP($J198,判定式!$Y$3:$Z$12,2,TRUE))","v":""},{"$f":"IF($K198=\"\",\"\",VLOOKUP($K198,判定式!$T$3:$W$12,4,TRUE))","v":""},{"$f":"IF($L198=\"\",\"\",VLOOKUP($L198,判定式!$U$3:$W$12,3,TRUE))","v":""},"",{"$f":"IF(ISNUMBER(D198),\"判定外\",IF(C198=6,VLOOKUP(U198,判定式!$C$15:I$19,7,TRUE),IF(C198=7,VLOOKUP(U198,判定式!$D$15:I$19,6,TRUE),IF(C198=8,VLOOKUP(U198,判定式!$E$15:I$19,5,TRUE),IF(C198=9,VLOOKUP(U198,判定式!$F$15:I$19,4,TRUE),IF(C198=10,VLOOKUP(U198,判定式!$G$15:I$19,3,TRUE),IF(C198=11,VLOOKUP(U198,判定式!$H$15:I$19,2,TRUE))))))))","v":false}]
[50,null,null,"-",null,null,null,null,null,null,null,null,{"$f":"IF($E199=\"\",\"\",VLOOKUP($E199,判定式!$P$3:$W$12,8,TRUE))","v":""},{"$f":"IF($F199=\"\",\"\",VLOOKUP($F199,判定式!$Q$3:$W$12,7,TRUE))","v":""},{"$f":"IF($G199=\"\",\"\",VLOOKUP($G199,判定式!$R$3:$W$12,6,TRUE))","v":""},{"$f":"IF($H199=\"\",\"\",VLOOKUP($H199,判定式!$S$3:$W$12,5,TRUE))","v":""},{"$f":"IF($I199=\"\",\"\",VLOOKUP($I199,判定式!$V$3:$W$12,2,TRUE))","v":""},{"$f":"IF($J199=\"\",\"\",VLOOKUP($J199,判定式!$Y$3:$Z$12,2,TRUE))","v":""},{"$f":"IF($K199=\"\",\"\",VLOOKUP($K199,判定式!$T$3:$W$12,4,TRUE))","v":""},{"$f":"IF($L199=\"\",\"\",VLOOKUP($L199,判定式!$U$3:$W$12,3,TRUE))","v":""},"",{"$f":"IF(ISNUMBER(D199),\"判定外\",IF(C199=6,VLOOKUP(U199,判定式!$C$15:I$19,7,TRUE),IF(C199=7,VLOOKUP(U199,判定式!$D$15:I$19,6,TRUE),IF(C199=8,VLOOKUP(U199,判定式!$E$15:I$19,5,TRUE),IF(C199=9,VLOOKUP(U199,判定式!$F$15:I$19,4,TRUE),IF(C199=10,VLOOKUP(U199,判定式!$G$15:I$19,3,TRUE),IF(C199=11,VLOOKUP(U199,判定式!$H$15:I$19,2,TRUE))))))))","v":false}]
[51,null,null,"-",null,null,null,null,null,null,null,null,{"$f":"IF($E200=\"\",\"\",VLOOKUP($E200,判定式!$P$3:$W$12,8,TRUE))","v":""},{"$f":"IF($F200=\"\",\"\",VLOOKUP($F200,判定式!$Q$3:$W$12,7,TRUE))","v":""},{"$f":"IF($G200=\"\",\"\",VLOOKUP($G200,判定式!$R$3:$W$12,6,TRUE))","v":""},{"$f":"IF($H200=\"\",\"\",VLOOKUP($H200,判定式!$S$3:$W$12,5,TRUE))","v":""},{"$f":"IF($I200=\"\",\"\",VLOOKUP($I200,判定式!$V$3:$W$12,2,TRUE))","v":""},{"$f":"IF($J200=\"\",\"\",VLOOKUP($J200,判定式!$Y$3:$Z$12,2,TRUE))","v":""},{"$f":"IF($K200=\"\",\"\",VLOOKUP($K200,判定式!$T$3:$W$12,4,TRUE))","v":""},{"$f":"IF($L200=\"\",\"\",VLOOKUP($L200,判定式!$U$3:$W$12,3,TRUE))","v":""},"",{"$f":"IF(ISNUMBER(D200),\"判定外\",IF(C200=6,VLOOKUP(U200,判定式!$C$15:I$19,7,TRUE),IF(C200=7,VLOOKUP(U200,判定式!$D$15:I$19,6,TRUE),IF(C200=8,VLOOKUP(U200,判定式!$E$15:I$19,5,TRUE),IF(C200=9,VLOOKUP(U200,判定式!$F$15:I$19,4,TRUE),IF(C200=10,VLOOKUP(U200,判定式!$G$15:I$19,3,TRUE),IF(C200=11,VLOOKUP(U200,判定式!$H$15:I$19,2,TRUE))))))))","v":false}]
[52,null,null,"-",null,null,null,null,null,null,null,null,{"$f":"IF($E201=\"\",\"\",VLOOKUP($E201,判定式!$P$3:$W$12,8,TRUE))","v":""},{"$f":"IF($F201=\"\",\"\",VLOOKUP($F201,判定式!$Q$3:$W$12,7,TRUE))","v":""},{"$f":"IF($G201=\"\",\"\",VLOOKUP($G201,判定式!$R$3:$W$12,6,TRUE))","v":""},{"$f":"IF($H201=\"\",\"\",VLOOKUP($H201,判定式!$S$3:$W$12,5,TRUE))","v":""},{"$f":"IF($I201=\"\",\"\",VLOOKUP($I201,判定式!$V$3:$W$12,2,TRUE))","v":""},{"$f":"IF($J201=\"\",\"\",VLOOKUP($J201,判定式!$Y$3:$Z$12,2,TRUE))","v":""},{"$f":"IF($K201=\"\",\"\",VLOOKUP($K201,判定式!$T$3:$W$12,4,TRUE))","v":""},{"$f":"IF($L201=\"\",\"\",VLOOKUP($L201,判定式!$U$3:$W$12,3,TRUE))","v":""},"",{"$f":"IF(ISNUMBER(D201),\"判定外\",IF(C201=6,VLOOKUP(U201,判定式!$C$15:I$19,7,TRUE),IF(C201=7,VLOOKUP(U201,判定式!$D$15:I$19,6,TRUE),IF(C201=8,VLOOKUP(U201,判定式!$E$15:I$19,5,TRUE),IF(C201=9,VLOOKUP(U201,判定式!$F$15:I$19,4,TRUE),IF(C201=10,VLOOKUP(U201,判定式!$G$15:I$19,3,TRUE),IF(C201=11,VLOOKUP(U201,判定式!$H$15:I$19,2,TRUE))))))))","v":false}]
[53,null,null,"-",null,null,null,null,null,null,null,null,{"$f":"IF($E202=\"\",\"\",VLOOKUP($E202,判定式!$P$3:$W$12,8,TRUE))","v":""},{"$f":"IF($F202=\"\",\"\",VLOOKUP($F202,判定式!$Q$3:$W$12,7,TRUE))","v":""},{"$f":"IF($G202=\"\",\"\",VLOOKUP($G202,判定式!$R$3:$W$12,6,TRUE))","v":""},{"$f":"IF($H202=\"\",\"\",VLOOKUP($H202,判定式!$S$3:$W$12,5,TRUE))","v":""},{"$f":"IF($I202=\"\",\"\",VLOOKUP($I202,判定式!$V$3:$W$12,2,TRUE))","v":""},{"$f":"IF($J202=\"\",\"\",VLOOKUP($J202,判定式!$Y$3:$Z$12,2,TRUE))","v":""},{"$f":"IF($K202=\"\",\"\",VLOOKUP($K202,判定式!$T$3:$W$12,4,TRUE))","v":""},{"$f":"IF($L202=\"\",\"\",VLOOKUP($L202,判定式!$U$3:$W$12,3,TRUE))","v":""},"",{"$f":"IF(ISNUMBER(D202),\"判定外\",IF(C202=6,VLOOKUP(U202,判定式!$C$15:I$19,7,TRUE),IF(C202=7,VLOOKUP(U202,判定式!$D$15:I$19,6,TRUE),IF(C202=8,VLOOKUP(U202,判定式!$E$15:I$19,5,TRUE),IF(C202=9,VLOOKUP(U202,判定式!$F$15:I$19,4,TRUE),IF(C202=10,VLOOKUP(U202,判定式!$G$15:I$19,3,TRUE),IF(C202=11,VLOOKUP(U202,判定式!$H$15:I$19,2,TRUE))))))))","v":false}]
[54,null,null,"-",null,null,null,null,null,null,null,null,{"$f":"IF($E203=\"\",\"\",VLOOKUP($E203,判定式!$P$3:$W$12,8,TRUE))","v":""},{"$f":"IF($F203=\"\",\"\",VLOOKUP($F203,判定式!$Q$3:$W$12,7,TRUE))","v":""},{"$f":"IF($G203=\"\",\"\",VLOOKUP($G203,判定式!$R$3:$W$12,6,TRUE))","v":""},{"$f":"IF($H203=\"\",\"\",VLOOKUP($H203,判定式!$S$3:$W$12,5,TRUE))","v":""},{"$f":"IF($I203=\"\",\"\",VLOOKUP($I203,判定式!$V$3:$W$12,2,TRUE))","v":""},{"$f":"IF($J203=\"\",\"\",VLOOKUP($J203,判定式!$Y$3:$Z$12,2,TRUE))","v":""},{"$f":"IF($K203=\"\",\"\",VLOOKUP($K203,判定式!$T$3:$W$12,4,TRUE))","v":""},{"$f":"IF($L203=\"\",\"\",VLOOKUP($L203,判定式!$U$3:$W$12,3,TRUE))","v":""},"",{"$f":"IF(ISNUMBER(D203),\"判定外\",IF(C203=6,VLOOKUP(U203,判定式!$C$15:I$19,7,TRUE),IF(C203=7,VLOOKUP(U203,判定式!$D$15:I$19,6,TRUE),IF(C203=8,VLOOKUP(U203,判定式!$E$15:I$19,5,TRUE),IF(C203=9,VLOOKUP(U203,判定式!$F$15:I$19,4,TRUE),IF(C203=10,VLOOKUP(U203,判定式!$G$15:I$19,3,TRUE),IF(C203=11,VLOOKUP(U203,判定式!$H$15:I$19,2,TRUE))))))))","v":false}]
[55,null,null,"-",null,null,null,null,null,null,null,null,{"$f":"IF($E204=\"\",\"\",VLOOKUP($E204,判定式!$P$3:$W$12,8,TRUE))","v":""},{"$f":"IF($F204=\"\",\"\",VLOOKUP($F204,判定式!$Q$3:$W$12,7,TRUE))","v":""},{"$f":"IF($G204=\"\",\"\",VLOOKUP($G204,判定式!$R$3:$W$12,6,TRUE))","v":""},{"$f":"IF($H204=\"\",\"\",VLOOKUP($H204,判定式!$S$3:$W$12,5,TRUE))","v":""},{"$f":"IF($I204=\"\",\"\",VLOOKUP($I204,判定式!$V$3:$W$12,2,TRUE))","v":""},{"$f":"IF($J204=\"\",\"\",VLOOKUP($J204,判定式!$Y$3:$Z$12,2,TRUE))","v":""},{"$f":"IF($K204=\"\",\"\",VLOOKUP($K204,判定式!$T$3:$W$12,4,TRUE))","v":""},{"$f":"IF($L204=\"\",\"\",VLOOKUP($L204,判定式!$U$3:$W$12,3,TRUE))","v":""},"",{"$f":"IF(ISNUMBER(D204),\"判定外\",IF(C204=6,VLOOKUP(U204,判定式!$C$15:I$19,7,TRUE),IF(C204=7,VLOOKUP(U204,判定式!$D$15:I$19,6,TRUE),IF(C204=8,VLOOKUP(U204,判定式!$E$15:I$19,5,TRUE),IF(C204=9,VLOOKUP(U204,判定式!$F$15:I$19,4,TRUE),IF(C204=10,VLOOKUP(U204,判定式!$G$15:I$19,3,TRUE),IF(C204=11,VLOOKUP(U204,判定式!$H$15:I$19,2,TRUE))))))))","v":false}]
[56,null,null,"-",null,null,null,null,null,null,null,null,{"$f":"IF($E205=\"\",\"\",VLOOKUP($E205,判定式!$P$3:$W$12,8,TRUE))","v":""},{"$f":"IF($F205=\"\",\"\",VLOOKUP($F205,判定式!$Q$3:$W$12,7,TRUE))","v":""},{"$f":"IF($G205=\"\",\"\",VLOOKUP($G205,判定式!$R$3:$W$12,6,TRUE))","v":""},{"$f":"IF($H205=\"\",\"\",VLOOKUP($H205,判定式!$S$3:$W$12,5,TRUE))","v":""},{"$f":"IF($I205=\"\",\"\",VLOOKUP($I205,判定式!$V$3:$W$12,2,TRUE))","v":""},{"$f":"IF($J205=\"\",\"\",VLOOKUP($J205,判定式!$Y$3:$Z$12,2,TRUE))","v":""},{"$f":"IF($K205=\"\",\"\",VLOOKUP($K205,判定式!$T$3:$W$12,4,TRUE))","v":""},{"$f":"IF($L205=\"\",\"\",VLOOKUP($L205,判定式!$U$3:$W$12,3,TRUE))","v":""},"",{"$f":"IF(ISNUMBER(D205),\"判定外\",IF(C205=6,VLOOKUP(U205,判定式!$C$15:I$19,7,TRUE),IF(C205=7,VLOOKUP(U205,判定式!$D$15:I$19,6,TRUE),IF(C205=8,VLOOKUP(U205,判定式!$E$15:I$19,5,TRUE),IF(C205=9,VLOOKUP(U205,判定式!$F$15:I$19,4,TRUE),IF(C205=10,VLOOKUP(U205,判定式!$G$15:I$19,3,TRUE),IF(C205=11,VLOOKUP(U205,判定式!$H$15:I$19,2,TRUE))))))))","v":false}]
[57,null,null,"-",null,null,null,null,null,null,null,null,{"$f":"IF($E206=\"\",\"\",VLOOKUP($E206,判定式!$P$3:$W$12,8,TRUE))","v":""},{"$f":"IF($F206=\"\",\"\",VLOOKUP($F206,判定式!$Q$3:$W$12,7,TRUE))","v":""},{"$f":"IF($G206=\"\",\"\",VLOOKUP($G206,判定式!$R$3:$W$12,6,TRUE))","v":""},{"$f":"IF($H206=\"\",\"\",VLOOKUP($H206,判定式!$S$3:$W$12,5,TRUE))","v":""},{"$f":"IF($I206=\"\",\"\",VLOOKUP($I206,判定式!$V$3:$W$12,2,TRUE))","v":""},{"$f":"IF($J206=\"\",\"\",VLOOKUP($J206,判定式!$Y$3:$Z$12,2,TRUE))","v":""},{"$f":"IF($K206=\"\",\"\",VLOOKUP($K206,判定式!$T$3:$W$12,4,TRUE))","v":""},{"$f":"IF($L206=\"\",\"\",VLOOKUP($L206,判定式!$U$3:$W$12,3,TRUE))","v":""},"",{"$f":"IF(ISNUMBER(D206),\"判定外\",IF(C206=6,VLOOKUP(U206,判定式!$C$15:I$19,7,TRUE),IF(C206=7,VLOOKUP(U206,判定式!$D$15:I$19,6,TRUE),IF(C206=8,VLOOKUP(U206,判定式!$E$15:I$19,5,TRUE),IF(C206=9,VLOOKUP(U206,判定式!$F$15:I$19,4,TRUE),IF(C206=10,VLOOKUP(U206,判定式!$G$15:I$19,3,TRUE),IF(C206=11,VLOOKUP(U206,判定式!$H$15:I$19,2,TRUE))))))))","v":false}]
[58,null,null,"-",null,null,null,null,null,null,null,null,{"$f":"IF($E207=\"\",\"\",VLOOKUP($E207,判定式!$P$3:$W$12,8,TRUE))","v":""},{"$f":"IF($F207=\"\",\"\",VLOOKUP($F207,判定式!$Q$3:$W$12,7,TRUE))","v":""},{"$f":"IF($G207=\"\",\"\",VLOOKUP($G207,判定式!$R$3:$W$12,6,TRUE))","v":""},{"$f":"IF($H207=\"\",\"\",VLOOKUP($H207,判定式!$S$3:$W$12,5,TRUE))","v":""},{"$f":"IF($I207=\"\",\"\",VLOOKUP($I207,判定式!$V$3:$W$12,2,TRUE))","v":""},{"$f":"IF($J207=\"\",\"\",VLOOKUP($J207,判定式!$Y$3:$Z$12,2,TRUE))","v":""},{"$f":"IF($K207=\"\",\"\",VLOOKUP($K207,判定式!$T$3:$W$12,4,TRUE))","v":""},{"$f":"IF($L207=\"\",\"\",VLOOKUP($L207,判定式!$U$3:$W$12,3,TRUE))","v":""},"",{"$f":"IF(ISNUMBER(D207),\"判定外\",IF(C207=6,VLOOKUP(U207,判定式!$C$15:I$19,7,TRUE),IF(C207=7,VLOOKUP(U207,判定式!$D$15:I$19,6,TRUE),IF(C207=8,VLOOKUP(U207,判定式!$E$15:I$19,5,TRUE),IF(C207=9,VLOOKUP(U207,判定式!$F$15:I$19,4,TRUE),IF(C207=10,VLOOKUP(U207,判定式!$G$15:I$19,3,TRUE),IF(C207=11,VLOOKUP(U207,判定式!$H$15:I$19,2,TRUE))))))))","v":false}]
[59,null,null,"-",null,null,null,null,null,null,null,null,{"$f":"IF($E208=\"\",\"\",VLOOKUP($E208,判定式!$P$3:$W$12,8,TRUE))","v":""},{"$f":"IF($F208=\"\",\"\",VLOOKUP($F208,判定式!$Q$3:$W$12,7,TRUE))","v":""},{"$f":"IF($G208=\"\",\"\",VLOOKUP($G208,判定式!$R$3:$W$12,6,TRUE))","v":""},{"$f":"IF($H208=\"\",\"\",VLOOKUP($H208,判定式!$S$3:$W$12,5,TRUE))","v":""},{"$f":"IF($I208=\"\",\"\",VLOOKUP($I208,判定式!$V$3:$W$12,2,TRUE))","v":""},{"$f":"IF($J208=\"\",\"\",VLOOKUP($J208,判定式!$Y$3:$Z$12,2,TRUE))","v":""},{"$f":"IF($K208=\"\",\"\",VLOOKUP($K208,判定式!$T$3:$W$12,4,TRUE))","v":""},{"$f":"IF($L208=\"\",\"\",VLOOKUP($L208,判定式!$U$3:$W$12,3,TRUE))","v":""},"",{"$f":"IF(ISNUMBER(D208),\"判定外\",IF(C208=6,VLOOKUP(U208,判定式!$C$15:I$19,7,TRUE),IF(C208=7,VLOOKUP(U208,判定式!$D$15:I$19,6,TRUE),IF(C208=8,VLOOKUP(U208,判定式!$E$15:I$19,5,TRUE),IF(C208=9,VLOOKUP(U208,判定式!$F$15:I$19,4,TRUE),IF(C208=10,VLOOKUP(U208,判定式!$G$15:I$19,3,TRUE),IF(C208=11,VLOOKUP(U208,判定式!$H$15:I$19,2,TRUE))))))))","v":false}]
[60,null,null,"-",null,null,null,null,null,null,null,null,{"$f":"IF($E209=\"\",\"\",VLOOKUP($E209,判定式!$P$3:$W$12,8,TRUE))","v":""},{"$f":"IF($F209=\"\",\"\",VLOOKUP($F209,判定式!$Q$3:$W$12,7,TRUE))","v":""},{"$f":"IF($G209=\"\",\"\",VLOOKUP($G209,判定式!$R$3:$W$12,6,TRUE))","v":""},{"$f":"IF($H209=\"\",\"\",VLOOKUP($H209,判定式!$S$3:$W$12,5,TRUE))","v":""},{"$f":"IF($I209=\"\",\"\",VLOOKUP($I209,判定式!$V$3:$W$12,2,TRUE))","v":""},{"$f":"IF($J209=\"\",\"\",VLOOKUP($J209,判定式!$Y$3:$Z$12,2,TRUE))","v":""},{"$f":"IF($K209=\"\",\"\",VLOOKUP($K209,判定式!$T$3:$W$12,4,TRUE))","v":""},{"$f":"IF($L209=\"\",\"\",VLOOKUP($L209,判定式!$U$3:$W$12,3,TRUE))","v":""},"",{"$f":"IF(ISNUMBER(D209),\"判定外\",IF(C209=6,VLOOKUP(U209,判定式!$C$15:I$19,7,TRUE),IF(C209=7,VLOOKUP(U209,判定式!$D$15:I$19,6,TRUE),IF(C209=8,VLOOKUP(U209,判定式!$E$15:I$19,5,TRUE),IF(C209=9,VLOOKUP(U209,判定式!$F$15:I$19,4,TRUE),IF(C209=10,VLOOKUP(U209,判定式!$G$15:I$19,3,TRUE),IF(C209=11,VLOOKUP(U209,判定式!$H$15:I$19,2,TRUE))))))))","v":false}]
[61,null,null,"-",null,null,null,null,null,null,null,null,{"$f":"IF($E210=\"\",\"\",VLOOKUP($E210,判定式!$P$3:$W$12,8,TRUE))","v":""},{"$f":"IF($F210=\"\",\"\",VLOOKUP($F210,判定式!$Q$3:$W$12,7,TRUE))","v":""},{"$f":"IF($G210=\"\",\"\",VLOOKUP($G210,判定式!$R$3:$W$12,6,TRUE))","v":""},{"$f":"IF($H210=\"\",\"\",VLOOKUP($H210,判定式!$S$3:$W$12,5,TRUE))","v":""},{"$f":"IF($I210=\"\",\"\",VLOOKUP($I210,判定式!$V$3:$W$12,2,TRUE))","v":""},{"$f":"IF($J210=\"\",\"\",VLOOKUP($J210,判定式!$Y$3:$Z$12,2,TRUE))","v":""},{"$f":"IF($K210=\"\",\"\",VLOOKUP($K210,判定式!$T$3:$W$12,4,TRUE))","v":""},{"$f":"IF($L210=\"\",\"\",VLOOKUP($L210,判定式!$U$3:$W$12,3,TRUE))","v":""},"",{"$f":"IF(ISNUMBER(D210),\"判定外\",IF(C210=6,VLOOKUP(U210,判定式!$C$15:I$19,7,TRUE),IF(C210=7,VLOOKUP(U210,判定式!$D$15:I$19,6,TRUE),IF(C210=8,VLOOKUP(U210,判定式!$E$15:I$19,5,TRUE),IF(C210=9,VLOOKUP(U210,判定式!$F$15:I$19,4,TRUE),IF(C210=10,VLOOKUP(U210,判定式!$G$15:I$19,3,TRUE),IF(C210=11,VLOOKUP(U210,判定式!$H$15:I$19,2,TRUE))))))))","v":false}]
[62,null,null,"-",null,null,null,null,null,null,null,null,{"$f":"IF($E211=\"\",\"\",VLOOKUP($E211,判定式!$P$3:$W$12,8,TRUE))","v":""},{"$f":"IF($F211=\"\",\"\",VLOOKUP($F211,判定式!$Q$3:$W$12,7,TRUE))","v":""},{"$f":"IF($G211=\"\",\"\",VLOOKUP($G211,判定式!$R$3:$W$12,6,TRUE))","v":""},{"$f":"IF($H211=\"\",\"\",VLOOKUP($H211,判定式!$S$3:$W$12,5,TRUE))","v":""},{"$f":"IF($I211=\"\",\"\",VLOOKUP($I211,判定式!$V$3:$W$12,2,TRUE))","v":""},{"$f":"IF($J211=\"\",\"\",VLOOKUP($J211,判定式!$Y$3:$Z$12,2,TRUE))","v":""},{"$f":"IF($K211=\"\",\"\",VLOOKUP($K211,判定式!$T$3:$W$12,4,TRUE))","v":""},{"$f":"IF($L211=\"\",\"\",VLOOKUP($L211,判定式!$U$3:$W$12,3,TRUE))","v":""},"",{"$f":"IF(ISNUMBER(D211),\"判定外\",IF(C211=6,VLOOKUP(U211,判定式!$C$15:I$19,7,TRUE),IF(C211=7,VLOOKUP(U211,判定式!$D$15:I$19,6,TRUE),IF(C211=8,VLOOKUP(U211,判定式!$E$15:I$19,5,TRUE),IF(C211=9,VLOOKUP(U211,判定式!$F$15:I$19,4,TRUE),IF(C211=10,VLOOKUP(U211,判定式!$G$15:I$19,3,TRUE),IF(C211=11,VLOOKUP(U211,判定式!$H$15:I$19,2,TRUE))))))))","v":false}]
[63,null,null,"-",null,null,null,null,null,null,null,null,{"$f":"IF($E212=\"\",\"\",VLOOKUP($E212,判定式!$P$3:$W$12,8,TRUE))","v":""},{"$f":"IF($F212=\"\",\"\",VLOOKUP($F212,判定式!$Q$3:$W$12,7,TRUE))","v":""},{"$f":"IF($G212=\"\",\"\",VLOOKUP($G212,判定式!$R$3:$W$12,6,TRUE))","v":""},{"$f":"IF($H212=\"\",\"\",VLOOKUP($H212,判定式!$S$3:$W$12,5,TRUE))","v":""},{"$f":"IF($I212=\"\",\"\",VLOOKUP($I212,判定式!$V$3:$W$12,2,TRUE))","v":""},{"$f":"IF($J212=\"\",\"\",VLOOKUP($J212,判定式!$Y$3:$Z$12,2,TRUE))","v":""},{"$f":"IF($K212=\"\",\"\",VLOOKUP($K212,判定式!$T$3:$W$12,4,TRUE))","v":""},{"$f":"IF($L212=\"\",\"\",VLOOKUP($L212,判定式!$U$3:$W$12,3,TRUE))","v":""},"",{"$f":"IF(ISNUMBER(D212),\"判定外\",IF(C212=6,VLOOKUP(U212,判定式!$C$15:I$19,7,TRUE),IF(C212=7,VLOOKUP(U212,判定式!$D$15:I$19,6,TRUE),IF(C212=8,VLOOKUP(U212,判定式!$E$15:I$19,5,TRUE),IF(C212=9,VLOOKUP(U212,判定式!$F$15:I$19,4,TRUE),IF(C212=10,VLOOKUP(U212,判定式!$G$15:I$19,3,TRUE),IF(C212=11,VLOOKUP(U212,判定式!$H$15:I$19,2,TRUE))))))))","v":false}]
[64,null,null,"-",null,null,null,null,null,null,null,null,{"$f":"IF($E213=\"\",\"\",VLOOKUP($E213,判定式!$P$3:$W$12,8,TRUE))","v":""},{"$f":"IF($F213=\"\",\"\",VLOOKUP($F213,判定式!$Q$3:$W$12,7,TRUE))","v":""},{"$f":"IF($G213=\"\",\"\",VLOOKUP($G213,判定式!$R$3:$W$12,6,TRUE))","v":""},{"$f":"IF($H213=\"\",\"\",VLOOKUP($H213,判定式!$S$3:$W$12,5,TRUE))","v":""},{"$f":"IF($I213=\"\",\"\",VLOOKUP($I213,判定式!$V$3:$W$12,2,TRUE))","v":""},{"$f":"IF($J213=\"\",\"\",VLOOKUP($J213,判定式!$Y$3:$Z$12,2,TRUE))","v":""},{"$f":"IF($K213=\"\",\"\",VLOOKUP($K213,判定式!$T$3:$W$12,4,TRUE))","v":""},{"$f":"IF($L213=\"\",\"\",VLOOKUP($L213,判定式!$U$3:$W$12,3,TRUE))","v":""},"",{"$f":"IF(ISNUMBER(D213),\"判定外\",IF(C213=6,VLOOKUP(U213,判定式!$C$15:I$19,7,TRUE),IF(C213=7,VLOOKUP(U213,判定式!$D$15:I$19,6,TRUE),IF(C213=8,VLOOKUP(U213,判定式!$E$15:I$19,5,TRUE),IF(C213=9,VLOOKUP(U213,判定式!$F$15:I$19,4,TRUE),IF(C213=10,VLOOKUP(U213,判定式!$G$15:I$19,3,TRUE),IF(C213=11,VLOOKUP(U213,判定式!$H$15:I$19,2,TRUE))))))))","v":false}]
[65,null,null,{"$f":"IF(COUNTBLANK(E214:L214)=0,\"\",IF(COUNTBLANK(E214:L214)=8,\"-\",COUNTBLANK(E214:L214)))","v":"-"},null,null,null,null,null,null,null,null,{"$f":"IF($E214=\"\",\"\",VLOOKUP($E214,判定式!$P$3:$W$12,8,TRUE))","v":""},{"$f":"IF($F214=\"\",\"\",VLOOKUP($F214,判定式!$Q$3:$W$12,7,TRUE))","v":""},{"$f":"IF($G214=\"\",\"\",VLOOKUP($G214,判定式!$R$3:$W$12,6,TRUE))","v":""},{"$f":"IF($H214=\"\",\"\",VLOOKUP($H214,判定式!$S$3:$W$12,5,TRUE))","v":""},{"$f":"IF($I214=\"\",\"\",VLOOKUP($I214,判定式!$V$3:$W$12,2,TRUE))","v":""},{"$f":"IF($J214=\"\",\"\",VLOOKUP($J214,判定式!$Y$3:$Z$12,2,TRUE))","v":""},{"$f":"IF($K214=\"\",\"\",VLOOKUP($K214,判定式!$T$3:$W$12,4,TRUE))","v":""},{"$f":"IF($L214=\"\",\"\",VLOOKUP($L214,判定式!$U$3:$W$12,3,TRUE))","v":""},{"$f":"IF(COUNTBLANK(M214:T214)=0,SUM(M214:T214),\"\")","v":""},{"$f":"IF(ISNUMBER(D214),\"判定外\",IF(C214=6,VLOOKUP(U214,判定式!$C$15:I$19,7,TRUE),IF(C214=7,VLOOKUP(U214,判定式!$D$15:I$19,6,TRUE),IF(C214=8,VLOOKUP(U214,判定式!$E$15:I$19,5,TRUE),IF(C214=9,VLOOKUP(U214,判定式!$F$15:I$19,4,TRUE),IF(C214=10,VLOOKUP(U214,判定式!$G$15:I$19,3,TRUE),IF(C214=11,VLOOKUP(U214,判定式!$H$15:I$19,2,TRUE))))))))","v":false}]
[66,null,null,"-",null,null,null,null,null,null,null,null,{"$f":"IF($E215=\"\",\"\",VLOOKUP($E215,判定式!$P$3:$W$12,8,TRUE))","v":""},{"$f":"IF($F215=\"\",\"\",VLOOKUP($F215,判定式!$Q$3:$W$12,7,TRUE))","v":""},{"$f":"IF($G215=\"\",\"\",VLOOKUP($G215,判定式!$R$3:$W$12,6,TRUE))","v":""},{"$f":"IF($H215=\"\",\"\",VLOOKUP($H215,判定式!$S$3:$W$12,5,TRUE))","v":""},{"$f":"IF($I215=\"\",\"\",VLOOKUP($I215,判定式!$V$3:$W$12,2,TRUE))","v":""},{"$f":"IF($J215=\"\",\"\",VLOOKUP($J215,判定式!$Y$3:$Z$12,2,TRUE))","v":""},{"$f":"IF($K215=\"\",\"\",VLOOKUP($K215,判定式!$T$3:$W$12,4,TRUE))","v":""},{"$f":"IF($L215=\"\",\"\",VLOOKUP($L215,判定式!$U$3:$W$12,3,TRUE))","v":""},"",{"$f":"IF(ISNUMBER(D215),\"判定外\",IF(C215=6,VLOOKUP(U215,判定式!$C$15:I$19,7,TRUE),IF(C215=7,VLOOKUP(U215,判定式!$D$15:I$19,6,TRUE),IF(C215=8,VLOOKUP(U215,判定式!$E$15:I$19,5,TRUE),IF(C215=9,VLOOKUP(U215,判定式!$F$15:I$19,4,TRUE),IF(C215=10,VLOOKUP(U215,判定式!$G$15:I$19,3,TRUE),IF(C215=11,VLOOKUP(U215,判定式!$H$15:I$19,2,TRUE))))))))","v":false}]
[67,null,null,"-",null,null,null,null,null,null,null,null,{"$f":"IF($E216=\"\",\"\",VLOOKUP($E216,判定式!$P$3:$W$12,8,TRUE))","v":""},{"$f":"IF($F216=\"\",\"\",VLOOKUP($F216,判定式!$Q$3:$W$12,7,TRUE))","v":""},{"$f":"IF($G216=\"\",\"\",VLOOKUP($G216,判定式!$R$3:$W$12,6,TRUE))","v":""},{"$f":"IF($H216=\"\",\"\",VLOOKUP($H216,判定式!$S$3:$W$12,5,TRUE))","v":""},{"$f":"IF($I216=\"\",\"\",VLOOKUP($I216,判定式!$V$3:$W$12,2,TRUE))","v":""},{"$f":"IF($J216=\"\",\"\",VLOOKUP($J216,判定式!$Y$3:$Z$12,2,TRUE))","v":""},{"$f":"IF($K216=\"\",\"\",VLOOKUP($K216,判定式!$T$3:$W$12,4,TRUE))","v":""},{"$f":"IF($L216=\"\",\"\",VLOOKUP($L216,判定式!$U$3:$W$12,3,TRUE))","v":""},"",{"$f":"IF(ISNUMBER(D216),\"判定外\",IF(C216=6,VLOOKUP(U216,判定式!$C$15:I$19,7,TRUE),IF(C216=7,VLOOKUP(U216,判定式!$D$15:I$19,6,TRUE),IF(C216=8,VLOOKUP(U216,判定式!$E$15:I$19,5,TRUE),IF(C216=9,VLOOKUP(U216,判定式!$F$15:I$19,4,TRUE),IF(C216=10,VLOOKUP(U216,判定式!$G$15:I$19,3,TRUE),IF(C216=11,VLOOKUP(U216,判定式!$H$15:I$19,2,TRUE))))))))","v":false}]
[68,null,null,"-",null,null,null,null,null,null,null,null,{"$f":"IF($E217=\"\",\"\",VLOOKUP($E217,判定式!$P$3:$W$12,8,TRUE))","v":""},{"$f":"IF($F217=\"\",\"\",VLOOKUP($F217,判定式!$Q$3:$W$12,7,TRUE))","v":""},{"$f":"IF($G217=\"\",\"\",VLOOKUP($G217,判定式!$R$3:$W$12,6,TRUE))","v":""},{"$f":"IF($H217=\"\",\"\",VLOOKUP($H217,判定式!$S$3:$W$12,5,TRUE))","v":""},{"$f":"IF($I217=\"\",\"\",VLOOKUP($I217,判定式!$V$3:$W$12,2,TRUE))","v":""},{"$f":"IF($J217=\"\",\"\",VLOOKUP($J217,判定式!$Y$3:$Z$12,2,TRUE))","v":""},{"$f":"IF($K217=\"\",\"\",VLOOKUP($K217,判定式!$T$3:$W$12,4,TRUE))","v":""},{"$f":"IF($L217=\"\",\"\",VLOOKUP($L217,判定式!$U$3:$W$12,3,TRUE))","v":""},"",{"$f":"IF(ISNUMBER(D217),\"判定外\",IF(C217=6,VLOOKUP(U217,判定式!$C$15:I$19,7,TRUE),IF(C217=7,VLOOKUP(U217,判定式!$D$15:I$19,6,TRUE),IF(C217=8,VLOOKUP(U217,判定式!$E$15:I$19,5,TRUE),IF(C217=9,VLOOKUP(U217,判定式!$F$15:I$19,4,TRUE),IF(C217=10,VLOOKUP(U217,判定式!$G$15:I$19,3,TRUE),IF(C217=11,VLOOKUP(U217,判定式!$H$15:I$19,2,TRUE))))))))","v":false}]
[69,null,null,"-",null,null,null,null,null,null,null,null,{"$f":"IF($E218=\"\",\"\",VLOOKUP($E218,判定式!$P$3:$W$12,8,TRUE))","v":""},{"$f":"IF($F218=\"\",\"\",VLOOKUP($F218,判定式!$Q$3:$W$12,7,TRUE))","v":""},{"$f":"IF($G218=\"\",\"\",VLOOKUP($G218,判定式!$R$3:$W$12,6,TRUE))","v":""},{"$f":"IF($H218=\"\",\"\",VLOOKUP($H218,判定式!$S$3:$W$12,5,TRUE))","v":""},{"$f":"IF($I218=\"\",\"\",VLOOKUP($I218,判定式!$V$3:$W$12,2,TRUE))","v":""},{"$f":"IF($J218=\"\",\"\",VLOOKUP($J218,判定式!$Y$3:$Z$12,2,TRUE))","v":""},{"$f":"IF($K218=\"\",\"\",VLOOKUP($K218,判定式!$T$3:$W$12,4,TRUE))","v":""},{"$f":"IF($L218=\"\",\"\",VLOOKUP($L218,判定式!$U$3:$W$12,3,TRUE))","v":""},"",{"$f":"IF(ISNUMBER(D218),\"判定外\",IF(C218=6,VLOOKUP(U218,判定式!$C$15:I$19,7,TRUE),IF(C218=7,VLOOKUP(U218,判定式!$D$15:I$19,6,TRUE),IF(C218=8,VLOOKUP(U218,判定式!$E$15:I$19,5,TRUE),IF(C218=9,VLOOKUP(U218,判定式!$F$15:I$19,4,TRUE),IF(C218=10,VLOOKUP(U218,判定式!$G$15:I$19,3,TRUE),IF(C218=11,VLOOKUP(U218,判定式!$H$15:I$19,2,TRUE))))))))","v":false}]
[70,null,null,"-",null,null,null,null,null,null,null,null,{"$f":"IF($E219=\"\",\"\",VLOOKUP($E219,判定式!$P$3:$W$12,8,TRUE))","v":""},{"$f":"IF($F219=\"\",\"\",VLOOKUP($F219,判定式!$Q$3:$W$12,7,TRUE))","v":""},{"$f":"IF($G219=\"\",\"\",VLOOKUP($G219,判定式!$R$3:$W$12,6,TRUE))","v":""},{"$f":"IF($H219=\"\",\"\",VLOOKUP($H219,判定式!$S$3:$W$12,5,TRUE))","v":""},{"$f":"IF($I219=\"\",\"\",VLOOKUP($I219,判定式!$V$3:$W$12,2,TRUE))","v":""},{"$f":"IF($J219=\"\",\"\",VLOOKUP($J219,判定式!$Y$3:$Z$12,2,TRUE))","v":""},{"$f":"IF($K219=\"\",\"\",VLOOKUP($K219,判定式!$T$3:$W$12,4,TRUE))","v":""},{"$f":"IF($L219=\"\",\"\",VLOOKUP($L219,判定式!$U$3:$W$12,3,TRUE))","v":""},"",{"$f":"IF(ISNUMBER(D219),\"判定外\",IF(C219=6,VLOOKUP(U219,判定式!$C$15:I$19,7,TRUE),IF(C219=7,VLOOKUP(U219,判定式!$D$15:I$19,6,TRUE),IF(C219=8,VLOOKUP(U219,判定式!$E$15:I$19,5,TRUE),IF(C219=9,VLOOKUP(U219,判定式!$F$15:I$19,4,TRUE),IF(C219=10,VLOOKUP(U219,判定式!$G$15:I$19,3,TRUE),IF(C219=11,VLOOKUP(U219,判定式!$H$15:I$19,2,TRUE))))))))","v":false}]
[71,null,null,"-",null,null,null,null,null,null,null,null,{"$f":"IF($E220=\"\",\"\",VLOOKUP($E220,判定式!$P$3:$W$12,8,TRUE))","v":""},{"$f":"IF($F220=\"\",\"\",VLOOKUP($F220,判定式!$Q$3:$W$12,7,TRUE))","v":""},{"$f":"IF($G220=\"\",\"\",VLOOKUP($G220,判定式!$R$3:$W$12,6,TRUE))","v":""},{"$f":"IF($H220=\"\",\"\",VLOOKUP($H220,判定式!$S$3:$W$12,5,TRUE))","v":""},{"$f":"IF($I220=\"\",\"\",VLOOKUP($I220,判定式!$V$3:$W$12,2,TRUE))","v":""},{"$f":"IF($J220=\"\",\"\",VLOOKUP($J220,判定式!$Y$3:$Z$12,2,TRUE))","v":""},{"$f":"IF($K220=\"\",\"\",VLOOKUP($K220,判定式!$T$3:$W$12,4,TRUE))","v":""},{"$f":"IF($L220=\"\",\"\",VLOOKUP($L220,判定式!$U$3:$W$12,3,TRUE))","v":""},"",{"$f":"IF(ISNUMBER(D220),\"判定外\",IF(C220=6,VLOOKUP(U220,判定式!$C$15:I$19,7,TRUE),IF(C220=7,VLOOKUP(U220,判定式!$D$15:I$19,6,TRUE),IF(C220=8,VLOOKUP(U220,判定式!$E$15:I$19,5,TRUE),IF(C220=9,VLOOKUP(U220,判定式!$F$15:I$19,4,TRUE),IF(C220=10,VLOOKUP(U220,判定式!$G$15:I$19,3,TRUE),IF(C220=11,VLOOKUP(U220,判定式!$H$15:I$19,2,TRUE))))))))","v":false}]
[72,null,null,"-",null,null,null,null,null,null,null,null,{"$f":"IF($E221=\"\",\"\",VLOOKUP($E221,判定式!$P$3:$W$12,8,TRUE))","v":""},{"$f":"IF($F221=\"\",\"\",VLOOKUP($F221,判定式!$Q$3:$W$12,7,TRUE))","v":""},{"$f":"IF($G221=\"\",\"\",VLOOKUP($G221,判定式!$R$3:$W$12,6,TRUE))","v":""},{"$f":"IF($H221=\"\",\"\",VLOOKUP($H221,判定式!$S$3:$W$12,5,TRUE))","v":""},{"$f":"IF($I221=\"\",\"\",VLOOKUP($I221,判定式!$V$3:$W$12,2,TRUE))","v":""},{"$f":"IF($J221=\"\",\"\",VLOOKUP($J221,判定式!$Y$3:$Z$12,2,TRUE))","v":""},{"$f":"IF($K221=\"\",\"\",VLOOKUP($K221,判定式!$T$3:$W$12,4,TRUE))","v":""},{"$f":"IF($L221=\"\",\"\",VLOOKUP($L221,判定式!$U$3:$W$12,3,TRUE))","v":""},"",{"$f":"IF(ISNUMBER(D221),\"判定外\",IF(C221=6,VLOOKUP(U221,判定式!$C$15:I$19,7,TRUE),IF(C221=7,VLOOKUP(U221,判定式!$D$15:I$19,6,TRUE),IF(C221=8,VLOOKUP(U221,判定式!$E$15:I$19,5,TRUE),IF(C221=9,VLOOKUP(U221,判定式!$F$15:I$19,4,TRUE),IF(C221=10,VLOOKUP(U221,判定式!$G$15:I$19,3,TRUE),IF(C221=11,VLOOKUP(U221,判定式!$H$15:I$19,2,TRUE))))))))","v":false}]
[73,null,null,"-",null,null,null,null,null,null,null,null,{"$f":"IF($E222=\"\",\"\",VLOOKUP($E222,判定式!$P$3:$W$12,8,TRUE))","v":""},{"$f":"IF($F222=\"\",\"\",VLOOKUP($F222,判定式!$Q$3:$W$12,7,TRUE))","v":""},{"$f":"IF($G222=\"\",\"\",VLOOKUP($G222,判定式!$R$3:$W$12,6,TRUE))","v":""},{"$f":"IF($H222=\"\",\"\",VLOOKUP($H222,判定式!$S$3:$W$12,5,TRUE))","v":""},{"$f":"IF($I222=\"\",\"\",VLOOKUP($I222,判定式!$V$3:$W$12,2,TRUE))","v":""},{"$f":"IF($J222=\"\",\"\",VLOOKUP($J222,判定式!$Y$3:$Z$12,2,TRUE))","v":""},{"$f":"IF($K222=\"\",\"\",VLOOKUP($K222,判定式!$T$3:$W$12,4,TRUE))","v":""},{"$f":"IF($L222=\"\",\"\",VLOOKUP($L222,判定式!$U$3:$W$12,3,TRUE))","v":""},"",{"$f":"IF(ISNUMBER(D222),\"判定外\",IF(C222=6,VLOOKUP(U222,判定式!$C$15:I$19,7,TRUE),IF(C222=7,VLOOKUP(U222,判定式!$D$15:I$19,6,TRUE),IF(C222=8,VLOOKUP(U222,判定式!$E$15:I$19,5,TRUE),IF(C222=9,VLOOKUP(U222,判定式!$F$15:I$19,4,TRUE),IF(C222=10,VLOOKUP(U222,判定式!$G$15:I$19,3,TRUE),IF(C222=11,VLOOKUP(U222,判定式!$H$15:I$19,2,TRUE))))))))","v":false}]
[74,null,null,"-",null,null,null,null,null,null,null,null,{"$f":"IF($E223=\"\",\"\",VLOOKUP($E223,判定式!$P$3:$W$12,8,TRUE))","v":""},{"$f":"IF($F223=\"\",\"\",VLOOKUP($F223,判定式!$Q$3:$W$12,7,TRUE))","v":""},{"$f":"IF($G223=\"\",\"\",VLOOKUP($G223,判定式!$R$3:$W$12,6,TRUE))","v":""},{"$f":"IF($H223=\"\",\"\",VLOOKUP($H223,判定式!$S$3:$W$12,5,TRUE))","v":""},{"$f":"IF($I223=\"\",\"\",VLOOKUP($I223,判定式!$V$3:$W$12,2,TRUE))","v":""},{"$f":"IF($J223=\"\",\"\",VLOOKUP($J223,判定式!$Y$3:$Z$12,2,TRUE))","v":""},{"$f":"IF($K223=\"\",\"\",VLOOKUP($K223,判定式!$T$3:$W$12,4,TRUE))","v":""},{"$f":"IF($L223=\"\",\"\",VLOOKUP($L223,判定式!$U$3:$W$12,3,TRUE))","v":""},"",{"$f":"IF(ISNUMBER(D223),\"判定外\",IF(C223=6,VLOOKUP(U223,判定式!$C$15:I$19,7,TRUE),IF(C223=7,VLOOKUP(U223,判定式!$D$15:I$19,6,TRUE),IF(C223=8,VLOOKUP(U223,判定式!$E$15:I$19,5,TRUE),IF(C223=9,VLOOKUP(U223,判定式!$F$15:I$19,4,TRUE),IF(C223=10,VLOOKUP(U223,判定式!$G$15:I$19,3,TRUE),IF(C223=11,VLOOKUP(U223,判定式!$H$15:I$19,2,TRUE))))))))","v":false}]
[75,null,null,"-",null,null,null,null,null,null,null,null,{"$f":"IF($E224=\"\",\"\",VLOOKUP($E224,判定式!$P$3:$W$12,8,TRUE))","v":""},{"$f":"IF($F224=\"\",\"\",VLOOKUP($F224,判定式!$Q$3:$W$12,7,TRUE))","v":""},{"$f":"IF($G224=\"\",\"\",VLOOKUP($G224,判定式!$R$3:$W$12,6,TRUE))","v":""},{"$f":"IF($H224=\"\",\"\",VLOOKUP($H224,判定式!$S$3:$W$12,5,TRUE))","v":""},{"$f":"IF($I224=\"\",\"\",VLOOKUP($I224,判定式!$V$3:$W$12,2,TRUE))","v":""},{"$f":"IF($J224=\"\",\"\",VLOOKUP($J224,判定式!$Y$3:$Z$12,2,TRUE))","v":""},{"$f":"IF($K224=\"\",\"\",VLOOKUP($K224,判定式!$T$3:$W$12,4,TRUE))","v":""},{"$f":"IF($L224=\"\",\"\",VLOOKUP($L224,判定式!$U$3:$W$12,3,TRUE))","v":""},"",{"$f":"IF(ISNUMBER(D224),\"判定外\",IF(C224=6,VLOOKUP(U224,判定式!$C$15:I$19,7,TRUE),IF(C224=7,VLOOKUP(U224,判定式!$D$15:I$19,6,TRUE),IF(C224=8,VLOOKUP(U224,判定式!$E$15:I$19,5,TRUE),IF(C224=9,VLOOKUP(U224,判定式!$F$15:I$19,4,TRUE),IF(C224=10,VLOOKUP(U224,判定式!$G$15:I$19,3,TRUE),IF(C224=11,VLOOKUP(U224,判定式!$H$15:I$19,2,TRUE))))))))","v":false}]
[76,null,null,"-",null,null,null,null,null,null,null,null,{"$f":"IF($E225=\"\",\"\",VLOOKUP($E225,判定式!$P$3:$W$12,8,TRUE))","v":""},{"$f":"IF($F225=\"\",\"\",VLOOKUP($F225,判定式!$Q$3:$W$12,7,TRUE))","v":""},{"$f":"IF($G225=\"\",\"\",VLOOKUP($G225,判定式!$R$3:$W$12,6,TRUE))","v":""},{"$f":"IF($H225=\"\",\"\",VLOOKUP($H225,判定式!$S$3:$W$12,5,TRUE))","v":""},{"$f":"IF($I225=\"\",\"\",VLOOKUP($I225,判定式!$V$3:$W$12,2,TRUE))","v":""},{"$f":"IF($J225=\"\",\"\",VLOOKUP($J225,判定式!$Y$3:$Z$12,2,TRUE))","v":""},{"$f":"IF($K225=\"\",\"\",VLOOKUP($K225,判定式!$T$3:$W$12,4,TRUE))","v":""},{"$f":"IF($L225=\"\",\"\",VLOOKUP($L225,判定式!$U$3:$W$12,3,TRUE))","v":""},"",{"$f":"IF(ISNUMBER(D225),\"判定外\",IF(C225=6,VLOOKUP(U225,判定式!$C$15:I$19,7,TRUE),IF(C225=7,VLOOKUP(U225,判定式!$D$15:I$19,6,TRUE),IF(C225=8,VLOOKUP(U225,判定式!$E$15:I$19,5,TRUE),IF(C225=9,VLOOKUP(U225,判定式!$F$15:I$19,4,TRUE),IF(C225=10,VLOOKUP(U225,判定式!$G$15:I$19,3,TRUE),IF(C225=11,VLOOKUP(U225,判定式!$H$15:I$19,2,TRUE))))))))","v":false}]
[77,null,null,"-",null,null,null,null,null,null,null,null,{"$f":"IF($E226=\"\",\"\",VLOOKUP($E226,判定式!$P$3:$W$12,8,TRUE))","v":""},{"$f":"IF($F226=\"\",\"\",VLOOKUP($F226,判定式!$Q$3:$W$12,7,TRUE))","v":""},{"$f":"IF($G226=\"\",\"\",VLOOKUP($G226,判定式!$R$3:$W$12,6,TRUE))","v":""},{"$f":"IF($H226=\"\",\"\",VLOOKUP($H226,判定式!$S$3:$W$12,5,TRUE))","v":""},{"$f":"IF($I226=\"\",\"\",VLOOKUP($I226,判定式!$V$3:$W$12,2,TRUE))","v":""},{"$f":"IF($J226=\"\",\"\",VLOOKUP($J226,判定式!$Y$3:$Z$12,2,TRUE))","v":""},{"$f":"IF($K226=\"\",\"\",VLOOKUP($K226,判定式!$T$3:$W$12,4,TRUE))","v":""},{"$f":"IF($L226=\"\",\"\",VLOOKUP($L226,判定式!$U$3:$W$12,3,TRUE))","v":""},"",{"$f":"IF(ISNUMBER(D226),\"判定外\",IF(C226=6,VLOOKUP(U226,判定式!$C$15:I$19,7,TRUE),IF(C226=7,VLOOKUP(U226,判定式!$D$15:I$19,6,TRUE),IF(C226=8,VLOOKUP(U226,判定式!$E$15:I$19,5,TRUE),IF(C226=9,VLOOKUP(U226,判定式!$F$15:I$19,4,TRUE),IF(C226=10,VLOOKUP(U226,判定式!$G$15:I$19,3,TRUE),IF(C226=11,VLOOKUP(U226,判定式!$H$15:I$19,2,TRUE))))))))","v":false}]
[78,null,null,"-",null,null,null,null,null,null,null,null,{"$f":"IF($E227=\"\",\"\",VLOOKUP($E227,判定式!$P$3:$W$12,8,TRUE))","v":""},{"$f":"IF($F227=\"\",\"\",VLOOKUP($F227,判定式!$Q$3:$W$12,7,TRUE))","v":""},{"$f":"IF($G227=\"\",\"\",VLOOKUP($G227,判定式!$R$3:$W$12,6,TRUE))","v":""},{"$f":"IF($H227=\"\",\"\",VLOOKUP($H227,判定式!$S$3:$W$12,5,TRUE))","v":""},{"$f":"IF($I227=\"\",\"\",VLOOKUP($I227,判定式!$V$3:$W$12,2,TRUE))","v":""},{"$f":"IF($J227=\"\",\"\",VLOOKUP($J227,判定式!$Y$3:$Z$12,2,TRUE))","v":""},{"$f":"IF($K227=\"\",\"\",VLOOKUP($K227,判定式!$T$3:$W$12,4,TRUE))","v":""},{"$f":"IF($L227=\"\",\"\",VLOOKUP($L227,判定式!$U$3:$W$12,3,TRUE))","v":""},"",{"$f":"IF(ISNUMBER(D227),\"判定外\",IF(C227=6,VLOOKUP(U227,判定式!$C$15:I$19,7,TRUE),IF(C227=7,VLOOKUP(U227,判定式!$D$15:I$19,6,TRUE),IF(C227=8,VLOOKUP(U227,判定式!$E$15:I$19,5,TRUE),IF(C227=9,VLOOKUP(U227,判定式!$F$15:I$19,4,TRUE),IF(C227=10,VLOOKUP(U227,判定式!$G$15:I$19,3,TRUE),IF(C227=11,VLOOKUP(U227,判定式!$H$15:I$19,2,TRUE))))))))","v":false}]
[79,null,null,"-",null,null,null,null,null,null,null,null,{"$f":"IF($E228=\"\",\"\",VLOOKUP($E228,判定式!$P$3:$W$12,8,TRUE))","v":""},{"$f":"IF($F228=\"\",\"\",VLOOKUP($F228,判定式!$Q$3:$W$12,7,TRUE))","v":""},{"$f":"IF($G228=\"\",\"\",VLOOKUP($G228,判定式!$R$3:$W$12,6,TRUE))","v":""},{"$f":"IF($H228=\"\",\"\",VLOOKUP($H228,判定式!$S$3:$W$12,5,TRUE))","v":""},{"$f":"IF($I228=\"\",\"\",VLOOKUP($I228,判定式!$V$3:$W$12,2,TRUE))","v":""},{"$f":"IF($J228=\"\",\"\",VLOOKUP($J228,判定式!$Y$3:$Z$12,2,TRUE))","v":""},{"$f":"IF($K228=\"\",\"\",VLOOKUP($K228,判定式!$T$3:$W$12,4,TRUE))","v":""},{"$f":"IF($L228=\"\",\"\",VLOOKUP($L228,判定式!$U$3:$W$12,3,TRUE))","v":""},"",{"$f":"IF(ISNUMBER(D228),\"判定外\",IF(C228=6,VLOOKUP(U228,判定式!$C$15:I$19,7,TRUE),IF(C228=7,VLOOKUP(U228,判定式!$D$15:I$19,6,TRUE),IF(C228=8,VLOOKUP(U228,判定式!$E$15:I$19,5,TRUE),IF(C228=9,VLOOKUP(U228,判定式!$F$15:I$19,4,TRUE),IF(C228=10,VLOOKUP(U228,判定式!$G$15:I$19,3,TRUE),IF(C228=11,VLOOKUP(U228,判定式!$H$15:I$19,2,TRUE))))))))","v":false}]
[80,null,null,"-",null,null,null,null,null,null,null,null,{"$f":"IF($E229=\"\",\"\",VLOOKUP($E229,判定式!$P$3:$W$12,8,TRUE))","v":""},{"$f":"IF($F229=\"\",\"\",VLOOKUP($F229,判定式!$Q$3:$W$12,7,TRUE))","v":""},{"$f":"IF($G229=\"\",\"\",VLOOKUP($G229,判定式!$R$3:$W$12,6,TRUE))","v":""},{"$f":"IF($H229=\"\",\"\",VLOOKUP($H229,判定式!$S$3:$W$12,5,TRUE))","v":""},{"$f":"IF($I229=\"\",\"\",VLOOKUP($I229,判定式!$V$3:$W$12,2,TRUE))","v":""},{"$f":"IF($J229=\"\",\"\",VLOOKUP($J229,判定式!$Y$3:$Z$12,2,TRUE))","v":""},{"$f":"IF($K229=\"\",\"\",VLOOKUP($K229,判定式!$T$3:$W$12,4,TRUE))","v":""},{"$f":"IF($L229=\"\",\"\",VLOOKUP($L229,判定式!$U$3:$W$12,3,TRUE))","v":""},"",{"$f":"IF(ISNUMBER(D229),\"判定外\",IF(C229=6,VLOOKUP(U229,判定式!$C$15:I$19,7,TRUE),IF(C229=7,VLOOKUP(U229,判定式!$D$15:I$19,6,TRUE),IF(C229=8,VLOOKUP(U229,判定式!$E$15:I$19,5,TRUE),IF(C229=9,VLOOKUP(U229,判定式!$F$15:I$19,4,TRUE),IF(C229=10,VLOOKUP(U229,判定式!$G$15:I$19,3,TRUE),IF(C229=11,VLOOKUP(U229,判定式!$H$15:I$19,2,TRUE))))))))","v":false}]
[81,null,null,"-",null,null,null,null,null,null,null,null,{"$f":"IF($E230=\"\",\"\",VLOOKUP($E230,判定式!$P$3:$W$12,8,TRUE))","v":""},{"$f":"IF($F230=\"\",\"\",VLOOKUP($F230,判定式!$Q$3:$W$12,7,TRUE))","v":""},{"$f":"IF($G230=\"\",\"\",VLOOKUP($G230,判定式!$R$3:$W$12,6,TRUE))","v":""},{"$f":"IF($H230=\"\",\"\",VLOOKUP($H230,判定式!$S$3:$W$12,5,TRUE))","v":""},{"$f":"IF($I230=\"\",\"\",VLOOKUP($I230,判定式!$V$3:$W$12,2,TRUE))","v":""},{"$f":"IF($J230=\"\",\"\",VLOOKUP($J230,判定式!$Y$3:$Z$12,2,TRUE))","v":""},{"$f":"IF($K230=\"\",\"\",VLOOKUP($K230,判定式!$T$3:$W$12,4,TRUE))","v":""},{"$f":"IF($L230=\"\",\"\",VLOOKUP($L230,判定式!$U$3:$W$12,3,TRUE))","v":""},"",{"$f":"IF(ISNUMBER(D230),\"判定外\",IF(C230=6,VLOOKUP(U230,判定式!$C$15:I$19,7,TRUE),IF(C230=7,VLOOKUP(U230,判定式!$D$15:I$19,6,TRUE),IF(C230=8,VLOOKUP(U230,判定式!$E$15:I$19,5,TRUE),IF(C230=9,VLOOKUP(U230,判定式!$F$15:I$19,4,TRUE),IF(C230=10,VLOOKUP(U230,判定式!$G$15:I$19,3,TRUE),IF(C230=11,VLOOKUP(U230,判定式!$H$15:I$19,2,TRUE))))))))","v":false}]
[82,null,null,"-",null,null,null,null,null,null,null,null,{"$f":"IF($E231=\"\",\"\",VLOOKUP($E231,判定式!$P$3:$W$12,8,TRUE))","v":""},{"$f":"IF($F231=\"\",\"\",VLOOKUP($F231,判定式!$Q$3:$W$12,7,TRUE))","v":""},{"$f":"IF($G231=\"\",\"\",VLOOKUP($G231,判定式!$R$3:$W$12,6,TRUE))","v":""},{"$f":"IF($H231=\"\",\"\",VLOOKUP($H231,判定式!$S$3:$W$12,5,TRUE))","v":""},{"$f":"IF($I231=\"\",\"\",VLOOKUP($I231,判定式!$V$3:$W$12,2,TRUE))","v":""},{"$f":"IF($J231=\"\",\"\",VLOOKUP($J231,判定式!$Y$3:$Z$12,2,TRUE))","v":""},{"$f":"IF($K231=\"\",\"\",VLOOKUP($K231,判定式!$T$3:$W$12,4,TRUE))","v":""},{"$f":"IF($L231=\"\",\"\",VLOOKUP($L231,判定式!$U$3:$W$12,3,TRUE))","v":""},"",{"$f":"IF(ISNUMBER(D231),\"判定外\",IF(C231=6,VLOOKUP(U231,判定式!$C$15:I$19,7,TRUE),IF(C231=7,VLOOKUP(U231,判定式!$D$15:I$19,6,TRUE),IF(C231=8,VLOOKUP(U231,判定式!$E$15:I$19,5,TRUE),IF(C231=9,VLOOKUP(U231,判定式!$F$15:I$19,4,TRUE),IF(C231=10,VLOOKUP(U231,判定式!$G$15:I$19,3,TRUE),IF(C231=11,VLOOKUP(U231,判定式!$H$15:I$19,2,TRUE))))))))","v":false}]
[83,null,null,"-",null,null,null,null,null,null,null,null,{"$f":"IF($E232=\"\",\"\",VLOOKUP($E232,判定式!$P$3:$W$12,8,TRUE))","v":""},{"$f":"IF($F232=\"\",\"\",VLOOKUP($F232,判定式!$Q$3:$W$12,7,TRUE))","v":""},{"$f":"IF($G232=\"\",\"\",VLOOKUP($G232,判定式!$R$3:$W$12,6,TRUE))","v":""},{"$f":"IF($H232=\"\",\"\",VLOOKUP($H232,判定式!$S$3:$W$12,5,TRUE))","v":""},{"$f":"IF($I232=\"\",\"\",VLOOKUP($I232,判定式!$V$3:$W$12,2,TRUE))","v":""},{"$f":"IF($J232=\"\",\"\",VLOOKUP($J232,判定式!$Y$3:$Z$12,2,TRUE))","v":""},{"$f":"IF($K232=\"\",\"\",VLOOKUP($K232,判定式!$T$3:$W$12,4,TRUE))","v":""},{"$f":"IF($L232=\"\",\"\",VLOOKUP($L232,判定式!$U$3:$W$12,3,TRUE))","v":""},"",{"$f":"IF(ISNUMBER(D232),\"判定外\",IF(C232=6,VLOOKUP(U232,判定式!$C$15:I$19,7,TRUE),IF(C232=7,VLOOKUP(U232,判定式!$D$15:I$19,6,TRUE),IF(C232=8,VLOOKUP(U232,判定式!$E$15:I$19,5,TRUE),IF(C232=9,VLOOKUP(U232,判定式!$F$15:I$19,4,TRUE),IF(C232=10,VLOOKUP(U232,判定式!$G$15:I$19,3,TRUE),IF(C232=11,VLOOKUP(U232,判定式!$H$15:I$19,2,TRUE))))))))","v":false}]
[84,null,null,"-",null,null,null,null,null,null,null,null,{"$f":"IF($E233=\"\",\"\",VLOOKUP($E233,判定式!$P$3:$W$12,8,TRUE))","v":""},{"$f":"IF($F233=\"\",\"\",VLOOKUP($F233,判定式!$Q$3:$W$12,7,TRUE))","v":""},{"$f":"IF($G233=\"\",\"\",VLOOKUP($G233,判定式!$R$3:$W$12,6,TRUE))","v":""},{"$f":"IF($H233=\"\",\"\",VLOOKUP($H233,判定式!$S$3:$W$12,5,TRUE))","v":""},{"$f":"IF($I233=\"\",\"\",VLOOKUP($I233,判定式!$V$3:$W$12,2,TRUE))","v":""},{"$f":"IF($J233=\"\",\"\",VLOOKUP($J233,判定式!$Y$3:$Z$12,2,TRUE))","v":""},{"$f":"IF($K233=\"\",\"\",VLOOKUP($K233,判定式!$T$3:$W$12,4,TRUE))","v":""},{"$f":"IF($L233=\"\",\"\",VLOOKUP($L233,判定式!$U$3:$W$12,3,TRUE))","v":""},"",{"$f":"IF(ISNUMBER(D233),\"判定外\",IF(C233=6,VLOOKUP(U233,判定式!$C$15:I$19,7,TRUE),IF(C233=7,VLOOKUP(U233,判定式!$D$15:I$19,6,TRUE),IF(C233=8,VLOOKUP(U233,判定式!$E$15:I$19,5,TRUE),IF(C233=9,VLOOKUP(U233,判定式!$F$15:I$19,4,TRUE),IF(C233=10,VLOOKUP(U233,判定式!$G$15:I$19,3,TRUE),IF(C233=11,VLOOKUP(U233,判定式!$H$15:I$19,2,TRUE))))))))","v":false}]
[85,null,null,"-",null,null,null,null,null,null,null,null,{"$f":"IF($E234=\"\",\"\",VLOOKUP($E234,判定式!$P$3:$W$12,8,TRUE))","v":""},{"$f":"IF($F234=\"\",\"\",VLOOKUP($F234,判定式!$Q$3:$W$12,7,TRUE))","v":""},{"$f":"IF($G234=\"\",\"\",VLOOKUP($G234,判定式!$R$3:$W$12,6,TRUE))","v":""},{"$f":"IF($H234=\"\",\"\",VLOOKUP($H234,判定式!$S$3:$W$12,5,TRUE))","v":""},{"$f":"IF($I234=\"\",\"\",VLOOKUP($I234,判定式!$V$3:$W$12,2,TRUE))","v":""},{"$f":"IF($J234=\"\",\"\",VLOOKUP($J234,判定式!$Y$3:$Z$12,2,TRUE))","v":""},{"$f":"IF($K234=\"\",\"\",VLOOKUP($K234,判定式!$T$3:$W$12,4,TRUE))","v":""},{"$f":"IF($L234=\"\",\"\",VLOOKUP($L234,判定式!$U$3:$W$12,3,TRUE))","v":""},"",{"$f":"IF(ISNUMBER(D234),\"判定外\",IF(C234=6,VLOOKUP(U234,判定式!$C$15:I$19,7,TRUE),IF(C234=7,VLOOKUP(U234,判定式!$D$15:I$19,6,TRUE),IF(C234=8,VLOOKUP(U234,判定式!$E$15:I$19,5,TRUE),IF(C234=9,VLOOKUP(U234,判定式!$F$15:I$19,4,TRUE),IF(C234=10,VLOOKUP(U234,判定式!$G$15:I$19,3,TRUE),IF(C234=11,VLOOKUP(U234,判定式!$H$15:I$19,2,TRUE))))))))","v":false}]
[86,null,null,"-",null,null,null,null,null,null,null,null,{"$f":"IF($E235=\"\",\"\",VLOOKUP($E235,判定式!$P$3:$W$12,8,TRUE))","v":""},{"$f":"IF($F235=\"\",\"\",VLOOKUP($F235,判定式!$Q$3:$W$12,7,TRUE))","v":""},{"$f":"IF($G235=\"\",\"\",VLOOKUP($G235,判定式!$R$3:$W$12,6,TRUE))","v":""},{"$f":"IF($H235=\"\",\"\",VLOOKUP($H235,判定式!$S$3:$W$12,5,TRUE))","v":""},{"$f":"IF($I235=\"\",\"\",VLOOKUP($I235,判定式!$V$3:$W$12,2,TRUE))","v":""},{"$f":"IF($J235=\"\",\"\",VLOOKUP($J235,判定式!$Y$3:$Z$12,2,TRUE))","v":""},{"$f":"IF($K235=\"\",\"\",VLOOKUP($K235,判定式!$T$3:$W$12,4,TRUE))","v":""},{"$f":"IF($L235=\"\",\"\",VLOOKUP($L235,判定式!$U$3:$W$12,3,TRUE))","v":""},"",{"$f":"IF(ISNUMBER(D235),\"判定外\",IF(C235=6,VLOOKUP(U235,判定式!$C$15:I$19,7,TRUE),IF(C235=7,VLOOKUP(U235,判定式!$D$15:I$19,6,TRUE),IF(C235=8,VLOOKUP(U235,判定式!$E$15:I$19,5,TRUE),IF(C235=9,VLOOKUP(U235,判定式!$F$15:I$19,4,TRUE),IF(C235=10,VLOOKUP(U235,判定式!$G$15:I$19,3,TRUE),IF(C235=11,VLOOKUP(U235,判定式!$H$15:I$19,2,TRUE))))))))","v":false}]
[87,null,null,"-",null,null,null,null,null,null,null,null,{"$f":"IF($E236=\"\",\"\",VLOOKUP($E236,判定式!$P$3:$W$12,8,TRUE))","v":""},{"$f":"IF($F236=\"\",\"\",VLOOKUP($F236,判定式!$Q$3:$W$12,7,TRUE))","v":""},{"$f":"IF($G236=\"\",\"\",VLOOKUP($G236,判定式!$R$3:$W$12,6,TRUE))","v":""},{"$f":"IF($H236=\"\",\"\",VLOOKUP($H236,判定式!$S$3:$W$12,5,TRUE))","v":""},{"$f":"IF($I236=\"\",\"\",VLOOKUP($I236,判定式!$V$3:$W$12,2,TRUE))","v":""},{"$f":"IF($J236=\"\",\"\",VLOOKUP($J236,判定式!$Y$3:$Z$12,2,TRUE))","v":""},{"$f":"IF($K236=\"\",\"\",VLOOKUP($K236,判定式!$T$3:$W$12,4,TRUE))","v":""},{"$f":"IF($L236=\"\",\"\",VLOOKUP($L236,判定式!$U$3:$W$12,3,TRUE))","v":""},"",{"$f":"IF(ISNUMBER(D236),\"判定外\",IF(C236=6,VLOOKUP(U236,判定式!$C$15:I$19,7,TRUE),IF(C236=7,VLOOKUP(U236,判定式!$D$15:I$19,6,TRUE),IF(C236=8,VLOOKUP(U236,判定式!$E$15:I$19,5,TRUE),IF(C236=9,VLOOKUP(U236,判定式!$F$15:I$19,4,TRUE),IF(C236=10,VLOOKUP(U236,判定式!$G$15:I$19,3,TRUE),IF(C236=11,VLOOKUP(U236,判定式!$H$15:I$19,2,TRUE))))))))","v":false}]
[88,null,null,"-",null,null,null,null,null,null,null,null,{"$f":"IF($E237=\"\",\"\",VLOOKUP($E237,判定式!$P$3:$W$12,8,TRUE))","v":""},{"$f":"IF($F237=\"\",\"\",VLOOKUP($F237,判定式!$Q$3:$W$12,7,TRUE))","v":""},{"$f":"IF($G237=\"\",\"\",VLOOKUP($G237,判定式!$R$3:$W$12,6,TRUE))","v":""},{"$f":"IF($H237=\"\",\"\",VLOOKUP($H237,判定式!$S$3:$W$12,5,TRUE))","v":""},{"$f":"IF($I237=\"\",\"\",VLOOKUP($I237,判定式!$V$3:$W$12,2,TRUE))","v":""},{"$f":"IF($J237=\"\",\"\",VLOOKUP($J237,判定式!$Y$3:$Z$12,2,TRUE))","v":""},{"$f":"IF($K237=\"\",\"\",VLOOKUP($K237,判定式!$T$3:$W$12,4,TRUE))","v":""},{"$f":"IF($L237=\"\",\"\",VLOOKUP($L237,判定式!$U$3:$W$12,3,TRUE))","v":""},"",{"$f":"IF(ISNUMBER(D237),\"判定外\",IF(C237=6,VLOOKUP(U237,判定式!$C$15:I$19,7,TRUE),IF(C237=7,VLOOKUP(U237,判定式!$D$15:I$19,6,TRUE),IF(C237=8,VLOOKUP(U237,判定式!$E$15:I$19,5,TRUE),IF(C237=9,VLOOKUP(U237,判定式!$F$15:I$19,4,TRUE),IF(C237=10,VLOOKUP(U237,判定式!$G$15:I$19,3,TRUE),IF(C237=11,VLOOKUP(U237,判定式!$H$15:I$19,2,TRUE))))))))","v":false}]
[89,null,null,"-",null,null,null,null,null,null,null,null,{"$f":"IF($E238=\"\",\"\",VLOOKUP($E238,判定式!$P$3:$W$12,8,TRUE))","v":""},{"$f":"IF($F238=\"\",\"\",VLOOKUP($F238,判定式!$Q$3:$W$12,7,TRUE))","v":""},{"$f":"IF($G238=\"\",\"\",VLOOKUP($G238,判定式!$R$3:$W$12,6,TRUE))","v":""},{"$f":"IF($H238=\"\",\"\",VLOOKUP($H238,判定式!$S$3:$W$12,5,TRUE))","v":""},{"$f":"IF($I238=\"\",\"\",VLOOKUP($I238,判定式!$V$3:$W$12,2,TRUE))","v":""},{"$f":"IF($J238=\"\",\"\",VLOOKUP($J238,判定式!$Y$3:$Z$12,2,TRUE))","v":""},{"$f":"IF($K238=\"\",\"\",VLOOKUP($K238,判定式!$T$3:$W$12,4,TRUE))","v":""},{"$f":"IF($L238=\"\",\"\",VLOOKUP($L238,判定式!$U$3:$W$12,3,TRUE))","v":""},"",{"$f":"IF(ISNUMBER(D238),\"判定外\",IF(C238=6,VLOOKUP(U238,判定式!$C$15:I$19,7,TRUE),IF(C238=7,VLOOKUP(U238,判定式!$D$15:I$19,6,TRUE),IF(C238=8,VLOOKUP(U238,判定式!$E$15:I$19,5,TRUE),IF(C238=9,VLOOKUP(U238,判定式!$F$15:I$19,4,TRUE),IF(C238=10,VLOOKUP(U238,判定式!$G$15:I$19,3,TRUE),IF(C238=11,VLOOKUP(U238,判定式!$H$15:I$19,2,TRUE))))))))","v":false}]
[90,null,null,"-",null,null,null,null,null,null,null,null,{"$f":"IF($E239=\"\",\"\",VLOOKUP($E239,判定式!$P$3:$W$12,8,TRUE))","v":""},{"$f":"IF($F239=\"\",\"\",VLOOKUP($F239,判定式!$Q$3:$W$12,7,TRUE))","v":""},{"$f":"IF($G239=\"\",\"\",VLOOKUP($G239,判定式!$R$3:$W$12,6,TRUE))","v":""},{"$f":"IF($H239=\"\",\"\",VLOOKUP($H239,判定式!$S$3:$W$12,5,TRUE))","v":""},{"$f":"IF($I239=\"\",\"\",VLOOKUP($I239,判定式!$V$3:$W$12,2,TRUE))","v":""},{"$f":"IF($J239=\"\",\"\",VLOOKUP($J239,判定式!$Y$3:$Z$12,2,TRUE))","v":""},{"$f":"IF($K239=\"\",\"\",VLOOKUP($K239,判定式!$T$3:$W$12,4,TRUE))","v":""},{"$f":"IF($L239=\"\",\"\",VLOOKUP($L239,判定式!$U$3:$W$12,3,TRUE))","v":""},"",{"$f":"IF(ISNUMBER(D239),\"判定外\",IF(C239=6,VLOOKUP(U239,判定式!$C$15:I$19,7,TRUE),IF(C239=7,VLOOKUP(U239,判定式!$D$15:I$19,6,TRUE),IF(C239=8,VLOOKUP(U239,判定式!$E$15:I$19,5,TRUE),IF(C239=9,VLOOKUP(U239,判定式!$F$15:I$19,4,TRUE),IF(C239=10,VLOOKUP(U239,判定式!$G$15:I$19,3,TRUE),IF(C239=11,VLOOKUP(U239,判定式!$H$15:I$19,2,TRUE))))))))","v":false}]
[91,null,null,"-",null,null,null,null,null,null,null,null,{"$f":"IF($E240=\"\",\"\",VLOOKUP($E240,判定式!$P$3:$W$12,8,TRUE))","v":""},{"$f":"IF($F240=\"\",\"\",VLOOKUP($F240,判定式!$Q$3:$W$12,7,TRUE))","v":""},{"$f":"IF($G240=\"\",\"\",VLOOKUP($G240,判定式!$R$3:$W$12,6,TRUE))","v":""},{"$f":"IF($H240=\"\",\"\",VLOOKUP($H240,判定式!$S$3:$W$12,5,TRUE))","v":""},{"$f":"IF($I240=\"\",\"\",VLOOKUP($I240,判定式!$V$3:$W$12,2,TRUE))","v":""},{"$f":"IF($J240=\"\",\"\",VLOOKUP($J240,判定式!$Y$3:$Z$12,2,TRUE))","v":""},{"$f":"IF($K240=\"\",\"\",VLOOKUP($K240,判定式!$T$3:$W$12,4,TRUE))","v":""},{"$f":"IF($L240=\"\",\"\",VLOOKUP($L240,判定式!$U$3:$W$12,3,TRUE))","v":""},"",{"$f":"IF(ISNUMBER(D240),\"判定外\",IF(C240=6,VLOOKUP(U240,判定式!$C$15:I$19,7,TRUE),IF(C240=7,VLOOKUP(U240,判定式!$D$15:I$19,6,TRUE),IF(C240=8,VLOOKUP(U240,判定式!$E$15:I$19,5,TRUE),IF(C240=9,VLOOKUP(U240,判定式!$F$15:I$19,4,TRUE),IF(C240=10,VLOOKUP(U240,判定式!$G$15:I$19,3,TRUE),IF(C240=11,VLOOKUP(U240,判定式!$H$15:I$19,2,TRUE))))))))","v":false}]
[92,null,null,"-",null,null,null,null,null,null,null,null,{"$f":"IF($E241=\"\",\"\",VLOOKUP($E241,判定式!$P$3:$W$12,8,TRUE))","v":""},{"$f":"IF($F241=\"\",\"\",VLOOKUP($F241,判定式!$Q$3:$W$12,7,TRUE))","v":""},{"$f":"IF($G241=\"\",\"\",VLOOKUP($G241,判定式!$R$3:$W$12,6,TRUE))","v":""},{"$f":"IF($H241=\"\",\"\",VLOOKUP($H241,判定式!$S$3:$W$12,5,TRUE))","v":""},{"$f":"IF($I241=\"\",\"\",VLOOKUP($I241,判定式!$V$3:$W$12,2,TRUE))","v":""},{"$f":"IF($J241=\"\",\"\",VLOOKUP($J241,判定式!$Y$3:$Z$12,2,TRUE))","v":""},{"$f":"IF($K241=\"\",\"\",VLOOKUP($K241,判定式!$T$3:$W$12,4,TRUE))","v":""},{"$f":"IF($L241=\"\",\"\",VLOOKUP($L241,判定式!$U$3:$W$12,3,TRUE))","v":""},"",{"$f":"IF(ISNUMBER(D241),\"判定外\",IF(C241=6,VLOOKUP(U241,判定式!$C$15:I$19,7,TRUE),IF(C241=7,VLOOKUP(U241,判定式!$D$15:I$19,6,TRUE),IF(C241=8,VLOOKUP(U241,判定式!$E$15:I$19,5,TRUE),IF(C241=9,VLOOKUP(U241,判定式!$F$15:I$19,4,TRUE),IF(C241=10,VLOOKUP(U241,判定式!$G$15:I$19,3,TRUE),IF(C241=11,VLOOKUP(U241,判定式!$H$15:I$19,2,TRUE))))))))","v":false}]
[93,null,null,"-",null,null,null,null,null,null,null,null,{"$f":"IF($E242=\"\",\"\",VLOOKUP($E242,判定式!$P$3:$W$12,8,TRUE))","v":""},{"$f":"IF($F242=\"\",\"\",VLOOKUP($F242,判定式!$Q$3:$W$12,7,TRUE))","v":""},{"$f":"IF($G242=\"\",\"\",VLOOKUP($G242,判定式!$R$3:$W$12,6,TRUE))","v":""},{"$f":"IF($H242=\"\",\"\",VLOOKUP($H242,判定式!$S$3:$W$12,5,TRUE))","v":""},{"$f":"IF($I242=\"\",\"\",VLOOKUP($I242,判定式!$V$3:$W$12,2,TRUE))","v":""},{"$f":"IF($J242=\"\",\"\",VLOOKUP($J242,判定式!$Y$3:$Z$12,2,TRUE))","v":""},{"$f":"IF($K242=\"\",\"\",VLOOKUP($K242,判定式!$T$3:$W$12,4,TRUE))","v":""},{"$f":"IF($L242=\"\",\"\",VLOOKUP($L242,判定式!$U$3:$W$12,3,TRUE))","v":""},"",{"$f":"IF(ISNUMBER(D242),\"判定外\",IF(C242=6,VLOOKUP(U242,判定式!$C$15:I$19,7,TRUE),IF(C242=7,VLOOKUP(U242,判定式!$D$15:I$19,6,TRUE),IF(C242=8,VLOOKUP(U242,判定式!$E$15:I$19,5,TRUE),IF(C242=9,VLOOKUP(U242,判定式!$F$15:I$19,4,TRUE),IF(C242=10,VLOOKUP(U242,判定式!$G$15:I$19,3,TRUE),IF(C242=11,VLOOKUP(U242,判定式!$H$15:I$19,2,TRUE))))))))","v":false}]
[94,null,null,"-",null,null,null,null,null,null,null,null,{"$f":"IF($E243=\"\",\"\",VLOOKUP($E243,判定式!$P$3:$W$12,8,TRUE))","v":""},{"$f":"IF($F243=\"\",\"\",VLOOKUP($F243,判定式!$Q$3:$W$12,7,TRUE))","v":""},{"$f":"IF($G243=\"\",\"\",VLOOKUP($G243,判定式!$R$3:$W$12,6,TRUE))","v":""},{"$f":"IF($H243=\"\",\"\",VLOOKUP($H243,判定式!$S$3:$W$12,5,TRUE))","v":""},{"$f":"IF($I243=\"\",\"\",VLOOKUP($I243,判定式!$V$3:$W$12,2,TRUE))","v":""},{"$f":"IF($J243=\"\",\"\",VLOOKUP($J243,判定式!$Y$3:$Z$12,2,TRUE))","v":""},{"$f":"IF($K243=\"\",\"\",VLOOKUP($K243,判定式!$T$3:$W$12,4,TRUE))","v":""},{"$f":"IF($L243=\"\",\"\",VLOOKUP($L243,判定式!$U$3:$W$12,3,TRUE))","v":""},"",{"$f":"IF(ISNUMBER(D243),\"判定外\",IF(C243=6,VLOOKUP(U243,判定式!$C$15:I$19,7,TRUE),IF(C243=7,VLOOKUP(U243,判定式!$D$15:I$19,6,TRUE),IF(C243=8,VLOOKUP(U243,判定式!$E$15:I$19,5,TRUE),IF(C243=9,VLOOKUP(U243,判定式!$F$15:I$19,4,TRUE),IF(C243=10,VLOOKUP(U243,判定式!$G$15:I$19,3,TRUE),IF(C243=11,VLOOKUP(U243,判定式!$H$15:I$19,2,TRUE))))))))","v":false}]
[95,null,null,"-",null,null,null,null,null,null,null,null,{"$f":"IF($E244=\"\",\"\",VLOOKUP($E244,判定式!$P$3:$W$12,8,TRUE))","v":""},{"$f":"IF($F244=\"\",\"\",VLOOKUP($F244,判定式!$Q$3:$W$12,7,TRUE))","v":""},{"$f":"IF($G244=\"\",\"\",VLOOKUP($G244,判定式!$R$3:$W$12,6,TRUE))","v":""},{"$f":"IF($H244=\"\",\"\",VLOOKUP($H244,判定式!$S$3:$W$12,5,TRUE))","v":""},{"$f":"IF($I244=\"\",\"\",VLOOKUP($I244,判定式!$V$3:$W$12,2,TRUE))","v":""},{"$f":"IF($J244=\"\",\"\",VLOOKUP($J244,判定式!$Y$3:$Z$12,2,TRUE))","v":""},{"$f":"IF($K244=\"\",\"\",VLOOKUP($K244,判定式!$T$3:$W$12,4,TRUE))","v":""},{"$f":"IF($L244=\"\",\"\",VLOOKUP($L244,判定式!$U$3:$W$12,3,TRUE))","v":""},"",{"$f":"IF(ISNUMBER(D244),\"判定外\",IF(C244=6,VLOOKUP(U244,判定式!$C$15:I$19,7,TRUE),IF(C244=7,VLOOKUP(U244,判定式!$D$15:I$19,6,TRUE),IF(C244=8,VLOOKUP(U244,判定式!$E$15:I$19,5,TRUE),IF(C244=9,VLOOKUP(U244,判定式!$F$15:I$19,4,TRUE),IF(C244=10,VLOOKUP(U244,判定式!$G$15:I$19,3,TRUE),IF(C244=11,VLOOKUP(U244,判定式!$H$15:I$19,2,TRUE))))))))","v":false}]
[96,null,null,"-",null,null,null,null,null,null,null,null,{"$f":"IF($E245=\"\",\"\",VLOOKUP($E245,判定式!$P$3:$W$12,8,TRUE))","v":""},{"$f":"IF($F245=\"\",\"\",VLOOKUP($F245,判定式!$Q$3:$W$12,7,TRUE))","v":""},{"$f":"IF($G245=\"\",\"\",VLOOKUP($G245,判定式!$R$3:$W$12,6,TRUE))","v":""},{"$f":"IF($H245=\"\",\"\",VLOOKUP($H245,判定式!$S$3:$W$12,5,TRUE))","v":""},{"$f":"IF($I245=\"\",\"\",VLOOKUP($I245,判定式!$V$3:$W$12,2,TRUE))","v":""},{"$f":"IF($J245=\"\",\"\",VLOOKUP($J245,判定式!$Y$3:$Z$12,2,TRUE))","v":""},{"$f":"IF($K245=\"\",\"\",VLOOKUP($K245,判定式!$T$3:$W$12,4,TRUE))","v":""},{"$f":"IF($L245=\"\",\"\",VLOOKUP($L245,判定式!$U$3:$W$12,3,TRUE))","v":""},"",{"$f":"IF(ISNUMBER(D245),\"判定外\",IF(C245=6,VLOOKUP(U245,判定式!$C$15:I$19,7,TRUE),IF(C245=7,VLOOKUP(U245,判定式!$D$15:I$19,6,TRUE),IF(C245=8,VLOOKUP(U245,判定式!$E$15:I$19,5,TRUE),IF(C245=9,VLOOKUP(U245,判定式!$F$15:I$19,4,TRUE),IF(C245=10,VLOOKUP(U245,判定式!$G$15:I$19,3,TRUE),IF(C245=11,VLOOKUP(U245,判定式!$H$15:I$19,2,TRUE))))))))","v":false}]
[97,null,null,{"$f":"IF(COUNTBLANK(E246:L246)=0,\"\",IF(COUNTBLANK(E246:L246)=8,\"-\",COUNTBLANK(E246:L246)))","v":"-"},null,null,null,null,null,null,null,null,{"$f":"IF($E246=\"\",\"\",VLOOKUP($E246,判定式!$P$3:$W$12,8,TRUE))","v":""},{"$f":"IF($F246=\"\",\"\",VLOOKUP($F246,判定式!$Q$3:$W$12,7,TRUE))","v":""},{"$f":"IF($G246=\"\",\"\",VLOOKUP($G246,判定式!$R$3:$W$12,6,TRUE))","v":""},{"$f":"IF($H246=\"\",\"\",VLOOKUP($H246,判定式!$S$3:$W$12,5,TRUE))","v":""},{"$f":"IF($I246=\"\",\"\",VLOOKUP($I246,判定式!$V$3:$W$12,2,TRUE))","v":""},{"$f":"IF($J246=\"\",\"\",VLOOKUP($J246,判定式!$Y$3:$Z$12,2,TRUE))","v":""},{"$f":"IF($K246=\"\",\"\",VLOOKUP($K246,判定式!$T$3:$W$12,4,TRUE))","v":""},{"$f":"IF($L246=\"\",\"\",VLOOKUP($L246,判定式!$U$3:$W$12,3,TRUE))","v":""},{"$f":"IF(COUNTBLANK(M246:T246)=0,SUM(M246:T246),\"\")","v":""},{"$f":"IF(ISNUMBER(D246),\"判定外\",IF(C246=6,VLOOKUP(U246,判定式!$C$15:I$19,7,TRUE),IF(C246=7,VLOOKUP(U246,判定式!$D$15:I$19,6,TRUE),IF(C246=8,VLOOKUP(U246,判定式!$E$15:I$19,5,TRUE),IF(C246=9,VLOOKUP(U246,判定式!$F$15:I$19,4,TRUE),IF(C246=10,VLOOKUP(U246,判定式!$G$15:I$19,3,TRUE),IF(C246=11,VLOOKUP(U246,判定式!$H$15:I$19,2,TRUE))))))))","v":false}]
[98,null,null,"-",null,null,null,null,null,null,null,null,{"$f":"IF($E247=\"\",\"\",VLOOKUP($E247,判定式!$P$3:$W$12,8,TRUE))","v":""},{"$f":"IF($F247=\"\",\"\",VLOOKUP($F247,判定式!$Q$3:$W$12,7,TRUE))","v":""},{"$f":"IF($G247=\"\",\"\",VLOOKUP($G247,判定式!$R$3:$W$12,6,TRUE))","v":""},{"$f":"IF($H247=\"\",\"\",VLOOKUP($H247,判定式!$S$3:$W$12,5,TRUE))","v":""},{"$f":"IF($I247=\"\",\"\",VLOOKUP($I247,判定式!$V$3:$W$12,2,TRUE))","v":""},{"$f":"IF($J247=\"\",\"\",VLOOKUP($J247,判定式!$Y$3:$Z$12,2,TRUE))","v":""},{"$f":"IF($K247=\"\",\"\",VLOOKUP($K247,判定式!$T$3:$W$12,4,TRUE))","v":""},{"$f":"IF($L247=\"\",\"\",VLOOKUP($L247,判定式!$U$3:$W$12,3,TRUE))","v":""},"",{"$f":"IF(ISNUMBER(D247),\"判定外\",IF(C247=6,VLOOKUP(U247,判定式!$C$15:I$19,7,TRUE),IF(C247=7,VLOOKUP(U247,判定式!$D$15:I$19,6,TRUE),IF(C247=8,VLOOKUP(U247,判定式!$E$15:I$19,5,TRUE),IF(C247=9,VLOOKUP(U247,判定式!$F$15:I$19,4,TRUE),IF(C247=10,VLOOKUP(U247,判定式!$G$15:I$19,3,TRUE),IF(C247=11,VLOOKUP(U247,判定式!$H$15:I$19,2,TRUE))))))))","v":false}]
[99,null,null,"-",null,null,null,null,null,null,null,null,{"$f":"IF($E248=\"\",\"\",VLOOKUP($E248,判定式!$P$3:$W$12,8,TRUE))","v":""},{"$f":"IF($F248=\"\",\"\",VLOOKUP($F248,判定式!$Q$3:$W$12,7,TRUE))","v":""},{"$f":"IF($G248=\"\",\"\",VLOOKUP($G248,判定式!$R$3:$W$12,6,TRUE))","v":""},{"$f":"IF($H248=\"\",\"\",VLOOKUP($H248,判定式!$S$3:$W$12,5,TRUE))","v":""},{"$f":"IF($I248=\"\",\"\",VLOOKUP($I248,判定式!$V$3:$W$12,2,TRUE))","v":""},{"$f":"IF($J248=\"\",\"\",VLOOKUP($J248,判定式!$Y$3:$Z$12,2,TRUE))","v":""},{"$f":"IF($K248=\"\",\"\",VLOOKUP($K248,判定式!$T$3:$W$12,4,TRUE))","v":""},{"$f":"IF($L248=\"\",\"\",VLOOKUP($L248,判定式!$U$3:$W$12,3,TRUE))","v":""},"",{"$f":"IF(ISNUMBER(D248),\"判定外\",IF(C248=6,VLOOKUP(U248,判定式!$C$15:I$19,7,TRUE),IF(C248=7,VLOOKUP(U248,判定式!$D$15:I$19,6,TRUE),IF(C248=8,VLOOKUP(U248,判定式!$E$15:I$19,5,TRUE),IF(C248=9,VLOOKUP(U248,判定式!$F$15:I$19,4,TRUE),IF(C248=10,VLOOKUP(U248,判定式!$G$15:I$19,3,TRUE),IF(C248=11,VLOOKUP(U248,判定式!$H$15:I$19,2,TRUE))))))))","v":false}]
[100,null,null,"-",null,null,null,null,null,null,null,null,{"$f":"IF($E249=\"\",\"\",VLOOKUP($E249,判定式!$P$3:$W$12,8,TRUE))","v":""},{"$f":"IF($F249=\"\",\"\",VLOOKUP($F249,判定式!$Q$3:$W$12,7,TRUE))","v":""},{"$f":"IF($G249=\"\",\"\",VLOOKUP($G249,判定式!$R$3:$W$12,6,TRUE))","v":""},{"$f":"IF($H249=\"\",\"\",VLOOKUP($H249,判定式!$S$3:$W$12,5,TRUE))","v":""},{"$f":"IF($I249=\"\",\"\",VLOOKUP($I249,判定式!$V$3:$W$12,2,TRUE))","v":""},{"$f":"IF($J249=\"\",\"\",VLOOKUP($J249,判定式!$Y$3:$Z$12,2,TRUE))","v":""},{"$f":"IF($K249=\"\",\"\",VLOOKUP($K249,判定式!$T$3:$W$12,4,TRUE))","v":""},{"$f":"IF($L249=\"\",\"\",VLOOKUP($L249,判定式!$U$3:$W$12,3,TRUE))","v":""},"",{"$f":"IF(ISNUMBER(D249),\"判定外\",IF(C249=6,VLOOKUP(U249,判定式!$C$15:I$19,7,TRUE),IF(C249=7,VLOOKUP(U249,判定式!$D$15:I$19,6,TRUE),IF(C249=8,VLOOKUP(U249,判定式!$E$15:I$19,5,TRUE),IF(C249=9,VLOOKUP(U249,判定式!$F$15:I$19,4,TRUE),IF(C249=10,VLOOKUP(U249,判定式!$G$15:I$19,3,TRUE),IF(C249=11,VLOOKUP(U249,判定式!$H$15:I$19,2,TRUE))))))))","v":false}]
[101,null,null,"-",null,null,null,null,null,null,null,null,{"$f":"IF($E250=\"\",\"\",VLOOKUP($E250,判定式!$P$3:$W$12,8,TRUE))","v":""},{"$f":"IF($F250=\"\",\"\",VLOOKUP($F250,判定式!$Q$3:$W$12,7,TRUE))","v":""},{"$f":"IF($G250=\"\",\"\",VLOOKUP($G250,判定式!$R$3:$W$12,6,TRUE))","v":""},{"$f":"IF($H250=\"\",\"\",VLOOKUP($H250,判定式!$S$3:$W$12,5,TRUE))","v":""},{"$f":"IF($I250=\"\",\"\",VLOOKUP($I250,判定式!$V$3:$W$12,2,TRUE))","v":""},{"$f":"IF($J250=\"\",\"\",VLOOKUP($J250,判定式!$Y$3:$Z$12,2,TRUE))","v":""},{"$f":"IF($K250=\"\",\"\",VLOOKUP($K250,判定式!$T$3:$W$12,4,TRUE))","v":""},{"$f":"IF($L250=\"\",\"\",VLOOKUP($L250,判定式!$U$3:$W$12,3,TRUE))","v":""},"",{"$f":"IF(ISNUMBER(D250),\"判定外\",IF(C250=6,VLOOKUP(U250,判定式!$C$15:I$19,7,TRUE),IF(C250=7,VLOOKUP(U250,判定式!$D$15:I$19,6,TRUE),IF(C250=8,VLOOKUP(U250,判定式!$E$15:I$19,5,TRUE),IF(C250=9,VLOOKUP(U250,判定式!$F$15:I$19,4,TRUE),IF(C250=10,VLOOKUP(U250,判定式!$G$15:I$19,3,TRUE),IF(C250=11,VLOOKUP(U250,判定式!$H$15:I$19,2,TRUE))))))))","v":false}]
[102,null,null,"-",null,null,null,null,null,null,null,null,{"$f":"IF($E251=\"\",\"\",VLOOKUP($E251,判定式!$P$3:$W$12,8,TRUE))","v":""},{"$f":"IF($F251=\"\",\"\",VLOOKUP($F251,判定式!$Q$3:$W$12,7,TRUE))","v":""},{"$f":"IF($G251=\"\",\"\",VLOOKUP($G251,判定式!$R$3:$W$12,6,TRUE))","v":""},{"$f":"IF($H251=\"\",\"\",VLOOKUP($H251,判定式!$S$3:$W$12,5,TRUE))","v":""},{"$f":"IF($I251=\"\",\"\",VLOOKUP($I251,判定式!$V$3:$W$12,2,TRUE))","v":""},{"$f":"IF($J251=\"\",\"\",VLOOKUP($J251,判定式!$Y$3:$Z$12,2,TRUE))","v":""},{"$f":"IF($K251=\"\",\"\",VLOOKUP($K251,判定式!$T$3:$W$12,4,TRUE))","v":""},{"$f":"IF($L251=\"\",\"\",VLOOKUP($L251,判定式!$U$3:$W$12,3,TRUE))","v":""},"",{"$f":"IF(ISNUMBER(D251),\"判定外\",IF(C251=6,VLOOKUP(U251,判定式!$C$15:I$19,7,TRUE),IF(C251=7,VLOOKUP(U251,判定式!$D$15:I$19,6,TRUE),IF(C251=8,VLOOKUP(U251,判定式!$E$15:I$19,5,TRUE),IF(C251=9,VLOOKUP(U251,判定式!$F$15:I$19,4,TRUE),IF(C251=10,VLOOKUP(U251,判定式!$G$15:I$19,3,TRUE),IF(C251=11,VLOOKUP(U251,判定式!$H$15:I$19,2,TRUE))))))))","v":false}]
[103,null,null,"-",null,null,null,null,null,null,null,null,{"$f":"IF($E252=\"\",\"\",VLOOKUP($E252,判定式!$P$3:$W$12,8,TRUE))","v":""},{"$f":"IF($F252=\"\",\"\",VLOOKUP($F252,判定式!$Q$3:$W$12,7,TRUE))","v":""},{"$f":"IF($G252=\"\",\"\",VLOOKUP($G252,判定式!$R$3:$W$12,6,TRUE))","v":""},{"$f":"IF($H252=\"\",\"\",VLOOKUP($H252,判定式!$S$3:$W$12,5,TRUE))","v":""},{"$f":"IF($I252=\"\",\"\",VLOOKUP($I252,判定式!$V$3:$W$12,2,TRUE))","v":""},{"$f":"IF($J252=\"\",\"\",VLOOKUP($J252,判定式!$Y$3:$Z$12,2,TRUE))","v":""},{"$f":"IF($K252=\"\",\"\",VLOOKUP($K252,判定式!$T$3:$W$12,4,TRUE))","v":""},{"$f":"IF($L252=\"\",\"\",VLOOKUP($L252,判定式!$U$3:$W$12,3,TRUE))","v":""},"",{"$f":"IF(ISNUMBER(D252),\"判定外\",IF(C252=6,VLOOKUP(U252,判定式!$C$15:I$19,7,TRUE),IF(C252=7,VLOOKUP(U252,判定式!$D$15:I$19,6,TRUE),IF(C252=8,VLOOKUP(U252,判定式!$E$15:I$19,5,TRUE),IF(C252=9,VLOOKUP(U252,判定式!$F$15:I$19,4,TRUE),IF(C252=10,VLOOKUP(U252,判定式!$G$15:I$19,3,TRUE),IF(C252=11,VLOOKUP(U252,判定式!$H$15:I$19,2,TRUE))))))))","v":false}]
[104,null,null,"-",null,null,null,null,null,null,null,null,{"$f":"IF($E253=\"\",\"\",VLOOKUP($E253,判定式!$P$3:$W$12,8,TRUE))","v":""},{"$f":"IF($F253=\"\",\"\",VLOOKUP($F253,判定式!$Q$3:$W$12,7,TRUE))","v":""},{"$f":"IF($G253=\"\",\"\",VLOOKUP($G253,判定式!$R$3:$W$12,6,TRUE))","v":""},{"$f":"IF($H253=\"\",\"\",VLOOKUP($H253,判定式!$S$3:$W$12,5,TRUE))","v":""},{"$f":"IF($I253=\"\",\"\",VLOOKUP($I253,判定式!$V$3:$W$12,2,TRUE))","v":""},{"$f":"IF($J253=\"\",\"\",VLOOKUP($J253,判定式!$Y$3:$Z$12,2,TRUE))","v":""},{"$f":"IF($K253=\"\",\"\",VLOOKUP($K253,判定式!$T$3:$W$12,4,TRUE))","v":""},{"$f":"IF($L253=\"\",\"\",VLOOKUP($L253,判定式!$U$3:$W$12,3,TRUE))","v":""},"",{"$f":"IF(ISNUMBER(D253),\"判定外\",IF(C253=6,VLOOKUP(U253,判定式!$C$15:I$19,7,TRUE),IF(C253=7,VLOOKUP(U253,判定式!$D$15:I$19,6,TRUE),IF(C253=8,VLOOKUP(U253,判定式!$E$15:I$19,5,TRUE),IF(C253=9,VLOOKUP(U253,判定式!$F$15:I$19,4,TRUE),IF(C253=10,VLOOKUP(U253,判定式!$G$15:I$19,3,TRUE),IF(C253=11,VLOOKUP(U253,判定式!$H$15:I$19,2,TRUE))))))))","v":false}]
[105,null,null,"-",null,null,null,null,null,null,null,null,{"$f":"IF($E254=\"\",\"\",VLOOKUP($E254,判定式!$P$3:$W$12,8,TRUE))","v":""},{"$f":"IF($F254=\"\",\"\",VLOOKUP($F254,判定式!$Q$3:$W$12,7,TRUE))","v":""},{"$f":"IF($G254=\"\",\"\",VLOOKUP($G254,判定式!$R$3:$W$12,6,TRUE))","v":""},{"$f":"IF($H254=\"\",\"\",VLOOKUP($H254,判定式!$S$3:$W$12,5,TRUE))","v":""},{"$f":"IF($I254=\"\",\"\",VLOOKUP($I254,判定式!$V$3:$W$12,2,TRUE))","v":""},{"$f":"IF($J254=\"\",\"\",VLOOKUP($J254,判定式!$Y$3:$Z$12,2,TRUE))","v":""},{"$f":"IF($K254=\"\",\"\",VLOOKUP($K254,判定式!$T$3:$W$12,4,TRUE))","v":""},{"$f":"IF($L254=\"\",\"\",VLOOKUP($L254,判定式!$U$3:$W$12,3,TRUE))","v":""},"",{"$f":"IF(ISNUMBER(D254),\"判定外\",IF(C254=6,VLOOKUP(U254,判定式!$C$15:I$19,7,TRUE),IF(C254=7,VLOOKUP(U254,判定式!$D$15:I$19,6,TRUE),IF(C254=8,VLOOKUP(U254,判定式!$E$15:I$19,5,TRUE),IF(C254=9,VLOOKUP(U254,判定式!$F$15:I$19,4,TRUE),IF(C254=10,VLOOKUP(U254,判定式!$G$15:I$19,3,TRUE),IF(C254=11,VLOOKUP(U254,判定式!$H$15:I$19,2,TRUE))))))))","v":false}]
[106,null,null,"-",null,null,null,null,null,null,null,null,{"$f":"IF($E255=\"\",\"\",VLOOKUP($E255,判定式!$P$3:$W$12,8,TRUE))","v":""},{"$f":"IF($F255=\"\",\"\",VLOOKUP($F255,判定式!$Q$3:$W$12,7,TRUE))","v":""},{"$f":"IF($G255=\"\",\"\",VLOOKUP($G255,判定式!$R$3:$W$12,6,TRUE))","v":""},{"$f":"IF($H255=\"\",\"\",VLOOKUP($H255,判定式!$S$3:$W$12,5,TRUE))","v":""},{"$f":"IF($I255=\"\",\"\",VLOOKUP($I255,判定式!$V$3:$W$12,2,TRUE))","v":""},{"$f":"IF($J255=\"\",\"\",VLOOKUP($J255,判定式!$Y$3:$Z$12,2,TRUE))","v":""},{"$f":"IF($K255=\"\",\"\",VLOOKUP($K255,判定式!$T$3:$W$12,4,TRUE))","v":""},{"$f":"IF($L255=\"\",\"\",VLOOKUP($L255,判定式!$U$3:$W$12,3,TRUE))","v":""},"",{"$f":"IF(ISNUMBER(D255),\"判定外\",IF(C255=6,VLOOKUP(U255,判定式!$C$15:I$19,7,TRUE),IF(C255=7,VLOOKUP(U255,判定式!$D$15:I$19,6,TRUE),IF(C255=8,VLOOKUP(U255,判定式!$E$15:I$19,5,TRUE),IF(C255=9,VLOOKUP(U255,判定式!$F$15:I$19,4,TRUE),IF(C255=10,VLOOKUP(U255,判定式!$G$15:I$19,3,TRUE),IF(C255=11,VLOOKUP(U255,判定式!$H$15:I$19,2,TRUE))))))))","v":false}]
[107,null,null,"-",null,null,null,null,null,null,null,null,{"$f":"IF($E256=\"\",\"\",VLOOKUP($E256,判定式!$P$3:$W$12,8,TRUE))","v":""},{"$f":"IF($F256=\"\",\"\",VLOOKUP($F256,判定式!$Q$3:$W$12,7,TRUE))","v":""},{"$f":"IF($G256=\"\",\"\",VLOOKUP($G256,判定式!$R$3:$W$12,6,TRUE))","v":""},{"$f":"IF($H256=\"\",\"\",VLOOKUP($H256,判定式!$S$3:$W$12,5,TRUE))","v":""},{"$f":"IF($I256=\"\",\"\",VLOOKUP($I256,判定式!$V$3:$W$12,2,TRUE))","v":""},{"$f":"IF($J256=\"\",\"\",VLOOKUP($J256,判定式!$Y$3:$Z$12,2,TRUE))","v":""},{"$f":"IF($K256=\"\",\"\",VLOOKUP($K256,判定式!$T$3:$W$12,4,TRUE))","v":""},{"$f":"IF($L256=\"\",\"\",VLOOKUP($L256,判定式!$U$3:$W$12,3,TRUE))","v":""},"",{"$f":"IF(ISNUMBER(D256),\"判定外\",IF(C256=6,VLOOKUP(U256,判定式!$C$15:I$19,7,TRUE),IF(C256=7,VLOOKUP(U256,判定式!$D$15:I$19,6,TRUE),IF(C256=8,VLOOKUP(U256,判定式!$E$15:I$19,5,TRUE),IF(C256=9,VLOOKUP(U256,判定式!$F$15:I$19,4,TRUE),IF(C256=10,VLOOKUP(U256,判定式!$G$15:I$19,3,TRUE),IF(C256=11,VLOOKUP(U256,判定式!$H$15:I$19,2,TRUE))))))))","v":false}]
[108,null,null,"-",null,null,null,null,null,null,null,null,{"$f":"IF($E257=\"\",\"\",VLOOKUP($E257,判定式!$P$3:$W$12,8,TRUE))","v":""},{"$f":"IF($F257=\"\",\"\",VLOOKUP($F257,判定式!$Q$3:$W$12,7,TRUE))","v":""},{"$f":"IF($G257=\"\",\"\",VLOOKUP($G257,判定式!$R$3:$W$12,6,TRUE))","v":""},{"$f":"IF($H257=\"\",\"\",VLOOKUP($H257,判定式!$S$3:$W$12,5,TRUE))","v":""},{"$f":"IF($I257=\"\",\"\",VLOOKUP($I257,判定式!$V$3:$W$12,2,TRUE))","v":""},{"$f":"IF($J257=\"\",\"\",VLOOKUP($J257,判定式!$Y$3:$Z$12,2,TRUE))","v":""},{"$f":"IF($K257=\"\",\"\",VLOOKUP($K257,判定式!$T$3:$W$12,4,TRUE))","v":""},{"$f":"IF($L257=\"\",\"\",VLOOKUP($L257,判定式!$U$3:$W$12,3,TRUE))","v":""},"",{"$f":"IF(ISNUMBER(D257),\"判定外\",IF(C257=6,VLOOKUP(U257,判定式!$C$15:I$19,7,TRUE),IF(C257=7,VLOOKUP(U257,判定式!$D$15:I$19,6,TRUE),IF(C257=8,VLOOKUP(U257,判定式!$E$15:I$19,5,TRUE),IF(C257=9,VLOOKUP(U257,判定式!$F$15:I$19,4,TRUE),IF(C257=10,VLOOKUP(U257,判定式!$G$15:I$19,3,TRUE),IF(C257=11,VLOOKUP(U257,判定式!$H$15:I$19,2,TRUE))))))))","v":false}]
[109,null,null,"-",null,null,null,null,null,null,null,null,{"$f":"IF($E258=\"\",\"\",VLOOKUP($E258,判定式!$P$3:$W$12,8,TRUE))","v":""},{"$f":"IF($F258=\"\",\"\",VLOOKUP($F258,判定式!$Q$3:$W$12,7,TRUE))","v":""},{"$f":"IF($G258=\"\",\"\",VLOOKUP($G258,判定式!$R$3:$W$12,6,TRUE))","v":""},{"$f":"IF($H258=\"\",\"\",VLOOKUP($H258,判定式!$S$3:$W$12,5,TRUE))","v":""},{"$f":"IF($I258=\"\",\"\",VLOOKUP($I258,判定式!$V$3:$W$12,2,TRUE))","v":""},{"$f":"IF($J258=\"\",\"\",VLOOKUP($J258,判定式!$Y$3:$Z$12,2,TRUE))","v":""},{"$f":"IF($K258=\"\",\"\",VLOOKUP($K258,判定式!$T$3:$W$12,4,TRUE))","v":""},{"$f":"IF($L258=\"\",\"\",VLOOKUP($L258,判定式!$U$3:$W$12,3,TRUE))","v":""},"",{"$f":"IF(ISNUMBER(D258),\"判定外\",IF(C258=6,VLOOKUP(U258,判定式!$C$15:I$19,7,TRUE),IF(C258=7,VLOOKUP(U258,判定式!$D$15:I$19,6,TRUE),IF(C258=8,VLOOKUP(U258,判定式!$E$15:I$19,5,TRUE),IF(C258=9,VLOOKUP(U258,判定式!$F$15:I$19,4,TRUE),IF(C258=10,VLOOKUP(U258,判定式!$G$15:I$19,3,TRUE),IF(C258=11,VLOOKUP(U258,判定式!$H$15:I$19,2,TRUE))))))))","v":false}]
[110,null,null,"-",null,null,null,null,null,null,null,null,{"$f":"IF($E259=\"\",\"\",VLOOKUP($E259,判定式!$P$3:$W$12,8,TRUE))","v":""},{"$f":"IF($F259=\"\",\"\",VLOOKUP($F259,判定式!$Q$3:$W$12,7,TRUE))","v":""},{"$f":"IF($G259=\"\",\"\",VLOOKUP($G259,判定式!$R$3:$W$12,6,TRUE))","v":""},{"$f":"IF($H259=\"\",\"\",VLOOKUP($H259,判定式!$S$3:$W$12,5,TRUE))","v":""},{"$f":"IF($I259=\"\",\"\",VLOOKUP($I259,判定式!$V$3:$W$12,2,TRUE))","v":""},{"$f":"IF($J259=\"\",\"\",VLOOKUP($J259,判定式!$Y$3:$Z$12,2,TRUE))","v":""},{"$f":"IF($K259=\"\",\"\",VLOOKUP($K259,判定式!$T$3:$W$12,4,TRUE))","v":""},{"$f":"IF($L259=\"\",\"\",VLOOKUP($L259,判定式!$U$3:$W$12,3,TRUE))","v":""},"",{"$f":"IF(ISNUMBER(D259),\"判定外\",IF(C259=6,VLOOKUP(U259,判定式!$C$15:I$19,7,TRUE),IF(C259=7,VLOOKUP(U259,判定式!$D$15:I$19,6,TRUE),IF(C259=8,VLOOKUP(U259,判定式!$E$15:I$19,5,TRUE),IF(C259=9,VLOOKUP(U259,判定式!$F$15:I$19,4,TRUE),IF(C259=10,VLOOKUP(U259,判定式!$G$15:I$19,3,TRUE),IF(C259=11,VLOOKUP(U259,判定式!$H$15:I$19,2,TRUE))))))))","v":false}]
[111,null,null,"-",null,null,null,null,null,null,null,null,{"$f":"IF($E260=\"\",\"\",VLOOKUP($E260,判定式!$P$3:$W$12,8,TRUE))","v":""},{"$f":"IF($F260=\"\",\"\",VLOOKUP($F260,判定式!$Q$3:$W$12,7,TRUE))","v":""},{"$f":"IF($G260=\"\",\"\",VLOOKUP($G260,判定式!$R$3:$W$12,6,TRUE))","v":""},{"$f":"IF($H260=\"\",\"\",VLOOKUP($H260,判定式!$S$3:$W$12,5,TRUE))","v":""},{"$f":"IF($I260=\"\",\"\",VLOOKUP($I260,判定式!$V$3:$W$12,2,TRUE))","v":""},{"$f":"IF($J260=\"\",\"\",VLOOKUP($J260,判定式!$Y$3:$Z$12,2,TRUE))","v":""},{"$f":"IF($K260=\"\",\"\",VLOOKUP($K260,判定式!$T$3:$W$12,4,TRUE))","v":""},{"$f":"IF($L260=\"\",\"\",VLOOKUP($L260,判定式!$U$3:$W$12,3,TRUE))","v":""},"",{"$f":"IF(ISNUMBER(D260),\"判定外\",IF(C260=6,VLOOKUP(U260,判定式!$C$15:I$19,7,TRUE),IF(C260=7,VLOOKUP(U260,判定式!$D$15:I$19,6,TRUE),IF(C260=8,VLOOKUP(U260,判定式!$E$15:I$19,5,TRUE),IF(C260=9,VLOOKUP(U260,判定式!$F$15:I$19,4,TRUE),IF(C260=10,VLOOKUP(U260,判定式!$G$15:I$19,3,TRUE),IF(C260=11,VLOOKUP(U260,判定式!$H$15:I$19,2,TRUE))))))))","v":false}]
[112,null,null,"-",null,null,null,null,null,null,null,null,{"$f":"IF($E261=\"\",\"\",VLOOKUP($E261,判定式!$P$3:$W$12,8,TRUE))","v":""},{"$f":"IF($F261=\"\",\"\",VLOOKUP($F261,判定式!$Q$3:$W$12,7,TRUE))","v":""},{"$f":"IF($G261=\"\",\"\",VLOOKUP($G261,判定式!$R$3:$W$12,6,TRUE))","v":""},{"$f":"IF($H261=\"\",\"\",VLOOKUP($H261,判定式!$S$3:$W$12,5,TRUE))","v":""},{"$f":"IF($I261=\"\",\"\",VLOOKUP($I261,判定式!$V$3:$W$12,2,TRUE))","v":""},{"$f":"IF($J261=\"\",\"\",VLOOKUP($J261,判定式!$Y$3:$Z$12,2,TRUE))","v":""},{"$f":"IF($K261=\"\",\"\",VLOOKUP($K261,判定式!$T$3:$W$12,4,TRUE))","v":""},{"$f":"IF($L261=\"\",\"\",VLOOKUP($L261,判定式!$U$3:$W$12,3,TRUE))","v":""},"",{"$f":"IF(ISNUMBER(D261),\"判定外\",IF(C261=6,VLOOKUP(U261,判定式!$C$15:I$19,7,TRUE),IF(C261=7,VLOOKUP(U261,判定式!$D$15:I$19,6,TRUE),IF(C261=8,VLOOKUP(U261,判定式!$E$15:I$19,5,TRUE),IF(C261=9,VLOOKUP(U261,判定式!$F$15:I$19,4,TRUE),IF(C261=10,VLOOKUP(U261,判定式!$G$15:I$19,3,TRUE),IF(C261=11,VLOOKUP(U261,判定式!$H$15:I$19,2,TRUE))))))))","v":false}]
[113,null,null,"-",null,null,null,null,null,null,null,null,{"$f":"IF($E262=\"\",\"\",VLOOKUP($E262,判定式!$P$3:$W$12,8,TRUE))","v":""},{"$f":"IF($F262=\"\",\"\",VLOOKUP($F262,判定式!$Q$3:$W$12,7,TRUE))","v":""},{"$f":"IF($G262=\"\",\"\",VLOOKUP($G262,判定式!$R$3:$W$12,6,TRUE))","v":""},{"$f":"IF($H262=\"\",\"\",VLOOKUP($H262,判定式!$S$3:$W$12,5,TRUE))","v":""},{"$f":"IF($I262=\"\",\"\",VLOOKUP($I262,判定式!$V$3:$W$12,2,TRUE))","v":""},{"$f":"IF($J262=\"\",\"\",VLOOKUP($J262,判定式!$Y$3:$Z$12,2,TRUE))","v":""},{"$f":"IF($K262=\"\",\"\",VLOOKUP($K262,判定式!$T$3:$W$12,4,TRUE))","v":""},{"$f":"IF($L262=\"\",\"\",VLOOKUP($L262,判定式!$U$3:$W$12,3,TRUE))","v":""},"",{"$f":"IF(ISNUMBER(D262),\"判定外\",IF(C262=6,VLOOKUP(U262,判定式!$C$15:I$19,7,TRUE),IF(C262=7,VLOOKUP(U262,判定式!$D$15:I$19,6,TRUE),IF(C262=8,VLOOKUP(U262,判定式!$E$15:I$19,5,TRUE),IF(C262=9,VLOOKUP(U262,判定式!$F$15:I$19,4,TRUE),IF(C262=10,VLOOKUP(U262,判定式!$G$15:I$19,3,TRUE),IF(C262=11,VLOOKUP(U262,判定式!$H$15:I$19,2,TRUE))))))))","v":false}]
[114,null,null,"-",null,null,null,null,null,null,null,null,{"$f":"IF($E263=\"\",\"\",VLOOKUP($E263,判定式!$P$3:$W$12,8,TRUE))","v":""},{"$f":"IF($F263=\"\",\"\",VLOOKUP($F263,判定式!$Q$3:$W$12,7,TRUE))","v":""},{"$f":"IF($G263=\"\",\"\",VLOOKUP($G263,判定式!$R$3:$W$12,6,TRUE))","v":""},{"$f":"IF($H263=\"\",\"\",VLOOKUP($H263,判定式!$S$3:$W$12,5,TRUE))","v":""},{"$f":"IF($I263=\"\",\"\",VLOOKUP($I263,判定式!$V$3:$W$12,2,TRUE))","v":""},{"$f":"IF($J263=\"\",\"\",VLOOKUP($J263,判定式!$Y$3:$Z$12,2,TRUE))","v":""},{"$f":"IF($K263=\"\",\"\",VLOOKUP($K263,判定式!$T$3:$W$12,4,TRUE))","v":""},{"$f":"IF($L263=\"\",\"\",VLOOKUP($L263,判定式!$U$3:$W$12,3,TRUE))","v":""},"",{"$f":"IF(ISNUMBER(D263),\"判定外\",IF(C263=6,VLOOKUP(U263,判定式!$C$15:I$19,7,TRUE),IF(C263=7,VLOOKUP(U263,判定式!$D$15:I$19,6,TRUE),IF(C263=8,VLOOKUP(U263,判定式!$E$15:I$19,5,TRUE),IF(C263=9,VLOOKUP(U263,判定式!$F$15:I$19,4,TRUE),IF(C263=10,VLOOKUP(U263,判定式!$G$15:I$19,3,TRUE),IF(C263=11,VLOOKUP(U263,判定式!$H$15:I$19,2,TRUE))))))))","v":false}]
[115,null,null,"-",null,null,null,null,null,null,null,null,{"$f":"IF($E264=\"\",\"\",VLOOKUP($E264,判定式!$P$3:$W$12,8,TRUE))","v":""},{"$f":"IF($F264=\"\",\"\",VLOOKUP($F264,判定式!$Q$3:$W$12,7,TRUE))","v":""},{"$f":"IF($G264=\"\",\"\",VLOOKUP($G264,判定式!$R$3:$W$12,6,TRUE))","v":""},{"$f":"IF($H264=\"\",\"\",VLOOKUP($H264,判定式!$S$3:$W$12,5,TRUE))","v":""},{"$f":"IF($I264=\"\",\"\",VLOOKUP($I264,判定式!$V$3:$W$12,2,TRUE))","v":""},{"$f":"IF($J264=\"\",\"\",VLOOKUP($J264,判定式!$Y$3:$Z$12,2,TRUE))","v":""},{"$f":"IF($K264=\"\",\"\",VLOOKUP($K264,判定式!$T$3:$W$12,4,TRUE))","v":""},{"$f":"IF($L264=\"\",\"\",VLOOKUP($L264,判定式!$U$3:$W$12,3,TRUE))","v":""},"",{"$f":"IF(ISNUMBER(D264),\"判定外\",IF(C264=6,VLOOKUP(U264,判定式!$C$15:I$19,7,TRUE),IF(C264=7,VLOOKUP(U264,判定式!$D$15:I$19,6,TRUE),IF(C264=8,VLOOKUP(U264,判定式!$E$15:I$19,5,TRUE),IF(C264=9,VLOOKUP(U264,判定式!$F$15:I$19,4,TRUE),IF(C264=10,VLOOKUP(U264,判定式!$G$15:I$19,3,TRUE),IF(C264=11,VLOOKUP(U264,判定式!$H$15:I$19,2,TRUE))))))))","v":false}]
[116,null,null,"-",null,null,null,null,null,null,null,null,{"$f":"IF($E265=\"\",\"\",VLOOKUP($E265,判定式!$P$3:$W$12,8,TRUE))","v":""},{"$f":"IF($F265=\"\",\"\",VLOOKUP($F265,判定式!$Q$3:$W$12,7,TRUE))","v":""},{"$f":"IF($G265=\"\",\"\",VLOOKUP($G265,判定式!$R$3:$W$12,6,TRUE))","v":""},{"$f":"IF($H265=\"\",\"\",VLOOKUP($H265,判定式!$S$3:$W$12,5,TRUE))","v":""},{"$f":"IF($I265=\"\",\"\",VLOOKUP($I265,判定式!$V$3:$W$12,2,TRUE))","v":""},{"$f":"IF($J265=\"\",\"\",VLOOKUP($J265,判定式!$Y$3:$Z$12,2,TRUE))","v":""},{"$f":"IF($K265=\"\",\"\",VLOOKUP($K265,判定式!$T$3:$W$12,4,TRUE))","v":""},{"$f":"IF($L265=\"\",\"\",VLOOKUP($L265,判定式!$U$3:$W$12,3,TRUE))","v":""},"",{"$f":"IF(ISNUMBER(D265),\"判定外\",IF(C265=6,VLOOKUP(U265,判定式!$C$15:I$19,7,TRUE),IF(C265=7,VLOOKUP(U265,判定式!$D$15:I$19,6,TRUE),IF(C265=8,VLOOKUP(U265,判定式!$E$15:I$19,5,TRUE),IF(C265=9,VLOOKUP(U265,判定式!$F$15:I$19,4,TRUE),IF(C265=10,VLOOKUP(U265,判定式!$G$15:I$19,3,TRUE),IF(C265=11,VLOOKUP(U265,判定式!$H$15:I$19,2,TRUE))))))))","v":false}]
[117,null,null,"-",null,null,null,null,null,null,null,null,{"$f":"IF($E266=\"\",\"\",VLOOKUP($E266,判定式!$P$3:$W$12,8,TRUE))","v":""},{"$f":"IF($F266=\"\",\"\",VLOOKUP($F266,判定式!$Q$3:$W$12,7,TRUE))","v":""},{"$f":"IF($G266=\"\",\"\",VLOOKUP($G266,判定式!$R$3:$W$12,6,TRUE))","v":""},{"$f":"IF($H266=\"\",\"\",VLOOKUP($H266,判定式!$S$3:$W$12,5,TRUE))","v":""},{"$f":"IF($I266=\"\",\"\",VLOOKUP($I266,判定式!$V$3:$W$12,2,TRUE))","v":""},{"$f":"IF($J266=\"\",\"\",VLOOKUP($J266,判定式!$Y$3:$Z$12,2,TRUE))","v":""},{"$f":"IF($K266=\"\",\"\",VLOOKUP($K266,判定式!$T$3:$W$12,4,TRUE))","v":""},{"$f":"IF($L266=\"\",\"\",VLOOKUP($L266,判定式!$U$3:$W$12,3,TRUE))","v":""},"",{"$f":"IF(ISNUMBER(D266),\"判定外\",IF(C266=6,VLOOKUP(U266,判定式!$C$15:I$19,7,TRUE),IF(C266=7,VLOOKUP(U266,判定式!$D$15:I$19,6,TRUE),IF(C266=8,VLOOKUP(U266,判定式!$E$15:I$19,5,TRUE),IF(C266=9,VLOOKUP(U266,判定式!$F$15:I$19,4,TRUE),IF(C266=10,VLOOKUP(U266,判定式!$G$15:I$19,3,TRUE),IF(C266=11,VLOOKUP(U266,判定式!$H$15:I$19,2,TRUE))))))))","v":false}]
[118,null,null,"-",null,null,null,null,null,null,null,null,{"$f":"IF($E267=\"\",\"\",VLOOKUP($E267,判定式!$P$3:$W$12,8,TRUE))","v":""},{"$f":"IF($F267=\"\",\"\",VLOOKUP($F267,判定式!$Q$3:$W$12,7,TRUE))","v":""},{"$f":"IF($G267=\"\",\"\",VLOOKUP($G267,判定式!$R$3:$W$12,6,TRUE))","v":""},{"$f":"IF($H267=\"\",\"\",VLOOKUP($H267,判定式!$S$3:$W$12,5,TRUE))","v":""},{"$f":"IF($I267=\"\",\"\",VLOOKUP($I267,判定式!$V$3:$W$12,2,TRUE))","v":""},{"$f":"IF($J267=\"\",\"\",VLOOKUP($J267,判定式!$Y$3:$Z$12,2,TRUE))","v":""},{"$f":"IF($K267=\"\",\"\",VLOOKUP($K267,判定式!$T$3:$W$12,4,TRUE))","v":""},{"$f":"IF($L267=\"\",\"\",VLOOKUP($L267,判定式!$U$3:$W$12,3,TRUE))","v":""},"",{"$f":"IF(ISNUMBER(D267),\"判定外\",IF(C267=6,VLOOKUP(U267,判定式!$C$15:I$19,7,TRUE),IF(C267=7,VLOOKUP(U267,判定式!$D$15:I$19,6,TRUE),IF(C267=8,VLOOKUP(U267,判定式!$E$15:I$19,5,TRUE),IF(C267=9,VLOOKUP(U267,判定式!$F$15:I$19,4,TRUE),IF(C267=10,VLOOKUP(U267,判定式!$G$15:I$19,3,TRUE),IF(C267=11,VLOOKUP(U267,判定式!$H$15:I$19,2,TRUE))))))))","v":false}]
[119,null,null,"-",null,null,null,null,null,null,null,null,{"$f":"IF($E268=\"\",\"\",VLOOKUP($E268,判定式!$P$3:$W$12,8,TRUE))","v":""},{"$f":"IF($F268=\"\",\"\",VLOOKUP($F268,判定式!$Q$3:$W$12,7,TRUE))","v":""},{"$f":"IF($G268=\"\",\"\",VLOOKUP($G268,判定式!$R$3:$W$12,6,TRUE))","v":""},{"$f":"IF($H268=\"\",\"\",VLOOKUP($H268,判定式!$S$3:$W$12,5,TRUE))","v":""},{"$f":"IF($I268=\"\",\"\",VLOOKUP($I268,判定式!$V$3:$W$12,2,TRUE))","v":""},{"$f":"IF($J268=\"\",\"\",VLOOKUP($J268,判定式!$Y$3:$Z$12,2,TRUE))","v":""},{"$f":"IF($K268=\"\",\"\",VLOOKUP($K268,判定式!$T$3:$W$12,4,TRUE))","v":""},{"$f":"IF($L268=\"\",\"\",VLOOKUP($L268,判定式!$U$3:$W$12,3,TRUE))","v":""},"",{"$f":"IF(ISNUMBER(D268),\"判定外\",IF(C268=6,VLOOKUP(U268,判定式!$C$15:I$19,7,TRUE),IF(C268=7,VLOOKUP(U268,判定式!$D$15:I$19,6,TRUE),IF(C268=8,VLOOKUP(U268,判定式!$E$15:I$19,5,TRUE),IF(C268=9,VLOOKUP(U268,判定式!$F$15:I$19,4,TRUE),IF(C268=10,VLOOKUP(U268,判定式!$G$15:I$19,3,TRUE),IF(C268=11,VLOOKUP(U268,判定式!$H$15:I$19,2,TRUE))))))))","v":false}]
[120,null,null,"-",null,null,null,null,null,null,null,null,{"$f":"IF($E269=\"\",\"\",VLOOKUP($E269,判定式!$P$3:$W$12,8,TRUE))","v":""},{"$f":"IF($F269=\"\",\"\",VLOOKUP($F269,判定式!$Q$3:$W$12,7,TRUE))","v":""},{"$f":"IF($G269=\"\",\"\",VLOOKUP($G269,判定式!$R$3:$W$12,6,TRUE))","v":""},{"$f":"IF($H269=\"\",\"\",VLOOKUP($H269,判定式!$S$3:$W$12,5,TRUE))","v":""},{"$f":"IF($I269=\"\",\"\",VLOOKUP($I269,判定式!$V$3:$W$12,2,TRUE))","v":""},{"$f":"IF($J269=\"\",\"\",VLOOKUP($J269,判定式!$Y$3:$Z$12,2,TRUE))","v":""},{"$f":"IF($K269=\"\",\"\",VLOOKUP($K269,判定式!$T$3:$W$12,4,TRUE))","v":""},{"$f":"IF($L269=\"\",\"\",VLOOKUP($L269,判定式!$U$3:$W$12,3,TRUE))","v":""},"",{"$f":"IF(ISNUMBER(D269),\"判定外\",IF(C269=6,VLOOKUP(U269,判定式!$C$15:I$19,7,TRUE),IF(C269=7,VLOOKUP(U269,判定式!$D$15:I$19,6,TRUE),IF(C269=8,VLOOKUP(U269,判定式!$E$15:I$19,5,TRUE),IF(C269=9,VLOOKUP(U269,判定式!$F$15:I$19,4,TRUE),IF(C269=10,VLOOKUP(U269,判定式!$G$15:I$19,3,TRUE),IF(C269=11,VLOOKUP(U269,判定式!$H$15:I$19,2,TRUE))))))))","v":false}]

{"sheet":"小2","index":2,"n_rows":269,"n_cols":22,"rows_kept":269,"cut":false,"hidden":false,"merged":[[147,13,148,13],[147,14,148,14],[18,19,19,19],[18,16,19,16],[18,17,19,17],[18,18,19,18],[147,19,148,19],[147,15,148,15],[147,16,148,16],[147,17,148,17],[146,12,146,19],[147,18,148,18],[146,4,146,11],[17,4,17,11],[17,12,17,19],[146,3,148,3],[1,2,1,5],[3,13,3,19],[18,15,19,15],[4,2,7,2],[7,14,7,16],[8,2,11,2],[11,14,11,16],[17,3,19,3],[18,12,19,12],[18,13,19,13],[18,14,19,14],[147,12,148,12]]}
[null,{"$f":"IF(入力要領・学校名入力!D2=0,\"\",入力要領・学校名入力!D2)","v":""},"年度","三重県体力・運動能力調査実技種目（新体力テスト）集計表"]
[null,"学校名",{"$f":"IF(入力要領・学校名入力!H2=0,\"\",入力要領・学校名入力!H2)","v":""},null,null,null,"「年度」「学校名」は【入力要領・学校名入力】シートにて行ってください。"]
[]
[null,"集計速報値",null,"種目","握力","上体起こし","長座体前屈","反復横とび","20mシャトルラン","５０ｍ走","立ち幅とび","ｿﾌﾄﾎﾞｰﾙ投げ","体力合計点","総合評価"]
[null,null,"小２\n男子","標本数",{"$f":"COUNT(E21:E140)","v":0},{"$f":"COUNT(F21:F140)","v":0},0,0,0,0,0,0,{"$f":"COUNT(U21:U140)","v":0},"判定","A","B","C","D","E","判定外"]
[null,null,null,"平均",{"$f":"IF(ISERROR(AVERAGE(E21:E140)),\"\",AVERAGE(E21:E140))","v":""},"","","","","","","",{"$f":"IF(ISERROR(AVERAGE(U21:U140)),\"\",AVERAGE(U21:U140))","v":""},"人数",{"$f":"COUNTIF($V21:$V140,\"A\")","v":0},{"$f":"COUNTIF($V21:$V140,\"B\")","v":0},{"$f":"COUNTIF($V21:$V140,\"C\")","v":0},{"$f":"COUNTIF($V21:$V140,\"d\")","v":0},{"$f":"COUNTIF($V21:$V140,\"e\")","v":0},{"$f":"COUNTIF($V21:$V140,\"判定外\")","v":0}]
[null,null,null,"標準偏差",{"$f":"IF(ISERROR(STDEV(E21:E140)),\"\",STDEV(E21:E140))","v":""},"","","","","","","",{"$f":"IF(ISERROR(STDEV(U21:U140)),\"\",STDEV(U21:U140))","v":""},"割合",{"$f":"IFERROR(O6/SUM($O$6:$S$6),0)","v":0},{"$f":"IFERROR(P6/SUM($O$6:$S$6),0)","v":0},0,0,0]
[null,null,null,"目標値",11,13,28,31,27,10.8,122,12,37,"ABC",{"$f":"SUM(O7:Q7)","v":0},null,null,"AB－DE",{"$f":"(+O7+P7)-(R7+S7)","v":0}]
[null,null,"小２\n女子","標本数",{"$f":"COUNT(E150:E269)","v":0},{"$f":"COUNT(F150:F269)","v":0},0,0,0,0,0,0,{"$f":"COUNT(U150:U269)","v":0},"判定","A","B","C","D","E","判定外"]
[null,null,null,"平均",{"$f":"IF(ISERROR(AVERAGE(E150:E269)),\"\",AVERAGE(E150:E269))","v":""},"","","","","","","",{"$f":"IF(ISERROR(AVERAGE(U150:U269)),\"\",AVERAGE(U150:U269))","v":""},"人数",{"$f":"COUNTIF($V150:$V269,\"A\")","v":0},{"$f":"COUNTIF($V150:$V269,\"B\")","v":0},{"$f":"COUNTIF($V150:$V269,\"C\")","v":0},{"$f":"COUNTIF($V150:$V269,\"d\")","v":0},{"$f":"COUNTIF($V150:$V269,\"e\")","v":0},{"$f":"COUNTIF($V150:$V269,\"判定外\")","v":0}]
[null,null,null,"標準偏差",{"$f":"IF(ISERROR(STDEV(E150:E269)),\"\",STDEV(E150:E269))","v":""},"","","","","","","",{"$f":"IF(ISERROR(STDEV(U150:U269)),\"\",STDEV(U150:U269))","v":""},"割合",{"$f":"IFERROR(O10/SUM($O$10:$S$10),0)","v":0},{"$f":"IFERROR(P10/SUM($O$10:$S$10),0)","v":0},0,0,0]
[null,null,null,"目標値",10,13,31,30,21,11.1,114,8,37,"ABC",{"$f":"SUM(O11:Q11)","v":0},null,null,"AB－DE",{"$f":"(+O11+P11)-(R11+S11)","v":0}]
[]
[null,"男子入力欄（女子は下段）"]
[]
[null,"提出時、名前記入は任意","年齢は、全員７",null,null,null,null,"５０m走は、1/100秒を切り上げて、「例：9.72→9.8」のように1/１０秒単位を入力する"]
[null,"小２　男子",7,"自動","整数","整数","整数","整数","整数","小数第１位","整数","整数"]
[null,null,"年齢","未実施\n項目数","調　　査　　項　　目　　記　　録",null,null,null,null,null,null,null,"実技種目得点"]
["Ｎｏ．","名前","半角",null,"握力","上体起こし","長座体前屈","反復横とび","シャトルラン","５０ｍ走","立ち幅とび","ﾎﾞｰﾙ投げ","握力","上体\n起こし","長座\n体前屈","反復\n横跳び","ｼｬﾄﾙ\nﾗﾝ","50ｍ\n走","立ち\n幅とび","ボール\n投げ","体力","総合"]
[null,null,7,null,"（ｋｇ）","（回）","（ｃｍ）","（回）","（回）","（秒）","（ｃｍ）","（ｍ）",null,null,null,null,null,null,null,null,"合計点","評価"]
[1,null,null,{"$f":"IF(COUNTBLANK(E21:L21)=0,\"\",IF(COUNTBLANK(E21:L21)=8,\"-\",COUNTBLANK(E21:L21)))","v":"-"},null,null,null,null,null,null,null,null,{"$f":"IF(E21=\"\",\"\",VLOOKUP(E21,判定式!C$3:$J$12,8,TRUE))","v":""},{"$f":"IF(F21=\"\",\"\",VLOOKUP(F21,判定式!D$3:$J$12,7,TRUE))","v":""},{"$f":"IF(G21=\"\",\"\",VLOOKUP(G21,判定式!E$3:$J$12,6,TRUE))","v":""},{"$f":"IF(H21=\"\",\"\",VLOOKUP(H21,判定式!F$3:$J$12,5,TRUE))","v":""},{"$f":"IF(I21=\"\",\"\",VLOOKUP(I21,判定式!I$3:$J$12,2,TRUE))","v":""},{"$f":"IF(J21=\"\",\"\",VLOOKUP(J21,判定式!L$3:$M$12,2,TRUE))","v":""},{"$f":"IF(K21=\"\",\"\",VLOOKUP(K21,判定式!G$3:$J$12,4,TRUE))","v":""},{"$f":"IF(L21=\"\",\"\",VLOOKUP(L21,判定式!H$3:$J$12,3,TRUE))","v":""},{"$f":"IF(COUNTBLANK(M21:T21)=0,SUM(M21:T21),\"\")","v":""},{"$f":"IF(ISNUMBER(D21),\"判定外\",IF(C21=6,VLOOKUP(U21,判定式!$C$15:I$19,7,TRUE),IF(C21=7,VLOOKUP(U21,判定式!$D$15:I$19,6,TRUE),IF(C21=8,VLOOKUP(U21,判定式!$E$15:I$19,5,TRUE),IF(C21=9,VLOOKUP(U21,判定式!$F$15:I$19,4,TRUE),IF(C21=10,VLOOKUP(U21,判定式!$G$15:I$19,3,TRUE),IF(C21=11,VLOOKUP(U21,判定式!$H$15:I$19,2,TRUE))))))))","v":false}]
[2,null,null,"-",null,null,null,null,null,null,null,null,{"$f":"IF(E22=\"\",\"\",VLOOKUP(E22,判定式!C$3:$J$12,8,TRUE))","v":""},{"$f":"IF(F22=\"\",\"\",VLOOKUP(F22,判定式!D$3:$J$12,7,TRUE))","v":""},{"$f":"IF(G22=\"\",\"\",VLOOKUP(G22,判定式!E$3:$J$12,6,TRUE))","v":""},{"$f":"IF(H22=\"\",\"\",VLOOKUP(H22,判定式!F$3:$J$12,5,TRUE))","v":""},{"$f":"IF(I22=\"\",\"\",VLOOKUP(I22,判定式!I$3:$J$12,2,TRUE))","v":""},{"$f":"IF(J22=\"\",\"\",VLOOKUP(J22,判定式!L$3:$M$12,2,TRUE))","v":""},{"$f":"IF(K22=\"\",\"\",VLOOKUP(K22,判定式!G$3:$J$12,4,TRUE))","v":""},{"$f":"IF(L22=\"\",\"\",VLOOKUP(L22,判定式!H$3:$J$12,3,TRUE))","v":""},"",{"$f":"IF(ISNUMBER(D22),\"判定外\",IF(C22=6,VLOOKUP(U22,判定式!$C$15:I$19,7,TRUE),IF(C22=7,VLOOKUP(U22,判定式!$D$15:I$19,6,TRUE),IF(C22=8,VLOOKUP(U22,判定式!$E$15:I$19,5,TRUE),IF(C22=9,VLOOKUP(U22,判定式!$F$15:I$19,4,TRUE),IF(C22=10,VLOOKUP(U22,判定式!$G$15:I$19,3,TRUE),IF(C22=11,VLOOKUP(U22,判定式!$H$15:I$19,2,TRUE))))))))","v":false}]
[3,null,null,"-",null,null,null,null,null,null,null,null,{"$f":"IF(E23=\"\",\"\",VLOOKUP(E23,判定式!C$3:$J$12,8,TRUE))","v":""},{"$f":"IF(F23=\"\",\"\",VLOOKUP(F23,判定式!D$3:$J$12,7,TRUE))","v":""},{"$f":"IF(G23=\"\",\"\",VLOOKUP(G23,判定式!E$3:$J$12,6,TRUE))","v":""},{"$f":"IF(H23=\"\",\"\",VLOOKUP(H23,判定式!F$3:$J$12,5,TRUE))","v":""},{"$f":"IF(I23=\"\",\"\",VLOOKUP(I23,判定式!I$3:$J$12,2,TRUE))","v":""},{"$f":"IF(J23=\"\",\"\",VLOOKUP(J23,判定式!L$3:$M$12,2,TRUE))","v":""},{"$f":"IF(K23=\"\",\"\",VLOOKUP(K23,判定式!G$3:$J$12,4,TRUE))","v":""},{"$f":"IF(L23=\"\",\"\",VLOOKUP(L23,判定式!H$3:$J$12,3,TRUE))","v":""},"",{"$f":"IF(ISNUMBER(D23),\"判定外\",IF(C23=6,VLOOKUP(U23,判定式!$C$15:I$19,7,TRUE),IF(C23=7,VLOOKUP(U23,判定式!$D$15:I$19,6,TRUE),IF(C23=8,VLOOKUP(U23,判定式!$E$15:I$19,5,TRUE),IF(C23=9,VLOOKUP(U23,判定式!$F$15:I$19,4,TRUE),IF(C23=10,VLOOKUP(U23,判定式!$G$15:I$19,3,TRUE),IF(C23=11,VLOOKUP(U23,判定式!$H$15:I$19,2,TRUE))))))))","v":false}]
[4,null,null,"-",null,null,null,null,null,null,null,null,{"$f":"IF(E24=\"\",\"\",VLOOKUP(E24,判定式!C$3:$J$12,8,TRUE))","v":""},{"$f":"IF(F24=\"\",\"\",VLOOKUP(F24,判定式!D$3:$J$12,7,TRUE))","v":""},{"$f":"IF(G24=\"\",\"\",VLOOKUP(G24,判定式!E$3:$J$12,6,TRUE))","v":""},{"$f":"IF(H24=\"\",\"\",VLOOKUP(H24,判定式!F$3:$J$12,5,TRUE))","v":""},{"$f":"IF(I24=\"\",\"\",VLOOKUP(I24,判定式!I$3:$J$12,2,TRUE))","v":""},{"$f":"IF(J24=\"\",\"\",VLOOKUP(J24,判定式!L$3:$M$12,2,TRUE))","v":""},{"$f":"IF(K24=\"\",\"\",VLOOKUP(K24,判定式!G$3:$J$12,4,TRUE))","v":""},{"$f":"IF(L24=\"\",\"\",VLOOKUP(L24,判定式!H$3:$J$12,3,TRUE))","v":""},"",{"$f":"IF(ISNUMBER(D24),\"判定外\",IF(C24=6,VLOOKUP(U24,判定式!$C$15:I$19,7,TRUE),IF(C24=7,VLOOKUP(U24,判定式!$D$15:I$19,6,TRUE),IF(C24=8,VLOOKUP(U24,判定式!$E$15:I$19,5,TRUE),IF(C24=9,VLOOKUP(U24,判定式!$F$15:I$19,4,TRUE),IF(C24=10,VLOOKUP(U24,判定式!$G$15:I$19,3,TRUE),IF(C24=11,VLOOKUP(U24,判定式!$H$15:I$19,2,TRUE))))))))","v":false}]
[5,null,null,"-",null,null,null,null,null,null,null,null,{"$f":"IF(E25=\"\",\"\",VLOOKUP(E25,判定式!C$3:$J$12,8,TRUE))","v":""},{"$f":"IF(F25=\"\",\"\",VLOOKUP(F25,判定式!D$3:$J$12,7,TRUE))","v":""},{"$f":"IF(G25=\"\",\"\",VLOOKUP(G25,判定式!E$3:$J$12,6,TRUE))","v":""},{"$f":"IF(H25=\"\",\"\",VLOOKUP(H25,判定式!F$3:$J$12,5,TRUE))","v":""},{"$f":"IF(I25=\"\",\"\",VLOOKUP(I25,判定式!I$3:$J$12,2,TRUE))","v":""},{"$f":"IF(J25=\"\",\"\",VLOOKUP(J25,判定式!L$3:$M$12,2,TRUE))","v":""},{"$f":"IF(K25=\"\",\"\",VLOOKUP(K25,判定式!G$3:$J$12,4,TRUE))","v":""},{"$f":"IF(L25=\"\",\"\",VLOOKUP(L25,判定式!H$3:$J$12,3,TRUE))","v":""},"",{"$f":"IF(ISNUMBER(D25),\"判定外\",IF(C25=6,VLOOKUP(U25,判定式!$C$15:I$19,7,TRUE),IF(C25=7,VLOOKUP(U25,判定式!$D$15:I$19,6,TRUE),IF(C25=8,VLOOKUP(U25,判定式!$E$15:I$19,5,TRUE),IF(C25=9,VLOOKUP(U25,判定式!$F$15:I$19,4,TRUE),IF(C25=10,VLOOKUP(U25,判定式!$G$15:I$19,3,TRUE),IF(C25=11,VLOOKUP(U25,判定式!$H$15:I$19,2,TRUE))))))))","v":false}]
[6,null,null,"-",null,null,null,null,null,null,null,null,{"$f":"IF(E26=\"\",\"\",VLOOKUP(E26,判定式!C$3:$J$12,8,TRUE))","v":""},{"$f":"IF(F26=\"\",\"\",VLOOKUP(F26,判定式!D$3:$J$12,7,TRUE))","v":""},{"$f":"IF(G26=\"\",\"\",VLOOKUP(G26,判定式!E$3:$J$12,6,TRUE))","v":""},{"$f":"IF(H26=\"\",\"\",VLOOKUP(H26,判定式!F$3:$J$12,5,TRUE))","v":""},{"$f":"IF(I26=\"\",\"\",VLOOKUP(I26,判定式!I$3:$J$12,2,TRUE))","v":""},{"$f":"IF(J26=\"\",\"\",VLOOKUP(J26,判定式!L$3:$M$12,2,TRUE))","v":""},{"$f":"IF(K26=\"\",\"\",VLOOKUP(K26,判定式!G$3:$J$12,4,TRUE))","v":""},{"$f":"IF(L26=\"\",\"\",VLOOKUP(L26,判定式!H$3:$J$12,3,TRUE))","v":""},"",{"$f":"IF(ISNUMBER(D26),\"判定外\",IF(C26=6,VLOOKUP(U26,判定式!$C$15:I$19,7,TRUE),IF(C26=7,VLOOKUP(U26,判定式!$D$15:I$19,6,TRUE),IF(C26=8,VLOOKUP(U26,判定式!$E$15:I$19,5,TRUE),IF(C26=9,VLOOKUP(U26,判定式!$F$15:I$19,4,TRUE),IF(C26=10,VLOOKUP(U26,判定式!$G$15:I$19,3,TRUE),IF(C26=11,VLOOKUP(U26,判定式!$H$15:I$19,2,TRUE))))))))","v":false}]
[7,null,null,"-",null,null,null,null,null,null,null,null,{"$f":"IF(E27=\"\",\"\",VLOOKUP(E27,判定式!C$3:$J$12,8,TRUE))","v":""},{"$f":"IF(F27=\"\",\"\",VLOOKUP(F27,判定式!D$3:$J$12,7,TRUE))","v":""},{"$f":"IF(G27=\"\",\"\",VLOOKUP(G27,判定式!E$3:$J$12,6,TRUE))","v":""},{"$f":"IF(H27=\"\",\"\",VLOOKUP(H27,判定式!F$3:$J$12,5,TRUE))","v":""},{"$f":"IF(I27=\"\",\"\",VLOOKUP(I27,判定式!I$3:$J$12,2,TRUE))","v":""},{"$f":"IF(J27=\"\",\"\",VLOOKUP(J27,判定式!L$3:$M$12,2,TRUE))","v":""},{"$f":"IF(K27=\"\",\"\",VLOOKUP(K27,判定式!G$3:$J$12,4,TRUE))","v":""},{"$f":"IF(L27=\"\",\"\",VLOOKUP(L27,判定式!H$3:$J$12,3,TRUE))","v":""},"",{"$f":"IF(ISNUMBER(D27),\"判定外\",IF(C27=6,VLOOKUP(U27,判定式!$C$15:I$19,7,TRUE),IF(C27=7,VLOOKUP(U27,判定式!$D$15:I$19,6,TRUE),IF(C27=8,VLOOKUP(U27,判定式!$E$15:I$19,5,TRUE),IF(C27=9,VLOOKUP(U27,判定式!$F$15:I$19,4,TRUE),IF(C27=10,VLOOKUP(U27,判定式!$G$15:I$19,3,TRUE),IF(C27=11,VLOOKUP(U27,判定式!$H$15:I$19,2,TRUE))))))))","v":false}]
[8,null,null,"-",null,null,null,null,null,null,null,null,{"$f":"IF(E28=\"\",\"\",VLOOKUP(E28,判定式!C$3:$J$12,8,TRUE))","v":""},{"$f":"IF(F28=\"\",\"\",VLOOKUP(F28,判定式!D$3:$J$12,7,TRUE))","v":""},{"$f":"IF(G28=\"\",\"\",VLOOKUP(G28,判定式!E$3:$J$12,6,TRUE))","v":""},{"$f":"IF(H28=\"\",\"\",VLOOKUP(H28,判定式!F$3:$J$12,5,TRUE))","v":""},{"$f":"IF(I28=\"\",\"\",VLOOKUP(I28,判定式!I$3:$J$12,2,TRUE))","v":""},{"$f":"IF(J28=\"\",\"\",VLOOKUP(J28,判定式!L$3:$M$12,2,TRUE))","v":""},{"$f":"IF(K28=\"\",\"\",VLOOKUP(K28,判定式!G$3:$J$12,4,TRUE))","v":""},{"$f":"IF(L28=\"\",\"\",VLOOKUP(L28,判定式!H$3:$J$12,3,TRUE))","v":""},"",{"$f":"IF(ISNUMBER(D28),\"判定外\",IF(C28=6,VLOOKUP(U28,判定式!$C$15:I$19,7,TRUE),IF(C28=7,VLOOKUP(U28,判定式!$D$15:I$19,6,TRUE),IF(C28=8,VLOOKUP(U28,判定式!$E$15:I$19,5,TRUE),IF(C28=9,VLOOKUP(U28,判定式!$F$15:I$19,4,TRUE),IF(C28=10,VLOOKUP(U28,判定式!$G$15:I$19,3,TRUE),IF(C28=11,VLOOKUP(U28,判定式!$H$15:I$19,2,TRUE))))))))","v":false}]
[9,null,null,"-",null,null,null,null,null,null,null,null,{"$f":"IF(E29=\"\",\"\",VLOOKUP(E29,判定式!C$3:$J$12,8,TRUE))","v":""},{"$f":"IF(F29=\"\",\"\",VLOOKUP(F29,判定式!D$3:$J$12,7,TRUE))","v":""},{"$f":"IF(G29=\"\",\"\",VLOOKUP(G29,判定式!E$3:$J$12,6,TRUE))","v":""},{"$f":"IF(H29=\"\",\"\",VLOOKUP(H29,判定式!F$3:$J$12,5,TRUE))","v":""},{"$f":"IF(I29=\"\",\"\",VLOOKUP(I29,判定式!I$3:$J$12,2,TRUE))","v":""},{"$f":"IF(J29=\"\",\"\",VLOOKUP(J29,判定式!L$3:$M$12,2,TRUE))","v":""},{"$f":"IF(K29=\"\",\"\",VLOOKUP(K29,判定式!G$3:$J$12,4,TRUE))","v":""},{"$f":"IF(L29=\"\",\"\",VLOOKUP(L29,判定式!H$3:$J$12,3,TRUE))","v":""},"",{"$f":"IF(ISNUMBER(D29),\"判定外\",IF(C29=6,VLOOKUP(U29,判定式!$C$15:I$19,7,TRUE),IF(C29=7,VLOOKUP(U29,判定式!$D$15:I$19,6,TRUE),IF(C29=8,VLOOKUP(U29,判定式!$E$15:I$19,5,TRUE),IF(C29=9,VLOOKUP(U29,判定式!$F$15:I$19,4,TRUE),IF(C29=10,VLOOKUP(U29,判定式!$G$15:I$19,3,TRUE),IF(C29=11,VLOOKUP(U29,判定式!$H$15:I$19,2,TRUE))))))))","v":false}]
[10,null,null,"-",null,null,null,null,null,null,null,null,{"$f":"IF(E30=\"\",\"\",VLOOKUP(E30,判定式!C$3:$J$12,8,TRUE))","v":""},{"$f":"IF(F30=\"\",\"\",VLOOKUP(F30,判定式!D$3:$J$12,7,TRUE))","v":""},{"$f":"IF(G30=\"\",\"\",VLOOKUP(G30,判定式!E$3:$J$12,6,TRUE))","v":""},{"$f":"IF(H30=\"\",\"\",VLOOKUP(H30,判定式!F$3:$J$12,5,TRUE))","v":""},{"$f":"IF(I30=\"\",\"\",VLOOKUP(I30,判定式!I$3:$J$12,2,TRUE))","v":""},{"$f":"IF(J30=\"\",\"\",VLOOKUP(J30,判定式!L$3:$M$12,2,TRUE))","v":""},{"$f":"IF(K30=\"\",\"\",VLOOKUP(K30,判定式!G$3:$J$12,4,TRUE))","v":""},{"$f":"IF(L30=\"\",\"\",VLOOKUP(L30,判定式!H$3:$J$12,3,TRUE))","v":""},"",{"$f":"IF(ISNUMBER(D30),\"判定外\",IF(C30=6,VLOOKUP(U30,判定式!$C$15:I$19,7,TRUE),IF(C30=7,VLOOKUP(U30,判定式!$D$15:I$19,6,TRUE),IF(C30=8,VLOOKUP(U30,判定式!$E$15:I$19,5,TRUE),IF(C30=9,VLOOKUP(U30,判定式!$F$15:I$19,4,TRUE),IF(C30=10,VLOOKUP(U30,判定式!$G$15:I$19,3,TRUE),IF(C30=11,VLOOKUP(U30,判定式!$H$15:I$19,2,TRUE))))))))","v":false}]
[11,null,null,"-",null,null,null,null,null,null,null,null,{"$f":"IF(E31=\"\",\"\",VLOOKUP(E31,判定式!C$3:$J$12,8,TRUE))","v":""},{"$f":"IF(F31=\"\",\"\",VLOOKUP(F31,判定式!D$3:$J$12,7,TRUE))","v":""},{"$f":"IF(G31=\"\",\"\",VLOOKUP(G31,判定式!E$3:$J$12,6,TRUE))","v":""},{"$f":"IF(H31=\"\",\"\",VLOOKUP(H31,判定式!F$3:$J$12,5,TRUE))","v":""},{"$f":"IF(I31=\"\",\"\",VLOOKUP(I31,判定式!I$3:$J$12,2,TRUE))","v":""},{"$f":"IF(J31=\"\",\"\",VLOOKUP(J31,判定式!L$3:$M$12,2,TRUE))","v":""},{"$f":"IF(K31=\"\",\"\",VLOOKUP(K31,判定式!G$3:$J$12,4,TRUE))","v":""},{"$f":"IF(L31=\"\",\"\",VLOOKUP(L31,判定式!H$3:$J$12,3,TRUE))","v":""},"",{"$f":"IF(ISNUMBER(D31),\"判定外\",IF(C31=6,VLOOKUP(U31,判定式!$C$15:I$19,7,TRUE),IF(C31=7,VLOOKUP(U31,判定式!$D$15:I$19,6,TRUE),IF(C31=8,VLOOKUP(U31,判定式!$E$15:I$19,5,TRUE),IF(C31=9,VLOOKUP(U31,判定式!$F$15:I$19,4,TRUE),IF(C31=10,VLOOKUP(U31,判定式!$G$15:I$19,3,TRUE),IF(C31=11,VLOOKUP(U31,判定式!$H$15:I$19,2,TRUE))))))))","v":false}]
[12,null,null,"-",null,null,null,null,null,null,null,null,{"$f":"IF(E32=\"\",\"\",VLOOKUP(E32,判定式!C$3:$J$12,8,TRUE))","v":""},{"$f":"IF(F32=\"\",\"\",VLOOKUP(F32,判定式!D$3:$J$12,7,TRUE))","v":""},{"$f":"IF(G32=\"\",\"\",VLOOKUP(G32,判定式!E$3:$J$12,6,TRUE))","v":""},{"$f":"IF(H32=\"\",\"\",VLOOKUP(H32,判定式!F$3:$J$12,5,TRUE))","v":""},{"$f":"IF(I32=\"\",\"\",VLOOKUP(I32,判定式!I$3:$J$12,2,TRUE))","v":""},{"$f":"IF(J32=\"\",\"\",VLOOKUP(J32,判定式!L$3:$M$12,2,TRUE))","v":""},{"$f":"IF(K32=\"\",\"\",VLOOKUP(K32,判定式!G$3:$J$12,4,TRUE))","v":""},{"$f":"IF(L32=\"\",\"\",VLOOKUP(L32,判定式!H$3:$J$12,3,TRUE))","v":""},"",{"$f":"IF(ISNUMBER(D32),\"判定外\",IF(C32=6,VLOOKUP(U32,判定式!$C$15:I$19,7,TRUE),IF(C32=7,VLOOKUP(U32,判定式!$D$15:I$19,6,TRUE),IF(C32=8,VLOOKUP(U32,判定式!$E$15:I$19,5,TRUE),IF(C32=9,VLOOKUP(U32,判定式!$F$15:I$19,4,TRUE),IF(C32=10,VLOOKUP(U32,判定式!$G$15:I$19,3,TRUE),IF(C32=11,VLOOKUP(U32,判定式!$H$15:I$19,2,TRUE))))))))","v":false}]
[13,null,null,"-",null,null,null,null,null,null,null,null,{"$f":"IF(E33=\"\",\"\",VLOOKUP(E33,判定式!C$3:$J$12,8,TRUE))","v":""},{"$f":"IF(F33=\"\",\"\",VLOOKUP(F33,判定式!D$3:$J$12,7,TRUE))","v":""},{"$f":"IF(G33=\"\",\"\",VLOOKUP(G33,判定式!E$3:$J$12,6,TRUE))","v":""},{"$f":"IF(H33=\"\",\"\",VLOOKUP(H33,判定式!F$3:$J$12,5,TRUE))","v":""},{"$f":"IF(I33=\"\",\"\",VLOOKUP(I33,判定式!I$3:$J$12,2,TRUE))","v":""},{"$f":"IF(J33=\"\",\"\",VLOOKUP(J33,判定式!L$3:$M$12,2,TRUE))","v":""},{"$f":"IF(K33=\"\",\"\",VLOOKUP(K33,判定式!G$3:$J$12,4,TRUE))","v":""},{"$f":"IF(L33=\"\",\"\",VLOOKUP(L33,判定式!H$3:$J$12,3,TRUE))","v":""},"",{"$f":"IF(ISNUMBER(D33),\"判定外\",IF(C33=6,VLOOKUP(U33,判定式!$C$15:I$19,7,TRUE),IF(C33=7,VLOOKUP(U33,判定式!$D$15:I$19,6,TRUE),IF(C33=8,VLOOKUP(U33,判定式!$E$15:I$19,5,TRUE),IF(C33=9,VLOOKUP(U33,判定式!$F$15:I$19,4,TRUE),IF(C33=10,VLOOKUP(U33,判定式!$G$15:I$19,3,TRUE),IF(C33=11,VLOOKUP(U33,判定式!$H$15:I$19,2,TRUE))))))))","v":false}]
[14,null,null,"-",null,null,null,null,null,null,null,null,{"$f":"IF(E34=\"\",\"\",VLOOKUP(E34,判定式!C$3:$J$12,8,TRUE))","v":""},{"$f":"IF(F34=\"\",\"\",VLOOKUP(F34,判定式!D$3:$J$12,7,TRUE))","v":""},{"$f":"IF(G34=\"\",\"\",VLOOKUP(G34,判定式!E$3:$J$12,6,TRUE))","v":""},{"$f":"IF(H34=\"\",\"\",VLOOKUP(H34,判定式!F$3:$J$12,5,TRUE))","v":""},{"$f":"IF(I34=\"\",\"\",VLOOKUP(I34,判定式!I$3:$J$12,2,TRUE))","v":""},{"$f":"IF(J34=\"\",\"\",VLOOKUP(J34,判定式!L$3:$M$12,2,TRUE))","v":""},{"$f":"IF(K34=\"\",\"\",VLOOKUP(K34,判定式!G$3:$J$12,4,TRUE))","v":""},{"$f":"IF(L34=\"\",\"\",VLOOKUP(L34,判定式!H$3:$J$12,3,TRUE))","v":""},"",{"$f":"IF(ISNUMBER(D34),\"判定外\",IF(C34=6,VLOOKUP(U34,判定式!$C$15:I$19,7,TRUE),IF(C34=7,VLOOKUP(U34,判定式!$D$15:I$19,6,TRUE),IF(C34=8,VLOOKUP(U34,判定式!$E$15:I$19,5,TRUE),IF(C34=9,VLOOKUP(U34,判定式!$F$15:I$19,4,TRUE),IF(C34=10,VLOOKUP(U34,判定式!$G$15:I$19,3,TRUE),IF(C34=11,VLOOKUP(U34,判定式!$H$15:I$19,2,TRUE))))))))","v":false}]
[15,null,null,"-",null,null,null,null,null,null,null,null,{"$f":"IF(E35=\"\",\"\",VLOOKUP(E35,判定式!C$3:$J$12,8,TRUE))","v":""},{"$f":"IF(F35=\"\",\"\",VLOOKUP(F35,判定式!D$3:$J$12,7,TRUE))","v":""},{"$f":"IF(G35=\"\",\"\",VLOOKUP(G35,判定式!E$3:$J$12,6,TRUE))","v":""},{"$f":"IF(H35=\"\",\"\",VLOOKUP(H35,判定式!F$3:$J$12,5,TRUE))","v":""},{"$f":"IF(I35=\"\",\"\",VLOOKUP(I35,判定式!I$3:$J$12,2,TRUE))","v":""},{"$f":"IF(J35=\"\",\"\",VLOOKUP(J35,判定式!L$3:$M$12,2,TRUE))","v":""},{"$f":"IF(K35=\"\",\"\",VLOOKUP(K35,判定式!G$3:$J$12,4,TRUE))","v":""},{"$f":"IF(L35=\"\",\"\",VLOOKUP(L35,判定式!H$3:$J$12,3,TRUE))","v":""},"",{"$f":"IF(ISNUMBER(D35),\"判定外\",IF(C35=6,VLOOKUP(U35,判定式!$C$15:I$19,7,TRUE),IF(C35=7,VLOOKUP(U35,判定式!$D$15:I$19,6,TRUE),IF(C35=8,VLOOKUP(U35,判定式!$E$15:I$19,5,TRUE),IF(C35=9,VLOOKUP(U35,判定式!$F$15:I$19,4,TRUE),IF(C35=10,VLOOKUP(U35,判定式!$G$15:I$19,3,TRUE),IF(C35=11,VLOOKUP(U35,判定式!$H$15:I$19,2,TRUE))))))))","v":false}]
[16,null,null,"-",null,null,null,null,null,null,null,null,{"$f":"IF(E36=\"\",\"\",VLOOKUP(E36,判定式!C$3:$J$12,8,TRUE))","v":""},{"$f":"IF(F36=\"\",\"\",VLOOKUP(F36,判定式!D$3:$J$12,7,TRUE))","v":""},{"$f":"IF(G36=\"\",\"\",VLOOKUP(G36,判定式!E$3:$J$12,6,TRUE))","v":""},{"$f":"IF(H36=\"\",\"\",VLOOKUP(H36,判定式!F$3:$J$12,5,TRUE))","v":""},{"$f":"IF(I36=\"\",\"\",VLOOKUP(I36,判定式!I$3:$J$12,2,TRUE))","v":""},{"$f":"IF(J36=\"\",\"\",VLOOKUP(J36,判定式!L$3:$M$12,2,TRUE))","v":""},{"$f":"IF(K36=\"\",\"\",VLOOKUP(K36,判定式!G$3:$J$12,4,TRUE))","v":""},{"$f":"IF(L36=\"\",\"\",VLOOKUP(L36,判定式!H$3:$J$12,3,TRUE))","v":""},"",{"$f":"IF(ISNUMBER(D36),\"判定外\",IF(C36=6,VLOOKUP(U36,判定式!$C$15:I$19,7,TRUE),IF(C36=7,VLOOKUP(U36,判定式!$D$15:I$19,6,TRUE),IF(C36=8,VLOOKUP(U36,判定式!$E$15:I$19,5,TRUE),IF(C36=9,VLOOKUP(U36,判定式!$F$15:I$19,4,TRUE),IF(C36=10,VLOOKUP(U36,判定式!$G$15:I$19,3,TRUE),IF(C36=11,VLOOKUP(U36,判定式!$H$15:I$19,2,TRUE))))))))","v":false}]
[17,null,null,"-",null,null,null,null,null,null,null,null,{"$f":"IF(E37=\"\",\"\",VLOOKUP(E37,判定式!C$3:$J$12,8,TRUE))","v":""},{"$f":"IF(F37=\"\",\"\",VLOOKUP(F37,判定式!D$3:$J$12,7,TRUE))","v":""},{"$f":"IF(G37=\"\",\"\",VLOOKUP(G37,判定式!E$3:$J$12,6,TRUE))","v":""},{"$f":"IF(H37=\"\",\"\",VLOOKUP(H37,判定式!F$3:$J$12,5,TRUE))","v":""},{"$f":"IF(I37=\"\",\"\",VLOOKUP(I37,判定式!I$3:$J$12,2,TRUE))","v":""},{"$f":"IF(J37=\"\",\"\",VLOOKUP(J37,判定式!L$3:$M$12,2,TRUE))","v":""},{"$f":"IF(K37=\"\",\"\",VLOOKUP(K37,判定式!G$3:$J$12,4,TRUE))","v":""},{"$f":"IF(L37=\"\",\"\",VLOOKUP(L37,判定式!H$3:$J$12,3,TRUE))","v":""},"",{"$f":"IF(ISNUMBER(D37),\"判定外\",IF(C37=6,VLOOKUP(U37,判定式!$C$15:I$19,7,TRUE),IF(C37=7,VLOOKUP(U37,判定式!$D$15:I$19,6,TRUE),IF(C37=8,VLOOKUP(U37,判定式!$E$15:I$19,5,TRUE),IF(C37=9,VLOOKUP(U37,判定式!$F$15:I$19,4,TRUE),IF(C37=10,VLOOKUP(U37,判定式!$G$15:I$19,3,TRUE),IF(C37=11,VLOOKUP(U37,判定式!$H$15:I$19,2,TRUE))))))))","v":false}]
[18,null,null,"-",null,null,null,null,null,null,null,null,{"$f":"IF(E38=\"\",\"\",VLOOKUP(E38,判定式!C$3:$J$12,8,TRUE))","v":""},{"$f":"IF(F38=\"\",\"\",VLOOKUP(F38,判定式!D$3:$J$12,7,TRUE))","v":""},{"$f":"IF(G38=\"\",\"\",VLOOKUP(G38,判定式!E$3:$J$12,6,TRUE))","v":""},{"$f":"IF(H38=\"\",\"\",VLOOKUP(H38,判定式!F$3:$J$12,5,TRUE))","v":""},{"$f":"IF(I38=\"\",\"\",VLOOKUP(I38,判定式!I$3:$J$12,2,TRUE))","v":""},{"$f":"IF(J38=\"\",\"\",VLOOKUP(J38,判定式!L$3:$M$12,2,TRUE))","v":""},{"$f":"IF(K38=\"\",\"\",VLOOKUP(K38,判定式!G$3:$J$12,4,TRUE))","v":""},{"$f":"IF(L38=\"\",\"\",VLOOKUP(L38,判定式!H$3:$J$12,3,TRUE))","v":""},"",{"$f":"IF(ISNUMBER(D38),\"判定外\",IF(C38=6,VLOOKUP(U38,判定式!$C$15:I$19,7,TRUE),IF(C38=7,VLOOKUP(U38,判定式!$D$15:I$19,6,TRUE),IF(C38=8,VLOOKUP(U38,判定式!$E$15:I$19,5,TRUE),IF(C38=9,VLOOKUP(U38,判定式!$F$15:I$19,4,TRUE),IF(C38=10,VLOOKUP(U38,判定式!$G$15:I$19,3,TRUE),IF(C38=11,VLOOKUP(U38,判定式!$H$15:I$19,2,TRUE))))))))","v":false}]
[19,null,null,"-",null,null,null,null,null,null,null,null,{"$f":"IF(E39=\"\",\"\",VLOOKUP(E39,判定式!C$3:$J$12,8,TRUE))","v":""},{"$f":"IF(F39=\"\",\"\",VLOOKUP(F39,判定式!D$3:$J$12,7,TRUE))","v":""},{"$f":"IF(G39=\"\",\"\",VLOOKUP(G39,判定式!E$3:$J$12,6,TRUE))","v":""},{"$f":"IF(H39=\"\",\"\",VLOOKUP(H39,判定式!F$3:$J$12,5,TRUE))","v":""},{"$f":"IF(I39=\"\",\"\",VLOOKUP(I39,判定式!I$3:$J$12,2,TRUE))","v":""},{"$f":"IF(J39=\"\",\"\",VLOOKUP(J39,判定式!L$3:$M$12,2,TRUE))","v":""},{"$f":"IF(K39=\"\",\"\",VLOOKUP(K39,判定式!G$3:$J$12,4,TRUE))","v":""},{"$f":"IF(L39=\"\",\"\",VLOOKUP(L39,判定式!H$3:$J$12,3,TRUE))","v":""},"",{"$f":"IF(ISNUMBER(D39),\"判定外\",IF(C39=6,VLOOKUP(U39,判定式!$C$15:I$19,7,TRUE),IF(C39=7,VLOOKUP(U39,判定式!$D$15:I$19,6,TRUE),IF(C39=8,VLOOKUP(U39,判定式!$E$15:I$19,5,TRUE),IF(C39=9,VLOOKUP(U39,判定式!$F$15:I$19,4,TRUE),IF(C39=10,VLOOKUP(U39,判定式!$G$15:I$19,3,TRUE),IF(C39=11,VLOOKUP(U39,判定式!$H$15:I$19,2,TRUE))))))))","v":false}]
[20,null,null,"-",null,null,null,null,null,null,null,null,{"$f":"IF(E40=\"\",\"\",VLOOKUP(E40,判定式!C$3:$J$12,8,TRUE))","v":""},{"$f":"IF(F40=\"\",\"\",VLOOKUP(F40,判定式!D$3:$J$12,7,TRUE))","v":""},{"$f":"IF(G40=\"\",\"\",VLOOKUP(G40,判定式!E$3:$J$12,6,TRUE))","v":""},{"$f":"IF(H40=\"\",\"\",VLOOKUP(H40,判定式!F$3:$J$12,5,TRUE))","v":""},{"$f":"IF(I40=\"\",\"\",VLOOKUP(I40,判定式!I$3:$J$12,2,TRUE))","v":""},{"$f":"IF(J40=\"\",\"\",VLOOKUP(J40,判定式!L$3:$M$12,2,TRUE))","v":""},{"$f":"IF(K40=\"\",\"\",VLOOKUP(K40,判定式!G$3:$J$12,4,TRUE))","v":""},{"$f":"IF(L40=\"\",\"\",VLOOKUP(L40,判定式!H$3:$J$12,3,TRUE))","v":""},"",{"$f":"IF(ISNUMBER(D40),\"判定外\",IF(C40=6,VLOOKUP(U40,判定式!$C$15:I$19,7,TRUE),IF(C40=7,VLOOKUP(U40,判定式!$D$15:I$19,6,TRUE),IF(C40=8,VLOOKUP(U40,判定式!$E$15:I$19,5,TRUE),IF(C40=9,VLOOKUP(U40,判定式!$F$15:I$19,4,TRUE),IF(C40=10,VLOOKUP(U40,判定式!$G$15:I$19,3,TRUE),IF(C40=11,VLOOKUP(U40,判定式!$H$15:I$19,2,TRUE))))))))","v":false}]
[21,null,null,"-",null,null,null,null,null,null,null,null,{"$f":"IF(E41=\"\",\"\",VLOOKUP(E41,判定式!C$3:$J$12,8,TRUE))","v":""},{"$f":"IF(F41=\"\",\"\",VLOOKUP(F41,判定式!D$3:$J$12,7,TRUE))","v":""},{"$f":"IF(G41=\"\",\"\",VLOOKUP(G41,判定式!E$3:$J$12,6,TRUE))","v":""},{"$f":"IF(H41=\"\",\"\",VLOOKUP(H41,判定式!F$3:$J$12,5,TRUE))","v":""},{"$f":"IF(I41=\"\",\"\",VLOOKUP(I41,判定式!I$3:$J$12,2,TRUE))","v":""},{"$f":"IF(J41=\"\",\"\",VLOOKUP(J41,判定式!L$3:$M$12,2,TRUE))","v":""},{"$f":"IF(K41=\"\",\"\",VLOOKUP(K41,判定式!G$3:$J$12,4,TRUE))","v":""},{"$f":"IF(L41=\"\",\"\",VLOOKUP(L41,判定式!H$3:$J$12,3,TRUE))","v":""},"",{"$f":"IF(ISNUMBER(D41),\"判定外\",IF(C41=6,VLOOKUP(U41,判定式!$C$15:I$19,7,TRUE),IF(C41=7,VLOOKUP(U41,判定式!$D$15:I$19,6,TRUE),IF(C41=8,VLOOKUP(U41,判定式!$E$15:I$19,5,TRUE),IF(C41=9,VLOOKUP(U41,判定式!$F$15:I$19,4,TRUE),IF(C41=10,VLOOKUP(U41,判定式!$G$15:I$19,3,TRUE),IF(C41=11,VLOOKUP(U41,判定式!$H$15:I$19,2,TRUE))))))))","v":false}]
[22,null,null,"-",null,null,null,null,null,null,null,null,{"$f":"IF(E42=\"\",\"\",VLOOKUP(E42,判定式!C$3:$J$12,8,TRUE))","v":""},{"$f":"IF(F42=\"\",\"\",VLOOKUP(F42,判定式!D$3:$J$12,7,TRUE))","v":""},{"$f":"IF(G42=\"\",\"\",VLOOKUP(G42,判定式!E$3:$J$12,6,TRUE))","v":""},{"$f":"IF(H42=\"\",\"\",VLOOKUP(H42,判定式!F$3:$J$12,5,TRUE))","v":""},{"$f":"IF(I42=\"\",\"\",VLOOKUP(I42,判定式!I$3:$J$12,2,TRUE))","v":""},{"$f":"IF(J42=\"\",\"\",VLOOKUP(J42,判定式!L$3:$M$12,2,TRUE))","v":""},{"$f":"IF(K42=\"\",\"\",VLOOKUP(K42,判定式!G$3:$J$12,4,TRUE))","v":""},{"$f":"IF(L42=\"\",\"\",VLOOKUP(L42,判定式!H$3:$J$12,3,TRUE))","v":""},"",{"$f":"IF(ISNUMBER(D42),\"判定外\",IF(C42=6,VLOOKUP(U42,判定式!$C$15:I$19,7,TRUE),IF(C42=7,VLOOKUP(U42,判定式!$D$15:I$19,6,TRUE),IF(C42=8,VLOOKUP(U42,判定式!$E$15:I$19,5,TRUE),IF(C42=9,VLOOKUP(U42,判定式!$F$15:I$19,4,TRUE),IF(C42=10,VLOOKUP(U42,判定式!$G$15:I$19,3,TRUE),IF(C42=11,VLOOKUP(U42,判定式!$H$15:I$19,2,TRUE))))))))","v":false}]
[23,null,null,"-",null,null,null,null,null,null,null,null,{"$f":"IF(E43=\"\",\"\",VLOOKUP(E43,判定式!C$3:$J$12,8,TRUE))","v":""},{"$f":"IF(F43=\"\",\"\",VLOOKUP(F43,判定式!D$3:$J$12,7,TRUE))","v":""},{"$f":"IF(G43=\"\",\"\",VLOOKUP(G43,判定式!E$3:$J$12,6,TRUE))","v":""},{"$f":"IF(H43=\"\",\"\",VLOOKUP(H43,判定式!F$3:$J$12,5,TRUE))","v":""},{"$f":"IF(I43=\"\",\"\",VLOOKUP(I43,判定式!I$3:$J$12,2,TRUE))","v":""},{"$f":"IF(J43=\"\",\"\",VLOOKUP(J43,判定式!L$3:$M$12,2,TRUE))","v":""},{"$f":"IF(K43=\"\",\"\",VLOOKUP(K43,判定式!G$3:$J$12,4,TRUE))","v":""},{"$f":"IF(L43=\"\",\"\",VLOOKUP(L43,判定式!H$3:$J$12,3,TRUE))","v":""},"",{"$f":"IF(ISNUMBER(D43),\"判定外\",IF(C43=6,VLOOKUP(U43,判定式!$C$15:I$19,7,TRUE),IF(C43=7,VLOOKUP(U43,判定式!$D$15:I$19,6,TRUE),IF(C43=8,VLOOKUP(U43,判定式!$E$15:I$19,5,TRUE),IF(C43=9,VLOOKUP(U43,判定式!$F$15:I$19,4,TRUE),IF(C43=10,VLOOKUP(U43,判定式!$G$15:I$19,3,TRUE),IF(C43=11,VLOOKUP(U43,判定式!$H$15:I$19,2,TRUE))))))))","v":false}]
[24,null,null,"-",null,null,null,null,null,null,null,null,{"$f":"IF(E44=\"\",\"\",VLOOKUP(E44,判定式!C$3:$J$12,8,TRUE))","v":""},{"$f":"IF(F44=\"\",\"\",VLOOKUP(F44,判定式!D$3:$J$12,7,TRUE))","v":""},{"$f":"IF(G44=\"\",\"\",VLOOKUP(G44,判定式!E$3:$J$12,6,TRUE))","v":""},{"$f":"IF(H44=\"\",\"\",VLOOKUP(H44,判定式!F$3:$J$12,5,TRUE))","v":""},{"$f":"IF(I44=\"\",\"\",VLOOKUP(I44,判定式!I$3:$J$12,2,TRUE))","v":""},{"$f":"IF(J44=\"\",\"\",VLOOKUP(J44,判定式!L$3:$M$12,2,TRUE))","v":""},{"$f":"IF(K44=\"\",\"\",VLOOKUP(K44,判定式!G$3:$J$12,4,TRUE))","v":""},{"$f":"IF(L44=\"\",\"\",VLOOKUP(L44,判定式!H$3:$J$12,3,TRUE))","v":""},"",{"$f":"IF(ISNUMBER(D44),\"判定外\",IF(C44=6,VLOOKUP(U44,判定式!$C$15:I$19,7,TRUE),IF(C44=7,VLOOKUP(U44,判定式!$D$15:I$19,6,TRUE),IF(C44=8,VLOOKUP(U44,判定式!$E$15:I$19,5,TRUE),IF(C44=9,VLOOKUP(U44,判定式!$F$15:I$19,4,TRUE),IF(C44=10,VLOOKUP(U44,判定式!$G$15:I$19,3,TRUE),IF(C44=11,VLOOKUP(U44,判定式!$H$15:I$19,2,TRUE))))))))","v":false}]
[25,null,null,"-",null,null,null,null,null,null,null,null,{"$f":"IF(E45=\"\",\"\",VLOOKUP(E45,判定式!C$3:$J$12,8,TRUE))","v":""},{"$f":"IF(F45=\"\",\"\",VLOOKUP(F45,判定式!D$3:$J$12,7,TRUE))","v":""},{"$f":"IF(G45=\"\",\"\",VLOOKUP(G45,判定式!E$3:$J$12,6,TRUE))","v":""},{"$f":"IF(H45=\"\",\"\",VLOOKUP(H45,判定式!F$3:$J$12,5,TRUE))","v":""},{"$f":"IF(I45=\"\",\"\",VLOOKUP(I45,判定式!I$3:$J$12,2,TRUE))","v":""},{"$f":"IF(J45=\"\",\"\",VLOOKUP(J45,判定式!L$3:$M$12,2,TRUE))","v":""},{"$f":"IF(K45=\"\",\"\",VLOOKUP(K45,判定式!G$3:$J$12,4,TRUE))","v":""},{"$f":"IF(L45=\"\",\"\",VLOOKUP(L45,判定式!H$3:$J$12,3,TRUE))","v":""},"",{"$f":"IF(ISNUMBER(D45),\"判定外\",IF(C45=6,VLOOKUP(U45,判定式!$C$15:I$19,7,TRUE),IF(C45=7,VLOOKUP(U45,判定式!$D$15:I$19,6,TRUE),IF(C45=8,VLOOKUP(U45,判定式!$E$15:I$19,5,TRUE),IF(C45=9,VLOOKUP(U45,判定式!$F$15:I$19,4,TRUE),IF(C45=10,VLOOKUP(U45,判定式!$G$15:I$19,3,TRUE),IF(C45=11,VLOOKUP(U45,判定式!$H$15:I$19,2,TRUE))))))))","v":false}]
[26,null,null,"-",null,null,null,null,null,null,null,null,{"$f":"IF(E46=\"\",\"\",VLOOKUP(E46,判定式!C$3:$J$12,8,TRUE))","v":""},{"$f":"IF(F46=\"\",\"\",VLOOKUP(F46,判定式!D$3:$J$12,7,TRUE))","v":""},{"$f":"IF(G46=\"\",\"\",VLOOKUP(G46,判定式!E$3:$J$12,6,TRUE))","v":""},{"$f":"IF(H46=\"\",\"\",VLOOKUP(H46,判定式!F$3:$J$12,5,TRUE))","v":""},{"$f":"IF(I46=\"\",\"\",VLOOKUP(I46,判定式!I$3:$J$12,2,TRUE))","v":""},{"$f":"IF(J46=\"\",\"\",VLOOKUP(J46,判定式!L$3:$M$12,2,TRUE))","v":""},{"$f":"IF(K46=\"\",\"\",VLOOKUP(K46,判定式!G$3:$J$12,4,TRUE))","v":""},{"$f":"IF(L46=\"\",\"\",VLOOKUP(L46,判定式!H$3:$J$12,3,TRUE))","v":""},"",{"$f":"IF(ISNUMBER(D46),\"判定外\",IF(C46=6,VLOOKUP(U46,判定式!$C$15:I$19,7,TRUE),IF(C46=7,VLOOKUP(U46,判定式!$D$15:I$19,6,TRUE),IF(C46=8,VLOOKUP(U46,判定式!$E$15:I$19,5,TRUE),IF(C46=9,VLOOKUP(U46,判定式!$F$15:I$19,4,TRUE),IF(C46=10,VLOOKUP(U46,判定式!$G$15:I$19,3,TRUE),IF(C46=11,VLOOKUP(U46,判定式!$H$15:I$19,2,TRUE))))))))","v":false}]
[27,null,null,"-",null,null,null,null,null,null,null,null,{"$f":"IF(E47=\"\",\"\",VLOOKUP(E47,判定式!C$3:$J$12,8,TRUE))","v":""},{"$f":"IF(F47=\"\",\"\",VLOOKUP(F47,判定式!D$3:$J$12,7,TRUE))","v":""},{"$f":"IF(G47=\"\",\"\",VLOOKUP(G47,判定式!E$3:$J$12,6,TRUE))","v":""},{"$f":"IF(H47=\"\",\"\",VLOOKUP(H47,判定式!F$3:$J$12,5,TRUE))","v":""},{"$f":"IF(I47=\"\",\"\",VLOOKUP(I47,判定式!I$3:$J$12,2,TRUE))","v":""},{"$f":"IF(J47=\"\",\"\",VLOOKUP(J47,判定式!L$3:$M$12,2,TRUE))","v":""},{"$f":"IF(K47=\"\",\"\",VLOOKUP(K47,判定式!G$3:$J$12,4,TRUE))","v":""},{"$f":"IF(L47=\"\",\"\",VLOOKUP(L47,判定式!H$3:$J$12,3,TRUE))","v":""},"",{"$f":"IF(ISNUMBER(D47),\"判定外\",IF(C47=6,VLOOKUP(U47,判定式!$C$15:I$19,7,TRUE),IF(C47=7,VLOOKUP(U47,判定式!$D$15:I$19,6,TRUE),IF(C47=8,VLOOKUP(U47,判定式!$E$15:I$19,5,TRUE),IF(C47=9,VLOOKUP(U47,判定式!$F$15:I$19,4,TRUE),IF(C47=10,VLOOKUP(U47,判定式!$G$15:I$19,3,TRUE),IF(C47=11,VLOOKUP(U47,判定式!$H$15:I$19,2,TRUE))))))))","v":false}]
[28,null,null,"-",null,null,null,null,null,null,null,null,{"$f":"IF(E48=\"\",\"\",VLOOKUP(E48,判定式!C$3:$J$12,8,TRUE))","v":""},{"$f":"IF(F48=\"\",\"\",VLOOKUP(F48,判定式!D$3:$J$12,7,TRUE))","v":""},{"$f":"IF(G48=\"\",\"\",VLOOKUP(G48,判定式!E$3:$J$12,6,TRUE))","v":""},{"$f":"IF(H48=\"\",\"\",VLOOKUP(H48,判定式!F$3:$J$12,5,TRUE))","v":""},{"$f":"IF(I48=\"\",\"\",VLOOKUP(I48,判定式!I$3:$J$12,2,TRUE))","v":""},{"$f":"IF(J48=\"\",\"\",VLOOKUP(J48,判定式!L$3:$M$12,2,TRUE))","v":""},{"$f":"IF(K48=\"\",\"\",VLOOKUP(K48,判定式!G$3:$J$12,4,TRUE))","v":""},{"$f":"IF(L48=\"\",\"\",VLOOKUP(L48,判定式!H$3:$J$12,3,TRUE))","v":""},"",{"$f":"IF(ISNUMBER(D48),\"判定外\",IF(C48=6,VLOOKUP(U48,判定式!$C$15:I$19,7,TRUE),IF(C48=7,VLOOKUP(U48,判定式!$D$15:I$19,6,TRUE),IF(C48=8,VLOOKUP(U48,判定式!$E$15:I$19,5,TRUE),IF(C48=9,VLOOKUP(U48,判定式!$F$15:I$19,4,TRUE),IF(C48=10,VLOOKUP(U48,判定式!$G$15:I$19,3,TRUE),IF(C48=11,VLOOKUP(U48,判定式!$H$15:I$19,2,TRUE))))))))","v":false}]
[29,null,null,"-",null,null,null,null,null,null,null,null,{"$f":"IF(E49=\"\",\"\",VLOOKUP(E49,判定式!C$3:$J$12,8,TRUE))","v":""},{"$f":"IF(F49=\"\",\"\",VLOOKUP(F49,判定式!D$3:$J$12,7,TRUE))","v":""},{"$f":"IF(G49=\"\",\"\",VLOOKUP(G49,判定式!E$3:$J$12,6,TRUE))","v":""},{"$f":"IF(H49=\"\",\"\",VLOOKUP(H49,判定式!F$3:$J$12,5,TRUE))","v":""},{"$f":"IF(I49=\"\",\"\",VLOOKUP(I49,判定式!I$3:$J$12,2,TRUE))","v":""},{"$f":"IF(J49=\"\",\"\",VLOOKUP(J49,判定式!L$3:$M$12,2,TRUE))","v":""},{"$f":"IF(K49=\"\",\"\",VLOOKUP(K49,判定式!G$3:$J$12,4,TRUE))","v":""},{"$f":"IF(L49=\"\",\"\",VLOOKUP(L49,判定式!H$3:$J$12,3,TRUE))","v":""},"",{"$f":"IF(ISNUMBER(D49),\"判定外\",IF(C49=6,VLOOKUP(U49,判定式!$C$15:I$19,7,TRUE),IF(C49=7,VLOOKUP(U49,判定式!$D$15:I$19,6,TRUE),IF(C49=8,VLOOKUP(U49,判定式!$E$15:I$19,5,TRUE),IF(C49=9,VLOOKUP(U49,判定式!$F$15:I$19,4,TRUE),IF(C49=10,VLOOKUP(U49,判定式!$G$15:I$19,3,TRUE),IF(C49=11,VLOOKUP(U49,判定式!$H$15:I$19,2,TRUE))))))))","v":false}]
[30,null,null,"-",null,null,null,null,null,null,null,null,{"$f":"IF(E50=\"\",\"\",VLOOKUP(E50,判定式!C$3:$J$12,8,TRUE))","v":""},{"$f":"IF(F50=\"\",\"\",VLOOKUP(F50,判定式!D$3:$J$12,7,TRUE))","v":""},{"$f":"IF(G50=\"\",\"\",VLOOKUP(G50,判定式!E$3:$J$12,6,TRUE))","v":""},{"$f":"IF(H50=\"\",\"\",VLOOKUP(H50,判定式!F$3:$J$12,5,TRUE))","v":""},{"$f":"IF(I50=\"\",\"\",VLOOKUP(I50,判定式!I$3:$J$12,2,TRUE))","v":""},{"$f":"IF(J50=\"\",\"\",VLOOKUP(J50,判定式!L$3:$M$12,2,TRUE))","v":""},{"$f":"IF(K50=\"\",\"\",VLOOKUP(K50,判定式!G$3:$J$12,4,TRUE))","v":""},{"$f":"IF(L50=\"\",\"\",VLOOKUP(L50,判定式!H$3:$J$12,3,TRUE))","v":""},"",{"$f":"IF(ISNUMBER(D50),\"判定外\",IF(C50=6,VLOOKUP(U50,判定式!$C$15:I$19,7,TRUE),IF(C50=7,VLOOKUP(U50,判定式!$D$15:I$19,6,TRUE),IF(C50=8,VLOOKUP(U50,判定式!$E$15:I$19,5,TRUE),IF(C50=9,VLOOKUP(U50,判定式!$F$15:I$19,4,TRUE),IF(C50=10,VLOOKUP(U50,判定式!$G$15:I$19,3,TRUE),IF(C50=11,VLOOKUP(U50,判定式!$H$15:I$19,2,TRUE))))))))","v":false}]
[31,null,null,"-",null,null,null,null,null,null,null,null,{"$f":"IF(E51=\"\",\"\",VLOOKUP(E51,判定式!C$3:$J$12,8,TRUE))","v":""},{"$f":"IF(F51=\"\",\"\",VLOOKUP(F51,判定式!D$3:$J$12,7,TRUE))","v":""},{"$f":"IF(G51=\"\",\"\",VLOOKUP(G51,判定式!E$3:$J$12,6,TRUE))","v":""},{"$f":"IF(H51=\"\",\"\",VLOOKUP(H51,判定式!F$3:$J$12,5,TRUE))","v":""},{"$f":"IF(I51=\"\",\"\",VLOOKUP(I51,判定式!I$3:$J$12,2,TRUE))","v":""},{"$f":"IF(J51=\"\",\"\",VLOOKUP(J51,判定式!L$3:$M$12,2,TRUE))","v":""},{"$f":"IF(K51=\"\",\"\",VLOOKUP(K51,判定式!G$3:$J$12,4,TRUE))","v":""},{"$f":"IF(L51=\"\",\"\",VLOOKUP(L51,判定式!H$3:$J$12,3,TRUE))","v":""},"",{"$f":"IF(ISNUMBER(D51),\"判定外\",IF(C51=6,VLOOKUP(U51,判定式!$C$15:I$19,7,TRUE),IF(C51=7,VLOOKUP(U51,判定式!$D$15:I$19,6,TRUE),IF(C51=8,VLOOKUP(U51,判定式!$E$15:I$19,5,TRUE),IF(C51=9,VLOOKUP(U51,判定式!$F$15:I$19,4,TRUE),IF(C51=10,VLOOKUP(U51,判定式!$G$15:I$19,3,TRUE),IF(C51=11,VLOOKUP(U51,判定式!$H$15:I$19,2,TRUE))))))))","v":false}]
[32,null,null,"-",null,null,null,null,null,null,null,null,{"$f":"IF(E52=\"\",\"\",VLOOKUP(E52,判定式!C$3:$J$12,8,TRUE))","v":""},{"$f":"IF(F52=\"\",\"\",VLOOKUP(F52,判定式!D$3:$J$12,7,TRUE))","v":""},{"$f":"IF(G52=\"\",\"\",VLOOKUP(G52,判定式!E$3:$J$12,6,TRUE))","v":""},{"$f":"IF(H52=\"\",\"\",VLOOKUP(H52,判定式!F$3:$J$12,5,TRUE))","v":""},{"$f":"IF(I52=\"\",\"\",VLOOKUP(I52,判定式!I$3:$J$12,2,TRUE))","v":""},{"$f":"IF(J52=\"\",\"\",VLOOKUP(J52,判定式!L$3:$M$12,2,TRUE))","v":""},{"$f":"IF(K52=\"\",\"\",VLOOKUP(K52,判定式!G$3:$J$12,4,TRUE))","v":""},{"$f":"IF(L52=\"\",\"\",VLOOKUP(L52,判定式!H$3:$J$12,3,TRUE))","v":""},"",{"$f":"IF(ISNUMBER(D52),\"判定外\",IF(C52=6,VLOOKUP(U52,判定式!$C$15:I$19,7,TRUE),IF(C52=7,VLOOKUP(U52,判定式!$D$15:I$19,6,TRUE),IF(C52=8,VLOOKUP(U52,判定式!$E$15:I$19,5,TRUE),IF(C52=9,VLOOKUP(U52,判定式!$F$15:I$19,4,TRUE),IF(C52=10,VLOOKUP(U52,判定式!$G$15:I$19,3,TRUE),IF(C52=11,VLOOKUP(U52,判定式!$H$15:I$19,2,TRUE))))))))","v":false}]
[33,null,null,{"$f":"IF(COUNTBLANK(E53:L53)=0,\"\",IF(COUNTBLANK(E53:L53)=8,\"-\",COUNTBLANK(E53:L53)))","v":"-"},null,null,null,null,null,null,null,null,{"$f":"IF(E53=\"\",\"\",VLOOKUP(E53,判定式!C$3:$J$12,8,TRUE))","v":""},{"$f":"IF(F53=\"\",\"\",VLOOKUP(F53,判定式!D$3:$J$12,7,TRUE))","v":""},{"$f":"IF(G53=\"\",\"\",VLOOKUP(G53,判定式!E$3:$J$12,6,TRUE))","v":""},{"$f":"IF(H53=\"\",\"\",VLOOKUP(H53,判定式!F$3:$J$12,5,TRUE))","v":""},{"$f":"IF(I53=\"\",\"\",VLOOKUP(I53,判定式!I$3:$J$12,2,TRUE))","v":""},{"$f":"IF(J53=\"\",\"\",VLOOKUP(J53,判定式!L$3:$M$12,2,TRUE))","v":""},{"$f":"IF(K53=\"\",\"\",VLOOKUP(K53,判定式!G$3:$J$12,4,TRUE))","v":""},{"$f":"IF(L53=\"\",\"\",VLOOKUP(L53,判定式!H$3:$J$12,3,TRUE))","v":""},{"$f":"IF(COUNTBLANK(M53:T53)=0,SUM(M53:T53),\"\")","v":""},{"$f":"IF(ISNUMBER(D53),\"判定外\",IF(C53=6,VLOOKUP(U53,判定式!$C$15:I$19,7,TRUE),IF(C53=7,VLOOKUP(U53,判定式!$D$15:I$19,6,TRUE),IF(C53=8,VLOOKUP(U53,判定式!$E$15:I$19,5,TRUE),IF(C53=9,VLOOKUP(U53,判定式!$F$15:I$19,4,TRUE),IF(C53=10,VLOOKUP(U53,判定式!$G$15:I$19,3,TRUE),IF(C53=11,VLOOKUP(U53,判定式!$H$15:I$19,2,TRUE))))))))","v":false}]
[34,null,null,"-",null,null,null,null,null,null,null,null,{"$f":"IF(E54=\"\",\"\",VLOOKUP(E54,判定式!C$3:$J$12,8,TRUE))","v":""},{"$f":"IF(F54=\"\",\"\",VLOOKUP(F54,判定式!D$3:$J$12,7,TRUE))","v":""},{"$f":"IF(G54=\"\",\"\",VLOOKUP(G54,判定式!E$3:$J$12,6,TRUE))","v":""},{"$f":"IF(H54=\"\",\"\",VLOOKUP(H54,判定式!F$3:$J$12,5,TRUE))","v":""},{"$f":"IF(I54=\"\",\"\",VLOOKUP(I54,判定式!I$3:$J$12,2,TRUE))","v":""},{"$f":"IF(J54=\"\",\"\",VLOOKUP(J54,判定式!L$3:$M$12,2,TRUE))","v":""},{"$f":"IF(K54=\"\",\"\",VLOOKUP(K54,判定式!G$3:$J$12,4,TRUE))","v":""},{"$f":"IF(L54=\"\",\"\",VLOOKUP(L54,判定式!H$3:$J$12,3,TRUE))","v":""},"",{"$f":"IF(ISNUMBER(D54),\"判定外\",IF(C54=6,VLOOKUP(U54,判定式!$C$15:I$19,7,TRUE),IF(C54=7,VLOOKUP(U54,判定式!$D$15:I$19,6,TRUE),IF(C54=8,VLOOKUP(U54,判定式!$E$15:I$19,5,TRUE),IF(C54=9,VLOOKUP(U54,判定式!$F$15:I$19,4,TRUE),IF(C54=10,VLOOKUP(U54,判定式!$G$15:I$19,3,TRUE),IF(C54=11,VLOOKUP(U54,判定式!$H$15:I$19,2,TRUE))))))))","v":false}]
[35,null,null,"-",null,null,null,null,null,null,null,null,{"$f":"IF(E55=\"\",\"\",VLOOKUP(E55,判定式!C$3:$J$12,8,TRUE))","v":""},{"$f":"IF(F55=\"\",\"\",VLOOKUP(F55,判定式!D$3:$J$12,7,TRUE))","v":""},{"$f":"IF(G55=\"\",\"\",VLOOKUP(G55,判定式!E$3:$J$12,6,TRUE))","v":""},{"$f":"IF(H55=\"\",\"\",VLOOKUP(H55,判定式!F$3:$J$12,5,TRUE))","v":""},{"$f":"IF(I55=\"\",\"\",VLOOKUP(I55,判定式!I$3:$J$12,2,TRUE))","v":""},{"$f":"IF(J55=\"\",\"\",VLOOKUP(J55,判定式!L$3:$M$12,2,TRUE))","v":""},{"$f":"IF(K55=\"\",\"\",VLOOKUP(K55,判定式!G$3:$J$12,4,TRUE))","v":""},{"$f":"IF(L55=\"\",\"\",VLOOKUP(L55,判定式!H$3:$J$12,3,TRUE))","v":""},"",{"$f":"IF(ISNUMBER(D55),\"判定外\",IF(C55=6,VLOOKUP(U55,判定式!$C$15:I$19,7,TRUE),IF(C55=7,VLOOKUP(U55,判定式!$D$15:I$19,6,TRUE),IF(C55=8,VLOOKUP(U55,判定式!$E$15:I$19,5,TRUE),IF(C55=9,VLOOKUP(U55,判定式!$F$15:I$19,4,TRUE),IF(C55=10,VLOOKUP(U55,判定式!$G$15:I$19,3,TRUE),IF(C55=11,VLOOKUP(U55,判定式!$H$15:I$19,2,TRUE))))))))","v":false}]
[36,null,null,"-",null,null,null,null,null,null,null,null,{"$f":"IF(E56=\"\",\"\",VLOOKUP(E56,判定式!C$3:$J$12,8,TRUE))","v":""},{"$f":"IF(F56=\"\",\"\",VLOOKUP(F56,判定式!D$3:$J$12,7,TRUE))","v":""},{"$f":"IF(G56=\"\",\"\",VLOOKUP(G56,判定式!E$3:$J$12,6,TRUE))","v":""},{"$f":"IF(H56=\"\",\"\",VLOOKUP(H56,判定式!F$3:$J$12,5,TRUE))","v":""},{"$f":"IF(I56=\"\",\"\",VLOOKUP(I56,判定式!I$3:$J$12,2,TRUE))","v":""},{"$f":"IF(J56=\"\",\"\",VLOOKUP(J56,判定式!L$3:$M$12,2,TRUE))","v":""},{"$f":"IF(K56=\"\",\"\",VLOOKUP(K56,判定式!G$3:$J$12,4,TRUE))","v":""},{"$f":"IF(L56=\"\",\"\",VLOOKUP(L56,判定式!H$3:$J$12,3,TRUE))","v":""},"",{"$f":"IF(ISNUMBER(D56),\"判定外\",IF(C56=6,VLOOKUP(U56,判定式!$C$15:I$19,7,TRUE),IF(C56=7,VLOOKUP(U56,判定式!$D$15:I$19,6,TRUE),IF(C56=8,VLOOKUP(U56,判定式!$E$15:I$19,5,TRUE),IF(C56=9,VLOOKUP(U56,判定式!$F$15:I$19,4,TRUE),IF(C56=10,VLOOKUP(U56,判定式!$G$15:I$19,3,TRUE),IF(C56=11,VLOOKUP(U56,判定式!$H$15:I$19,2,TRUE))))))))","v":false}]
[37,null,null,"-",null,null,null,null,null,null,null,null,{"$f":"IF(E57=\"\",\"\",VLOOKUP(E57,判定式!C$3:$J$12,8,TRUE))","v":""},{"$f":"IF(F57=\"\",\"\",VLOOKUP(F57,判定式!D$3:$J$12,7,TRUE))","v":""},{"$f":"IF(G57=\"\",\"\",VLOOKUP(G57,判定式!E$3:$J$12,6,TRUE))","v":""},{"$f":"IF(H57=\"\",\"\",VLOOKUP(H57,判定式!F$3:$J$12,5,TRUE))","v":""},{"$f":"IF(I57=\"\",\"\",VLOOKUP(I57,判定式!I$3:$J$12,2,TRUE))","v":""},{"$f":"IF(J57=\"\",\"\",VLOOKUP(J57,判定式!L$3:$M$12,2,TRUE))","v":""},{"$f":"IF(K57=\"\",\"\",VLOOKUP(K57,判定式!G$3:$J$12,4,TRUE))","v":""},{"$f":"IF(L57=\"\",\"\",VLOOKUP(L57,判定式!H$3:$J$12,3,TRUE))","v":""},"",{"$f":"IF(ISNUMBER(D57),\"判定外\",IF(C57=6,VLOOKUP(U57,判定式!$C$15:I$19,7,TRUE),IF(C57=7,VLOOKUP(U57,判定式!$D$15:I$19,6,TRUE),IF(C57=8,VLOOKUP(U57,判定式!$E$15:I$19,5,TRUE),IF(C57=9,VLOOKUP(U57,判定式!$F$15:I$19,4,TRUE),IF(C57=10,VLOOKUP(U57,判定式!$G$15:I$19,3,TRUE),IF(C57=11,VLOOKUP(U57,判定式!$H$15:I$19,2,TRUE))))))))","v":false}]
[38,null,null,"-",null,null,null,null,null,null,null,null,{"$f":"IF(E58=\"\",\"\",VLOOKUP(E58,判定式!C$3:$J$12,8,TRUE))","v":""},{"$f":"IF(F58=\"\",\"\",VLOOKUP(F58,判定式!D$3:$J$12,7,TRUE))","v":""},{"$f":"IF(G58=\"\",\"\",VLOOKUP(G58,判定式!E$3:$J$12,6,TRUE))","v":""},{"$f":"IF(H58=\"\",\"\",VLOOKUP(H58,判定式!F$3:$J$12,5,TRUE))","v":""},{"$f":"IF(I58=\"\",\"\",VLOOKUP(I58,判定式!I$3:$J$12,2,TRUE))","v":""},{"$f":"IF(J58=\"\",\"\",VLOOKUP(J58,判定式!L$3:$M$12,2,TRUE))","v":""},{"$f":"IF(K58=\"\",\"\",VLOOKUP(K58,判定式!G$3:$J$12,4,TRUE))","v":""},{"$f":"IF(L58=\"\",\"\",VLOOKUP(L58,判定式!H$3:$J$12,3,TRUE))","v":""},"",{"$f":"IF(ISNUMBER(D58),\"判定外\",IF(C58=6,VLOOKUP(U58,判定式!$C$15:I$19,7,TRUE),IF(C58=7,VLOOKUP(U58,判定式!$D$15:I$19,6,TRUE),IF(C58=8,VLOOKUP(U58,判定式!$E$15:I$19,5,TRUE),IF(C58=9,VLOOKUP(U58,判定式!$F$15:I$19,4,TRUE),IF(C58=10,VLOOKUP(U58,判定式!$G$15:I$19,3,TRUE),IF(C58=11,VLOOKUP(U58,判定式!$H$15:I$19,2,TRUE))))))))","v":false}]
[39,null,null,"-",null,null,null,null,null,null,null,null,{"$f":"IF(E59=\"\",\"\",VLOOKUP(E59,判定式!C$3:$J$12,8,TRUE))","v":""},{"$f":"IF(F59=\"\",\"\",VLOOKUP(F59,判定式!D$3:$J$12,7,TRUE))","v":""},{"$f":"IF(G59=\"\",\"\",VLOOKUP(G59,判定式!E$3:$J$12,6,TRUE))","v":""},{"$f":"IF(H59=\"\",\"\",VLOOKUP(H59,判定式!F$3:$J$12,5,TRUE))","v":""},{"$f":"IF(I59=\"\",\"\",VLOOKUP(I59,判定式!I$3:$J$12,2,TRUE))","v":""},{"$f":"IF(J59=\"\",\"\",VLOOKUP(J59,判定式!L$3:$M$12,2,TRUE))","v":""},{"$f":"IF(K59=\"\",\"\",VLOOKUP(K59,判定式!G$3:$J$12,4,TRUE))","v":""},{"$f":"IF(L59=\"\",\"\",VLOOKUP(L59,判定式!H$3:$J$12,3,TRUE))","v":""},"",{"$f":"IF(ISNUMBER(D59),\"判定外\",IF(C59=6,VLOOKUP(U59,判定式!$C$15:I$19,7,TRUE),IF(C59=7,VLOOKUP(U59,判定式!$D$15:I$19,6,TRUE),IF(C59=8,VLOOKUP(U59,判定式!$E$15:I$19,5,TRUE),IF(C59=9,VLOOKUP(U59,判定式!$F$15:I$19,4,TRUE),IF(C59=10,VLOOKUP(U59,判定式!$G$15:I$19,3,TRUE),IF(C59=11,VLOOKUP(U59,判定式!$H$15:I$19,2,TRUE))))))))","v":false}]
[40,null,null,"-",null,null,null,null,null,null,null,null,{"$f":"IF(E60=\"\",\"\",VLOOKUP(E60,判定式!C$3:$J$12,8,TRUE))","v":""},{"$f":"IF(F60=\"\",\"\",VLOOKUP(F60,判定式!D$3:$J$12,7,TRUE))","v":""},{"$f":"IF(G60=\"\",\"\",VLOOKUP(G60,判定式!E$3:$J$12,6,TRUE))","v":""},{"$f":"IF(H60=\"\",\"\",VLOOKUP(H60,判定式!F$3:$J$12,5,TRUE))","v":""},{"$f":"IF(I60=\"\",\"\",VLOOKUP(I60,判定式!I$3:$J$12,2,TRUE))","v":""},{"$f":"IF(J60=\"\",\"\",VLOOKUP(J60,判定式!L$3:$M$12,2,TRUE))","v":""},{"$f":"IF(K60=\"\",\"\",VLOOKUP(K60,判定式!G$3:$J$12,4,TRUE))","v":""},{"$f":"IF(L60=\"\",\"\",VLOOKUP(L60,判定式!H$3:$J$12,3,TRUE))","v":""},"",{"$f":"IF(ISNUMBER(D60),\"判定外\",IF(C60=6,VLOOKUP(U60,判定式!$C$15:I$19,7,TRUE),IF(C60=7,VLOOKUP(U60,判定式!$D$15:I$19,6,TRUE),IF(C60=8,VLOOKUP(U60,判定式!$E$15:I$19,5,TRUE),IF(C60=9,VLOOKUP(U60,判定式!$F$15:I$19,4,TRUE),IF(C60=10,VLOOKUP(U60,判定式!$G$15:I$19,3,TRUE),IF(C60=11,VLOOKUP(U60,判定式!$H$15:I$19,2,TRUE))))))))","v":false}]
[41,null,null,"-",null,null,null,null,null,null,null,null,{"$f":"IF(E61=\"\",\"\",VLOOKUP(E61,判定式!C$3:$J$12,8,TRUE))","v":""},{"$f":"IF(F61=\"\",\"\",VLOOKUP(F61,判定式!D$3:$J$12,7,TRUE))","v":""},{"$f":"IF(G61=\"\",\"\",VLOOKUP(G61,判定式!E$3:$J$12,6,TRUE))","v":""},{"$f":"IF(H61=\"\",\"\",VLOOKUP(H61,判定式!F$3:$J$12,5,TRUE))","v":""},{"$f":"IF(I61=\"\",\"\",VLOOKUP(I61,判定式!I$3:$J$12,2,TRUE))","v":""},{"$f":"IF(J61=\"\",\"\",VLOOKUP(J61,判定式!L$3:$M$12,2,TRUE))","v":""},{"$f":"IF(K61=\"\",\"\",VLOOKUP(K61,判定式!G$3:$J$12,4,TRUE))","v":""},{"$f":"IF(L61=\"\",\"\",VLOOKUP(L61,判定式!H$3:$J$12,3,TRUE))","v":""},"",{"$f":"IF(ISNUMBER(D61),\"判定外\",IF(C61=6,VLOOKUP(U61,判定式!$C$15:I$19,7,TRUE),IF(C61=7,VLOOKUP(U61,判定式!$D$15:I$19,6,TRUE),IF(C61=8,VLOOKUP(U61,判定式!$E$15:I$19,5,TRUE),IF(C61=9,VLOOKUP(U61,判定式!$F$15:I$19,4,TRUE),IF(C61=10,VLOOKUP(U61,判定式!$G$15:I$19,3,TRUE),IF(C61=11,VLOOKUP(U61,判定式!$H$15:I$19,2,TRUE))))))))","v":false}]
[42,null,null,"-",null,null,null,null,null,null,null,null,{"$f":"IF(E62=\"\",\"\",VLOOKUP(E62,判定式!C$3:$J$12,8,TRUE))","v":""},{"$f":"IF(F62=\"\",\"\",VLOOKUP(F62,判定式!D$3:$J$12,7,TRUE))","v":""},{"$f":"IF(G62=\"\",\"\",VLOOKUP(G62,判定式!E$3:$J$12,6,TRUE))","v":""},{"$f":"IF(H62=\"\",\"\",VLOOKUP(H62,判定式!F$3:$J$12,5,TRUE))","v":""},{"$f":"IF(I62=\"\",\"\",VLOOKUP(I62,判定式!I$3:$J$12,2,TRUE))","v":""},{"$f":"IF(J62=\"\",\"\",VLOOKUP(J62,判定式!L$3:$M$12,2,TRUE))","v":""},{"$f":"IF(K62=\"\",\"\",VLOOKUP(K62,判定式!G$3:$J$12,4,TRUE))","v":""},{"$f":"IF(L62=\"\",\"\",VLOOKUP(L62,判定式!H$3:$J$12,3,TRUE))","v":""},"",{"$f":"IF(ISNUMBER(D62),\"判定外\",IF(C62=6,VLOOKUP(U62,判定式!$C$15:I$19,7,TRUE),IF(C62=7,VLOOKUP(U62,判定式!$D$15:I$19,6,TRUE),IF(C62=8,VLOOKUP(U62,判定式!$E$15:I$19,5,TRUE),IF(C62=9,VLOOKUP(U62,判定式!$F$15:I$19,4,TRUE),IF(C62=10,VLOOKUP(U62,判定式!$G$15:I$19,3,TRUE),IF(C62=11,VLOOKUP(U62,判定式!$H$15:I$19,2,TRUE))))))))","v":false}]
[43,null,null,"-",null,null,null,null,null,null,null,null,{"$f":"IF(E63=\"\",\"\",VLOOKUP(E63,判定式!C$3:$J$12,8,TRUE))","v":""},{"$f":"IF(F63=\"\",\"\",VLOOKUP(F63,判定式!D$3:$J$12,7,TRUE))","v":""},{"$f":"IF(G63=\"\",\"\",VLOOKUP(G63,判定式!E$3:$J$12,6,TRUE))","v":""},{"$f":"IF(H63=\"\",\"\",VLOOKUP(H63,判定式!F$3:$J$12,5,TRUE))","v":""},{"$f":"IF(I63=\"\",\"\",VLOOKUP(I63,判定式!I$3:$J$12,2,TRUE))","v":""},{"$f":"IF(J63=\"\",\"\",VLOOKUP(J63,判定式!L$3:$M$12,2,TRUE))","v":""},{"$f":"IF(K63=\"\",\"\",VLOOKUP(K63,判定式!G$3:$J$12,4,TRUE))","v":""},{"$f":"IF(L63=\"\",\"\",VLOOKUP(L63,判定式!H$3:$J$12,3,TRUE))","v":""},"",{"$f":"IF(ISNUMBER(D63),\"判定外\",IF(C63=6,VLOOKUP(U63,判定式!$C$15:I$19,7,TRUE),IF(C63=7,VLOOKUP(U63,判定式!$D$15:I$19,6,TRUE),IF(C63=8,VLOOKUP(U63,判定式!$E$15:I$19,5,TRUE),IF(C63=9,VLOOKUP(U63,判定式!$F$15:I$19,4,TRUE),IF(C63=10,VLOOKUP(U63,判定式!$G$15:I$19,3,TRUE),IF(C63=11,VLOOKUP(U63,判定式!$H$15:I$19,2,TRUE))))))))","v":false}]
[44,null,null,"-",null,null,null,null,null,null,null,null,{"$f":"IF(E64=\"\",\"\",VLOOKUP(E64,判定式!C$3:$J$12,8,TRUE))","v":""},{"$f":"IF(F64=\"\",\"\",VLOOKUP(F64,判定式!D$3:$J$12,7,TRUE))","v":""},{"$f":"IF(G64=\"\",\"\",VLOOKUP(G64,判定式!E$3:$J$12,6,TRUE))","v":""},{"$f":"IF(H64=\"\",\"\",VLOOKUP(H64,判定式!F$3:$J$12,5,TRUE))","v":""},{"$f":"IF(I64=\"\",\"\",VLOOKUP(I64,判定式!I$3:$J$12,2,TRUE))","v":""},{"$f":"IF(J64=\"\",\"\",VLOOKUP(J64,判定式!L$3:$M$12,2,TRUE))","v":""},{"$f":"IF(K64=\"\",\"\",VLOOKUP(K64,判定式!G$3:$J$12,4,TRUE))","v":""},{"$f":"IF(L64=\"\",\"\",VLOOKUP(L64,判定式!H$3:$J$12,3,TRUE))","v":""},"",{"$f":"IF(ISNUMBER(D64),\"判定外\",IF(C64=6,VLOOKUP(U64,判定式!$C$15:I$19,7,TRUE),IF(C64=7,VLOOKUP(U64,判定式!$D$15:I$19,6,TRUE),IF(C64=8,VLOOKUP(U64,判定式!$E$15:I$19,5,TRUE),IF(C64=9,VLOOKUP(U64,判定式!$F$15:I$19,4,TRUE),IF(C64=10,VLOOKUP(U64,判定式!$G$15:I$19,3,TRUE),IF(C64=11,VLOOKUP(U64,判定式!$H$15:I$19,2,TRUE))))))))","v":false}]
[45,null,null,"-",null,null,null,null,null,null,null,null,{"$f":"IF(E65=\"\",\"\",VLOOKUP(E65,判定式!C$3:$J$12,8,TRUE))","v":""},{"$f":"IF(F65=\"\",\"\",VLOOKUP(F65,判定式!D$3:$J$12,7,TRUE))","v":""},{"$f":"IF(G65=\"\",\"\",VLOOKUP(G65,判定式!E$3:$J$12,6,TRUE))","v":""},{"$f":"IF(H65=\"\",\"\",VLOOKUP(H65,判定式!F$3:$J$12,5,TRUE))","v":""},{"$f":"IF(I65=\"\",\"\",VLOOKUP(I65,判定式!I$3:$J$12,2,TRUE))","v":""},{"$f":"IF(J65=\"\",\"\",VLOOKUP(J65,判定式!L$3:$M$12,2,TRUE))","v":""},{"$f":"IF(K65=\"\",\"\",VLOOKUP(K65,判定式!G$3:$J$12,4,TRUE))","v":""},{"$f":"IF(L65=\"\",\"\",VLOOKUP(L65,判定式!H$3:$J$12,3,TRUE))","v":""},"",{"$f":"IF(ISNUMBER(D65),\"判定外\",IF(C65=6,VLOOKUP(U65,判定式!$C$15:I$19,7,TRUE),IF(C65=7,VLOOKUP(U65,判定式!$D$15:I$19,6,TRUE),IF(C65=8,VLOOKUP(U65,判定式!$E$15:I$19,5,TRUE),IF(C65=9,VLOOKUP(U65,判定式!$F$15:I$19,4,TRUE),IF(C65=10,VLOOKUP(U65,判定式!$G$15:I$19,3,TRUE),IF(C65=11,VLOOKUP(U65,判定式!$H$15:I$19,2,TRUE))))))))","v":false}]
[46,null,null,"-",null,null,null,null,null,null,null,null,{"$f":"IF(E66=\"\",\"\",VLOOKUP(E66,判定式!C$3:$J$12,8,TRUE))","v":""},{"$f":"IF(F66=\"\",\"\",VLOOKUP(F66,判定式!D$3:$J$12,7,TRUE))","v":""},{"$f":"IF(G66=\"\",\"\",VLOOKUP(G66,判定式!E$3:$J$12,6,TRUE))","v":""},{"$f":"IF(H66=\"\",\"\",VLOOKUP(H66,判定式!F$3:$J$12,5,TRUE))","v":""},{"$f":"IF(I66=\"\",\"\",VLOOKUP(I66,判定式!I$3:$J$12,2,TRUE))","v":""},{"$f":"IF(J66=\"\",\"\",VLOOKUP(J66,判定式!L$3:$M$12,2,TRUE))","v":""},{"$f":"IF(K66=\"\",\"\",VLOOKUP(K66,判定式!G$3:$J$12,4,TRUE))","v":""},{"$f":"IF(L66=\"\",\"\",VLOOKUP(L66,判定式!H$3:$J$12,3,TRUE))","v":""},"",{"$f":"IF(ISNUMBER(D66),\"判定外\",IF(C66=6,VLOOKUP(U66,判定式!$C$15:I$19,7,TRUE),IF(C66=7,VLOOKUP(U66,判定式!$D$15:I$19,6,TRUE),IF(C66=8,VLOOKUP(U66,判定式!$E$15:I$19,5,TRUE),IF(C66=9,VLOOKUP(U66,判定式!$F$15:I$19,4,TRUE),IF(C66=10,VLOOKUP(U66,判定式!$G$15:I$19,3,TRUE),IF(C66=11,VLOOKUP(U66,判定式!$H$15:I$19,2,TRUE))))))))","v":false}]
[47,null,null,"-",null,null,null,null,null,null,null,null,{"$f":"IF(E67=\"\",\"\",VLOOKUP(E67,判定式!C$3:$J$12,8,TRUE))","v":""},{"$f":"IF(F67=\"\",\"\",VLOOKUP(F67,判定式!D$3:$J$12,7,TRUE))","v":""},{"$f":"IF(G67=\"\",\"\",VLOOKUP(G67,判定式!E$3:$J$12,6,TRUE))","v":""},{"$f":"IF(H67=\"\",\"\",VLOOKUP(H67,判定式!F$3:$J$12,5,TRUE))","v":""},{"$f":"IF(I67=\"\",\"\",VLOOKUP(I67,判定式!I$3:$J$12,2,TRUE))","v":""},{"$f":"IF(J67=\"\",\"\",VLOOKUP(J67,判定式!L$3:$M$12,2,TRUE))","v":""},{"$f":"IF(K67=\"\",\"\",VLOOKUP(K67,判定式!G$3:$J$12,4,TRUE))","v":""},{"$f":"IF(L67=\"\",\"\",VLOOKUP(L67,判定式!H$3:$J$12,3,TRUE))","v":""},"",{"$f":"IF(ISNUMBER(D67),\"判定外\",IF(C67=6,VLOOKUP(U67,判定式!$C$15:I$19,7,TRUE),IF(C67=7,VLOOKUP(U67,判定式!$D$15:I$19,6,TRUE),IF(C67=8,VLOOKUP(U67,判定式!$E$15:I$19,5,TRUE),IF(C67=9,VLOOKUP(U67,判定式!$F$15:I$19,4,TRUE),IF(C67=10,VLOOKUP(U67,判定式!$G$15:I$19,3,TRUE),IF(C67=11,VLOOKUP(U67,判定式!$H$15:I$19,2,TRUE))))))))","v":false}]
[48,null,null,"-",null,null,null,null,null,null,null,null,{"$f":"IF(E68=\"\",\"\",VLOOKUP(E68,判定式!C$3:$J$12,8,TRUE))","v":""},{"$f":"IF(F68=\"\",\"\",VLOOKUP(F68,判定式!D$3:$J$12,7,TRUE))","v":""},{"$f":"IF(G68=\"\",\"\",VLOOKUP(G68,判定式!E$3:$J$12,6,TRUE))","v":""},{"$f":"IF(H68=\"\",\"\",VLOOKUP(H68,判定式!F$3:$J$12,5,TRUE))","v":""},{"$f":"IF(I68=\"\",\"\",VLOOKUP(I68,判定式!I$3:$J$12,2,TRUE))","v":""},{"$f":"IF(J68=\"\",\"\",VLOOKUP(J68,判定式!L$3:$M$12,2,TRUE))","v":""},{"$f":"IF(K68=\"\",\"\",VLOOKUP(K68,判定式!G$3:$J$12,4,TRUE))","v":""},{"$f":"IF(L68=\"\",\"\",VLOOKUP(L68,判定式!H$3:$J$12,3,TRUE))","v":""},"",{"$f":"IF(ISNUMBER(D68),\"判定外\",IF(C68=6,VLOOKUP(U68,判定式!$C$15:I$19,7,TRUE),IF(C68=7,VLOOKUP(U68,判定式!$D$15:I$19,6,TRUE),IF(C68=8,VLOOKUP(U68,判定式!$E$15:I$19,5,TRUE),IF(C68=9,VLOOKUP(U68,判定式!$F$15:I$19,4,TRUE),IF(C68=10,VLOOKUP(U68,判定式!$G$15:I$19,3,TRUE),IF(C68=11,VLOOKUP(U68,判定式!$H$15:I$19,2,TRUE))))))))","v":false}]
[49,null,null,"-",null,null,null,null,null,null,null,null,{"$f":"IF(E69=\"\",\"\",VLOOKUP(E69,判定式!C$3:$J$12,8,TRUE))","v":""},{"$f":"IF(F69=\"\",\"\",VLOOKUP(F69,判定式!D$3:$J$12,7,TRUE))","v":""},{"$f":"IF(G69=\"\",\"\",VLOOKUP(G69,判定式!E$3:$J$12,6,TRUE))","v":""},{"$f":"IF(H69=\"\",\"\",VLOOKUP(H69,判定式!F$3:$J$12,5,TRUE))","v":""},{"$f":"IF(I69=\"\",\"\",VLOOKUP(I69,判定式!I$3:$J$12,2,TRUE))","v":""},{"$f":"IF(J69=\"\",\"\",VLOOKUP(J69,判定式!L$3:$M$12,2,TRUE))","v":""},{"$f":"IF(K69=\"\",\"\",VLOOKUP(K69,判定式!G$3:$J$12,4,TRUE))","v":""},{"$f":"IF(L69=\"\",\"\",VLOOKUP(L69,判定式!H$3:$J$12,3,TRUE))","v":""},"",{"$f":"IF(ISNUMBER(D69),\"判定外\",IF(C69=6,VLOOKUP(U69,判定式!$C$15:I$19,7,TRUE),IF(C69=7,VLOOKUP(U69,判定式!$D$15:I$19,6,TRUE),IF(C69=8,VLOOKUP(U69,判定式!$E$15:I$19,5,TRUE),IF(C69=9,VLOOKUP(U69,判定式!$F$15:I$19,4,TRUE),IF(C69=10,VLOOKUP(U69,判定式!$G$15:I$19,3,TRUE),IF(C69=11,VLOOKUP(U69,判定式!$H$15:I$19,2,TRUE))))))))","v":false}]
[50,null,null,"-",null,null,null,null,null,null,null,null,{"$f":"IF(E70=\"\",\"\",VLOOKUP(E70,判定式!C$3:$J$12,8,TRUE))","v":""},{"$f":"IF(F70=\"\",\"\",VLOOKUP(F70,判定式!D$3:$J$12,7,TRUE))","v":""},{"$f":"IF(G70=\"\",\"\",VLOOKUP(G70,判定式!E$3:$J$12,6,TRUE))","v":""},{"$f":"IF(H70=\"\",\"\",VLOOKUP(H70,判定式!F$3:$J$12,5,TRUE))","v":""},{"$f":"IF(I70=\"\",\"\",VLOOKUP(I70,判定式!I$3:$J$12,2,TRUE))","v":""},{"$f":"IF(J70=\"\",\"\",VLOOKUP(J70,判定式!L$3:$M$12,2,TRUE))","v":""},{"$f":"IF(K70=\"\",\"\",VLOOKUP(K70,判定式!G$3:$J$12,4,TRUE))","v":""},{"$f":"IF(L70=\"\",\"\",VLOOKUP(L70,判定式!H$3:$J$12,3,TRUE))","v":""},"",{"$f":"IF(ISNUMBER(D70),\"判定外\",IF(C70=6,VLOOKUP(U70,判定式!$C$15:I$19,7,TRUE),IF(C70=7,VLOOKUP(U70,判定式!$D$15:I$19,6,TRUE),IF(C70=8,VLOOKUP(U70,判定式!$E$15:I$19,5,TRUE),IF(C70=9,VLOOKUP(U70,判定式!$F$15:I$19,4,TRUE),IF(C70=10,VLOOKUP(U70,判定式!$G$15:I$19,3,TRUE),IF(C70=11,VLOOKUP(U70,判定式!$H$15:I$19,2,TRUE))))))))","v":false}]
[51,null,null,"-",null,null,null,null,null,null,null,null,{"$f":"IF(E71=\"\",\"\",VLOOKUP(E71,判定式!C$3:$J$12,8,TRUE))","v":""},{"$f":"IF(F71=\"\",\"\",VLOOKUP(F71,判定式!D$3:$J$12,7,TRUE))","v":""},{"$f":"IF(G71=\"\",\"\",VLOOKUP(G71,判定式!E$3:$J$12,6,TRUE))","v":""},{"$f":"IF(H71=\"\",\"\",VLOOKUP(H71,判定式!F$3:$J$12,5,TRUE))","v":""},{"$f":"IF(I71=\"\",\"\",VLOOKUP(I71,判定式!I$3:$J$12,2,TRUE))","v":""},{"$f":"IF(J71=\"\",\"\",VLOOKUP(J71,判定式!L$3:$M$12,2,TRUE))","v":""},{"$f":"IF(K71=\"\",\"\",VLOOKUP(K71,判定式!G$3:$J$12,4,TRUE))","v":""},{"$f":"IF(L71=\"\",\"\",VLOOKUP(L71,判定式!H$3:$J$12,3,TRUE))","v":""},"",{"$f":"IF(ISNUMBER(D71),\"判定外\",IF(C71=6,VLOOKUP(U71,判定式!$C$15:I$19,7,TRUE),IF(C71=7,VLOOKUP(U71,判定式!$D$15:I$19,6,TRUE),IF(C71=8,VLOOKUP(U71,判定式!$E$15:I$19,5,TRUE),IF(C71=9,VLOOKUP(U71,判定式!$F$15:I$19,4,TRUE),IF(C71=10,VLOOKUP(U71,判定式!$G$15:I$19,3,TRUE),IF(C71=11,VLOOKUP(U71,判定式!$H$15:I$19,2,TRUE))))))))","v":false}]
[52,null,null,"-",null,null,null,null,null,null,null,null,{"$f":"IF(E72=\"\",\"\",VLOOKUP(E72,判定式!C$3:$J$12,8,TRUE))","v":""},{"$f":"IF(F72=\"\",\"\",VLOOKUP(F72,判定式!D$3:$J$12,7,TRUE))","v":""},{"$f":"IF(G72=\"\",\"\",VLOOKUP(G72,判定式!E$3:$J$12,6,TRUE))","v":""},{"$f":"IF(H72=\"\",\"\",VLOOKUP(H72,判定式!F$3:$J$12,5,TRUE))","v":""},{"$f":"IF(I72=\"\",\"\",VLOOKUP(I72,判定式!I$3:$J$12,2,TRUE))","v":""},{"$f":"IF(J72=\"\",\"\",VLOOKUP(J72,判定式!L$3:$M$12,2,TRUE))","v":""},{"$f":"IF(K72=\"\",\"\",VLOOKUP(K72,判定式!G$3:$J$12,4,TRUE))","v":""},{"$f":"IF(L72=\"\",\"\",VLOOKUP(L72,判定式!H$3:$J$12,3,TRUE))","v":""},"",{"$f":"IF(ISNUMBER(D72),\"判定外\",IF(C72=6,VLOOKUP(U72,判定式!$C$15:I$19,7,TRUE),IF(C72=7,VLOOKUP(U72,判定式!$D$15:I$19,6,TRUE),IF(C72=8,VLOOKUP(U72,判定式!$E$15:I$19,5,TRUE),IF(C72=9,VLOOKUP(U72,判定式!$F$15:I$19,4,TRUE),IF(C72=10,VLOOKUP(U72,判定式!$G$15:I$19,3,TRUE),IF(C72=11,VLOOKUP(U72,判定式!$H$15:I$19,2,TRUE))))))))","v":false}]
[53,null,null,"-",null,null,null,null,null,null,null,null,{"$f":"IF(E73=\"\",\"\",VLOOKUP(E73,判定式!C$3:$J$12,8,TRUE))","v":""},{"$f":"IF(F73=\"\",\"\",VLOOKUP(F73,判定式!D$3:$J$12,7,TRUE))","v":""},{"$f":"IF(G73=\"\",\"\",VLOOKUP(G73,判定式!E$3:$J$12,6,TRUE))","v":""},{"$f":"IF(H73=\"\",\"\",VLOOKUP(H73,判定式!F$3:$J$12,5,TRUE))","v":""},{"$f":"IF(I73=\"\",\"\",VLOOKUP(I73,判定式!I$3:$J$12,2,TRUE))","v":""},{"$f":"IF(J73=\"\",\"\",VLOOKUP(J73,判定式!L$3:$M$12,2,TRUE))","v":""},{"$f":"IF(K73=\"\",\"\",VLOOKUP(K73,判定式!G$3:$J$12,4,TRUE))","v":""},{"$f":"IF(L73=\"\",\"\",VLOOKUP(L73,判定式!H$3:$J$12,3,TRUE))","v":""},"",{"$f":"IF(ISNUMBER(D73),\"判定外\",IF(C73=6,VLOOKUP(U73,判定式!$C$15:I$19,7,TRUE),IF(C73=7,VLOOKUP(U73,判定式!$D$15:I$19,6,TRUE),IF(C73=8,VLOOKUP(U73,判定式!$E$15:I$19,5,TRUE),IF(C73=9,VLOOKUP(U73,判定式!$F$15:I$19,4,TRUE),IF(C73=10,VLOOKUP(U73,判定式!$G$15:I$19,3,TRUE),IF(C73=11,VLOOKUP(U73,判定式!$H$15:I$19,2,TRUE))))))))","v":false}]
[54,null,null,"-",null,null,null,null,null,null,null,null,{"$f":"IF(E74=\"\",\"\",VLOOKUP(E74,判定式!C$3:$J$12,8,TRUE))","v":""},{"$f":"IF(F74=\"\",\"\",VLOOKUP(F74,判定式!D$3:$J$12,7,TRUE))","v":""},{"$f":"IF(G74=\"\",\"\",VLOOKUP(G74,判定式!E$3:$J$12,6,TRUE))","v":""},{"$f":"IF(H74=\"\",\"\",VLOOKUP(H74,判定式!F$3:$J$12,5,TRUE))","v":""},{"$f":"IF(I74=\"\",\"\",VLOOKUP(I74,判定式!I$3:$J$12,2,TRUE))","v":""},{"$f":"IF(J74=\"\",\"\",VLOOKUP(J74,判定式!L$3:$M$12,2,TRUE))","v":""},{"$f":"IF(K74=\"\",\"\",VLOOKUP(K74,判定式!G$3:$J$12,4,TRUE))","v":""},{"$f":"IF(L74=\"\",\"\",VLOOKUP(L74,判定式!H$3:$J$12,3,TRUE))","v":""},"",{"$f":"IF(ISNUMBER(D74),\"判定外\",IF(C74=6,VLOOKUP(U74,判定式!$C$15:I$19,7,TRUE),IF(C74=7,VLOOKUP(U74,判定式!$D$15:I$19,6,TRUE),IF(C74=8,VLOOKUP(U74,判定式!$E$15:I$19,5,TRUE),IF(C74=9,VLOOKUP(U74,判定式!$F$15:I$19,4,TRUE),IF(C74=10,VLOOKUP(U74,判定式!$G$15:I$19,3,TRUE),IF(C74=11,VLOOKUP(U74,判定式!$H$15:I$19,2,TRUE))))))))","v":false}]
[55,null,null,"-",null,null,null,null,null,null,null,null,{"$f":"IF(E75=\"\",\"\",VLOOKUP(E75,判定式!C$3:$J$12,8,TRUE))","v":""},{"$f":"IF(F75=\"\",\"\",VLOOKUP(F75,判定式!D$3:$J$12,7,TRUE))","v":""},{"$f":"IF(G75=\"\",\"\",VLOOKUP(G75,判定式!E$3:$J$12,6,TRUE))","v":""},{"$f":"IF(H75=\"\",\"\",VLOOKUP(H75,判定式!F$3:$J$12,5,TRUE))","v":""},{"$f":"IF(I75=\"\",\"\",VLOOKUP(I75,判定式!I$3:$J$12,2,TRUE))","v":""},{"$f":"IF(J75=\"\",\"\",VLOOKUP(J75,判定式!L$3:$M$12,2,TRUE))","v":""},{"$f":"IF(K75=\"\",\"\",VLOOKUP(K75,判定式!G$3:$J$12,4,TRUE))","v":""},{"$f":"IF(L75=\"\",\"\",VLOOKUP(L75,判定式!H$3:$J$12,3,TRUE))","v":""},"",{"$f":"IF(ISNUMBER(D75),\"判定外\",IF(C75=6,VLOOKUP(U75,判定式!$C$15:I$19,7,TRUE),IF(C75=7,VLOOKUP(U75,判定式!$D$15:I$19,6,TRUE),IF(C75=8,VLOOKUP(U75,判定式!$E$15:I$19,5,TRUE),IF(C75=9,VLOOKUP(U75,判定式!$F$15:I$19,4,TRUE),IF(C75=10,VLOOKUP(U75,判定式!$G$15:I$19,3,TRUE),IF(C75=11,VLOOKUP(U75,判定式!$H$15:I$19,2,TRUE))))))))","v":false}]
[56,null,null,"-",null,null,null,null,null,null,null,null,{"$f":"IF(E76=\"\",\"\",VLOOKUP(E76,判定式!C$3:$J$12,8,TRUE))","v":""},{"$f":"IF(F76=\"\",\"\",VLOOKUP(F76,判定式!D$3:$J$12,7,TRUE))","v":""},{"$f":"IF(G76=\"\",\"\",VLOOKUP(G76,判定式!E$3:$J$12,6,TRUE))","v":""},{"$f":"IF(H76=\"\",\"\",VLOOKUP(H76,判定式!F$3:$J$12,5,TRUE))","v":""},{"$f":"IF(I76=\"\",\"\",VLOOKUP(I76,判定式!I$3:$J$12,2,TRUE))","v":""},{"$f":"IF(J76=\"\",\"\",VLOOKUP(J76,判定式!L$3:$M$12,2,TRUE))","v":""},{"$f":"IF(K76=\"\",\"\",VLOOKUP(K76,判定式!G$3:$J$12,4,TRUE))","v":""},{"$f":"IF(L76=\"\",\"\",VLOOKUP(L76,判定式!H$3:$J$12,3,TRUE))","v":""},"",{"$f":"IF(ISNUMBER(D76),\"判定外\",IF(C76=6,VLOOKUP(U76,判定式!$C$15:I$19,7,TRUE),IF(C76=7,VLOOKUP(U76,判定式!$D$15:I$19,6,TRUE),IF(C76=8,VLOOKUP(U76,判定式!$E$15:I$19,5,TRUE),IF(C76=9,VLOOKUP(U76,判定式!$F$15:I$19,4,TRUE),IF(C76=10,VLOOKUP(U76,判定式!$G$15:I$19,3,TRUE),IF(C76=11,VLOOKUP(U76,判定式!$H$15:I$19,2,TRUE))))))))","v":false}]
[57,null,null,"-",null,null,null,null,null,null,null,null,{"$f":"IF(E77=\"\",\"\",VLOOKUP(E77,判定式!C$3:$J$12,8,TRUE))","v":""},{"$f":"IF(F77=\"\",\"\",VLOOKUP(F77,判定式!D$3:$J$12,7,TRUE))","v":""},{"$f":"IF(G77=\"\",\"\",VLOOKUP(G77,判定式!E$3:$J$12,6,TRUE))","v":""},{"$f":"IF(H77=\"\",\"\",VLOOKUP(H77,判定式!F$3:$J$12,5,TRUE))","v":""},{"$f":"IF(I77=\"\",\"\",VLOOKUP(I77,判定式!I$3:$J$12,2,TRUE))","v":""},{"$f":"IF(J77=\"\",\"\",VLOOKUP(J77,判定式!L$3:$M$12,2,TRUE))","v":""},{"$f":"IF(K77=\"\",\"\",VLOOKUP(K77,判定式!G$3:$J$12,4,TRUE))","v":""},{"$f":"IF(L77=\"\",\"\",VLOOKUP(L77,判定式!H$3:$J$12,3,TRUE))","v":""},"",{"$f":"IF(ISNUMBER(D77),\"判定外\",IF(C77=6,VLOOKUP(U77,判定式!$C$15:I$19,7,TRUE),IF(C77=7,VLOOKUP(U77,判定式!$D$15:I$19,6,TRUE),IF(C77=8,VLOOKUP(U77,判定式!$E$15:I$19,5,TRUE),IF(C77=9,VLOOKUP(U77,判定式!$F$15:I$19,4,TRUE),IF(C77=10,VLOOKUP(U77,判定式!$G$15:I$19,3,TRUE),IF(C77=11,VLOOKUP(U77,判定式!$H$15:I$19,2,TRUE))))))))","v":false}]
[58,null,null,"-",null,null,null,null,null,null,null,null,{"$f":"IF(E78=\"\",\"\",VLOOKUP(E78,判定式!C$3:$J$12,8,TRUE))","v":""},{"$f":"IF(F78=\"\",\"\",VLOOKUP(F78,判定式!D$3:$J$12,7,TRUE))","v":""},{"$f":"IF(G78=\"\",\"\",VLOOKUP(G78,判定式!E$3:$J$12,6,TRUE))","v":""},{"$f":"IF(H78=\"\",\"\",VLOOKUP(H78,判定式!F$3:$J$12,5,TRUE))","v":""},{"$f":"IF(I78=\"\",\"\",VLOOKUP(I78,判定式!I$3:$J$12,2,TRUE))","v":""},{"$f":"IF(J78=\"\",\"\",VLOOKUP(J78,判定式!L$3:$M$12,2,TRUE))","v":""},{"$f":"IF(K78=\"\",\"\",VLOOKUP(K78,判定式!G$3:$J$12,4,TRUE))","v":""},{"$f":"IF(L78=\"\",\"\",VLOOKUP(L78,判定式!H$3:$J$12,3,TRUE))","v":""},"",{"$f":"IF(ISNUMBER(D78),\"判定外\",IF(C78=6,VLOOKUP(U78,判定式!$C$15:I$19,7,TRUE),IF(C78=7,VLOOKUP(U78,判定式!$D$15:I$19,6,TRUE),IF(C78=8,VLOOKUP(U78,判定式!$E$15:I$19,5,TRUE),IF(C78=9,VLOOKUP(U78,判定式!$F$15:I$19,4,TRUE),IF(C78=10,VLOOKUP(U78,判定式!$G$15:I$19,3,TRUE),IF(C78=11,VLOOKUP(U78,判定式!$H$15:I$19,2,TRUE))))))))","v":false}]
[59,null,null,"-",null,null,null,null,null,null,null,null,{"$f":"IF(E79=\"\",\"\",VLOOKUP(E79,判定式!C$3:$J$12,8,TRUE))","v":""},{"$f":"IF(F79=\"\",\"\",VLOOKUP(F79,判定式!D$3:$J$12,7,TRUE))","v":""},{"$f":"IF(G79=\"\",\"\",VLOOKUP(G79,判定式!E$3:$J$12,6,TRUE))","v":""},{"$f":"IF(H79=\"\",\"\",VLOOKUP(H79,判定式!F$3:$J$12,5,TRUE))","v":""},{"$f":"IF(I79=\"\",\"\",VLOOKUP(I79,判定式!I$3:$J$12,2,TRUE))","v":""},{"$f":"IF(J79=\"\",\"\",VLOOKUP(J79,判定式!L$3:$M$12,2,TRUE))","v":""},{"$f":"IF(K79=\"\",\"\",VLOOKUP(K79,判定式!G$3:$J$12,4,TRUE))","v":""},{"$f":"IF(L79=\"\",\"\",VLOOKUP(L79,判定式!H$3:$J$12,3,TRUE))","v":""},"",{"$f":"IF(ISNUMBER(D79),\"判定外\",IF(C79=6,VLOOKUP(U79,判定式!$C$15:I$19,7,TRUE),IF(C79=7,VLOOKUP(U79,判定式!$D$15:I$19,6,TRUE),IF(C79=8,VLOOKUP(U79,判定式!$E$15:I$19,5,TRUE),IF(C79=9,VLOOKUP(U79,判定式!$F$15:I$19,4,TRUE),IF(C79=10,VLOOKUP(U79,判定式!$G$15:I$19,3,TRUE),IF(C79=11,VLOOKUP(U79,判定式!$H$15:I$19,2,TRUE))))))))","v":false}]
[60,null,null,"-",null,null,null,null,null,null,null,null,{"$f":"IF(E80=\"\",\"\",VLOOKUP(E80,判定式!C$3:$J$12,8,TRUE))","v":""},{"$f":"IF(F80=\"\",\"\",VLOOKUP(F80,判定式!D$3:$J$12,7,TRUE))","v":""},{"$f":"IF(G80=\"\",\"\",VLOOKUP(G80,判定式!E$3:$J$12,6,TRUE))","v":""},{"$f":"IF(H80=\"\",\"\",VLOOKUP(H80,判定式!F$3:$J$12,5,TRUE))","v":""},{"$f":"IF(I80=\"\",\"\",VLOOKUP(I80,判定式!I$3:$J$12,2,TRUE))","v":""},{"$f":"IF(J80=\"\",\"\",VLOOKUP(J80,判定式!L$3:$M$12,2,TRUE))","v":""},{"$f":"IF(K80=\"\",\"\",VLOOKUP(K80,判定式!G$3:$J$12,4,TRUE))","v":""},{"$f":"IF(L80=\"\",\"\",VLOOKUP(L80,判定式!H$3:$J$12,3,TRUE))","v":""},"",{"$f":"IF(ISNUMBER(D80),\"判定外\",IF(C80=6,VLOOKUP(U80,判定式!$C$15:I$19,7,TRUE),IF(C80=7,VLOOKUP(U80,判定式!$D$15:I$19,6,TRUE),IF(C80=8,VLOOKUP(U80,判定式!$E$15:I$19,5,TRUE),IF(C80=9,VLOOKUP(U80,判定式!$F$15:I$19,4,TRUE),IF(C80=10,VLOOKUP(U80,判定式!$G$15:I$19,3,TRUE),IF(C80=11,VLOOKUP(U80,判定式!$H$15:I$19,2,TRUE))))))))","v":false}]
[61,null,null,"-",null,null,null,null,null,null,null,null,{"$f":"IF(E81=\"\",\"\",VLOOKUP(E81,判定式!C$3:$J$12,8,TRUE))","v":""},{"$f":"IF(F81=\"\",\"\",VLOOKUP(F81,判定式!D$3:$J$12,7,TRUE))","v":""},{"$f":"IF(G81=\"\",\"\",VLOOKUP(G81,判定式!E$3:$J$12,6,TRUE))","v":""},{"$f":"IF(H81=\"\",\"\",VLOOKUP(H81,判定式!F$3:$J$12,5,TRUE))","v":""},{"$f":"IF(I81=\"\",\"\",VLOOKUP(I81,判定式!I$3:$J$12,2,TRUE))","v":""},{"$f":"IF(J81=\"\",\"\",VLOOKUP(J81,判定式!L$3:$M$12,2,TRUE))","v":""},{"$f":"IF(K81=\"\",\"\",VLOOKUP(K81,判定式!G$3:$J$12,4,TRUE))","v":""},{"$f":"IF(L81=\"\",\"\",VLOOKUP(L81,判定式!H$3:$J$12,3,TRUE))","v":""},"",{"$f":"IF(ISNUMBER(D81),\"判定外\",IF(C81=6,VLOOKUP(U81,判定式!$C$15:I$19,7,TRUE),IF(C81=7,VLOOKUP(U81,判定式!$D$15:I$19,6,TRUE),IF(C81=8,VLOOKUP(U81,判定式!$E$15:I$19,5,TRUE),IF(C81=9,VLOOKUP(U81,判定式!$F$15:I$19,4,TRUE),IF(C81=10,VLOOKUP(U81,判定式!$G$15:I$19,3,TRUE),IF(C81=11,VLOOKUP(U81,判定式!$H$15:I$19,2,TRUE))))))))","v":false}]
[62,null,null,"-",null,null,null,null,null,null,null,null,{"$f":"IF(E82=\"\",\"\",VLOOKUP(E82,判定式!C$3:$J$12,8,TRUE))","v":""},{"$f":"IF(F82=\"\",\"\",VLOOKUP(F82,判定式!D$3:$J$12,7,TRUE))","v":""},{"$f":"IF(G82=\"\",\"\",VLOOKUP(G82,判定式!E$3:$J$12,6,TRUE))","v":""},{"$f":"IF(H82=\"\",\"\",VLOOKUP(H82,判定式!F$3:$J$12,5,TRUE))","v":""},{"$f":"IF(I82=\"\",\"\",VLOOKUP(I82,判定式!I$3:$J$12,2,TRUE))","v":""},{"$f":"IF(J82=\"\",\"\",VLOOKUP(J82,判定式!L$3:$M$12,2,TRUE))","v":""},{"$f":"IF(K82=\"\",\"\",VLOOKUP(K82,判定式!G$3:$J$12,4,TRUE))","v":""},{"$f":"IF(L82=\"\",\"\",VLOOKUP(L82,判定式!H$3:$J$12,3,TRUE))","v":""},"",{"$f":"IF(ISNUMBER(D82),\"判定外\",IF(C82=6,VLOOKUP(U82,判定式!$C$15:I$19,7,TRUE),IF(C82=7,VLOOKUP(U82,判定式!$D$15:I$19,6,TRUE),IF(C82=8,VLOOKUP(U82,判定式!$E$15:I$19,5,TRUE),IF(C82=9,VLOOKUP(U82,判定式!$F$15:I$19,4,TRUE),IF(C82=10,VLOOKUP(U82,判定式!$G$15:I$19,3,TRUE),IF(C82=11,VLOOKUP(U82,判定式!$H$15:I$19,2,TRUE))))))))","v":false}]
[63,null,null,"-",null,null,null,null,null,null,null,null,{"$f":"IF(E83=\"\",\"\",VLOOKUP(E83,判定式!C$3:$J$12,8,TRUE))","v":""},{"$f":"IF(F83=\"\",\"\",VLOOKUP(F83,判定式!D$3:$J$12,7,TRUE))","v":""},{"$f":"IF(G83=\"\",\"\",VLOOKUP(G83,判定式!E$3:$J$12,6,TRUE))","v":""},{"$f":"IF(H83=\"\",\"\",VLOOKUP(H83,判定式!F$3:$J$12,5,TRUE))","v":""},{"$f":"IF(I83=\"\",\"\",VLOOKUP(I83,判定式!I$3:$J$12,2,TRUE))","v":""},{"$f":"IF(J83=\"\",\"\",VLOOKUP(J83,判定式!L$3:$M$12,2,TRUE))","v":""},{"$f":"IF(K83=\"\",\"\",VLOOKUP(K83,判定式!G$3:$J$12,4,TRUE))","v":""},{"$f":"IF(L83=\"\",\"\",VLOOKUP(L83,判定式!H$3:$J$12,3,TRUE))","v":""},"",{"$f":"IF(ISNUMBER(D83),\"判定外\",IF(C83=6,VLOOKUP(U83,判定式!$C$15:I$19,7,TRUE),IF(C83=7,VLOOKUP(U83,判定式!$D$15:I$19,6,TRUE),IF(C83=8,VLOOKUP(U83,判定式!$E$15:I$19,5,TRUE),IF(C83=9,VLOOKUP(U83,判定式!$F$15:I$19,4,TRUE),IF(C83=10,VLOOKUP(U83,判定式!$G$15:I$19,3,TRUE),IF(C83=11,VLOOKUP(U83,判定式!$H$15:I$19,2,TRUE))))))))","v":false}]
[64,null,null,"-",null,null,null,null,null,null,null,null,{"$f":"IF(E84=\"\",\"\",VLOOKUP(E84,判定式!C$3:$J$12,8,TRUE))","v":""},{"$f":"IF(F84=\"\",\"\",VLOOKUP(F84,判定式!D$3:$J$12,7,TRUE))","v":""},{"$f":"IF(G84=\"\",\"\",VLOOKUP(G84,判定式!E$3:$J$12,6,TRUE))","v":""},{"$f":"IF(H84=\"\",\"\",VLOOKUP(H84,判定式!F$3:$J$12,5,TRUE))","v":""},{"$f":"IF(I84=\"\",\"\",VLOOKUP(I84,判定式!I$3:$J$12,2,TRUE))","v":""},{"$f":"IF(J84=\"\",\"\",VLOOKUP(J84,判定式!L$3:$M$12,2,TRUE))","v":""},{"$f":"IF(K84=\"\",\"\",VLOOKUP(K84,判定式!G$3:$J$12,4,TRUE))","v":""},{"$f":"IF(L84=\"\",\"\",VLOOKUP(L84,判定式!H$3:$J$12,3,TRUE))","v":""},"",{"$f":"IF(ISNUMBER(D84),\"判定外\",IF(C84=6,VLOOKUP(U84,判定式!$C$15:I$19,7,TRUE),IF(C84=7,VLOOKUP(U84,判定式!$D$15:I$19,6,TRUE),IF(C84=8,VLOOKUP(U84,判定式!$E$15:I$19,5,TRUE),IF(C84=9,VLOOKUP(U84,判定式!$F$15:I$19,4,TRUE),IF(C84=10,VLOOKUP(U84,判定式!$G$15:I$19,3,TRUE),IF(C84=11,VLOOKUP(U84,判定式!$H$15:I$19,2,TRUE))))))))","v":false}]
[65,null,null,{"$f":"IF(COUNTBLANK(E85:L85)=0,\"\",IF(COUNTBLANK(E85:L85)=8,\"-\",COUNTBLANK(E85:L85)))","v":"-"},null,null,null,null,null,null,null,null,{"$f":"IF(E85=\"\",\"\",VLOOKUP(E85,判定式!C$3:$J$12,8,TRUE))","v":""},{"$f":"IF(F85=\"\",\"\",VLOOKUP(F85,判定式!D$3:$J$12,7,TRUE))","v":""},{"$f":"IF(G85=\"\",\"\",VLOOKUP(G85,判定式!E$3:$J$12,6,TRUE))","v":""},{"$f":"IF(H85=\"\",\"\",VLOOKUP(H85,判定式!F$3:$J$12,5,TRUE))","v":""},{"$f":"IF(I85=\"\",\"\",VLOOKUP(I85,判定式!I$3:$J$12,2,TRUE))","v":""},{"$f":"IF(J85=\"\",\"\",VLOOKUP(J85,判定式!L$3:$M$12,2,TRUE))","v":""},{"$f":"IF(K85=\"\",\"\",VLOOKUP(K85,判定式!G$3:$J$12,4,TRUE))","v":""},{"$f":"IF(L85=\"\",\"\",VLOOKUP(L85,判定式!H$3:$J$12,3,TRUE))","v":""},{"$f":"IF(COUNTBLANK(M85:T85)=0,SUM(M85:T85),\"\")","v":""},{"$f":"IF(ISNUMBER(D85),\"判定外\",IF(C85=6,VLOOKUP(U85,判定式!$C$15:I$19,7,TRUE),IF(C85=7,VLOOKUP(U85,判定式!$D$15:I$19,6,TRUE),IF(C85=8,VLOOKUP(U85,判定式!$E$15:I$19,5,TRUE),IF(C85=9,VLOOKUP(U85,判定式!$F$15:I$19,4,TRUE),IF(C85=10,VLOOKUP(U85,判定式!$G$15:I$19,3,TRUE),IF(C85=11,VLOOKUP(U85,判定式!$H$15:I$19,2,TRUE))))))))","v":false}]
[66,null,null,"-",null,null,null,null,null,null,null,null,{"$f":"IF(E86=\"\",\"\",VLOOKUP(E86,判定式!C$3:$J$12,8,TRUE))","v":""},{"$f":"IF(F86=\"\",\"\",VLOOKUP(F86,判定式!D$3:$J$12,7,TRUE))","v":""},{"$f":"IF(G86=\"\",\"\",VLOOKUP(G86,判定式!E$3:$J$12,6,TRUE))","v":""},{"$f":"IF(H86=\"\",\"\",VLOOKUP(H86,判定式!F$3:$J$12,5,TRUE))","v":""},{"$f":"IF(I86=\"\",\"\",VLOOKUP(I86,判定式!I$3:$J$12,2,TRUE))","v":""},{"$f":"IF(J86=\"\",\"\",VLOOKUP(J86,判定式!L$3:$M$12,2,TRUE))","v":""},{"$f":"IF(K86=\"\",\"\",VLOOKUP(K86,判定式!G$3:$J$12,4,TRUE))","v":""},{"$f":"IF(L86=\"\",\"\",VLOOKUP(L86,判定式!H$3:$J$12,3,TRUE))","v":""},"",{"$f":"IF(ISNUMBER(D86),\"判定外\",IF(C86=6,VLOOKUP(U86,判定式!$C$15:I$19,7,TRUE),IF(C86=7,VLOOKUP(U86,判定式!$D$15:I$19,6,TRUE),IF(C86=8,VLOOKUP(U86,判定式!$E$15:I$19,5,TRUE),IF(C86=9,VLOOKUP(U86,判定式!$F$15:I$19,4,TRUE),IF(C86=10,VLOOKUP(U86,判定式!$G$15:I$19,3,TRUE),IF(C86=11,VLOOKUP(U86,判定式!$H$15:I$19,2,TRUE))))))))","v":false}]
[67,null,null,"-",null,null,null,null,null,null,null,null,{"$f":"IF(E87=\"\",\"\",VLOOKUP(E87,判定式!C$3:$J$12,8,TRUE))","v":""},{"$f":"IF(F87=\"\",\"\",VLOOKUP(F87,判定式!D$3:$J$12,7,TRUE))","v":""},{"$f":"IF(G87=\"\",\"\",VLOOKUP(G87,判定式!E$3:$J$12,6,TRUE))","v":""},{"$f":"IF(H87=\"\",\"\",VLOOKUP(H87,判定式!F$3:$J$12,5,TRUE))","v":""},{"$f":"IF(I87=\"\",\"\",VLOOKUP(I87,判定式!I$3:$J$12,2,TRUE))","v":""},{"$f":"IF(J87=\"\",\"\",VLOOKUP(J87,判定式!L$3:$M$12,2,TRUE))","v":""},{"$f":"IF(K87=\"\",\"\",VLOOKUP(K87,判定式!G$3:$J$12,4,TRUE))","v":""},{"$f":"IF(L87=\"\",\"\",VLOOKUP(L87,判定式!H$3:$J$12,3,TRUE))","v":""},"",{"$f":"IF(ISNUMBER(D87),\"判定外\",IF(C87=6,VLOOKUP(U87,判定式!$C$15:I$19,7,TRUE),IF(C87=7,VLOOKUP(U87,判定式!$D$15:I$19,6,TRUE),IF(C87=8,VLOOKUP(U87,判定式!$E$15:I$19,5,TRUE),IF(C87=9,VLOOKUP(U87,判定式!$F$15:I$19,4,TRUE),IF(C87=10,VLOOKUP(U87,判定式!$G$15:I$19,3,TRUE),IF(C87=11,VLOOKUP(U87,判定式!$H$15:I$19,2,TRUE))))))))","v":false}]
[68,null,null,"-",null,null,null,null,null,null,null,null,{"$f":"IF(E88=\"\",\"\",VLOOKUP(E88,判定式!C$3:$J$12,8,TRUE))","v":""},{"$f":"IF(F88=\"\",\"\",VLOOKUP(F88,判定式!D$3:$J$12,7,TRUE))","v":""},{"$f":"IF(G88=\"\",\"\",VLOOKUP(G88,判定式!E$3:$J$12,6,TRUE))","v":""},{"$f":"IF(H88=\"\",\"\",VLOOKUP(H88,判定式!F$3:$J$12,5,TRUE))","v":""},{"$f":"IF(I88=\"\",\"\",VLOOKUP(I88,判定式!I$3:$J$12,2,TRUE))","v":""},{"$f":"IF(J88=\"\",\"\",VLOOKUP(J88,判定式!L$3:$M$12,2,TRUE))","v":""},{"$f":"IF(K88=\"\",\"\",VLOOKUP(K88,判定式!G$3:$J$12,4,TRUE))","v":""},{"$f":"IF(L88=\"\",\"\",VLOOKUP(L88,判定式!H$3:$J$12,3,TRUE))","v":""},"",{"$f":"IF(ISNUMBER(D88),\"判定外\",IF(C88=6,VLOOKUP(U88,判定式!$C$15:I$19,7,TRUE),IF(C88=7,VLOOKUP(U88,判定式!$D$15:I$19,6,TRUE),IF(C88=8,VLOOKUP(U88,判定式!$E$15:I$19,5,TRUE),IF(C88=9,VLOOKUP(U88,判定式!$F$15:I$19,4,TRUE),IF(C88=10,VLOOKUP(U88,判定式!$G$15:I$19,3,TRUE),IF(C88=11,VLOOKUP(U88,判定式!$H$15:I$19,2,TRUE))))))))","v":false}]
[69,null,null,"-",null,null,null,null,null,null,null,null,{"$f":"IF(E89=\"\",\"\",VLOOKUP(E89,判定式!C$3:$J$12,8,TRUE))","v":""},{"$f":"IF(F89=\"\",\"\",VLOOKUP(F89,判定式!D$3:$J$12,7,TRUE))","v":""},{"$f":"IF(G89=\"\",\"\",VLOOKUP(G89,判定式!E$3:$J$12,6,TRUE))","v":""},{"$f":"IF(H89=\"\",\"\",VLOOKUP(H89,判定式!F$3:$J$12,5,TRUE))","v":""},{"$f":"IF(I89=\"\",\"\",VLOOKUP(I89,判定式!I$3:$J$12,2,TRUE))","v":""},{"$f":"IF(J89=\"\",\"\",VLOOKUP(J89,判定式!L$3:$M$12,2,TRUE))","v":""},{"$f":"IF(K89=\"\",\"\",VLOOKUP(K89,判定式!G$3:$J$12,4,TRUE))","v":""},{"$f":"IF(L89=\"\",\"\",VLOOKUP(L89,判定式!H$3:$J$12,3,TRUE))","v":""},"",{"$f":"IF(ISNUMBER(D89),\"判定外\",IF(C89=6,VLOOKUP(U89,判定式!$C$15:I$19,7,TRUE),IF(C89=7,VLOOKUP(U89,判定式!$D$15:I$19,6,TRUE),IF(C89=8,VLOOKUP(U89,判定式!$E$15:I$19,5,TRUE),IF(C89=9,VLOOKUP(U89,判定式!$F$15:I$19,4,TRUE),IF(C89=10,VLOOKUP(U89,判定式!$G$15:I$19,3,TRUE),IF(C89=11,VLOOKUP(U89,判定式!$H$15:I$19,2,TRUE))))))))","v":false}]
[70,null,null,"-",null,null,null,null,null,null,null,null,{"$f":"IF(E90=\"\",\"\",VLOOKUP(E90,判定式!C$3:$J$12,8,TRUE))","v":""},{"$f":"IF(F90=\"\",\"\",VLOOKUP(F90,判定式!D$3:$J$12,7,TRUE))","v":""},{"$f":"IF(G90=\"\",\"\",VLOOKUP(G90,判定式!E$3:$J$12,6,TRUE))","v":""},{"$f":"IF(H90=\"\",\"\",VLOOKUP(H90,判定式!F$3:$J$12,5,TRUE))","v":""},{"$f":"IF(I90=\"\",\"\",VLOOKUP(I90,判定式!I$3:$J$12,2,TRUE))","v":""},{"$f":"IF(J90=\"\",\"\",VLOOKUP(J90,判定式!L$3:$M$12,2,TRUE))","v":""},{"$f":"IF(K90=\"\",\"\",VLOOKUP(K90,判定式!G$3:$J$12,4,TRUE))","v":""},{"$f":"IF(L90=\"\",\"\",VLOOKUP(L90,判定式!H$3:$J$12,3,TRUE))","v":""},"",{"$f":"IF(ISNUMBER(D90),\"判定外\",IF(C90=6,VLOOKUP(U90,判定式!$C$15:I$19,7,TRUE),IF(C90=7,VLOOKUP(U90,判定式!$D$15:I$19,6,TRUE),IF(C90=8,VLOOKUP(U90,判定式!$E$15:I$19,5,TRUE),IF(C90=9,VLOOKUP(U90,判定式!$F$15:I$19,4,TRUE),IF(C90=10,VLOOKUP(U90,判定式!$G$15:I$19,3,TRUE),IF(C90=11,VLOOKUP(U90,判定式!$H$15:I$19,2,TRUE))))))))","v":false}]
[71,null,null,"-",null,null,null,null,null,null,null,null,{"$f":"IF(E91=\"\",\"\",VLOOKUP(E91,判定式!C$3:$J$12,8,TRUE))","v":""},{"$f":"IF(F91=\"\",\"\",VLOOKUP(F91,判定式!D$3:$J$12,7,TRUE))","v":""},{"$f":"IF(G91=\"\",\"\",VLOOKUP(G91,判定式!E$3:$J$12,6,TRUE))","v":""},{"$f":"IF(H91=\"\",\"\",VLOOKUP(H91,判定式!F$3:$J$12,5,TRUE))","v":""},{"$f":"IF(I91=\"\",\"\",VLOOKUP(I91,判定式!I$3:$J$12,2,TRUE))","v":""},{"$f":"IF(J91=\"\",\"\",VLOOKUP(J91,判定式!L$3:$M$12,2,TRUE))","v":""},{"$f":"IF(K91=\"\",\"\",VLOOKUP(K91,判定式!G$3:$J$12,4,TRUE))","v":""},{"$f":"IF(L91=\"\",\"\",VLOOKUP(L91,判定式!H$3:$J$12,3,TRUE))","v":""},"",{"$f":"IF(ISNUMBER(D91),\"判定外\",IF(C91=6,VLOOKUP(U91,判定式!$C$15:I$19,7,TRUE),IF(C91=7,VLOOKUP(U91,判定式!$D$15:I$19,6,TRUE),IF(C91=8,VLOOKUP(U91,判定式!$E$15:I$19,5,TRUE),IF(C91=9,VLOOKUP(U91,判定式!$F$15:I$19,4,TRUE),IF(C91=10,VLOOKUP(U91,判定式!$G$15:I$19,3,TRUE),IF(C91=11,VLOOKUP(U91,判定式!$H$15:I$19,2,TRUE))))))))","v":false}]
[72,null,null,"-",null,null,null,null,null,null,null,null,{"$f":"IF(E92=\"\",\"\",VLOOKUP(E92,判定式!C$3:$J$12,8,TRUE))","v":""},{"$f":"IF(F92=\"\",\"\",VLOOKUP(F92,判定式!D$3:$J$12,7,TRUE))","v":""},{"$f":"IF(G92=\"\",\"\",VLOOKUP(G92,判定式!E$3:$J$12,6,TRUE))","v":""},{"$f":"IF(H92=\"\",\"\",VLOOKUP(H92,判定式!F$3:$J$12,5,TRUE))","v":""},{"$f":"IF(I92=\"\",\"\",VLOOKUP(I92,判定式!I$3:$J$12,2,TRUE))","v":""},{"$f":"IF(J92=\"\",\"\",VLOOKUP(J92,判定式!L$3:$M$12,2,TRUE))","v":""},{"$f":"IF(K92=\"\",\"\",VLOOKUP(K92,判定式!G$3:$J$12,4,TRUE))","v":""},{"$f":"IF(L92=\"\",\"\",VLOOKUP(L92,判定式!H$3:$J$12,3,TRUE))","v":""},"",{"$f":"IF(ISNUMBER(D92),\"判定外\",IF(C92=6,VLOOKUP(U92,判定式!$C$15:I$19,7,TRUE),IF(C92=7,VLOOKUP(U92,判定式!$D$15:I$19,6,TRUE),IF(C92=8,VLOOKUP(U92,判定式!$E$15:I$19,5,TRUE),IF(C92=9,VLOOKUP(U92,判定式!$F$15:I$19,4,TRUE),IF(C92=10,VLOOKUP(U92,判定式!$G$15:I$19,3,TRUE),IF(C92=11,VLOOKUP(U92,判定式!$H$15:I$19,2,TRUE))))))))","v":false}]
[73,null,null,"-",null,null,null,null,null,null,null,null,{"$f":"IF(E93=\"\",\"\",VLOOKUP(E93,判定式!C$3:$J$12,8,TRUE))","v":""},{"$f":"IF(F93=\"\",\"\",VLOOKUP(F93,判定式!D$3:$J$12,7,TRUE))","v":""},{"$f":"IF(G93=\"\",\"\",VLOOKUP(G93,判定式!E$3:$J$12,6,TRUE))","v":""},{"$f":"IF(H93=\"\",\"\",VLOOKUP(H93,判定式!F$3:$J$12,5,TRUE))","v":""},{"$f":"IF(I93=\"\",\"\",VLOOKUP(I93,判定式!I$3:$J$12,2,TRUE))","v":""},{"$f":"IF(J93=\"\",\"\",VLOOKUP(J93,判定式!L$3:$M$12,2,TRUE))","v":""},{"$f":"IF(K93=\"\",\"\",VLOOKUP(K93,判定式!G$3:$J$12,4,TRUE))","v":""},{"$f":"IF(L93=\"\",\"\",VLOOKUP(L93,判定式!H$3:$J$12,3,TRUE))","v":""},"",{"$f":"IF(ISNUMBER(D93),\"判定外\",IF(C93=6,VLOOKUP(U93,判定式!$C$15:I$19,7,TRUE),IF(C93=7,VLOOKUP(U93,判定式!$D$15:I$19,6,TRUE),IF(C93=8,VLOOKUP(U93,判定式!$E$15:I$19,5,TRUE),IF(C93=9,VLOOKUP(U93,判定式!$F$15:I$19,4,TRUE),IF(C93=10,VLOOKUP(U93,判定式!$G$15:I$19,3,TRUE),IF(C93=11,VLOOKUP(U93,判定式!$H$15:I$19,2,TRUE))))))))","v":false}]
[74,null,null,"-",null,null,null,null,null,null,null,null,{"$f":"IF(E94=\"\",\"\",VLOOKUP(E94,判定式!C$3:$J$12,8,TRUE))","v":""},{"$f":"IF(F94=\"\",\"\",VLOOKUP(F94,判定式!D$3:$J$12,7,TRUE))","v":""},{"$f":"IF(G94=\"\",\"\",VLOOKUP(G94,判定式!E$3:$J$12,6,TRUE))","v":""},{"$f":"IF(H94=\"\",\"\",VLOOKUP(H94,判定式!F$3:$J$12,5,TRUE))","v":""},{"$f":"IF(I94=\"\",\"\",VLOOKUP(I94,判定式!I$3:$J$12,2,TRUE))","v":""},{"$f":"IF(J94=\"\",\"\",VLOOKUP(J94,判定式!L$3:$M$12,2,TRUE))","v":""},{"$f":"IF(K94=\"\",\"\",VLOOKUP(K94,判定式!G$3:$J$12,4,TRUE))","v":""},{"$f":"IF(L94=\"\",\"\",VLOOKUP(L94,判定式!H$3:$J$12,3,TRUE))","v":""},"",{"$f":"IF(ISNUMBER(D94),\"判定外\",IF(C94=6,VLOOKUP(U94,判定式!$C$15:I$19,7,TRUE),IF(C94=7,VLOOKUP(U94,判定式!$D$15:I$19,6,TRUE),IF(C94=8,VLOOKUP(U94,判定式!$E$15:I$19,5,TRUE),IF(C94=9,VLOOKUP(U94,判定式!$F$15:I$19,4,TRUE),IF(C94=10,VLOOKUP(U94,判定式!$G$15:I$19,3,TRUE),IF(C94=11,VLOOKUP(U94,判定式!$H$15:I$19,2,TRUE))))))))","v":false}]
[75,null,null,"-",null,null,null,null,null,null,null,null,{"$f":"IF(E95=\"\",\"\",VLOOKUP(E95,判定式!C$3:$J$12,8,TRUE))","v":""},{"$f":"IF(F95=\"\",\"\",VLOOKUP(F95,判定式!D$3:$J$12,7,TRUE))","v":""},{"$f":"IF(G95=\"\",\"\",VLOOKUP(G95,判定式!E$3:$J$12,6,TRUE))","v":""},{"$f":"IF(H95=\"\",\"\",VLOOKUP(H95,判定式!F$3:$J$12,5,TRUE))","v":""},{"$f":"IF(I95=\"\",\"\",VLOOKUP(I95,判定式!I$3:$J$12,2,TRUE))","v":""},{"$f":"IF(J95=\"\",\"\",VLOOKUP(J95,判定式!L$3:$M$12,2,TRUE))","v":""},{"$f":"IF(K95=\"\",\"\",VLOOKUP(K95,判定式!G$3:$J$12,4,TRUE))","v":""},{"$f":"IF(L95=\"\",\"\",VLOOKUP(L95,判定式!H$3:$J$12,3,TRUE))","v":""},"",{"$f":"IF(ISNUMBER(D95),\"判定外\",IF(C95=6,VLOOKUP(U95,判定式!$C$15:I$19,7,TRUE),IF(C95=7,VLOOKUP(U95,判定式!$D$15:I$19,6,TRUE),IF(C95=8,VLOOKUP(U95,判定式!$E$15:I$19,5,TRUE),IF(C95=9,VLOOKUP(U95,判定式!$F$15:I$19,4,TRUE),IF(C95=10,VLOOKUP(U95,判定式!$G$15:I$19,3,TRUE),IF(C95=11,VLOOKUP(U95,判定式!$H$15:I$19,2,TRUE))))))))","v":false}]
[76,null,null,"-",null,null,null,null,null,null,null,null,{"$f":"IF(E96=\"\",\"\",VLOOKUP(E96,判定式!C$3:$J$12,8,TRUE))","v":""},{"$f":"IF(F96=\"\",\"\",VLOOKUP(F96,判定式!D$3:$J$12,7,TRUE))","v":""},{"$f":"IF(G96=\"\",\"\",VLOOKUP(G96,判定式!E$3:$J$12,6,TRUE))","v":""},{"$f":"IF(H96=\"\",\"\",VLOOKUP(H96,判定式!F$3:$J$12,5,TRUE))","v":""},{"$f":"IF(I96=\"\",\"\",VLOOKUP(I96,判定式!I$3:$J$12,2,TRUE))","v":""},{"$f":"IF(J96=\"\",\"\",VLOOKUP(J96,判定式!L$3:$M$12,2,TRUE))","v":""},{"$f":"IF(K96=\"\",\"\",VLOOKUP(K96,判定式!G$3:$J$12,4,TRUE))","v":""},{"$f":"IF(L96=\"\",\"\",VLOOKUP(L96,判定式!H$3:$J$12,3,TRUE))","v":""},"",{"$f":"IF(ISNUMBER(D96),\"判定外\",IF(C96=6,VLOOKUP(U96,判定式!$C$15:I$19,7,TRUE),IF(C96=7,VLOOKUP(U96,判定式!$D$15:I$19,6,TRUE),IF(C96=8,VLOOKUP(U96,判定式!$E$15:I$19,5,TRUE),IF(C96=9,VLOOKUP(U96,判定式!$F$15:I$19,4,TRUE),IF(C96=10,VLOOKUP(U96,判定式!$G$15:I$19,3,TRUE),IF(C96=11,VLOOKUP(U96,判定式!$H$15:I$19,2,TRUE))))))))","v":false}]
[77,null,null,"-",null,null,null,null,null,null,null,null,{"$f":"IF(E97=\"\",\"\",VLOOKUP(E97,判定式!C$3:$J$12,8,TRUE))","v":""},{"$f":"IF(F97=\"\",\"\",VLOOKUP(F97,判定式!D$3:$J$12,7,TRUE))","v":""},{"$f":"IF(G97=\"\",\"\",VLOOKUP(G97,判定式!E$3:$J$12,6,TRUE))","v":""},{"$f":"IF(H97=\"\",\"\",VLOOKUP(H97,判定式!F$3:$J$12,5,TRUE))","v":""},{"$f":"IF(I97=\"\",\"\",VLOOKUP(I97,判定式!I$3:$J$12,2,TRUE))","v":""},{"$f":"IF(J97=\"\",\"\",VLOOKUP(J97,判定式!L$3:$M$12,2,TRUE))","v":""},{"$f":"IF(K97=\"\",\"\",VLOOKUP(K97,判定式!G$3:$J$12,4,TRUE))","v":""},{"$f":"IF(L97=\"\",\"\",VLOOKUP(L97,判定式!H$3:$J$12,3,TRUE))","v":""},"",{"$f":"IF(ISNUMBER(D97),\"判定外\",IF(C97=6,VLOOKUP(U97,判定式!$C$15:I$19,7,TRUE),IF(C97=7,VLOOKUP(U97,判定式!$D$15:I$19,6,TRUE),IF(C97=8,VLOOKUP(U97,判定式!$E$15:I$19,5,TRUE),IF(C97=9,VLOOKUP(U97,判定式!$F$15:I$19,4,TRUE),IF(C97=10,VLOOKUP(U97,判定式!$G$15:I$19,3,TRUE),IF(C97=11,VLOOKUP(U97,判定式!$H$15:I$19,2,TRUE))))))))","v":false}]
[78,null,null,"-",null,null,null,null,null,null,null,null,{"$f":"IF(E98=\"\",\"\",VLOOKUP(E98,判定式!C$3:$J$12,8,TRUE))","v":""},{"$f":"IF(F98=\"\",\"\",VLOOKUP(F98,判定式!D$3:$J$12,7,TRUE))","v":""},{"$f":"IF(G98=\"\",\"\",VLOOKUP(G98,判定式!E$3:$J$12,6,TRUE))","v":""},{"$f":"IF(H98=\"\",\"\",VLOOKUP(H98,判定式!F$3:$J$12,5,TRUE))","v":""},{"$f":"IF(I98=\"\",\"\",VLOOKUP(I98,判定式!I$3:$J$12,2,TRUE))","v":""},{"$f":"IF(J98=\"\",\"\",VLOOKUP(J98,判定式!L$3:$M$12,2,TRUE))","v":""},{"$f":"IF(K98=\"\",\"\",VLOOKUP(K98,判定式!G$3:$J$12,4,TRUE))","v":""},{"$f":"IF(L98=\"\",\"\",VLOOKUP(L98,判定式!H$3:$J$12,3,TRUE))","v":""},"",{"$f":"IF(ISNUMBER(D98),\"判定外\",IF(C98=6,VLOOKUP(U98,判定式!$C$15:I$19,7,TRUE),IF(C98=7,VLOOKUP(U98,判定式!$D$15:I$19,6,TRUE),IF(C98=8,VLOOKUP(U98,判定式!$E$15:I$19,5,TRUE),IF(C98=9,VLOOKUP(U98,判定式!$F$15:I$19,4,TRUE),IF(C98=10,VLOOKUP(U98,判定式!$G$15:I$19,3,TRUE),IF(C98=11,VLOOKUP(U98,判定式!$H$15:I$19,2,TRUE))))))))","v":false}]
[79,null,null,"-",null,null,null,null,null,null,null,null,{"$f":"IF(E99=\"\",\"\",VLOOKUP(E99,判定式!C$3:$J$12,8,TRUE))","v":""},{"$f":"IF(F99=\"\",\"\",VLOOKUP(F99,判定式!D$3:$J$12,7,TRUE))","v":""},{"$f":"IF(G99=\"\",\"\",VLOOKUP(G99,判定式!E$3:$J$12,6,TRUE))","v":""},{"$f":"IF(H99=\"\",\"\",VLOOKUP(H99,判定式!F$3:$J$12,5,TRUE))","v":""},{"$f":"IF(I99=\"\",\"\",VLOOKUP(I99,判定式!I$3:$J$12,2,TRUE))","v":""},{"$f":"IF(J99=\"\",\"\",VLOOKUP(J99,判定式!L$3:$M$12,2,TRUE))","v":""},{"$f":"IF(K99=\"\",\"\",VLOOKUP(K99,判定式!G$3:$J$12,4,TRUE))","v":""},{"$f":"IF(L99=\"\",\"\",VLOOKUP(L99,判定式!H$3:$J$12,3,TRUE))","v":""},"",{"$f":"IF(ISNUMBER(D99),\"判定外\",IF(C99=6,VLOOKUP(U99,判定式!$C$15:I$19,7,TRUE),IF(C99=7,VLOOKUP(U99,判定式!$D$15:I$19,6,TRUE),IF(C99=8,VLOOKUP(U99,判定式!$E$15:I$19,5,TRUE),IF(C99=9,VLOOKUP(U99,判定式!$F$15:I$19,4,TRUE),IF(C99=10,VLOOKUP(U99,判定式!$G$15:I$19,3,TRUE),IF(C99=11,VLOOKUP(U99,判定式!$H$15:I$19,2,TRUE))))))))","v":false}]
[80,null,null,"-",null,null,null,null,null,null,null,null,{"$f":"IF(E100=\"\",\"\",VLOOKUP(E100,判定式!C$3:$J$12,8,TRUE))","v":""},{"$f":"IF(F100=\"\",\"\",VLOOKUP(F100,判定式!D$3:$J$12,7,TRUE))","v":""},{"$f":"IF(G100=\"\",\"\",VLOOKUP(G100,判定式!E$3:$J$12,6,TRUE))","v":""},{"$f":"IF(H100=\"\",\"\",VLOOKUP(H100,判定式!F$3:$J$12,5,TRUE))","v":""},{"$f":"IF(I100=\"\",\"\",VLOOKUP(I100,判定式!I$3:$J$12,2,TRUE))","v":""},{"$f":"IF(J100=\"\",\"\",VLOOKUP(J100,判定式!L$3:$M$12,2,TRUE))","v":""},{"$f":"IF(K100=\"\",\"\",VLOOKUP(K100,判定式!G$3:$J$12,4,TRUE))","v":""},{"$f":"IF(L100=\"\",\"\",VLOOKUP(L100,判定式!H$3:$J$12,3,TRUE))","v":""},"",{"$f":"IF(ISNUMBER(D100),\"判定外\",IF(C100=6,VLOOKUP(U100,判定式!$C$15:I$19,7,TRUE),IF(C100=7,VLOOKUP(U100,判定式!$D$15:I$19,6,TRUE),IF(C100=8,VLOOKUP(U100,判定式!$E$15:I$19,5,TRUE),IF(C100=9,VLOOKUP(U100,判定式!$F$15:I$19,4,TRUE),IF(C100=10,VLOOKUP(U100,判定式!$G$15:I$19,3,TRUE),IF(C100=11,VLOOKUP(U100,判定式!$H$15:I$19,2,TRUE))))))))","v":false}]
[81,null,null,"-",null,null,null,null,null,null,null,null,{"$f":"IF(E101=\"\",\"\",VLOOKUP(E101,判定式!C$3:$J$12,8,TRUE))","v":""},{"$f":"IF(F101=\"\",\"\",VLOOKUP(F101,判定式!D$3:$J$12,7,TRUE))","v":""},{"$f":"IF(G101=\"\",\"\",VLOOKUP(G101,判定式!E$3:$J$12,6,TRUE))","v":""},{"$f":"IF(H101=\"\",\"\",VLOOKUP(H101,判定式!F$3:$J$12,5,TRUE))","v":""},{"$f":"IF(I101=\"\",\"\",VLOOKUP(I101,判定式!I$3:$J$12,2,TRUE))","v":""},{"$f":"IF(J101=\"\",\"\",VLOOKUP(J101,判定式!L$3:$M$12,2,TRUE))","v":""},{"$f":"IF(K101=\"\",\"\",VLOOKUP(K101,判定式!G$3:$J$12,4,TRUE))","v":""},{"$f":"IF(L101=\"\",\"\",VLOOKUP(L101,判定式!H$3:$J$12,3,TRUE))","v":""},"",{"$f":"IF(ISNUMBER(D101),\"判定外\",IF(C101=6,VLOOKUP(U101,判定式!$C$15:I$19,7,TRUE),IF(C101=7,VLOOKUP(U101,判定式!$D$15:I$19,6,TRUE),IF(C101=8,VLOOKUP(U101,判定式!$E$15:I$19,5,TRUE),IF(C101=9,VLOOKUP(U101,判定式!$F$15:I$19,4,TRUE),IF(C101=10,VLOOKUP(U101,判定式!$G$15:I$19,3,TRUE),IF(C101=11,VLOOKUP(U101,判定式!$H$15:I$19,2,TRUE))))))))","v":false}]
[82,null,null,"-",null,null,null,null,null,null,null,null,{"$f":"IF(E102=\"\",\"\",VLOOKUP(E102,判定式!C$3:$J$12,8,TRUE))","v":""},{"$f":"IF(F102=\"\",\"\",VLOOKUP(F102,判定式!D$3:$J$12,7,TRUE))","v":""},{"$f":"IF(G102=\"\",\"\",VLOOKUP(G102,判定式!E$3:$J$12,6,TRUE))","v":""},{"$f":"IF(H102=\"\",\"\",VLOOKUP(H102,判定式!F$3:$J$12,5,TRUE))","v":""},{"$f":"IF(I102=\"\",\"\",VLOOKUP(I102,判定式!I$3:$J$12,2,TRUE))","v":""},{"$f":"IF(J102=\"\",\"\",VLOOKUP(J102,判定式!L$3:$M$12,2,TRUE))","v":""},{"$f":"IF(K102=\"\",\"\",VLOOKUP(K102,判定式!G$3:$J$12,4,TRUE))","v":""},{"$f":"IF(L102=\"\",\"\",VLOOKUP(L102,判定式!H$3:$J$12,3,TRUE))","v":""},"",{"$f":"IF(ISNUMBER(D102),\"判定外\",IF(C102=6,VLOOKUP(U102,判定式!$C$15:I$19,7,TRUE),IF(C102=7,VLOOKUP(U102,判定式!$D$15:I$19,6,TRUE),IF(C102=8,VLOOKUP(U102,判定式!$E$15:I$19,5,TRUE),IF(C102=9,VLOOKUP(U102,判定式!$F$15:I$19,4,TRUE),IF(C102=10,VLOOKUP(U102,判定式!$G$15:I$19,3,TRUE),IF(C102=11,VLOOKUP(U102,判定式!$H$15:I$19,2,TRUE))))))))","v":false}]
[83,null,null,"-",null,null,null,null,null,null,null,null,{"$f":"IF(E103=\"\",\"\",VLOOKUP(E103,判定式!C$3:$J$12,8,TRUE))","v":""},{"$f":"IF(F103=\"\",\"\",VLOOKUP(F103,判定式!D$3:$J$12,7,TRUE))","v":""},{"$f":"IF(G103=\"\",\"\",VLOOKUP(G103,判定式!E$3:$J$12,6,TRUE))","v":""},{"$f":"IF(H103=\"\",\"\",VLOOKUP(H103,判定式!F$3:$J$12,5,TRUE))","v":""},{"$f":"IF(I103=\"\",\"\",VLOOKUP(I103,判定式!I$3:$J$12,2,TRUE))","v":""},{"$f":"IF(J103=\"\",\"\",VLOOKUP(J103,判定式!L$3:$M$12,2,TRUE))","v":""},{"$f":"IF(K103=\"\",\"\",VLOOKUP(K103,判定式!G$3:$J$12,4,TRUE))","v":""},{"$f":"IF(L103=\"\",\"\",VLOOKUP(L103,判定式!H$3:$J$12,3,TRUE))","v":""},"",{"$f":"IF(ISNUMBER(D103),\"判定外\",IF(C103=6,VLOOKUP(U103,判定式!$C$15:I$19,7,TRUE),IF(C103=7,VLOOKUP(U103,判定式!$D$15:I$19,6,TRUE),IF(C103=8,VLOOKUP(U103,判定式!$E$15:I$19,5,TRUE),IF(C103=9,VLOOKUP(U103,判定式!$F$15:I$19,4,TRUE),IF(C103=10,VLOOKUP(U103,判定式!$G$15:I$19,3,TRUE),IF(C103=11,VLOOKUP(U103,判定式!$H$15:I$19,2,TRUE))))))))","v":false}]
[84,null,null,"-",null,null,null,null,null,null,null,null,{"$f":"IF(E104=\"\",\"\",VLOOKUP(E104,判定式!C$3:$J$12,8,TRUE))","v":""},{"$f":"IF(F104=\"\",\"\",VLOOKUP(F104,判定式!D$3:$J$12,7,TRUE))","v":""},{"$f":"IF(G104=\"\",\"\",VLOOKUP(G104,判定式!E$3:$J$12,6,TRUE))","v":""},{"$f":"IF(H104=\"\",\"\",VLOOKUP(H104,判定式!F$3:$J$12,5,TRUE))","v":""},{"$f":"IF(I104=\"\",\"\",VLOOKUP(I104,判定式!I$3:$J$12,2,TRUE))","v":""},{"$f":"IF(J104=\"\",\"\",VLOOKUP(J104,判定式!L$3:$M$12,2,TRUE))","v":""},{"$f":"IF(K104=\"\",\"\",VLOOKUP(K104,判定式!G$3:$J$12,4,TRUE))","v":""},{"$f":"IF(L104=\"\",\"\",VLOOKUP(L104,判定式!H$3:$J$12,3,TRUE))","v":""},"",{"$f":"IF(ISNUMBER(D104),\"判定外\",IF(C104=6,VLOOKUP(U104,判定式!$C$15:I$19,7,TRUE),IF(C104=7,VLOOKUP(U104,判定式!$D$15:I$19,6,TRUE),IF(C104=8,VLOOKUP(U104,判定式!$E$15:I$19,5,TRUE),IF(C104=9,VLOOKUP(U104,判定式!$F$15:I$19,4,TRUE),IF(C104=10,VLOOKUP(U104,判定式!$G$15:I$19,3,TRUE),IF(C104=11,VLOOKUP(U104,判定式!$H$15:I$19,2,TRUE))))))))","v":false}]
[85,null,null,"-",null,null,null,null,null,null,null,null,{"$f":"IF(E105=\"\",\"\",VLOOKUP(E105,判定式!C$3:$J$12,8,TRUE))","v":""},{"$f":"IF(F105=\"\",\"\",VLOOKUP(F105,判定式!D$3:$J$12,7,TRUE))","v":""},{"$f":"IF(G105=\"\",\"\",VLOOKUP(G105,判定式!E$3:$J$12,6,TRUE))","v":""},{"$f":"IF(H105=\"\",\"\",VLOOKUP(H105,判定式!F$3:$J$12,5,TRUE))","v":""},{"$f":"IF(I105=\"\",\"\",VLOOKUP(I105,判定式!I$3:$J$12,2,TRUE))","v":""},{"$f":"IF(J105=\"\",\"\",VLOOKUP(J105,判定式!L$3:$M$12,2,TRUE))","v":""},{"$f":"IF(K105=\"\",\"\",VLOOKUP(K105,判定式!G$3:$J$12,4,TRUE))","v":""},{"$f":"IF(L105=\"\",\"\",VLOOKUP(L105,判定式!H$3:$J$12,3,TRUE))","v":""},"",{"$f":"IF(ISNUMBER(D105),\"判定外\",IF(C105=6,VLOOKUP(U105,判定式!$C$15:I$19,7,TRUE),IF(C105=7,VLOOKUP(U105,判定式!$D$15:I$19,6,TRUE),IF(C105=8,VLOOKUP(U105,判定式!$E$15:I$19,5,TRUE),IF(C105=9,VLOOKUP(U105,判定式!$F$15:I$19,4,TRUE),IF(C105=10,VLOOKUP(U105,判定式!$G$15:I$19,3,TRUE),IF(C105=11,VLOOKUP(U105,判定式!$H$15:I$19,2,TRUE))))))))","v":false}]
[86,null,null,"-",null,null,null,null,null,null,null,null,{"$f":"IF(E106=\"\",\"\",VLOOKUP(E106,判定式!C$3:$J$12,8,TRUE))","v":""},{"$f":"IF(F106=\"\",\"\",VLOOKUP(F106,判定式!D$3:$J$12,7,TRUE))","v":""},{"$f":"IF(G106=\"\",\"\",VLOOKUP(G106,判定式!E$3:$J$12,6,TRUE))","v":""},{"$f":"IF(H106=\"\",\"\",VLOOKUP(H106,判定式!F$3:$J$12,5,TRUE))","v":""},{"$f":"IF(I106=\"\",\"\",VLOOKUP(I106,判定式!I$3:$J$12,2,TRUE))","v":""},{"$f":"IF(J106=\"\",\"\",VLOOKUP(J106,判定式!L$3:$M$12,2,TRUE))","v":""},{"$f":"IF(K106=\"\",\"\",VLOOKUP(K106,判定式!G$3:$J$12,4,TRUE))","v":""},{"$f":"IF(L106=\"\",\"\",VLOOKUP(L106,判定式!H$3:$J$12,3,TRUE))","v":""},"",{"$f":"IF(ISNUMBER(D106),\"判定外\",IF(C106=6,VLOOKUP(U106,判定式!$C$15:I$19,7,TRUE),IF(C106=7,VLOOKUP(U106,判定式!$D$15:I$19,6,TRUE),IF(C106=8,VLOOKUP(U106,判定式!$E$15:I$19,5,TRUE),IF(C106=9,VLOOKUP(U106,判定式!$F$15:I$19,4,TRUE),IF(C106=10,VLOOKUP(U106,判定式!$G$15:I$19,3,TRUE),IF(C106=11,VLOOKUP(U106,判定式!$H$15:I$19,2,TRUE))))))))","v":false}]
[87,null,null,"-",null,null,null,null,null,null,null,null,{"$f":"IF(E107=\"\",\"\",VLOOKUP(E107,判定式!C$3:$J$12,8,TRUE))","v":""},{"$f":"IF(F107=\"\",\"\",VLOOKUP(F107,判定式!D$3:$J$12,7,TRUE))","v":""},{"$f":"IF(G107=\"\",\"\",VLOOKUP(G107,判定式!E$3:$J$12,6,TRUE))","v":""},{"$f":"IF(H107=\"\",\"\",VLOOKUP(H107,判定式!F$3:$J$12,5,TRUE))","v":""},{"$f":"IF(I107=\"\",\"\",VLOOKUP(I107,判定式!I$3:$J$12,2,TRUE))","v":""},{"$f":"IF(J107=\"\",\"\",VLOOKUP(J107,判定式!L$3:$M$12,2,TRUE))","v":""},{"$f":"IF(K107=\"\",\"\",VLOOKUP(K107,判定式!G$3:$J$12,4,TRUE))","v":""},{"$f":"IF(L107=\"\",\"\",VLOOKUP(L107,判定式!H$3:$J$12,3,TRUE))","v":""},"",{"$f":"IF(ISNUMBER(D107),\"判定外\",IF(C107=6,VLOOKUP(U107,判定式!$C$15:I$19,7,TRUE),IF(C107=7,VLOOKUP(U107,判定式!$D$15:I$19,6,TRUE),IF(C107=8,VLOOKUP(U107,判定式!$E$15:I$19,5,TRUE),IF(C107=9,VLOOKUP(U107,判定式!$F$15:I$19,4,TRUE),IF(C107=10,VLOOKUP(U107,判定式!$G$15:I$19,3,TRUE),IF(C107=11,VLOOKUP(U107,判定式!$H$15:I$19,2,TRUE))))))))","v":false}]
[88,null,null,"-",null,null,null,null,null,null,null,null,{"$f":"IF(E108=\"\",\"\",VLOOKUP(E108,判定式!C$3:$J$12,8,TRUE))","v":""},{"$f":"IF(F108=\"\",\"\",VLOOKUP(F108,判定式!D$3:$J$12,7,TRUE))","v":""},{"$f":"IF(G108=\"\",\"\",VLOOKUP(G108,判定式!E$3:$J$12,6,TRUE))","v":""},{"$f":"IF(H108=\"\",\"\",VLOOKUP(H108,判定式!F$3:$J$12,5,TRUE))","v":""},{"$f":"IF(I108=\"\",\"\",VLOOKUP(I108,判定式!I$3:$J$12,2,TRUE))","v":""},{"$f":"IF(J108=\"\",\"\",VLOOKUP(J108,判定式!L$3:$M$12,2,TRUE))","v":""},{"$f":"IF(K108=\"\",\"\",VLOOKUP(K108,判定式!G$3:$J$12,4,TRUE))","v":""},{"$f":"IF(L108=\"\",\"\",VLOOKUP(L108,判定式!H$3:$J$12,3,TRUE))","v":""},"",{"$f":"IF(ISNUMBER(D108),\"判定外\",IF(C108=6,VLOOKUP(U108,判定式!$C$15:I$19,7,TRUE),IF(C108=7,VLOOKUP(U108,判定式!$D$15:I$19,6,TRUE),IF(C108=8,VLOOKUP(U108,判定式!$E$15:I$19,5,TRUE),IF(C108=9,VLOOKUP(U108,判定式!$F$15:I$19,4,TRUE),IF(C108=10,VLOOKUP(U108,判定式!$G$15:I$19,3,TRUE),IF(C108=11,VLOOKUP(U108,判定式!$H$15:I$19,2,TRUE))))))))","v":false}]
[89,null,null,"-",null,null,null,null,null,null,null,null,{"$f":"IF(E109=\"\",\"\",VLOOKUP(E109,判定式!C$3:$J$12,8,TRUE))","v":""},{"$f":"IF(F109=\"\",\"\",VLOOKUP(F109,判定式!D$3:$J$12,7,TRUE))","v":""},{"$f":"IF(G109=\"\",\"\",VLOOKUP(G109,判定式!E$3:$J$12,6,TRUE))","v":""},{"$f":"IF(H109=\"\",\"\",VLOOKUP(H109,判定式!F$3:$J$12,5,TRUE))","v":""},{"$f":"IF(I109=\"\",\"\",VLOOKUP(I109,判定式!I$3:$J$12,2,TRUE))","v":""},{"$f":"IF(J109=\"\",\"\",VLOOKUP(J109,判定式!L$3:$M$12,2,TRUE))","v":""},{"$f":"IF(K109=\"\",\"\",VLOOKUP(K109,判定式!G$3:$J$12,4,TRUE))","v":""},{"$f":"IF(L109=\"\",\"\",VLOOKUP(L109,判定式!H$3:$J$12,3,TRUE))","v":""},"",{"$f":"IF(ISNUMBER(D109),\"判定外\",IF(C109=6,VLOOKUP(U109,判定式!$C$15:I$19,7,TRUE),IF(C109=7,VLOOKUP(U109,判定式!$D$15:I$19,6,TRUE),IF(C109=8,VLOOKUP(U109,判定式!$E$15:I$19,5,TRUE),IF(C109=9,VLOOKUP(U109,判定式!$F$15:I$19,4,TRUE),IF(C109=10,VLOOKUP(U109,判定式!$G$15:I$19,3,TRUE),IF(C109=11,VLOOKUP(U109,判定式!$H$15:I$19,2,TRUE))))))))","v":false}]
[90,null,null,"-",null,null,null,null,null,null,null,null,{"$f":"IF(E110=\"\",\"\",VLOOKUP(E110,判定式!C$3:$J$12,8,TRUE))","v":""},{"$f":"IF(F110=\"\",\"\",VLOOKUP(F110,判定式!D$3:$J$12,7,TRUE))","v":""},{"$f":"IF(G110=\"\",\"\",VLOOKUP(G110,判定式!E$3:$J$12,6,TRUE))","v":""},{"$f":"IF(H110=\"\",\"\",VLOOKUP(H110,判定式!F$3:$J$12,5,TRUE))","v":""},{"$f":"IF(I110=\"\",\"\",VLOOKUP(I110,判定式!I$3:$J$12,2,TRUE))","v":""},{"$f":"IF(J110=\"\",\"\",VLOOKUP(J110,判定式!L$3:$M$12,2,TRUE))","v":""},{"$f":"IF(K110=\"\",\"\",VLOOKUP(K110,判定式!G$3:$J$12,4,TRUE))","v":""},{"$f":"IF(L110=\"\",\"\",VLOOKUP(L110,判定式!H$3:$J$12,3,TRUE))","v":""},"",{"$f":"IF(ISNUMBER(D110),\"判定外\",IF(C110=6,VLOOKUP(U110,判定式!$C$15:I$19,7,TRUE),IF(C110=7,VLOOKUP(U110,判定式!$D$15:I$19,6,TRUE),IF(C110=8,VLOOKUP(U110,判定式!$E$15:I$19,5,TRUE),IF(C110=9,VLOOKUP(U110,判定式!$F$15:I$19,4,TRUE),IF(C110=10,VLOOKUP(U110,判定式!$G$15:I$19,3,TRUE),IF(C110=11,VLOOKUP(U110,判定式!$H$15:I$19,2,TRUE))))))))","v":false}]
[91,null,null,"-",null,null,null,null,null,null,null,null,{"$f":"IF(E111=\"\",\"\",VLOOKUP(E111,判定式!C$3:$J$12,8,TRUE))","v":""},{"$f":"IF(F111=\"\",\"\",VLOOKUP(F111,判定式!D$3:$J$12,7,TRUE))","v":""},{"$f":"IF(G111=\"\",\"\",VLOOKUP(G111,判定式!E$3:$J$12,6,TRUE))","v":""},{"$f":"IF(H111=\"\",\"\",VLOOKUP(H111,判定式!F$3:$J$12,5,TRUE))","v":""},{"$f":"IF(I111=\"\",\"\",VLOOKUP(I111,判定式!I$3:$J$12,2,TRUE))","v":""},{"$f":"IF(J111=\"\",\"\",VLOOKUP(J111,判定式!L$3:$M$12,2,TRUE))","v":""},{"$f":"IF(K111=\"\",\"\",VLOOKUP(K111,判定式!G$3:$J$12,4,TRUE))","v":""},{"$f":"IF(L111=\"\",\"\",VLOOKUP(L111,判定式!H$3:$J$12,3,TRUE))","v":""},"",{"$f":"IF(ISNUMBER(D111),\"判定外\",IF(C111=6,VLOOKUP(U111,判定式!$C$15:I$19,7,TRUE),IF(C111=7,VLOOKUP(U111,判定式!$D$15:I$19,6,TRUE),IF(C111=8,VLOOKUP(U111,判定式!$E$15:I$19,5,TRUE),IF(C111=9,VLOOKUP(U111,判定式!$F$15:I$19,4,TRUE),IF(C111=10,VLOOKUP(U111,判定式!$G$15:I$19,3,TRUE),IF(C111=11,VLOOKUP(U111,判定式!$H$15:I$19,2,TRUE))))))))","v":false}]
[92,null,null,"-",null,null,null,null,null,null,null,null,{"$f":"IF(E112=\"\",\"\",VLOOKUP(E112,判定式!C$3:$J$12,8,TRUE))","v":""},{"$f":"IF(F112=\"\",\"\",VLOOKUP(F112,判定式!D$3:$J$12,7,TRUE))","v":""},{"$f":"IF(G112=\"\",\"\",VLOOKUP(G112,判定式!E$3:$J$12,6,TRUE))","v":""},{"$f":"IF(H112=\"\",\"\",VLOOKUP(H112,判定式!F$3:$J$12,5,TRUE))","v":""},{"$f":"IF(I112=\"\",\"\",VLOOKUP(I112,判定式!I$3:$J$12,2,TRUE))","v":""},{"$f":"IF(J112=\"\",\"\",VLOOKUP(J112,判定式!L$3:$M$12,2,TRUE))","v":""},{"$f":"IF(K112=\"\",\"\",VLOOKUP(K112,判定式!G$3:$J$12,4,TRUE))","v":""},{"$f":"IF(L112=\"\",\"\",VLOOKUP(L112,判定式!H$3:$J$12,3,TRUE))","v":""},"",{"$f":"IF(ISNUMBER(D112),\"判定外\",IF(C112=6,VLOOKUP(U112,判定式!$C$15:I$19,7,TRUE),IF(C112=7,VLOOKUP(U112,判定式!$D$15:I$19,6,TRUE),IF(C112=8,VLOOKUP(U112,判定式!$E$15:I$19,5,TRUE),IF(C112=9,VLOOKUP(U112,判定式!$F$15:I$19,4,TRUE),IF(C112=10,VLOOKUP(U112,判定式!$G$15:I$19,3,TRUE),IF(C112=11,VLOOKUP(U112,判定式!$H$15:I$19,2,TRUE))))))))","v":false}]
[93,null,null,"-",null,null,null,null,null,null,null,null,{"$f":"IF(E113=\"\",\"\",VLOOKUP(E113,判定式!C$3:$J$12,8,TRUE))","v":""},{"$f":"IF(F113=\"\",\"\",VLOOKUP(F113,判定式!D$3:$J$12,7,TRUE))","v":""},{"$f":"IF(G113=\"\",\"\",VLOOKUP(G113,判定式!E$3:$J$12,6,TRUE))","v":""},{"$f":"IF(H113=\"\",\"\",VLOOKUP(H113,判定式!F$3:$J$12,5,TRUE))","v":""},{"$f":"IF(I113=\"\",\"\",VLOOKUP(I113,判定式!I$3:$J$12,2,TRUE))","v":""},{"$f":"IF(J113=\"\",\"\",VLOOKUP(J113,判定式!L$3:$M$12,2,TRUE))","v":""},{"$f":"IF(K113=\"\",\"\",VLOOKUP(K113,判定式!G$3:$J$12,4,TRUE))","v":""},{"$f":"IF(L113=\"\",\"\",VLOOKUP(L113,判定式!H$3:$J$12,3,TRUE))","v":""},"",{"$f":"IF(ISNUMBER(D113),\"判定外\",IF(C113=6,VLOOKUP(U113,判定式!$C$15:I$19,7,TRUE),IF(C113=7,VLOOKUP(U113,判定式!$D$15:I$19,6,TRUE),IF(C113=8,VLOOKUP(U113,判定式!$E$15:I$19,5,TRUE),IF(C113=9,VLOOKUP(U113,判定式!$F$15:I$19,4,TRUE),IF(C113=10,VLOOKUP(U113,判定式!$G$15:I$19,3,TRUE),IF(C113=11,VLOOKUP(U113,判定式!$H$15:I$19,2,TRUE))))))))","v":false}]
[94,null,null,"-",null,null,null,null,null,null,null,null,{"$f":"IF(E114=\"\",\"\",VLOOKUP(E114,判定式!C$3:$J$12,8,TRUE))","v":""},{"$f":"IF(F114=\"\",\"\",VLOOKUP(F114,判定式!D$3:$J$12,7,TRUE))","v":""},{"$f":"IF(G114=\"\",\"\",VLOOKUP(G114,判定式!E$3:$J$12,6,TRUE))","v":""},{"$f":"IF(H114=\"\",\"\",VLOOKUP(H114,判定式!F$3:$J$12,5,TRUE))","v":""},{"$f":"IF(I114=\"\",\"\",VLOOKUP(I114,判定式!I$3:$J$12,2,TRUE))","v":""},{"$f":"IF(J114=\"\",\"\",VLOOKUP(J114,判定式!L$3:$M$12,2,TRUE))","v":""},{"$f":"IF(K114=\"\",\"\",VLOOKUP(K114,判定式!G$3:$J$12,4,TRUE))","v":""},{"$f":"IF(L114=\"\",\"\",VLOOKUP(L114,判定式!H$3:$J$12,3,TRUE))","v":""},"",{"$f":"IF(ISNUMBER(D114),\"判定外\",IF(C114=6,VLOOKUP(U114,判定式!$C$15:I$19,7,TRUE),IF(C114=7,VLOOKUP(U114,判定式!$D$15:I$19,6,TRUE),IF(C114=8,VLOOKUP(U114,判定式!$E$15:I$19,5,TRUE),IF(C114=9,VLOOKUP(U114,判定式!$F$15:I$19,4,TRUE),IF(C114=10,VLOOKUP(U114,判定式!$G$15:I$19,3,TRUE),IF(C114=11,VLOOKUP(U114,判定式!$H$15:I$19,2,TRUE))))))))","v":false}]
[95,null,null,"-",null,null,null,null,null,null,null,null,{"$f":"IF(E115=\"\",\"\",VLOOKUP(E115,判定式!C$3:$J$12,8,TRUE))","v":""},{"$f":"IF(F115=\"\",\"\",VLOOKUP(F115,判定式!D$3:$J$12,7,TRUE))","v":""},{"$f":"IF(G115=\"\",\"\",VLOOKUP(G115,判定式!E$3:$J$12,6,TRUE))","v":""},{"$f":"IF(H115=\"\",\"\",VLOOKUP(H115,判定式!F$3:$J$12,5,TRUE))","v":""},{"$f":"IF(I115=\"\",\"\",VLOOKUP(I115,判定式!I$3:$J$12,2,TRUE))","v":""},{"$f":"IF(J115=\"\",\"\",VLOOKUP(J115,判定式!L$3:$M$12,2,TRUE))","v":""},{"$f":"IF(K115=\"\",\"\",VLOOKUP(K115,判定式!G$3:$J$12,4,TRUE))","v":""},{"$f":"IF(L115=\"\",\"\",VLOOKUP(L115,判定式!H$3:$J$12,3,TRUE))","v":""},"",{"$f":"IF(ISNUMBER(D115),\"判定外\",IF(C115=6,VLOOKUP(U115,判定式!$C$15:I$19,7,TRUE),IF(C115=7,VLOOKUP(U115,判定式!$D$15:I$19,6,TRUE),IF(C115=8,VLOOKUP(U115,判定式!$E$15:I$19,5,TRUE),IF(C115=9,VLOOKUP(U115,判定式!$F$15:I$19,4,TRUE),IF(C115=10,VLOOKUP(U115,判定式!$G$15:I$19,3,TRUE),IF(C115=11,VLOOKUP(U115,判定式!$H$15:I$19,2,TRUE))))))))","v":false}]
[96,null,null,"-",null,null,null,null,null,null,null,null,{"$f":"IF(E116=\"\",\"\",VLOOKUP(E116,判定式!C$3:$J$12,8,TRUE))","v":""},{"$f":"IF(F116=\"\",\"\",VLOOKUP(F116,判定式!D$3:$J$12,7,TRUE))","v":""},{"$f":"IF(G116=\"\",\"\",VLOOKUP(G116,判定式!E$3:$J$12,6,TRUE))","v":""},{"$f":"IF(H116=\"\",\"\",VLOOKUP(H116,判定式!F$3:$J$12,5,TRUE))","v":""},{"$f":"IF(I116=\"\",\"\",VLOOKUP(I116,判定式!I$3:$J$12,2,TRUE))","v":""},{"$f":"IF(J116=\"\",\"\",VLOOKUP(J116,判定式!L$3:$M$12,2,TRUE))","v":""},{"$f":"IF(K116=\"\",\"\",VLOOKUP(K116,判定式!G$3:$J$12,4,TRUE))","v":""},{"$f":"IF(L116=\"\",\"\",VLOOKUP(L116,判定式!H$3:$J$12,3,TRUE))","v":""},"",{"$f":"IF(ISNUMBER(D116),\"判定外\",IF(C116=6,VLOOKUP(U116,判定式!$C$15:I$19,7,TRUE),IF(C116=7,VLOOKUP(U116,判定式!$D$15:I$19,6,TRUE),IF(C116=8,VLOOKUP(U116,判定式!$E$15:I$19,5,TRUE),IF(C116=9,VLOOKUP(U116,判定式!$F$15:I$19,4,TRUE),IF(C116=10,VLOOKUP(U116,判定式!$G$15:I$19,3,TRUE),IF(C116=11,VLOOKUP(U116,判定式!$H$15:I$19,2,TRUE))))))))","v":false}]
[97,null,null,{"$f":"IF(COUNTBLANK(E117:L117)=0,\"\",IF(COUNTBLANK(E117:L117)=8,\"-\",COUNTBLANK(E117:L117)))","v":"-"},null,null,null,null,null,null,null,null,{"$f":"IF(E117=\"\",\"\",VLOOKUP(E117,判定式!C$3:$J$12,8,TRUE))","v":""},{"$f":"IF(F117=\"\",\"\",VLOOKUP(F117,判定式!D$3:$J$12,7,TRUE))","v":""},{"$f":"IF(G117=\"\",\"\",VLOOKUP(G117,判定式!E$3:$J$12,6,TRUE))","v":""},{"$f":"IF(H117=\"\",\"\",VLOOKUP(H117,判定式!F$3:$J$12,5,TRUE))","v":""},{"$f":"IF(I117=\"\",\"\",VLOOKUP(I117,判定式!I$3:$J$12,2,TRUE))","v":""},{"$f":"IF(J117=\"\",\"\",VLOOKUP(J117,判定式!L$3:$M$12,2,TRUE))","v":""},{"$f":"IF(K117=\"\",\"\",VLOOKUP(K117,判定式!G$3:$J$12,4,TRUE))","v":""},{"$f":"IF(L117=\"\",\"\",VLOOKUP(L117,判定式!H$3:$J$12,3,TRUE))","v":""},{"$f":"IF(COUNTBLANK(M117:T117)=0,SUM(M117:T117),\"\")","v":""},{"$f":"IF(ISNUMBER(D117),\"判定外\",IF(C117=6,VLOOKUP(U117,判定式!$C$15:I$19,7,TRUE),IF(C117=7,VLOOKUP(U117,判定式!$D$15:I$19,6,TRUE),IF(C117=8,VLOOKUP(U117,判定式!$E$15:I$19,5,TRUE),IF(C117=9,VLOOKUP(U117,判定式!$F$15:I$19,4,TRUE),IF(C117=10,VLOOKUP(U117,判定式!$G$15:I$19,3,TRUE),IF(C117=11,VLOOKUP(U117,判定式!$H$15:I$19,2,TRUE))))))))","v":false}]
[98,null,null,"-",null,null,null,null,null,null,null,null,{"$f":"IF(E118=\"\",\"\",VLOOKUP(E118,判定式!C$3:$J$12,8,TRUE))","v":""},{"$f":"IF(F118=\"\",\"\",VLOOKUP(F118,判定式!D$3:$J$12,7,TRUE))","v":""},{"$f":"IF(G118=\"\",\"\",VLOOKUP(G118,判定式!E$3:$J$12,6,TRUE))","v":""},{"$f":"IF(H118=\"\",\"\",VLOOKUP(H118,判定式!F$3:$J$12,5,TRUE))","v":""},{"$f":"IF(I118=\"\",\"\",VLOOKUP(I118,判定式!I$3:$J$12,2,TRUE))","v":""},{"$f":"IF(J118=\"\",\"\",VLOOKUP(J118,判定式!L$3:$M$12,2,TRUE))","v":""},{"$f":"IF(K118=\"\",\"\",VLOOKUP(K118,判定式!G$3:$J$12,4,TRUE))","v":""},{"$f":"IF(L118=\"\",\"\",VLOOKUP(L118,判定式!H$3:$J$12,3,TRUE))","v":""},"",{"$f":"IF(ISNUMBER(D118),\"判定外\",IF(C118=6,VLOOKUP(U118,判定式!$C$15:I$19,7,TRUE),IF(C118=7,VLOOKUP(U118,判定式!$D$15:I$19,6,TRUE),IF(C118=8,VLOOKUP(U118,判定式!$E$15:I$19,5,TRUE),IF(C118=9,VLOOKUP(U118,判定式!$F$15:I$19,4,TRUE),IF(C118=10,VLOOKUP(U118,判定式!$G$15:I$19,3,TRUE),IF(C118=11,VLOOKUP(U118,判定式!$H$15:I$19,2,TRUE))))))))","v":false}]
[99,null,null,"-",null,null,null,null,null,null,null,null,{"$f":"IF(E119=\"\",\"\",VLOOKUP(E119,判定式!C$3:$J$12,8,TRUE))","v":""},{"$f":"IF(F119=\"\",\"\",VLOOKUP(F119,判定式!D$3:$J$12,7,TRUE))","v":""},{"$f":"IF(G119=\"\",\"\",VLOOKUP(G119,判定式!E$3:$J$12,6,TRUE))","v":""},{"$f":"IF(H119=\"\",\"\",VLOOKUP(H119,判定式!F$3:$J$12,5,TRUE))","v":""},{"$f":"IF(I119=\"\",\"\",VLOOKUP(I119,判定式!I$3:$J$12,2,TRUE))","v":""},{"$f":"IF(J119=\"\",\"\",VLOOKUP(J119,判定式!L$3:$M$12,2,TRUE))","v":""},{"$f":"IF(K119=\"\",\"\",VLOOKUP(K119,判定式!G$3:$J$12,4,TRUE))","v":""},{"$f":"IF(L119=\"\",\"\",VLOOKUP(L119,判定式!H$3:$J$12,3,TRUE))","v":""},"",{"$f":"IF(ISNUMBER(D119),\"判定外\",IF(C119=6,VLOOKUP(U119,判定式!$C$15:I$19,7,TRUE),IF(C119=7,VLOOKUP(U119,判定式!$D$15:I$19,6,TRUE),IF(C119=8,VLOOKUP(U119,判定式!$E$15:I$19,5,TRUE),IF(C119=9,VLOOKUP(U119,判定式!$F$15:I$19,4,TRUE),IF(C119=10,VLOOKUP(U119,判定式!$G$15:I$19,3,TRUE),IF(C119=11,VLOOKUP(U119,判定式!$H$15:I$19,2,TRUE))))))))","v":false}]
[100,null,null,"-",null,null,null,null,null,null,null,null,{"$f":"IF(E120=\"\",\"\",VLOOKUP(E120,判定式!C$3:$J$12,8,TRUE))","v":""},{"$f":"IF(F120=\"\",\"\",VLOOKUP(F120,判定式!D$3:$J$12,7,TRUE))","v":""},{"$f":"IF(G120=\"\",\"\",VLOOKUP(G120,判定式!E$3:$J$12,6,TRUE))","v":""},{"$f":"IF(H120=\"\",\"\",VLOOKUP(H120,判定式!F$3:$J$12,5,TRUE))","v":""},{"$f":"IF(I120=\"\",\"\",VLOOKUP(I120,判定式!I$3:$J$12,2,TRUE))","v":""},{"$f":"IF(J120=\"\",\"\",VLOOKUP(J120,判定式!L$3:$M$12,2,TRUE))","v":""},{"$f":"IF(K120=\"\",\"\",VLOOKUP(K120,判定式!G$3:$J$12,4,TRUE))","v":""},{"$f":"IF(L120=\"\",\"\",VLOOKUP(L120,判定式!H$3:$J$12,3,TRUE))","v":""},"",{"$f":"IF(ISNUMBER(D120),\"判定外\",IF(C120=6,VLOOKUP(U120,判定式!$C$15:I$19,7,TRUE),IF(C120=7,VLOOKUP(U120,判定式!$D$15:I$19,6,TRUE),IF(C120=8,VLOOKUP(U120,判定式!$E$15:I$19,5,TRUE),IF(C120=9,VLOOKUP(U120,判定式!$F$15:I$19,4,TRUE),IF(C120=10,VLOOKUP(U120,判定式!$G$15:I$19,3,TRUE),IF(C120=11,VLOOKUP(U120,判定式!$H$15:I$19,2,TRUE))))))))","v":false}]
[101,null,null,"-",null,null,null,null,null,null,null,null,{"$f":"IF(E121=\"\",\"\",VLOOKUP(E121,判定式!C$3:$J$12,8,TRUE))","v":""},{"$f":"IF(F121=\"\",\"\",VLOOKUP(F121,判定式!D$3:$J$12,7,TRUE))","v":""},{"$f":"IF(G121=\"\",\"\",VLOOKUP(G121,判定式!E$3:$J$12,6,TRUE))","v":""},{"$f":"IF(H121=\"\",\"\",VLOOKUP(H121,判定式!F$3:$J$12,5,TRUE))","v":""},{"$f":"IF(I121=\"\",\"\",VLOOKUP(I121,判定式!I$3:$J$12,2,TRUE))","v":""},{"$f":"IF(J121=\"\",\"\",VLOOKUP(J121,判定式!L$3:$M$12,2,TRUE))","v":""},{"$f":"IF(K121=\"\",\"\",VLOOKUP(K121,判定式!G$3:$J$12,4,TRUE))","v":""},{"$f":"IF(L121=\"\",\"\",VLOOKUP(L121,判定式!H$3:$J$12,3,TRUE))","v":""},"",{"$f":"IF(ISNUMBER(D121),\"判定外\",IF(C121=6,VLOOKUP(U121,判定式!$C$15:I$19,7,TRUE),IF(C121=7,VLOOKUP(U121,判定式!$D$15:I$19,6,TRUE),IF(C121=8,VLOOKUP(U121,判定式!$E$15:I$19,5,TRUE),IF(C121=9,VLOOKUP(U121,判定式!$F$15:I$19,4,TRUE),IF(C121=10,VLOOKUP(U121,判定式!$G$15:I$19,3,TRUE),IF(C121=11,VLOOKUP(U121,判定式!$H$15:I$19,2,TRUE))))))))","v":false}]
[102,null,null,"-",null,null,null,null,null,null,null,null,{"$f":"IF(E122=\"\",\"\",VLOOKUP(E122,判定式!C$3:$J$12,8,TRUE))","v":""},{"$f":"IF(F122=\"\",\"\",VLOOKUP(F122,判定式!D$3:$J$12,7,TRUE))","v":""},{"$f":"IF(G122=\"\",\"\",VLOOKUP(G122,判定式!E$3:$J$12,6,TRUE))","v":""},{"$f":"IF(H122=\"\",\"\",VLOOKUP(H122,判定式!F$3:$J$12,5,TRUE))","v":""},{"$f":"IF(I122=\"\",\"\",VLOOKUP(I122,判定式!I$3:$J$12,2,TRUE))","v":""},{"$f":"IF(J122=\"\",\"\",VLOOKUP(J122,判定式!L$3:$M$12,2,TRUE))","v":""},{"$f":"IF(K122=\"\",\"\",VLOOKUP(K122,判定式!G$3:$J$12,4,TRUE))","v":""},{"$f":"IF(L122=\"\",\"\",VLOOKUP(L122,判定式!H$3:$J$12,3,TRUE))","v":""},"",{"$f":"IF(ISNUMBER(D122),\"判定外\",IF(C122=6,VLOOKUP(U122,判定式!$C$15:I$19,7,TRUE),IF(C122=7,VLOOKUP(U122,判定式!$D$15:I$19,6,TRUE),IF(C122=8,VLOOKUP(U122,判定式!$E$15:I$19,5,TRUE),IF(C122=9,VLOOKUP(U122,判定式!$F$15:I$19,4,TRUE),IF(C122=10,VLOOKUP(U122,判定式!$G$15:I$19,3,TRUE),IF(C122=11,VLOOKUP(U122,判定式!$H$15:I$19,2,TRUE))))))))","v":false}]
[103,null,null,"-",null,null,null,null,null,null,null,null,{"$f":"IF(E123=\"\",\"\",VLOOKUP(E123,判定式!C$3:$J$12,8,TRUE))","v":""},{"$f":"IF(F123=\"\",\"\",VLOOKUP(F123,判定式!D$3:$J$12,7,TRUE))","v":""},{"$f":"IF(G123=\"\",\"\",VLOOKUP(G123,判定式!E$3:$J$12,6,TRUE))","v":""},{"$f":"IF(H123=\"\",\"\",VLOOKUP(H123,判定式!F$3:$J$12,5,TRUE))","v":""},{"$f":"IF(I123=\"\",\"\",VLOOKUP(I123,判定式!I$3:$J$12,2,TRUE))","v":""},{"$f":"IF(J123=\"\",\"\",VLOOKUP(J123,判定式!L$3:$M$12,2,TRUE))","v":""},{"$f":"IF(K123=\"\",\"\",VLOOKUP(K123,判定式!G$3:$J$12,4,TRUE))","v":""},{"$f":"IF(L123=\"\",\"\",VLOOKUP(L123,判定式!H$3:$J$12,3,TRUE))","v":""},"",{"$f":"IF(ISNUMBER(D123),\"判定外\",IF(C123=6,VLOOKUP(U123,判定式!$C$15:I$19,7,TRUE),IF(C123=7,VLOOKUP(U123,判定式!$D$15:I$19,6,TRUE),IF(C123=8,VLOOKUP(U123,判定式!$E$15:I$19,5,TRUE),IF(C123=9,VLOOKUP(U123,判定式!$F$15:I$19,4,TRUE),IF(C123=10,VLOOKUP(U123,判定式!$G$15:I$19,3,TRUE),IF(C123=11,VLOOKUP(U123,判定式!$H$15:I$19,2,TRUE))))))))","v":false}]
[104,null,null,"-",null,null,null,null,null,null,null,null,{"$f":"IF(E124=\"\",\"\",VLOOKUP(E124,判定式!C$3:$J$12,8,TRUE))","v":""},{"$f":"IF(F124=\"\",\"\",VLOOKUP(F124,判定式!D$3:$J$12,7,TRUE))","v":""},{"$f":"IF(G124=\"\",\"\",VLOOKUP(G124,判定式!E$3:$J$12,6,TRUE))","v":""},{"$f":"IF(H124=\"\",\"\",VLOOKUP(H124,判定式!F$3:$J$12,5,TRUE))","v":""},{"$f":"IF(I124=\"\",\"\",VLOOKUP(I124,判定式!I$3:$J$12,2,TRUE))","v":""},{"$f":"IF(J124=\"\",\"\",VLOOKUP(J124,判定式!L$3:$M$12,2,TRUE))","v":""},{"$f":"IF(K124=\"\",\"\",VLOOKUP(K124,判定式!G$3:$J$12,4,TRUE))","v":""},{"$f":"IF(L124=\"\",\"\",VLOOKUP(L124,判定式!H$3:$J$12,3,TRUE))","v":""},"",{"$f":"IF(ISNUMBER(D124),\"判定外\",IF(C124=6,VLOOKUP(U124,判定式!$C$15:I$19,7,TRUE),IF(C124=7,VLOOKUP(U124,判定式!$D$15:I$19,6,TRUE),IF(C124=8,VLOOKUP(U124,判定式!$E$15:I$19,5,TRUE),IF(C124=9,VLOOKUP(U124,判定式!$F$15:I$19,4,TRUE),IF(C124=10,VLOOKUP(U124,判定式!$G$15:I$19,3,TRUE),IF(C124=11,VLOOKUP(U124,判定式!$H$15:I$19,2,TRUE))))))))","v":false}]
[105,null,null,"-",null,null,null,null,null,null,null,null,{"$f":"IF(E125=\"\",\"\",VLOOKUP(E125,判定式!C$3:$J$12,8,TRUE))","v":""},{"$f":"IF(F125=\"\",\"\",VLOOKUP(F125,判定式!D$3:$J$12,7,TRUE))","v":""},{"$f":"IF(G125=\"\",\"\",VLOOKUP(G125,判定式!E$3:$J$12,6,TRUE))","v":""},{"$f":"IF(H125=\"\",\"\",VLOOKUP(H125,判定式!F$3:$J$12,5,TRUE))","v":""},{"$f":"IF(I125=\"\",\"\",VLOOKUP(I125,判定式!I$3:$J$12,2,TRUE))","v":""},{"$f":"IF(J125=\"\",\"\",VLOOKUP(J125,判定式!L$3:$M$12,2,TRUE))","v":""},{"$f":"IF(K125=\"\",\"\",VLOOKUP(K125,判定式!G$3:$J$12,4,TRUE))","v":""},{"$f":"IF(L125=\"\",\"\",VLOOKUP(L125,判定式!H$3:$J$12,3,TRUE))","v":""},"",{"$f":"IF(ISNUMBER(D125),\"判定外\",IF(C125=6,VLOOKUP(U125,判定式!$C$15:I$19,7,TRUE),IF(C125=7,VLOOKUP(U125,判定式!$D$15:I$19,6,TRUE),IF(C125=8,VLOOKUP(U125,判定式!$E$15:I$19,5,TRUE),IF(C125=9,VLOOKUP(U125,判定式!$F$15:I$19,4,TRUE),IF(C125=10,VLOOKUP(U125,判定式!$G$15:I$19,3,TRUE),IF(C125=11,VLOOKUP(U125,判定式!$H$15:I$19,2,TRUE))))))))","v":false}]
[106,null,null,"-",null,null,null,null,null,null,null,null,{"$f":"IF(E126=\"\",\"\",VLOOKUP(E126,判定式!C$3:$J$12,8,TRUE))","v":""},{"$f":"IF(F126=\"\",\"\",VLOOKUP(F126,判定式!D$3:$J$12,7,TRUE))","v":""},{"$f":"IF(G126=\"\",\"\",VLOOKUP(G126,判定式!E$3:$J$12,6,TRUE))","v":""},{"$f":"IF(H126=\"\",\"\",VLOOKUP(H126,判定式!F$3:$J$12,5,TRUE))","v":""},{"$f":"IF(I126=\"\",\"\",VLOOKUP(I126,判定式!I$3:$J$12,2,TRUE))","v":""},{"$f":"IF(J126=\"\",\"\",VLOOKUP(J126,判定式!L$3:$M$12,2,TRUE))","v":""},{"$f":"IF(K126=\"\",\"\",VLOOKUP(K126,判定式!G$3:$J$12,4,TRUE))","v":""},{"$f":"IF(L126=\"\",\"\",VLOOKUP(L126,判定式!H$3:$J$12,3,TRUE))","v":""},"",{"$f":"IF(ISNUMBER(D126),\"判定外\",IF(C126=6,VLOOKUP(U126,判定式!$C$15:I$19,7,TRUE),IF(C126=7,VLOOKUP(U126,判定式!$D$15:I$19,6,TRUE),IF(C126=8,VLOOKUP(U126,判定式!$E$15:I$19,5,TRUE),IF(C126=9,VLOOKUP(U126,判定式!$F$15:I$19,4,TRUE),IF(C126=10,VLOOKUP(U126,判定式!$G$15:I$19,3,TRUE),IF(C126=11,VLOOKUP(U126,判定式!$H$15:I$19,2,TRUE))))))))","v":false}]
[107,null,null,"-",null,null,null,null,null,null,null,null,{"$f":"IF(E127=\"\",\"\",VLOOKUP(E127,判定式!C$3:$J$12,8,TRUE))","v":""},{"$f":"IF(F127=\"\",\"\",VLOOKUP(F127,判定式!D$3:$J$12,7,TRUE))","v":""},{"$f":"IF(G127=\"\",\"\",VLOOKUP(G127,判定式!E$3:$J$12,6,TRUE))","v":""},{"$f":"IF(H127=\"\",\"\",VLOOKUP(H127,判定式!F$3:$J$12,5,TRUE))","v":""},{"$f":"IF(I127=\"\",\"\",VLOOKUP(I127,判定式!I$3:$J$12,2,TRUE))","v":""},{"$f":"IF(J127=\"\",\"\",VLOOKUP(J127,判定式!L$3:$M$12,2,TRUE))","v":""},{"$f":"IF(K127=\"\",\"\",VLOOKUP(K127,判定式!G$3:$J$12,4,TRUE))","v":""},{"$f":"IF(L127=\"\",\"\",VLOOKUP(L127,判定式!H$3:$J$12,3,TRUE))","v":""},"",{"$f":"IF(ISNUMBER(D127),\"判定外\",IF(C127=6,VLOOKUP(U127,判定式!$C$15:I$19,7,TRUE),IF(C127=7,VLOOKUP(U127,判定式!$D$15:I$19,6,TRUE),IF(C127=8,VLOOKUP(U127,判定式!$E$15:I$19,5,TRUE),IF(C127=9,VLOOKUP(U127,判定式!$F$15:I$19,4,TRUE),IF(C127=10,VLOOKUP(U127,判定式!$G$15:I$19,3,TRUE),IF(C127=11,VLOOKUP(U127,判定式!$H$15:I$19,2,TRUE))))))))","v":false}]
[108,null,null,"-",null,null,null,null,null,null,null,null,{"$f":"IF(E128=\"\",\"\",VLOOKUP(E128,判定式!C$3:$J$12,8,TRUE))","v":""},{"$f":"IF(F128=\"\",\"\",VLOOKUP(F128,判定式!D$3:$J$12,7,TRUE))","v":""},{"$f":"IF(G128=\"\",\"\",VLOOKUP(G128,判定式!E$3:$J$12,6,TRUE))","v":""},{"$f":"IF(H128=\"\",\"\",VLOOKUP(H128,判定式!F$3:$J$12,5,TRUE))","v":""},{"$f":"IF(I128=\"\",\"\",VLOOKUP(I128,判定式!I$3:$J$12,2,TRUE))","v":""},{"$f":"IF(J128=\"\",\"\",VLOOKUP(J128,判定式!L$3:$M$12,2,TRUE))","v":""},{"$f":"IF(K128=\"\",\"\",VLOOKUP(K128,判定式!G$3:$J$12,4,TRUE))","v":""},{"$f":"IF(L128=\"\",\"\",VLOOKUP(L128,判定式!H$3:$J$12,3,TRUE))","v":""},"",{"$f":"IF(ISNUMBER(D128),\"判定外\",IF(C128=6,VLOOKUP(U128,判定式!$C$15:I$19,7,TRUE),IF(C128=7,VLOOKUP(U128,判定式!$D$15:I$19,6,TRUE),IF(C128=8,VLOOKUP(U128,判定式!$E$15:I$19,5,TRUE),IF(C128=9,VLOOKUP(U128,判定式!$F$15:I$19,4,TRUE),IF(C128=10,VLOOKUP(U128,判定式!$G$15:I$19,3,TRUE),IF(C128=11,VLOOKUP(U128,判定式!$H$15:I$19,2,TRUE))))))))","v":false}]
[109,null,null,"-",null,null,null,null,null,null,null,null,{"$f":"IF(E129=\"\",\"\",VLOOKUP(E129,判定式!C$3:$J$12,8,TRUE))","v":""},{"$f":"IF(F129=\"\",\"\",VLOOKUP(F129,判定式!D$3:$J$12,7,TRUE))","v":""},{"$f":"IF(G129=\"\",\"\",VLOOKUP(G129,判定式!E$3:$J$12,6,TRUE))","v":""},{"$f":"IF(H129=\"\",\"\",VLOOKUP(H129,判定式!F$3:$J$12,5,TRUE))","v":""},{"$f":"IF(I129=\"\",\"\",VLOOKUP(I129,判定式!I$3:$J$12,2,TRUE))","v":""},{"$f":"IF(J129=\"\",\"\",VLOOKUP(J129,判定式!L$3:$M$12,2,TRUE))","v":""},{"$f":"IF(K129=\"\",\"\",VLOOKUP(K129,判定式!G$3:$J$12,4,TRUE))","v":""},{"$f":"IF(L129=\"\",\"\",VLOOKUP(L129,判定式!H$3:$J$12,3,TRUE))","v":""},"",{"$f":"IF(ISNUMBER(D129),\"判定外\",IF(C129=6,VLOOKUP(U129,判定式!$C$15:I$19,7,TRUE),IF(C129=7,VLOOKUP(U129,判定式!$D$15:I$19,6,TRUE),IF(C129=8,VLOOKUP(U129,判定式!$E$15:I$19,5,TRUE),IF(C129=9,VLOOKUP(U129,判定式!$F$15:I$19,4,TRUE),IF(C129=10,VLOOKUP(U129,判定式!$G$15:I$19,3,TRUE),IF(C129=11,VLOOKUP(U129,判定式!$H$15:I$19,2,TRUE))))))))","v":false}]
[110,null,null,"-",null,null,null,null,null,null,null,null,{"$f":"IF(E130=\"\",\"\",VLOOKUP(E130,判定式!C$3:$J$12,8,TRUE))","v":""},{"$f":"IF(F130=\"\",\"\",VLOOKUP(F130,判定式!D$3:$J$12,7,TRUE))","v":""},{"$f":"IF(G130=\"\",\"\",VLOOKUP(G130,判定式!E$3:$J$12,6,TRUE))","v":""},{"$f":"IF(H130=\"\",\"\",VLOOKUP(H130,判定式!F$3:$J$12,5,TRUE))","v":""},{"$f":"IF(I130=\"\",\"\",VLOOKUP(I130,判定式!I$3:$J$12,2,TRUE))","v":""},{"$f":"IF(J130=\"\",\"\",VLOOKUP(J130,判定式!L$3:$M$12,2,TRUE))","v":""},{"$f":"IF(K130=\"\",\"\",VLOOKUP(K130,判定式!G$3:$J$12,4,TRUE))","v":""},{"$f":"IF(L130=\"\",\"\",VLOOKUP(L130,判定式!H$3:$J$12,3,TRUE))","v":""},"",{"$f":"IF(ISNUMBER(D130),\"判定外\",IF(C130=6,VLOOKUP(U130,判定式!$C$15:I$19,7,TRUE),IF(C130=7,VLOOKUP(U130,判定式!$D$15:I$19,6,TRUE),IF(C130=8,VLOOKUP(U130,判定式!$E$15:I$19,5,TRUE),IF(C130=9,VLOOKUP(U130,判定式!$F$15:I$19,4,TRUE),IF(C130=10,VLOOKUP(U130,判定式!$G$15:I$19,3,TRUE),IF(C130=11,VLOOKUP(U130,判定式!$H$15:I$19,2,TRUE))))))))","v":false}]
[111,null,null,"-",null,null,null,null,null,null,null,null,{"$f":"IF(E131=\"\",\"\",VLOOKUP(E131,判定式!C$3:$J$12,8,TRUE))","v":""},{"$f":"IF(F131=\"\",\"\",VLOOKUP(F131,判定式!D$3:$J$12,7,TRUE))","v":""},{"$f":"IF(G131=\"\",\"\",VLOOKUP(G131,判定式!E$3:$J$12,6,TRUE))","v":""},{"$f":"IF(H131=\"\",\"\",VLOOKUP(H131,判定式!F$3:$J$12,5,TRUE))","v":""},{"$f":"IF(I131=\"\",\"\",VLOOKUP(I131,判定式!I$3:$J$12,2,TRUE))","v":""},{"$f":"IF(J131=\"\",\"\",VLOOKUP(J131,判定式!L$3:$M$12,2,TRUE))","v":""},{"$f":"IF(K131=\"\",\"\",VLOOKUP(K131,判定式!G$3:$J$12,4,TRUE))","v":""},{"$f":"IF(L131=\"\",\"\",VLOOKUP(L131,判定式!H$3:$J$12,3,TRUE))","v":""},"",{"$f":"IF(ISNUMBER(D131),\"判定外\",IF(C131=6,VLOOKUP(U131,判定式!$C$15:I$19,7,TRUE),IF(C131=7,VLOOKUP(U131,判定式!$D$15:I$19,6,TRUE),IF(C131=8,VLOOKUP(U131,判定式!$E$15:I$19,5,TRUE),IF(C131=9,VLOOKUP(U131,判定式!$F$15:I$19,4,TRUE),IF(C131=10,VLOOKUP(U131,判定式!$G$15:I$19,3,TRUE),IF(C131=11,VLOOKUP(U131,判定式!$H$15:I$19,2,TRUE))))))))","v":false}]
[112,null,null,"-",null,null,null,null,null,null,null,null,{"$f":"IF(E132=\"\",\"\",VLOOKUP(E132,判定式!C$3:$J$12,8,TRUE))","v":""},{"$f":"IF(F132=\"\",\"\",VLOOKUP(F132,判定式!D$3:$J$12,7,TRUE))","v":""},{"$f":"IF(G132=\"\",\"\",VLOOKUP(G132,判定式!E$3:$J$12,6,TRUE))","v":""},{"$f":"IF(H132=\"\",\"\",VLOOKUP(H132,判定式!F$3:$J$12,5,TRUE))","v":""},{"$f":"IF(I132=\"\",\"\",VLOOKUP(I132,判定式!I$3:$J$12,2,TRUE))","v":""},{"$f":"IF(J132=\"\",\"\",VLOOKUP(J132,判定式!L$3:$M$12,2,TRUE))","v":""},{"$f":"IF(K132=\"\",\"\",VLOOKUP(K132,判定式!G$3:$J$12,4,TRUE))","v":""},{"$f":"IF(L132=\"\",\"\",VLOOKUP(L132,判定式!H$3:$J$12,3,TRUE))","v":""},"",{"$f":"IF(ISNUMBER(D132),\"判定外\",IF(C132=6,VLOOKUP(U132,判定式!$C$15:I$19,7,TRUE),IF(C132=7,VLOOKUP(U132,判定式!$D$15:I$19,6,TRUE),IF(C132=8,VLOOKUP(U132,判定式!$E$15:I$19,5,TRUE),IF(C132=9,VLOOKUP(U132,判定式!$F$15:I$19,4,TRUE),IF(C132=10,VLOOKUP(U132,判定式!$G$15:I$19,3,TRUE),IF(C132=11,VLOOKUP(U132,判定式!$H$15:I$19,2,TRUE))))))))","v":false}]
[113,null,null,"-",null,null,null,null,null,null,null,null,{"$f":"IF(E133=\"\",\"\",VLOOKUP(E133,判定式!C$3:$J$12,8,TRUE))","v":""},{"$f":"IF(F133=\"\",\"\",VLOOKUP(F133,判定式!D$3:$J$12,7,TRUE))","v":""},{"$f":"IF(G133=\"\",\"\",VLOOKUP(G133,判定式!E$3:$J$12,6,TRUE))","v":""},{"$f":"IF(H133=\"\",\"\",VLOOKUP(H133,判定式!F$3:$J$12,5,TRUE))","v":""},{"$f":"IF(I133=\"\",\"\",VLOOKUP(I133,判定式!I$3:$J$12,2,TRUE))","v":""},{"$f":"IF(J133=\"\",\"\",VLOOKUP(J133,判定式!L$3:$M$12,2,TRUE))","v":""},{"$f":"IF(K133=\"\",\"\",VLOOKUP(K133,判定式!G$3:$J$12,4,TRUE))","v":""},{"$f":"IF(L133=\"\",\"\",VLOOKUP(L133,判定式!H$3:$J$12,3,TRUE))","v":""},"",{"$f":"IF(ISNUMBER(D133),\"判定外\",IF(C133=6,VLOOKUP(U133,判定式!$C$15:I$19,7,TRUE),IF(C133=7,VLOOKUP(U133,判定式!$D$15:I$19,6,TRUE),IF(C133=8,VLOOKUP(U133,判定式!$E$15:I$19,5,TRUE),IF(C133=9,VLOOKUP(U133,判定式!$F$15:I$19,4,TRUE),IF(C133=10,VLOOKUP(U133,判定式!$G$15:I$19,3,TRUE),IF(C133=11,VLOOKUP(U133,判定式!$H$15:I$19,2,TRUE))))))))","v":false}]
[114,null,null,"-",null,null,null,null,null,null,null,null,{"$f":"IF(E134=\"\",\"\",VLOOKUP(E134,判定式!C$3:$J$12,8,TRUE))","v":""},{"$f":"IF(F134=\"\",\"\",VLOOKUP(F134,判定式!D$3:$J$12,7,TRUE))","v":""},{"$f":"IF(G134=\"\",\"\",VLOOKUP(G134,判定式!E$3:$J$12,6,TRUE))","v":""},{"$f":"IF(H134=\"\",\"\",VLOOKUP(H134,判定式!F$3:$J$12,5,TRUE))","v":""},{"$f":"IF(I134=\"\",\"\",VLOOKUP(I134,判定式!I$3:$J$12,2,TRUE))","v":""},{"$f":"IF(J134=\"\",\"\",VLOOKUP(J134,判定式!L$3:$M$12,2,TRUE))","v":""},{"$f":"IF(K134=\"\",\"\",VLOOKUP(K134,判定式!G$3:$J$12,4,TRUE))","v":""},{"$f":"IF(L134=\"\",\"\",VLOOKUP(L134,判定式!H$3:$J$12,3,TRUE))","v":""},"",{"$f":"IF(ISNUMBER(D134),\"判定外\",IF(C134=6,VLOOKUP(U134,判定式!$C$15:I$19,7,TRUE),IF(C134=7,VLOOKUP(U134,判定式!$D$15:I$19,6,TRUE),IF(C134=8,VLOOKUP(U134,判定式!$E$15:I$19,5,TRUE),IF(C134=9,VLOOKUP(U134,判定式!$F$15:I$19,4,TRUE),IF(C134=10,VLOOKUP(U134,判定式!$G$15:I$19,3,TRUE),IF(C134=11,VLOOKUP(U134,判定式!$H$15:I$19,2,TRUE))))))))","v":false}]
[115,null,null,"-",null,null,null,null,null,null,null,null,{"$f":"IF(E135=\"\",\"\",VLOOKUP(E135,判定式!C$3:$J$12,8,TRUE))","v":""},{"$f":"IF(F135=\"\",\"\",VLOOKUP(F135,判定式!D$3:$J$12,7,TRUE))","v":""},{"$f":"IF(G135=\"\",\"\",VLOOKUP(G135,判定式!E$3:$J$12,6,TRUE))","v":""},{"$f":"IF(H135=\"\",\"\",VLOOKUP(H135,判定式!F$3:$J$12,5,TRUE))","v":""},{"$f":"IF(I135=\"\",\"\",VLOOKUP(I135,判定式!I$3:$J$12,2,TRUE))","v":""},{"$f":"IF(J135=\"\",\"\",VLOOKUP(J135,判定式!L$3:$M$12,2,TRUE))","v":""},{"$f":"IF(K135=\"\",\"\",VLOOKUP(K135,判定式!G$3:$J$12,4,TRUE))","v":""},{"$f":"IF(L135=\"\",\"\",VLOOKUP(L135,判定式!H$3:$J$12,3,TRUE))","v":""},"",{"$f":"IF(ISNUMBER(D135),\"判定外\",IF(C135=6,VLOOKUP(U135,判定式!$C$15:I$19,7,TRUE),IF(C135=7,VLOOKUP(U135,判定式!$D$15:I$19,6,TRUE),IF(C135=8,VLOOKUP(U135,判定式!$E$15:I$19,5,TRUE),IF(C135=9,VLOOKUP(U135,判定式!$F$15:I$19,4,TRUE),IF(C135=10,VLOOKUP(U135,判定式!$G$15:I$19,3,TRUE),IF(C135=11,VLOOKUP(U135,判定式!$H$15:I$19,2,TRUE))))))))","v":false}]
[116,null,null,"-",null,null,null,null,null,null,null,null,{"$f":"IF(E136=\"\",\"\",VLOOKUP(E136,判定式!C$3:$J$12,8,TRUE))","v":""},{"$f":"IF(F136=\"\",\"\",VLOOKUP(F136,判定式!D$3:$J$12,7,TRUE))","v":""},{"$f":"IF(G136=\"\",\"\",VLOOKUP(G136,判定式!E$3:$J$12,6,TRUE))","v":""},{"$f":"IF(H136=\"\",\"\",VLOOKUP(H136,判定式!F$3:$J$12,5,TRUE))","v":""},{"$f":"IF(I136=\"\",\"\",VLOOKUP(I136,判定式!I$3:$J$12,2,TRUE))","v":""},{"$f":"IF(J136=\"\",\"\",VLOOKUP(J136,判定式!L$3:$M$12,2,TRUE))","v":""},{"$f":"IF(K136=\"\",\"\",VLOOKUP(K136,判定式!G$3:$J$12,4,TRUE))","v":""},{"$f":"IF(L136=\"\",\"\",VLOOKUP(L136,判定式!H$3:$J$12,3,TRUE))","v":""},"",{"$f":"IF(ISNUMBER(D136),\"判定外\",IF(C136=6,VLOOKUP(U136,判定式!$C$15:I$19,7,TRUE),IF(C136=7,VLOOKUP(U136,判定式!$D$15:I$19,6,TRUE),IF(C136=8,VLOOKUP(U136,判定式!$E$15:I$19,5,TRUE),IF(C136=9,VLOOKUP(U136,判定式!$F$15:I$19,4,TRUE),IF(C136=10,VLOOKUP(U136,判定式!$G$15:I$19,3,TRUE),IF(C136=11,VLOOKUP(U136,判定式!$H$15:I$19,2,TRUE))))))))","v":false}]
[117,null,null,"-",null,null,null,null,null,null,null,null,{"$f":"IF(E137=\"\",\"\",VLOOKUP(E137,判定式!C$3:$J$12,8,TRUE))","v":""},{"$f":"IF(F137=\"\",\"\",VLOOKUP(F137,判定式!D$3:$J$12,7,TRUE))","v":""},{"$f":"IF(G137=\"\",\"\",VLOOKUP(G137,判定式!E$3:$J$12,6,TRUE))","v":""},{"$f":"IF(H137=\"\",\"\",VLOOKUP(H137,判定式!F$3:$J$12,5,TRUE))","v":""},{"$f":"IF(I137=\"\",\"\",VLOOKUP(I137,判定式!I$3:$J$12,2,TRUE))","v":""},{"$f":"IF(J137=\"\",\"\",VLOOKUP(J137,判定式!L$3:$M$12,2,TRUE))","v":""},{"$f":"IF(K137=\"\",\"\",VLOOKUP(K137,判定式!G$3:$J$12,4,TRUE))","v":""},{"$f":"IF(L137=\"\",\"\",VLOOKUP(L137,判定式!H$3:$J$12,3,TRUE))","v":""},"",{"$f":"IF(ISNUMBER(D137),\"判定外\",IF(C137=6,VLOOKUP(U137,判定式!$C$15:I$19,7,TRUE),IF(C137=7,VLOOKUP(U137,判定式!$D$15:I$19,6,TRUE),IF(C137=8,VLOOKUP(U137,判定式!$E$15:I$19,5,TRUE),IF(C137=9,VLOOKUP(U137,判定式!$F$15:I$19,4,TRUE),IF(C137=10,VLOOKUP(U137,判定式!$G$15:I$19,3,TRUE),IF(C137=11,VLOOKUP(U137,判定式!$H$15:I$19,2,TRUE))))))))","v":false}]
[118,null,null,"-",null,null,null,null,null,null,null,null,{"$f":"IF(E138=\"\",\"\",VLOOKUP(E138,判定式!C$3:$J$12,8,TRUE))","v":""},{"$f":"IF(F138=\"\",\"\",VLOOKUP(F138,判定式!D$3:$J$12,7,TRUE))","v":""},{"$f":"IF(G138=\"\",\"\",VLOOKUP(G138,判定式!E$3:$J$12,6,TRUE))","v":""},{"$f":"IF(H138=\"\",\"\",VLOOKUP(H138,判定式!F$3:$J$12,5,TRUE))","v":""},{"$f":"IF(I138=\"\",\"\",VLOOKUP(I138,判定式!I$3:$J$12,2,TRUE))","v":""},{"$f":"IF(J138=\"\",\"\",VLOOKUP(J138,判定式!L$3:$M$12,2,TRUE))","v":""},{"$f":"IF(K138=\"\",\"\",VLOOKUP(K138,判定式!G$3:$J$12,4,TRUE))","v":""},{"$f":"IF(L138=\"\",\"\",VLOOKUP(L138,判定式!H$3:$J$12,3,TRUE))","v":""},"",{"$f":"IF(ISNUMBER(D138),\"判定外\",IF(C138=6,VLOOKUP(U138,判定式!$C$15:I$19,7,TRUE),IF(C138=7,VLOOKUP(U138,判定式!$D$15:I$19,6,TRUE),IF(C138=8,VLOOKUP(U138,判定式!$E$15:I$19,5,TRUE),IF(C138=9,VLOOKUP(U138,判定式!$F$15:I$19,4,TRUE),IF(C138=10,VLOOKUP(U138,判定式!$G$15:I$19,3,TRUE),IF(C138=11,VLOOKUP(U138,判定式!$H$15:I$19,2,TRUE))))))))","v":false}]
[119,null,null,"-",null,null,null,null,null,null,null,null,{"$f":"IF(E139=\"\",\"\",VLOOKUP(E139,判定式!C$3:$J$12,8,TRUE))","v":""},{"$f":"IF(F139=\"\",\"\",VLOOKUP(F139,判定式!D$3:$J$12,7,TRUE))","v":""},{"$f":"IF(G139=\"\",\"\",VLOOKUP(G139,判定式!E$3:$J$12,6,TRUE))","v":""},{"$f":"IF(H139=\"\",\"\",VLOOKUP(H139,判定式!F$3:$J$12,5,TRUE))","v":""},{"$f":"IF(I139=\"\",\"\",VLOOKUP(I139,判定式!I$3:$J$12,2,TRUE))","v":""},{"$f":"IF(J139=\"\",\"\",VLOOKUP(J139,判定式!L$3:$M$12,2,TRUE))","v":""},{"$f":"IF(K139=\"\",\"\",VLOOKUP(K139,判定式!G$3:$J$12,4,TRUE))","v":""},{"$f":"IF(L139=\"\",\"\",VLOOKUP(L139,判定式!H$3:$J$12,3,TRUE))","v":""},"",{"$f":"IF(ISNUMBER(D139),\"判定外\",IF(C139=6,VLOOKUP(U139,判定式!$C$15:I$19,7,TRUE),IF(C139=7,VLOOKUP(U139,判定式!$D$15:I$19,6,TRUE),IF(C139=8,VLOOKUP(U139,判定式!$E$15:I$19,5,TRUE),IF(C139=9,VLOOKUP(U139,判定式!$F$15:I$19,4,TRUE),IF(C139=10,VLOOKUP(U139,判定式!$G$15:I$19,3,TRUE),IF(C139=11,VLOOKUP(U139,判定式!$H$15:I$19,2,TRUE))))))))","v":false}]
[120,null,null,"-",null,null,null,null,null,null,null,null,{"$f":"IF(E140=\"\",\"\",VLOOKUP(E140,判定式!C$3:$J$12,8,TRUE))","v":""},{"$f":"IF(F140=\"\",\"\",VLOOKUP(F140,判定式!D$3:$J$12,7,TRUE))","v":""},{"$f":"IF(G140=\"\",\"\",VLOOKUP(G140,判定式!E$3:$J$12,6,TRUE))","v":""},{"$f":"IF(H140=\"\",\"\",VLOOKUP(H140,判定式!F$3:$J$12,5,TRUE))","v":""},{"$f":"IF(I140=\"\",\"\",VLOOKUP(I140,判定式!I$3:$J$12,2,TRUE))","v":""},{"$f":"IF(J140=\"\",\"\",VLOOKUP(J140,判定式!L$3:$M$12,2,TRUE))","v":""},{"$f":"IF(K140=\"\",\"\",VLOOKUP(K140,判定式!G$3:$J$12,4,TRUE))","v":""},{"$f":"IF(L140=\"\",\"\",VLOOKUP(L140,判定式!H$3:$J$12,3,TRUE))","v":""},"",{"$f":"IF(ISNUMBER(D140),\"判定外\",IF(C140=6,VLOOKUP(U140,判定式!$C$15:I$19,7,TRUE),IF(C140=7,VLOOKUP(U140,判定式!$D$15:I$19,6,TRUE),IF(C140=8,VLOOKUP(U140,判定式!$E$15:I$19,5,TRUE),IF(C140=9,VLOOKUP(U140,判定式!$F$15:I$19,4,TRUE),IF(C140=10,VLOOKUP(U140,判定式!$G$15:I$19,3,TRUE),IF(C140=11,VLOOKUP(U140,判定式!$H$15:I$19,2,TRUE))))))))","v":false}]
[]
[]
[null,"女子入力欄（男子は上段）"]
[]
[null,"提出時、名前記入は任意","年齢は、全員７",null,null,null,null,"５０m走は、1/100秒を切り上げて、「例：9.72→9.8」のように1/１０秒単位を入力する"]
[null,"小２　女子",7,"自動","整数","整数","整数","整数","整数","小数第１位","整数","整数"]
[null,null,"年齢","未実施\n項目数","調　　査　　項　　目　　記　　録",null,null,null,null,null,null,null,"実技種目得点"]
["Ｎｏ．","名前","半角",null,"握力","上体起こし","長座体前屈","反復横とび","シャトルラン","５０ｍ走","立ち幅とび","ﾎﾞｰﾙ投げ","握力","上体\n起こし","長座\n体前屈","反復\n横跳び","ｼｬﾄﾙ\nﾗﾝ","50ｍ\n走","立ち\n幅とび","ボール\n投げ","体力","総合"]
[null,null,7,null,"（ｋｇ）","（回）","（ｃｍ）","（回）","（回）","（秒）","（ｃｍ）","（ｍ）",null,null,null,null,null,null,null,null,"合計点","評価"]
[1,null,null,{"$f":"IF(COUNTBLANK(E150:L150)=0,\"\",IF(COUNTBLANK(E150:L150)=8,\"-\",COUNTBLANK(E150:L150)))","v":"-"},null,null,null,null,null,null,null,null,{"$f":"IF($E150=\"\",\"\",VLOOKUP($E150,判定式!$P$3:$W$12,8,TRUE))","v":""},{"$f":"IF($F150=\"\",\"\",VLOOKUP($F150,判定式!$Q$3:$W$12,7,TRUE))","v":""},{"$f":"IF($G150=\"\",\"\",VLOOKUP($G150,判定式!$R$3:$W$12,6,TRUE))","v":""},{"$f":"IF($H150=\"\",\"\",VLOOKUP($H150,判定式!$S$3:$W$12,5,TRUE))","v":""},{"$f":"IF($I150=\"\",\"\",VLOOKUP($I150,判定式!$V$3:$W$12,2,TRUE))","v":""},{"$f":"IF($J150=\"\",\"\",VLOOKUP($J150,判定式!$Y$3:$Z$12,2,TRUE))","v":""},{"$f":"IF($K150=\"\",\"\",VLOOKUP($K150,判定式!$T$3:$W$12,4,TRUE))","v":""},{"$f":"IF($L150=\"\",\"\",VLOOKUP($L150,判定式!$U$3:$W$12,3,TRUE))","v":""},{"$f":"IF(COUNTBLANK(M150:T150)=0,SUM(M150:T150),\"\")","v":""},{"$f":"IF(ISNUMBER(D150),\"判定外\",IF(C150=6,VLOOKUP(U150,判定式!$C$15:I$19,7,TRUE),IF(C150=7,VLOOKUP(U150,判定式!$D$15:I$19,6,TRUE),IF(C150=8,VLOOKUP(U150,判定式!$E$15:I$19,5,TRUE),IF(C150=9,VLOOKUP(U150,判定式!$F$15:I$19,4,TRUE),IF(C150=10,VLOOKUP(U150,判定式!$G$15:I$19,3,TRUE),IF(C150=11,VLOOKUP(U150,判定式!$H$15:I$19,2,TRUE))))))))","v":false}]
[2,null,null,"-",null,null,null,null,null,null,null,null,{"$f":"IF($E151=\"\",\"\",VLOOKUP($E151,判定式!$P$3:$W$12,8,TRUE))","v":""},{"$f":"IF($F151=\"\",\"\",VLOOKUP($F151,判定式!$Q$3:$W$12,7,TRUE))","v":""},{"$f":"IF($G151=\"\",\"\",VLOOKUP($G151,判定式!$R$3:$W$12,6,TRUE))","v":""},{"$f":"IF($H151=\"\",\"\",VLOOKUP($H151,判定式!$S$3:$W$12,5,TRUE))","v":""},{"$f":"IF($I151=\"\",\"\",VLOOKUP($I151,判定式!$V$3:$W$12,2,TRUE))","v":""},{"$f":"IF($J151=\"\",\"\",VLOOKUP($J151,判定式!$Y$3:$Z$12,2,TRUE))","v":""},{"$f":"IF($K151=\"\",\"\",VLOOKUP($K151,判定式!$T$3:$W$12,4,TRUE))","v":""},{"$f":"IF($L151=\"\",\"\",VLOOKUP($L151,判定式!$U$3:$W$12,3,TRUE))","v":""},"",{"$f":"IF(ISNUMBER(D151),\"判定外\",IF(C151=6,VLOOKUP(U151,判定式!$C$15:I$19,7,TRUE),IF(C151=7,VLOOKUP(U151,判定式!$D$15:I$19,6,TRUE),IF(C151=8,VLOOKUP(U151,判定式!$E$15:I$19,5,TRUE),IF(C151=9,VLOOKUP(U151,判定式!$F$15:I$19,4,TRUE),IF(C151=10,VLOOKUP(U151,判定式!$G$15:I$19,3,TRUE),IF(C151=11,VLOOKUP(U151,判定式!$H$15:I$19,2,TRUE))))))))","v":false}]
[3,null,null,"-",null,null,null,null,null,null,null,null,{"$f":"IF($E152=\"\",\"\",VLOOKUP($E152,判定式!$P$3:$W$12,8,TRUE))","v":""},{"$f":"IF($F152=\"\",\"\",VLOOKUP($F152,判定式!$Q$3:$W$12,7,TRUE))","v":""},{"$f":"IF($G152=\"\",\"\",VLOOKUP($G152,判定式!$R$3:$W$12,6,TRUE))","v":""},{"$f":"IF($H152=\"\",\"\",VLOOKUP($H152,判定式!$S$3:$W$12,5,TRUE))","v":""},{"$f":"IF($I152=\"\",\"\",VLOOKUP($I152,判定式!$V$3:$W$12,2,TRUE))","v":""},{"$f":"IF($J152=\"\",\"\",VLOOKUP($J152,判定式!$Y$3:$Z$12,2,TRUE))","v":""},{"$f":"IF($K152=\"\",\"\",VLOOKUP($K152,判定式!$T$3:$W$12,4,TRUE))","v":""},{"$f":"IF($L152=\"\",\"\",VLOOKUP($L152,判定式!$U$3:$W$12,3,TRUE))","v":""},"",{"$f":"IF(ISNUMBER(D152),\"判定外\",IF(C152=6,VLOOKUP(U152,判定式!$C$15:I$19,7,TRUE),IF(C152=7,VLOOKUP(U152,判定式!$D$15:I$19,6,TRUE),IF(C152=8,VLOOKUP(U152,判定式!$E$15:I$19,5,TRUE),IF(C152=9,VLOOKUP(U152,判定式!$F$15:I$19,4,TRUE),IF(C152=10,VLOOKUP(U152,判定式!$G$15:I$19,3,TRUE),IF(C152=11,VLOOKUP(U152,判定式!$H$15:I$19,2,TRUE))))))))","v":false}]
[4,null,null,"-",null,null,null,null,null,null,null,null,{"$f":"IF($E153=\"\",\"\",VLOOKUP($E153,判定式!$P$3:$W$12,8,TRUE))","v":""},{"$f":"IF($F153=\"\",\"\",VLOOKUP($F153,判定式!$Q$3:$W$12,7,TRUE))","v":""},{"$f":"IF($G153=\"\",\"\",VLOOKUP($G153,判定式!$R$3:$W$12,6,TRUE))","v":""},{"$f":"IF($H153=\"\",\"\",VLOOKUP($H153,判定式!$S$3:$W$12,5,TRUE))","v":""},{"$f":"IF($I153=\"\",\"\",VLOOKUP($I153,判定式!$V$3:$W$12,2,TRUE))","v":""},{"$f":"IF($J153=\"\",\"\",VLOOKUP($J153,判定式!$Y$3:$Z$12,2,TRUE))","v":""},{"$f":"IF($K153=\"\",\"\",VLOOKUP($K153,判定式!$T$3:$W$12,4,TRUE))","v":""},{"$f":"IF($L153=\"\",\"\",VLOOKUP($L153,判定式!$U$3:$W$12,3,TRUE))","v":""},"",{"$f":"IF(ISNUMBER(D153),\"判定外\",IF(C153=6,VLOOKUP(U153,判定式!$C$15:I$19,7,TRUE),IF(C153=7,VLOOKUP(U153,判定式!$D$15:I$19,6,TRUE),IF(C153=8,VLOOKUP(U153,判定式!$E$15:I$19,5,TRUE),IF(C153=9,VLOOKUP(U153,判定式!$F$15:I$19,4,TRUE),IF(C153=10,VLOOKUP(U153,判定式!$G$15:I$19,3,TRUE),IF(C153=11,VLOOKUP(U153,判定式!$H$15:I$19,2,TRUE))))))))","v":false}]
[5,null,null,"-",null,null,null,null,null,null,null,null,{"$f":"IF($E154=\"\",\"\",VLOOKUP($E154,判定式!$P$3:$W$12,8,TRUE))","v":""},{"$f":"IF($F154=\"\",\"\",VLOOKUP($F154,判定式!$Q$3:$W$12,7,TRUE))","v":""},{"$f":"IF($G154=\"\",\"\",VLOOKUP($G154,判定式!$R$3:$W$12,6,TRUE))","v":""},{"$f":"IF($H154=\"\",\"\",VLOOKUP($H154,判定式!$S$3:$W$12,5,TRUE))","v":""},{"$f":"IF($I154=\"\",\"\",VLOOKUP($I154,判定式!$V$3:$W$12,2,TRUE))","v":""},{"$f":"IF($J154=\"\",\"\",VLOOKUP($J154,判定式!$Y$3:$Z$12,2,TRUE))","v":""},{"$f":"IF($K154=\"\",\"\",VLOOKUP($K154,判定式!$T$3:$W$12,4,TRUE))","v":""},{"$f":"IF($L154=\"\",\"\",VLOOKUP($L154,判定式!$U$3:$W$12,3,TRUE))","v":""},"",{"$f":"IF(ISNUMBER(D154),\"判定外\",IF(C154=6,VLOOKUP(U154,判定式!$C$15:I$19,7,TRUE),IF(C154=7,VLOOKUP(U154,判定式!$D$15:I$19,6,TRUE),IF(C154=8,VLOOKUP(U154,判定式!$E$15:I$19,5,TRUE),IF(C154=9,VLOOKUP(U154,判定式!$F$15:I$19,4,TRUE),IF(C154=10,VLOOKUP(U154,判定式!$G$15:I$19,3,TRUE),IF(C154=11,VLOOKUP(U154,判定式!$H$15:I$19,2,TRUE))))))))","v":false}]
[6,null,null,"-",null,null,null,null,null,null,null,null,{"$f":"IF($E155=\"\",\"\",VLOOKUP($E155,判定式!$P$3:$W$12,8,TRUE))","v":""},{"$f":"IF($F155=\"\",\"\",VLOOKUP($F155,判定式!$Q$3:$W$12,7,TRUE))","v":""},{"$f":"IF($G155=\"\",\"\",VLOOKUP($G155,判定式!$R$3:$W$12,6,TRUE))","v":""},{"$f":"IF($H155=\"\",\"\",VLOOKUP($H155,判定式!$S$3:$W$12,5,TRUE))","v":""},{"$f":"IF($I155=\"\",\"\",VLOOKUP($I155,判定式!$V$3:$W$12,2,TRUE))","v":""},{"$f":"IF($J155=\"\",\"\",VLOOKUP($J155,判定式!$Y$3:$Z$12,2,TRUE))","v":""},{"$f":"IF($K155=\"\",\"\",VLOOKUP($K155,判定式!$T$3:$W$12,4,TRUE))","v":""},{"$f":"IF($L155=\"\",\"\",VLOOKUP($L155,判定式!$U$3:$W$12,3,TRUE))","v":""},"",{"$f":"IF(ISNUMBER(D155),\"判定外\",IF(C155=6,VLOOKUP(U155,判定式!$C$15:I$19,7,TRUE),IF(C155=7,VLOOKUP(U155,判定式!$D$15:I$19,6,TRUE),IF(C155=8,VLOOKUP(U155,判定式!$E$15:I$19,5,TRUE),IF(C155=9,VLOOKUP(U155,判定式!$F$15:I$19,4,TRUE),IF(C155=10,VLOOKUP(U155,判定式!$G$15:I$19,3,TRUE),IF(C155=11,VLOOKUP(U155,判定式!$H$15:I$19,2,TRUE))))))))","v":false}]
[7,null,null,"-",null,null,null,null,null,null,null,null,{"$f":"IF($E156=\"\",\"\",VLOOKUP($E156,判定式!$P$3:$W$12,8,TRUE))","v":""},{"$f":"IF($F156=\"\",\"\",VLOOKUP($F156,判定式!$Q$3:$W$12,7,TRUE))","v":""},{"$f":"IF($G156=\"\",\"\",VLOOKUP($G156,判定式!$R$3:$W$12,6,TRUE))","v":""},{"$f":"IF($H156=\"\",\"\",VLOOKUP($H156,判定式!$S$3:$W$12,5,TRUE))","v":""},{"$f":"IF($I156=\"\",\"\",VLOOKUP($I156,判定式!$V$3:$W$12,2,TRUE))","v":""},{"$f":"IF($J156=\"\",\"\",VLOOKUP($J156,判定式!$Y$3:$Z$12,2,TRUE))","v":""},{"$f":"IF($K156=\"\",\"\",VLOOKUP($K156,判定式!$T$3:$W$12,4,TRUE))","v":""},{"$f":"IF($L156=\"\",\"\",VLOOKUP($L156,判定式!$U$3:$W$12,3,TRUE))","v":""},"",{"$f":"IF(ISNUMBER(D156),\"判定外\",IF(C156=6,VLOOKUP(U156,判定式!$C$15:I$19,7,TRUE),IF(C156=7,VLOOKUP(U156,判定式!$D$15:I$19,6,TRUE),IF(C156=8,VLOOKUP(U156,判定式!$E$15:I$19,5,TRUE),IF(C156=9,VLOOKUP(U156,判定式!$F$15:I$19,4,TRUE),IF(C156=10,VLOOKUP(U156,判定式!$G$15:I$19,3,TRUE),IF(C156=11,VLOOKUP(U156,判定式!$H$15:I$19,2,TRUE))))))))","v":false}]
[8,null,null,"-",null,null,null,null,null,null,null,null,{"$f":"IF($E157=\"\",\"\",VLOOKUP($E157,判定式!$P$3:$W$12,8,TRUE))","v":""},{"$f":"IF($F157=\"\",\"\",VLOOKUP($F157,判定式!$Q$3:$W$12,7,TRUE))","v":""},{"$f":"IF($G157=\"\",\"\",VLOOKUP($G157,判定式!$R$3:$W$12,6,TRUE))","v":""},{"$f":"IF($H157=\"\",\"\",VLOOKUP($H157,判定式!$S$3:$W$12,5,TRUE))","v":""},{"$f":"IF($I157=\"\",\"\",VLOOKUP($I157,判定式!$V$3:$W$12,2,TRUE))","v":""},{"$f":"IF($J157=\"\",\"\",VLOOKUP($J157,判定式!$Y$3:$Z$12,2,TRUE))","v":""},{"$f":"IF($K157=\"\",\"\",VLOOKUP($K157,判定式!$T$3:$W$12,4,TRUE))","v":""},{"$f":"IF($L157=\"\",\"\",VLOOKUP($L157,判定式!$U$3:$W$12,3,TRUE))","v":""},"",{"$f":"IF(ISNUMBER(D157),\"判定外\",IF(C157=6,VLOOKUP(U157,判定式!$C$15:I$19,7,TRUE),IF(C157=7,VLOOKUP(U157,判定式!$D$15:I$19,6,TRUE),IF(C157=8,VLOOKUP(U157,判定式!$E$15:I$19,5,TRUE),IF(C157=9,VLOOKUP(U157,判定式!$F$15:I$19,4,TRUE),IF(C157=10,VLOOKUP(U157,判定式!$G$15:I$19,3,TRUE),IF(C157=11,VLOOKUP(U157,判定式!$H$15:I$19,2,TRUE))))))))","v":false}]
[9,null,null,"-",null,null,null,null,null,null,null,null,{"$f":"IF($E158=\"\",\"\",VLOOKUP($E158,判定式!$P$3:$W$12,8,TRUE))","v":""},{"$f":"IF($F158=\"\",\"\",VLOOKUP($F158,判定式!$Q$3:$W$12,7,TRUE))","v":""},{"$f":"IF($G158=\"\",\"\",VLOOKUP($G158,判定式!$R$3:$W$12,6,TRUE))","v":""},{"$f":"IF($H158=\"\",\"\",VLOOKUP($H158,判定式!$S$3:$W$12,5,TRUE))","v":""},{"$f":"IF($I158=\"\",\"\",VLOOKUP($I158,判定式!$V$3:$W$12,2,TRUE))","v":""},{"$f":"IF($J158=\"\",\"\",VLOOKUP($J158,判定式!$Y$3:$Z$12,2,TRUE))","v":""},{"$f":"IF($K158=\"\",\"\",VLOOKUP($K158,判定式!$T$3:$W$12,4,TRUE))","v":""},{"$f":"IF($L158=\"\",\"\",VLOOKUP($L158,判定式!$U$3:$W$12,3,TRUE))","v":""},"",{"$f":"IF(ISNUMBER(D158),\"判定外\",IF(C158=6,VLOOKUP(U158,判定式!$C$15:I$19,7,TRUE),IF(C158=7,VLOOKUP(U158,判定式!$D$15:I$19,6,TRUE),IF(C158=8,VLOOKUP(U158,判定式!$E$15:I$19,5,TRUE),IF(C158=9,VLOOKUP(U158,判定式!$F$15:I$19,4,TRUE),IF(C158=10,VLOOKUP(U158,判定式!$G$15:I$19,3,TRUE),IF(C158=11,VLOOKUP(U158,判定式!$H$15:I$19,2,TRUE))))))))","v":false}]
[10,null,null,"-",null,null,null,null,null,null,null,null,{"$f":"IF($E159=\"\",\"\",VLOOKUP($E159,判定式!$P$3:$W$12,8,TRUE))","v":""},{"$f":"IF($F159=\"\",\"\",VLOOKUP($F159,判定式!$Q$3:$W$12,7,TRUE))","v":""},{"$f":"IF($G159=\"\",\"\",VLOOKUP($G159,判定式!$R$3:$W$12,6,TRUE))","v":""},{"$f":"IF($H159=\"\",\"\",VLOOKUP($H159,判定式!$S$3:$W$12,5,TRUE))","v":""},{"$f":"IF($I159=\"\",\"\",VLOOKUP($I159,判定式!$V$3:$W$12,2,TRUE))","v":""},{"$f":"IF($J159=\"\",\"\",VLOOKUP($J159,判定式!$Y$3:$Z$12,2,TRUE))","v":""},{"$f":"IF($K159=\"\",\"\",VLOOKUP($K159,判定式!$T$3:$W$12,4,TRUE))","v":""},{"$f":"IF($L159=\"\",\"\",VLOOKUP($L159,判定式!$U$3:$W$12,3,TRUE))","v":""},"",{"$f":"IF(ISNUMBER(D159),\"判定外\",IF(C159=6,VLOOKUP(U159,判定式!$C$15:I$19,7,TRUE),IF(C159=7,VLOOKUP(U159,判定式!$D$15:I$19,6,TRUE),IF(C159=8,VLOOKUP(U159,判定式!$E$15:I$19,5,TRUE),IF(C159=9,VLOOKUP(U159,判定式!$F$15:I$19,4,TRUE),IF(C159=10,VLOOKUP(U159,判定式!$G$15:I$19,3,TRUE),IF(C159=11,VLOOKUP(U159,判定式!$H$15:I$19,2,TRUE))))))))","v":false}]
[11,null,null,"-",null,null,null,null,null,null,null,null,{"$f":"IF($E160=\"\",\"\",VLOOKUP($E160,判定式!$P$3:$W$12,8,TRUE))","v":""},{"$f":"IF($F160=\"\",\"\",VLOOKUP($F160,判定式!$Q$3:$W$12,7,TRUE))","v":""},{"$f":"IF($G160=\"\",\"\",VLOOKUP($G160,判定式!$R$3:$W$12,6,TRUE))","v":""},{"$f":"IF($H160=\"\",\"\",VLOOKUP($H160,判定式!$S$3:$W$12,5,TRUE))","v":""},{"$f":"IF($I160=\"\",\"\",VLOOKUP($I160,判定式!$V$3:$W$12,2,TRUE))","v":""},{"$f":"IF($J160=\"\",\"\",VLOOKUP($J160,判定式!$Y$3:$Z$12,2,TRUE))","v":""},{"$f":"IF($K160=\"\",\"\",VLOOKUP($K160,判定式!$T$3:$W$12,4,TRUE))","v":""},{"$f":"IF($L160=\"\",\"\",VLOOKUP($L160,判定式!$U$3:$W$12,3,TRUE))","v":""},"",{"$f":"IF(ISNUMBER(D160),\"判定外\",IF(C160=6,VLOOKUP(U160,判定式!$C$15:I$19,7,TRUE),IF(C160=7,VLOOKUP(U160,判定式!$D$15:I$19,6,TRUE),IF(C160=8,VLOOKUP(U160,判定式!$E$15:I$19,5,TRUE),IF(C160=9,VLOOKUP(U160,判定式!$F$15:I$19,4,TRUE),IF(C160=10,VLOOKUP(U160,判定式!$G$15:I$19,3,TRUE),IF(C160=11,VLOOKUP(U160,判定式!$H$15:I$19,2,TRUE))))))))","v":false}]
[12,null,null,"-",null,null,null,null,null,null,null,null,{"$f":"IF($E161=\"\",\"\",VLOOKUP($E161,判定式!$P$3:$W$12,8,TRUE))","v":""},{"$f":"IF($F161=\"\",\"\",VLOOKUP($F161,判定式!$Q$3:$W$12,7,TRUE))","v":""},{"$f":"IF($G161=\"\",\"\",VLOOKUP($G161,判定式!$R$3:$W$12,6,TRUE))","v":""},{"$f":"IF($H161=\"\",\"\",VLOOKUP($H161,判定式!$S$3:$W$12,5,TRUE))","v":""},{"$f":"IF($I161=\"\",\"\",VLOOKUP($I161,判定式!$V$3:$W$12,2,TRUE))","v":""},{"$f":"IF($J161=\"\",\"\",VLOOKUP($J161,判定式!$Y$3:$Z$12,2,TRUE))","v":""},{"$f":"IF($K161=\"\",\"\",VLOOKUP($K161,判定式!$T$3:$W$12,4,TRUE))","v":""},{"$f":"IF($L161=\"\",\"\",VLOOKUP($L161,判定式!$U$3:$W$12,3,TRUE))","v":""},"",{"$f":"IF(ISNUMBER(D161),\"判定外\",IF(C161=6,VLOOKUP(U161,判定式!$C$15:I$19,7,TRUE),IF(C161=7,VLOOKUP(U161,判定式!$D$15:I$19,6,TRUE),IF(C161=8,VLOOKUP(U161,判定式!$E$15:I$19,5,TRUE),IF(C161=9,VLOOKUP(U161,判定式!$F$15:I$19,4,TRUE),IF(C161=10,VLOOKUP(U161,判定式!$G$15:I$19,3,TRUE),IF(C161=11,VLOOKUP(U161,判定式!$H$15:I$19,2,TRUE))))))))","v":false}]
[13,null,null,"-",null,null,null,null,null,null,null,null,{"$f":"IF($E162=\"\",\"\",VLOOKUP($E162,判定式!$P$3:$W$12,8,TRUE))","v":""},{"$f":"IF($F162=\"\",\"\",VLOOKUP($F162,判定式!$Q$3:$W$12,7,TRUE))","v":""},{"$f":"IF($G162=\"\",\"\",VLOOKUP($G162,判定式!$R$3:$W$12,6,TRUE))","v":""},{"$f":"IF($H162=\"\",\"\",VLOOKUP($H162,判定式!$S$3:$W$12,5,TRUE))","v":""},{"$f":"IF($I162=\"\",\"\",VLOOKUP($I162,判定式!$V$3:$W$12,2,TRUE))","v":""},{"$f":"IF($J162=\"\",\"\",VLOOKUP($J162,判定式!$Y$3:$Z$12,2,TRUE))","v":""},{"$f":"IF($K162=\"\",\"\",VLOOKUP($K162,判定式!$T$3:$W$12,4,TRUE))","v":""},{"$f":"IF($L162=\"\",\"\",VLOOKUP($L162,判定式!$U$3:$W$12,3,TRUE))","v":""},"",{"$f":"IF(ISNUMBER(D162),\"判定外\",IF(C162=6,VLOOKUP(U162,判定式!$C$15:I$19,7,TRUE),IF(C162=7,VLOOKUP(U162,判定式!$D$15:I$19,6,TRUE),IF(C162=8,VLOOKUP(U162,判定式!$E$15:I$19,5,TRUE),IF(C162=9,VLOOKUP(U162,判定式!$F$15:I$19,4,TRUE),IF(C162=10,VLOOKUP(U162,判定式!$G$15:I$19,3,TRUE),IF(C162=11,VLOOKUP(U162,判定式!$H$15:I$19,2,TRUE))))))))","v":false}]
[14,null,null,"-",null,null,null,null,null,null,null,null,{"$f":"IF($E163=\"\",\"\",VLOOKUP($E163,判定式!$P$3:$W$12,8,TRUE))","v":""},{"$f":"IF($F163=\"\",\"\",VLOOKUP($F163,判定式!$Q$3:$W$12,7,TRUE))","v":""},{"$f":"IF($G163=\"\",\"\",VLOOKUP($G163,判定式!$R$3:$W$12,6,TRUE))","v":""},{"$f":"IF($H163=\"\",\"\",VLOOKUP($H163,判定式!$S$3:$W$12,5,TRUE))","v":""},{"$f":"IF($I163=\"\",\"\",VLOOKUP($I163,判定式!$V$3:$W$12,2,TRUE))","v":""},{"$f":"IF($J163=\"\",\"\",VLOOKUP($J163,判定式!$Y$3:$Z$12,2,TRUE))","v":""},{"$f":"IF($K163=\"\",\"\",VLOOKUP($K163,判定式!$T$3:$W$12,4,TRUE))","v":""},{"$f":"IF($L163=\"\",\"\",VLOOKUP($L163,判定式!$U$3:$W$12,3,TRUE))","v":""},"",{"$f":"IF(ISNUMBER(D163),\"判定外\",IF(C163=6,VLOOKUP(U163,判定式!$C$15:I$19,7,TRUE),IF(C163=7,VLOOKUP(U163,判定式!$D$15:I$19,6,TRUE),IF(C163=8,VLOOKUP(U163,判定式!$E$15:I$19,5,TRUE),IF(C163=9,VLOOKUP(U163,判定式!$F$15:I$19,4,TRUE),IF(C163=10,VLOOKUP(U163,判定式!$G$15:I$19,3,TRUE),IF(C163=11,VLOOKUP(U163,判定式!$H$15:I$19,2,TRUE))))))))","v":false}]
[15,null,null,"-",null,null,null,null,null,null,null,null,{"$f":"IF($E164=\"\",\"\",VLOOKUP($E164,判定式!$P$3:$W$12,8,TRUE))","v":""},{"$f":"IF($F164=\"\",\"\",VLOOKUP($F164,判定式!$Q$3:$W$12,7,TRUE))","v":""},{"$f":"IF($G164=\"\",\"\",VLOOKUP($G164,判定式!$R$3:$W$12,6,TRUE))","v":""},{"$f":"IF($H164=\"\",\"\",VLOOKUP($H164,判定式!$S$3:$W$12,5,TRUE))","v":""},{"$f":"IF($I164=\"\",\"\",VLOOKUP($I164,判定式!$V$3:$W$12,2,TRUE))","v":""},{"$f":"IF($J164=\"\",\"\",VLOOKUP($J164,判定式!$Y$3:$Z$12,2,TRUE))","v":""},{"$f":"IF($K164=\"\",\"\",VLOOKUP($K164,判定式!$T$3:$W$12,4,TRUE))","v":""},{"$f":"IF($L164=\"\",\"\",VLOOKUP($L164,判定式!$U$3:$W$12,3,TRUE))","v":""},"",{"$f":"IF(ISNUMBER(D164),\"判定外\",IF(C164=6,VLOOKUP(U164,判定式!$C$15:I$19,7,TRUE),IF(C164=7,VLOOKUP(U164,判定式!$D$15:I$19,6,TRUE),IF(C164=8,VLOOKUP(U164,判定式!$E$15:I$19,5,TRUE),IF(C164=9,VLOOKUP(U164,判定式!$F$15:I$19,4,TRUE),IF(C164=10,VLOOKUP(U164,判定式!$G$15:I$19,3,TRUE),IF(C164=11,VLOOKUP(U164,判定式!$H$15:I$19,2,TRUE))))))))","v":false}]
[16,null,null,"-",null,null,null,null,null,null,null,null,{"$f":"IF($E165=\"\",\"\",VLOOKUP($E165,判定式!$P$3:$W$12,8,TRUE))","v":""},{"$f":"IF($F165=\"\",\"\",VLOOKUP($F165,判定式!$Q$3:$W$12,7,TRUE))","v":""},{"$f":"IF($G165=\"\",\"\",VLOOKUP($G165,判定式!$R$3:$W$12,6,TRUE))","v":""},{"$f":"IF($H165=\"\",\"\",VLOOKUP($H165,判定式!$S$3:$W$12,5,TRUE))","v":""},{"$f":"IF($I165=\"\",\"\",VLOOKUP($I165,判定式!$V$3:$W$12,2,TRUE))","v":""},{"$f":"IF($J165=\"\",\"\",VLOOKUP($J165,判定式!$Y$3:$Z$12,2,TRUE))","v":""},{"$f":"IF($K165=\"\",\"\",VLOOKUP($K165,判定式!$T$3:$W$12,4,TRUE))","v":""},{"$f":"IF($L165=\"\",\"\",VLOOKUP($L165,判定式!$U$3:$W$12,3,TRUE))","v":""},"",{"$f":"IF(ISNUMBER(D165),\"判定外\",IF(C165=6,VLOOKUP(U165,判定式!$C$15:I$19,7,TRUE),IF(C165=7,VLOOKUP(U165,判定式!$D$15:I$19,6,TRUE),IF(C165=8,VLOOKUP(U165,判定式!$E$15:I$19,5,TRUE),IF(C165=9,VLOOKUP(U165,判定式!$F$15:I$19,4,TRUE),IF(C165=10,VLOOKUP(U165,判定式!$G$15:I$19,3,TRUE),IF(C165=11,VLOOKUP(U165,判定式!$H$15:I$19,2,TRUE))))))))","v":false}]
[17,null,null,"-",null,null,null,null,null,null,null,null,{"$f":"IF($E166=\"\",\"\",VLOOKUP($E166,判定式!$P$3:$W$12,8,TRUE))","v":""},{"$f":"IF($F166=\"\",\"\",VLOOKUP($F166,判定式!$Q$3:$W$12,7,TRUE))","v":""},{"$f":"IF($G166=\"\",\"\",VLOOKUP($G166,判定式!$R$3:$W$12,6,TRUE))","v":""},{"$f":"IF($H166=\"\",\"\",VLOOKUP($H166,判定式!$S$3:$W$12,5,TRUE))","v":""},{"$f":"IF($I166=\"\",\"\",VLOOKUP($I166,判定式!$V$3:$W$12,2,TRUE))","v":""},{"$f":"IF($J166=\"\",\"\",VLOOKUP($J166,判定式!$Y$3:$Z$12,2,TRUE))","v":""},{"$f":"IF($K166=\"\",\"\",VLOOKUP($K166,判定式!$T$3:$W$12,4,TRUE))","v":""},{"$f":"IF($L166=\"\",\"\",VLOOKUP($L166,判定式!$U$3:$W$12,3,TRUE))","v":""},"",{"$f":"IF(ISNUMBER(D166),\"判定外\",IF(C166=6,VLOOKUP(U166,判定式!$C$15:I$19,7,TRUE),IF(C166=7,VLOOKUP(U166,判定式!$D$15:I$19,6,TRUE),IF(C166=8,VLOOKUP(U166,判定式!$E$15:I$19,5,TRUE),IF(C166=9,VLOOKUP(U166,判定式!$F$15:I$19,4,TRUE),IF(C166=10,VLOOKUP(U166,判定式!$G$15:I$19,3,TRUE),IF(C166=11,VLOOKUP(U166,判定式!$H$15:I$19,2,TRUE))))))))","v":false}]
[18,null,null,"-",null,null,null,null,null,null,null,null,{"$f":"IF($E167=\"\",\"\",VLOOKUP($E167,判定式!$P$3:$W$12,8,TRUE))","v":""},{"$f":"IF($F167=\"\",\"\",VLOOKUP($F167,判定式!$Q$3:$W$12,7,TRUE))","v":""},{"$f":"IF($G167=\"\",\"\",VLOOKUP($G167,判定式!$R$3:$W$12,6,TRUE))","v":""},{"$f":"IF($H167=\"\",\"\",VLOOKUP($H167,判定式!$S$3:$W$12,5,TRUE))","v":""},{"$f":"IF($I167=\"\",\"\",VLOOKUP($I167,判定式!$V$3:$W$12,2,TRUE))","v":""},{"$f":"IF($J167=\"\",\"\",VLOOKUP($J167,判定式!$Y$3:$Z$12,2,TRUE))","v":""},{"$f":"IF($K167=\"\",\"\",VLOOKUP($K167,判定式!$T$3:$W$12,4,TRUE))","v":""},{"$f":"IF($L167=\"\",\"\",VLOOKUP($L167,判定式!$U$3:$W$12,3,TRUE))","v":""},"",{"$f":"IF(ISNUMBER(D167),\"判定外\",IF(C167=6,VLOOKUP(U167,判定式!$C$15:I$19,7,TRUE),IF(C167=7,VLOOKUP(U167,判定式!$D$15:I$19,6,TRUE),IF(C167=8,VLOOKUP(U167,判定式!$E$15:I$19,5,TRUE),IF(C167=9,VLOOKUP(U167,判定式!$F$15:I$19,4,TRUE),IF(C167=10,VLOOKUP(U167,判定式!$G$15:I$19,3,TRUE),IF(C167=11,VLOOKUP(U167,判定式!$H$15:I$19,2,TRUE))))))))","v":false}]
[19,null,null,"-",null,null,null,null,null,null,null,null,{"$f":"IF($E168=\"\",\"\",VLOOKUP($E168,判定式!$P$3:$W$12,8,TRUE))","v":""},{"$f":"IF($F168=\"\",\"\",VLOOKUP($F168,判定式!$Q$3:$W$12,7,TRUE))","v":""},{"$f":"IF($G168=\"\",\"\",VLOOKUP($G168,判定式!$R$3:$W$12,6,TRUE))","v":""},{"$f":"IF($H168=\"\",\"\",VLOOKUP($H168,判定式!$S$3:$W$12,5,TRUE))","v":""},{"$f":"IF($I168=\"\",\"\",VLOOKUP($I168,判定式!$V$3:$W$12,2,TRUE))","v":""},{"$f":"IF($J168=\"\",\"\",VLOOKUP($J168,判定式!$Y$3:$Z$12,2,TRUE))","v":""},{"$f":"IF($K168=\"\",\"\",VLOOKUP($K168,判定式!$T$3:$W$12,4,TRUE))","v":""},{"$f":"IF($L168=\"\",\"\",VLOOKUP($L168,判定式!$U$3:$W$12,3,TRUE))","v":""},"",{"$f":"IF(ISNUMBER(D168),\"判定外\",IF(C168=6,VLOOKUP(U168,判定式!$C$15:I$19,7,TRUE),IF(C168=7,VLOOKUP(U168,判定式!$D$15:I$19,6,TRUE),IF(C168=8,VLOOKUP(U168,判定式!$E$15:I$19,5,TRUE),IF(C168=9,VLOOKUP(U168,判定式!$F$15:I$19,4,TRUE),IF(C168=10,VLOOKUP(U168,判定式!$G$15:I$19,3,TRUE),IF(C168=11,VLOOKUP(U168,判定式!$H$15:I$19,2,TRUE))))))))","v":false}]
[20,null,null,"-",null,null,null,null,null,null,null,null,{"$f":"IF($E169=\"\",\"\",VLOOKUP($E169,判定式!$P$3:$W$12,8,TRUE))","v":""},{"$f":"IF($F169=\"\",\"\",VLOOKUP($F169,判定式!$Q$3:$W$12,7,TRUE))","v":""},{"$f":"IF($G169=\"\",\"\",VLOOKUP($G169,判定式!$R$3:$W$12,6,TRUE))","v":""},{"$f":"IF($H169=\"\",\"\",VLOOKUP($H169,判定式!$S$3:$W$12,5,TRUE))","v":""},{"$f":"IF($I169=\"\",\"\",VLOOKUP($I169,判定式!$V$3:$W$12,2,TRUE))","v":""},{"$f":"IF($J169=\"\",\"\",VLOOKUP($J169,判定式!$Y$3:$Z$12,2,TRUE))","v":""},{"$f":"IF($K169=\"\",\"\",VLOOKUP($K169,判定式!$T$3:$W$12,4,TRUE))","v":""},{"$f":"IF($L169=\"\",\"\",VLOOKUP($L169,判定式!$U$3:$W$12,3,TRUE))","v":""},"",{"$f":"IF(ISNUMBER(D169),\"判定外\",IF(C169=6,VLOOKUP(U169,判定式!$C$15:I$19,7,TRUE),IF(C169=7,VLOOKUP(U169,判定式!$D$15:I$19,6,TRUE),IF(C169=8,VLOOKUP(U169,判定式!$E$15:I$19,5,TRUE),IF(C169=9,VLOOKUP(U169,判定式!$F$15:I$19,4,TRUE),IF(C169=10,VLOOKUP(U169,判定式!$G$15:I$19,3,TRUE),IF(C169=11,VLOOKUP(U169,判定式!$H$15:I$19,2,TRUE))))))))","v":false}]
[21,null,null,"-",null,null,null,null,null,null,null,null,{"$f":"IF($E170=\"\",\"\",VLOOKUP($E170,判定式!$P$3:$W$12,8,TRUE))","v":""},{"$f":"IF($F170=\"\",\"\",VLOOKUP($F170,判定式!$Q$3:$W$12,7,TRUE))","v":""},{"$f":"IF($G170=\"\",\"\",VLOOKUP($G170,判定式!$R$3:$W$12,6,TRUE))","v":""},{"$f":"IF($H170=\"\",\"\",VLOOKUP($H170,判定式!$S$3:$W$12,5,TRUE))","v":""},{"$f":"IF($I170=\"\",\"\",VLOOKUP($I170,判定式!$V$3:$W$12,2,TRUE))","v":""},{"$f":"IF($J170=\"\",\"\",VLOOKUP($J170,判定式!$Y$3:$Z$12,2,TRUE))","v":""},{"$f":"IF($K170=\"\",\"\",VLOOKUP($K170,判定式!$T$3:$W$12,4,TRUE))","v":""},{"$f":"IF($L170=\"\",\"\",VLOOKUP($L170,判定式!$U$3:$W$12,3,TRUE))","v":""},"",{"$f":"IF(ISNUMBER(D170),\"判定外\",IF(C170=6,VLOOKUP(U170,判定式!$C$15:I$19,7,TRUE),IF(C170=7,VLOOKUP(U170,判定式!$D$15:I$19,6,TRUE),IF(C170=8,VLOOKUP(U170,判定式!$E$15:I$19,5,TRUE),IF(C170=9,VLOOKUP(U170,判定式!$F$15:I$19,4,TRUE),IF(C170=10,VLOOKUP(U170,判定式!$G$15:I$19,3,TRUE),IF(C170=11,VLOOKUP(U170,判定式!$H$15:I$19,2,TRUE))))))))","v":false}]
[22,null,null,"-",null,null,null,null,null,null,null,null,{"$f":"IF($E171=\"\",\"\",VLOOKUP($E171,判定式!$P$3:$W$12,8,TRUE))","v":""},{"$f":"IF($F171=\"\",\"\",VLOOKUP($F171,判定式!$Q$3:$W$12,7,TRUE))","v":""},{"$f":"IF($G171=\"\",\"\",VLOOKUP($G171,判定式!$R$3:$W$12,6,TRUE))","v":""},{"$f":"IF($H171=\"\",\"\",VLOOKUP($H171,判定式!$S$3:$W$12,5,TRUE))","v":""},{"$f":"IF($I171=\"\",\"\",VLOOKUP($I171,判定式!$V$3:$W$12,2,TRUE))","v":""},{"$f":"IF($J171=\"\",\"\",VLOOKUP($J171,判定式!$Y$3:$Z$12,2,TRUE))","v":""},{"$f":"IF($K171=\"\",\"\",VLOOKUP($K171,判定式!$T$3:$W$12,4,TRUE))","v":""},{"$f":"IF($L171=\"\",\"\",VLOOKUP($L171,判定式!$U$3:$W$12,3,TRUE))","v":""},"",{"$f":"IF(ISNUMBER(D171),\"判定外\",IF(C171=6,VLOOKUP(U171,判定式!$C$15:I$19,7,TRUE),IF(C171=7,VLOOKUP(U171,判定式!$D$15:I$19,6,TRUE),IF(C171=8,VLOOKUP(U171,判定式!$E$15:I$19,5,TRUE),IF(C171=9,VLOOKUP(U171,判定式!$F$15:I$19,4,TRUE),IF(C171=10,VLOOKUP(U171,判定式!$G$15:I$19,3,TRUE),IF(C171=11,VLOOKUP(U171,判定式!$H$15:I$19,2,TRUE))))))))","v":false}]
[23,null,null,"-",null,null,null,null,null,null,null,null,{"$f":"IF($E172=\"\",\"\",VLOOKUP($E172,判定式!$P$3:$W$12,8,TRUE))","v":""},{"$f":"IF($F172=\"\",\"\",VLOOKUP($F172,判定式!$Q$3:$W$12,7,TRUE))","v":""},{"$f":"IF($G172=\"\",\"\",VLOOKUP($G172,判定式!$R$3:$W$12,6,TRUE))","v":""},{"$f":"IF($H172=\"\",\"\",VLOOKUP($H172,判定式!$S$3:$W$12,5,TRUE))","v":""},{"$f":"IF($I172=\"\",\"\",VLOOKUP($I172,判定式!$V$3:$W$12,2,TRUE))","v":""},{"$f":"IF($J172=\"\",\"\",VLOOKUP($J172,判定式!$Y$3:$Z$12,2,TRUE))","v":""},{"$f":"IF($K172=\"\",\"\",VLOOKUP($K172,判定式!$T$3:$W$12,4,TRUE))","v":""},{"$f":"IF($L172=\"\",\"\",VLOOKUP($L172,判定式!$U$3:$W$12,3,TRUE))","v":""},"",{"$f":"IF(ISNUMBER(D172),\"判定外\",IF(C172=6,VLOOKUP(U172,判定式!$C$15:I$19,7,TRUE),IF(C172=7,VLOOKUP(U172,判定式!$D$15:I$19,6,TRUE),IF(C172=8,VLOOKUP(U172,判定式!$E$15:I$19,5,TRUE),IF(C172=9,VLOOKUP(U172,判定式!$F$15:I$19,4,TRUE),IF(C172=10,VLOOKUP(U172,判定式!$G$15:I$19,3,TRUE),IF(C172=11,VLOOKUP(U172,判定式!$H$15:I$19,2,TRUE))))))))","v":false}]
[24,null,null,"-",null,null,null,null,null,null,null,null,{"$f":"IF($E173=\"\",\"\",VLOOKUP($E173,判定式!$P$3:$W$12,8,TRUE))","v":""},{"$f":"IF($F173=\"\",\"\",VLOOKUP($F173,判定式!$Q$3:$W$12,7,TRUE))","v":""},{"$f":"IF($G173=\"\",\"\",VLOOKUP($G173,判定式!$R$3:$W$12,6,TRUE))","v":""},{"$f":"IF($H173=\"\",\"\",VLOOKUP($H173,判定式!$S$3:$W$12,5,TRUE))","v":""},{"$f":"IF($I173=\"\",\"\",VLOOKUP($I173,判定式!$V$3:$W$12,2,TRUE))","v":""},{"$f":"IF($J173=\"\",\"\",VLOOKUP($J173,判定式!$Y$3:$Z$12,2,TRUE))","v":""},{"$f":"IF($K173=\"\",\"\",VLOOKUP($K173,判定式!$T$3:$W$12,4,TRUE))","v":""},{"$f":"IF($L173=\"\",\"\",VLOOKUP($L173,判定式!$U$3:$W$12,3,TRUE))","v":""},"",{"$f":"IF(ISNUMBER(D173),\"判定外\",IF(C173=6,VLOOKUP(U173,判定式!$C$15:I$19,7,TRUE),IF(C173=7,VLOOKUP(U173,判定式!$D$15:I$19,6,TRUE),IF(C173=8,VLOOKUP(U173,判定式!$E$15:I$19,5,TRUE),IF(C173=9,VLOOKUP(U173,判定式!$F$15:I$19,4,TRUE),IF(C173=10,VLOOKUP(U173,判定式!$G$15:I$19,3,TRUE),IF(C173=11,VLOOKUP(U173,判定式!$H$15:I$19,2,TRUE))))))))","v":false}]
[25,null,null,"-",null,null,null,null,null,null,null,null,{"$f":"IF($E174=\"\",\"\",VLOOKUP($E174,判定式!$P$3:$W$12,8,TRUE))","v":""},{"$f":"IF($F174=\"\",\"\",VLOOKUP($F174,判定式!$Q$3:$W$12,7,TRUE))","v":""},{"$f":"IF($G174=\"\",\"\",VLOOKUP($G174,判定式!$R$3:$W$12,6,TRUE))","v":""},{"$f":"IF($H174=\"\",\"\",VLOOKUP($H174,判定式!$S$3:$W$12,5,TRUE))","v":""},{"$f":"IF($I174=\"\",\"\",VLOOKUP($I174,判定式!$V$3:$W$12,2,TRUE))","v":""},{"$f":"IF($J174=\"\",\"\",VLOOKUP($J174,判定式!$Y$3:$Z$12,2,TRUE))","v":""},{"$f":"IF($K174=\"\",\"\",VLOOKUP($K174,判定式!$T$3:$W$12,4,TRUE))","v":""},{"$f":"IF($L174=\"\",\"\",VLOOKUP($L174,判定式!$U$3:$W$12,3,TRUE))","v":""},"",{"$f":"IF(ISNUMBER(D174),\"判定外\",IF(C174=6,VLOOKUP(U174,判定式!$C$15:I$19,7,TRUE),IF(C174=7,VLOOKUP(U174,判定式!$D$15:I$19,6,TRUE),IF(C174=8,VLOOKUP(U174,判定式!$E$15:I$19,5,TRUE),IF(C174=9,VLOOKUP(U174,判定式!$F$15:I$19,4,TRUE),IF(C174=10,VLOOKUP(U174,判定式!$G$15:I$19,3,TRUE),IF(C174=11,VLOOKUP(U174,判定式!$H$15:I$19,2,TRUE))))))))","v":false}]
[26,null,null,"-",null,null,null,null,null,null,null,null,{"$f":"IF($E175=\"\",\"\",VLOOKUP($E175,判定式!$P$3:$W$12,8,TRUE))","v":""},{"$f":"IF($F175=\"\",\"\",VLOOKUP($F175,判定式!$Q$3:$W$12,7,TRUE))","v":""},{"$f":"IF($G175=\"\",\"\",VLOOKUP($G175,判定式!$R$3:$W$12,6,TRUE))","v":""},{"$f":"IF($H175=\"\",\"\",VLOOKUP($H175,判定式!$S$3:$W$12,5,TRUE))","v":""},{"$f":"IF($I175=\"\",\"\",VLOOKUP($I175,判定式!$V$3:$W$12,2,TRUE))","v":""},{"$f":"IF($J175=\"\",\"\",VLOOKUP($J175,判定式!$Y$3:$Z$12,2,TRUE))","v":""},{"$f":"IF($K175=\"\",\"\",VLOOKUP($K175,判定式!$T$3:$W$12,4,TRUE))","v":""},{"$f":"IF($L175=\"\",\"\",VLOOKUP($L175,判定式!$U$3:$W$12,3,TRUE))","v":""},"",{"$f":"IF(ISNUMBER(D175),\"判定外\",IF(C175=6,VLOOKUP(U175,判定式!$C$15:I$19,7,TRUE),IF(C175=7,VLOOKUP(U175,判定式!$D$15:I$19,6,TRUE),IF(C175=8,VLOOKUP(U175,判定式!$E$15:I$19,5,TRUE),IF(C175=9,VLOOKUP(U175,判定式!$F$15:I$19,4,TRUE),IF(C175=10,VLOOKUP(U175,判定式!$G$15:I$19,3,TRUE),IF(C175=11,VLOOKUP(U175,判定式!$H$15:I$19,2,TRUE))))))))","v":false}]
[27,null,null,"-",null,null,null,null,null,null,null,null,{"$f":"IF($E176=\"\",\"\",VLOOKUP($E176,判定式!$P$3:$W$12,8,TRUE))","v":""},{"$f":"IF($F176=\"\",\"\",VLOOKUP($F176,判定式!$Q$3:$W$12,7,TRUE))","v":""},{"$f":"IF($G176=\"\",\"\",VLOOKUP($G176,判定式!$R$3:$W$12,6,TRUE))","v":""},{"$f":"IF($H176=\"\",\"\",VLOOKUP($H176,判定式!$S$3:$W$12,5,TRUE))","v":""},{"$f":"IF($I176=\"\",\"\",VLOOKUP($I176,判定式!$V$3:$W$12,2,TRUE))","v":""},{"$f":"IF($J176=\"\",\"\",VLOOKUP($J176,判定式!$Y$3:$Z$12,2,TRUE))","v":""},{"$f":"IF($K176=\"\",\"\",VLOOKUP($K176,判定式!$T$3:$W$12,4,TRUE))","v":""},{"$f":"IF($L176=\"\",\"\",VLOOKUP($L176,判定式!$U$3:$W$12,3,TRUE))","v":""},"",{"$f":"IF(ISNUMBER(D176),\"判定外\",IF(C176=6,VLOOKUP(U176,判定式!$C$15:I$19,7,TRUE),IF(C176=7,VLOOKUP(U176,判定式!$D$15:I$19,6,TRUE),IF(C176=8,VLOOKUP(U176,判定式!$E$15:I$19,5,TRUE),IF(C176=9,VLOOKUP(U176,判定式!$F$15:I$19,4,TRUE),IF(C176=10,VLOOKUP(U176,判定式!$G$15:I$19,3,TRUE),IF(C176=11,VLOOKUP(U176,判定式!$H$15:I$19,2,TRUE))))))))","v":false}]
[28,null,null,"-",null,null,null,null,null,null,null,null,{"$f":"IF($E177=\"\",\"\",VLOOKUP($E177,判定式!$P$3:$W$12,8,TRUE))","v":""},{"$f":"IF($F177=\"\",\"\",VLOOKUP($F177,判定式!$Q$3:$W$12,7,TRUE))","v":""},{"$f":"IF($G177=\"\",\"\",VLOOKUP($G177,判定式!$R$3:$W$12,6,TRUE))","v":""},{"$f":"IF($H177=\"\",\"\",VLOOKUP($H177,判定式!$S$3:$W$12,5,TRUE))","v":""},{"$f":"IF($I177=\"\",\"\",VLOOKUP($I177,判定式!$V$3:$W$12,2,TRUE))","v":""},{"$f":"IF($J177=\"\",\"\",VLOOKUP($J177,判定式!$Y$3:$Z$12,2,TRUE))","v":""},{"$f":"IF($K177=\"\",\"\",VLOOKUP($K177,判定式!$T$3:$W$12,4,TRUE))","v":""},{"$f":"IF($L177=\"\",\"\",VLOOKUP($L177,判定式!$U$3:$W$12,3,TRUE))","v":""},"",{"$f":"IF(ISNUMBER(D177),\"判定外\",IF(C177=6,VLOOKUP(U177,判定式!$C$15:I$19,7,TRUE),IF(C177=7,VLOOKUP(U177,判定式!$D$15:I$19,6,TRUE),IF(C177=8,VLOOKUP(U177,判定式!$E$15:I$19,5,TRUE),IF(C177=9,VLOOKUP(U177,判定式!$F$15:I$19,4,TRUE),IF(C177=10,VLOOKUP(U177,判定式!$G$15:I$19,3,TRUE),IF(C177=11,VLOOKUP(U177,判定式!$H$15:I$19,2,TRUE))))))))","v":false}]
[29,null,null,"-",null,null,null,null,null,null,null,null,{"$f":"IF($E178=\"\",\"\",VLOOKUP($E178,判定式!$P$3:$W$12,8,TRUE))","v":""},{"$f":"IF($F178=\"\",\"\",VLOOKUP($F178,判定式!$Q$3:$W$12,7,TRUE))","v":""},{"$f":"IF($G178=\"\",\"\",VLOOKUP($G178,判定式!$R$3:$W$12,6,TRUE))","v":""},{"$f":"IF($H178=\"\",\"\",VLOOKUP($H178,判定式!$S$3:$W$12,5,TRUE))","v":""},{"$f":"IF($I178=\"\",\"\",VLOOKUP($I178,判定式!$V$3:$W$12,2,TRUE))","v":""},{"$f":"IF($J178=\"\",\"\",VLOOKUP($J178,判定式!$Y$3:$Z$12,2,TRUE))","v":""},{"$f":"IF($K178=\"\",\"\",VLOOKUP($K178,判定式!$T$3:$W$12,4,TRUE))","v":""},{"$f":"IF($L178=\"\",\"\",VLOOKUP($L178,判定式!$U$3:$W$12,3,TRUE))","v":""},"",{"$f":"IF(ISNUMBER(D178),\"判定外\",IF(C178=6,VLOOKUP(U178,判定式!$C$15:I$19,7,TRUE),IF(C178=7,VLOOKUP(U178,判定式!$D$15:I$19,6,TRUE),IF(C178=8,VLOOKUP(U178,判定式!$E$15:I$19,5,TRUE),IF(C178=9,VLOOKUP(U178,判定式!$F$15:I$19,4,TRUE),IF(C178=10,VLOOKUP(U178,判定式!$G$15:I$19,3,TRUE),IF(C178=11,VLOOKUP(U178,判定式!$H$15:I$19,2,TRUE))))))))","v":false}]
[30,null,null,"-",null,null,null,null,null,null,null,null,{"$f":"IF($E179=\"\",\"\",VLOOKUP($E179,判定式!$P$3:$W$12,8,TRUE))","v":""},{"$f":"IF($F179=\"\",\"\",VLOOKUP($F179,判定式!$Q$3:$W$12,7,TRUE))","v":""},{"$f":"IF($G179=\"\",\"\",VLOOKUP($G179,判定式!$R$3:$W$12,6,TRUE))","v":""},{"$f":"IF($H179=\"\",\"\",VLOOKUP($H179,判定式!$S$3:$W$12,5,TRUE))","v":""},{"$f":"IF($I179=\"\",\"\",VLOOKUP($I179,判定式!$V$3:$W$12,2,TRUE))","v":""},{"$f":"IF($J179=\"\",\"\",VLOOKUP($J179,判定式!$Y$3:$Z$12,2,TRUE))","v":""},{"$f":"IF($K179=\"\",\"\",VLOOKUP($K179,判定式!$T$3:$W$12,4,TRUE))","v":""},{"$f":"IF($L179=\"\",\"\",VLOOKUP($L179,判定式!$U$3:$W$12,3,TRUE))","v":""},"",{"$f":"IF(ISNUMBER(D179),\"判定外\",IF(C179=6,VLOOKUP(U179,判定式!$C$15:I$19,7,TRUE),IF(C179=7,VLOOKUP(U179,判定式!$D$15:I$19,6,TRUE),IF(C179=8,VLOOKUP(U179,判定式!$E$15:I$19,5,TRUE),IF(C179=9,VLOOKUP(U179,判定式!$F$15:I$19,4,TRUE),IF(C179=10,VLOOKUP(U179,判定式!$G$15:I$19,3,TRUE),IF(C179=11,VLOOKUP(U179,判定式!$H$15:I$19,2,TRUE))))))))","v":false}]
[31,null,null,"-",null,null,null,null,null,null,null,null,{"$f":"IF($E180=\"\",\"\",VLOOKUP($E180,判定式!$P$3:$W$12,8,TRUE))","v":""},{"$f":"IF($F180=\"\",\"\",VLOOKUP($F180,判定式!$Q$3:$W$12,7,TRUE))","v":""},{"$f":"IF($G180=\"\",\"\",VLOOKUP($G180,判定式!$R$3:$W$12,6,TRUE))","v":""},{"$f":"IF($H180=\"\",\"\",VLOOKUP($H180,判定式!$S$3:$W$12,5,TRUE))","v":""},{"$f":"IF($I180=\"\",\"\",VLOOKUP($I180,判定式!$V$3:$W$12,2,TRUE))","v":""},{"$f":"IF($J180=\"\",\"\",VLOOKUP($J180,判定式!$Y$3:$Z$12,2,TRUE))","v":""},{"$f":"IF($K180=\"\",\"\",VLOOKUP($K180,判定式!$T$3:$W$12,4,TRUE))","v":""},{"$f":"IF($L180=\"\",\"\",VLOOKUP($L180,判定式!$U$3:$W$12,3,TRUE))","v":""},"",{"$f":"IF(ISNUMBER(D180),\"判定外\",IF(C180=6,VLOOKUP(U180,判定式!$C$15:I$19,7,TRUE),IF(C180=7,VLOOKUP(U180,判定式!$D$15:I$19,6,TRUE),IF(C180=8,VLOOKUP(U180,判定式!$E$15:I$19,5,TRUE),IF(C180=9,VLOOKUP(U180,判定式!$F$15:I$19,4,TRUE),IF(C180=10,VLOOKUP(U180,判定式!$G$15:I$19,3,TRUE),IF(C180=11,VLOOKUP(U180,判定式!$H$15:I$19,2,TRUE))))))))","v":false}]
[32,null,null,"-",null,null,null,null,null,null,null,null,{"$f":"IF($E181=\"\",\"\",VLOOKUP($E181,判定式!$P$3:$W$12,8,TRUE))","v":""},{"$f":"IF($F181=\"\",\"\",VLOOKUP($F181,判定式!$Q$3:$W$12,7,TRUE))","v":""},{"$f":"IF($G181=\"\",\"\",VLOOKUP($G181,判定式!$R$3:$W$12,6,TRUE))","v":""},{"$f":"IF($H181=\"\",\"\",VLOOKUP($H181,判定式!$S$3:$W$12,5,TRUE))","v":""},{"$f":"IF($I181=\"\",\"\",VLOOKUP($I181,判定式!$V$3:$W$12,2,TRUE))","v":""},{"$f":"IF($J181=\"\",\"\",VLOOKUP($J181,判定式!$Y$3:$Z$12,2,TRUE))","v":""},{"$f":"IF($K181=\"\",\"\",VLOOKUP($K181,判定式!$T$3:$W$12,4,TRUE))","v":""},{"$f":"IF($L181=\"\",\"\",VLOOKUP($L181,判定式!$U$3:$W$12,3,TRUE))","v":""},"",{"$f":"IF(ISNUMBER(D181),\"判定外\",IF(C181=6,VLOOKUP(U181,判定式!$C$15:I$19,7,TRUE),IF(C181=7,VLOOKUP(U181,判定式!$D$15:I$19,6,TRUE),IF(C181=8,VLOOKUP(U181,判定式!$E$15:I$19,5,TRUE),IF(C181=9,VLOOKUP(U181,判定式!$F$15:I$19,4,TRUE),IF(C181=10,VLOOKUP(U181,判定式!$G$15:I$19,3,TRUE),IF(C181=11,VLOOKUP(U181,判定式!$H$15:I$19,2,TRUE))))))))","v":false}]
[33,null,null,{"$f":"IF(COUNTBLANK(E182:L182)=0,\"\",IF(COUNTBLANK(E182:L182)=8,\"-\",COUNTBLANK(E182:L182)))","v":"-"},null,null,null,null,null,null,null,null,{"$f":"IF($E182=\"\",\"\",VLOOKUP($E182,判定式!$P$3:$W$12,8,TRUE))","v":""},{"$f":"IF($F182=\"\",\"\",VLOOKUP($F182,判定式!$Q$3:$W$12,7,TRUE))","v":""},{"$f":"IF($G182=\"\",\"\",VLOOKUP($G182,判定式!$R$3:$W$12,6,TRUE))","v":""},{"$f":"IF($H182=\"\",\"\",VLOOKUP($H182,判定式!$S$3:$W$12,5,TRUE))","v":""},{"$f":"IF($I182=\"\",\"\",VLOOKUP($I182,判定式!$V$3:$W$12,2,TRUE))","v":""},{"$f":"IF($J182=\"\",\"\",VLOOKUP($J182,判定式!$Y$3:$Z$12,2,TRUE))","v":""},{"$f":"IF($K182=\"\",\"\",VLOOKUP($K182,判定式!$T$3:$W$12,4,TRUE))","v":""},{"$f":"IF($L182=\"\",\"\",VLOOKUP($L182,判定式!$U$3:$W$12,3,TRUE))","v":""},{"$f":"IF(COUNTBLANK(M182:T182)=0,SUM(M182:T182),\"\")","v":""},{"$f":"IF(ISNUMBER(D182),\"判定外\",IF(C182=6,VLOOKUP(U182,判定式!$C$15:I$19,7,TRUE),IF(C182=7,VLOOKUP(U182,判定式!$D$15:I$19,6,TRUE),IF(C182=8,VLOOKUP(U182,判定式!$E$15:I$19,5,TRUE),IF(C182=9,VLOOKUP(U182,判定式!$F$15:I$19,4,TRUE),IF(C182=10,VLOOKUP(U182,判定式!$G$15:I$19,3,TRUE),IF(C182=11,VLOOKUP(U182,判定式!$H$15:I$19,2,TRUE))))))))","v":false}]
[34,null,null,"-",null,null,null,null,null,null,null,null,{"$f":"IF($E183=\"\",\"\",VLOOKUP($E183,判定式!$P$3:$W$12,8,TRUE))","v":""},{"$f":"IF($F183=\"\",\"\",VLOOKUP($F183,判定式!$Q$3:$W$12,7,TRUE))","v":""},{"$f":"IF($G183=\"\",\"\",VLOOKUP($G183,判定式!$R$3:$W$12,6,TRUE))","v":""},{"$f":"IF($H183=\"\",\"\",VLOOKUP($H183,判定式!$S$3:$W$12,5,TRUE))","v":""},{"$f":"IF($I183=\"\",\"\",VLOOKUP($I183,判定式!$V$3:$W$12,2,TRUE))","v":""},{"$f":"IF($J183=\"\",\"\",VLOOKUP($J183,判定式!$Y$3:$Z$12,2,TRUE))","v":""},{"$f":"IF($K183=\"\",\"\",VLOOKUP($K183,判定式!$T$3:$W$12,4,TRUE))","v":""},{"$f":"IF($L183=\"\",\"\",VLOOKUP($L183,判定式!$U$3:$W$12,3,TRUE))","v":""},"",{"$f":"IF(ISNUMBER(D183),\"判定外\",IF(C183=6,VLOOKUP(U183,判定式!$C$15:I$19,7,TRUE),IF(C183=7,VLOOKUP(U183,判定式!$D$15:I$19,6,TRUE),IF(C183=8,VLOOKUP(U183,判定式!$E$15:I$19,5,TRUE),IF(C183=9,VLOOKUP(U183,判定式!$F$15:I$19,4,TRUE),IF(C183=10,VLOOKUP(U183,判定式!$G$15:I$19,3,TRUE),IF(C183=11,VLOOKUP(U183,判定式!$H$15:I$19,2,TRUE))))))))","v":false}]
[35,null,null,"-",null,null,null,null,null,null,null,null,{"$f":"IF($E184=\"\",\"\",VLOOKUP($E184,判定式!$P$3:$W$12,8,TRUE))","v":""},{"$f":"IF($F184=\"\",\"\",VLOOKUP($F184,判定式!$Q$3:$W$12,7,TRUE))","v":""},{"$f":"IF($G184=\"\",\"\",VLOOKUP($G184,判定式!$R$3:$W$12,6,TRUE))","v":""},{"$f":"IF($H184=\"\",\"\",VLOOKUP($H184,判定式!$S$3:$W$12,5,TRUE))","v":""},{"$f":"IF($I184=\"\",\"\",VLOOKUP($I184,判定式!$V$3:$W$12,2,TRUE))","v":""},{"$f":"IF($J184=\"\",\"\",VLOOKUP($J184,判定式!$Y$3:$Z$12,2,TRUE))","v":""},{"$f":"IF($K184=\"\",\"\",VLOOKUP($K184,判定式!$T$3:$W$12,4,TRUE))","v":""},{"$f":"IF($L184=\"\",\"\",VLOOKUP($L184,判定式!$U$3:$W$12,3,TRUE))","v":""},"",{"$f":"IF(ISNUMBER(D184),\"判定外\",IF(C184=6,VLOOKUP(U184,判定式!$C$15:I$19,7,TRUE),IF(C184=7,VLOOKUP(U184,判定式!$D$15:I$19,6,TRUE),IF(C184=8,VLOOKUP(U184,判定式!$E$15:I$19,5,TRUE),IF(C184=9,VLOOKUP(U184,判定式!$F$15:I$19,4,TRUE),IF(C184=10,VLOOKUP(U184,判定式!$G$15:I$19,3,TRUE),IF(C184=11,VLOOKUP(U184,判定式!$H$15:I$19,2,TRUE))))))))","v":false}]
[36,null,null,"-",null,null,null,null,null,null,null,null,{"$f":"IF($E185=\"\",\"\",VLOOKUP($E185,判定式!$P$3:$W$12,8,TRUE))","v":""},{"$f":"IF($F185=\"\",\"\",VLOOKUP($F185,判定式!$Q$3:$W$12,7,TRUE))","v":""},{"$f":"IF($G185=\"\",\"\",VLOOKUP($G185,判定式!$R$3:$W$12,6,TRUE))","v":""},{"$f":"IF($H185=\"\",\"\",VLOOKUP($H185,判定式!$S$3:$W$12,5,TRUE))","v":""},{"$f":"IF($I185=\"\",\"\",VLOOKUP($I185,判定式!$V$3:$W$12,2,TRUE))","v":""},{"$f":"IF($J185=\"\",\"\",VLOOKUP($J185,判定式!$Y$3:$Z$12,2,TRUE))","v":""},{"$f":"IF($K185=\"\",\"\",VLOOKUP($K185,判定式!$T$3:$W$12,4,TRUE))","v":""},{"$f":"IF($L185=\"\",\"\",VLOOKUP($L185,判定式!$U$3:$W$12,3,TRUE))","v":""},"",{"$f":"IF(ISNUMBER(D185),\"判定外\",IF(C185=6,VLOOKUP(U185,判定式!$C$15:I$19,7,TRUE),IF(C185=7,VLOOKUP(U185,判定式!$D$15:I$19,6,TRUE),IF(C185=8,VLOOKUP(U185,判定式!$E$15:I$19,5,TRUE),IF(C185=9,VLOOKUP(U185,判定式!$F$15:I$19,4,TRUE),IF(C185=10,VLOOKUP(U185,判定式!$G$15:I$19,3,TRUE),IF(C185=11,VLOOKUP(U185,判定式!$H$15:I$19,2,TRUE))))))))","v":false}]
[37,null,null,"-",null,null,null,null,null,null,null,null,{"$f":"IF($E186=\"\",\"\",VLOOKUP($E186,判定式!$P$3:$W$12,8,TRUE))","v":""},{"$f":"IF($F186=\"\",\"\",VLOOKUP($F186,判定式!$Q$3:$W$12,7,TRUE))","v":""},{"$f":"IF($G186=\"\",\"\",VLOOKUP($G186,判定式!$R$3:$W$12,6,TRUE))","v":""},{"$f":"IF($H186=\"\",\"\",VLOOKUP($H186,判定式!$S$3:$W$12,5,TRUE))","v":""},{"$f":"IF($I186=\"\",\"\",VLOOKUP($I186,判定式!$V$3:$W$12,2,TRUE))","v":""},{"$f":"IF($J186=\"\",\"\",VLOOKUP($J186,判定式!$Y$3:$Z$12,2,TRUE))","v":""},{"$f":"IF($K186=\"\",\"\",VLOOKUP($K186,判定式!$T$3:$W$12,4,TRUE))","v":""},{"$f":"IF($L186=\"\",\"\",VLOOKUP($L186,判定式!$U$3:$W$12,3,TRUE))","v":""},"",{"$f":"IF(ISNUMBER(D186),\"判定外\",IF(C186=6,VLOOKUP(U186,判定式!$C$15:I$19,7,TRUE),IF(C186=7,VLOOKUP(U186,判定式!$D$15:I$19,6,TRUE),IF(C186=8,VLOOKUP(U186,判定式!$E$15:I$19,5,TRUE),IF(C186=9,VLOOKUP(U186,判定式!$F$15:I$19,4,TRUE),IF(C186=10,VLOOKUP(U186,判定式!$G$15:I$19,3,TRUE),IF(C186=11,VLOOKUP(U186,判定式!$H$15:I$19,2,TRUE))))))))","v":false}]
[38,null,null,"-",null,null,null,null,null,null,null,null,{"$f":"IF($E187=\"\",\"\",VLOOKUP($E187,判定式!$P$3:$W$12,8,TRUE))","v":""},{"$f":"IF($F187=\"\",\"\",VLOOKUP($F187,判定式!$Q$3:$W$12,7,TRUE))","v":""},{"$f":"IF($G187=\"\",\"\",VLOOKUP($G187,判定式!$R$3:$W$12,6,TRUE))","v":""},{"$f":"IF($H187=\"\",\"\",VLOOKUP($H187,判定式!$S$3:$W$12,5,TRUE))","v":""},{"$f":"IF($I187=\"\",\"\",VLOOKUP($I187,判定式!$V$3:$W$12,2,TRUE))","v":""},{"$f":"IF($J187=\"\",\"\",VLOOKUP($J187,判定式!$Y$3:$Z$12,2,TRUE))","v":""},{"$f":"IF($K187=\"\",\"\",VLOOKUP($K187,判定式!$T$3:$W$12,4,TRUE))","v":""},{"$f":"IF($L187=\"\",\"\",VLOOKUP($L187,判定式!$U$3:$W$12,3,TRUE))","v":""},"",{"$f":"IF(ISNUMBER(D187),\"判定外\",IF(C187=6,VLOOKUP(U187,判定式!$C$15:I$19,7,TRUE),IF(C187=7,VLOOKUP(U187,判定式!$D$15:I$19,6,TRUE),IF(C187=8,VLOOKUP(U187,判定式!$E$15:I$19,5,TRUE),IF(C187=9,VLOOKUP(U187,判定式!$F$15:I$19,4,TRUE),IF(C187=10,VLOOKUP(U187,判定式!$G$15:I$19,3,TRUE),IF(C187=11,VLOOKUP(U187,判定式!$H$15:I$19,2,TRUE))))))))","v":false}]
[39,null,null,"-",null,null,null,null,null,null,null,null,{"$f":"IF($E188=\"\",\"\",VLOOKUP($E188,判定式!$P$3:$W$12,8,TRUE))","v":""},{"$f":"IF($F188=\"\",\"\",VLOOKUP($F188,判定式!$Q$3:$W$12,7,TRUE))","v":""},{"$f":"IF($G188=\"\",\"\",VLOOKUP($G188,判定式!$R$3:$W$12,6,TRUE))","v":""},{"$f":"IF($H188=\"\",\"\",VLOOKUP($H188,判定式!$S$3:$W$12,5,TRUE))","v":""},{"$f":"IF($I188=\"\",\"\",VLOOKUP($I188,判定式!$V$3:$W$12,2,TRUE))","v":""},{"$f":"IF($J188=\"\",\"\",VLOOKUP($J188,判定式!$Y$3:$Z$12,2,TRUE))","v":""},{"$f":"IF($K188=\"\",\"\",VLOOKUP($K188,判定式!$T$3:$W$12,4,TRUE))","v":""},{"$f":"IF($L188=\"\",\"\",VLOOKUP($L188,判定式!$U$3:$W$12,3,TRUE))","v":""},"",{"$f":"IF(ISNUMBER(D188),\"判定外\",IF(C188=6,VLOOKUP(U188,判定式!$C$15:I$19,7,TRUE),IF(C188=7,VLOOKUP(U188,判定式!$D$15:I$19,6,TRUE),IF(C188=8,VLOOKUP(U188,判定式!$E$15:I$19,5,TRUE),IF(C188=9,VLOOKUP(U188,判定式!$F$15:I$19,4,TRUE),IF(C188=10,VLOOKUP(U188,判定式!$G$15:I$19,3,TRUE),IF(C188=11,VLOOKUP(U188,判定式!$H$15:I$19,2,TRUE))))))))","v":false}]
[40,null,null,"-",null,null,null,null,null,null,null,null,{"$f":"IF($E189=\"\",\"\",VLOOKUP($E189,判定式!$P$3:$W$12,8,TRUE))","v":""},{"$f":"IF($F189=\"\",\"\",VLOOKUP($F189,判定式!$Q$3:$W$12,7,TRUE))","v":""},{"$f":"IF($G189=\"\",\"\",VLOOKUP($G189,判定式!$R$3:$W$12,6,TRUE))","v":""},{"$f":"IF($H189=\"\",\"\",VLOOKUP($H189,判定式!$S$3:$W$12,5,TRUE))","v":""},{"$f":"IF($I189=\"\",\"\",VLOOKUP($I189,判定式!$V$3:$W$12,2,TRUE))","v":""},{"$f":"IF($J189=\"\",\"\",VLOOKUP($J189,判定式!$Y$3:$Z$12,2,TRUE))","v":""},{"$f":"IF($K189=\"\",\"\",VLOOKUP($K189,判定式!$T$3:$W$12,4,TRUE))","v":""},{"$f":"IF($L189=\"\",\"\",VLOOKUP($L189,判定式!$U$3:$W$12,3,TRUE))","v":""},"",{"$f":"IF(ISNUMBER(D189),\"判定外\",IF(C189=6,VLOOKUP(U189,判定式!$C$15:I$19,7,TRUE),IF(C189=7,VLOOKUP(U189,判定式!$D$15:I$19,6,TRUE),IF(C189=8,VLOOKUP(U189,判定式!$E$15:I$19,5,TRUE),IF(C189=9,VLOOKUP(U189,判定式!$F$15:I$19,4,TRUE),IF(C189=10,VLOOKUP(U189,判定式!$G$15:I$19,3,TRUE),IF(C189=11,VLOOKUP(U189,判定式!$H$15:I$19,2,TRUE))))))))","v":false}]
[41,null,null,"-",null,null,null,null,null,null,null,null,{"$f":"IF($E190=\"\",\"\",VLOOKUP($E190,判定式!$P$3:$W$12,8,TRUE))","v":""},{"$f":"IF($F190=\"\",\"\",VLOOKUP($F190,判定式!$Q$3:$W$12,7,TRUE))","v":""},{"$f":"IF($G190=\"\",\"\",VLOOKUP($G190,判定式!$R$3:$W$12,6,TRUE))","v":""},{"$f":"IF($H190=\"\",\"\",VLOOKUP($H190,判定式!$S$3:$W$12,5,TRUE))","v":""},{"$f":"IF($I190=\"\",\"\",VLOOKUP($I190,判定式!$V$3:$W$12,2,TRUE))","v":""},{"$f":"IF($J190=\"\",\"\",VLOOKUP($J190,判定式!$Y$3:$Z$12,2,TRUE))","v":""},{"$f":"IF($K190=\"\",\"\",VLOOKUP($K190,判定式!$T$3:$W$12,4,TRUE))","v":""},{"$f":"IF($L190=\"\",\"\",VLOOKUP($L190,判定式!$U$3:$W$12,3,TRUE))","v":""},"",{"$f":"IF(ISNUMBER(D190),\"判定外\",IF(C190=6,VLOOKUP(U190,判定式!$C$15:I$19,7,TRUE),IF(C190=7,VLOOKUP(U190,判定式!$D$15:I$19,6,TRUE),IF(C190=8,VLOOKUP(U190,判定式!$E$15:I$19,5,TRUE),IF(C190=9,VLOOKUP(U190,判定式!$F$15:I$19,4,TRUE),IF(C190=10,VLOOKUP(U190,判定式!$G$15:I$19,3,TRUE),IF(C190=11,VLOOKUP(U190,判定式!$H$15:I$19,2,TRUE))))))))","v":false}]
[42,null,null,"-",null,null,null,null,null,null,null,null,{"$f":"IF($E191=\"\",\"\",VLOOKUP($E191,判定式!$P$3:$W$12,8,TRUE))","v":""},{"$f":"IF($F191=\"\",\"\",VLOOKUP($F191,判定式!$Q$3:$W$12,7,TRUE))","v":""},{"$f":"IF($G191=\"\",\"\",VLOOKUP($G191,判定式!$R$3:$W$12,6,TRUE))","v":""},{"$f":"IF($H191=\"\",\"\",VLOOKUP($H191,判定式!$S$3:$W$12,5,TRUE))","v":""},{"$f":"IF($I191=\"\",\"\",VLOOKUP($I191,判定式!$V$3:$W$12,2,TRUE))","v":""},{"$f":"IF($J191=\"\",\"\",VLOOKUP($J191,判定式!$Y$3:$Z$12,2,TRUE))","v":""},{"$f":"IF($K191=\"\",\"\",VLOOKUP($K191,判定式!$T$3:$W$12,4,TRUE))","v":""},{"$f":"IF($L191=\"\",\"\",VLOOKUP($L191,判定式!$U$3:$W$12,3,TRUE))","v":""},"",{"$f":"IF(ISNUMBER(D191),\"判定外\",IF(C191=6,VLOOKUP(U191,判定式!$C$15:I$19,7,TRUE),IF(C191=7,VLOOKUP(U191,判定式!$D$15:I$19,6,TRUE),IF(C191=8,VLOOKUP(U191,判定式!$E$15:I$19,5,TRUE),IF(C191=9,VLOOKUP(U191,判定式!$F$15:I$19,4,TRUE),IF(C191=10,VLOOKUP(U191,判定式!$G$15:I$19,3,TRUE),IF(C191=11,VLOOKUP(U191,判定式!$H$15:I$19,2,TRUE))))))))","v":false}]
[43,null,null,"-",null,null,null,null,null,null,null,null,{"$f":"IF($E192=\"\",\"\",VLOOKUP($E192,判定式!$P$3:$W$12,8,TRUE))","v":""},{"$f":"IF($F192=\"\",\"\",VLOOKUP($F192,判定式!$Q$3:$W$12,7,TRUE))","v":""},{"$f":"IF($G192=\"\",\"\",VLOOKUP($G192,判定式!$R$3:$W$12,6,TRUE))","v":""},{"$f":"IF($H192=\"\",\"\",VLOOKUP($H192,判定式!$S$3:$W$12,5,TRUE))","v":""},{"$f":"IF($I192=\"\",\"\",VLOOKUP($I192,判定式!$V$3:$W$12,2,TRUE))","v":""},{"$f":"IF($J192=\"\",\"\",VLOOKUP($J192,判定式!$Y$3:$Z$12,2,TRUE))","v":""},{"$f":"IF($K192=\"\",\"\",VLOOKUP($K192,判定式!$T$3:$W$12,4,TRUE))","v":""},{"$f":"IF($L192=\"\",\"\",VLOOKUP($L192,判定式!$U$3:$W$12,3,TRUE))","v":""},"",{"$f":"IF(ISNUMBER(D192),\"判定外\",IF(C192=6,VLOOKUP(U192,判定式!$C$15:I$19,7,TRUE),IF(C192=7,VLOOKUP(U192,判定式!$D$15:I$19,6,TRUE),IF(C192=8,VLOOKUP(U192,判定式!$E$15:I$19,5,TRUE),IF(C192=9,VLOOKUP(U192,判定式!$F$15:I$19,4,TRUE),IF(C192=10,VLOOKUP(U192,判定式!$G$15:I$19,3,TRUE),IF(C192=11,VLOOKUP(U192,判定式!$H$15:I$19,2,TRUE))))))))","v":false}]
[44,null,null,"-",null,null,null,null,null,null,null,null,{"$f":"IF($E193=\"\",\"\",VLOOKUP($E193,判定式!$P$3:$W$12,8,TRUE))","v":""},{"$f":"IF($F193=\"\",\"\",VLOOKUP($F193,判定式!$Q$3:$W$12,7,TRUE))","v":""},{"$f":"IF($G193=\"\",\"\",VLOOKUP($G193,判定式!$R$3:$W$12,6,TRUE))","v":""},{"$f":"IF($H193=\"\",\"\",VLOOKUP($H193,判定式!$S$3:$W$12,5,TRUE))","v":""},{"$f":"IF($I193=\"\",\"\",VLOOKUP($I193,判定式!$V$3:$W$12,2,TRUE))","v":""},{"$f":"IF($J193=\"\",\"\",VLOOKUP($J193,判定式!$Y$3:$Z$12,2,TRUE))","v":""},{"$f":"IF($K193=\"\",\"\",VLOOKUP($K193,判定式!$T$3:$W$12,4,TRUE))","v":""},{"$f":"IF($L193=\"\",\"\",VLOOKUP($L193,判定式!$U$3:$W$12,3,TRUE))","v":""},"",{"$f":"IF(ISNUMBER(D193),\"判定外\",IF(C193=6,VLOOKUP(U193,判定式!$C$15:I$19,7,TRUE),IF(C193=7,VLOOKUP(U193,判定式!$D$15:I$19,6,TRUE),IF(C193=8,VLOOKUP(U193,判定式!$E$15:I$19,5,TRUE),IF(C193=9,VLOOKUP(U193,判定式!$F$15:I$19,4,TRUE),IF(C193=10,VLOOKUP(U193,判定式!$G$15:I$19,3,TRUE),IF(C193=11,VLOOKUP(U193,判定式!$H$15:I$19,2,TRUE))))))))","v":false}]
[45,null,null,"-",null,null,null,null,null,null,null,null,{"$f":"IF($E194=\"\",\"\",VLOOKUP($E194,判定式!$P$3:$W$12,8,TRUE))","v":""},{"$f":"IF($F194=\"\",\"\",VLOOKUP($F194,判定式!$Q$3:$W$12,7,TRUE))","v":""},{"$f":"IF($G194=\"\",\"\",VLOOKUP($G194,判定式!$R$3:$W$12,6,TRUE))","v":""},{"$f":"IF($H194=\"\",\"\",VLOOKUP($H194,判定式!$S$3:$W$12,5,TRUE))","v":""},{"$f":"IF($I194=\"\",\"\",VLOOKUP($I194,判定式!$V$3:$W$12,2,TRUE))","v":""},{"$f":"IF($J194=\"\",\"\",VLOOKUP($J194,判定式!$Y$3:$Z$12,2,TRUE))","v":""},{"$f":"IF($K194=\"\",\"\",VLOOKUP($K194,判定式!$T$3:$W$12,4,TRUE))","v":""},{"$f":"IF($L194=\"\",\"\",VLOOKUP($L194,判定式!$U$3:$W$12,3,TRUE))","v":""},"",{"$f":"IF(ISNUMBER(D194),\"判定外\",IF(C194=6,VLOOKUP(U194,判定式!$C$15:I$19,7,TRUE),IF(C194=7,VLOOKUP(U194,判定式!$D$15:I$19,6,TRUE),IF(C194=8,VLOOKUP(U194,判定式!$E$15:I$19,5,TRUE),IF(C194=9,VLOOKUP(U194,判定式!$F$15:I$19,4,TRUE),IF(C194=10,VLOOKUP(U194,判定式!$G$15:I$19,3,TRUE),IF(C194=11,VLOOKUP(U194,判定式!$H$15:I$19,2,TRUE))))))))","v":false}]
[46,null,null,"-",null,null,null,null,null,null,null,null,{"$f":"IF($E195=\"\",\"\",VLOOKUP($E195,判定式!$P$3:$W$12,8,TRUE))","v":""},{"$f":"IF($F195=\"\",\"\",VLOOKUP($F195,判定式!$Q$3:$W$12,7,TRUE))","v":""},{"$f":"IF($G195=\"\",\"\",VLOOKUP($G195,判定式!$R$3:$W$12,6,TRUE))","v":""},{"$f":"IF($H195=\"\",\"\",VLOOKUP($H195,判定式!$S$3:$W$12,5,TRUE))","v":""},{"$f":"IF($I195=\"\",\"\",VLOOKUP($I195,判定式!$V$3:$W$12,2,TRUE))","v":""},{"$f":"IF($J195=\"\",\"\",VLOOKUP($J195,判定式!$Y$3:$Z$12,2,TRUE))","v":""},{"$f":"IF($K195=\"\",\"\",VLOOKUP($K195,判定式!$T$3:$W$12,4,TRUE))","v":""},{"$f":"IF($L195=\"\",\"\",VLOOKUP($L195,判定式!$U$3:$W$12,3,TRUE))","v":""},"",{"$f":"IF(ISNUMBER(D195),\"判定外\",IF(C195=6,VLOOKUP(U195,判定式!$C$15:I$19,7,TRUE),IF(C195=7,VLOOKUP(U195,判定式!$D$15:I$19,6,TRUE),IF(C195=8,VLOOKUP(U195,判定式!$E$15:I$19,5,TRUE),IF(C195=9,VLOOKUP(U195,判定式!$F$15:I$19,4,TRUE),IF(C195=10,VLOOKUP(U195,判定式!$G$15:I$19,3,TRUE),IF(C195=11,VLOOKUP(U195,判定式!$H$15:I$19,2,TRUE))))))))","v":false}]
[47,null,null,"-",null,null,null,null,null,null,null,null,{"$f":"IF($E196=\"\",\"\",VLOOKUP($E196,判定式!$P$3:$W$12,8,TRUE))","v":""},{"$f":"IF($F196=\"\",\"\",VLOOKUP($F196,判定式!$Q$3:$W$12,7,TRUE))","v":""},{"$f":"IF($G196=\"\",\"\",VLOOKUP($G196,判定式!$R$3:$W$12,6,TRUE))","v":""},{"$f":"IF($H196=\"\",\"\",VLOOKUP($H196,判定式!$S$3:$W$12,5,TRUE))","v":""},{"$f":"IF($I196=\"\",\"\",VLOOKUP($I196,判定式!$V$3:$W$12,2,TRUE))","v":""},{"$f":"IF($J196=\"\",\"\",VLOOKUP($J196,判定式!$Y$3:$Z$12,2,TRUE))","v":""},{"$f":"IF($K196=\"\",\"\",VLOOKUP($K196,判定式!$T$3:$W$12,4,TRUE))","v":""},{"$f":"IF($L196=\"\",\"\",VLOOKUP($L196,判定式!$U$3:$W$12,3,TRUE))","v":""},"",{"$f":"IF(ISNUMBER(D196),\"判定外\",IF(C196=6,VLOOKUP(U196,判定式!$C$15:I$19,7,TRUE),IF(C196=7,VLOOKUP(U196,判定式!$D$15:I$19,6,TRUE),IF(C196=8,VLOOKUP(U196,判定式!$E$15:I$19,5,TRUE),IF(C196=9,VLOOKUP(U196,判定式!$F$15:I$19,4,TRUE),IF(C196=10,VLOOKUP(U196,判定式!$G$15:I$19,3,TRUE),IF(C196=11,VLOOKUP(U196,判定式!$H$15:I$19,2,TRUE))))))))","v":false}]
[48,null,null,"-",null,null,null,null,null,null,null,null,{"$f":"IF($E197=\"\",\"\",VLOOKUP($E197,判定式!$P$3:$W$12,8,TRUE))","v":""},{"$f":"IF($F197=\"\",\"\",VLOOKUP($F197,判定式!$Q$3:$W$12,7,TRUE))","v":""},{"$f":"IF($G197=\"\",\"\",VLOOKUP($G197,判定式!$R$3:$W$12,6,TRUE))","v":""},{"$f":"IF($H197=\"\",\"\",VLOOKUP($H197,判定式!$S$3:$W$12,5,TRUE))","v":""},{"$f":"IF($I197=\"\",\"\",VLOOKUP($I197,判定式!$V$3:$W$12,2,TRUE))","v":""},{"$f":"IF($J197=\"\",\"\",VLOOKUP($J197,判定式!$Y$3:$Z$12,2,TRUE))","v":""},{"$f":"IF($K197=\"\",\"\",VLOOKUP($K197,判定式!$T$3:$W$12,4,TRUE))","v":""},{"$f":"IF($L197=\"\",\"\",VLOOKUP($L197,判定式!$U$3:$W$12,3,TRUE))","v":""},"",{"$f":"IF(ISNUMBER(D197),\"判定外\",IF(C197=6,VLOOKUP(U197,判定式!$C$15:I$19,7,TRUE),IF(C197=7,VLOOKUP(U197,判定式!$D$15:I$19,6,TRUE),IF(C197=8,VLOOKUP(U197,判定式!$E$15:I$19,5,TRUE),IF(C197=9,VLOOKUP(U197,判定式!$F$15:I$19,4,TRUE),IF(C197=10,VLOOKUP(U197,判定式!$G$15:I$19,3,TRUE),IF(C197=11,VLOOKUP(U197,判定式!$H$15:I$19,2,TRUE))))))))","v":false}]
[49,null,null,"-",null,null,null,null,null,null,null,null,{"$f":"IF($E198=\"\",\"\",VLOOKUP($E198,判定式!$P$3:$W$12,8,TRUE))","v":""},{"$f":"IF($F198=\"\",\"\",VLOOKUP($F198,判定式!$Q$3:$W$12,7,TRUE))","v":""},{"$f":"IF($G198=\"\",\"\",VLOOKUP($G198,判定式!$R$3:$W$12,6,TRUE))","v":""},{"$f":"IF($H198=\"\",\"\",VLOOKUP($H198,判定式!$S$3:$W$12,5,TRUE))","v":""},{"$f":"IF($I198=\"\",\"\",VLOOKUP($I198,判定式!$V$3:$W$12,2,TRUE))","v":""},{"$f":"IF($J198=\"\",\"\",VLOOKUP($J198,判定式!$Y$3:$Z$12,2,TRUE))","v":""},{"$f":"IF($K198=\"\",\"\",VLOOKUP($K198,判定式!$T$3:$W$12,4,TRUE))","v":""},{"$f":"IF($L198=\"\",\"\",VLOOKUP($L198,判定式!$U$3:$W$12,3,TRUE))","v":""},"",{"$f":"IF(ISNUMBER(D198),\"判定外\",IF(C198=6,VLOOKUP(U198,判定式!$C$15:I$19,7,TRUE),IF(C198=7,VLOOKUP(U198,判定式!$D$15:I$19,6,TRUE),IF(C198=8,VLOOKUP(U198,判定式!$E$15:I$19,5,TRUE),IF(C198=9,VLOOKUP(U198,判定式!$F$15:I$19,4,TRUE),IF(C198=10,VLOOKUP(U198,判定式!$G$15:I$19,3,TRUE),IF(C198=11,VLOOKUP(U198,判定式!$H$15:I$19,2,TRUE))))))))","v":false}]
[50,null,null,"-",null,null,null,null,null,null,null,null,{"$f":"IF($E199=\"\",\"\",VLOOKUP($E199,判定式!$P$3:$W$12,8,TRUE))","v":""},{"$f":"IF($F199=\"\",\"\",VLOOKUP($F199,判定式!$Q$3:$W$12,7,TRUE))","v":""},{"$f":"IF($G199=\"\",\"\",VLOOKUP($G199,判定式!$R$3:$W$12,6,TRUE))","v":""},{"$f":"IF($H199=\"\",\"\",VLOOKUP($H199,判定式!$S$3:$W$12,5,TRUE))","v":""},{"$f":"IF($I199=\"\",\"\",VLOOKUP($I199,判定式!$V$3:$W$12,2,TRUE))","v":""},{"$f":"IF($J199=\"\",\"\",VLOOKUP($J199,判定式!$Y$3:$Z$12,2,TRUE))","v":""},{"$f":"IF($K199=\"\",\"\",VLOOKUP($K199,判定式!$T$3:$W$12,4,TRUE))","v":""},{"$f":"IF($L199=\"\",\"\",VLOOKUP($L199,判定式!$U$3:$W$12,3,TRUE))","v":""},"",{"$f":"IF(ISNUMBER(D199),\"判定外\",IF(C199=6,VLOOKUP(U199,判定式!$C$15:I$19,7,TRUE),IF(C199=7,VLOOKUP(U199,判定式!$D$15:I$19,6,TRUE),IF(C199=8,VLOOKUP(U199,判定式!$E$15:I$19,5,TRUE),IF(C199=9,VLOOKUP(U199,判定式!$F$15:I$19,4,TRUE),IF(C199=10,VLOOKUP(U199,判定式!$G$15:I$19,3,TRUE),IF(C199=11,VLOOKUP(U199,判定式!$H$15:I$19,2,TRUE))))))))","v":false}]
[51,null,null,"-",null,null,null,null,null,null,null,null,{"$f":"IF($E200=\"\",\"\",VLOOKUP($E200,判定式!$P$3:$W$12,8,TRUE))","v":""},{"$f":"IF($F200=\"\",\"\",VLOOKUP($F200,判定式!$Q$3:$W$12,7,TRUE))","v":""},{"$f":"IF($G200=\"\",\"\",VLOOKUP($G200,判定式!$R$3:$W$12,6,TRUE))","v":""},{"$f":"IF($H200=\"\",\"\",VLOOKUP($H200,判定式!$S$3:$W$12,5,TRUE))","v":""},{"$f":"IF($I200=\"\",\"\",VLOOKUP($I200,判定式!$V$3:$W$12,2,TRUE))","v":""},{"$f":"IF($J200=\"\",\"\",VLOOKUP($J200,判定式!$Y$3:$Z$12,2,TRUE))","v":""},{"$f":"IF($K200=\"\",\"\",VLOOKUP($K200,判定式!$T$3:$W$12,4,TRUE))","v":""},{"$f":"IF($L200=\"\",\"\",VLOOKUP($L200,判定式!$U$3:$W$12,3,TRUE))","v":""},"",{"$f":"IF(ISNUMBER(D200),\"判定外\",IF(C200=6,VLOOKUP(U200,判定式!$C$15:I$19,7,TRUE),IF(C200=7,VLOOKUP(U200,判定式!$D$15:I$19,6,TRUE),IF(C200=8,VLOOKUP(U200,判定式!$E$15:I$19,5,TRUE),IF(C200=9,VLOOKUP(U200,判定式!$F$15:I$19,4,TRUE),IF(C200=10,VLOOKUP(U200,判定式!$G$15:I$19,3,TRUE),IF(C200=11,VLOOKUP(U200,判定式!$H$15:I$19,2,TRUE))))))))","v":false}]
[52,null,null,"-",null,null,null,null,null,null,null,null,{"$f":"IF($E201=\"\",\"\",VLOOKUP($E201,判定式!$P$3:$W$12,8,TRUE))","v":""},{"$f":"IF($F201=\"\",\"\",VLOOKUP($F201,判定式!$Q$3:$W$12,7,TRUE))","v":""},{"$f":"IF($G201=\"\",\"\",VLOOKUP($G201,判定式!$R$3:$W$12,6,TRUE))","v":""},{"$f":"IF($H201=\"\",\"\",VLOOKUP($H201,判定式!$S$3:$W$12,5,TRUE))","v":""},{"$f":"IF($I201=\"\",\"\",VLOOKUP($I201,判定式!$V$3:$W$12,2,TRUE))","v":""},{"$f":"IF($J201=\"\",\"\",VLOOKUP($J201,判定式!$Y$3:$Z$12,2,TRUE))","v":""},{"$f":"IF($K201=\"\",\"\",VLOOKUP($K201,判定式!$T$3:$W$12,4,TRUE))","v":""},{"$f":"IF($L201=\"\",\"\",VLOOKUP($L201,判定式!$U$3:$W$12,3,TRUE))","v":""},"",{"$f":"IF(ISNUMBER(D201),\"判定外\",IF(C201=6,VLOOKUP(U201,判定式!$C$15:I$19,7,TRUE),IF(C201=7,VLOOKUP(U201,判定式!$D$15:I$19,6,TRUE),IF(C201=8,VLOOKUP(U201,判定式!$E$15:I$19,5,TRUE),IF(C201=9,VLOOKUP(U201,判定式!$F$15:I$19,4,TRUE),IF(C201=10,VLOOKUP(U201,判定式!$G$15:I$19,3,TRUE),IF(C201=11,VLOOKUP(U201,判定式!$H$15:I$19,2,TRUE))))))))","v":false}]
[53,null,null,"-",null,null,null,null,null,null,null,null,{"$f":"IF($E202=\"\",\"\",VLOOKUP($E202,判定式!$P$3:$W$12,8,TRUE))","v":""},{"$f":"IF($F202=\"\",\"\",VLOOKUP($F202,判定式!$Q$3:$W$12,7,TRUE))","v":""},{"$f":"IF($G202=\"\",\"\",VLOOKUP($G202,判定式!$R$3:$W$12,6,TRUE))","v":""},{"$f":"IF($H202=\"\",\"\",VLOOKUP($H202,判定式!$S$3:$W$12,5,TRUE))","v":""},{"$f":"IF($I202=\"\",\"\",VLOOKUP($I202,判定式!$V$3:$W$12,2,TRUE))","v":""},{"$f":"IF($J202=\"\",\"\",VLOOKUP($J202,判定式!$Y$3:$Z$12,2,TRUE))","v":""},{"$f":"IF($K202=\"\",\"\",VLOOKUP($K202,判定式!$T$3:$W$12,4,TRUE))","v":""},{"$f":"IF($L202=\"\",\"\",VLOOKUP($L202,判定式!$U$3:$W$12,3,TRUE))","v":""},"",{"$f":"IF(ISNUMBER(D202),\"判定外\",IF(C202=6,VLOOKUP(U202,判定式!$C$15:I$19,7,TRUE),IF(C202=7,VLOOKUP(U202,判定式!$D$15:I$19,6,TRUE),IF(C202=8,VLOOKUP(U202,判定式!$E$15:I$19,5,TRUE),IF(C202=9,VLOOKUP(U202,判定式!$F$15:I$19,4,TRUE),IF(C202=10,VLOOKUP(U202,判定式!$G$15:I$19,3,TRUE),IF(C202=11,VLOOKUP(U202,判定式!$H$15:I$19,2,TRUE))))))))","v":false}]
[54,null,null,"-",null,null,null,null,null,null,null,null,{"$f":"IF($E203=\"\",\"\",VLOOKUP($E203,判定式!$P$3:$W$12,8,TRUE))","v":""},{"$f":"IF($F203=\"\",\"\",VLOOKUP($F203,判定式!$Q$3:$W$12,7,TRUE))","v":""},{"$f":"IF($G203=\"\",\"\",VLOOKUP($G203,判定式!$R$3:$W$12,6,TRUE))","v":""},{"$f":"IF($H203=\"\",\"\",VLOOKUP($H203,判定式!$S$3:$W$12,5,TRUE))","v":""},{"$f":"IF($I203=\"\",\"\",VLOOKUP($I203,判定式!$V$3:$W$12,2,TRUE))","v":""},{"$f":"IF($J203=\"\",\"\",VLOOKUP($J203,判定式!$Y$3:$Z$12,2,TRUE))","v":""},{"$f":"IF($K203=\"\",\"\",VLOOKUP($K203,判定式!$T$3:$W$12,4,TRUE))","v":""},{"$f":"IF($L203=\"\",\"\",VLOOKUP($L203,判定式!$U$3:$W$12,3,TRUE))","v":""},"",{"$f":"IF(ISNUMBER(D203),\"判定外\",IF(C203=6,VLOOKUP(U203,判定式!$C$15:I$19,7,TRUE),IF(C203=7,VLOOKUP(U203,判定式!$D$15:I$19,6,TRUE),IF(C203=8,VLOOKUP(U203,判定式!$E$15:I$19,5,TRUE),IF(C203=9,VLOOKUP(U203,判定式!$F$15:I$19,4,TRUE),IF(C203=10,VLOOKUP(U203,判定式!$G$15:I$19,3,TRUE),IF(C203=11,VLOOKUP(U203,判定式!$H$15:I$19,2,TRUE))))))))","v":false}]
[55,null,null,"-",null,null,null,null,null,null,null,null,{"$f":"IF($E204=\"\",\"\",VLOOKUP($E204,判定式!$P$3:$W$12,8,TRUE))","v":""},{"$f":"IF($F204=\"\",\"\",VLOOKUP($F204,判定式!$Q$3:$W$12,7,TRUE))","v":""},{"$f":"IF($G204=\"\",\"\",VLOOKUP($G204,判定式!$R$3:$W$12,6,TRUE))","v":""},{"$f":"IF($H204=\"\",\"\",VLOOKUP($H204,判定式!$S$3:$W$12,5,TRUE))","v":""},{"$f":"IF($I204=\"\",\"\",VLOOKUP($I204,判定式!$V$3:$W$12,2,TRUE))","v":""},{"$f":"IF($J204=\"\",\"\",VLOOKUP($J204,判定式!$Y$3:$Z$12,2,TRUE))","v":""},{"$f":"IF($K204=\"\",\"\",VLOOKUP($K204,判定式!$T$3:$W$12,4,TRUE))","v":""},{"$f":"IF($L204=\"\",\"\",VLOOKUP($L204,判定式!$U$3:$W$12,3,TRUE))","v":""},"",{"$f":"IF(ISNUMBER(D204),\"判定外\",IF(C204=6,VLOOKUP(U204,判定式!$C$15:I$19,7,TRUE),IF(C204=7,VLOOKUP(U204,判定式!$D$15:I$19,6,TRUE),IF(C204=8,VLOOKUP(U204,判定式!$E$15:I$19,5,TRUE),IF(C204=9,VLOOKUP(U204,判定式!$F$15:I$19,4,TRUE),IF(C204=10,VLOOKUP(U204,判定式!$G$15:I$19,3,TRUE),IF(C204=11,VLOOKUP(U204,判定式!$H$15:I$19,2,TRUE))))))))","v":false}]
[56,null,null,"-",null,null,null,null,null,null,null,null,{"$f":"IF($E205=\"\",\"\",VLOOKUP($E205,判定式!$P$3:$W$12,8,TRUE))","v":""},{"$f":"IF($F205=\"\",\"\",VLOOKUP($F205,判定式!$Q$3:$W$12,7,TRUE))","v":""},{"$f":"IF($G205=\"\",\"\",VLOOKUP($G205,判定式!$R$3:$W$12,6,TRUE))","v":""},{"$f":"IF($H205=\"\",\"\",VLOOKUP($H205,判定式!$S$3:$W$12,5,TRUE))","v":""},{"$f":"IF($I205=\"\",\"\",VLOOKUP($I205,判定式!$V$3:$W$12,2,TRUE))","v":""},{"$f":"IF($J205=\"\",\"\",VLOOKUP($J205,判定式!$Y$3:$Z$12,2,TRUE))","v":""},{"$f":"IF($K205=\"\",\"\",VLOOKUP($K205,判定式!$T$3:$W$12,4,TRUE))","v":""},{"$f":"IF($L205=\"\",\"\",VLOOKUP($L205,判定式!$U$3:$W$12,3,TRUE))","v":""},"",{"$f":"IF(ISNUMBER(D205),\"判定外\",IF(C205=6,VLOOKUP(U205,判定式!$C$15:I$19,7,TRUE),IF(C205=7,VLOOKUP(U205,判定式!$D$15:I$19,6,TRUE),IF(C205=8,VLOOKUP(U205,判定式!$E$15:I$19,5,TRUE),IF(C205=9,VLOOKUP(U205,判定式!$F$15:I$19,4,TRUE),IF(C205=10,VLOOKUP(U205,判定式!$G$15:I$19,3,TRUE),IF(C205=11,VLOOKUP(U205,判定式!$H$15:I$19,2,TRUE))))))))","v":false}]
[57,null,null,"-",null,null,null,null,null,null,null,null,{"$f":"IF($E206=\"\",\"\",VLOOKUP($E206,判定式!$P$3:$W$12,8,TRUE))","v":""},{"$f":"IF($F206=\"\",\"\",VLOOKUP($F206,判定式!$Q$3:$W$12,7,TRUE))","v":""},{"$f":"IF($G206=\"\",\"\",VLOOKUP($G206,判定式!$R$3:$W$12,6,TRUE))","v":""},{"$f":"IF($H206=\"\",\"\",VLOOKUP($H206,判定式!$S$3:$W$12,5,TRUE))","v":""},{"$f":"IF($I206=\"\",\"\",VLOOKUP($I206,判定式!$V$3:$W$12,2,TRUE))","v":""},{"$f":"IF($J206=\"\",\"\",VLOOKUP($J206,判定式!$Y$3:$Z$12,2,TRUE))","v":""},{"$f":"IF($K206=\"\",\"\",VLOOKUP($K206,判定式!$T$3:$W$12,4,TRUE))","v":""},{"$f":"IF($L206=\"\",\"\",VLOOKUP($L206,判定式!$U$3:$W$12,3,TRUE))","v":""},"",{"$f":"IF(ISNUMBER(D206),\"判定外\",IF(C206=6,VLOOKUP(U206,判定式!$C$15:I$19,7,TRUE),IF(C206=7,VLOOKUP(U206,判定式!$D$15:I$19,6,TRUE),IF(C206=8,VLOOKUP(U206,判定式!$E$15:I$19,5,TRUE),IF(C206=9,VLOOKUP(U206,判定式!$F$15:I$19,4,TRUE),IF(C206=10,VLOOKUP(U206,判定式!$G$15:I$19,3,TRUE),IF(C206=11,VLOOKUP(U206,判定式!$H$15:I$19,2,TRUE))))))))","v":false}]
[58,null,null,"-",null,null,null,null,null,null,null,null,{"$f":"IF($E207=\"\",\"\",VLOOKUP($E207,判定式!$P$3:$W$12,8,TRUE))","v":""},{"$f":"IF($F207=\"\",\"\",VLOOKUP($F207,判定式!$Q$3:$W$12,7,TRUE))","v":""},{"$f":"IF($G207=\"\",\"\",VLOOKUP($G207,判定式!$R$3:$W$12,6,TRUE))","v":""},{"$f":"IF($H207=\"\",\"\",VLOOKUP($H207,判定式!$S$3:$W$12,5,TRUE))","v":""},{"$f":"IF($I207=\"\",\"\",VLOOKUP($I207,判定式!$V$3:$W$12,2,TRUE))","v":""},{"$f":"IF($J207=\"\",\"\",VLOOKUP($J207,判定式!$Y$3:$Z$12,2,TRUE))","v":""},{"$f":"IF($K207=\"\",\"\",VLOOKUP($K207,判定式!$T$3:$W$12,4,TRUE))","v":""},{"$f":"IF($L207=\"\",\"\",VLOOKUP($L207,判定式!$U$3:$W$12,3,TRUE))","v":""},"",{"$f":"IF(ISNUMBER(D207),\"判定外\",IF(C207=6,VLOOKUP(U207,判定式!$C$15:I$19,7,TRUE),IF(C207=7,VLOOKUP(U207,判定式!$D$15:I$19,6,TRUE),IF(C207=8,VLOOKUP(U207,判定式!$E$15:I$19,5,TRUE),IF(C207=9,VLOOKUP(U207,判定式!$F$15:I$19,4,TRUE),IF(C207=10,VLOOKUP(U207,判定式!$G$15:I$19,3,TRUE),IF(C207=11,VLOOKUP(U207,判定式!$H$15:I$19,2,TRUE))))))))","v":false}]
[59,null,null,"-",null,null,null,null,null,null,null,null,{"$f":"IF($E208=\"\",\"\",VLOOKUP($E208,判定式!$P$3:$W$12,8,TRUE))","v":""},{"$f":"IF($F208=\"\",\"\",VLOOKUP($F208,判定式!$Q$3:$W$12,7,TRUE))","v":""},{"$f":"IF($G208=\"\",\"\",VLOOKUP($G208,判定式!$R$3:$W$12,6,TRUE))","v":""},{"$f":"IF($H208=\"\",\"\",VLOOKUP($H208,判定式!$S$3:$W$12,5,TRUE))","v":""},{"$f":"IF($I208=\"\",\"\",VLOOKUP($I208,判定式!$V$3:$W$12,2,TRUE))","v":""},{"$f":"IF($J208=\"\",\"\",VLOOKUP($J208,判定式!$Y$3:$Z$12,2,TRUE))","v":""},{"$f":"IF($K208=\"\",\"\",VLOOKUP($K208,判定式!$T$3:$W$12,4,TRUE))","v":""},{"$f":"IF($L208=\"\",\"\",VLOOKUP($L208,判定式!$U$3:$W$12,3,TRUE))","v":""},"",{"$f":"IF(ISNUMBER(D208),\"判定外\",IF(C208=6,VLOOKUP(U208,判定式!$C$15:I$19,7,TRUE),IF(C208=7,VLOOKUP(U208,判定式!$D$15:I$19,6,TRUE),IF(C208=8,VLOOKUP(U208,判定式!$E$15:I$19,5,TRUE),IF(C208=9,VLOOKUP(U208,判定式!$F$15:I$19,4,TRUE),IF(C208=10,VLOOKUP(U208,判定式!$G$15:I$19,3,TRUE),IF(C208=11,VLOOKUP(U208,判定式!$H$15:I$19,2,TRUE))))))))","v":false}]
[60,null,null,"-",null,null,null,null,null,null,null,null,{"$f":"IF($E209=\"\",\"\",VLOOKUP($E209,判定式!$P$3:$W$12,8,TRUE))","v":""},{"$f":"IF($F209=\"\",\"\",VLOOKUP($F209,判定式!$Q$3:$W$12,7,TRUE))","v":""},{"$f":"IF($G209=\"\",\"\",VLOOKUP($G209,判定式!$R$3:$W$12,6,TRUE))","v":""},{"$f":"IF($H209=\"\",\"\",VLOOKUP($H209,判定式!$S$3:$W$12,5,TRUE))","v":""},{"$f":"IF($I209=\"\",\"\",VLOOKUP($I209,判定式!$V$3:$W$12,2,TRUE))","v":""},{"$f":"IF($J209=\"\",\"\",VLOOKUP($J209,判定式!$Y$3:$Z$12,2,TRUE))","v":""},{"$f":"IF($K209=\"\",\"\",VLOOKUP($K209,判定式!$T$3:$W$12,4,TRUE))","v":""},{"$f":"IF($L209=\"\",\"\",VLOOKUP($L209,判定式!$U$3:$W$12,3,TRUE))","v":""},"",{"$f":"IF(ISNUMBER(D209),\"判定外\",IF(C209=6,VLOOKUP(U209,判定式!$C$15:I$19,7,TRUE),IF(C209=7,VLOOKUP(U209,判定式!$D$15:I$19,6,TRUE),IF(C209=8,VLOOKUP(U209,判定式!$E$15:I$19,5,TRUE),IF(C209=9,VLOOKUP(U209,判定式!$F$15:I$19,4,TRUE),IF(C209=10,VLOOKUP(U209,判定式!$G$15:I$19,3,TRUE),IF(C209=11,VLOOKUP(U209,判定式!$H$15:I$19,2,TRUE))))))))","v":false}]
[61,null,null,"-",null,null,null,null,null,null,null,null,{"$f":"IF($E210=\"\",\"\",VLOOKUP($E210,判定式!$P$3:$W$12,8,TRUE))","v":""},{"$f":"IF($F210=\"\",\"\",VLOOKUP($F210,判定式!$Q$3:$W$12,7,TRUE))","v":""},{"$f":"IF($G210=\"\",\"\",VLOOKUP($G210,判定式!$R$3:$W$12,6,TRUE))","v":""},{"$f":"IF($H210=\"\",\"\",VLOOKUP($H210,判定式!$S$3:$W$12,5,TRUE))","v":""},{"$f":"IF($I210=\"\",\"\",VLOOKUP($I210,判定式!$V$3:$W$12,2,TRUE))","v":""},{"$f":"IF($J210=\"\",\"\",VLOOKUP($J210,判定式!$Y$3:$Z$12,2,TRUE))","v":""},{"$f":"IF($K210=\"\",\"\",VLOOKUP($K210,判定式!$T$3:$W$12,4,TRUE))","v":""},{"$f":"IF($L210=\"\",\"\",VLOOKUP($L210,判定式!$U$3:$W$12,3,TRUE))","v":""},"",{"$f":"IF(ISNUMBER(D210),\"判定外\",IF(C210=6,VLOOKUP(U210,判定式!$C$15:I$19,7,TRUE),IF(C210=7,VLOOKUP(U210,判定式!$D$15:I$19,6,TRUE),IF(C210=8,VLOOKUP(U210,判定式!$E$15:I$19,5,TRUE),IF(C210=9,VLOOKUP(U210,判定式!$F$15:I$19,4,TRUE),IF(C210=10,VLOOKUP(U210,判定式!$G$15:I$19,3,TRUE),IF(C210=11,VLOOKUP(U210,判定式!$H$15:I$19,2,TRUE))))))))","v":false}]
[62,null,null,"-",null,null,null,null,null,null,null,null,{"$f":"IF($E211=\"\",\"\",VLOOKUP($E211,判定式!$P$3:$W$12,8,TRUE))","v":""},{"$f":"IF($F211=\"\",\"\",VLOOKUP($F211,判定式!$Q$3:$W$12,7,TRUE))","v":""},{"$f":"IF($G211=\"\",\"\",VLOOKUP($G211,判定式!$R$3:$W$12,6,TRUE))","v":""},{"$f":"IF($H211=\"\",\"\",VLOOKUP($H211,判定式!$S$3:$W$12,5,TRUE))","v":""},{"$f":"IF($I211=\"\",\"\",VLOOKUP($I211,判定式!$V$3:$W$12,2,TRUE))","v":""},{"$f":"IF($J211=\"\",\"\",VLOOKUP($J211,判定式!$Y$3:$Z$12,2,TRUE))","v":""},{"$f":"IF($K211=\"\",\"\",VLOOKUP($K211,判定式!$T$3:$W$12,4,TRUE))","v":""},{"$f":"IF($L211=\"\",\"\",VLOOKUP($L211,判定式!$U$3:$W$12,3,TRUE))","v":""},"",{"$f":"IF(ISNUMBER(D211),\"判定外\",IF(C211=6,VLOOKUP(U211,判定式!$C$15:I$19,7,TRUE),IF(C211=7,VLOOKUP(U211,判定式!$D$15:I$19,6,TRUE),IF(C211=8,VLOOKUP(U211,判定式!$E$15:I$19,5,TRUE),IF(C211=9,VLOOKUP(U211,判定式!$F$15:I$19,4,TRUE),IF(C211=10,VLOOKUP(U211,判定式!$G$15:I$19,3,TRUE),IF(C211=11,VLOOKUP(U211,判定式!$H$15:I$19,2,TRUE))))))))","v":false}]
[63,null,null,"-",null,null,null,null,null,null,null,null,{"$f":"IF($E212=\"\",\"\",VLOOKUP($E212,判定式!$P$3:$W$12,8,TRUE))","v":""},{"$f":"IF($F212=\"\",\"\",VLOOKUP($F212,判定式!$Q$3:$W$12,7,TRUE))","v":""},{"$f":"IF($G212=\"\",\"\",VLOOKUP($G212,判定式!$R$3:$W$12,6,TRUE))","v":""},{"$f":"IF($H212=\"\",\"\",VLOOKUP($H212,判定式!$S$3:$W$12,5,TRUE))","v":""},{"$f":"IF($I212=\"\",\"\",VLOOKUP($I212,判定式!$V$3:$W$12,2,TRUE))","v":""},{"$f":"IF($J212=\"\",\"\",VLOOKUP($J212,判定式!$Y$3:$Z$12,2,TRUE))","v":""},{"$f":"IF($K212=\"\",\"\",VLOOKUP($K212,判定式!$T$3:$W$12,4,TRUE))","v":""},{"$f":"IF($L212=\"\",\"\",VLOOKUP($L212,判定式!$U$3:$W$12,3,TRUE))","v":""},"",{"$f":"IF(ISNUMBER(D212),\"判定外\",IF(C212=6,VLOOKUP(U212,判定式!$C$15:I$19,7,TRUE),IF(C212=7,VLOOKUP(U212,判定式!$D$15:I$19,6,TRUE),IF(C212=8,VLOOKUP(U212,判定式!$E$15:I$19,5,TRUE),IF(C212=9,VLOOKUP(U212,判定式!$F$15:I$19,4,TRUE),IF(C212=10,VLOOKUP(U212,判定式!$G$15:I$19,3,TRUE),IF(C212=11,VLOOKUP(U212,判定式!$H$15:I$19,2,TRUE))))))))","v":false}]
[64,null,null,"-",null,null,null,null,null,null,null,null,{"$f":"IF($E213=\"\",\"\",VLOOKUP($E213,判定式!$P$3:$W$12,8,TRUE))","v":""},{"$f":"IF($F213=\"\",\"\",VLOOKUP($F213,判定式!$Q$3:$W$12,7,TRUE))","v":""},{"$f":"IF($G213=\"\",\"\",VLOOKUP($G213,判定式!$R$3:$W$12,6,TRUE))","v":""},{"$f":"IF($H213=\"\",\"\",VLOOKUP($H213,判定式!$S$3:$W$12,5,TRUE))","v":""},{"$f":"IF($I213=\"\",\"\",VLOOKUP($I213,判定式!$V$3:$W$12,2,TRUE))","v":""},{"$f":"IF($J213=\"\",\"\",VLOOKUP($J213,判定式!$Y$3:$Z$12,2,TRUE))","v":""},{"$f":"IF($K213=\"\",\"\",VLOOKUP($K213,判定式!$T$3:$W$12,4,TRUE))","v":""},{"$f":"IF($L213=\"\",\"\",VLOOKUP($L213,判定式!$U$3:$W$12,3,TRUE))","v":""},"",{"$f":"IF(ISNUMBER(D213),\"判定外\",IF(C213=6,VLOOKUP(U213,判定式!$C$15:I$19,7,TRUE),IF(C213=7,VLOOKUP(U213,判定式!$D$15:I$19,6,TRUE),IF(C213=8,VLOOKUP(U213,判定式!$E$15:I$19,5,TRUE),IF(C213=9,VLOOKUP(U213,判定式!$F$15:I$19,4,TRUE),IF(C213=10,VLOOKUP(U213,判定式!$G$15:I$19,3,TRUE),IF(C213=11,VLOOKUP(U213,判定式!$H$15:I$19,2,TRUE))))))))","v":false}]
[65,null,null,{"$f":"IF(COUNTBLANK(E214:L214)=0,\"\",IF(COUNTBLANK(E214:L214)=8,\"-\",COUNTBLANK(E214:L214)))","v":"-"},null,null,null,null,null,null,null,null,{"$f":"IF($E214=\"\",\"\",VLOOKUP($E214,判定式!$P$3:$W$12,8,TRUE))","v":""},{"$f":"IF($F214=\"\",\"\",VLOOKUP($F214,判定式!$Q$3:$W$12,7,TRUE))","v":""},{"$f":"IF($G214=\"\",\"\",VLOOKUP($G214,判定式!$R$3:$W$12,6,TRUE))","v":""},{"$f":"IF($H214=\"\",\"\",VLOOKUP($H214,判定式!$S$3:$W$12,5,TRUE))","v":""},{"$f":"IF($I214=\"\",\"\",VLOOKUP($I214,判定式!$V$3:$W$12,2,TRUE))","v":""},{"$f":"IF($J214=\"\",\"\",VLOOKUP($J214,判定式!$Y$3:$Z$12,2,TRUE))","v":""},{"$f":"IF($K214=\"\",\"\",VLOOKUP($K214,判定式!$T$3:$W$12,4,TRUE))","v":""},{"$f":"IF($L214=\"\",\"\",VLOOKUP($L214,判定式!$U$3:$W$12,3,TRUE))","v":""},{"$f":"IF(COUNTBLANK(M214:T214)=0,SUM(M214:T214),\"\")","v":""},{"$f":"IF(ISNUMBER(D214),\"判定外\",IF(C214=6,VLOOKUP(U214,判定式!$C$15:I$19,7,TRUE),IF(C214=7,VLOOKUP(U214,判定式!$D$15:I$19,6,TRUE),IF(C214=8,VLOOKUP(U214,判定式!$E$15:I$19,5,TRUE),IF(C214=9,VLOOKUP(U214,判定式!$F$15:I$19,4,TRUE),IF(C214=10,VLOOKUP(U214,判定式!$G$15:I$19,3,TRUE),IF(C214=11,VLOOKUP(U214,判定式!$H$15:I$19,2,TRUE))))))))","v":false}]
[66,null,null,"-",null,null,null,null,null,null,null,null,{"$f":"IF($E215=\"\",\"\",VLOOKUP($E215,判定式!$P$3:$W$12,8,TRUE))","v":""},{"$f":"IF($F215=\"\",\"\",VLOOKUP($F215,判定式!$Q$3:$W$12,7,TRUE))","v":""},{"$f":"IF($G215=\"\",\"\",VLOOKUP($G215,判定式!$R$3:$W$12,6,TRUE))","v":""},{"$f":"IF($H215=\"\",\"\",VLOOKUP($H215,判定式!$S$3:$W$12,5,TRUE))","v":""},{"$f":"IF($I215=\"\",\"\",VLOOKUP($I215,判定式!$V$3:$W$12,2,TRUE))","v":""},{"$f":"IF($J215=\"\",\"\",VLOOKUP($J215,判定式!$Y$3:$Z$12,2,TRUE))","v":""},{"$f":"IF($K215=\"\",\"\",VLOOKUP($K215,判定式!$T$3:$W$12,4,TRUE))","v":""},{"$f":"IF($L215=\"\",\"\",VLOOKUP($L215,判定式!$U$3:$W$12,3,TRUE))","v":""},"",{"$f":"IF(ISNUMBER(D215),\"判定外\",IF(C215=6,VLOOKUP(U215,判定式!$C$15:I$19,7,TRUE),IF(C215=7,VLOOKUP(U215,判定式!$D$15:I$19,6,TRUE),IF(C215=8,VLOOKUP(U215,判定式!$E$15:I$19,5,TRUE),IF(C215=9,VLOOKUP(U215,判定式!$F$15:I$19,4,TRUE),IF(C215=10,VLOOKUP(U215,判定式!$G$15:I$19,3,TRUE),IF(C215=11,VLOOKUP(U215,判定式!$H$15:I$19,2,TRUE))))))))","v":false}]
[67,null,null,"-",null,null,null,null,null,null,null,null,{"$f":"IF($E216=\"\",\"\",VLOOKUP($E216,判定式!$P$3:$W$12,8,TRUE))","v":""},{"$f":"IF($F216=\"\",\"\",VLOOKUP($F216,判定式!$Q$3:$W$12,7,TRUE))","v":""},{"$f":"IF($G216=\"\",\"\",VLOOKUP($G216,判定式!$R$3:$W$12,6,TRUE))","v":""},{"$f":"IF($H216=\"\",\"\",VLOOKUP($H216,判定式!$S$3:$W$12,5,TRUE))","v":""},{"$f":"IF($I216=\"\",\"\",VLOOKUP($I216,判定式!$V$3:$W$12,2,TRUE))","v":""},{"$f":"IF($J216=\"\",\"\",VLOOKUP($J216,判定式!$Y$3:$Z$12,2,TRUE))","v":""},{"$f":"IF($K216=\"\",\"\",VLOOKUP($K216,判定式!$T$3:$W$12,4,TRUE))","v":""},{"$f":"IF($L216=\"\",\"\",VLOOKUP($L216,判定式!$U$3:$W$12,3,TRUE))","v":""},"",{"$f":"IF(ISNUMBER(D216),\"判定外\",IF(C216=6,VLOOKUP(U216,判定式!$C$15:I$19,7,TRUE),IF(C216=7,VLOOKUP(U216,判定式!$D$15:I$19,6,TRUE),IF(C216=8,VLOOKUP(U216,判定式!$E$15:I$19,5,TRUE),IF(C216=9,VLOOKUP(U216,判定式!$F$15:I$19,4,TRUE),IF(C216=10,VLOOKUP(U216,判定式!$G$15:I$19,3,TRUE),IF(C216=11,VLOOKUP(U216,判定式!$H$15:I$19,2,TRUE))))))))","v":false}]
[68,null,null,"-",null,null,null,null,null,null,null,null,{"$f":"IF($E217=\"\",\"\",VLOOKUP($E217,判定式!$P$3:$W$12,8,TRUE))","v":""},{"$f":"IF($F217=\"\",\"\",VLOOKUP($F217,判定式!$Q$3:$W$12,7,TRUE))","v":""},{"$f":"IF($G217=\"\",\"\",VLOOKUP($G217,判定式!$R$3:$W$12,6,TRUE))","v":""},{"$f":"IF($H217=\"\",\"\",VLOOKUP($H217,判定式!$S$3:$W$12,5,TRUE))","v":""},{"$f":"IF($I217=\"\",\"\",VLOOKUP($I217,判定式!$V$3:$W$12,2,TRUE))","v":""},{"$f":"IF($J217=\"\",\"\",VLOOKUP($J217,判定式!$Y$3:$Z$12,2,TRUE))","v":""},{"$f":"IF($K217=\"\",\"\",VLOOKUP($K217,判定式!$T$3:$W$12,4,TRUE))","v":""},{"$f":"IF($L217=\"\",\"\",VLOOKUP($L217,判定式!$U$3:$W$12,3,TRUE))","v":""},"",{"$f":"IF(ISNUMBER(D217),\"判定外\",IF(C217=6,VLOOKUP(U217,判定式!$C$15:I$19,7,TRUE),IF(C217=7,VLOOKUP(U217,判定式!$D$15:I$19,6,TRUE),IF(C217=8,VLOOKUP(U217,判定式!$E$15:I$19,5,TRUE),IF(C217=9,VLOOKUP(U217,判定式!$F$15:I$19,4,TRUE),IF(C217=10,VLOOKUP(U217,判定式!$G$15:I$19,3,TRUE),IF(C217=11,VLOOKUP(U217,判定式!$H$15:I$19,2,TRUE))))))))","v":false}]
[69,null,null,"-",null,null,null,null,null,null,null,null,{"$f":"IF($E218=\"\",\"\",VLOOKUP($E218,判定式!$P$3:$W$12,8,TRUE))","v":""},{"$f":"IF($F218=\"\",\"\",VLOOKUP($F218,判定式!$Q$3:$W$12,7,TRUE))","v":""},{"$f":"IF($G218=\"\",\"\",VLOOKUP($G218,判定式!$R$3:$W$12,6,TRUE))","v":""},{"$f":"IF($H218=\"\",\"\",VLOOKUP($H218,判定式!$S$3:$W$12,5,TRUE))","v":""},{"$f":"IF($I218=\"\",\"\",VLOOKUP($I218,判定式!$V$3:$W$12,2,TRUE))","v":""},{"$f":"IF($J218=\"\",\"\",VLOOKUP($J218,判定式!$Y$3:$Z$12,2,TRUE))","v":""},{"$f":"IF($K218=\"\",\"\",VLOOKUP($K218,判定式!$T$3:$W$12,4,TRUE))","v":""},{"$f":"IF($L218=\"\",\"\",VLOOKUP($L218,判定式!$U$3:$W$12,3,TRUE))","v":""},"",{"$f":"IF(ISNUMBER(D218),\"判定外\",IF(C218=6,VLOOKUP(U218,判定式!$C$15:I$19,7,TRUE),IF(C218=7,VLOOKUP(U218,判定式!$D$15:I$19,6,TRUE),IF(C218=8,VLOOKUP(U218,判定式!$E$15:I$19,5,TRUE),IF(C218=9,VLOOKUP(U218,判定式!$F$15:I$19,4,TRUE),IF(C218=10,VLOOKUP(U218,判定式!$G$15:I$19,3,TRUE),IF(C218=11,VLOOKUP(U218,判定式!$H$15:I$19,2,TRUE))))))))","v":false}]
[70,null,null,"-",null,null,null,null,null,null,null,null,{"$f":"IF($E219=\"\",\"\",VLOOKUP($E219,判定式!$P$3:$W$12,8,TRUE))","v":""},{"$f":"IF($F219=\"\",\"\",VLOOKUP($F219,判定式!$Q$3:$W$12,7,TRUE))","v":""},{"$f":"IF($G219=\"\",\"\",VLOOKUP($G219,判定式!$R$3:$W$12,6,TRUE))","v":""},{"$f":"IF($H219=\"\",\"\",VLOOKUP($H219,判定式!$S$3:$W$12,5,TRUE))","v":""},{"$f":"IF($I219=\"\",\"\",VLOOKUP($I219,判定式!$V$3:$W$12,2,TRUE))","v":""},{"$f":"IF($J219=\"\",\"\",VLOOKUP($J219,判定式!$Y$3:$Z$12,2,TRUE))","v":""},{"$f":"IF($K219=\"\",\"\",VLOOKUP($K219,判定式!$T$3:$W$12,4,TRUE))","v":""},{"$f":"IF($L219=\"\",\"\",VLOOKUP($L219,判定式!$U$3:$W$12,3,TRUE))","v":""},"",{"$f":"IF(ISNUMBER(D219),\"判定外\",IF(C219=6,VLOOKUP(U219,判定式!$C$15:I$19,7,TRUE),IF(C219=7,VLOOKUP(U219,判定式!$D$15:I$19,6,TRUE),IF(C219=8,VLOOKUP(U219,判定式!$E$15:I$19,5,TRUE),IF(C219=9,VLOOKUP(U219,判定式!$F$15:I$19,4,TRUE),IF(C219=10,VLOOKUP(U219,判定式!$G$15:I$19,3,TRUE),IF(C219=11,VLOOKUP(U219,判定式!$H$15:I$19,2,TRUE))))))))","v":false}]
[71,null,null,"-",null,null,null,null,null,null,null,null,{"$f":"IF($E220=\"\",\"\",VLOOKUP($E220,判定式!$P$3:$W$12,8,TRUE))","v":""},{"$f":"IF($F220=\"\",\"\",VLOOKUP($F220,判定式!$Q$3:$W$12,7,TRUE))","v":""},{"$f":"IF($G220=\"\",\"\",VLOOKUP($G220,判定式!$R$3:$W$12,6,TRUE))","v":""},{"$f":"IF($H220=\"\",\"\",VLOOKUP($H220,判定式!$S$3:$W$12,5,TRUE))","v":""},{"$f":"IF($I220=\"\",\"\",VLOOKUP($I220,判定式!$V$3:$W$12,2,TRUE))","v":""},{"$f":"IF($J220=\"\",\"\",VLOOKUP($J220,判定式!$Y$3:$Z$12,2,TRUE))","v":""},{"$f":"IF($K220=\"\",\"\",VLOOKUP($K220,判定式!$T$3:$W$12,4,TRUE))","v":""},{"$f":"IF($L220=\"\",\"\",VLOOKUP($L220,判定式!$U$3:$W$12,3,TRUE))","v":""},"",{"$f":"IF(ISNUMBER(D220),\"判定外\",IF(C220=6,VLOOKUP(U220,判定式!$C$15:I$19,7,TRUE),IF(C220=7,VLOOKUP(U220,判定式!$D$15:I$19,6,TRUE),IF(C220=8,VLOOKUP(U220,判定式!$E$15:I$19,5,TRUE),IF(C220=9,VLOOKUP(U220,判定式!$F$15:I$19,4,TRUE),IF(C220=10,VLOOKUP(U220,判定式!$G$15:I$19,3,TRUE),IF(C220=11,VLOOKUP(U220,判定式!$H$15:I$19,2,TRUE))))))))","v":false}]
[72,null,null,"-",null,null,null,null,null,null,null,null,{"$f":"IF($E221=\"\",\"\",VLOOKUP($E221,判定式!$P$3:$W$12,8,TRUE))","v":""},{"$f":"IF($F221=\"\",\"\",VLOOKUP($F221,判定式!$Q$3:$W$12,7,TRUE))","v":""},{"$f":"IF($G221=\"\",\"\",VLOOKUP($G221,判定式!$R$3:$W$12,6,TRUE))","v":""},{"$f":"IF($H221=\"\",\"\",VLOOKUP($H221,判定式!$S$3:$W$12,5,TRUE))","v":""},{"$f":"IF($I221=\"\",\"\",VLOOKUP($I221,判定式!$V$3:$W$12,2,TRUE))","v":""},{"$f":"IF($J221=\"\",\"\",VLOOKUP($J221,判定式!$Y$3:$Z$12,2,TRUE))","v":""},{"$f":"IF($K221=\"\",\"\",VLOOKUP($K221,判定式!$T$3:$W$12,4,TRUE))","v":""},{"$f":"IF($L221=\"\",\"\",VLOOKUP($L221,判定式!$U$3:$W$12,3,TRUE))","v":""},"",{"$f":"IF(ISNUMBER(D221),\"判定外\",IF(C221=6,VLOOKUP(U221,判定式!$C$15:I$19,7,TRUE),IF(C221=7,VLOOKUP(U221,判定式!$D$15:I$19,6,TRUE),IF(C221=8,VLOOKUP(U221,判定式!$E$15:I$19,5,TRUE),IF(C221=9,VLOOKUP(U221,判定式!$F$15:I$19,4,TRUE),IF(C221=10,VLOOKUP(U221,判定式!$G$15:I$19,3,TRUE),IF(C221=11,VLOOKUP(U221,判定式!$H$15:I$19,2,TRUE))))))))","v":false}]
[73,null,null,"-",null,null,null,null,null,null,null,null,{"$f":"IF($E222=\"\",\"\",VLOOKUP($E222,判定式!$P$3:$W$12,8,TRUE))","v":""},{"$f":"IF($F222=\"\",\"\",VLOOKUP($F222,判定式!$Q$3:$W$12,7,TRUE))","v":""},{"$f":"IF($G222=\"\",\"\",VLOOKUP($G222,判定式!$R$3:$W$12,6,TRUE))","v":""},{"$f":"IF($H222=\"\",\"\",VLOOKUP($H222,判定式!$S$3:$W$12,5,TRUE))","v":""},{"$f":"IF($I222=\"\",\"\",VLOOKUP($I222,判定式!$V$3:$W$12,2,TRUE))","v":""},{"$f":"IF($J222=\"\",\"\",VLOOKUP($J222,判定式!$Y$3:$Z$12,2,TRUE))","v":""},{"$f":"IF($K222=\"\",\"\",VLOOKUP($K222,判定式!$T$3:$W$12,4,TRUE))","v":""},{"$f":"IF($L222=\"\",\"\",VLOOKUP($L222,判定式!$U$3:$W$12,3,TRUE))","v":""},"",{"$f":"IF(ISNUMBER(D222),\"判定外\",IF(C222=6,VLOOKUP(U222,判定式!$C$15:I$19,7,TRUE),IF(C222=7,VLOOKUP(U222,判定式!$D$15:I$19,6,TRUE),IF(C222=8,VLOOKUP(U222,判定式!$E$15:I$19,5,TRUE),IF(C222=9,VLOOKUP(U222,判定式!$F$15:I$19,4,TRUE),IF(C222=10,VLOOKUP(U222,判定式!$G$15:I$19,3,TRUE),IF(C222=11,VLOOKUP(U222,判定式!$H$15:I$19,2,TRUE))))))))","v":false}]
[74,null,null,"-",null,null,null,null,null,null,null,null,{"$f":"IF($E223=\"\",\"\",VLOOKUP($E223,判定式!$P$3:$W$12,8,TRUE))","v":""},{"$f":"IF($F223=\"\",\"\",VLOOKUP($F223,判定式!$Q$3:$W$12,7,TRUE))","v":""},{"$f":"IF($G223=\"\",\"\",VLOOKUP($G223,判定式!$R$3:$W$12,6,TRUE))","v":""},{"$f":"IF($H223=\"\",\"\",VLOOKUP($H223,判定式!$S$3:$W$12,5,TRUE))","v":""},{"$f":"IF($I223=\"\",\"\",VLOOKUP($I223,判定式!$V$3:$W$12,2,TRUE))","v":""},{"$f":"IF($J223=\"\",\"\",VLOOKUP($J223,判定式!$Y$3:$Z$12,2,TRUE))","v":""},{"$f":"IF($K223=\"\",\"\",VLOOKUP($K223,判定式!$T$3:$W$12,4,TRUE))","v":""},{"$f":"IF($L223=\"\",\"\",VLOOKUP($L223,判定式!$U$3:$W$12,3,TRUE))","v":""},"",{"$f":"IF(ISNUMBER(D223),\"判定外\",IF(C223=6,VLOOKUP(U223,判定式!$C$15:I$19,7,TRUE),IF(C223=7,VLOOKUP(U223,判定式!$D$15:I$19,6,TRUE),IF(C223=8,VLOOKUP(U223,判定式!$E$15:I$19,5,TRUE),IF(C223=9,VLOOKUP(U223,判定式!$F$15:I$19,4,TRUE),IF(C223=10,VLOOKUP(U223,判定式!$G$15:I$19,3,TRUE),IF(C223=11,VLOOKUP(U223,判定式!$H$15:I$19,2,TRUE))))))))","v":false}]
[75,null,null,"-",null,null,null,null,null,null,null,null,{"$f":"IF($E224=\"\",\"\",VLOOKUP($E224,判定式!$P$3:$W$12,8,TRUE))","v":""},{"$f":"IF($F224=\"\",\"\",VLOOKUP($F224,判定式!$Q$3:$W$12,7,TRUE))","v":""},{"$f":"IF($G224=\"\",\"\",VLOOKUP($G224,判定式!$R$3:$W$12,6,TRUE))","v":""},{"$f":"IF($H224=\"\",\"\",VLOOKUP($H224,判定式!$S$3:$W$12,5,TRUE))","v":""},{"$f":"IF($I224=\"\",\"\",VLOOKUP($I224,判定式!$V$3:$W$12,2,TRUE))","v":""},{"$f":"IF($J224=\"\",\"\",VLOOKUP($J224,判定式!$Y$3:$Z$12,2,TRUE))","v":""},{"$f":"IF($K224=\"\",\"\",VLOOKUP($K224,判定式!$T$3:$W$12,4,TRUE))","v":""},{"$f":"IF($L224=\"\",\"\",VLOOKUP($L224,判定式!$U$3:$W$12,3,TRUE))","v":""},"",{"$f":"IF(ISNUMBER(D224),\"判定外\",IF(C224=6,VLOOKUP(U224,判定式!$C$15:I$19,7,TRUE),IF(C224=7,VLOOKUP(U224,判定式!$D$15:I$19,6,TRUE),IF(C224=8,VLOOKUP(U224,判定式!$E$15:I$19,5,TRUE),IF(C224=9,VLOOKUP(U224,判定式!$F$15:I$19,4,TRUE),IF(C224=10,VLOOKUP(U224,判定式!$G$15:I$19,3,TRUE),IF(C224=11,VLOOKUP(U224,判定式!$H$15:I$19,2,TRUE))))))))","v":false}]
[76,null,null,"-",null,null,null,null,null,null,null,null,{"$f":"IF($E225=\"\",\"\",VLOOKUP($E225,判定式!$P$3:$W$12,8,TRUE))","v":""},{"$f":"IF($F225=\"\",\"\",VLOOKUP($F225,判定式!$Q$3:$W$12,7,TRUE))","v":""},{"$f":"IF($G225=\"\",\"\",VLOOKUP($G225,判定式!$R$3:$W$12,6,TRUE))","v":""},{"$f":"IF($H225=\"\",\"\",VLOOKUP($H225,判定式!$S$3:$W$12,5,TRUE))","v":""},{"$f":"IF($I225=\"\",\"\",VLOOKUP($I225,判定式!$V$3:$W$12,2,TRUE))","v":""},{"$f":"IF($J225=\"\",\"\",VLOOKUP($J225,判定式!$Y$3:$Z$12,2,TRUE))","v":""},{"$f":"IF($K225=\"\",\"\",VLOOKUP($K225,判定式!$T$3:$W$12,4,TRUE))","v":""},{"$f":"IF($L225=\"\",\"\",VLOOKUP($L225,判定式!$U$3:$W$12,3,TRUE))","v":""},"",{"$f":"IF(ISNUMBER(D225),\"判定外\",IF(C225=6,VLOOKUP(U225,判定式!$C$15:I$19,7,TRUE),IF(C225=7,VLOOKUP(U225,判定式!$D$15:I$19,6,TRUE),IF(C225=8,VLOOKUP(U225,判定式!$E$15:I$19,5,TRUE),IF(C225=9,VLOOKUP(U225,判定式!$F$15:I$19,4,TRUE),IF(C225=10,VLOOKUP(U225,判定式!$G$15:I$19,3,TRUE),IF(C225=11,VLOOKUP(U225,判定式!$H$15:I$19,2,TRUE))))))))","v":false}]
[77,null,null,"-",null,null,null,null,null,null,null,null,{"$f":"IF($E226=\"\",\"\",VLOOKUP($E226,判定式!$P$3:$W$12,8,TRUE))","v":""},{"$f":"IF($F226=\"\",\"\",VLOOKUP($F226,判定式!$Q$3:$W$12,7,TRUE))","v":""},{"$f":"IF($G226=\"\",\"\",VLOOKUP($G226,判定式!$R$3:$W$12,6,TRUE))","v":""},{"$f":"IF($H226=\"\",\"\",VLOOKUP($H226,判定式!$S$3:$W$12,5,TRUE))","v":""},{"$f":"IF($I226=\"\",\"\",VLOOKUP($I226,判定式!$V$3:$W$12,2,TRUE))","v":""},{"$f":"IF($J226=\"\",\"\",VLOOKUP($J226,判定式!$Y$3:$Z$12,2,TRUE))","v":""},{"$f":"IF($K226=\"\",\"\",VLOOKUP($K226,判定式!$T$3:$W$12,4,TRUE))","v":""},{"$f":"IF($L226=\"\",\"\",VLOOKUP($L226,判定式!$U$3:$W$12,3,TRUE))","v":""},"",{"$f":"IF(ISNUMBER(D226),\"判定外\",IF(C226=6,VLOOKUP(U226,判定式!$C$15:I$19,7,TRUE),IF(C226=7,VLOOKUP(U226,判定式!$D$15:I$19,6,TRUE),IF(C226=8,VLOOKUP(U226,判定式!$E$15:I$19,5,TRUE),IF(C226=9,VLOOKUP(U226,判定式!$F$15:I$19,4,TRUE),IF(C226=10,VLOOKUP(U226,判定式!$G$15:I$19,3,TRUE),IF(C226=11,VLOOKUP(U226,判定式!$H$15:I$19,2,TRUE))))))))","v":false}]
[78,null,null,"-",null,null,null,null,null,null,null,null,{"$f":"IF($E227=\"\",\"\",VLOOKUP($E227,判定式!$P$3:$W$12,8,TRUE))","v":""},{"$f":"IF($F227=\"\",\"\",VLOOKUP($F227,判定式!$Q$3:$W$12,7,TRUE))","v":""},{"$f":"IF($G227=\"\",\"\",VLOOKUP($G227,判定式!$R$3:$W$12,6,TRUE))","v":""},{"$f":"IF($H227=\"\",\"\",VLOOKUP($H227,判定式!$S$3:$W$12,5,TRUE))","v":""},{"$f":"IF($I227=\"\",\"\",VLOOKUP($I227,判定式!$V$3:$W$12,2,TRUE))","v":""},{"$f":"IF($J227=\"\",\"\",VLOOKUP($J227,判定式!$Y$3:$Z$12,2,TRUE))","v":""},{"$f":"IF($K227=\"\",\"\",VLOOKUP($K227,判定式!$T$3:$W$12,4,TRUE))","v":""},{"$f":"IF($L227=\"\",\"\",VLOOKUP($L227,判定式!$U$3:$W$12,3,TRUE))","v":""},"",{"$f":"IF(ISNUMBER(D227),\"判定外\",IF(C227=6,VLOOKUP(U227,判定式!$C$15:I$19,7,TRUE),IF(C227=7,VLOOKUP(U227,判定式!$D$15:I$19,6,TRUE),IF(C227=8,VLOOKUP(U227,判定式!$E$15:I$19,5,TRUE),IF(C227=9,VLOOKUP(U227,判定式!$F$15:I$19,4,TRUE),IF(C227=10,VLOOKUP(U227,判定式!$G$15:I$19,3,TRUE),IF(C227=11,VLOOKUP(U227,判定式!$H$15:I$19,2,TRUE))))))))","v":false}]
[79,null,null,"-",null,null,null,null,null,null,null,null,{"$f":"IF($E228=\"\",\"\",VLOOKUP($E228,判定式!$P$3:$W$12,8,TRUE))","v":""},{"$f":"IF($F228=\"\",\"\",VLOOKUP($F228,判定式!$Q$3:$W$12,7,TRUE))","v":""},{"$f":"IF($G228=\"\",\"\",VLOOKUP($G228,判定式!$R$3:$W$12,6,TRUE))","v":""},{"$f":"IF($H228=\"\",\"\",VLOOKUP($H228,判定式!$S$3:$W$12,5,TRUE))","v":""},{"$f":"IF($I228=\"\",\"\",VLOOKUP($I228,判定式!$V$3:$W$12,2,TRUE))","v":""},{"$f":"IF($J228=\"\",\"\",VLOOKUP($J228,判定式!$Y$3:$Z$12,2,TRUE))","v":""},{"$f":"IF($K228=\"\",\"\",VLOOKUP($K228,判定式!$T$3:$W$12,4,TRUE))","v":""},{"$f":"IF($L228=\"\",\"\",VLOOKUP($L228,判定式!$U$3:$W$12,3,TRUE))","v":""},"",{"$f":"IF(ISNUMBER(D228),\"判定外\",IF(C228=6,VLOOKUP(U228,判定式!$C$15:I$19,7,TRUE),IF(C228=7,VLOOKUP(U228,判定式!$D$15:I$19,6,TRUE),IF(C228=8,VLOOKUP(U228,判定式!$E$15:I$19,5,TRUE),IF(C228=9,VLOOKUP(U228,判定式!$F$15:I$19,4,TRUE),IF(C228=10,VLOOKUP(U228,判定式!$G$15:I$19,3,TRUE),IF(C228=11,VLOOKUP(U228,判定式!$H$15:I$19,2,TRUE))))))))","v":false}]
[80,null,null,"-",null,null,null,null,null,null,null,null,{"$f":"IF($E229=\"\",\"\",VLOOKUP($E229,判定式!$P$3:$W$12,8,TRUE))","v":""},{"$f":"IF($F229=\"\",\"\",VLOOKUP($F229,判定式!$Q$3:$W$12,7,TRUE))","v":""},{"$f":"IF($G229=\"\",\"\",VLOOKUP($G229,判定式!$R$3:$W$12,6,TRUE))","v":""},{"$f":"IF($H229=\"\",\"\",VLOOKUP($H229,判定式!$S$3:$W$12,5,TRUE))","v":""},{"$f":"IF($I229=\"\",\"\",VLOOKUP($I229,判定式!$V$3:$W$12,2,TRUE))","v":""},{"$f":"IF($J229=\"\",\"\",VLOOKUP($J229,判定式!$Y$3:$Z$12,2,TRUE))","v":""},{"$f":"IF($K229=\"\",\"\",VLOOKUP($K229,判定式!$T$3:$W$12,4,TRUE))","v":""},{"$f":"IF($L229=\"\",\"\",VLOOKUP($L229,判定式!$U$3:$W$12,3,TRUE))","v":""},"",{"$f":"IF(ISNUMBER(D229),\"判定外\",IF(C229=6,VLOOKUP(U229,判定式!$C$15:I$19,7,TRUE),IF(C229=7,VLOOKUP(U229,判定式!$D$15:I$19,6,TRUE),IF(C229=8,VLOOKUP(U229,判定式!$E$15:I$19,5,TRUE),IF(C229=9,VLOOKUP(U229,判定式!$F$15:I$19,4,TRUE),IF(C229=10,VLOOKUP(U229,判定式!$G$15:I$19,3,TRUE),IF(C229=11,VLOOKUP(U229,判定式!$H$15:I$19,2,TRUE))))))))","v":false}]
[81,null,null,"-",null,null,null,null,null,null,null,null,{"$f":"IF($E230=\"\",\"\",VLOOKUP($E230,判定式!$P$3:$W$12,8,TRUE))","v":""},{"$f":"IF($F230=\"\",\"\",VLOOKUP($F230,判定式!$Q$3:$W$12,7,TRUE))","v":""},{"$f":"IF($G230=\"\",\"\",VLOOKUP($G230,判定式!$R$3:$W$12,6,TRUE))","v":""},{"$f":"IF($H230=\"\",\"\",VLOOKUP($H230,判定式!$S$3:$W$12,5,TRUE))","v":""},{"$f":"IF($I230=\"\",\"\",VLOOKUP($I230,判定式!$V$3:$W$12,2,TRUE))","v":""},{"$f":"IF($J230=\"\",\"\",VLOOKUP($J230,判定式!$Y$3:$Z$12,2,TRUE))","v":""},{"$f":"IF($K230=\"\",\"\",VLOOKUP($K230,判定式!$T$3:$W$12,4,TRUE))","v":""},{"$f":"IF($L230=\"\",\"\",VLOOKUP($L230,判定式!$U$3:$W$12,3,TRUE))","v":""},"",{"$f":"IF(ISNUMBER(D230),\"判定外\",IF(C230=6,VLOOKUP(U230,判定式!$C$15:I$19,7,TRUE),IF(C230=7,VLOOKUP(U230,判定式!$D$15:I$19,6,TRUE),IF(C230=8,VLOOKUP(U230,判定式!$E$15:I$19,5,TRUE),IF(C230=9,VLOOKUP(U230,判定式!$F$15:I$19,4,TRUE),IF(C230=10,VLOOKUP(U230,判定式!$G$15:I$19,3,TRUE),IF(C230=11,VLOOKUP(U230,判定式!$H$15:I$19,2,TRUE))))))))","v":false}]
[82,null,null,"-",null,null,null,null,null,null,null,null,{"$f":"IF($E231=\"\",\"\",VLOOKUP($E231,判定式!$P$3:$W$12,8,TRUE))","v":""},{"$f":"IF($F231=\"\",\"\",VLOOKUP($F231,判定式!$Q$3:$W$12,7,TRUE))","v":""},{"$f":"IF($G231=\"\",\"\",VLOOKUP($G231,判定式!$R$3:$W$12,6,TRUE))","v":""},{"$f":"IF($H231=\"\",\"\",VLOOKUP($H231,判定式!$S$3:$W$12,5,TRUE))","v":""},{"$f":"IF($I231=\"\",\"\",VLOOKUP($I231,判定式!$V$3:$W$12,2,TRUE))","v":""},{"$f":"IF($J231=\"\",\"\",VLOOKUP($J231,判定式!$Y$3:$Z$12,2,TRUE))","v":""},{"$f":"IF($K231=\"\",\"\",VLOOKUP($K231,判定式!$T$3:$W$12,4,TRUE))","v":""},{"$f":"IF($L231=\"\",\"\",VLOOKUP($L231,判定式!$U$3:$W$12,3,TRUE))","v":""},"",{"$f":"IF(ISNUMBER(D231),\"判定外\",IF(C231=6,VLOOKUP(U231,判定式!$C$15:I$19,7,TRUE),IF(C231=7,VLOOKUP(U231,判定式!$D$15:I$19,6,TRUE),IF(C231=8,VLOOKUP(U231,判定式!$E$15:I$19,5,TRUE),IF(C231=9,VLOOKUP(U231,判定式!$F$15:I$19,4,TRUE),IF(C231=10,VLOOKUP(U231,判定式!$G$15:I$19,3,TRUE),IF(C231=11,VLOOKUP(U231,判定式!$H$15:I$19,2,TRUE))))))))","v":false}]
[83,null,null,"-",null,null,null,null,null,null,null,null,{"$f":"IF($E232=\"\",\"\",VLOOKUP($E232,判定式!$P$3:$W$12,8,TRUE))","v":""},{"$f":"IF($F232=\"\",\"\",VLOOKUP($F232,判定式!$Q$3:$W$12,7,TRUE))","v":""},{"$f":"IF($G232=\"\",\"\",VLOOKUP($G232,判定式!$R$3:$W$12,6,TRUE))","v":""},{"$f":"IF($H232=\"\",\"\",VLOOKUP($H232,判定式!$S$3:$W$12,5,TRUE))","v":""},{"$f":"IF($I232=\"\",\"\",VLOOKUP($I232,判定式!$V$3:$W$12,2,TRUE))","v":""},{"$f":"IF($J232=\"\",\"\",VLOOKUP($J232,判定式!$Y$3:$Z$12,2,TRUE))","v":""},{"$f":"IF($K232=\"\",\"\",VLOOKUP($K232,判定式!$T$3:$W$12,4,TRUE))","v":""},{"$f":"IF($L232=\"\",\"\",VLOOKUP($L232,判定式!$U$3:$W$12,3,TRUE))","v":""},"",{"$f":"IF(ISNUMBER(D232),\"判定外\",IF(C232=6,VLOOKUP(U232,判定式!$C$15:I$19,7,TRUE),IF(C232=7,VLOOKUP(U232,判定式!$D$15:I$19,6,TRUE),IF(C232=8,VLOOKUP(U232,判定式!$E$15:I$19,5,TRUE),IF(C232=9,VLOOKUP(U232,判定式!$F$15:I$19,4,TRUE),IF(C232=10,VLOOKUP(U232,判定式!$G$15:I$19,3,TRUE),IF(C232=11,VLOOKUP(U232,判定式!$H$15:I$19,2,TRUE))))))))","v":false}]
[84,null,null,"-",null,null,null,null,null,null,null,null,{"$f":"IF($E233=\"\",\"\",VLOOKUP($E233,判定式!$P$3:$W$12,8,TRUE))","v":""},{"$f":"IF($F233=\"\",\"\",VLOOKUP($F233,判定式!$Q$3:$W$12,7,TRUE))","v":""},{"$f":"IF($G233=\"\",\"\",VLOOKUP($G233,判定式!$R$3:$W$12,6,TRUE))","v":""},{"$f":"IF($H233=\"\",\"\",VLOOKUP($H233,判定式!$S$3:$W$12,5,TRUE))","v":""},{"$f":"IF($I233=\"\",\"\",VLOOKUP($I233,判定式!$V$3:$W$12,2,TRUE))","v":""},{"$f":"IF($J233=\"\",\"\",VLOOKUP($J233,判定式!$Y$3:$Z$12,2,TRUE))","v":""},{"$f":"IF($K233=\"\",\"\",VLOOKUP($K233,判定式!$T$3:$W$12,4,TRUE))","v":""},{"$f":"IF($L233=\"\",\"\",VLOOKUP($L233,判定式!$U$3:$W$12,3,TRUE))","v":""},"",{"$f":"IF(ISNUMBER(D233),\"判定外\",IF(C233=6,VLOOKUP(U233,判定式!$C$15:I$19,7,TRUE),IF(C233=7,VLOOKUP(U233,判定式!$D$15:I$19,6,TRUE),IF(C233=8,VLOOKUP(U233,判定式!$E$15:I$19,5,TRUE),IF(C233=9,VLOOKUP(U233,判定式!$F$15:I$19,4,TRUE),IF(C233=10,VLOOKUP(U233,判定式!$G$15:I$19,3,TRUE),IF(C233=11,VLOOKUP(U233,判定式!$H$15:I$19,2,TRUE))))))))","v":false}]
[85,null,null,"-",null,null,null,null,null,null,null,null,{"$f":"IF($E234=\"\",\"\",VLOOKUP($E234,判定式!$P$3:$W$12,8,TRUE))","v":""},{"$f":"IF($F234=\"\",\"\",VLOOKUP($F234,判定式!$Q$3:$W$12,7,TRUE))","v":""},{"$f":"IF($G234=\"\",\"\",VLOOKUP($G234,判定式!$R$3:$W$12,6,TRUE))","v":""},{"$f":"IF($H234=\"\",\"\",VLOOKUP($H234,判定式!$S$3:$W$12,5,TRUE))","v":""},{"$f":"IF($I234=\"\",\"\",VLOOKUP($I234,判定式!$V$3:$W$12,2,TRUE))","v":""},{"$f":"IF($J234=\"\",\"\",VLOOKUP($J234,判定式!$Y$3:$Z$12,2,TRUE))","v":""},{"$f":"IF($K234=\"\",\"\",VLOOKUP($K234,判定式!$T$3:$W$12,4,TRUE))","v":""},{"$f":"IF($L234=\"\",\"\",VLOOKUP($L234,判定式!$U$3:$W$12,3,TRUE))","v":""},"",{"$f":"IF(ISNUMBER(D234),\"判定外\",IF(C234=6,VLOOKUP(U234,判定式!$C$15:I$19,7,TRUE),IF(C234=7,VLOOKUP(U234,判定式!$D$15:I$19,6,TRUE),IF(C234=8,VLOOKUP(U234,判定式!$E$15:I$19,5,TRUE),IF(C234=9,VLOOKUP(U234,判定式!$F$15:I$19,4,TRUE),IF(C234=10,VLOOKUP(U234,判定式!$G$15:I$19,3,TRUE),IF(C234=11,VLOOKUP(U234,判定式!$H$15:I$19,2,TRUE))))))))","v":false}]
[86,null,null,"-",null,null,null,null,null,null,null,null,{"$f":"IF($E235=\"\",\"\",VLOOKUP($E235,判定式!$P$3:$W$12,8,TRUE))","v":""},{"$f":"IF($F235=\"\",\"\",VLOOKUP($F235,判定式!$Q$3:$W$12,7,TRUE))","v":""},{"$f":"IF($G235=\"\",\"\",VLOOKUP($G235,判定式!$R$3:$W$12,6,TRUE))","v":""},{"$f":"IF($H235=\"\",\"\",VLOOKUP($H235,判定式!$S$3:$W$12,5,TRUE))","v":""},{"$f":"IF($I235=\"\",\"\",VLOOKUP($I235,判定式!$V$3:$W$12,2,TRUE))","v":""},{"$f":"IF($J235=\"\",\"\",VLOOKUP($J235,判定式!$Y$3:$Z$12,2,TRUE))","v":""},{"$f":"IF($K235=\"\",\"\",VLOOKUP($K235,判定式!$T$3:$W$12,4,TRUE))","v":""},{"$f":"IF($L235=\"\",\"\",VLOOKUP($L235,判定式!$U$3:$W$12,3,TRUE))","v":""},"",{"$f":"IF(ISNUMBER(D235),\"判定外\",IF(C235=6,VLOOKUP(U235,判定式!$C$15:I$19,7,TRUE),IF(C235=7,VLOOKUP(U235,判定式!$D$15:I$19,6,TRUE),IF(C235=8,VLOOKUP(U235,判定式!$E$15:I$19,5,TRUE),IF(C235=9,VLOOKUP(U235,判定式!$F$15:I$19,4,TRUE),IF(C235=10,VLOOKUP(U235,判定式!$G$15:I$19,3,TRUE),IF(C235=11,VLOOKUP(U235,判定式!$H$15:I$19,2,TRUE))))))))","v":false}]
[87,null,null,"-",null,null,null,null,null,null,null,null,{"$f":"IF($E236=\"\",\"\",VLOOKUP($E236,判定式!$P$3:$W$12,8,TRUE))","v":""},{"$f":"IF($F236=\"\",\"\",VLOOKUP($F236,判定式!$Q$3:$W$12,7,TRUE))","v":""},{"$f":"IF($G236=\"\",\"\",VLOOKUP($G236,判定式!$R$3:$W$12,6,TRUE))","v":""},{"$f":"IF($H236=\"\",\"\",VLOOKUP($H236,判定式!$S$3:$W$12,5,TRUE))","v":""},{"$f":"IF($I236=\"\",\"\",VLOOKUP($I236,判定式!$V$3:$W$12,2,TRUE))","v":""},{"$f":"IF($J236=\"\",\"\",VLOOKUP($J236,判定式!$Y$3:$Z$12,2,TRUE))","v":""},{"$f":"IF($K236=\"\",\"\",VLOOKUP($K236,判定式!$T$3:$W$12,4,TRUE))","v":""},{"$f":"IF($L236=\"\",\"\",VLOOKUP($L236,判定式!$U$3:$W$12,3,TRUE))","v":""},"",{"$f":"IF(ISNUMBER(D236),\"判定外\",IF(C236=6,VLOOKUP(U236,判定式!$C$15:I$19,7,TRUE),IF(C236=7,VLOOKUP(U236,判定式!$D$15:I$19,6,TRUE),IF(C236=8,VLOOKUP(U236,判定式!$E$15:I$19,5,TRUE),IF(C236=9,VLOOKUP(U236,判定式!$F$15:I$19,4,TRUE),IF(C236=10,VLOOKUP(U236,判定式!$G$15:I$19,3,TRUE),IF(C236=11,VLOOKUP(U236,判定式!$H$15:I$19,2,TRUE))))))))","v":false}]
[88,null,null,"-",null,null,null,null,null,null,null,null,{"$f":"IF($E237=\"\",\"\",VLOOKUP($E237,判定式!$P$3:$W$12,8,TRUE))","v":""},{"$f":"IF($F237=\"\",\"\",VLOOKUP($F237,判定式!$Q$3:$W$12,7,TRUE))","v":""},{"$f":"IF($G237=\"\",\"\",VLOOKUP($G237,判定式!$R$3:$W$12,6,TRUE))","v":""},{"$f":"IF($H237=\"\",\"\",VLOOKUP($H237,判定式!$S$3:$W$12,5,TRUE))","v":""},{"$f":"IF($I237=\"\",\"\",VLOOKUP($I237,判定式!$V$3:$W$12,2,TRUE))","v":""},{"$f":"IF($J237=\"\",\"\",VLOOKUP($J237,判定式!$Y$3:$Z$12,2,TRUE))","v":""},{"$f":"IF($K237=\"\",\"\",VLOOKUP($K237,判定式!$T$3:$W$12,4,TRUE))","v":""},{"$f":"IF($L237=\"\",\"\",VLOOKUP($L237,判定式!$U$3:$W$12,3,TRUE))","v":""},"",{"$f":"IF(ISNUMBER(D237),\"判定外\",IF(C237=6,VLOOKUP(U237,判定式!$C$15:I$19,7,TRUE),IF(C237=7,VLOOKUP(U237,判定式!$D$15:I$19,6,TRUE),IF(C237=8,VLOOKUP(U237,判定式!$E$15:I$19,5,TRUE),IF(C237=9,VLOOKUP(U237,判定式!$F$15:I$19,4,TRUE),IF(C237=10,VLOOKUP(U237,判定式!$G$15:I$19,3,TRUE),IF(C237=11,VLOOKUP(U237,判定式!$H$15:I$19,2,TRUE))))))))","v":false}]
[89,null,null,"-",null,null,null,null,null,null,null,null,{"$f":"IF($E238=\"\",\"\",VLOOKUP($E238,判定式!$P$3:$W$12,8,TRUE))","v":""},{"$f":"IF($F238=\"\",\"\",VLOOKUP($F238,判定式!$Q$3:$W$12,7,TRUE))","v":""},{"$f":"IF($G238=\"\",\"\",VLOOKUP($G238,判定式!$R$3:$W$12,6,TRUE))","v":""},{"$f":"IF($H238=\"\",\"\",VLOOKUP($H238,判定式!$S$3:$W$12,5,TRUE))","v":""},{"$f":"IF($I238=\"\",\"\",VLOOKUP($I238,判定式!$V$3:$W$12,2,TRUE))","v":""},{"$f":"IF($J238=\"\",\"\",VLOOKUP($J238,判定式!$Y$3:$Z$12,2,TRUE))","v":""},{"$f":"IF($K238=\"\",\"\",VLOOKUP($K238,判定式!$T$3:$W$12,4,TRUE))","v":""},{"$f":"IF($L238=\"\",\"\",VLOOKUP($L238,判定式!$U$3:$W$12,3,TRUE))","v":""},"",{"$f":"IF(ISNUMBER(D238),\"判定外\",IF(C238=6,VLOOKUP(U238,判定式!$C$15:I$19,7,TRUE),IF(C238=7,VLOOKUP(U238,判定式!$D$15:I$19,6,TRUE),IF(C238=8,VLOOKUP(U238,判定式!$E$15:I$19,5,TRUE),IF(C238=9,VLOOKUP(U238,判定式!$F$15:I$19,4,TRUE),IF(C238=10,VLOOKUP(U238,判定式!$G$15:I$19,3,TRUE),IF(C238=11,VLOOKUP(U238,判定式!$H$15:I$19,2,TRUE))))))))","v":false}]
[90,null,null,"-",null,null,null,null,null,null,null,null,{"$f":"IF($E239=\"\",\"\",VLOOKUP($E239,判定式!$P$3:$W$12,8,TRUE))","v":""},{"$f":"IF($F239=\"\",\"\",VLOOKUP($F239,判定式!$Q$3:$W$12,7,TRUE))","v":""},{"$f":"IF($G239=\"\",\"\",VLOOKUP($G239,判定式!$R$3:$W$12,6,TRUE))","v":""},{"$f":"IF($H239=\"\",\"\",VLOOKUP($H239,判定式!$S$3:$W$12,5,TRUE))","v":""},{"$f":"IF($I239=\"\",\"\",VLOOKUP($I239,判定式!$V$3:$W$12,2,TRUE))","v":""},{"$f":"IF($J239=\"\",\"\",VLOOKUP($J239,判定式!$Y$3:$Z$12,2,TRUE))","v":""},{"$f":"IF($K239=\"\",\"\",VLOOKUP($K239,判定式!$T$3:$W$12,4,TRUE))","v":""},{"$f":"IF($L239=\"\",\"\",VLOOKUP($L239,判定式!$U$3:$W$12,3,TRUE))","v":""},"",{"$f":"IF(ISNUMBER(D239),\"判定外\",IF(C239=6,VLOOKUP(U239,判定式!$C$15:I$19,7,TRUE),IF(C239=7,VLOOKUP(U239,判定式!$D$15:I$19,6,TRUE),IF(C239=8,VLOOKUP(U239,判定式!$E$15:I$19,5,TRUE),IF(C239=9,VLOOKUP(U239,判定式!$F$15:I$19,4,TRUE),IF(C239=10,VLOOKUP(U239,判定式!$G$15:I$19,3,TRUE),IF(C239=11,VLOOKUP(U239,判定式!$H$15:I$19,2,TRUE))))))))","v":false}]
[91,null,null,"-",null,null,null,null,null,null,null,null,{"$f":"IF($E240=\"\",\"\",VLOOKUP($E240,判定式!$P$3:$W$12,8,TRUE))","v":""},{"$f":"IF($F240=\"\",\"\",VLOOKUP($F240,判定式!$Q$3:$W$12,7,TRUE))","v":""},{"$f":"IF($G240=\"\",\"\",VLOOKUP($G240,判定式!$R$3:$W$12,6,TRUE))","v":""},{"$f":"IF($H240=\"\",\"\",VLOOKUP($H240,判定式!$S$3:$W$12,5,TRUE))","v":""},{"$f":"IF($I240=\"\",\"\",VLOOKUP($I240,判定式!$V$3:$W$12,2,TRUE))","v":""},{"$f":"IF($J240=\"\",\"\",VLOOKUP($J240,判定式!$Y$3:$Z$12,2,TRUE))","v":""},{"$f":"IF($K240=\"\",\"\",VLOOKUP($K240,判定式!$T$3:$W$12,4,TRUE))","v":""},{"$f":"IF($L240=\"\",\"\",VLOOKUP($L240,判定式!$U$3:$W$12,3,TRUE))","v":""},"",{"$f":"IF(ISNUMBER(D240),\"判定外\",IF(C240=6,VLOOKUP(U240,判定式!$C$15:I$19,7,TRUE),IF(C240=7,VLOOKUP(U240,判定式!$D$15:I$19,6,TRUE),IF(C240=8,VLOOKUP(U240,判定式!$E$15:I$19,5,TRUE),IF(C240=9,VLOOKUP(U240,判定式!$F$15:I$19,4,TRUE),IF(C240=10,VLOOKUP(U240,判定式!$G$15:I$19,3,TRUE),IF(C240=11,VLOOKUP(U240,判定式!$H$15:I$19,2,TRUE))))))))","v":false}]
[92,null,null,"-",null,null,null,null,null,null,null,null,{"$f":"IF($E241=\"\",\"\",VLOOKUP($E241,判定式!$P$3:$W$12,8,TRUE))","v":""},{"$f":"IF($F241=\"\",\"\",VLOOKUP($F241,判定式!$Q$3:$W$12,7,TRUE))","v":""},{"$f":"IF($G241=\"\",\"\",VLOOKUP($G241,判定式!$R$3:$W$12,6,TRUE))","v":""},{"$f":"IF($H241=\"\",\"\",VLOOKUP($H241,判定式!$S$3:$W$12,5,TRUE))","v":""},{"$f":"IF($I241=\"\",\"\",VLOOKUP($I241,判定式!$V$3:$W$12,2,TRUE))","v":""},{"$f":"IF($J241=\"\",\"\",VLOOKUP($J241,判定式!$Y$3:$Z$12,2,TRUE))","v":""},{"$f":"IF($K241=\"\",\"\",VLOOKUP($K241,判定式!$T$3:$W$12,4,TRUE))","v":""},{"$f":"IF($L241=\"\",\"\",VLOOKUP($L241,判定式!$U$3:$W$12,3,TRUE))","v":""},"",{"$f":"IF(ISNUMBER(D241),\"判定外\",IF(C241=6,VLOOKUP(U241,判定式!$C$15:I$19,7,TRUE),IF(C241=7,VLOOKUP(U241,判定式!$D$15:I$19,6,TRUE),IF(C241=8,VLOOKUP(U241,判定式!$E$15:I$19,5,TRUE),IF(C241=9,VLOOKUP(U241,判定式!$F$15:I$19,4,TRUE),IF(C241=10,VLOOKUP(U241,判定式!$G$15:I$19,3,TRUE),IF(C241=11,VLOOKUP(U241,判定式!$H$15:I$19,2,TRUE))))))))","v":false}]
[93,null,null,"-",null,null,null,null,null,null,null,null,{"$f":"IF($E242=\"\",\"\",VLOOKUP($E242,判定式!$P$3:$W$12,8,TRUE))","v":""},{"$f":"IF($F242=\"\",\"\",VLOOKUP($F242,判定式!$Q$3:$W$12,7,TRUE))","v":""},{"$f":"IF($G242=\"\",\"\",VLOOKUP($G242,判定式!$R$3:$W$12,6,TRUE))","v":""},{"$f":"IF($H242=\"\",\"\",VLOOKUP($H242,判定式!$S$3:$W$12,5,TRUE))","v":""},{"$f":"IF($I242=\"\",\"\",VLOOKUP($I242,判定式!$V$3:$W$12,2,TRUE))","v":""},{"$f":"IF($J242=\"\",\"\",VLOOKUP($J242,判定式!$Y$3:$Z$12,2,TRUE))","v":""},{"$f":"IF($K242=\"\",\"\",VLOOKUP($K242,判定式!$T$3:$W$12,4,TRUE))","v":""},{"$f":"IF($L242=\"\",\"\",VLOOKUP($L242,判定式!$U$3:$W$12,3,TRUE))","v":""},"",{"$f":"IF(ISNUMBER(D242),\"判定外\",IF(C242=6,VLOOKUP(U242,判定式!$C$15:I$19,7,TRUE),IF(C242=7,VLOOKUP(U242,判定式!$D$15:I$19,6,TRUE),IF(C242=8,VLOOKUP(U242,判定式!$E$15:I$19,5,TRUE),IF(C242=9,VLOOKUP(U242,判定式!$F$15:I$19,4,TRUE),IF(C242=10,VLOOKUP(U242,判定式!$G$15:I$19,3,TRUE),IF(C242=11,VLOOKUP(U242,判定式!$H$15:I$19,2,TRUE))))))))","v":false}]
[94,null,null,"-",null,null,null,null,null,null,null,null,{"$f":"IF($E243=\"\",\"\",VLOOKUP($E243,判定式!$P$3:$W$12,8,TRUE))","v":""},{"$f":"IF($F243=\"\",\"\",VLOOKUP($F243,判定式!$Q$3:$W$12,7,TRUE))","v":""},{"$f":"IF($G243=\"\",\"\",VLOOKUP($G243,判定式!$R$3:$W$12,6,TRUE))","v":""},{"$f":"IF($H243=\"\",\"\",VLOOKUP($H243,判定式!$S$3:$W$12,5,TRUE))","v":""},{"$f":"IF($I243=\"\",\"\",VLOOKUP($I243,判定式!$V$3:$W$12,2,TRUE))","v":""},{"$f":"IF($J243=\"\",\"\",VLOOKUP($J243,判定式!$Y$3:$Z$12,2,TRUE))","v":""},{"$f":"IF($K243=\"\",\"\",VLOOKUP($K243,判定式!$T$3:$W$12,4,TRUE))","v":""},{"$f":"IF($L243=\"\",\"\",VLOOKUP($L243,判定式!$U$3:$W$12,3,TRUE))","v":""},"",{"$f":"IF(ISNUMBER(D243),\"判定外\",IF(C243=6,VLOOKUP(U243,判定式!$C$15:I$19,7,TRUE),IF(C243=7,VLOOKUP(U243,判定式!$D$15:I$19,6,TRUE),IF(C243=8,VLOOKUP(U243,判定式!$E$15:I$19,5,TRUE),IF(C243=9,VLOOKUP(U243,判定式!$F$15:I$19,4,TRUE),IF(C243=10,VLOOKUP(U243,判定式!$G$15:I$19,3,TRUE),IF(C243=11,VLOOKUP(U243,判定式!$H$15:I$19,2,TRUE))))))))","v":false}]
[95,null,null,"-",null,null,null,null,null,null,null,null,{"$f":"IF($E244=\"\",\"\",VLOOKUP($E244,判定式!$P$3:$W$12,8,TRUE))","v":""},{"$f":"IF($F244=\"\",\"\",VLOOKUP($F244,判定式!$Q$3:$W$12,7,TRUE))","v":""},{"$f":"IF($G244=\"\",\"\",VLOOKUP($G244,判定式!$R$3:$W$12,6,TRUE))","v":""},{"$f":"IF($H244=\"\",\"\",VLOOKUP($H244,判定式!$S$3:$W$12,5,TRUE))","v":""},{"$f":"IF($I244=\"\",\"\",VLOOKUP($I244,判定式!$V$3:$W$12,2,TRUE))","v":""},{"$f":"IF($J244=\"\",\"\",VLOOKUP($J244,判定式!$Y$3:$Z$12,2,TRUE))","v":""},{"$f":"IF($K244=\"\",\"\",VLOOKUP($K244,判定式!$T$3:$W$12,4,TRUE))","v":""},{"$f":"IF($L244=\"\",\"\",VLOOKUP($L244,判定式!$U$3:$W$12,3,TRUE))","v":""},"",{"$f":"IF(ISNUMBER(D244),\"判定外\",IF(C244=6,VLOOKUP(U244,判定式!$C$15:I$19,7,TRUE),IF(C244=7,VLOOKUP(U244,判定式!$D$15:I$19,6,TRUE),IF(C244=8,VLOOKUP(U244,判定式!$E$15:I$19,5,TRUE),IF(C244=9,VLOOKUP(U244,判定式!$F$15:I$19,4,TRUE),IF(C244=10,VLOOKUP(U244,判定式!$G$15:I$19,3,TRUE),IF(C244=11,VLOOKUP(U244,判定式!$H$15:I$19,2,TRUE))))))))","v":false}]
[96,null,null,"-",null,null,null,null,null,null,null,null,{"$f":"IF($E245=\"\",\"\",VLOOKUP($E245,判定式!$P$3:$W$12,8,TRUE))","v":""},{"$f":"IF($F245=\"\",\"\",VLOOKUP($F245,判定式!$Q$3:$W$12,7,TRUE))","v":""},{"$f":"IF($G245=\"\",\"\",VLOOKUP($G245,判定式!$R$3:$W$12,6,TRUE))","v":""},{"$f":"IF($H245=\"\",\"\",VLOOKUP($H245,判定式!$S$3:$W$12,5,TRUE))","v":""},{"$f":"IF($I245=\"\",\"\",VLOOKUP($I245,判定式!$V$3:$W$12,2,TRUE))","v":""},{"$f":"IF($J245=\"\",\"\",VLOOKUP($J245,判定式!$Y$3:$Z$12,2,TRUE))","v":""},{"$f":"IF($K245=\"\",\"\",VLOOKUP($K245,判定式!$T$3:$W$12,4,TRUE))","v":""},{"$f":"IF($L245=\"\",\"\",VLOOKUP($L245,判定式!$U$3:$W$12,3,TRUE))","v":""},"",{"$f":"IF(ISNUMBER(D245),\"判定外\",IF(C245=6,VLOOKUP(U245,判定式!$C$15:I$19,7,TRUE),IF(C245=7,VLOOKUP(U245,判定式!$D$15:I$19,6,TRUE),IF(C245=8,VLOOKUP(U245,判定式!$E$15:I$19,5,TRUE),IF(C245=9,VLOOKUP(U245,判定式!$F$15:I$19,4,TRUE),IF(C245=10,VLOOKUP(U245,判定式!$G$15:I$19,3,TRUE),IF(C245=11,VLOOKUP(U245,判定式!$H$15:I$19,2,TRUE))))))))","v":false}]
[97,null,null,{"$f":"IF(COUNTBLANK(E246:L246)=0,\"\",IF(COUNTBLANK(E246:L246)=8,\"-\",COUNTBLANK(E246:L246)))","v":"-"},null,null,null,null,null,null,null,null,{"$f":"IF($E246=\"\",\"\",VLOOKUP($E246,判定式!$P$3:$W$12,8,TRUE))","v":""},{"$f":"IF($F246=\"\",\"\",VLOOKUP($F246,判定式!$Q$3:$W$12,7,TRUE))","v":""},{"$f":"IF($G246=\"\",\"\",VLOOKUP($G246,判定式!$R$3:$W$12,6,TRUE))","v":""},{"$f":"IF($H246=\"\",\"\",VLOOKUP($H246,判定式!$S$3:$W$12,5,TRUE))","v":""},{"$f":"IF($I246=\"\",\"\",VLOOKUP($I246,判定式!$V$3:$W$12,2,TRUE))","v":""},{"$f":"IF($J246=\"\",\"\",VLOOKUP($J246,判定式!$Y$3:$Z$12,2,TRUE))","v":""},{"$f":"IF($K246=\"\",\"\",VLOOKUP($K246,判定式!$T$3:$W$12,4,TRUE))","v":""},{"$f":"IF($L246=\"\",\"\",VLOOKUP($L246,判定式!$U$3:$W$12,3,TRUE))","v":""},{"$f":"IF(COUNTBLANK(M246:T246)=0,SUM(M246:T246),\"\")","v":""},{"$f":"IF(ISNUMBER(D246),\"判定外\",IF(C246=6,VLOOKUP(U246,判定式!$C$15:I$19,7,TRUE),IF(C246=7,VLOOKUP(U246,判定式!$D$15:I$19,6,TRUE),IF(C246=8,VLOOKUP(U246,判定式!$E$15:I$19,5,TRUE),IF(C246=9,VLOOKUP(U246,判定式!$F$15:I$19,4,TRUE),IF(C246=10,VLOOKUP(U246,判定式!$G$15:I$19,3,TRUE),IF(C246=11,VLOOKUP(U246,判定式!$H$15:I$19,2,TRUE))))))))","v":false}]
[98,null,null,"-",null,null,null,null,null,null,null,null,{"$f":"IF($E247=\"\",\"\",VLOOKUP($E247,判定式!$P$3:$W$12,8,TRUE))","v":""},{"$f":"IF($F247=\"\",\"\",VLOOKUP($F247,判定式!$Q$3:$W$12,7,TRUE))","v":""},{"$f":"IF($G247=\"\",\"\",VLOOKUP($G247,判定式!$R$3:$W$12,6,TRUE))","v":""},{"$f":"IF($H247=\"\",\"\",VLOOKUP($H247,判定式!$S$3:$W$12,5,TRUE))","v":""},{"$f":"IF($I247=\"\",\"\",VLOOKUP($I247,判定式!$V$3:$W$12,2,TRUE))","v":""},{"$f":"IF($J247=\"\",\"\",VLOOKUP($J247,判定式!$Y$3:$Z$12,2,TRUE))","v":""},{"$f":"IF($K247=\"\",\"\",VLOOKUP($K247,判定式!$T$3:$W$12,4,TRUE))","v":""},{"$f":"IF($L247=\"\",\"\",VLOOKUP($L247,判定式!$U$3:$W$12,3,TRUE))","v":""},"",{"$f":"IF(ISNUMBER(D247),\"判定外\",IF(C247=6,VLOOKUP(U247,判定式!$C$15:I$19,7,TRUE),IF(C247=7,VLOOKUP(U247,判定式!$D$15:I$19,6,TRUE),IF(C247=8,VLOOKUP(U247,判定式!$E$15:I$19,5,TRUE),IF(C247=9,VLOOKUP(U247,判定式!$F$15:I$19,4,TRUE),IF(C247=10,VLOOKUP(U247,判定式!$G$15:I$19,3,TRUE),IF(C247=11,VLOOKUP(U247,判定式!$H$15:I$19,2,TRUE))))))))","v":false}]
[99,null,null,"-",null,null,null,null,null,null,null,null,{"$f":"IF($E248=\"\",\"\",VLOOKUP($E248,判定式!$P$3:$W$12,8,TRUE))","v":""},{"$f":"IF($F248=\"\",\"\",VLOOKUP($F248,判定式!$Q$3:$W$12,7,TRUE))","v":""},{"$f":"IF($G248=\"\",\"\",VLOOKUP($G248,判定式!$R$3:$W$12,6,TRUE))","v":""},{"$f":"IF($H248=\"\",\"\",VLOOKUP($H248,判定式!$S$3:$W$12,5,TRUE))","v":""},{"$f":"IF($I248=\"\",\"\",VLOOKUP($I248,判定式!$V$3:$W$12,2,TRUE))","v":""},{"$f":"IF($J248=\"\",\"\",VLOOKUP($J248,判定式!$Y$3:$Z$12,2,TRUE))","v":""},{"$f":"IF($K248=\"\",\"\",VLOOKUP($K248,判定式!$T$3:$W$12,4,TRUE))","v":""},{"$f":"IF($L248=\"\",\"\",VLOOKUP($L248,判定式!$U$3:$W$12,3,TRUE))","v":""},"",{"$f":"IF(ISNUMBER(D248),\"判定外\",IF(C248=6,VLOOKUP(U248,判定式!$C$15:I$19,7,TRUE),IF(C248=7,VLOOKUP(U248,判定式!$D$15:I$19,6,TRUE),IF(C248=8,VLOOKUP(U248,判定式!$E$15:I$19,5,TRUE),IF(C248=9,VLOOKUP(U248,判定式!$F$15:I$19,4,TRUE),IF(C248=10,VLOOKUP(U248,判定式!$G$15:I$19,3,TRUE),IF(C248=11,VLOOKUP(U248,判定式!$H$15:I$19,2,TRUE))))))))","v":false}]
[100,null,null,"-",null,null,null,null,null,null,null,null,{"$f":"IF($E249=\"\",\"\",VLOOKUP($E249,判定式!$P$3:$W$12,8,TRUE))","v":""},{"$f":"IF($F249=\"\",\"\",VLOOKUP($F249,判定式!$Q$3:$W$12,7,TRUE))","v":""},{"$f":"IF($G249=\"\",\"\",VLOOKUP($G249,判定式!$R$3:$W$12,6,TRUE))","v":""},{"$f":"IF($H249=\"\",\"\",VLOOKUP($H249,判定式!$S$3:$W$12,5,TRUE))","v":""},{"$f":"IF($I249=\"\",\"\",VLOOKUP($I249,判定式!$V$3:$W$12,2,TRUE))","v":""},{"$f":"IF($J249=\"\",\"\",VLOOKUP($J249,判定式!$Y$3:$Z$12,2,TRUE))","v":""},{"$f":"IF($K249=\"\",\"\",VLOOKUP($K249,判定式!$T$3:$W$12,4,TRUE))","v":""},{"$f":"IF($L249=\"\",\"\",VLOOKUP($L249,判定式!$U$3:$W$12,3,TRUE))","v":""},"",{"$f":"IF(ISNUMBER(D249),\"判定外\",IF(C249=6,VLOOKUP(U249,判定式!$C$15:I$19,7,TRUE),IF(C249=7,VLOOKUP(U249,判定式!$D$15:I$19,6,TRUE),IF(C249=8,VLOOKUP(U249,判定式!$E$15:I$19,5,TRUE),IF(C249=9,VLOOKUP(U249,判定式!$F$15:I$19,4,TRUE),IF(C249=10,VLOOKUP(U249,判定式!$G$15:I$19,3,TRUE),IF(C249=11,VLOOKUP(U249,判定式!$H$15:I$19,2,TRUE))))))))","v":false}]
[101,null,null,"-",null,null,null,null,null,null,null,null,{"$f":"IF($E250=\"\",\"\",VLOOKUP($E250,判定式!$P$3:$W$12,8,TRUE))","v":""},{"$f":"IF($F250=\"\",\"\",VLOOKUP($F250,判定式!$Q$3:$W$12,7,TRUE))","v":""},{"$f":"IF($G250=\"\",\"\",VLOOKUP($G250,判定式!$R$3:$W$12,6,TRUE))","v":""},{"$f":"IF($H250=\"\",\"\",VLOOKUP($H250,判定式!$S$3:$W$12,5,TRUE))","v":""},{"$f":"IF($I250=\"\",\"\",VLOOKUP($I250,判定式!$V$3:$W$12,2,TRUE))","v":""},{"$f":"IF($J250=\"\",\"\",VLOOKUP($J250,判定式!$Y$3:$Z$12,2,TRUE))","v":""},{"$f":"IF($K250=\"\",\"\",VLOOKUP($K250,判定式!$T$3:$W$12,4,TRUE))","v":""},{"$f":"IF($L250=\"\",\"\",VLOOKUP($L250,判定式!$U$3:$W$12,3,TRUE))","v":""},"",{"$f":"IF(ISNUMBER(D250),\"判定外\",IF(C250=6,VLOOKUP(U250,判定式!$C$15:I$19,7,TRUE),IF(C250=7,VLOOKUP(U250,判定式!$D$15:I$19,6,TRUE),IF(C250=8,VLOOKUP(U250,判定式!$E$15:I$19,5,TRUE),IF(C250=9,VLOOKUP(U250,判定式!$F$15:I$19,4,TRUE),IF(C250=10,VLOOKUP(U250,判定式!$G$15:I$19,3,TRUE),IF(C250=11,VLOOKUP(U250,判定式!$H$15:I$19,2,TRUE))))))))","v":false}]
[102,null,null,"-",null,null,null,null,null,null,null,null,{"$f":"IF($E251=\"\",\"\",VLOOKUP($E251,判定式!$P$3:$W$12,8,TRUE))","v":""},{"$f":"IF($F251=\"\",\"\",VLOOKUP($F251,判定式!$Q$3:$W$12,7,TRUE))","v":""},{"$f":"IF($G251=\"\",\"\",VLOOKUP($G251,判定式!$R$3:$W$12,6,TRUE))","v":""},{"$f":"IF($H251=\"\",\"\",VLOOKUP($H251,判定式!$S$3:$W$12,5,TRUE))","v":""},{"$f":"IF($I251=\"\",\"\",VLOOKUP($I251,判定式!$V$3:$W$12,2,TRUE))","v":""},{"$f":"IF($J251=\"\",\"\",VLOOKUP($J251,判定式!$Y$3:$Z$12,2,TRUE))","v":""},{"$f":"IF($K251=\"\",\"\",VLOOKUP($K251,判定式!$T$3:$W$12,4,TRUE))","v":""},{"$f":"IF($L251=\"\",\"\",VLOOKUP($L251,判定式!$U$3:$W$12,3,TRUE))","v":""},"",{"$f":"IF(ISNUMBER(D251),\"判定外\",IF(C251=6,VLOOKUP(U251,判定式!$C$15:I$19,7,TRUE),IF(C251=7,VLOOKUP(U251,判定式!$D$15:I$19,6,TRUE),IF(C251=8,VLOOKUP(U251,判定式!$E$15:I$19,5,TRUE),IF(C251=9,VLOOKUP(U251,判定式!$F$15:I$19,4,TRUE),IF(C251=10,VLOOKUP(U251,判定式!$G$15:I$19,3,TRUE),IF(C251=11,VLOOKUP(U251,判定式!$H$15:I$19,2,TRUE))))))))","v":false}]
[103,null,null,"-",null,null,null,null,null,null,null,null,{"$f":"IF($E252=\"\",\"\",VLOOKUP($E252,判定式!$P$3:$W$12,8,TRUE))","v":""},{"$f":"IF($F252=\"\",\"\",VLOOKUP($F252,判定式!$Q$3:$W$12,7,TRUE))","v":""},{"$f":"IF($G252=\"\",\"\",VLOOKUP($G252,判定式!$R$3:$W$12,6,TRUE))","v":""},{"$f":"IF($H252=\"\",\"\",VLOOKUP($H252,判定式!$S$3:$W$12,5,TRUE))","v":""},{"$f":"IF($I252=\"\",\"\",VLOOKUP($I252,判定式!$V$3:$W$12,2,TRUE))","v":""},{"$f":"IF($J252=\"\",\"\",VLOOKUP($J252,判定式!$Y$3:$Z$12,2,TRUE))","v":""},{"$f":"IF($K252=\"\",\"\",VLOOKUP($K252,判定式!$T$3:$W$12,4,TRUE))","v":""},{"$f":"IF($L252=\"\",\"\",VLOOKUP($L252,判定式!$U$3:$W$12,3,TRUE))","v":""},"",{"$f":"IF(ISNUMBER(D252),\"判定外\",IF(C252=6,VLOOKUP(U252,判定式!$C$15:I$19,7,TRUE),IF(C252=7,VLOOKUP(U252,判定式!$D$15:I$19,6,TRUE),IF(C252=8,VLOOKUP(U252,判定式!$E$15:I$19,5,TRUE),IF(C252=9,VLOOKUP(U252,判定式!$F$15:I$19,4,TRUE),IF(C252=10,VLOOKUP(U252,判定式!$G$15:I$19,3,TRUE),IF(C252=11,VLOOKUP(U252,判定式!$H$15:I$19,2,TRUE))))))))","v":false}]
[104,null,null,"-",null,null,null,null,null,null,null,null,{"$f":"IF($E253=\"\",\"\",VLOOKUP($E253,判定式!$P$3:$W$12,8,TRUE))","v":""},{"$f":"IF($F253=\"\",\"\",VLOOKUP($F253,判定式!$Q$3:$W$12,7,TRUE))","v":""},{"$f":"IF($G253=\"\",\"\",VLOOKUP($G253,判定式!$R$3:$W$12,6,TRUE))","v":""},{"$f":"IF($H253=\"\",\"\",VLOOKUP($H253,判定式!$S$3:$W$12,5,TRUE))","v":""},{"$f":"IF($I253=\"\",\"\",VLOOKUP($I253,判定式!$V$3:$W$12,2,TRUE))","v":""},{"$f":"IF($J253=\"\",\"\",VLOOKUP($J253,判定式!$Y$3:$Z$12,2,TRUE))","v":""},{"$f":"IF($K253=\"\",\"\",VLOOKUP($K253,判定式!$T$3:$W$12,4,TRUE))","v":""},{"$f":"IF($L253=\"\",\"\",VLOOKUP($L253,判定式!$U$3:$W$12,3,TRUE))","v":""},"",{"$f":"IF(ISNUMBER(D253),\"判定外\",IF(C253=6,VLOOKUP(U253,判定式!$C$15:I$19,7,TRUE),IF(C253=7,VLOOKUP(U253,判定式!$D$15:I$19,6,TRUE),IF(C253=8,VLOOKUP(U253,判定式!$E$15:I$19,5,TRUE),IF(C253=9,VLOOKUP(U253,判定式!$F$15:I$19,4,TRUE),IF(C253=10,VLOOKUP(U253,判定式!$G$15:I$19,3,TRUE),IF(C253=11,VLOOKUP(U253,判定式!$H$15:I$19,2,TRUE))))))))","v":false}]
[105,null,null,"-",null,null,null,null,null,null,null,null,{"$f":"IF($E254=\"\",\"\",VLOOKUP($E254,判定式!$P$3:$W$12,8,TRUE))","v":""},{"$f":"IF($F254=\"\",\"\",VLOOKUP($F254,判定式!$Q$3:$W$12,7,TRUE))","v":""},{"$f":"IF($G254=\"\",\"\",VLOOKUP($G254,判定式!$R$3:$W$12,6,TRUE))","v":""},{"$f":"IF($H254=\"\",\"\",VLOOKUP($H254,判定式!$S$3:$W$12,5,TRUE))","v":""},{"$f":"IF($I254=\"\",\"\",VLOOKUP($I254,判定式!$V$3:$W$12,2,TRUE))","v":""},{"$f":"IF($J254=\"\",\"\",VLOOKUP($J254,判定式!$Y$3:$Z$12,2,TRUE))","v":""},{"$f":"IF($K254=\"\",\"\",VLOOKUP($K254,判定式!$T$3:$W$12,4,TRUE))","v":""},{"$f":"IF($L254=\"\",\"\",VLOOKUP($L254,判定式!$U$3:$W$12,3,TRUE))","v":""},"",{"$f":"IF(ISNUMBER(D254),\"判定外\",IF(C254=6,VLOOKUP(U254,判定式!$C$15:I$19,7,TRUE),IF(C254=7,VLOOKUP(U254,判定式!$D$15:I$19,6,TRUE),IF(C254=8,VLOOKUP(U254,判定式!$E$15:I$19,5,TRUE),IF(C254=9,VLOOKUP(U254,判定式!$F$15:I$19,4,TRUE),IF(C254=10,VLOOKUP(U254,判定式!$G$15:I$19,3,TRUE),IF(C254=11,VLOOKUP(U254,判定式!$H$15:I$19,2,TRUE))))))))","v":false}]
[106,null,null,"-",null,null,null,null,null,null,null,null,{"$f":"IF($E255=\"\",\"\",VLOOKUP($E255,判定式!$P$3:$W$12,8,TRUE))","v":""},{"$f":"IF($F255=\"\",\"\",VLOOKUP($F255,判定式!$Q$3:$W$12,7,TRUE))","v":""},{"$f":"IF($G255=\"\",\"\",VLOOKUP($G255,判定式!$R$3:$W$12,6,TRUE))","v":""},{"$f":"IF($H255=\"\",\"\",VLOOKUP($H255,判定式!$S$3:$W$12,5,TRUE))","v":""},{"$f":"IF($I255=\"\",\"\",VLOOKUP($I255,判定式!$V$3:$W$12,2,TRUE))","v":""},{"$f":"IF($J255=\"\",\"\",VLOOKUP($J255,判定式!$Y$3:$Z$12,2,TRUE))","v":""},{"$f":"IF($K255=\"\",\"\",VLOOKUP($K255,判定式!$T$3:$W$12,4,TRUE))","v":""},{"$f":"IF($L255=\"\",\"\",VLOOKUP($L255,判定式!$U$3:$W$12,3,TRUE))","v":""},"",{"$f":"IF(ISNUMBER(D255),\"判定外\",IF(C255=6,VLOOKUP(U255,判定式!$C$15:I$19,7,TRUE),IF(C255=7,VLOOKUP(U255,判定式!$D$15:I$19,6,TRUE),IF(C255=8,VLOOKUP(U255,判定式!$E$15:I$19,5,TRUE),IF(C255=9,VLOOKUP(U255,判定式!$F$15:I$19,4,TRUE),IF(C255=10,VLOOKUP(U255,判定式!$G$15:I$19,3,TRUE),IF(C255=11,VLOOKUP(U255,判定式!$H$15:I$19,2,TRUE))))))))","v":false}]
[107,null,null,"-",null,null,null,null,null,null,null,null,{"$f":"IF($E256=\"\",\"\",VLOOKUP($E256,判定式!$P$3:$W$12,8,TRUE))","v":""},{"$f":"IF($F256=\"\",\"\",VLOOKUP($F256,判定式!$Q$3:$W$12,7,TRUE))","v":""},{"$f":"IF($G256=\"\",\"\",VLOOKUP($G256,判定式!$R$3:$W$12,6,TRUE))","v":""},{"$f":"IF($H256=\"\",\"\",VLOOKUP($H256,判定式!$S$3:$W$12,5,TRUE))","v":""},{"$f":"IF($I256=\"\",\"\",VLOOKUP($I256,判定式!$V$3:$W$12,2,TRUE))","v":""},{"$f":"IF($J256=\"\",\"\",VLOOKUP($J256,判定式!$Y$3:$Z$12,2,TRUE))","v":""},{"$f":"IF($K256=\"\",\"\",VLOOKUP($K256,判定式!$T$3:$W$12,4,TRUE))","v":""},{"$f":"IF($L256=\"\",\"\",VLOOKUP($L256,判定式!$U$3:$W$12,3,TRUE))","v":""},"",{"$f":"IF(ISNUMBER(D256),\"判定外\",IF(C256=6,VLOOKUP(U256,判定式!$C$15:I$19,7,TRUE),IF(C256=7,VLOOKUP(U256,判定式!$D$15:I$19,6,TRUE),IF(C256=8,VLOOKUP(U256,判定式!$E$15:I$19,5,TRUE),IF(C256=9,VLOOKUP(U256,判定式!$F$15:I$19,4,TRUE),IF(C256=10,VLOOKUP(U256,判定式!$G$15:I$19,3,TRUE),IF(C256=11,VLOOKUP(U256,判定式!$H$15:I$19,2,TRUE))))))))","v":false}]
[108,null,null,"-",null,null,null,null,null,null,null,null,{"$f":"IF($E257=\"\",\"\",VLOOKUP($E257,判定式!$P$3:$W$12,8,TRUE))","v":""},{"$f":"IF($F257=\"\",\"\",VLOOKUP($F257,判定式!$Q$3:$W$12,7,TRUE))","v":""},{"$f":"IF($G257=\"\",\"\",VLOOKUP($G257,判定式!$R$3:$W$12,6,TRUE))","v":""},{"$f":"IF($H257=\"\",\"\",VLOOKUP($H257,判定式!$S$3:$W$12,5,TRUE))","v":""},{"$f":"IF($I257=\"\",\"\",VLOOKUP($I257,判定式!$V$3:$W$12,2,TRUE))","v":""},{"$f":"IF($J257=\"\",\"\",VLOOKUP($J257,判定式!$Y$3:$Z$12,2,TRUE))","v":""},{"$f":"IF($K257=\"\",\"\",VLOOKUP($K257,判定式!$T$3:$W$12,4,TRUE))","v":""},{"$f":"IF($L257=\"\",\"\",VLOOKUP($L257,判定式!$U$3:$W$12,3,TRUE))","v":""},"",{"$f":"IF(ISNUMBER(D257),\"判定外\",IF(C257=6,VLOOKUP(U257,判定式!$C$15:I$19,7,TRUE),IF(C257=7,VLOOKUP(U257,判定式!$D$15:I$19,6,TRUE),IF(C257=8,VLOOKUP(U257,判定式!$E$15:I$19,5,TRUE),IF(C257=9,VLOOKUP(U257,判定式!$F$15:I$19,4,TRUE),IF(C257=10,VLOOKUP(U257,判定式!$G$15:I$19,3,TRUE),IF(C257=11,VLOOKUP(U257,判定式!$H$15:I$19,2,TRUE))))))))","v":false}]
[109,null,null,"-",null,null,null,null,null,null,null,null,{"$f":"IF($E258=\"\",\"\",VLOOKUP($E258,判定式!$P$3:$W$12,8,TRUE))","v":""},{"$f":"IF($F258=\"\",\"\",VLOOKUP($F258,判定式!$Q$3:$W$12,7,TRUE))","v":""},{"$f":"IF($G258=\"\",\"\",VLOOKUP($G258,判定式!$R$3:$W$12,6,TRUE))","v":""},{"$f":"IF($H258=\"\",\"\",VLOOKUP($H258,判定式!$S$3:$W$12,5,TRUE))","v":""},{"$f":"IF($I258=\"\",\"\",VLOOKUP($I258,判定式!$V$3:$W$12,2,TRUE))","v":""},{"$f":"IF($J258=\"\",\"\",VLOOKUP($J258,判定式!$Y$3:$Z$12,2,TRUE))","v":""},{"$f":"IF($K258=\"\",\"\",VLOOKUP($K258,判定式!$T$3:$W$12,4,TRUE))","v":""},{"$f":"IF($L258=\"\",\"\",VLOOKUP($L258,判定式!$U$3:$W$12,3,TRUE))","v":""},"",{"$f":"IF(ISNUMBER(D258),\"判定外\",IF(C258=6,VLOOKUP(U258,判定式!$C$15:I$19,7,TRUE),IF(C258=7,VLOOKUP(U258,判定式!$D$15:I$19,6,TRUE),IF(C258=8,VLOOKUP(U258,判定式!$E$15:I$19,5,TRUE),IF(C258=9,VLOOKUP(U258,判定式!$F$15:I$19,4,TRUE),IF(C258=10,VLOOKUP(U258,判定式!$G$15:I$19,3,TRUE),IF(C258=11,VLOOKUP(U258,判定式!$H$15:I$19,2,TRUE))))))))","v":false}]
[110,null,null,"-",null,null,null,null,null,null,null,null,{"$f":"IF($E259=\"\",\"\",VLOOKUP($E259,判定式!$P$3:$W$12,8,TRUE))","v":""},{"$f":"IF($F259=\"\",\"\",VLOOKUP($F259,判定式!$Q$3:$W$12,7,TRUE))","v":""},{"$f":"IF($G259=\"\",\"\",VLOOKUP($G259,判定式!$R$3:$W$12,6,TRUE))","v":""},{"$f":"IF($H259=\"\",\"\",VLOOKUP($H259,判定式!$S$3:$W$12,5,TRUE))","v":""},{"$f":"IF($I259=\"\",\"\",VLOOKUP($I259,判定式!$V$3:$W$12,2,TRUE))","v":""},{"$f":"IF($J259=\"\",\"\",VLOOKUP($J259,判定式!$Y$3:$Z$12,2,TRUE))","v":""},{"$f":"IF($K259=\"\",\"\",VLOOKUP($K259,判定式!$T$3:$W$12,4,TRUE))","v":""},{"$f":"IF($L259=\"\",\"\",VLOOKUP($L259,判定式!$U$3:$W$12,3,TRUE))","v":""},"",{"$f":"IF(ISNUMBER(D259),\"判定外\",IF(C259=6,VLOOKUP(U259,判定式!$C$15:I$19,7,TRUE),IF(C259=7,VLOOKUP(U259,判定式!$D$15:I$19,6,TRUE),IF(C259=8,VLOOKUP(U259,判定式!$E$15:I$19,5,TRUE),IF(C259=9,VLOOKUP(U259,判定式!$F$15:I$19,4,TRUE),IF(C259=10,VLOOKUP(U259,判定式!$G$15:I$19,3,TRUE),IF(C259=11,VLOOKUP(U259,判定式!$H$15:I$19,2,TRUE))))))))","v":false}]
[111,null,null,"-",null,null,null,null,null,null,null,null,{"$f":"IF($E260=\"\",\"\",VLOOKUP($E260,判定式!$P$3:$W$12,8,TRUE))","v":""},{"$f":"IF($F260=\"\",\"\",VLOOKUP($F260,判定式!$Q$3:$W$12,7,TRUE))","v":""},{"$f":"IF($G260=\"\",\"\",VLOOKUP($G260,判定式!$R$3:$W$12,6,TRUE))","v":""},{"$f":"IF($H260=\"\",\"\",VLOOKUP($H260,判定式!$S$3:$W$12,5,TRUE))","v":""},{"$f":"IF($I260=\"\",\"\",VLOOKUP($I260,判定式!$V$3:$W$12,2,TRUE))","v":""},{"$f":"IF($J260=\"\",\"\",VLOOKUP($J260,判定式!$Y$3:$Z$12,2,TRUE))","v":""},{"$f":"IF($K260=\"\",\"\",VLOOKUP($K260,判定式!$T$3:$W$12,4,TRUE))","v":""},{"$f":"IF($L260=\"\",\"\",VLOOKUP($L260,判定式!$U$3:$W$12,3,TRUE))","v":""},"",{"$f":"IF(ISNUMBER(D260),\"判定外\",IF(C260=6,VLOOKUP(U260,判定式!$C$15:I$19,7,TRUE),IF(C260=7,VLOOKUP(U260,判定式!$D$15:I$19,6,TRUE),IF(C260=8,VLOOKUP(U260,判定式!$E$15:I$19,5,TRUE),IF(C260=9,VLOOKUP(U260,判定式!$F$15:I$19,4,TRUE),IF(C260=10,VLOOKUP(U260,判定式!$G$15:I$19,3,TRUE),IF(C260=11,VLOOKUP(U260,判定式!$H$15:I$19,2,TRUE))))))))","v":false}]
[112,null,null,"-",null,null,null,null,null,null,null,null,{"$f":"IF($E261=\"\",\"\",VLOOKUP($E261,判定式!$P$3:$W$12,8,TRUE))","v":""},{"$f":"IF($F261=\"\",\"\",VLOOKUP($F261,判定式!$Q$3:$W$12,7,TRUE))","v":""},{"$f":"IF($G261=\"\",\"\",VLOOKUP($G261,判定式!$R$3:$W$12,6,TRUE))","v":""},{"$f":"IF($H261=\"\",\"\",VLOOKUP($H261,判定式!$S$3:$W$12,5,TRUE))","v":""},{"$f":"IF($I261=\"\",\"\",VLOOKUP($I261,判定式!$V$3:$W$12,2,TRUE))","v":""},{"$f":"IF($J261=\"\",\"\",VLOOKUP($J261,判定式!$Y$3:$Z$12,2,TRUE))","v":""},{"$f":"IF($K261=\"\",\"\",VLOOKUP($K261,判定式!$T$3:$W$12,4,TRUE))","v":""},{"$f":"IF($L261=\"\",\"\",VLOOKUP($L261,判定式!$U$3:$W$12,3,TRUE))","v":""},"",{"$f":"IF(ISNUMBER(D261),\"判定外\",IF(C261=6,VLOOKUP(U261,判定式!$C$15:I$19,7,TRUE),IF(C261=7,VLOOKUP(U261,判定式!$D$15:I$19,6,TRUE),IF(C261=8,VLOOKUP(U261,判定式!$E$15:I$19,5,TRUE),IF(C261=9,VLOOKUP(U261,判定式!$F$15:I$19,4,TRUE),IF(C261=10,VLOOKUP(U261,判定式!$G$15:I$19,3,TRUE),IF(C261=11,VLOOKUP(U261,判定式!$H$15:I$19,2,TRUE))))))))","v":false}]
[113,null,null,"-",null,null,null,null,null,null,null,null,{"$f":"IF($E262=\"\",\"\",VLOOKUP($E262,判定式!$P$3:$W$12,8,TRUE))","v":""},{"$f":"IF($F262=\"\",\"\",VLOOKUP($F262,判定式!$Q$3:$W$12,7,TRUE))","v":""},{"$f":"IF($G262=\"\",\"\",VLOOKUP($G262,判定式!$R$3:$W$12,6,TRUE))","v":""},{"$f":"IF($H262=\"\",\"\",VLOOKUP($H262,判定式!$S$3:$W$12,5,TRUE))","v":""},{"$f":"IF($I262=\"\",\"\",VLOOKUP($I262,判定式!$V$3:$W$12,2,TRUE))","v":""},{"$f":"IF($J262=\"\",\"\",VLOOKUP($J262,判定式!$Y$3:$Z$12,2,TRUE))","v":""},{"$f":"IF($K262=\"\",\"\",VLOOKUP($K262,判定式!$T$3:$W$12,4,TRUE))","v":""},{"$f":"IF($L262=\"\",\"\",VLOOKUP($L262,判定式!$U$3:$W$12,3,TRUE))","v":""},"",{"$f":"IF(ISNUMBER(D262),\"判定外\",IF(C262=6,VLOOKUP(U262,判定式!$C$15:I$19,7,TRUE),IF(C262=7,VLOOKUP(U262,判定式!$D$15:I$19,6,TRUE),IF(C262=8,VLOOKUP(U262,判定式!$E$15:I$19,5,TRUE),IF(C262=9,VLOOKUP(U262,判定式!$F$15:I$19,4,TRUE),IF(C262=10,VLOOKUP(U262,判定式!$G$15:I$19,3,TRUE),IF(C262=11,VLOOKUP(U262,判定式!$H$15:I$19,2,TRUE))))))))","v":false}]
[114,null,null,"-",null,null,null,null,null,null,null,null,{"$f":"IF($E263=\"\",\"\",VLOOKUP($E263,判定式!$P$3:$W$12,8,TRUE))","v":""},{"$f":"IF($F263=\"\",\"\",VLOOKUP($F263,判定式!$Q$3:$W$12,7,TRUE))","v":""},{"$f":"IF($G263=\"\",\"\",VLOOKUP($G263,判定式!$R$3:$W$12,6,TRUE))","v":""},{"$f":"IF($H263=\"\",\"\",VLOOKUP($H263,判定式!$S$3:$W$12,5,TRUE))","v":""},{"$f":"IF($I263=\"\",\"\",VLOOKUP($I263,判定式!$V$3:$W$12,2,TRUE))","v":""},{"$f":"IF($J263=\"\",\"\",VLOOKUP($J263,判定式!$Y$3:$Z$12,2,TRUE))","v":""},{"$f":"IF($K263=\"\",\"\",VLOOKUP($K263,判定式!$T$3:$W$12,4,TRUE))","v":""},{"$f":"IF($L263=\"\",\"\",VLOOKUP($L263,判定式!$U$3:$W$12,3,TRUE))","v":""},"",{"$f":"IF(ISNUMBER(D263),\"判定外\",IF(C263=6,VLOOKUP(U263,判定式!$C$15:I$19,7,TRUE),IF(C263=7,VLOOKUP(U263,判定式!$D$15:I$19,6,TRUE),IF(C263=8,VLOOKUP(U263,判定式!$E$15:I$19,5,TRUE),IF(C263=9,VLOOKUP(U263,判定式!$F$15:I$19,4,TRUE),IF(C263=10,VLOOKUP(U263,判定式!$G$15:I$19,3,TRUE),IF(C263=11,VLOOKUP(U263,判定式!$H$15:I$19,2,TRUE))))))))","v":false}]
[115,null,null,"-",null,null,null,null,null,null,null,null,{"$f":"IF($E264=\"\",\"\",VLOOKUP($E264,判定式!$P$3:$W$12,8,TRUE))","v":""},{"$f":"IF($F264=\"\",\"\",VLOOKUP($F264,判定式!$Q$3:$W$12,7,TRUE))","v":""},{"$f":"IF($G264=\"\",\"\",VLOOKUP($G264,判定式!$R$3:$W$12,6,TRUE))","v":""},{"$f":"IF($H264=\"\",\"\",VLOOKUP($H264,判定式!$S$3:$W$12,5,TRUE))","v":""},{"$f":"IF($I264=\"\",\"\",VLOOKUP($I264,判定式!$V$3:$W$12,2,TRUE))","v":""},{"$f":"IF($J264=\"\",\"\",VLOOKUP($J264,判定式!$Y$3:$Z$12,2,TRUE))","v":""},{"$f":"IF($K264=\"\",\"\",VLOOKUP($K264,判定式!$T$3:$W$12,4,TRUE))","v":""},{"$f":"IF($L264=\"\",\"\",VLOOKUP($L264,判定式!$U$3:$W$12,3,TRUE))","v":""},"",{"$f":"IF(ISNUMBER(D264),\"判定外\",IF(C264=6,VLOOKUP(U264,判定式!$C$15:I$19,7,TRUE),IF(C264=7,VLOOKUP(U264,判定式!$D$15:I$19,6,TRUE),IF(C264=8,VLOOKUP(U264,判定式!$E$15:I$19,5,TRUE),IF(C264=9,VLOOKUP(U264,判定式!$F$15:I$19,4,TRUE),IF(C264=10,VLOOKUP(U264,判定式!$G$15:I$19,3,TRUE),IF(C264=11,VLOOKUP(U264,判定式!$H$15:I$19,2,TRUE))))))))","v":false}]
[116,null,null,"-",null,null,null,null,null,null,null,null,{"$f":"IF($E265=\"\",\"\",VLOOKUP($E265,判定式!$P$3:$W$12,8,TRUE))","v":""},{"$f":"IF($F265=\"\",\"\",VLOOKUP($F265,判定式!$Q$3:$W$12,7,TRUE))","v":""},{"$f":"IF($G265=\"\",\"\",VLOOKUP($G265,判定式!$R$3:$W$12,6,TRUE))","v":""},{"$f":"IF($H265=\"\",\"\",VLOOKUP($H265,判定式!$S$3:$W$12,5,TRUE))","v":""},{"$f":"IF($I265=\"\",\"\",VLOOKUP($I265,判定式!$V$3:$W$12,2,TRUE))","v":""},{"$f":"IF($J265=\"\",\"\",VLOOKUP($J265,判定式!$Y$3:$Z$12,2,TRUE))","v":""},{"$f":"IF($K265=\"\",\"\",VLOOKUP($K265,判定式!$T$3:$W$12,4,TRUE))","v":""},{"$f":"IF($L265=\"\",\"\",VLOOKUP($L265,判定式!$U$3:$W$12,3,TRUE))","v":""},"",{"$f":"IF(ISNUMBER(D265),\"判定外\",IF(C265=6,VLOOKUP(U265,判定式!$C$15:I$19,7,TRUE),IF(C265=7,VLOOKUP(U265,判定式!$D$15:I$19,6,TRUE),IF(C265=8,VLOOKUP(U265,判定式!$E$15:I$19,5,TRUE),IF(C265=9,VLOOKUP(U265,判定式!$F$15:I$19,4,TRUE),IF(C265=10,VLOOKUP(U265,判定式!$G$15:I$19,3,TRUE),IF(C265=11,VLOOKUP(U265,判定式!$H$15:I$19,2,TRUE))))))))","v":false}]
[117,null,null,"-",null,null,null,null,null,null,null,null,{"$f":"IF($E266=\"\",\"\",VLOOKUP($E266,判定式!$P$3:$W$12,8,TRUE))","v":""},{"$f":"IF($F266=\"\",\"\",VLOOKUP($F266,判定式!$Q$3:$W$12,7,TRUE))","v":""},{"$f":"IF($G266=\"\",\"\",VLOOKUP($G266,判定式!$R$3:$W$12,6,TRUE))","v":""},{"$f":"IF($H266=\"\",\"\",VLOOKUP($H266,判定式!$S$3:$W$12,5,TRUE))","v":""},{"$f":"IF($I266=\"\",\"\",VLOOKUP($I266,判定式!$V$3:$W$12,2,TRUE))","v":""},{"$f":"IF($J266=\"\",\"\",VLOOKUP($J266,判定式!$Y$3:$Z$12,2,TRUE))","v":""},{"$f":"IF($K266=\"\",\"\",VLOOKUP($K266,判定式!$T$3:$W$12,4,TRUE))","v":""},{"$f":"IF($L266=\"\",\"\",VLOOKUP($L266,判定式!$U$3:$W$12,3,TRUE))","v":""},"",{"$f":"IF(ISNUMBER(D266),\"判定外\",IF(C266=6,VLOOKUP(U266,判定式!$C$15:I$19,7,TRUE),IF(C266=7,VLOOKUP(U266,判定式!$D$15:I$19,6,TRUE),IF(C266=8,VLOOKUP(U266,判定式!$E$15:I$19,5,TRUE),IF(C266=9,VLOOKUP(U266,判定式!$F$15:I$19,4,TRUE),IF(C266=10,VLOOKUP(U266,判定式!$G$15:I$19,3,TRUE),IF(C266=11,VLOOKUP(U266,判定式!$H$15:I$19,2,TRUE))))))))","v":false}]
[118,null,null,"-",null,null,null,null,null,null,null,null,{"$f":"IF($E267=\"\",\"\",VLOOKUP($E267,判定式!$P$3:$W$12,8,TRUE))","v":""},{"$f":"IF($F267=\"\",\"\",VLOOKUP($F267,判定式!$Q$3:$W$12,7,TRUE))","v":""},{"$f":"IF($G267=\"\",\"\",VLOOKUP($G267,判定式!$R$3:$W$12,6,TRUE))","v":""},{"$f":"IF($H267=\"\",\"\",VLOOKUP($H267,判定式!$S$3:$W$12,5,TRUE))","v":""},{"$f":"IF($I267=\"\",\"\",VLOOKUP($I267,判定式!$V$3:$W$12,2,TRUE))","v":""},{"$f":"IF($J267=\"\",\"\",VLOOKUP($J267,判定式!$Y$3:$Z$12,2,TRUE))","v":""},{"$f":"IF($K267=\"\",\"\",VLOOKUP($K267,判定式!$T$3:$W$12,4,TRUE))","v":""},{"$f":"IF($L267=\"\",\"\",VLOOKUP($L267,判定式!$U$3:$W$12,3,TRUE))","v":""},"",{"$f":"IF(ISNUMBER(D267),\"判定外\",IF(C267=6,VLOOKUP(U267,判定式!$C$15:I$19,7,TRUE),IF(C267=7,VLOOKUP(U267,判定式!$D$15:I$19,6,TRUE),IF(C267=8,VLOOKUP(U267,判定式!$E$15:I$19,5,TRUE),IF(C267=9,VLOOKUP(U267,判定式!$F$15:I$19,4,TRUE),IF(C267=10,VLOOKUP(U267,判定式!$G$15:I$19,3,TRUE),IF(C267=11,VLOOKUP(U267,判定式!$H$15:I$19,2,TRUE))))))))","v":false}]
[119,null,null,"-",null,null,null,null,null,null,null,null,{"$f":"IF($E268=\"\",\"\",VLOOKUP($E268,判定式!$P$3:$W$12,8,TRUE))","v":""},{"$f":"IF($F268=\"\",\"\",VLOOKUP($F268,判定式!$Q$3:$W$12,7,TRUE))","v":""},{"$f":"IF($G268=\"\",\"\",VLOOKUP($G268,判定式!$R$3:$W$12,6,TRUE))","v":""},{"$f":"IF($H268=\"\",\"\",VLOOKUP($H268,判定式!$S$3:$W$12,5,TRUE))","v":""},{"$f":"IF($I268=\"\",\"\",VLOOKUP($I268,判定式!$V$3:$W$12,2,TRUE))","v":""},{"$f":"IF($J268=\"\",\"\",VLOOKUP($J268,判定式!$Y$3:$Z$12,2,TRUE))","v":""},{"$f":"IF($K268=\"\",\"\",VLOOKUP($K268,判定式!$T$3:$W$12,4,TRUE))","v":""},{"$f":"IF($L268=\"\",\"\",VLOOKUP($L268,判定式!$U$3:$W$12,3,TRUE))","v":""},"",{"$f":"IF(ISNUMBER(D268),\"判定外\",IF(C268=6,VLOOKUP(U268,判定式!$C$15:I$19,7,TRUE),IF(C268=7,VLOOKUP(U268,判定式!$D$15:I$19,6,TRUE),IF(C268=8,VLOOKUP(U268,判定式!$E$15:I$19,5,TRUE),IF(C268=9,VLOOKUP(U268,判定式!$F$15:I$19,4,TRUE),IF(C268=10,VLOOKUP(U268,判定式!$G$15:I$19,3,TRUE),IF(C268=11,VLOOKUP(U268,判定式!$H$15:I$19,2,TRUE))))))))","v":false}]
[120,null,null,"-",null,null,null,null,null,null,null,null,{"$f":"IF($E269=\"\",\"\",VLOOKUP($E269,判定式!$P$3:$W$12,8,TRUE))","v":""},{"$f":"IF($F269=\"\",\"\",VLOOKUP($F269,判定式!$Q$3:$W$12,7,TRUE))","v":""},{"$f":"IF($G269=\"\",\"\",VLOOKUP($G269,判定式!$R$3:$W$12,6,TRUE))","v":""},{"$f":"IF($H269=\"\",\"\",VLOOKUP($H269,判定式!$S$3:$W$12,5,TRUE))","v":""},{"$f":"IF($I269=\"\",\"\",VLOOKUP($I269,判定式!$V$3:$W$12,2,TRUE))","v":""},{"$f":"IF($J269=\"\",\"\",VLOOKUP($J269,判定式!$Y$3:$Z$12,2,TRUE))","v":""},{"$f":"IF($K269=\"\",\"\",VLOOKUP($K269,判定式!$T$3:$W$12,4,TRUE))","v":""},{"$f":"IF($L269=\"\",\"\",VLOOKUP($L269,判定式!$U$3:$W$12,3,TRUE))","v":""},"",{"$f":"IF(ISNUMBER(D269),\"判定外\",IF(C269=6,VLOOKUP(U269,判定式!$C$15:I$19,7,TRUE),IF(C269=7,VLOOKUP(U269,判定式!$D$15:I$19,6,TRUE),IF(C269=8,VLOOKUP(U269,判定式!$E$15:I$19,5,TRUE),IF(C269=9,VLOOKUP(U269,判定式!$F$15:I$19,4,TRUE),IF(C269=10,VLOOKUP(U269,判定式!$G$15:I$19,3,TRUE),IF(C269=11,VLOOKUP(U269,判定式!$H$15:I$19,2,TRUE))))))))","v":false}]

{"sheet":"小3","index":3,"n_rows":269,"n_cols":22,"rows_kept":269,"cut":false,"hidden":false,"merged":[[18,19,19,19],[18,15,19,15],[147,14,148,14],[1,2,1,5],[17,4,17,11],[17,12,17,19],[18,16,19,16],[18,17,19,17],[18,18,19,18],[146,12,146,19],[3,13,3,19],[4,2,7,2],[7,14,7,16],[8,2,11,2],[11,14,11,16],[147,19,148,19],[147,15,148,15],[147,16,148,16],[147,17,148,17],[147,18,148,18],[18,14,19,14],[146,3,148,3],[147,12,148,12],[147,13,148,13],[17,3,19,3],[18,12,19,12],[18,13,19,13],[146,4,146,11]]}
[null,{"$f":"IF(入力要領・学校名入力!D2=0,\"\",入力要領・学校名入力!D2)","v":""},"年度","三重県体力・運動能力調査実技種目（新体力テスト）集計表"]
[null,"学校名",{"$f":"IF(入力要領・学校名入力!H2=0,\"\",入力要領・学校名入力!H2)","v":""},null,null,null,"「年度」「学校名」は【入力要領・学校名入力】シートにて行ってください。"]
[]
[null,"集計速報値",null,"種目","握力","上体起こし","長座体前屈","反復横とび","20mシャトルラン","５０ｍ走","立ち幅とび","ｿﾌﾄﾎﾞｰﾙ投げ","体力合計点","総合評価"]
[null,null,"小３\n男子","標本数",{"$f":"COUNT(E21:E140)","v":0},{"$f":"COUNT(F21:F140)","v":0},0,0,0,0,0,0,{"$f":"COUNT(U21:U140)","v":0},"判定","A","B","C","D","E","判定外"]
[null,null,null,"平均",{"$f":"IF(ISERROR(AVERAGE(E21:E140)),\"\",AVERAGE(E21:E140))","v":""},"","","","","","","",{"$f":"IF(ISERROR(AVERAGE(U21:U140)),\"\",AVERAGE(U21:U140))","v":""},"人数",{"$f":"COUNTIF($V21:$V140,\"A\")","v":0},{"$f":"COUNTIF($V21:$V140,\"B\")","v":0},{"$f":"COUNTIF($V21:$V140,\"C\")","v":0},{"$f":"COUNTIF($V21:$V140,\"d\")","v":0},{"$f":"COUNTIF($V21:$V140,\"e\")","v":0},{"$f":"COUNTIF($V21:$V140,\"判定外\")","v":0}]
[null,null,null,"標準偏差",{"$f":"IF(ISERROR(STDEV(E21:E140)),\"\",STDEV(E21:E140))","v":""},"","","","","","","",{"$f":"IF(ISERROR(STDEV(U21:U140)),\"\",STDEV(U21:U140))","v":""},"割合",{"$f":"IFERROR(O6/SUM($O$6:$S$6),0)","v":0},{"$f":"IFERROR(P6/SUM($O$6:$S$6),0)","v":0},0,0,0]
[null,null,null,"目標値",13,15,30,34,35,10.3,132,16,44,"ABC",{"$f":"SUM(O7:Q7)","v":0},null,null,"AB－DE",{"$f":"(+O7+P7)-(R7+S7)","v":0}]
[null,null,"小３\n女子","標本数",{"$f":"COUNT(E150:E269)","v":0},{"$f":"COUNT(F150:F269)","v":0},0,0,0,0,0,0,{"$f":"COUNT(U150:U269)","v":0},"判定","A","B","C","D","E","判定外"]
[null,null,null,"平均",{"$f":"IF(ISERROR(AVERAGE(E150:E269)),\"\",AVERAGE(E150:E269))","v":""},"","","","","","","",{"$f":"IF(ISERROR(AVERAGE(U150:U269)),\"\",AVERAGE(U150:U269))","v":""},"人数",{"$f":"COUNTIF($V150:$V269,\"A\")","v":0},{"$f":"COUNTIF($V150:$V269,\"B\")","v":0},{"$f":"COUNTIF($V150:$V269,\"C\")","v":0},{"$f":"COUNTIF($V150:$V269,\"d\")","v":0},{"$f":"COUNTIF($V150:$V269,\"e\")","v":0},{"$f":"COUNTIF($V150:$V269,\"判定外\")","v":0}]
[null,null,null,"標準偏差",{"$f":"IF(ISERROR(STDEV(E150:E269)),\"\",STDEV(E150:E269))","v":""},"","","","","","","",{"$f":"IF(ISERROR(STDEV(U150:U269)),\"\",STDEV(U150:U269))","v":""},"割合",{"$f":"IFERROR(O10/SUM($O$10:$S$10),0)","v":0},{"$f":"IFERROR(P10/SUM($O$10:$S$10),0)","v":0},0,0,0]
[null,null,null,"目標値",12,15,33,33,26,10.5,125,10,44,"ABC",{"$f":"SUM(O11:Q11)","v":0},null,null,"AB－DE",{"$f":"(+O11+P11)-(R11+S11)","v":0}]
[]
[null,"男子入力欄（女子は下段）"]
[]
[null,"提出時、名前記入は任意","年齢は、全員８",null,null,null,null,"５０m走は、1/100秒を切り上げて、「例：9.72→9.8」のように1/１０秒単位を入力する"]
[null,"小３　男子",8,"自動","整数","整数","整数","整数","整数","小数第１位","整数","整数"]
[null,null,"年齢","未実施\n項目数","調　　査　　項　　目　　記　　録",null,null,null,null,null,null,null,"実技種目得点"]
["Ｎｏ．","名前","半角",null,"握力","上体起こし","長座体前屈","反復横とび","シャトルラン","５０ｍ走","立ち幅とび","ﾎﾞｰﾙ投げ","握力","上体\n起こし","長座\n体前屈","反復\n横跳び","ｼｬﾄﾙ\nﾗﾝ","50ｍ\n走","立ち\n幅とび","ボール\n投げ","体力","総合"]
[null,null,8,null,"（ｋｇ）","（回）","（ｃｍ）","（回）","（回）","（秒）","（ｃｍ）","（ｍ）",null,null,null,null,null,null,null,null,"合計点","評価"]
[1,null,null,{"$f":"IF(COUNTBLANK(E21:L21)=0,\"\",IF(COUNTBLANK(E21:L21)=8,\"-\",COUNTBLANK(E21:L21)))","v":"-"},null,null,null,null,null,null,null,null,{"$f":"IF(E21=\"\",\"\",VLOOKUP(E21,判定式!C$3:$J$12,8,TRUE))","v":""},{"$f":"IF(F21=\"\",\"\",VLOOKUP(F21,判定式!D$3:$J$12,7,TRUE))","v":""},{"$f":"IF(G21=\"\",\"\",VLOOKUP(G21,判定式!E$3:$J$12,6,TRUE))","v":""},{"$f":"IF(H21=\"\",\"\",VLOOKUP(H21,判定式!F$3:$J$12,5,TRUE))","v":""},{"$f":"IF(I21=\"\",\"\",VLOOKUP(I21,判定式!I$3:$J$12,2,TRUE))","v":""},{"$f":"IF(J21=\"\",\"\",VLOOKUP(J21,判定式!L$3:$M$12,2,TRUE))","v":""},{"$f":"IF(K21=\"\",\"\",VLOOKUP(K21,判定式!G$3:$J$12,4,TRUE))","v":""},{"$f":"IF(L21=\"\",\"\",VLOOKUP(L21,判定式!H$3:$J$12,3,TRUE))","v":""},{"$f":"IF(COUNTBLANK(M21:T21)=0,SUM(M21:T21),\"\")","v":""},{"$f":"IF(ISNUMBER(D21),\"判定外\",IF(C21=6,VLOOKUP(U21,判定式!$C$15:I$19,7,TRUE),IF(C21=7,VLOOKUP(U21,判定式!$D$15:I$19,6,TRUE),IF(C21=8,VLOOKUP(U21,判定式!$E$15:I$19,5,TRUE),IF(C21=9,VLOOKUP(U21,判定式!$F$15:I$19,4,TRUE),IF(C21=10,VLOOKUP(U21,判定式!$G$15:I$19,3,TRUE),IF(C21=11,VLOOKUP(U21,判定式!$H$15:I$19,2,TRUE))))))))","v":false}]
[2,null,null,"-",null,null,null,null,null,null,null,null,{"$f":"IF(E22=\"\",\"\",VLOOKUP(E22,判定式!C$3:$J$12,8,TRUE))","v":""},{"$f":"IF(F22=\"\",\"\",VLOOKUP(F22,判定式!D$3:$J$12,7,TRUE))","v":""},{"$f":"IF(G22=\"\",\"\",VLOOKUP(G22,判定式!E$3:$J$12,6,TRUE))","v":""},{"$f":"IF(H22=\"\",\"\",VLOOKUP(H22,判定式!F$3:$J$12,5,TRUE))","v":""},{"$f":"IF(I22=\"\",\"\",VLOOKUP(I22,判定式!I$3:$J$12,2,TRUE))","v":""},{"$f":"IF(J22=\"\",\"\",VLOOKUP(J22,判定式!L$3:$M$12,2,TRUE))","v":""},{"$f":"IF(K22=\"\",\"\",VLOOKUP(K22,判定式!G$3:$J$12,4,TRUE))","v":""},{"$f":"IF(L22=\"\",\"\",VLOOKUP(L22,判定式!H$3:$J$12,3,TRUE))","v":""},"",{"$f":"IF(ISNUMBER(D22),\"判定外\",IF(C22=6,VLOOKUP(U22,判定式!$C$15:I$19,7,TRUE),IF(C22=7,VLOOKUP(U22,判定式!$D$15:I$19,6,TRUE),IF(C22=8,VLOOKUP(U22,判定式!$E$15:I$19,5,TRUE),IF(C22=9,VLOOKUP(U22,判定式!$F$15:I$19,4,TRUE),IF(C22=10,VLOOKUP(U22,判定式!$G$15:I$19,3,TRUE),IF(C22=11,VLOOKUP(U22,判定式!$H$15:I$19,2,TRUE))))))))","v":false}]
[3,null,null,"-",null,null,null,null,null,null,null,null,{"$f":"IF(E23=\"\",\"\",VLOOKUP(E23,判定式!C$3:$J$12,8,TRUE))","v":""},{"$f":"IF(F23=\"\",\"\",VLOOKUP(F23,判定式!D$3:$J$12,7,TRUE))","v":""},{"$f":"IF(G23=\"\",\"\",VLOOKUP(G23,判定式!E$3:$J$12,6,TRUE))","v":""},{"$f":"IF(H23=\"\",\"\",VLOOKUP(H23,判定式!F$3:$J$12,5,TRUE))","v":""},{"$f":"IF(I23=\"\",\"\",VLOOKUP(I23,判定式!I$3:$J$12,2,TRUE))","v":""},{"$f":"IF(J23=\"\",\"\",VLOOKUP(J23,判定式!L$3:$M$12,2,TRUE))","v":""},{"$f":"IF(K23=\"\",\"\",VLOOKUP(K23,判定式!G$3:$J$12,4,TRUE))","v":""},{"$f":"IF(L23=\"\",\"\",VLOOKUP(L23,判定式!H$3:$J$12,3,TRUE))","v":""},"",{"$f":"IF(ISNUMBER(D23),\"判定外\",IF(C23=6,VLOOKUP(U23,判定式!$C$15:I$19,7,TRUE),IF(C23=7,VLOOKUP(U23,判定式!$D$15:I$19,6,TRUE),IF(C23=8,VLOOKUP(U23,判定式!$E$15:I$19,5,TRUE),IF(C23=9,VLOOKUP(U23,判定式!$F$15:I$19,4,TRUE),IF(C23=10,VLOOKUP(U23,判定式!$G$15:I$19,3,TRUE),IF(C23=11,VLOOKUP(U23,判定式!$H$15:I$19,2,TRUE))))))))","v":false}]
[4,null,null,"-",null,null,null,null,null,null,null,null,{"$f":"IF(E24=\"\",\"\",VLOOKUP(E24,判定式!C$3:$J$12,8,TRUE))","v":""},{"$f":"IF(F24=\"\",\"\",VLOOKUP(F24,判定式!D$3:$J$12,7,TRUE))","v":""},{"$f":"IF(G24=\"\",\"\",VLOOKUP(G24,判定式!E$3:$J$12,6,TRUE))","v":""},{"$f":"IF(H24=\"\",\"\",VLOOKUP(H24,判定式!F$3:$J$12,5,TRUE))","v":""},{"$f":"IF(I24=\"\",\"\",VLOOKUP(I24,判定式!I$3:$J$12,2,TRUE))","v":""},{"$f":"IF(J24=\"\",\"\",VLOOKUP(J24,判定式!L$3:$M$12,2,TRUE))","v":""},{"$f":"IF(K24=\"\",\"\",VLOOKUP(K24,判定式!G$3:$J$12,4,TRUE))","v":""},{"$f":"IF(L24=\"\",\"\",VLOOKUP(L24,判定式!H$3:$J$12,3,TRUE))","v":""},"",{"$f":"IF(ISNUMBER(D24),\"判定外\",IF(C24=6,VLOOKUP(U24,判定式!$C$15:I$19,7,TRUE),IF(C24=7,VLOOKUP(U24,判定式!$D$15:I$19,6,TRUE),IF(C24=8,VLOOKUP(U24,判定式!$E$15:I$19,5,TRUE),IF(C24=9,VLOOKUP(U24,判定式!$F$15:I$19,4,TRUE),IF(C24=10,VLOOKUP(U24,判定式!$G$15:I$19,3,TRUE),IF(C24=11,VLOOKUP(U24,判定式!$H$15:I$19,2,TRUE))))))))","v":false}]
[5,null,null,"-",null,null,null,null,null,null,null,null,{"$f":"IF(E25=\"\",\"\",VLOOKUP(E25,判定式!C$3:$J$12,8,TRUE))","v":""},{"$f":"IF(F25=\"\",\"\",VLOOKUP(F25,判定式!D$3:$J$12,7,TRUE))","v":""},{"$f":"IF(G25=\"\",\"\",VLOOKUP(G25,判定式!E$3:$J$12,6,TRUE))","v":""},{"$f":"IF(H25=\"\",\"\",VLOOKUP(H25,判定式!F$3:$J$12,5,TRUE))","v":""},{"$f":"IF(I25=\"\",\"\",VLOOKUP(I25,判定式!I$3:$J$12,2,TRUE))","v":""},{"$f":"IF(J25=\"\",\"\",VLOOKUP(J25,判定式!L$3:$M$12,2,TRUE))","v":""},{"$f":"IF(K25=\"\",\"\",VLOOKUP(K25,判定式!G$3:$J$12,4,TRUE))","v":""},{"$f":"IF(L25=\"\",\"\",VLOOKUP(L25,判定式!H$3:$J$12,3,TRUE))","v":""},"",{"$f":"IF(ISNUMBER(D25),\"判定外\",IF(C25=6,VLOOKUP(U25,判定式!$C$15:I$19,7,TRUE),IF(C25=7,VLOOKUP(U25,判定式!$D$15:I$19,6,TRUE),IF(C25=8,VLOOKUP(U25,判定式!$E$15:I$19,5,TRUE),IF(C25=9,VLOOKUP(U25,判定式!$F$15:I$19,4,TRUE),IF(C25=10,VLOOKUP(U25,判定式!$G$15:I$19,3,TRUE),IF(C25=11,VLOOKUP(U25,判定式!$H$15:I$19,2,TRUE))))))))","v":false}]
[6,null,null,"-",null,null,null,null,null,null,null,null,{"$f":"IF(E26=\"\",\"\",VLOOKUP(E26,判定式!C$3:$J$12,8,TRUE))","v":""},{"$f":"IF(F26=\"\",\"\",VLOOKUP(F26,判定式!D$3:$J$12,7,TRUE))","v":""},{"$f":"IF(G26=\"\",\"\",VLOOKUP(G26,判定式!E$3:$J$12,6,TRUE))","v":""},{"$f":"IF(H26=\"\",\"\",VLOOKUP(H26,判定式!F$3:$J$12,5,TRUE))","v":""},{"$f":"IF(I26=\"\",\"\",VLOOKUP(I26,判定式!I$3:$J$12,2,TRUE))","v":""},{"$f":"IF(J26=\"\",\"\",VLOOKUP(J26,判定式!L$3:$M$12,2,TRUE))","v":""},{"$f":"IF(K26=\"\",\"\",VLOOKUP(K26,判定式!G$3:$J$12,4,TRUE))","v":""},{"$f":"IF(L26=\"\",\"\",VLOOKUP(L26,判定式!H$3:$J$12,3,TRUE))","v":""},"",{"$f":"IF(ISNUMBER(D26),\"判定外\",IF(C26=6,VLOOKUP(U26,判定式!$C$15:I$19,7,TRUE),IF(C26=7,VLOOKUP(U26,判定式!$D$15:I$19,6,TRUE),IF(C26=8,VLOOKUP(U26,判定式!$E$15:I$19,5,TRUE),IF(C26=9,VLOOKUP(U26,判定式!$F$15:I$19,4,TRUE),IF(C26=10,VLOOKUP(U26,判定式!$G$15:I$19,3,TRUE),IF(C26=11,VLOOKUP(U26,判定式!$H$15:I$19,2,TRUE))))))))","v":false}]
[7,null,null,"-",null,null,null,null,null,null,null,null,{"$f":"IF(E27=\"\",\"\",VLOOKUP(E27,判定式!C$3:$J$12,8,TRUE))","v":""},{"$f":"IF(F27=\"\",\"\",VLOOKUP(F27,判定式!D$3:$J$12,7,TRUE))","v":""},{"$f":"IF(G27=\"\",\"\",VLOOKUP(G27,判定式!E$3:$J$12,6,TRUE))","v":""},{"$f":"IF(H27=\"\",\"\",VLOOKUP(H27,判定式!F$3:$J$12,5,TRUE))","v":""},{"$f":"IF(I27=\"\",\"\",VLOOKUP(I27,判定式!I$3:$J$12,2,TRUE))","v":""},{"$f":"IF(J27=\"\",\"\",VLOOKUP(J27,判定式!L$3:$M$12,2,TRUE))","v":""},{"$f":"IF(K27=\"\",\"\",VLOOKUP(K27,判定式!G$3:$J$12,4,TRUE))","v":""},{"$f":"IF(L27=\"\",\"\",VLOOKUP(L27,判定式!H$3:$J$12,3,TRUE))","v":""},"",{"$f":"IF(ISNUMBER(D27),\"判定外\",IF(C27=6,VLOOKUP(U27,判定式!$C$15:I$19,7,TRUE),IF(C27=7,VLOOKUP(U27,判定式!$D$15:I$19,6,TRUE),IF(C27=8,VLOOKUP(U27,判定式!$E$15:I$19,5,TRUE),IF(C27=9,VLOOKUP(U27,判定式!$F$15:I$19,4,TRUE),IF(C27=10,VLOOKUP(U27,判定式!$G$15:I$19,3,TRUE),IF(C27=11,VLOOKUP(U27,判定式!$H$15:I$19,2,TRUE))))))))","v":false}]
[8,null,null,"-",null,null,null,null,null,null,null,null,{"$f":"IF(E28=\"\",\"\",VLOOKUP(E28,判定式!C$3:$J$12,8,TRUE))","v":""},{"$f":"IF(F28=\"\",\"\",VLOOKUP(F28,判定式!D$3:$J$12,7,TRUE))","v":""},{"$f":"IF(G28=\"\",\"\",VLOOKUP(G28,判定式!E$3:$J$12,6,TRUE))","v":""},{"$f":"IF(H28=\"\",\"\",VLOOKUP(H28,判定式!F$3:$J$12,5,TRUE))","v":""},{"$f":"IF(I28=\"\",\"\",VLOOKUP(I28,判定式!I$3:$J$12,2,TRUE))","v":""},{"$f":"IF(J28=\"\",\"\",VLOOKUP(J28,判定式!L$3:$M$12,2,TRUE))","v":""},{"$f":"IF(K28=\"\",\"\",VLOOKUP(K28,判定式!G$3:$J$12,4,TRUE))","v":""},{"$f":"IF(L28=\"\",\"\",VLOOKUP(L28,判定式!H$3:$J$12,3,TRUE))","v":""},"",{"$f":"IF(ISNUMBER(D28),\"判定外\",IF(C28=6,VLOOKUP(U28,判定式!$C$15:I$19,7,TRUE),IF(C28=7,VLOOKUP(U28,判定式!$D$15:I$19,6,TRUE),IF(C28=8,VLOOKUP(U28,判定式!$E$15:I$19,5,TRUE),IF(C28=9,VLOOKUP(U28,判定式!$F$15:I$19,4,TRUE),IF(C28=10,VLOOKUP(U28,判定式!$G$15:I$19,3,TRUE),IF(C28=11,VLOOKUP(U28,判定式!$H$15:I$19,2,TRUE))))))))","v":false}]
[9,null,null,"-",null,null,null,null,null,null,null,null,{"$f":"IF(E29=\"\",\"\",VLOOKUP(E29,判定式!C$3:$J$12,8,TRUE))","v":""},{"$f":"IF(F29=\"\",\"\",VLOOKUP(F29,判定式!D$3:$J$12,7,TRUE))","v":""},{"$f":"IF(G29=\"\",\"\",VLOOKUP(G29,判定式!E$3:$J$12,6,TRUE))","v":""},{"$f":"IF(H29=\"\",\"\",VLOOKUP(H29,判定式!F$3:$J$12,5,TRUE))","v":""},{"$f":"IF(I29=\"\",\"\",VLOOKUP(I29,判定式!I$3:$J$12,2,TRUE))","v":""},{"$f":"IF(J29=\"\",\"\",VLOOKUP(J29,判定式!L$3:$M$12,2,TRUE))","v":""},{"$f":"IF(K29=\"\",\"\",VLOOKUP(K29,判定式!G$3:$J$12,4,TRUE))","v":""},{"$f":"IF(L29=\"\",\"\",VLOOKUP(L29,判定式!H$3:$J$12,3,TRUE))","v":""},"",{"$f":"IF(ISNUMBER(D29),\"判定外\",IF(C29=6,VLOOKUP(U29,判定式!$C$15:I$19,7,TRUE),IF(C29=7,VLOOKUP(U29,判定式!$D$15:I$19,6,TRUE),IF(C29=8,VLOOKUP(U29,判定式!$E$15:I$19,5,TRUE),IF(C29=9,VLOOKUP(U29,判定式!$F$15:I$19,4,TRUE),IF(C29=10,VLOOKUP(U29,判定式!$G$15:I$19,3,TRUE),IF(C29=11,VLOOKUP(U29,判定式!$H$15:I$19,2,TRUE))))))))","v":false}]
[10,null,null,"-",null,null,null,null,null,null,null,null,{"$f":"IF(E30=\"\",\"\",VLOOKUP(E30,判定式!C$3:$J$12,8,TRUE))","v":""},{"$f":"IF(F30=\"\",\"\",VLOOKUP(F30,判定式!D$3:$J$12,7,TRUE))","v":""},{"$f":"IF(G30=\"\",\"\",VLOOKUP(G30,判定式!E$3:$J$12,6,TRUE))","v":""},{"$f":"IF(H30=\"\",\"\",VLOOKUP(H30,判定式!F$3:$J$12,5,TRUE))","v":""},{"$f":"IF(I30=\"\",\"\",VLOOKUP(I30,判定式!I$3:$J$12,2,TRUE))","v":""},{"$f":"IF(J30=\"\",\"\",VLOOKUP(J30,判定式!L$3:$M$12,2,TRUE))","v":""},{"$f":"IF(K30=\"\",\"\",VLOOKUP(K30,判定式!G$3:$J$12,4,TRUE))","v":""},{"$f":"IF(L30=\"\",\"\",VLOOKUP(L30,判定式!H$3:$J$12,3,TRUE))","v":""},"",{"$f":"IF(ISNUMBER(D30),\"判定外\",IF(C30=6,VLOOKUP(U30,判定式!$C$15:I$19,7,TRUE),IF(C30=7,VLOOKUP(U30,判定式!$D$15:I$19,6,TRUE),IF(C30=8,VLOOKUP(U30,判定式!$E$15:I$19,5,TRUE),IF(C30=9,VLOOKUP(U30,判定式!$F$15:I$19,4,TRUE),IF(C30=10,VLOOKUP(U30,判定式!$G$15:I$19,3,TRUE),IF(C30=11,VLOOKUP(U30,判定式!$H$15:I$19,2,TRUE))))))))","v":false}]
[11,null,null,"-",null,null,null,null,null,null,null,null,{"$f":"IF(E31=\"\",\"\",VLOOKUP(E31,判定式!C$3:$J$12,8,TRUE))","v":""},{"$f":"IF(F31=\"\",\"\",VLOOKUP(F31,判定式!D$3:$J$12,7,TRUE))","v":""},{"$f":"IF(G31=\"\",\"\",VLOOKUP(G31,判定式!E$3:$J$12,6,TRUE))","v":""},{"$f":"IF(H31=\"\",\"\",VLOOKUP(H31,判定式!F$3:$J$12,5,TRUE))","v":""},{"$f":"IF(I31=\"\",\"\",VLOOKUP(I31,判定式!I$3:$J$12,2,TRUE))","v":""},{"$f":"IF(J31=\"\",\"\",VLOOKUP(J31,判定式!L$3:$M$12,2,TRUE))","v":""},{"$f":"IF(K31=\"\",\"\",VLOOKUP(K31,判定式!G$3:$J$12,4,TRUE))","v":""},{"$f":"IF(L31=\"\",\"\",VLOOKUP(L31,判定式!H$3:$J$12,3,TRUE))","v":""},"",{"$f":"IF(ISNUMBER(D31),\"判定外\",IF(C31=6,VLOOKUP(U31,判定式!$C$15:I$19,7,TRUE),IF(C31=7,VLOOKUP(U31,判定式!$D$15:I$19,6,TRUE),IF(C31=8,VLOOKUP(U31,判定式!$E$15:I$19,5,TRUE),IF(C31=9,VLOOKUP(U31,判定式!$F$15:I$19,4,TRUE),IF(C31=10,VLOOKUP(U31,判定式!$G$15:I$19,3,TRUE),IF(C31=11,VLOOKUP(U31,判定式!$H$15:I$19,2,TRUE))))))))","v":false}]
[12,null,null,"-",null,null,null,null,null,null,null,null,{"$f":"IF(E32=\"\",\"\",VLOOKUP(E32,判定式!C$3:$J$12,8,TRUE))","v":""},{"$f":"IF(F32=\"\",\"\",VLOOKUP(F32,判定式!D$3:$J$12,7,TRUE))","v":""},{"$f":"IF(G32=\"\",\"\",VLOOKUP(G32,判定式!E$3:$J$12,6,TRUE))","v":""},{"$f":"IF(H32=\"\",\"\",VLOOKUP(H32,判定式!F$3:$J$12,5,TRUE))","v":""},{"$f":"IF(I32=\"\",\"\",VLOOKUP(I32,判定式!I$3:$J$12,2,TRUE))","v":""},{"$f":"IF(J32=\"\",\"\",VLOOKUP(J32,判定式!L$3:$M$12,2,TRUE))","v":""},{"$f":"IF(K32=\"\",\"\",VLOOKUP(K32,判定式!G$3:$J$12,4,TRUE))","v":""},{"$f":"IF(L32=\"\",\"\",VLOOKUP(L32,判定式!H$3:$J$12,3,TRUE))","v":""},"",{"$f":"IF(ISNUMBER(D32),\"判定外\",IF(C32=6,VLOOKUP(U32,判定式!$C$15:I$19,7,TRUE),IF(C32=7,VLOOKUP(U32,判定式!$D$15:I$19,6,TRUE),IF(C32=8,VLOOKUP(U32,判定式!$E$15:I$19,5,TRUE),IF(C32=9,VLOOKUP(U32,判定式!$F$15:I$19,4,TRUE),IF(C32=10,VLOOKUP(U32,判定式!$G$15:I$19,3,TRUE),IF(C32=11,VLOOKUP(U32,判定式!$H$15:I$19,2,TRUE))))))))","v":false}]
[13,null,null,"-",null,null,null,null,null,null,null,null,{"$f":"IF(E33=\"\",\"\",VLOOKUP(E33,判定式!C$3:$J$12,8,TRUE))","v":""},{"$f":"IF(F33=\"\",\"\",VLOOKUP(F33,判定式!D$3:$J$12,7,TRUE))","v":""},{"$f":"IF(G33=\"\",\"\",VLOOKUP(G33,判定式!E$3:$J$12,6,TRUE))","v":""},{"$f":"IF(H33=\"\",\"\",VLOOKUP(H33,判定式!F$3:$J$12,5,TRUE))","v":""},{"$f":"IF(I33=\"\",\"\",VLOOKUP(I33,判定式!I$3:$J$12,2,TRUE))","v":""},{"$f":"IF(J33=\"\",\"\",VLOOKUP(J33,判定式!L$3:$M$12,2,TRUE))","v":""},{"$f":"IF(K33=\"\",\"\",VLOOKUP(K33,判定式!G$3:$J$12,4,TRUE))","v":""},{"$f":"IF(L33=\"\",\"\",VLOOKUP(L33,判定式!H$3:$J$12,3,TRUE))","v":""},"",{"$f":"IF(ISNUMBER(D33),\"判定外\",IF(C33=6,VLOOKUP(U33,判定式!$C$15:I$19,7,TRUE),IF(C33=7,VLOOKUP(U33,判定式!$D$15:I$19,6,TRUE),IF(C33=8,VLOOKUP(U33,判定式!$E$15:I$19,5,TRUE),IF(C33=9,VLOOKUP(U33,判定式!$F$15:I$19,4,TRUE),IF(C33=10,VLOOKUP(U33,判定式!$G$15:I$19,3,TRUE),IF(C33=11,VLOOKUP(U33,判定式!$H$15:I$19,2,TRUE))))))))","v":false}]
[14,null,null,"-",null,null,null,null,null,null,null,null,{"$f":"IF(E34=\"\",\"\",VLOOKUP(E34,判定式!C$3:$J$12,8,TRUE))","v":""},{"$f":"IF(F34=\"\",\"\",VLOOKUP(F34,判定式!D$3:$J$12,7,TRUE))","v":""},{"$f":"IF(G34=\"\",\"\",VLOOKUP(G34,判定式!E$3:$J$12,6,TRUE))","v":""},{"$f":"IF(H34=\"\",\"\",VLOOKUP(H34,判定式!F$3:$J$12,5,TRUE))","v":""},{"$f":"IF(I34=\"\",\"\",VLOOKUP(I34,判定式!I$3:$J$12,2,TRUE))","v":""},{"$f":"IF(J34=\"\",\"\",VLOOKUP(J34,判定式!L$3:$M$12,2,TRUE))","v":""},{"$f":"IF(K34=\"\",\"\",VLOOKUP(K34,判定式!G$3:$J$12,4,TRUE))","v":""},{"$f":"IF(L34=\"\",\"\",VLOOKUP(L34,判定式!H$3:$J$12,3,TRUE))","v":""},"",{"$f":"IF(ISNUMBER(D34),\"判定外\",IF(C34=6,VLOOKUP(U34,判定式!$C$15:I$19,7,TRUE),IF(C34=7,VLOOKUP(U34,判定式!$D$15:I$19,6,TRUE),IF(C34=8,VLOOKUP(U34,判定式!$E$15:I$19,5,TRUE),IF(C34=9,VLOOKUP(U34,判定式!$F$15:I$19,4,TRUE),IF(C34=10,VLOOKUP(U34,判定式!$G$15:I$19,3,TRUE),IF(C34=11,VLOOKUP(U34,判定式!$H$15:I$19,2,TRUE))))))))","v":false}]
[15,null,null,"-",null,null,null,null,null,null,null,null,{"$f":"IF(E35=\"\",\"\",VLOOKUP(E35,判定式!C$3:$J$12,8,TRUE))","v":""},{"$f":"IF(F35=\"\",\"\",VLOOKUP(F35,判定式!D$3:$J$12,7,TRUE))","v":""},{"$f":"IF(G35=\"\",\"\",VLOOKUP(G35,判定式!E$3:$J$12,6,TRUE))","v":""},{"$f":"IF(H35=\"\",\"\",VLOOKUP(H35,判定式!F$3:$J$12,5,TRUE))","v":""},{"$f":"IF(I35=\"\",\"\",VLOOKUP(I35,判定式!I$3:$J$12,2,TRUE))","v":""},{"$f":"IF(J35=\"\",\"\",VLOOKUP(J35,判定式!L$3:$M$12,2,TRUE))","v":""},{"$f":"IF(K35=\"\",\"\",VLOOKUP(K35,判定式!G$3:$J$12,4,TRUE))","v":""},{"$f":"IF(L35=\"\",\"\",VLOOKUP(L35,判定式!H$3:$J$12,3,TRUE))","v":""},"",{"$f":"IF(ISNUMBER(D35),\"判定外\",IF(C35=6,VLOOKUP(U35,判定式!$C$15:I$19,7,TRUE),IF(C35=7,VLOOKUP(U35,判定式!$D$15:I$19,6,TRUE),IF(C35=8,VLOOKUP(U35,判定式!$E$15:I$19,5,TRUE),IF(C35=9,VLOOKUP(U35,判定式!$F$15:I$19,4,TRUE),IF(C35=10,VLOOKUP(U35,判定式!$G$15:I$19,3,TRUE),IF(C35=11,VLOOKUP(U35,判定式!$H$15:I$19,2,TRUE))))))))","v":false}]
[16,null,null,"-",null,null,null,null,null,null,null,null,{"$f":"IF(E36=\"\",\"\",VLOOKUP(E36,判定式!C$3:$J$12,8,TRUE))","v":""},{"$f":"IF(F36=\"\",\"\",VLOOKUP(F36,判定式!D$3:$J$12,7,TRUE))","v":""},{"$f":"IF(G36=\"\",\"\",VLOOKUP(G36,判定式!E$3:$J$12,6,TRUE))","v":""},{"$f":"IF(H36=\"\",\"\",VLOOKUP(H36,判定式!F$3:$J$12,5,TRUE))","v":""},{"$f":"IF(I36=\"\",\"\",VLOOKUP(I36,判定式!I$3:$J$12,2,TRUE))","v":""},{"$f":"IF(J36=\"\",\"\",VLOOKUP(J36,判定式!L$3:$M$12,2,TRUE))","v":""},{"$f":"IF(K36=\"\",\"\",VLOOKUP(K36,判定式!G$3:$J$12,4,TRUE))","v":""},{"$f":"IF(L36=\"\",\"\",VLOOKUP(L36,判定式!H$3:$J$12,3,TRUE))","v":""},"",{"$f":"IF(ISNUMBER(D36),\"判定外\",IF(C36=6,VLOOKUP(U36,判定式!$C$15:I$19,7,TRUE),IF(C36=7,VLOOKUP(U36,判定式!$D$15:I$19,6,TRUE),IF(C36=8,VLOOKUP(U36,判定式!$E$15:I$19,5,TRUE),IF(C36=9,VLOOKUP(U36,判定式!$F$15:I$19,4,TRUE),IF(C36=10,VLOOKUP(U36,判定式!$G$15:I$19,3,TRUE),IF(C36=11,VLOOKUP(U36,判定式!$H$15:I$19,2,TRUE))))))))","v":false}]
[17,null,null,"-",null,null,null,null,null,null,null,null,{"$f":"IF(E37=\"\",\"\",VLOOKUP(E37,判定式!C$3:$J$12,8,TRUE))","v":""},{"$f":"IF(F37=\"\",\"\",VLOOKUP(F37,判定式!D$3:$J$12,7,TRUE))","v":""},{"$f":"IF(G37=\"\",\"\",VLOOKUP(G37,判定式!E$3:$J$12,6,TRUE))","v":""},{"$f":"IF(H37=\"\",\"\",VLOOKUP(H37,判定式!F$3:$J$12,5,TRUE))","v":""},{"$f":"IF(I37=\"\",\"\",VLOOKUP(I37,判定式!I$3:$J$12,2,TRUE))","v":""},{"$f":"IF(J37=\"\",\"\",VLOOKUP(J37,判定式!L$3:$M$12,2,TRUE))","v":""},{"$f":"IF(K37=\"\",\"\",VLOOKUP(K37,判定式!G$3:$J$12,4,TRUE))","v":""},{"$f":"IF(L37=\"\",\"\",VLOOKUP(L37,判定式!H$3:$J$12,3,TRUE))","v":""},"",{"$f":"IF(ISNUMBER(D37),\"判定外\",IF(C37=6,VLOOKUP(U37,判定式!$C$15:I$19,7,TRUE),IF(C37=7,VLOOKUP(U37,判定式!$D$15:I$19,6,TRUE),IF(C37=8,VLOOKUP(U37,判定式!$E$15:I$19,5,TRUE),IF(C37=9,VLOOKUP(U37,判定式!$F$15:I$19,4,TRUE),IF(C37=10,VLOOKUP(U37,判定式!$G$15:I$19,3,TRUE),IF(C37=11,VLOOKUP(U37,判定式!$H$15:I$19,2,TRUE))))))))","v":false}]
[18,null,null,"-",null,null,null,null,null,null,null,null,{"$f":"IF(E38=\"\",\"\",VLOOKUP(E38,判定式!C$3:$J$12,8,TRUE))","v":""},{"$f":"IF(F38=\"\",\"\",VLOOKUP(F38,判定式!D$3:$J$12,7,TRUE))","v":""},{"$f":"IF(G38=\"\",\"\",VLOOKUP(G38,判定式!E$3:$J$12,6,TRUE))","v":""},{"$f":"IF(H38=\"\",\"\",VLOOKUP(H38,判定式!F$3:$J$12,5,TRUE))","v":""},{"$f":"IF(I38=\"\",\"\",VLOOKUP(I38,判定式!I$3:$J$12,2,TRUE))","v":""},{"$f":"IF(J38=\"\",\"\",VLOOKUP(J38,判定式!L$3:$M$12,2,TRUE))","v":""},{"$f":"IF(K38=\"\",\"\",VLOOKUP(K38,判定式!G$3:$J$12,4,TRUE))","v":""},{"$f":"IF(L38=\"\",\"\",VLOOKUP(L38,判定式!H$3:$J$12,3,TRUE))","v":""},"",{"$f":"IF(ISNUMBER(D38),\"判定外\",IF(C38=6,VLOOKUP(U38,判定式!$C$15:I$19,7,TRUE),IF(C38=7,VLOOKUP(U38,判定式!$D$15:I$19,6,TRUE),IF(C38=8,VLOOKUP(U38,判定式!$E$15:I$19,5,TRUE),IF(C38=9,VLOOKUP(U38,判定式!$F$15:I$19,4,TRUE),IF(C38=10,VLOOKUP(U38,判定式!$G$15:I$19,3,TRUE),IF(C38=11,VLOOKUP(U38,判定式!$H$15:I$19,2,TRUE))))))))","v":false}]
[19,null,null,"-",null,null,null,null,null,null,null,null,{"$f":"IF(E39=\"\",\"\",VLOOKUP(E39,判定式!C$3:$J$12,8,TRUE))","v":""},{"$f":"IF(F39=\"\",\"\",VLOOKUP(F39,判定式!D$3:$J$12,7,TRUE))","v":""},{"$f":"IF(G39=\"\",\"\",VLOOKUP(G39,判定式!E$3:$J$12,6,TRUE))","v":""},{"$f":"IF(H39=\"\",\"\",VLOOKUP(H39,判定式!F$3:$J$12,5,TRUE))","v":""},{"$f":"IF(I39=\"\",\"\",VLOOKUP(I39,判定式!I$3:$J$12,2,TRUE))","v":""},{"$f":"IF(J39=\"\",\"\",VLOOKUP(J39,判定式!L$3:$M$12,2,TRUE))","v":""},{"$f":"IF(K39=\"\",\"\",VLOOKUP(K39,判定式!G$3:$J$12,4,TRUE))","v":""},{"$f":"IF(L39=\"\",\"\",VLOOKUP(L39,判定式!H$3:$J$12,3,TRUE))","v":""},"",{"$f":"IF(ISNUMBER(D39),\"判定外\",IF(C39=6,VLOOKUP(U39,判定式!$C$15:I$19,7,TRUE),IF(C39=7,VLOOKUP(U39,判定式!$D$15:I$19,6,TRUE),IF(C39=8,VLOOKUP(U39,判定式!$E$15:I$19,5,TRUE),IF(C39=9,VLOOKUP(U39,判定式!$F$15:I$19,4,TRUE),IF(C39=10,VLOOKUP(U39,判定式!$G$15:I$19,3,TRUE),IF(C39=11,VLOOKUP(U39,判定式!$H$15:I$19,2,TRUE))))))))","v":false}]
[20,null,null,"-",null,null,null,null,null,null,null,null,{"$f":"IF(E40=\"\",\"\",VLOOKUP(E40,判定式!C$3:$J$12,8,TRUE))","v":""},{"$f":"IF(F40=\"\",\"\",VLOOKUP(F40,判定式!D$3:$J$12,7,TRUE))","v":""},{"$f":"IF(G40=\"\",\"\",VLOOKUP(G40,判定式!E$3:$J$12,6,TRUE))","v":""},{"$f":"IF(H40=\"\",\"\",VLOOKUP(H40,判定式!F$3:$J$12,5,TRUE))","v":""},{"$f":"IF(I40=\"\",\"\",VLOOKUP(I40,判定式!I$3:$J$12,2,TRUE))","v":""},{"$f":"IF(J40=\"\",\"\",VLOOKUP(J40,判定式!L$3:$M$12,2,TRUE))","v":""},{"$f":"IF(K40=\"\",\"\",VLOOKUP(K40,判定式!G$3:$J$12,4,TRUE))","v":""},{"$f":"IF(L40=\"\",\"\",VLOOKUP(L40,判定式!H$3:$J$12,3,TRUE))","v":""},"",{"$f":"IF(ISNUMBER(D40),\"判定外\",IF(C40=6,VLOOKUP(U40,判定式!$C$15:I$19,7,TRUE),IF(C40=7,VLOOKUP(U40,判定式!$D$15:I$19,6,TRUE),IF(C40=8,VLOOKUP(U40,判定式!$E$15:I$19,5,TRUE),IF(C40=9,VLOOKUP(U40,判定式!$F$15:I$19,4,TRUE),IF(C40=10,VLOOKUP(U40,判定式!$G$15:I$19,3,TRUE),IF(C40=11,VLOOKUP(U40,判定式!$H$15:I$19,2,TRUE))))))))","v":false}]
[21,null,null,"-",null,null,null,null,null,null,null,null,{"$f":"IF(E41=\"\",\"\",VLOOKUP(E41,判定式!C$3:$J$12,8,TRUE))","v":""},{"$f":"IF(F41=\"\",\"\",VLOOKUP(F41,判定式!D$3:$J$12,7,TRUE))","v":""},{"$f":"IF(G41=\"\",\"\",VLOOKUP(G41,判定式!E$3:$J$12,6,TRUE))","v":""},{"$f":"IF(H41=\"\",\"\",VLOOKUP(H41,判定式!F$3:$J$12,5,TRUE))","v":""},{"$f":"IF(I41=\"\",\"\",VLOOKUP(I41,判定式!I$3:$J$12,2,TRUE))","v":""},{"$f":"IF(J41=\"\",\"\",VLOOKUP(J41,判定式!L$3:$M$12,2,TRUE))","v":""},{"$f":"IF(K41=\"\",\"\",VLOOKUP(K41,判定式!G$3:$J$12,4,TRUE))","v":""},{"$f":"IF(L41=\"\",\"\",VLOOKUP(L41,判定式!H$3:$J$12,3,TRUE))","v":""},"",{"$f":"IF(ISNUMBER(D41),\"判定外\",IF(C41=6,VLOOKUP(U41,判定式!$C$15:I$19,7,TRUE),IF(C41=7,VLOOKUP(U41,判定式!$D$15:I$19,6,TRUE),IF(C41=8,VLOOKUP(U41,判定式!$E$15:I$19,5,TRUE),IF(C41=9,VLOOKUP(U41,判定式!$F$15:I$19,4,TRUE),IF(C41=10,VLOOKUP(U41,判定式!$G$15:I$19,3,TRUE),IF(C41=11,VLOOKUP(U41,判定式!$H$15:I$19,2,TRUE))))))))","v":false}]
[22,null,null,"-",null,null,null,null,null,null,null,null,{"$f":"IF(E42=\"\",\"\",VLOOKUP(E42,判定式!C$3:$J$12,8,TRUE))","v":""},{"$f":"IF(F42=\"\",\"\",VLOOKUP(F42,判定式!D$3:$J$12,7,TRUE))","v":""},{"$f":"IF(G42=\"\",\"\",VLOOKUP(G42,判定式!E$3:$J$12,6,TRUE))","v":""},{"$f":"IF(H42=\"\",\"\",VLOOKUP(H42,判定式!F$3:$J$12,5,TRUE))","v":""},{"$f":"IF(I42=\"\",\"\",VLOOKUP(I42,判定式!I$3:$J$12,2,TRUE))","v":""},{"$f":"IF(J42=\"\",\"\",VLOOKUP(J42,判定式!L$3:$M$12,2,TRUE))","v":""},{"$f":"IF(K42=\"\",\"\",VLOOKUP(K42,判定式!G$3:$J$12,4,TRUE))","v":""},{"$f":"IF(L42=\"\",\"\",VLOOKUP(L42,判定式!H$3:$J$12,3,TRUE))","v":""},"",{"$f":"IF(ISNUMBER(D42),\"判定外\",IF(C42=6,VLOOKUP(U42,判定式!$C$15:I$19,7,TRUE),IF(C42=7,VLOOKUP(U42,判定式!$D$15:I$19,6,TRUE),IF(C42=8,VLOOKUP(U42,判定式!$E$15:I$19,5,TRUE),IF(C42=9,VLOOKUP(U42,判定式!$F$15:I$19,4,TRUE),IF(C42=10,VLOOKUP(U42,判定式!$G$15:I$19,3,TRUE),IF(C42=11,VLOOKUP(U42,判定式!$H$15:I$19,2,TRUE))))))))","v":false}]
[23,null,null,"-",null,null,null,null,null,null,null,null,{"$f":"IF(E43=\"\",\"\",VLOOKUP(E43,判定式!C$3:$J$12,8,TRUE))","v":""},{"$f":"IF(F43=\"\",\"\",VLOOKUP(F43,判定式!D$3:$J$12,7,TRUE))","v":""},{"$f":"IF(G43=\"\",\"\",VLOOKUP(G43,判定式!E$3:$J$12,6,TRUE))","v":""},{"$f":"IF(H43=\"\",\"\",VLOOKUP(H43,判定式!F$3:$J$12,5,TRUE))","v":""},{"$f":"IF(I43=\"\",\"\",VLOOKUP(I43,判定式!I$3:$J$12,2,TRUE))","v":""},{"$f":"IF(J43=\"\",\"\",VLOOKUP(J43,判定式!L$3:$M$12,2,TRUE))","v":""},{"$f":"IF(K43=\"\",\"\",VLOOKUP(K43,判定式!G$3:$J$12,4,TRUE))","v":""},{"$f":"IF(L43=\"\",\"\",VLOOKUP(L43,判定式!H$3:$J$12,3,TRUE))","v":""},"",{"$f":"IF(ISNUMBER(D43),\"判定外\",IF(C43=6,VLOOKUP(U43,判定式!$C$15:I$19,7,TRUE),IF(C43=7,VLOOKUP(U43,判定式!$D$15:I$19,6,TRUE),IF(C43=8,VLOOKUP(U43,判定式!$E$15:I$19,5,TRUE),IF(C43=9,VLOOKUP(U43,判定式!$F$15:I$19,4,TRUE),IF(C43=10,VLOOKUP(U43,判定式!$G$15:I$19,3,TRUE),IF(C43=11,VLOOKUP(U43,判定式!$H$15:I$19,2,TRUE))))))))","v":false}]
[24,null,null,"-",null,null,null,null,null,null,null,null,{"$f":"IF(E44=\"\",\"\",VLOOKUP(E44,判定式!C$3:$J$12,8,TRUE))","v":""},{"$f":"IF(F44=\"\",\"\",VLOOKUP(F44,判定式!D$3:$J$12,7,TRUE))","v":""},{"$f":"IF(G44=\"\",\"\",VLOOKUP(G44,判定式!E$3:$J$12,6,TRUE))","v":""},{"$f":"IF(H44=\"\",\"\",VLOOKUP(H44,判定式!F$3:$J$12,5,TRUE))","v":""},{"$f":"IF(I44=\"\",\"\",VLOOKUP(I44,判定式!I$3:$J$12,2,TRUE))","v":""},{"$f":"IF(J44=\"\",\"\",VLOOKUP(J44,判定式!L$3:$M$12,2,TRUE))","v":""},{"$f":"IF(K44=\"\",\"\",VLOOKUP(K44,判定式!G$3:$J$12,4,TRUE))","v":""},{"$f":"IF(L44=\"\",\"\",VLOOKUP(L44,判定式!H$3:$J$12,3,TRUE))","v":""},"",{"$f":"IF(ISNUMBER(D44),\"判定外\",IF(C44=6,VLOOKUP(U44,判定式!$C$15:I$19,7,TRUE),IF(C44=7,VLOOKUP(U44,判定式!$D$15:I$19,6,TRUE),IF(C44=8,VLOOKUP(U44,判定式!$E$15:I$19,5,TRUE),IF(C44=9,VLOOKUP(U44,判定式!$F$15:I$19,4,TRUE),IF(C44=10,VLOOKUP(U44,判定式!$G$15:I$19,3,TRUE),IF(C44=11,VLOOKUP(U44,判定式!$H$15:I$19,2,TRUE))))))))","v":false}]
[25,null,null,"-",null,null,null,null,null,null,null,null,{"$f":"IF(E45=\"\",\"\",VLOOKUP(E45,判定式!C$3:$J$12,8,TRUE))","v":""},{"$f":"IF(F45=\"\",\"\",VLOOKUP(F45,判定式!D$3:$J$12,7,TRUE))","v":""},{"$f":"IF(G45=\"\",\"\",VLOOKUP(G45,判定式!E$3:$J$12,6,TRUE))","v":""},{"$f":"IF(H45=\"\",\"\",VLOOKUP(H45,判定式!F$3:$J$12,5,TRUE))","v":""},{"$f":"IF(I45=\"\",\"\",VLOOKUP(I45,判定式!I$3:$J$12,2,TRUE))","v":""},{"$f":"IF(J45=\"\",\"\",VLOOKUP(J45,判定式!L$3:$M$12,2,TRUE))","v":""},{"$f":"IF(K45=\"\",\"\",VLOOKUP(K45,判定式!G$3:$J$12,4,TRUE))","v":""},{"$f":"IF(L45=\"\",\"\",VLOOKUP(L45,判定式!H$3:$J$12,3,TRUE))","v":""},"",{"$f":"IF(ISNUMBER(D45),\"判定外\",IF(C45=6,VLOOKUP(U45,判定式!$C$15:I$19,7,TRUE),IF(C45=7,VLOOKUP(U45,判定式!$D$15:I$19,6,TRUE),IF(C45=8,VLOOKUP(U45,判定式!$E$15:I$19,5,TRUE),IF(C45=9,VLOOKUP(U45,判定式!$F$15:I$19,4,TRUE),IF(C45=10,VLOOKUP(U45,判定式!$G$15:I$19,3,TRUE),IF(C45=11,VLOOKUP(U45,判定式!$H$15:I$19,2,TRUE))))))))","v":false}]
[26,null,null,"-",null,null,null,null,null,null,null,null,{"$f":"IF(E46=\"\",\"\",VLOOKUP(E46,判定式!C$3:$J$12,8,TRUE))","v":""},{"$f":"IF(F46=\"\",\"\",VLOOKUP(F46,判定式!D$3:$J$12,7,TRUE))","v":""},{"$f":"IF(G46=\"\",\"\",VLOOKUP(G46,判定式!E$3:$J$12,6,TRUE))","v":""},{"$f":"IF(H46=\"\",\"\",VLOOKUP(H46,判定式!F$3:$J$12,5,TRUE))","v":""},{"$f":"IF(I46=\"\",\"\",VLOOKUP(I46,判定式!I$3:$J$12,2,TRUE))","v":""},{"$f":"IF(J46=\"\",\"\",VLOOKUP(J46,判定式!L$3:$M$12,2,TRUE))","v":""},{"$f":"IF(K46=\"\",\"\",VLOOKUP(K46,判定式!G$3:$J$12,4,TRUE))","v":""},{"$f":"IF(L46=\"\",\"\",VLOOKUP(L46,判定式!H$3:$J$12,3,TRUE))","v":""},"",{"$f":"IF(ISNUMBER(D46),\"判定外\",IF(C46=6,VLOOKUP(U46,判定式!$C$15:I$19,7,TRUE),IF(C46=7,VLOOKUP(U46,判定式!$D$15:I$19,6,TRUE),IF(C46=8,VLOOKUP(U46,判定式!$E$15:I$19,5,TRUE),IF(C46=9,VLOOKUP(U46,判定式!$F$15:I$19,4,TRUE),IF(C46=10,VLOOKUP(U46,判定式!$G$15:I$19,3,TRUE),IF(C46=11,VLOOKUP(U46,判定式!$H$15:I$19,2,TRUE))))))))","v":false}]
[27,null,null,"-",null,null,null,null,null,null,null,null,{"$f":"IF(E47=\"\",\"\",VLOOKUP(E47,判定式!C$3:$J$12,8,TRUE))","v":""},{"$f":"IF(F47=\"\",\"\",VLOOKUP(F47,判定式!D$3:$J$12,7,TRUE))","v":""},{"$f":"IF(G47=\"\",\"\",VLOOKUP(G47,判定式!E$3:$J$12,6,TRUE))","v":""},{"$f":"IF(H47=\"\",\"\",VLOOKUP(H47,判定式!F$3:$J$12,5,TRUE))","v":""},{"$f":"IF(I47=\"\",\"\",VLOOKUP(I47,判定式!I$3:$J$12,2,TRUE))","v":""},{"$f":"IF(J47=\"\",\"\",VLOOKUP(J47,判定式!L$3:$M$12,2,TRUE))","v":""},{"$f":"IF(K47=\"\",\"\",VLOOKUP(K47,判定式!G$3:$J$12,4,TRUE))","v":""},{"$f":"IF(L47=\"\",\"\",VLOOKUP(L47,判定式!H$3:$J$12,3,TRUE))","v":""},"",{"$f":"IF(ISNUMBER(D47),\"判定外\",IF(C47=6,VLOOKUP(U47,判定式!$C$15:I$19,7,TRUE),IF(C47=7,VLOOKUP(U47,判定式!$D$15:I$19,6,TRUE),IF(C47=8,VLOOKUP(U47,判定式!$E$15:I$19,5,TRUE),IF(C47=9,VLOOKUP(U47,判定式!$F$15:I$19,4,TRUE),IF(C47=10,VLOOKUP(U47,判定式!$G$15:I$19,3,TRUE),IF(C47=11,VLOOKUP(U47,判定式!$H$15:I$19,2,TRUE))))))))","v":false}]
[28,null,null,"-",null,null,null,null,null,null,null,null,{"$f":"IF(E48=\"\",\"\",VLOOKUP(E48,判定式!C$3:$J$12,8,TRUE))","v":""},{"$f":"IF(F48=\"\",\"\",VLOOKUP(F48,判定式!D$3:$J$12,7,TRUE))","v":""},{"$f":"IF(G48=\"\",\"\",VLOOKUP(G48,判定式!E$3:$J$12,6,TRUE))","v":""},{"$f":"IF(H48=\"\",\"\",VLOOKUP(H48,判定式!F$3:$J$12,5,TRUE))","v":""},{"$f":"IF(I48=\"\",\"\",VLOOKUP(I48,判定式!I$3:$J$12,2,TRUE))","v":""},{"$f":"IF(J48=\"\",\"\",VLOOKUP(J48,判定式!L$3:$M$12,2,TRUE))","v":""},{"$f":"IF(K48=\"\",\"\",VLOOKUP(K48,判定式!G$3:$J$12,4,TRUE))","v":""},{"$f":"IF(L48=\"\",\"\",VLOOKUP(L48,判定式!H$3:$J$12,3,TRUE))","v":""},"",{"$f":"IF(ISNUMBER(D48),\"判定外\",IF(C48=6,VLOOKUP(U48,判定式!$C$15:I$19,7,TRUE),IF(C48=7,VLOOKUP(U48,判定式!$D$15:I$19,6,TRUE),IF(C48=8,VLOOKUP(U48,判定式!$E$15:I$19,5,TRUE),IF(C48=9,VLOOKUP(U48,判定式!$F$15:I$19,4,TRUE),IF(C48=10,VLOOKUP(U48,判定式!$G$15:I$19,3,TRUE),IF(C48=11,VLOOKUP(U48,判定式!$H$15:I$19,2,TRUE))))))))","v":false}]
[29,null,null,"-",null,null,null,null,null,null,null,null,{"$f":"IF(E49=\"\",\"\",VLOOKUP(E49,判定式!C$3:$J$12,8,TRUE))","v":""},{"$f":"IF(F49=\"\",\"\",VLOOKUP(F49,判定式!D$3:$J$12,7,TRUE))","v":""},{"$f":"IF(G49=\"\",\"\",VLOOKUP(G49,判定式!E$3:$J$12,6,TRUE))","v":""},{"$f":"IF(H49=\"\",\"\",VLOOKUP(H49,判定式!F$3:$J$12,5,TRUE))","v":""},{"$f":"IF(I49=\"\",\"\",VLOOKUP(I49,判定式!I$3:$J$12,2,TRUE))","v":""},{"$f":"IF(J49=\"\",\"\",VLOOKUP(J49,判定式!L$3:$M$12,2,TRUE))","v":""},{"$f":"IF(K49=\"\",\"\",VLOOKUP(K49,判定式!G$3:$J$12,4,TRUE))","v":""},{"$f":"IF(L49=\"\",\"\",VLOOKUP(L49,判定式!H$3:$J$12,3,TRUE))","v":""},"",{"$f":"IF(ISNUMBER(D49),\"判定外\",IF(C49=6,VLOOKUP(U49,判定式!$C$15:I$19,7,TRUE),IF(C49=7,VLOOKUP(U49,判定式!$D$15:I$19,6,TRUE),IF(C49=8,VLOOKUP(U49,判定式!$E$15:I$19,5,TRUE),IF(C49=9,VLOOKUP(U49,判定式!$F$15:I$19,4,TRUE),IF(C49=10,VLOOKUP(U49,判定式!$G$15:I$19,3,TRUE),IF(C49=11,VLOOKUP(U49,判定式!$H$15:I$19,2,TRUE))))))))","v":false}]
[30,null,null,"-",null,null,null,null,null,null,null,null,{"$f":"IF(E50=\"\",\"\",VLOOKUP(E50,判定式!C$3:$J$12,8,TRUE))","v":""},{"$f":"IF(F50=\"\",\"\",VLOOKUP(F50,判定式!D$3:$J$12,7,TRUE))","v":""},{"$f":"IF(G50=\"\",\"\",VLOOKUP(G50,判定式!E$3:$J$12,6,TRUE))","v":""},{"$f":"IF(H50=\"\",\"\",VLOOKUP(H50,判定式!F$3:$J$12,5,TRUE))","v":""},{"$f":"IF(I50=\"\",\"\",VLOOKUP(I50,判定式!I$3:$J$12,2,TRUE))","v":""},{"$f":"IF(J50=\"\",\"\",VLOOKUP(J50,判定式!L$3:$M$12,2,TRUE))","v":""},{"$f":"IF(K50=\"\",\"\",VLOOKUP(K50,判定式!G$3:$J$12,4,TRUE))","v":""},{"$f":"IF(L50=\"\",\"\",VLOOKUP(L50,判定式!H$3:$J$12,3,TRUE))","v":""},"",{"$f":"IF(ISNUMBER(D50),\"判定外\",IF(C50=6,VLOOKUP(U50,判定式!$C$15:I$19,7,TRUE),IF(C50=7,VLOOKUP(U50,判定式!$D$15:I$19,6,TRUE),IF(C50=8,VLOOKUP(U50,判定式!$E$15:I$19,5,TRUE),IF(C50=9,VLOOKUP(U50,判定式!$F$15:I$19,4,TRUE),IF(C50=10,VLOOKUP(U50,判定式!$G$15:I$19,3,TRUE),IF(C50=11,VLOOKUP(U50,判定式!$H$15:I$19,2,TRUE))))))))","v":false}]
[31,null,null,"-",null,null,null,null,null,null,null,null,{"$f":"IF(E51=\"\",\"\",VLOOKUP(E51,判定式!C$3:$J$12,8,TRUE))","v":""},{"$f":"IF(F51=\"\",\"\",VLOOKUP(F51,判定式!D$3:$J$12,7,TRUE))","v":""},{"$f":"IF(G51=\"\",\"\",VLOOKUP(G51,判定式!E$3:$J$12,6,TRUE))","v":""},{"$f":"IF(H51=\"\",\"\",VLOOKUP(H51,判定式!F$3:$J$12,5,TRUE))","v":""},{"$f":"IF(I51=\"\",\"\",VLOOKUP(I51,判定式!I$3:$J$12,2,TRUE))","v":""},{"$f":"IF(J51=\"\",\"\",VLOOKUP(J51,判定式!L$3:$M$12,2,TRUE))","v":""},{"$f":"IF(K51=\"\",\"\",VLOOKUP(K51,判定式!G$3:$J$12,4,TRUE))","v":""},{"$f":"IF(L51=\"\",\"\",VLOOKUP(L51,判定式!H$3:$J$12,3,TRUE))","v":""},"",{"$f":"IF(ISNUMBER(D51),\"判定外\",IF(C51=6,VLOOKUP(U51,判定式!$C$15:I$19,7,TRUE),IF(C51=7,VLOOKUP(U51,判定式!$D$15:I$19,6,TRUE),IF(C51=8,VLOOKUP(U51,判定式!$E$15:I$19,5,TRUE),IF(C51=9,VLOOKUP(U51,判定式!$F$15:I$19,4,TRUE),IF(C51=10,VLOOKUP(U51,判定式!$G$15:I$19,3,TRUE),IF(C51=11,VLOOKUP(U51,判定式!$H$15:I$19,2,TRUE))))))))","v":false}]
[32,null,null,"-",null,null,null,null,null,null,null,null,{"$f":"IF(E52=\"\",\"\",VLOOKUP(E52,判定式!C$3:$J$12,8,TRUE))","v":""},{"$f":"IF(F52=\"\",\"\",VLOOKUP(F52,判定式!D$3:$J$12,7,TRUE))","v":""},{"$f":"IF(G52=\"\",\"\",VLOOKUP(G52,判定式!E$3:$J$12,6,TRUE))","v":""},{"$f":"IF(H52=\"\",\"\",VLOOKUP(H52,判定式!F$3:$J$12,5,TRUE))","v":""},{"$f":"IF(I52=\"\",\"\",VLOOKUP(I52,判定式!I$3:$J$12,2,TRUE))","v":""},{"$f":"IF(J52=\"\",\"\",VLOOKUP(J52,判定式!L$3:$M$12,2,TRUE))","v":""},{"$f":"IF(K52=\"\",\"\",VLOOKUP(K52,判定式!G$3:$J$12,4,TRUE))","v":""},{"$f":"IF(L52=\"\",\"\",VLOOKUP(L52,判定式!H$3:$J$12,3,TRUE))","v":""},"",{"$f":"IF(ISNUMBER(D52),\"判定外\",IF(C52=6,VLOOKUP(U52,判定式!$C$15:I$19,7,TRUE),IF(C52=7,VLOOKUP(U52,判定式!$D$15:I$19,6,TRUE),IF(C52=8,VLOOKUP(U52,判定式!$E$15:I$19,5,TRUE),IF(C52=9,VLOOKUP(U52,判定式!$F$15:I$19,4,TRUE),IF(C52=10,VLOOKUP(U52,判定式!$G$15:I$19,3,TRUE),IF(C52=11,VLOOKUP(U52,判定式!$H$15:I$19,2,TRUE))))))))","v":false}]
[33,null,null,{"$f":"IF(COUNTBLANK(E53:L53)=0,\"\",IF(COUNTBLANK(E53:L53)=8,\"-\",COUNTBLANK(E53:L53)))","v":"-"},null,null,null,null,null,null,null,null,{"$f":"IF(E53=\"\",\"\",VLOOKUP(E53,判定式!C$3:$J$12,8,TRUE))","v":""},{"$f":"IF(F53=\"\",\"\",VLOOKUP(F53,判定式!D$3:$J$12,7,TRUE))","v":""},{"$f":"IF(G53=\"\",\"\",VLOOKUP(G53,判定式!E$3:$J$12,6,TRUE))","v":""},{"$f":"IF(H53=\"\",\"\",VLOOKUP(H53,判定式!F$3:$J$12,5,TRUE))","v":""},{"$f":"IF(I53=\"\",\"\",VLOOKUP(I53,判定式!I$3:$J$12,2,TRUE))","v":""},{"$f":"IF(J53=\"\",\"\",VLOOKUP(J53,判定式!L$3:$M$12,2,TRUE))","v":""},{"$f":"IF(K53=\"\",\"\",VLOOKUP(K53,判定式!G$3:$J$12,4,TRUE))","v":""},{"$f":"IF(L53=\"\",\"\",VLOOKUP(L53,判定式!H$3:$J$12,3,TRUE))","v":""},{"$f":"IF(COUNTBLANK(M53:T53)=0,SUM(M53:T53),\"\")","v":""},{"$f":"IF(ISNUMBER(D53),\"判定外\",IF(C53=6,VLOOKUP(U53,判定式!$C$15:I$19,7,TRUE),IF(C53=7,VLOOKUP(U53,判定式!$D$15:I$19,6,TRUE),IF(C53=8,VLOOKUP(U53,判定式!$E$15:I$19,5,TRUE),IF(C53=9,VLOOKUP(U53,判定式!$F$15:I$19,4,TRUE),IF(C53=10,VLOOKUP(U53,判定式!$G$15:I$19,3,TRUE),IF(C53=11,VLOOKUP(U53,判定式!$H$15:I$19,2,TRUE))))))))","v":false}]
[34,null,null,"-",null,null,null,null,null,null,null,null,{"$f":"IF(E54=\"\",\"\",VLOOKUP(E54,判定式!C$3:$J$12,8,TRUE))","v":""},{"$f":"IF(F54=\"\",\"\",VLOOKUP(F54,判定式!D$3:$J$12,7,TRUE))","v":""},{"$f":"IF(G54=\"\",\"\",VLOOKUP(G54,判定式!E$3:$J$12,6,TRUE))","v":""},{"$f":"IF(H54=\"\",\"\",VLOOKUP(H54,判定式!F$3:$J$12,5,TRUE))","v":""},{"$f":"IF(I54=\"\",\"\",VLOOKUP(I54,判定式!I$3:$J$12,2,TRUE))","v":""},{"$f":"IF(J54=\"\",\"\",VLOOKUP(J54,判定式!L$3:$M$12,2,TRUE))","v":""},{"$f":"IF(K54=\"\",\"\",VLOOKUP(K54,判定式!G$3:$J$12,4,TRUE))","v":""},{"$f":"IF(L54=\"\",\"\",VLOOKUP(L54,判定式!H$3:$J$12,3,TRUE))","v":""},"",{"$f":"IF(ISNUMBER(D54),\"判定外\",IF(C54=6,VLOOKUP(U54,判定式!$C$15:I$19,7,TRUE),IF(C54=7,VLOOKUP(U54,判定式!$D$15:I$19,6,TRUE),IF(C54=8,VLOOKUP(U54,判定式!$E$15:I$19,5,TRUE),IF(C54=9,VLOOKUP(U54,判定式!$F$15:I$19,4,TRUE),IF(C54=10,VLOOKUP(U54,判定式!$G$15:I$19,3,TRUE),IF(C54=11,VLOOKUP(U54,判定式!$H$15:I$19,2,TRUE))))))))","v":false}]
[35,null,null,"-",null,null,null,null,null,null,null,null,{"$f":"IF(E55=\"\",\"\",VLOOKUP(E55,判定式!C$3:$J$12,8,TRUE))","v":""},{"$f":"IF(F55=\"\",\"\",VLOOKUP(F55,判定式!D$3:$J$12,7,TRUE))","v":""},{"$f":"IF(G55=\"\",\"\",VLOOKUP(G55,判定式!E$3:$J$12,6,TRUE))","v":""},{"$f":"IF(H55=\"\",\"\",VLOOKUP(H55,判定式!F$3:$J$12,5,TRUE))","v":""},{"$f":"IF(I55=\"\",\"\",VLOOKUP(I55,判定式!I$3:$J$12,2,TRUE))","v":""},{"$f":"IF(J55=\"\",\"\",VLOOKUP(J55,判定式!L$3:$M$12,2,TRUE))","v":""},{"$f":"IF(K55=\"\",\"\",VLOOKUP(K55,判定式!G$3:$J$12,4,TRUE))","v":""},{"$f":"IF(L55=\"\",\"\",VLOOKUP(L55,判定式!H$3:$J$12,3,TRUE))","v":""},"",{"$f":"IF(ISNUMBER(D55),\"判定外\",IF(C55=6,VLOOKUP(U55,判定式!$C$15:I$19,7,TRUE),IF(C55=7,VLOOKUP(U55,判定式!$D$15:I$19,6,TRUE),IF(C55=8,VLOOKUP(U55,判定式!$E$15:I$19,5,TRUE),IF(C55=9,VLOOKUP(U55,判定式!$F$15:I$19,4,TRUE),IF(C55=10,VLOOKUP(U55,判定式!$G$15:I$19,3,TRUE),IF(C55=11,VLOOKUP(U55,判定式!$H$15:I$19,2,TRUE))))))))","v":false}]
[36,null,null,"-",null,null,null,null,null,null,null,null,{"$f":"IF(E56=\"\",\"\",VLOOKUP(E56,判定式!C$3:$J$12,8,TRUE))","v":""},{"$f":"IF(F56=\"\",\"\",VLOOKUP(F56,判定式!D$3:$J$12,7,TRUE))","v":""},{"$f":"IF(G56=\"\",\"\",VLOOKUP(G56,判定式!E$3:$J$12,6,TRUE))","v":""},{"$f":"IF(H56=\"\",\"\",VLOOKUP(H56,判定式!F$3:$J$12,5,TRUE))","v":""},{"$f":"IF(I56=\"\",\"\",VLOOKUP(I56,判定式!I$3:$J$12,2,TRUE))","v":""},{"$f":"IF(J56=\"\",\"\",VLOOKUP(J56,判定式!L$3:$M$12,2,TRUE))","v":""},{"$f":"IF(K56=\"\",\"\",VLOOKUP(K56,判定式!G$3:$J$12,4,TRUE))","v":""},{"$f":"IF(L56=\"\",\"\",VLOOKUP(L56,判定式!H$3:$J$12,3,TRUE))","v":""},"",{"$f":"IF(ISNUMBER(D56),\"判定外\",IF(C56=6,VLOOKUP(U56,判定式!$C$15:I$19,7,TRUE),IF(C56=7,VLOOKUP(U56,判定式!$D$15:I$19,6,TRUE),IF(C56=8,VLOOKUP(U56,判定式!$E$15:I$19,5,TRUE),IF(C56=9,VLOOKUP(U56,判定式!$F$15:I$19,4,TRUE),IF(C56=10,VLOOKUP(U56,判定式!$G$15:I$19,3,TRUE),IF(C56=11,VLOOKUP(U56,判定式!$H$15:I$19,2,TRUE))))))))","v":false}]
[37,null,null,"-",null,null,null,null,null,null,null,null,{"$f":"IF(E57=\"\",\"\",VLOOKUP(E57,判定式!C$3:$J$12,8,TRUE))","v":""},{"$f":"IF(F57=\"\",\"\",VLOOKUP(F57,判定式!D$3:$J$12,7,TRUE))","v":""},{"$f":"IF(G57=\"\",\"\",VLOOKUP(G57,判定式!E$3:$J$12,6,TRUE))","v":""},{"$f":"IF(H57=\"\",\"\",VLOOKUP(H57,判定式!F$3:$J$12,5,TRUE))","v":""},{"$f":"IF(I57=\"\",\"\",VLOOKUP(I57,判定式!I$3:$J$12,2,TRUE))","v":""},{"$f":"IF(J57=\"\",\"\",VLOOKUP(J57,判定式!L$3:$M$12,2,TRUE))","v":""},{"$f":"IF(K57=\"\",\"\",VLOOKUP(K57,判定式!G$3:$J$12,4,TRUE))","v":""},{"$f":"IF(L57=\"\",\"\",VLOOKUP(L57,判定式!H$3:$J$12,3,TRUE))","v":""},"",{"$f":"IF(ISNUMBER(D57),\"判定外\",IF(C57=6,VLOOKUP(U57,判定式!$C$15:I$19,7,TRUE),IF(C57=7,VLOOKUP(U57,判定式!$D$15:I$19,6,TRUE),IF(C57=8,VLOOKUP(U57,判定式!$E$15:I$19,5,TRUE),IF(C57=9,VLOOKUP(U57,判定式!$F$15:I$19,4,TRUE),IF(C57=10,VLOOKUP(U57,判定式!$G$15:I$19,3,TRUE),IF(C57=11,VLOOKUP(U57,判定式!$H$15:I$19,2,TRUE))))))))","v":false}]
[38,null,null,"-",null,null,null,null,null,null,null,null,{"$f":"IF(E58=\"\",\"\",VLOOKUP(E58,判定式!C$3:$J$12,8,TRUE))","v":""},{"$f":"IF(F58=\"\",\"\",VLOOKUP(F58,判定式!D$3:$J$12,7,TRUE))","v":""},{"$f":"IF(G58=\"\",\"\",VLOOKUP(G58,判定式!E$3:$J$12,6,TRUE))","v":""},{"$f":"IF(H58=\"\",\"\",VLOOKUP(H58,判定式!F$3:$J$12,5,TRUE))","v":""},{"$f":"IF(I58=\"\",\"\",VLOOKUP(I58,判定式!I$3:$J$12,2,TRUE))","v":""},{"$f":"IF(J58=\"\",\"\",VLOOKUP(J58,判定式!L$3:$M$12,2,TRUE))","v":""},{"$f":"IF(K58=\"\",\"\",VLOOKUP(K58,判定式!G$3:$J$12,4,TRUE))","v":""},{"$f":"IF(L58=\"\",\"\",VLOOKUP(L58,判定式!H$3:$J$12,3,TRUE))","v":""},"",{"$f":"IF(ISNUMBER(D58),\"判定外\",IF(C58=6,VLOOKUP(U58,判定式!$C$15:I$19,7,TRUE),IF(C58=7,VLOOKUP(U58,判定式!$D$15:I$19,6,TRUE),IF(C58=8,VLOOKUP(U58,判定式!$E$15:I$19,5,TRUE),IF(C58=9,VLOOKUP(U58,判定式!$F$15:I$19,4,TRUE),IF(C58=10,VLOOKUP(U58,判定式!$G$15:I$19,3,TRUE),IF(C58=11,VLOOKUP(U58,判定式!$H$15:I$19,2,TRUE))))))))","v":false}]
[39,null,null,"-",null,null,null,null,null,null,null,null,{"$f":"IF(E59=\"\",\"\",VLOOKUP(E59,判定式!C$3:$J$12,8,TRUE))","v":""},{"$f":"IF(F59=\"\",\"\",VLOOKUP(F59,判定式!D$3:$J$12,7,TRUE))","v":""},{"$f":"IF(G59=\"\",\"\",VLOOKUP(G59,判定式!E$3:$J$12,6,TRUE))","v":""},{"$f":"IF(H59=\"\",\"\",VLOOKUP(H59,判定式!F$3:$J$12,5,TRUE))","v":""},{"$f":"IF(I59=\"\",\"\",VLOOKUP(I59,判定式!I$3:$J$12,2,TRUE))","v":""},{"$f":"IF(J59=\"\",\"\",VLOOKUP(J59,判定式!L$3:$M$12,2,TRUE))","v":""},{"$f":"IF(K59=\"\",\"\",VLOOKUP(K59,判定式!G$3:$J$12,4,TRUE))","v":""},{"$f":"IF(L59=\"\",\"\",VLOOKUP(L59,判定式!H$3:$J$12,3,TRUE))","v":""},"",{"$f":"IF(ISNUMBER(D59),\"判定外\",IF(C59=6,VLOOKUP(U59,判定式!$C$15:I$19,7,TRUE),IF(C59=7,VLOOKUP(U59,判定式!$D$15:I$19,6,TRUE),IF(C59=8,VLOOKUP(U59,判定式!$E$15:I$19,5,TRUE),IF(C59=9,VLOOKUP(U59,判定式!$F$15:I$19,4,TRUE),IF(C59=10,VLOOKUP(U59,判定式!$G$15:I$19,3,TRUE),IF(C59=11,VLOOKUP(U59,判定式!$H$15:I$19,2,TRUE))))))))","v":false}]
[40,null,null,"-",null,null,null,null,null,null,null,null,{"$f":"IF(E60=\"\",\"\",VLOOKUP(E60,判定式!C$3:$J$12,8,TRUE))","v":""},{"$f":"IF(F60=\"\",\"\",VLOOKUP(F60,判定式!D$3:$J$12,7,TRUE))","v":""},{"$f":"IF(G60=\"\",\"\",VLOOKUP(G60,判定式!E$3:$J$12,6,TRUE))","v":""},{"$f":"IF(H60=\"\",\"\",VLOOKUP(H60,判定式!F$3:$J$12,5,TRUE))","v":""},{"$f":"IF(I60=\"\",\"\",VLOOKUP(I60,判定式!I$3:$J$12,2,TRUE))","v":""},{"$f":"IF(J60=\"\",\"\",VLOOKUP(J60,判定式!L$3:$M$12,2,TRUE))","v":""},{"$f":"IF(K60=\"\",\"\",VLOOKUP(K60,判定式!G$3:$J$12,4,TRUE))","v":""},{"$f":"IF(L60=\"\",\"\",VLOOKUP(L60,判定式!H$3:$J$12,3,TRUE))","v":""},"",{"$f":"IF(ISNUMBER(D60),\"判定外\",IF(C60=6,VLOOKUP(U60,判定式!$C$15:I$19,7,TRUE),IF(C60=7,VLOOKUP(U60,判定式!$D$15:I$19,6,TRUE),IF(C60=8,VLOOKUP(U60,判定式!$E$15:I$19,5,TRUE),IF(C60=9,VLOOKUP(U60,判定式!$F$15:I$19,4,TRUE),IF(C60=10,VLOOKUP(U60,判定式!$G$15:I$19,3,TRUE),IF(C60=11,VLOOKUP(U60,判定式!$H$15:I$19,2,TRUE))))))))","v":false}]
[41,null,null,"-",null,null,null,null,null,null,null,null,{"$f":"IF(E61=\"\",\"\",VLOOKUP(E61,判定式!C$3:$J$12,8,TRUE))","v":""},{"$f":"IF(F61=\"\",\"\",VLOOKUP(F61,判定式!D$3:$J$12,7,TRUE))","v":""},{"$f":"IF(G61=\"\",\"\",VLOOKUP(G61,判定式!E$3:$J$12,6,TRUE))","v":""},{"$f":"IF(H61=\"\",\"\",VLOOKUP(H61,判定式!F$3:$J$12,5,TRUE))","v":""},{"$f":"IF(I61=\"\",\"\",VLOOKUP(I61,判定式!I$3:$J$12,2,TRUE))","v":""},{"$f":"IF(J61=\"\",\"\",VLOOKUP(J61,判定式!L$3:$M$12,2,TRUE))","v":""},{"$f":"IF(K61=\"\",\"\",VLOOKUP(K61,判定式!G$3:$J$12,4,TRUE))","v":""},{"$f":"IF(L61=\"\",\"\",VLOOKUP(L61,判定式!H$3:$J$12,3,TRUE))","v":""},"",{"$f":"IF(ISNUMBER(D61),\"判定外\",IF(C61=6,VLOOKUP(U61,判定式!$C$15:I$19,7,TRUE),IF(C61=7,VLOOKUP(U61,判定式!$D$15:I$19,6,TRUE),IF(C61=8,VLOOKUP(U61,判定式!$E$15:I$19,5,TRUE),IF(C61=9,VLOOKUP(U61,判定式!$F$15:I$19,4,TRUE),IF(C61=10,VLOOKUP(U61,判定式!$G$15:I$19,3,TRUE),IF(C61=11,VLOOKUP(U61,判定式!$H$15:I$19,2,TRUE))))))))","v":false}]
[42,null,null,"-",null,null,null,null,null,null,null,null,{"$f":"IF(E62=\"\",\"\",VLOOKUP(E62,判定式!C$3:$J$12,8,TRUE))","v":""},{"$f":"IF(F62=\"\",\"\",VLOOKUP(F62,判定式!D$3:$J$12,7,TRUE))","v":""},{"$f":"IF(G62=\"\",\"\",VLOOKUP(G62,判定式!E$3:$J$12,6,TRUE))","v":""},{"$f":"IF(H62=\"\",\"\",VLOOKUP(H62,判定式!F$3:$J$12,5,TRUE))","v":""},{"$f":"IF(I62=\"\",\"\",VLOOKUP(I62,判定式!I$3:$J$12,2,TRUE))","v":""},{"$f":"IF(J62=\"\",\"\",VLOOKUP(J62,判定式!L$3:$M$12,2,TRUE))","v":""},{"$f":"IF(K62=\"\",\"\",VLOOKUP(K62,判定式!G$3:$J$12,4,TRUE))","v":""},{"$f":"IF(L62=\"\",\"\",VLOOKUP(L62,判定式!H$3:$J$12,3,TRUE))","v":""},"",{"$f":"IF(ISNUMBER(D62),\"判定外\",IF(C62=6,VLOOKUP(U62,判定式!$C$15:I$19,7,TRUE),IF(C62=7,VLOOKUP(U62,判定式!$D$15:I$19,6,TRUE),IF(C62=8,VLOOKUP(U62,判定式!$E$15:I$19,5,TRUE),IF(C62=9,VLOOKUP(U62,判定式!$F$15:I$19,4,TRUE),IF(C62=10,VLOOKUP(U62,判定式!$G$15:I$19,3,TRUE),IF(C62=11,VLOOKUP(U62,判定式!$H$15:I$19,2,TRUE))))))))","v":false}]
[43,null,null,"-",null,null,null,null,null,null,null,null,{"$f":"IF(E63=\"\",\"\",VLOOKUP(E63,判定式!C$3:$J$12,8,TRUE))","v":""},{"$f":"IF(F63=\"\",\"\",VLOOKUP(F63,判定式!D$3:$J$12,7,TRUE))","v":""},{"$f":"IF(G63=\"\",\"\",VLOOKUP(G63,判定式!E$3:$J$12,6,TRUE))","v":""},{"$f":"IF(H63=\"\",\"\",VLOOKUP(H63,判定式!F$3:$J$12,5,TRUE))","v":""},{"$f":"IF(I63=\"\",\"\",VLOOKUP(I63,判定式!I$3:$J$12,2,TRUE))","v":""},{"$f":"IF(J63=\"\",\"\",VLOOKUP(J63,判定式!L$3:$M$12,2,TRUE))","v":""},{"$f":"IF(K63=\"\",\"\",VLOOKUP(K63,判定式!G$3:$J$12,4,TRUE))","v":""},{"$f":"IF(L63=\"\",\"\",VLOOKUP(L63,判定式!H$3:$J$12,3,TRUE))","v":""},"",{"$f":"IF(ISNUMBER(D63),\"判定外\",IF(C63=6,VLOOKUP(U63,判定式!$C$15:I$19,7,TRUE),IF(C63=7,VLOOKUP(U63,判定式!$D$15:I$19,6,TRUE),IF(C63=8,VLOOKUP(U63,判定式!$E$15:I$19,5,TRUE),IF(C63=9,VLOOKUP(U63,判定式!$F$15:I$19,4,TRUE),IF(C63=10,VLOOKUP(U63,判定式!$G$15:I$19,3,TRUE),IF(C63=11,VLOOKUP(U63,判定式!$H$15:I$19,2,TRUE))))))))","v":false}]
[44,null,null,"-",null,null,null,null,null,null,null,null,{"$f":"IF(E64=\"\",\"\",VLOOKUP(E64,判定式!C$3:$J$12,8,TRUE))","v":""},{"$f":"IF(F64=\"\",\"\",VLOOKUP(F64,判定式!D$3:$J$12,7,TRUE))","v":""},{"$f":"IF(G64=\"\",\"\",VLOOKUP(G64,判定式!E$3:$J$12,6,TRUE))","v":""},{"$f":"IF(H64=\"\",\"\",VLOOKUP(H64,判定式!F$3:$J$12,5,TRUE))","v":""},{"$f":"IF(I64=\"\",\"\",VLOOKUP(I64,判定式!I$3:$J$12,2,TRUE))","v":""},{"$f":"IF(J64=\"\",\"\",VLOOKUP(J64,判定式!L$3:$M$12,2,TRUE))","v":""},{"$f":"IF(K64=\"\",\"\",VLOOKUP(K64,判定式!G$3:$J$12,4,TRUE))","v":""},{"$f":"IF(L64=\"\",\"\",VLOOKUP(L64,判定式!H$3:$J$12,3,TRUE))","v":""},"",{"$f":"IF(ISNUMBER(D64),\"判定外\",IF(C64=6,VLOOKUP(U64,判定式!$C$15:I$19,7,TRUE),IF(C64=7,VLOOKUP(U64,判定式!$D$15:I$19,6,TRUE),IF(C64=8,VLOOKUP(U64,判定式!$E$15:I$19,5,TRUE),IF(C64=9,VLOOKUP(U64,判定式!$F$15:I$19,4,TRUE),IF(C64=10,VLOOKUP(U64,判定式!$G$15:I$19,3,TRUE),IF(C64=11,VLOOKUP(U64,判定式!$H$15:I$19,2,TRUE))))))))","v":false}]
[45,null,null,"-",null,null,null,null,null,null,null,null,{"$f":"IF(E65=\"\",\"\",VLOOKUP(E65,判定式!C$3:$J$12,8,TRUE))","v":""},{"$f":"IF(F65=\"\",\"\",VLOOKUP(F65,判定式!D$3:$J$12,7,TRUE))","v":""},{"$f":"IF(G65=\"\",\"\",VLOOKUP(G65,判定式!E$3:$J$12,6,TRUE))","v":""},{"$f":"IF(H65=\"\",\"\",VLOOKUP(H65,判定式!F$3:$J$12,5,TRUE))","v":""},{"$f":"IF(I65=\"\",\"\",VLOOKUP(I65,判定式!I$3:$J$12,2,TRUE))","v":""},{"$f":"IF(J65=\"\",\"\",VLOOKUP(J65,判定式!L$3:$M$12,2,TRUE))","v":""},{"$f":"IF(K65=\"\",\"\",VLOOKUP(K65,判定式!G$3:$J$12,4,TRUE))","v":""},{"$f":"IF(L65=\"\",\"\",VLOOKUP(L65,判定式!H$3:$J$12,3,TRUE))","v":""},"",{"$f":"IF(ISNUMBER(D65),\"判定外\",IF(C65=6,VLOOKUP(U65,判定式!$C$15:I$19,7,TRUE),IF(C65=7,VLOOKUP(U65,判定式!$D$15:I$19,6,TRUE),IF(C65=8,VLOOKUP(U65,判定式!$E$15:I$19,5,TRUE),IF(C65=9,VLOOKUP(U65,判定式!$F$15:I$19,4,TRUE),IF(C65=10,VLOOKUP(U65,判定式!$G$15:I$19,3,TRUE),IF(C65=11,VLOOKUP(U65,判定式!$H$15:I$19,2,TRUE))))))))","v":false}]
[46,null,null,"-",null,null,null,null,null,null,null,null,{"$f":"IF(E66=\"\",\"\",VLOOKUP(E66,判定式!C$3:$J$12,8,TRUE))","v":""},{"$f":"IF(F66=\"\",\"\",VLOOKUP(F66,判定式!D$3:$J$12,7,TRUE))","v":""},{"$f":"IF(G66=\"\",\"\",VLOOKUP(G66,判定式!E$3:$J$12,6,TRUE))","v":""},{"$f":"IF(H66=\"\",\"\",VLOOKUP(H66,判定式!F$3:$J$12,5,TRUE))","v":""},{"$f":"IF(I66=\"\",\"\",VLOOKUP(I66,判定式!I$3:$J$12,2,TRUE))","v":""},{"$f":"IF(J66=\"\",\"\",VLOOKUP(J66,判定式!L$3:$M$12,2,TRUE))","v":""},{"$f":"IF(K66=\"\",\"\",VLOOKUP(K66,判定式!G$3:$J$12,4,TRUE))","v":""},{"$f":"IF(L66=\"\",\"\",VLOOKUP(L66,判定式!H$3:$J$12,3,TRUE))","v":""},"",{"$f":"IF(ISNUMBER(D66),\"判定外\",IF(C66=6,VLOOKUP(U66,判定式!$C$15:I$19,7,TRUE),IF(C66=7,VLOOKUP(U66,判定式!$D$15:I$19,6,TRUE),IF(C66=8,VLOOKUP(U66,判定式!$E$15:I$19,5,TRUE),IF(C66=9,VLOOKUP(U66,判定式!$F$15:I$19,4,TRUE),IF(C66=10,VLOOKUP(U66,判定式!$G$15:I$19,3,TRUE),IF(C66=11,VLOOKUP(U66,判定式!$H$15:I$19,2,TRUE))))))))","v":false}]
[47,null,null,"-",null,null,null,null,null,null,null,null,{"$f":"IF(E67=\"\",\"\",VLOOKUP(E67,判定式!C$3:$J$12,8,TRUE))","v":""},{"$f":"IF(F67=\"\",\"\",VLOOKUP(F67,判定式!D$3:$J$12,7,TRUE))","v":""},{"$f":"IF(G67=\"\",\"\",VLOOKUP(G67,判定式!E$3:$J$12,6,TRUE))","v":""},{"$f":"IF(H67=\"\",\"\",VLOOKUP(H67,判定式!F$3:$J$12,5,TRUE))","v":""},{"$f":"IF(I67=\"\",\"\",VLOOKUP(I67,判定式!I$3:$J$12,2,TRUE))","v":""},{"$f":"IF(J67=\"\",\"\",VLOOKUP(J67,判定式!L$3:$M$12,2,TRUE))","v":""},{"$f":"IF(K67=\"\",\"\",VLOOKUP(K67,判定式!G$3:$J$12,4,TRUE))","v":""},{"$f":"IF(L67=\"\",\"\",VLOOKUP(L67,判定式!H$3:$J$12,3,TRUE))","v":""},"",{"$f":"IF(ISNUMBER(D67),\"判定外\",IF(C67=6,VLOOKUP(U67,判定式!$C$15:I$19,7,TRUE),IF(C67=7,VLOOKUP(U67,判定式!$D$15:I$19,6,TRUE),IF(C67=8,VLOOKUP(U67,判定式!$E$15:I$19,5,TRUE),IF(C67=9,VLOOKUP(U67,判定式!$F$15:I$19,4,TRUE),IF(C67=10,VLOOKUP(U67,判定式!$G$15:I$19,3,TRUE),IF(C67=11,VLOOKUP(U67,判定式!$H$15:I$19,2,TRUE))))))))","v":false}]
[48,null,null,"-",null,null,null,null,null,null,null,null,{"$f":"IF(E68=\"\",\"\",VLOOKUP(E68,判定式!C$3:$J$12,8,TRUE))","v":""},{"$f":"IF(F68=\"\",\"\",VLOOKUP(F68,判定式!D$3:$J$12,7,TRUE))","v":""},{"$f":"IF(G68=\"\",\"\",VLOOKUP(G68,判定式!E$3:$J$12,6,TRUE))","v":""},{"$f":"IF(H68=\"\",\"\",VLOOKUP(H68,判定式!F$3:$J$12,5,TRUE))","v":""},{"$f":"IF(I68=\"\",\"\",VLOOKUP(I68,判定式!I$3:$J$12,2,TRUE))","v":""},{"$f":"IF(J68=\"\",\"\",VLOOKUP(J68,判定式!L$3:$M$12,2,TRUE))","v":""},{"$f":"IF(K68=\"\",\"\",VLOOKUP(K68,判定式!G$3:$J$12,4,TRUE))","v":""},{"$f":"IF(L68=\"\",\"\",VLOOKUP(L68,判定式!H$3:$J$12,3,TRUE))","v":""},"",{"$f":"IF(ISNUMBER(D68),\"判定外\",IF(C68=6,VLOOKUP(U68,判定式!$C$15:I$19,7,TRUE),IF(C68=7,VLOOKUP(U68,判定式!$D$15:I$19,6,TRUE),IF(C68=8,VLOOKUP(U68,判定式!$E$15:I$19,5,TRUE),IF(C68=9,VLOOKUP(U68,判定式!$F$15:I$19,4,TRUE),IF(C68=10,VLOOKUP(U68,判定式!$G$15:I$19,3,TRUE),IF(C68=11,VLOOKUP(U68,判定式!$H$15:I$19,2,TRUE))))))))","v":false}]
[49,null,null,"-",null,null,null,null,null,null,null,null,{"$f":"IF(E69=\"\",\"\",VLOOKUP(E69,判定式!C$3:$J$12,8,TRUE))","v":""},{"$f":"IF(F69=\"\",\"\",VLOOKUP(F69,判定式!D$3:$J$12,7,TRUE))","v":""},{"$f":"IF(G69=\"\",\"\",VLOOKUP(G69,判定式!E$3:$J$12,6,TRUE))","v":""},{"$f":"IF(H69=\"\",\"\",VLOOKUP(H69,判定式!F$3:$J$12,5,TRUE))","v":""},{"$f":"IF(I69=\"\",\"\",VLOOKUP(I69,判定式!I$3:$J$12,2,TRUE))","v":""},{"$f":"IF(J69=\"\",\"\",VLOOKUP(J69,判定式!L$3:$M$12,2,TRUE))","v":""},{"$f":"IF(K69=\"\",\"\",VLOOKUP(K69,判定式!G$3:$J$12,4,TRUE))","v":""},{"$f":"IF(L69=\"\",\"\",VLOOKUP(L69,判定式!H$3:$J$12,3,TRUE))","v":""},"",{"$f":"IF(ISNUMBER(D69),\"判定外\",IF(C69=6,VLOOKUP(U69,判定式!$C$15:I$19,7,TRUE),IF(C69=7,VLOOKUP(U69,判定式!$D$15:I$19,6,TRUE),IF(C69=8,VLOOKUP(U69,判定式!$E$15:I$19,5,TRUE),IF(C69=9,VLOOKUP(U69,判定式!$F$15:I$19,4,TRUE),IF(C69=10,VLOOKUP(U69,判定式!$G$15:I$19,3,TRUE),IF(C69=11,VLOOKUP(U69,判定式!$H$15:I$19,2,TRUE))))))))","v":false}]
[50,null,null,"-",null,null,null,null,null,null,null,null,{"$f":"IF(E70=\"\",\"\",VLOOKUP(E70,判定式!C$3:$J$12,8,TRUE))","v":""},{"$f":"IF(F70=\"\",\"\",VLOOKUP(F70,判定式!D$3:$J$12,7,TRUE))","v":""},{"$f":"IF(G70=\"\",\"\",VLOOKUP(G70,判定式!E$3:$J$12,6,TRUE))","v":""},{"$f":"IF(H70=\"\",\"\",VLOOKUP(H70,判定式!F$3:$J$12,5,TRUE))","v":""},{"$f":"IF(I70=\"\",\"\",VLOOKUP(I70,判定式!I$3:$J$12,2,TRUE))","v":""},{"$f":"IF(J70=\"\",\"\",VLOOKUP(J70,判定式!L$3:$M$12,2,TRUE))","v":""},{"$f":"IF(K70=\"\",\"\",VLOOKUP(K70,判定式!G$3:$J$12,4,TRUE))","v":""},{"$f":"IF(L70=\"\",\"\",VLOOKUP(L70,判定式!H$3:$J$12,3,TRUE))","v":""},"",{"$f":"IF(ISNUMBER(D70),\"判定外\",IF(C70=6,VLOOKUP(U70,判定式!$C$15:I$19,7,TRUE),IF(C70=7,VLOOKUP(U70,判定式!$D$15:I$19,6,TRUE),IF(C70=8,VLOOKUP(U70,判定式!$E$15:I$19,5,TRUE),IF(C70=9,VLOOKUP(U70,判定式!$F$15:I$19,4,TRUE),IF(C70=10,VLOOKUP(U70,判定式!$G$15:I$19,3,TRUE),IF(C70=11,VLOOKUP(U70,判定式!$H$15:I$19,2,TRUE))))))))","v":false}]
[51,null,null,"-",null,null,null,null,null,null,null,null,{"$f":"IF(E71=\"\",\"\",VLOOKUP(E71,判定式!C$3:$J$12,8,TRUE))","v":""},{"$f":"IF(F71=\"\",\"\",VLOOKUP(F71,判定式!D$3:$J$12,7,TRUE))","v":""},{"$f":"IF(G71=\"\",\"\",VLOOKUP(G71,判定式!E$3:$J$12,6,TRUE))","v":""},{"$f":"IF(H71=\"\",\"\",VLOOKUP(H71,判定式!F$3:$J$12,5,TRUE))","v":""},{"$f":"IF(I71=\"\",\"\",VLOOKUP(I71,判定式!I$3:$J$12,2,TRUE))","v":""},{"$f":"IF(J71=\"\",\"\",VLOOKUP(J71,判定式!L$3:$M$12,2,TRUE))","v":""},{"$f":"IF(K71=\"\",\"\",VLOOKUP(K71,判定式!G$3:$J$12,4,TRUE))","v":""},{"$f":"IF(L71=\"\",\"\",VLOOKUP(L71,判定式!H$3:$J$12,3,TRUE))","v":""},"",{"$f":"IF(ISNUMBER(D71),\"判定外\",IF(C71=6,VLOOKUP(U71,判定式!$C$15:I$19,7,TRUE),IF(C71=7,VLOOKUP(U71,判定式!$D$15:I$19,6,TRUE),IF(C71=8,VLOOKUP(U71,判定式!$E$15:I$19,5,TRUE),IF(C71=9,VLOOKUP(U71,判定式!$F$15:I$19,4,TRUE),IF(C71=10,VLOOKUP(U71,判定式!$G$15:I$19,3,TRUE),IF(C71=11,VLOOKUP(U71,判定式!$H$15:I$19,2,TRUE))))))))","v":false}]
[52,null,null,"-",null,null,null,null,null,null,null,null,{"$f":"IF(E72=\"\",\"\",VLOOKUP(E72,判定式!C$3:$J$12,8,TRUE))","v":""},{"$f":"IF(F72=\"\",\"\",VLOOKUP(F72,判定式!D$3:$J$12,7,TRUE))","v":""},{"$f":"IF(G72=\"\",\"\",VLOOKUP(G72,判定式!E$3:$J$12,6,TRUE))","v":""},{"$f":"IF(H72=\"\",\"\",VLOOKUP(H72,判定式!F$3:$J$12,5,TRUE))","v":""},{"$f":"IF(I72=\"\",\"\",VLOOKUP(I72,判定式!I$3:$J$12,2,TRUE))","v":""},{"$f":"IF(J72=\"\",\"\",VLOOKUP(J72,判定式!L$3:$M$12,2,TRUE))","v":""},{"$f":"IF(K72=\"\",\"\",VLOOKUP(K72,判定式!G$3:$J$12,4,TRUE))","v":""},{"$f":"IF(L72=\"\",\"\",VLOOKUP(L72,判定式!H$3:$J$12,3,TRUE))","v":""},"",{"$f":"IF(ISNUMBER(D72),\"判定外\",IF(C72=6,VLOOKUP(U72,判定式!$C$15:I$19,7,TRUE),IF(C72=7,VLOOKUP(U72,判定式!$D$15:I$19,6,TRUE),IF(C72=8,VLOOKUP(U72,判定式!$E$15:I$19,5,TRUE),IF(C72=9,VLOOKUP(U72,判定式!$F$15:I$19,4,TRUE),IF(C72=10,VLOOKUP(U72,判定式!$G$15:I$19,3,TRUE),IF(C72=11,VLOOKUP(U72,判定式!$H$15:I$19,2,TRUE))))))))","v":false}]
[53,null,null,"-",null,null,null,null,null,null,null,null,{"$f":"IF(E73=\"\",\"\",VLOOKUP(E73,判定式!C$3:$J$12,8,TRUE))","v":""},{"$f":"IF(F73=\"\",\"\",VLOOKUP(F73,判定式!D$3:$J$12,7,TRUE))","v":""},{"$f":"IF(G73=\"\",\"\",VLOOKUP(G73,判定式!E$3:$J$12,6,TRUE))","v":""},{"$f":"IF(H73=\"\",\"\",VLOOKUP(H73,判定式!F$3:$J$12,5,TRUE))","v":""},{"$f":"IF(I73=\"\",\"\",VLOOKUP(I73,判定式!I$3:$J$12,2,TRUE))","v":""},{"$f":"IF(J73=\"\",\"\",VLOOKUP(J73,判定式!L$3:$M$12,2,TRUE))","v":""},{"$f":"IF(K73=\"\",\"\",VLOOKUP(K73,判定式!G$3:$J$12,4,TRUE))","v":""},{"$f":"IF(L73=\"\",\"\",VLOOKUP(L73,判定式!H$3:$J$12,3,TRUE))","v":""},"",{"$f":"IF(ISNUMBER(D73),\"判定外\",IF(C73=6,VLOOKUP(U73,判定式!$C$15:I$19,7,TRUE),IF(C73=7,VLOOKUP(U73,判定式!$D$15:I$19,6,TRUE),IF(C73=8,VLOOKUP(U73,判定式!$E$15:I$19,5,TRUE),IF(C73=9,VLOOKUP(U73,判定式!$F$15:I$19,4,TRUE),IF(C73=10,VLOOKUP(U73,判定式!$G$15:I$19,3,TRUE),IF(C73=11,VLOOKUP(U73,判定式!$H$15:I$19,2,TRUE))))))))","v":false}]
[54,null,null,"-",null,null,null,null,null,null,null,null,{"$f":"IF(E74=\"\",\"\",VLOOKUP(E74,判定式!C$3:$J$12,8,TRUE))","v":""},{"$f":"IF(F74=\"\",\"\",VLOOKUP(F74,判定式!D$3:$J$12,7,TRUE))","v":""},{"$f":"IF(G74=\"\",\"\",VLOOKUP(G74,判定式!E$3:$J$12,6,TRUE))","v":""},{"$f":"IF(H74=\"\",\"\",VLOOKUP(H74,判定式!F$3:$J$12,5,TRUE))","v":""},{"$f":"IF(I74=\"\",\"\",VLOOKUP(I74,判定式!I$3:$J$12,2,TRUE))","v":""},{"$f":"IF(J74=\"\",\"\",VLOOKUP(J74,判定式!L$3:$M$12,2,TRUE))","v":""},{"$f":"IF(K74=\"\",\"\",VLOOKUP(K74,判定式!G$3:$J$12,4,TRUE))","v":""},{"$f":"IF(L74=\"\",\"\",VLOOKUP(L74,判定式!H$3:$J$12,3,TRUE))","v":""},"",{"$f":"IF(ISNUMBER(D74),\"判定外\",IF(C74=6,VLOOKUP(U74,判定式!$C$15:I$19,7,TRUE),IF(C74=7,VLOOKUP(U74,判定式!$D$15:I$19,6,TRUE),IF(C74=8,VLOOKUP(U74,判定式!$E$15:I$19,5,TRUE),IF(C74=9,VLOOKUP(U74,判定式!$F$15:I$19,4,TRUE),IF(C74=10,VLOOKUP(U74,判定式!$G$15:I$19,3,TRUE),IF(C74=11,VLOOKUP(U74,判定式!$H$15:I$19,2,TRUE))))))))","v":false}]
[55,null,null,"-",null,null,null,null,null,null,null,null,{"$f":"IF(E75=\"\",\"\",VLOOKUP(E75,判定式!C$3:$J$12,8,TRUE))","v":""},{"$f":"IF(F75=\"\",\"\",VLOOKUP(F75,判定式!D$3:$J$12,7,TRUE))","v":""},{"$f":"IF(G75=\"\",\"\",VLOOKUP(G75,判定式!E$3:$J$12,6,TRUE))","v":""},{"$f":"IF(H75=\"\",\"\",VLOOKUP(H75,判定式!F$3:$J$12,5,TRUE))","v":""},{"$f":"IF(I75=\"\",\"\",VLOOKUP(I75,判定式!I$3:$J$12,2,TRUE))","v":""},{"$f":"IF(J75=\"\",\"\",VLOOKUP(J75,判定式!L$3:$M$12,2,TRUE))","v":""},{"$f":"IF(K75=\"\",\"\",VLOOKUP(K75,判定式!G$3:$J$12,4,TRUE))","v":""},{"$f":"IF(L75=\"\",\"\",VLOOKUP(L75,判定式!H$3:$J$12,3,TRUE))","v":""},"",{"$f":"IF(ISNUMBER(D75),\"判定外\",IF(C75=6,VLOOKUP(U75,判定式!$C$15:I$19,7,TRUE),IF(C75=7,VLOOKUP(U75,判定式!$D$15:I$19,6,TRUE),IF(C75=8,VLOOKUP(U75,判定式!$E$15:I$19,5,TRUE),IF(C75=9,VLOOKUP(U75,判定式!$F$15:I$19,4,TRUE),IF(C75=10,VLOOKUP(U75,判定式!$G$15:I$19,3,TRUE),IF(C75=11,VLOOKUP(U75,判定式!$H$15:I$19,2,TRUE))))))))","v":false}]
[56,null,null,"-",null,null,null,null,null,null,null,null,{"$f":"IF(E76=\"\",\"\",VLOOKUP(E76,判定式!C$3:$J$12,8,TRUE))","v":""},{"$f":"IF(F76=\"\",\"\",VLOOKUP(F76,判定式!D$3:$J$12,7,TRUE))","v":""},{"$f":"IF(G76=\"\",\"\",VLOOKUP(G76,判定式!E$3:$J$12,6,TRUE))","v":""},{"$f":"IF(H76=\"\",\"\",VLOOKUP(H76,判定式!F$3:$J$12,5,TRUE))","v":""},{"$f":"IF(I76=\"\",\"\",VLOOKUP(I76,判定式!I$3:$J$12,2,TRUE))","v":""},{"$f":"IF(J76=\"\",\"\",VLOOKUP(J76,判定式!L$3:$M$12,2,TRUE))","v":""},{"$f":"IF(K76=\"\",\"\",VLOOKUP(K76,判定式!G$3:$J$12,4,TRUE))","v":""},{"$f":"IF(L76=\"\",\"\",VLOOKUP(L76,判定式!H$3:$J$12,3,TRUE))","v":""},"",{"$f":"IF(ISNUMBER(D76),\"判定外\",IF(C76=6,VLOOKUP(U76,判定式!$C$15:I$19,7,TRUE),IF(C76=7,VLOOKUP(U76,判定式!$D$15:I$19,6,TRUE),IF(C76=8,VLOOKUP(U76,判定式!$E$15:I$19,5,TRUE),IF(C76=9,VLOOKUP(U76,判定式!$F$15:I$19,4,TRUE),IF(C76=10,VLOOKUP(U76,判定式!$G$15:I$19,3,TRUE),IF(C76=11,VLOOKUP(U76,判定式!$H$15:I$19,2,TRUE))))))))","v":false}]
[57,null,null,"-",null,null,null,null,null,null,null,null,{"$f":"IF(E77=\"\",\"\",VLOOKUP(E77,判定式!C$3:$J$12,8,TRUE))","v":""},{"$f":"IF(F77=\"\",\"\",VLOOKUP(F77,判定式!D$3:$J$12,7,TRUE))","v":""},{"$f":"IF(G77=\"\",\"\",VLOOKUP(G77,判定式!E$3:$J$12,6,TRUE))","v":""},{"$f":"IF(H77=\"\",\"\",VLOOKUP(H77,判定式!F$3:$J$12,5,TRUE))","v":""},{"$f":"IF(I77=\"\",\"\",VLOOKUP(I77,判定式!I$3:$J$12,2,TRUE))","v":""},{"$f":"IF(J77=\"\",\"\",VLOOKUP(J77,判定式!L$3:$M$12,2,TRUE))","v":""},{"$f":"IF(K77=\"\",\"\",VLOOKUP(K77,判定式!G$3:$J$12,4,TRUE))","v":""},{"$f":"IF(L77=\"\",\"\",VLOOKUP(L77,判定式!H$3:$J$12,3,TRUE))","v":""},"",{"$f":"IF(ISNUMBER(D77),\"判定外\",IF(C77=6,VLOOKUP(U77,判定式!$C$15:I$19,7,TRUE),IF(C77=7,VLOOKUP(U77,判定式!$D$15:I$19,6,TRUE),IF(C77=8,VLOOKUP(U77,判定式!$E$15:I$19,5,TRUE),IF(C77=9,VLOOKUP(U77,判定式!$F$15:I$19,4,TRUE),IF(C77=10,VLOOKUP(U77,判定式!$G$15:I$19,3,TRUE),IF(C77=11,VLOOKUP(U77,判定式!$H$15:I$19,2,TRUE))))))))","v":false}]
[58,null,null,"-",null,null,null,null,null,null,null,null,{"$f":"IF(E78=\"\",\"\",VLOOKUP(E78,判定式!C$3:$J$12,8,TRUE))","v":""},{"$f":"IF(F78=\"\",\"\",VLOOKUP(F78,判定式!D$3:$J$12,7,TRUE))","v":""},{"$f":"IF(G78=\"\",\"\",VLOOKUP(G78,判定式!E$3:$J$12,6,TRUE))","v":""},{"$f":"IF(H78=\"\",\"\",VLOOKUP(H78,判定式!F$3:$J$12,5,TRUE))","v":""},{"$f":"IF(I78=\"\",\"\",VLOOKUP(I78,判定式!I$3:$J$12,2,TRUE))","v":""},{"$f":"IF(J78=\"\",\"\",VLOOKUP(J78,判定式!L$3:$M$12,2,TRUE))","v":""},{"$f":"IF(K78=\"\",\"\",VLOOKUP(K78,判定式!G$3:$J$12,4,TRUE))","v":""},{"$f":"IF(L78=\"\",\"\",VLOOKUP(L78,判定式!H$3:$J$12,3,TRUE))","v":""},"",{"$f":"IF(ISNUMBER(D78),\"判定外\",IF(C78=6,VLOOKUP(U78,判定式!$C$15:I$19,7,TRUE),IF(C78=7,VLOOKUP(U78,判定式!$D$15:I$19,6,TRUE),IF(C78=8,VLOOKUP(U78,判定式!$E$15:I$19,5,TRUE),IF(C78=9,VLOOKUP(U78,判定式!$F$15:I$19,4,TRUE),IF(C78=10,VLOOKUP(U78,判定式!$G$15:I$19,3,TRUE),IF(C78=11,VLOOKUP(U78,判定式!$H$15:I$19,2,TRUE))))))))","v":false}]
[59,null,null,"-",null,null,null,null,null,null,null,null,{"$f":"IF(E79=\"\",\"\",VLOOKUP(E79,判定式!C$3:$J$12,8,TRUE))","v":""},{"$f":"IF(F79=\"\",\"\",VLOOKUP(F79,判定式!D$3:$J$12,7,TRUE))","v":""},{"$f":"IF(G79=\"\",\"\",VLOOKUP(G79,判定式!E$3:$J$12,6,TRUE))","v":""},{"$f":"IF(H79=\"\",\"\",VLOOKUP(H79,判定式!F$3:$J$12,5,TRUE))","v":""},{"$f":"IF(I79=\"\",\"\",VLOOKUP(I79,判定式!I$3:$J$12,2,TRUE))","v":""},{"$f":"IF(J79=\"\",\"\",VLOOKUP(J79,判定式!L$3:$M$12,2,TRUE))","v":""},{"$f":"IF(K79=\"\",\"\",VLOOKUP(K79,判定式!G$3:$J$12,4,TRUE))","v":""},{"$f":"IF(L79=\"\",\"\",VLOOKUP(L79,判定式!H$3:$J$12,3,TRUE))","v":""},"",{"$f":"IF(ISNUMBER(D79),\"判定外\",IF(C79=6,VLOOKUP(U79,判定式!$C$15:I$19,7,TRUE),IF(C79=7,VLOOKUP(U79,判定式!$D$15:I$19,6,TRUE),IF(C79=8,VLOOKUP(U79,判定式!$E$15:I$19,5,TRUE),IF(C79=9,VLOOKUP(U79,判定式!$F$15:I$19,4,TRUE),IF(C79=10,VLOOKUP(U79,判定式!$G$15:I$19,3,TRUE),IF(C79=11,VLOOKUP(U79,判定式!$H$15:I$19,2,TRUE))))))))","v":false}]
[60,null,null,"-",null,null,null,null,null,null,null,null,{"$f":"IF(E80=\"\",\"\",VLOOKUP(E80,判定式!C$3:$J$12,8,TRUE))","v":""},{"$f":"IF(F80=\"\",\"\",VLOOKUP(F80,判定式!D$3:$J$12,7,TRUE))","v":""},{"$f":"IF(G80=\"\",\"\",VLOOKUP(G80,判定式!E$3:$J$12,6,TRUE))","v":""},{"$f":"IF(H80=\"\",\"\",VLOOKUP(H80,判定式!F$3:$J$12,5,TRUE))","v":""},{"$f":"IF(I80=\"\",\"\",VLOOKUP(I80,判定式!I$3:$J$12,2,TRUE))","v":""},{"$f":"IF(J80=\"\",\"\",VLOOKUP(J80,判定式!L$3:$M$12,2,TRUE))","v":""},{"$f":"IF(K80=\"\",\"\",VLOOKUP(K80,判定式!G$3:$J$12,4,TRUE))","v":""},{"$f":"IF(L80=\"\",\"\",VLOOKUP(L80,判定式!H$3:$J$12,3,TRUE))","v":""},"",{"$f":"IF(ISNUMBER(D80),\"判定外\",IF(C80=6,VLOOKUP(U80,判定式!$C$15:I$19,7,TRUE),IF(C80=7,VLOOKUP(U80,判定式!$D$15:I$19,6,TRUE),IF(C80=8,VLOOKUP(U80,判定式!$E$15:I$19,5,TRUE),IF(C80=9,VLOOKUP(U80,判定式!$F$15:I$19,4,TRUE),IF(C80=10,VLOOKUP(U80,判定式!$G$15:I$19,3,TRUE),IF(C80=11,VLOOKUP(U80,判定式!$H$15:I$19,2,TRUE))))))))","v":false}]
[61,null,null,"-",null,null,null,null,null,null,null,null,{"$f":"IF(E81=\"\",\"\",VLOOKUP(E81,判定式!C$3:$J$12,8,TRUE))","v":""},{"$f":"IF(F81=\"\",\"\",VLOOKUP(F81,判定式!D$3:$J$12,7,TRUE))","v":""},{"$f":"IF(G81=\"\",\"\",VLOOKUP(G81,判定式!E$3:$J$12,6,TRUE))","v":""},{"$f":"IF(H81=\"\",\"\",VLOOKUP(H81,判定式!F$3:$J$12,5,TRUE))","v":""},{"$f":"IF(I81=\"\",\"\",VLOOKUP(I81,判定式!I$3:$J$12,2,TRUE))","v":""},{"$f":"IF(J81=\"\",\"\",VLOOKUP(J81,判定式!L$3:$M$12,2,TRUE))","v":""},{"$f":"IF(K81=\"\",\"\",VLOOKUP(K81,判定式!G$3:$J$12,4,TRUE))","v":""},{"$f":"IF(L81=\"\",\"\",VLOOKUP(L81,判定式!H$3:$J$12,3,TRUE))","v":""},"",{"$f":"IF(ISNUMBER(D81),\"判定外\",IF(C81=6,VLOOKUP(U81,判定式!$C$15:I$19,7,TRUE),IF(C81=7,VLOOKUP(U81,判定式!$D$15:I$19,6,TRUE),IF(C81=8,VLOOKUP(U81,判定式!$E$15:I$19,5,TRUE),IF(C81=9,VLOOKUP(U81,判定式!$F$15:I$19,4,TRUE),IF(C81=10,VLOOKUP(U81,判定式!$G$15:I$19,3,TRUE),IF(C81=11,VLOOKUP(U81,判定式!$H$15:I$19,2,TRUE))))))))","v":false}]
[62,null,null,"-",null,null,null,null,null,null,null,null,{"$f":"IF(E82=\"\",\"\",VLOOKUP(E82,判定式!C$3:$J$12,8,TRUE))","v":""},{"$f":"IF(F82=\"\",\"\",VLOOKUP(F82,判定式!D$3:$J$12,7,TRUE))","v":""},{"$f":"IF(G82=\"\",\"\",VLOOKUP(G82,判定式!E$3:$J$12,6,TRUE))","v":""},{"$f":"IF(H82=\"\",\"\",VLOOKUP(H82,判定式!F$3:$J$12,5,TRUE))","v":""},{"$f":"IF(I82=\"\",\"\",VLOOKUP(I82,判定式!I$3:$J$12,2,TRUE))","v":""},{"$f":"IF(J82=\"\",\"\",VLOOKUP(J82,判定式!L$3:$M$12,2,TRUE))","v":""},{"$f":"IF(K82=\"\",\"\",VLOOKUP(K82,判定式!G$3:$J$12,4,TRUE))","v":""},{"$f":"IF(L82=\"\",\"\",VLOOKUP(L82,判定式!H$3:$J$12,3,TRUE))","v":""},"",{"$f":"IF(ISNUMBER(D82),\"判定外\",IF(C82=6,VLOOKUP(U82,判定式!$C$15:I$19,7,TRUE),IF(C82=7,VLOOKUP(U82,判定式!$D$15:I$19,6,TRUE),IF(C82=8,VLOOKUP(U82,判定式!$E$15:I$19,5,TRUE),IF(C82=9,VLOOKUP(U82,判定式!$F$15:I$19,4,TRUE),IF(C82=10,VLOOKUP(U82,判定式!$G$15:I$19,3,TRUE),IF(C82=11,VLOOKUP(U82,判定式!$H$15:I$19,2,TRUE))))))))","v":false}]
[63,null,null,"-",null,null,null,null,null,null,null,null,{"$f":"IF(E83=\"\",\"\",VLOOKUP(E83,判定式!C$3:$J$12,8,TRUE))","v":""},{"$f":"IF(F83=\"\",\"\",VLOOKUP(F83,判定式!D$3:$J$12,7,TRUE))","v":""},{"$f":"IF(G83=\"\",\"\",VLOOKUP(G83,判定式!E$3:$J$12,6,TRUE))","v":""},{"$f":"IF(H83=\"\",\"\",VLOOKUP(H83,判定式!F$3:$J$12,5,TRUE))","v":""},{"$f":"IF(I83=\"\",\"\",VLOOKUP(I83,判定式!I$3:$J$12,2,TRUE))","v":""},{"$f":"IF(J83=\"\",\"\",VLOOKUP(J83,判定式!L$3:$M$12,2,TRUE))","v":""},{"$f":"IF(K83=\"\",\"\",VLOOKUP(K83,判定式!G$3:$J$12,4,TRUE))","v":""},{"$f":"IF(L83=\"\",\"\",VLOOKUP(L83,判定式!H$3:$J$12,3,TRUE))","v":""},"",{"$f":"IF(ISNUMBER(D83),\"判定外\",IF(C83=6,VLOOKUP(U83,判定式!$C$15:I$19,7,TRUE),IF(C83=7,VLOOKUP(U83,判定式!$D$15:I$19,6,TRUE),IF(C83=8,VLOOKUP(U83,判定式!$E$15:I$19,5,TRUE),IF(C83=9,VLOOKUP(U83,判定式!$F$15:I$19,4,TRUE),IF(C83=10,VLOOKUP(U83,判定式!$G$15:I$19,3,TRUE),IF(C83=11,VLOOKUP(U83,判定式!$H$15:I$19,2,TRUE))))))))","v":false}]
[64,null,null,"-",null,null,null,null,null,null,null,null,{"$f":"IF(E84=\"\",\"\",VLOOKUP(E84,判定式!C$3:$J$12,8,TRUE))","v":""},{"$f":"IF(F84=\"\",\"\",VLOOKUP(F84,判定式!D$3:$J$12,7,TRUE))","v":""},{"$f":"IF(G84=\"\",\"\",VLOOKUP(G84,判定式!E$3:$J$12,6,TRUE))","v":""},{"$f":"IF(H84=\"\",\"\",VLOOKUP(H84,判定式!F$3:$J$12,5,TRUE))","v":""},{"$f":"IF(I84=\"\",\"\",VLOOKUP(I84,判定式!I$3:$J$12,2,TRUE))","v":""},{"$f":"IF(J84=\"\",\"\",VLOOKUP(J84,判定式!L$3:$M$12,2,TRUE))","v":""},{"$f":"IF(K84=\"\",\"\",VLOOKUP(K84,判定式!G$3:$J$12,4,TRUE))","v":""},{"$f":"IF(L84=\"\",\"\",VLOOKUP(L84,判定式!H$3:$J$12,3,TRUE))","v":""},"",{"$f":"IF(ISNUMBER(D84),\"判定外\",IF(C84=6,VLOOKUP(U84,判定式!$C$15:I$19,7,TRUE),IF(C84=7,VLOOKUP(U84,判定式!$D$15:I$19,6,TRUE),IF(C84=8,VLOOKUP(U84,判定式!$E$15:I$19,5,TRUE),IF(C84=9,VLOOKUP(U84,判定式!$F$15:I$19,4,TRUE),IF(C84=10,VLOOKUP(U84,判定式!$G$15:I$19,3,TRUE),IF(C84=11,VLOOKUP(U84,判定式!$H$15:I$19,2,TRUE))))))))","v":false}]
[65,null,null,{"$f":"IF(COUNTBLANK(E85:L85)=0,\"\",IF(COUNTBLANK(E85:L85)=8,\"-\",COUNTBLANK(E85:L85)))","v":"-"},null,null,null,null,null,null,null,null,{"$f":"IF(E85=\"\",\"\",VLOOKUP(E85,判定式!C$3:$J$12,8,TRUE))","v":""},{"$f":"IF(F85=\"\",\"\",VLOOKUP(F85,判定式!D$3:$J$12,7,TRUE))","v":""},{"$f":"IF(G85=\"\",\"\",VLOOKUP(G85,判定式!E$3:$J$12,6,TRUE))","v":""},{"$f":"IF(H85=\"\",\"\",VLOOKUP(H85,判定式!F$3:$J$12,5,TRUE))","v":""},{"$f":"IF(I85=\"\",\"\",VLOOKUP(I85,判定式!I$3:$J$12,2,TRUE))","v":""},{"$f":"IF(J85=\"\",\"\",VLOOKUP(J85,判定式!L$3:$M$12,2,TRUE))","v":""},{"$f":"IF(K85=\"\",\"\",VLOOKUP(K85,判定式!G$3:$J$12,4,TRUE))","v":""},{"$f":"IF(L85=\"\",\"\",VLOOKUP(L85,判定式!H$3:$J$12,3,TRUE))","v":""},{"$f":"IF(COUNTBLANK(M85:T85)=0,SUM(M85:T85),\"\")","v":""},{"$f":"IF(ISNUMBER(D85),\"判定外\",IF(C85=6,VLOOKUP(U85,判定式!$C$15:I$19,7,TRUE),IF(C85=7,VLOOKUP(U85,判定式!$D$15:I$19,6,TRUE),IF(C85=8,VLOOKUP(U85,判定式!$E$15:I$19,5,TRUE),IF(C85=9,VLOOKUP(U85,判定式!$F$15:I$19,4,TRUE),IF(C85=10,VLOOKUP(U85,判定式!$G$15:I$19,3,TRUE),IF(C85=11,VLOOKUP(U85,判定式!$H$15:I$19,2,TRUE))))))))","v":false}]
[66,null,null,"-",null,null,null,null,null,null,null,null,{"$f":"IF(E86=\"\",\"\",VLOOKUP(E86,判定式!C$3:$J$12,8,TRUE))","v":""},{"$f":"IF(F86=\"\",\"\",VLOOKUP(F86,判定式!D$3:$J$12,7,TRUE))","v":""},{"$f":"IF(G86=\"\",\"\",VLOOKUP(G86,判定式!E$3:$J$12,6,TRUE))","v":""},{"$f":"IF(H86=\"\",\"\",VLOOKUP(H86,判定式!F$3:$J$12,5,TRUE))","v":""},{"$f":"IF(I86=\"\",\"\",VLOOKUP(I86,判定式!I$3:$J$12,2,TRUE))","v":""},{"$f":"IF(J86=\"\",\"\",VLOOKUP(J86,判定式!L$3:$M$12,2,TRUE))","v":""},{"$f":"IF(K86=\"\",\"\",VLOOKUP(K86,判定式!G$3:$J$12,4,TRUE))","v":""},{"$f":"IF(L86=\"\",\"\",VLOOKUP(L86,判定式!H$3:$J$12,3,TRUE))","v":""},"",{"$f":"IF(ISNUMBER(D86),\"判定外\",IF(C86=6,VLOOKUP(U86,判定式!$C$15:I$19,7,TRUE),IF(C86=7,VLOOKUP(U86,判定式!$D$15:I$19,6,TRUE),IF(C86=8,VLOOKUP(U86,判定式!$E$15:I$19,5,TRUE),IF(C86=9,VLOOKUP(U86,判定式!$F$15:I$19,4,TRUE),IF(C86=10,VLOOKUP(U86,判定式!$G$15:I$19,3,TRUE),IF(C86=11,VLOOKUP(U86,判定式!$H$15:I$19,2,TRUE))))))))","v":false}]
[67,null,null,"-",null,null,null,null,null,null,null,null,{"$f":"IF(E87=\"\",\"\",VLOOKUP(E87,判定式!C$3:$J$12,8,TRUE))","v":""},{"$f":"IF(F87=\"\",\"\",VLOOKUP(F87,判定式!D$3:$J$12,7,TRUE))","v":""},{"$f":"IF(G87=\"\",\"\",VLOOKUP(G87,判定式!E$3:$J$12,6,TRUE))","v":""},{"$f":"IF(H87=\"\",\"\",VLOOKUP(H87,判定式!F$3:$J$12,5,TRUE))","v":""},{"$f":"IF(I87=\"\",\"\",VLOOKUP(I87,判定式!I$3:$J$12,2,TRUE))","v":""},{"$f":"IF(J87=\"\",\"\",VLOOKUP(J87,判定式!L$3:$M$12,2,TRUE))","v":""},{"$f":"IF(K87=\"\",\"\",VLOOKUP(K87,判定式!G$3:$J$12,4,TRUE))","v":""},{"$f":"IF(L87=\"\",\"\",VLOOKUP(L87,判定式!H$3:$J$12,3,TRUE))","v":""},"",{"$f":"IF(ISNUMBER(D87),\"判定外\",IF(C87=6,VLOOKUP(U87,判定式!$C$15:I$19,7,TRUE),IF(C87=7,VLOOKUP(U87,判定式!$D$15:I$19,6,TRUE),IF(C87=8,VLOOKUP(U87,判定式!$E$15:I$19,5,TRUE),IF(C87=9,VLOOKUP(U87,判定式!$F$15:I$19,4,TRUE),IF(C87=10,VLOOKUP(U87,判定式!$G$15:I$19,3,TRUE),IF(C87=11,VLOOKUP(U87,判定式!$H$15:I$19,2,TRUE))))))))","v":false}]
[68,null,null,"-",null,null,null,null,null,null,null,null,{"$f":"IF(E88=\"\",\"\",VLOOKUP(E88,判定式!C$3:$J$12,8,TRUE))","v":""},{"$f":"IF(F88=\"\",\"\",VLOOKUP(F88,判定式!D$3:$J$12,7,TRUE))","v":""},{"$f":"IF(G88=\"\",\"\",VLOOKUP(G88,判定式!E$3:$J$12,6,TRUE))","v":""},{"$f":"IF(H88=\"\",\"\",VLOOKUP(H88,判定式!F$3:$J$12,5,TRUE))","v":""},{"$f":"IF(I88=\"\",\"\",VLOOKUP(I88,判定式!I$3:$J$12,2,TRUE))","v":""},{"$f":"IF(J88=\"\",\"\",VLOOKUP(J88,判定式!L$3:$M$12,2,TRUE))","v":""},{"$f":"IF(K88=\"\",\"\",VLOOKUP(K88,判定式!G$3:$J$12,4,TRUE))","v":""},{"$f":"IF(L88=\"\",\"\",VLOOKUP(L88,判定式!H$3:$J$12,3,TRUE))","v":""},"",{"$f":"IF(ISNUMBER(D88),\"判定外\",IF(C88=6,VLOOKUP(U88,判定式!$C$15:I$19,7,TRUE),IF(C88=7,VLOOKUP(U88,判定式!$D$15:I$19,6,TRUE),IF(C88=8,VLOOKUP(U88,判定式!$E$15:I$19,5,TRUE),IF(C88=9,VLOOKUP(U88,判定式!$F$15:I$19,4,TRUE),IF(C88=10,VLOOKUP(U88,判定式!$G$15:I$19,3,TRUE),IF(C88=11,VLOOKUP(U88,判定式!$H$15:I$19,2,TRUE))))))))","v":false}]
[69,null,null,"-",null,null,null,null,null,null,null,null,{"$f":"IF(E89=\"\",\"\",VLOOKUP(E89,判定式!C$3:$J$12,8,TRUE))","v":""},{"$f":"IF(F89=\"\",\"\",VLOOKUP(F89,判定式!D$3:$J$12,7,TRUE))","v":""},{"$f":"IF(G89=\"\",\"\",VLOOKUP(G89,判定式!E$3:$J$12,6,TRUE))","v":""},{"$f":"IF(H89=\"\",\"\",VLOOKUP(H89,判定式!F$3:$J$12,5,TRUE))","v":""},{"$f":"IF(I89=\"\",\"\",VLOOKUP(I89,判定式!I$3:$J$12,2,TRUE))","v":""},{"$f":"IF(J89=\"\",\"\",VLOOKUP(J89,判定式!L$3:$M$12,2,TRUE))","v":""},{"$f":"IF(K89=\"\",\"\",VLOOKUP(K89,判定式!G$3:$J$12,4,TRUE))","v":""},{"$f":"IF(L89=\"\",\"\",VLOOKUP(L89,判定式!H$3:$J$12,3,TRUE))","v":""},"",{"$f":"IF(ISNUMBER(D89),\"判定外\",IF(C89=6,VLOOKUP(U89,判定式!$C$15:I$19,7,TRUE),IF(C89=7,VLOOKUP(U89,判定式!$D$15:I$19,6,TRUE),IF(C89=8,VLOOKUP(U89,判定式!$E$15:I$19,5,TRUE),IF(C89=9,VLOOKUP(U89,判定式!$F$15:I$19,4,TRUE),IF(C89=10,VLOOKUP(U89,判定式!$G$15:I$19,3,TRUE),IF(C89=11,VLOOKUP(U89,判定式!$H$15:I$19,2,TRUE))))))))","v":false}]
[70,null,null,"-",null,null,null,null,null,null,null,null,{"$f":"IF(E90=\"\",\"\",VLOOKUP(E90,判定式!C$3:$J$12,8,TRUE))","v":""},{"$f":"IF(F90=\"\",\"\",VLOOKUP(F90,判定式!D$3:$J$12,7,TRUE))","v":""},{"$f":"IF(G90=\"\",\"\",VLOOKUP(G90,判定式!E$3:$J$12,6,TRUE))","v":""},{"$f":"IF(H90=\"\",\"\",VLOOKUP(H90,判定式!F$3:$J$12,5,TRUE))","v":""},{"$f":"IF(I90=\"\",\"\",VLOOKUP(I90,判定式!I$3:$J$12,2,TRUE))","v":""},{"$f":"IF(J90=\"\",\"\",VLOOKUP(J90,判定式!L$3:$M$12,2,TRUE))","v":""},{"$f":"IF(K90=\"\",\"\",VLOOKUP(K90,判定式!G$3:$J$12,4,TRUE))","v":""},{"$f":"IF(L90=\"\",\"\",VLOOKUP(L90,判定式!H$3:$J$12,3,TRUE))","v":""},"",{"$f":"IF(ISNUMBER(D90),\"判定外\",IF(C90=6,VLOOKUP(U90,判定式!$C$15:I$19,7,TRUE),IF(C90=7,VLOOKUP(U90,判定式!$D$15:I$19,6,TRUE),IF(C90=8,VLOOKUP(U90,判定式!$E$15:I$19,5,TRUE),IF(C90=9,VLOOKUP(U90,判定式!$F$15:I$19,4,TRUE),IF(C90=10,VLOOKUP(U90,判定式!$G$15:I$19,3,TRUE),IF(C90=11,VLOOKUP(U90,判定式!$H$15:I$19,2,TRUE))))))))","v":false}]
[71,null,null,"-",null,null,null,null,null,null,null,null,{"$f":"IF(E91=\"\",\"\",VLOOKUP(E91,判定式!C$3:$J$12,8,TRUE))","v":""},{"$f":"IF(F91=\"\",\"\",VLOOKUP(F91,判定式!D$3:$J$12,7,TRUE))","v":""},{"$f":"IF(G91=\"\",\"\",VLOOKUP(G91,判定式!E$3:$J$12,6,TRUE))","v":""},{"$f":"IF(H91=\"\",\"\",VLOOKUP(H91,判定式!F$3:$J$12,5,TRUE))","v":""},{"$f":"IF(I91=\"\",\"\",VLOOKUP(I91,判定式!I$3:$J$12,2,TRUE))","v":""},{"$f":"IF(J91=\"\",\"\",VLOOKUP(J91,判定式!L$3:$M$12,2,TRUE))","v":""},{"$f":"IF(K91=\"\",\"\",VLOOKUP(K91,判定式!G$3:$J$12,4,TRUE))","v":""},{"$f":"IF(L91=\"\",\"\",VLOOKUP(L91,判定式!H$3:$J$12,3,TRUE))","v":""},"",{"$f":"IF(ISNUMBER(D91),\"判定外\",IF(C91=6,VLOOKUP(U91,判定式!$C$15:I$19,7,TRUE),IF(C91=7,VLOOKUP(U91,判定式!$D$15:I$19,6,TRUE),IF(C91=8,VLOOKUP(U91,判定式!$E$15:I$19,5,TRUE),IF(C91=9,VLOOKUP(U91,判定式!$F$15:I$19,4,TRUE),IF(C91=10,VLOOKUP(U91,判定式!$G$15:I$19,3,TRUE),IF(C91=11,VLOOKUP(U91,判定式!$H$15:I$19,2,TRUE))))))))","v":false}]
[72,null,null,"-",null,null,null,null,null,null,null,null,{"$f":"IF(E92=\"\",\"\",VLOOKUP(E92,判定式!C$3:$J$12,8,TRUE))","v":""},{"$f":"IF(F92=\"\",\"\",VLOOKUP(F92,判定式!D$3:$J$12,7,TRUE))","v":""},{"$f":"IF(G92=\"\",\"\",VLOOKUP(G92,判定式!E$3:$J$12,6,TRUE))","v":""},{"$f":"IF(H92=\"\",\"\",VLOOKUP(H92,判定式!F$3:$J$12,5,TRUE))","v":""},{"$f":"IF(I92=\"\",\"\",VLOOKUP(I92,判定式!I$3:$J$12,2,TRUE))","v":""},{"$f":"IF(J92=\"\",\"\",VLOOKUP(J92,判定式!L$3:$M$12,2,TRUE))","v":""},{"$f":"IF(K92=\"\",\"\",VLOOKUP(K92,判定式!G$3:$J$12,4,TRUE))","v":""},{"$f":"IF(L92=\"\",\"\",VLOOKUP(L92,判定式!H$3:$J$12,3,TRUE))","v":""},"",{"$f":"IF(ISNUMBER(D92),\"判定外\",IF(C92=6,VLOOKUP(U92,判定式!$C$15:I$19,7,TRUE),IF(C92=7,VLOOKUP(U92,判定式!$D$15:I$19,6,TRUE),IF(C92=8,VLOOKUP(U92,判定式!$E$15:I$19,5,TRUE),IF(C92=9,VLOOKUP(U92,判定式!$F$15:I$19,4,TRUE),IF(C92=10,VLOOKUP(U92,判定式!$G$15:I$19,3,TRUE),IF(C92=11,VLOOKUP(U92,判定式!$H$15:I$19,2,TRUE))))))))","v":false}]
[73,null,null,"-",null,null,null,null,null,null,null,null,{"$f":"IF(E93=\"\",\"\",VLOOKUP(E93,判定式!C$3:$J$12,8,TRUE))","v":""},{"$f":"IF(F93=\"\",\"\",VLOOKUP(F93,判定式!D$3:$J$12,7,TRUE))","v":""},{"$f":"IF(G93=\"\",\"\",VLOOKUP(G93,判定式!E$3:$J$12,6,TRUE))","v":""},{"$f":"IF(H93=\"\",\"\",VLOOKUP(H93,判定式!F$3:$J$12,5,TRUE))","v":""},{"$f":"IF(I93=\"\",\"\",VLOOKUP(I93,判定式!I$3:$J$12,2,TRUE))","v":""},{"$f":"IF(J93=\"\",\"\",VLOOKUP(J93,判定式!L$3:$M$12,2,TRUE))","v":""},{"$f":"IF(K93=\"\",\"\",VLOOKUP(K93,判定式!G$3:$J$12,4,TRUE))","v":""},{"$f":"IF(L93=\"\",\"\",VLOOKUP(L93,判定式!H$3:$J$12,3,TRUE))","v":""},"",{"$f":"IF(ISNUMBER(D93),\"判定外\",IF(C93=6,VLOOKUP(U93,判定式!$C$15:I$19,7,TRUE),IF(C93=7,VLOOKUP(U93,判定式!$D$15:I$19,6,TRUE),IF(C93=8,VLOOKUP(U93,判定式!$E$15:I$19,5,TRUE),IF(C93=9,VLOOKUP(U93,判定式!$F$15:I$19,4,TRUE),IF(C93=10,VLOOKUP(U93,判定式!$G$15:I$19,3,TRUE),IF(C93=11,VLOOKUP(U93,判定式!$H$15:I$19,2,TRUE))))))))","v":false}]
[74,null,null,"-",null,null,null,null,null,null,null,null,{"$f":"IF(E94=\"\",\"\",VLOOKUP(E94,判定式!C$3:$J$12,8,TRUE))","v":""},{"$f":"IF(F94=\"\",\"\",VLOOKUP(F94,判定式!D$3:$J$12,7,TRUE))","v":""},{"$f":"IF(G94=\"\",\"\",VLOOKUP(G94,判定式!E$3:$J$12,6,TRUE))","v":""},{"$f":"IF(H94=\"\",\"\",VLOOKUP(H94,判定式!F$3:$J$12,5,TRUE))","v":""},{"$f":"IF(I94=\"\",\"\",VLOOKUP(I94,判定式!I$3:$J$12,2,TRUE))","v":""},{"$f":"IF(J94=\"\",\"\",VLOOKUP(J94,判定式!L$3:$M$12,2,TRUE))","v":""},{"$f":"IF(K94=\"\",\"\",VLOOKUP(K94,判定式!G$3:$J$12,4,TRUE))","v":""},{"$f":"IF(L94=\"\",\"\",VLOOKUP(L94,判定式!H$3:$J$12,3,TRUE))","v":""},"",{"$f":"IF(ISNUMBER(D94),\"判定外\",IF(C94=6,VLOOKUP(U94,判定式!$C$15:I$19,7,TRUE),IF(C94=7,VLOOKUP(U94,判定式!$D$15:I$19,6,TRUE),IF(C94=8,VLOOKUP(U94,判定式!$E$15:I$19,5,TRUE),IF(C94=9,VLOOKUP(U94,判定式!$F$15:I$19,4,TRUE),IF(C94=10,VLOOKUP(U94,判定式!$G$15:I$19,3,TRUE),IF(C94=11,VLOOKUP(U94,判定式!$H$15:I$19,2,TRUE))))))))","v":false}]
[75,null,null,"-",null,null,null,null,null,null,null,null,{"$f":"IF(E95=\"\",\"\",VLOOKUP(E95,判定式!C$3:$J$12,8,TRUE))","v":""},{"$f":"IF(F95=\"\",\"\",VLOOKUP(F95,判定式!D$3:$J$12,7,TRUE))","v":""},{"$f":"IF(G95=\"\",\"\",VLOOKUP(G95,判定式!E$3:$J$12,6,TRUE))","v":""},{"$f":"IF(H95=\"\",\"\",VLOOKUP(H95,判定式!F$3:$J$12,5,TRUE))","v":""},{"$f":"IF(I95=\"\",\"\",VLOOKUP(I95,判定式!I$3:$J$12,2,TRUE))","v":""},{"$f":"IF(J95=\"\",\"\",VLOOKUP(J95,判定式!L$3:$M$12,2,TRUE))","v":""},{"$f":"IF(K95=\"\",\"\",VLOOKUP(K95,判定式!G$3:$J$12,4,TRUE))","v":""},{"$f":"IF(L95=\"\",\"\",VLOOKUP(L95,判定式!H$3:$J$12,3,TRUE))","v":""},"",{"$f":"IF(ISNUMBER(D95),\"判定外\",IF(C95=6,VLOOKUP(U95,判定式!$C$15:I$19,7,TRUE),IF(C95=7,VLOOKUP(U95,判定式!$D$15:I$19,6,TRUE),IF(C95=8,VLOOKUP(U95,判定式!$E$15:I$19,5,TRUE),IF(C95=9,VLOOKUP(U95,判定式!$F$15:I$19,4,TRUE),IF(C95=10,VLOOKUP(U95,判定式!$G$15:I$19,3,TRUE),IF(C95=11,VLOOKUP(U95,判定式!$H$15:I$19,2,TRUE))))))))","v":false}]
[76,null,null,"-",null,null,null,null,null,null,null,null,{"$f":"IF(E96=\"\",\"\",VLOOKUP(E96,判定式!C$3:$J$12,8,TRUE))","v":""},{"$f":"IF(F96=\"\",\"\",VLOOKUP(F96,判定式!D$3:$J$12,7,TRUE))","v":""},{"$f":"IF(G96=\"\",\"\",VLOOKUP(G96,判定式!E$3:$J$12,6,TRUE))","v":""},{"$f":"IF(H96=\"\",\"\",VLOOKUP(H96,判定式!F$3:$J$12,5,TRUE))","v":""},{"$f":"IF(I96=\"\",\"\",VLOOKUP(I96,判定式!I$3:$J$12,2,TRUE))","v":""},{"$f":"IF(J96=\"\",\"\",VLOOKUP(J96,判定式!L$3:$M$12,2,TRUE))","v":""},{"$f":"IF(K96=\"\",\"\",VLOOKUP(K96,判定式!G$3:$J$12,4,TRUE))","v":""},{"$f":"IF(L96=\"\",\"\",VLOOKUP(L96,判定式!H$3:$J$12,3,TRUE))","v":""},"",{"$f":"IF(ISNUMBER(D96),\"判定外\",IF(C96=6,VLOOKUP(U96,判定式!$C$15:I$19,7,TRUE),IF(C96=7,VLOOKUP(U96,判定式!$D$15:I$19,6,TRUE),IF(C96=8,VLOOKUP(U96,判定式!$E$15:I$19,5,TRUE),IF(C96=9,VLOOKUP(U96,判定式!$F$15:I$19,4,TRUE),IF(C96=10,VLOOKUP(U96,判定式!$G$15:I$19,3,TRUE),IF(C96=11,VLOOKUP(U96,判定式!$H$15:I$19,2,TRUE))))))))","v":false}]
[77,null,null,"-",null,null,null,null,null,null,null,null,{"$f":"IF(E97=\"\",\"\",VLOOKUP(E97,判定式!C$3:$J$12,8,TRUE))","v":""},{"$f":"IF(F97=\"\",\"\",VLOOKUP(F97,判定式!D$3:$J$12,7,TRUE))","v":""},{"$f":"IF(G97=\"\",\"\",VLOOKUP(G97,判定式!E$3:$J$12,6,TRUE))","v":""},{"$f":"IF(H97=\"\",\"\",VLOOKUP(H97,判定式!F$3:$J$12,5,TRUE))","v":""},{"$f":"IF(I97=\"\",\"\",VLOOKUP(I97,判定式!I$3:$J$12,2,TRUE))","v":""},{"$f":"IF(J97=\"\",\"\",VLOOKUP(J97,判定式!L$3:$M$12,2,TRUE))","v":""},{"$f":"IF(K97=\"\",\"\",VLOOKUP(K97,判定式!G$3:$J$12,4,TRUE))","v":""},{"$f":"IF(L97=\"\",\"\",VLOOKUP(L97,判定式!H$3:$J$12,3,TRUE))","v":""},"",{"$f":"IF(ISNUMBER(D97),\"判定外\",IF(C97=6,VLOOKUP(U97,判定式!$C$15:I$19,7,TRUE),IF(C97=7,VLOOKUP(U97,判定式!$D$15:I$19,6,TRUE),IF(C97=8,VLOOKUP(U97,判定式!$E$15:I$19,5,TRUE),IF(C97=9,VLOOKUP(U97,判定式!$F$15:I$19,4,TRUE),IF(C97=10,VLOOKUP(U97,判定式!$G$15:I$19,3,TRUE),IF(C97=11,VLOOKUP(U97,判定式!$H$15:I$19,2,TRUE))))))))","v":false}]
[78,null,null,"-",null,null,null,null,null,null,null,null,{"$f":"IF(E98=\"\",\"\",VLOOKUP(E98,判定式!C$3:$J$12,8,TRUE))","v":""},{"$f":"IF(F98=\"\",\"\",VLOOKUP(F98,判定式!D$3:$J$12,7,TRUE))","v":""},{"$f":"IF(G98=\"\",\"\",VLOOKUP(G98,判定式!E$3:$J$12,6,TRUE))","v":""},{"$f":"IF(H98=\"\",\"\",VLOOKUP(H98,判定式!F$3:$J$12,5,TRUE))","v":""},{"$f":"IF(I98=\"\",\"\",VLOOKUP(I98,判定式!I$3:$J$12,2,TRUE))","v":""},{"$f":"IF(J98=\"\",\"\",VLOOKUP(J98,判定式!L$3:$M$12,2,TRUE))","v":""},{"$f":"IF(K98=\"\",\"\",VLOOKUP(K98,判定式!G$3:$J$12,4,TRUE))","v":""},{"$f":"IF(L98=\"\",\"\",VLOOKUP(L98,判定式!H$3:$J$12,3,TRUE))","v":""},"",{"$f":"IF(ISNUMBER(D98),\"判定外\",IF(C98=6,VLOOKUP(U98,判定式!$C$15:I$19,7,TRUE),IF(C98=7,VLOOKUP(U98,判定式!$D$15:I$19,6,TRUE),IF(C98=8,VLOOKUP(U98,判定式!$E$15:I$19,5,TRUE),IF(C98=9,VLOOKUP(U98,判定式!$F$15:I$19,4,TRUE),IF(C98=10,VLOOKUP(U98,判定式!$G$15:I$19,3,TRUE),IF(C98=11,VLOOKUP(U98,判定式!$H$15:I$19,2,TRUE))))))))","v":false}]
[79,null,null,"-",null,null,null,null,null,null,null,null,{"$f":"IF(E99=\"\",\"\",VLOOKUP(E99,判定式!C$3:$J$12,8,TRUE))","v":""},{"$f":"IF(F99=\"\",\"\",VLOOKUP(F99,判定式!D$3:$J$12,7,TRUE))","v":""},{"$f":"IF(G99=\"\",\"\",VLOOKUP(G99,判定式!E$3:$J$12,6,TRUE))","v":""},{"$f":"IF(H99=\"\",\"\",VLOOKUP(H99,判定式!F$3:$J$12,5,TRUE))","v":""},{"$f":"IF(I99=\"\",\"\",VLOOKUP(I99,判定式!I$3:$J$12,2,TRUE))","v":""},{"$f":"IF(J99=\"\",\"\",VLOOKUP(J99,判定式!L$3:$M$12,2,TRUE))","v":""},{"$f":"IF(K99=\"\",\"\",VLOOKUP(K99,判定式!G$3:$J$12,4,TRUE))","v":""},{"$f":"IF(L99=\"\",\"\",VLOOKUP(L99,判定式!H$3:$J$12,3,TRUE))","v":""},"",{"$f":"IF(ISNUMBER(D99),\"判定外\",IF(C99=6,VLOOKUP(U99,判定式!$C$15:I$19,7,TRUE),IF(C99=7,VLOOKUP(U99,判定式!$D$15:I$19,6,TRUE),IF(C99=8,VLOOKUP(U99,判定式!$E$15:I$19,5,TRUE),IF(C99=9,VLOOKUP(U99,判定式!$F$15:I$19,4,TRUE),IF(C99=10,VLOOKUP(U99,判定式!$G$15:I$19,3,TRUE),IF(C99=11,VLOOKUP(U99,判定式!$H$15:I$19,2,TRUE))))))))","v":false}]
[80,null,null,"-",null,null,null,null,null,null,null,null,{"$f":"IF(E100=\"\",\"\",VLOOKUP(E100,判定式!C$3:$J$12,8,TRUE))","v":""},{"$f":"IF(F100=\"\",\"\",VLOOKUP(F100,判定式!D$3:$J$12,7,TRUE))","v":""},{"$f":"IF(G100=\"\",\"\",VLOOKUP(G100,判定式!E$3:$J$12,6,TRUE))","v":""},{"$f":"IF(H100=\"\",\"\",VLOOKUP(H100,判定式!F$3:$J$12,5,TRUE))","v":""},{"$f":"IF(I100=\"\",\"\",VLOOKUP(I100,判定式!I$3:$J$12,2,TRUE))","v":""},{"$f":"IF(J100=\"\",\"\",VLOOKUP(J100,判定式!L$3:$M$12,2,TRUE))","v":""},{"$f":"IF(K100=\"\",\"\",VLOOKUP(K100,判定式!G$3:$J$12,4,TRUE))","v":""},{"$f":"IF(L100=\"\",\"\",VLOOKUP(L100,判定式!H$3:$J$12,3,TRUE))","v":""},"",{"$f":"IF(ISNUMBER(D100),\"判定外\",IF(C100=6,VLOOKUP(U100,判定式!$C$15:I$19,7,TRUE),IF(C100=7,VLOOKUP(U100,判定式!$D$15:I$19,6,TRUE),IF(C100=8,VLOOKUP(U100,判定式!$E$15:I$19,5,TRUE),IF(C100=9,VLOOKUP(U100,判定式!$F$15:I$19,4,TRUE),IF(C100=10,VLOOKUP(U100,判定式!$G$15:I$19,3,TRUE),IF(C100=11,VLOOKUP(U100,判定式!$H$15:I$19,2,TRUE))))))))","v":false}]
[81,null,null,"-",null,null,null,null,null,null,null,null,{"$f":"IF(E101=\"\",\"\",VLOOKUP(E101,判定式!C$3:$J$12,8,TRUE))","v":""},{"$f":"IF(F101=\"\",\"\",VLOOKUP(F101,判定式!D$3:$J$12,7,TRUE))","v":""},{"$f":"IF(G101=\"\",\"\",VLOOKUP(G101,判定式!E$3:$J$12,6,TRUE))","v":""},{"$f":"IF(H101=\"\",\"\",VLOOKUP(H101,判定式!F$3:$J$12,5,TRUE))","v":""},{"$f":"IF(I101=\"\",\"\",VLOOKUP(I101,判定式!I$3:$J$12,2,TRUE))","v":""},{"$f":"IF(J101=\"\",\"\",VLOOKUP(J101,判定式!L$3:$M$12,2,TRUE))","v":""},{"$f":"IF(K101=\"\",\"\",VLOOKUP(K101,判定式!G$3:$J$12,4,TRUE))","v":""},{"$f":"IF(L101=\"\",\"\",VLOOKUP(L101,判定式!H$3:$J$12,3,TRUE))","v":""},"",{"$f":"IF(ISNUMBER(D101),\"判定外\",IF(C101=6,VLOOKUP(U101,判定式!$C$15:I$19,7,TRUE),IF(C101=7,VLOOKUP(U101,判定式!$D$15:I$19,6,TRUE),IF(C101=8,VLOOKUP(U101,判定式!$E$15:I$19,5,TRUE),IF(C101=9,VLOOKUP(U101,判定式!$F$15:I$19,4,TRUE),IF(C101=10,VLOOKUP(U101,判定式!$G$15:I$19,3,TRUE),IF(C101=11,VLOOKUP(U101,判定式!$H$15:I$19,2,TRUE))))))))","v":false}]
[82,null,null,"-",null,null,null,null,null,null,null,null,{"$f":"IF(E102=\"\",\"\",VLOOKUP(E102,判定式!C$3:$J$12,8,TRUE))","v":""},{"$f":"IF(F102=\"\",\"\",VLOOKUP(F102,判定式!D$3:$J$12,7,TRUE))","v":""},{"$f":"IF(G102=\"\",\"\",VLOOKUP(G102,判定式!E$3:$J$12,6,TRUE))","v":""},{"$f":"IF(H102=\"\",\"\",VLOOKUP(H102,判定式!F$3:$J$12,5,TRUE))","v":""},{"$f":"IF(I102=\"\",\"\",VLOOKUP(I102,判定式!I$3:$J$12,2,TRUE))","v":""},{"$f":"IF(J102=\"\",\"\",VLOOKUP(J102,判定式!L$3:$M$12,2,TRUE))","v":""},{"$f":"IF(K102=\"\",\"\",VLOOKUP(K102,判定式!G$3:$J$12,4,TRUE))","v":""},{"$f":"IF(L102=\"\",\"\",VLOOKUP(L102,判定式!H$3:$J$12,3,TRUE))","v":""},"",{"$f":"IF(ISNUMBER(D102),\"判定外\",IF(C102=6,VLOOKUP(U102,判定式!$C$15:I$19,7,TRUE),IF(C102=7,VLOOKUP(U102,判定式!$D$15:I$19,6,TRUE),IF(C102=8,VLOOKUP(U102,判定式!$E$15:I$19,5,TRUE),IF(C102=9,VLOOKUP(U102,判定式!$F$15:I$19,4,TRUE),IF(C102=10,VLOOKUP(U102,判定式!$G$15:I$19,3,TRUE),IF(C102=11,VLOOKUP(U102,判定式!$H$15:I$19,2,TRUE))))))))","v":false}]
[83,null,null,"-",null,null,null,null,null,null,null,null,{"$f":"IF(E103=\"\",\"\",VLOOKUP(E103,判定式!C$3:$J$12,8,TRUE))","v":""},{"$f":"IF(F103=\"\",\"\",VLOOKUP(F103,判定式!D$3:$J$12,7,TRUE))","v":""},{"$f":"IF(G103=\"\",\"\",VLOOKUP(G103,判定式!E$3:$J$12,6,TRUE))","v":""},{"$f":"IF(H103=\"\",\"\",VLOOKUP(H103,判定式!F$3:$J$12,5,TRUE))","v":""},{"$f":"IF(I103=\"\",\"\",VLOOKUP(I103,判定式!I$3:$J$12,2,TRUE))","v":""},{"$f":"IF(J103=\"\",\"\",VLOOKUP(J103,判定式!L$3:$M$12,2,TRUE))","v":""},{"$f":"IF(K103=\"\",\"\",VLOOKUP(K103,判定式!G$3:$J$12,4,TRUE))","v":""},{"$f":"IF(L103=\"\",\"\",VLOOKUP(L103,判定式!H$3:$J$12,3,TRUE))","v":""},"",{"$f":"IF(ISNUMBER(D103),\"判定外\",IF(C103=6,VLOOKUP(U103,判定式!$C$15:I$19,7,TRUE),IF(C103=7,VLOOKUP(U103,判定式!$D$15:I$19,6,TRUE),IF(C103=8,VLOOKUP(U103,判定式!$E$15:I$19,5,TRUE),IF(C103=9,VLOOKUP(U103,判定式!$F$15:I$19,4,TRUE),IF(C103=10,VLOOKUP(U103,判定式!$G$15:I$19,3,TRUE),IF(C103=11,VLOOKUP(U103,判定式!$H$15:I$19,2,TRUE))))))))","v":false}]
[84,null,null,"-",null,null,null,null,null,null,null,null,{"$f":"IF(E104=\"\",\"\",VLOOKUP(E104,判定式!C$3:$J$12,8,TRUE))","v":""},{"$f":"IF(F104=\"\",\"\",VLOOKUP(F104,判定式!D$3:$J$12,7,TRUE))","v":""},{"$f":"IF(G104=\"\",\"\",VLOOKUP(G104,判定式!E$3:$J$12,6,TRUE))","v":""},{"$f":"IF(H104=\"\",\"\",VLOOKUP(H104,判定式!F$3:$J$12,5,TRUE))","v":""},{"$f":"IF(I104=\"\",\"\",VLOOKUP(I104,判定式!I$3:$J$12,2,TRUE))","v":""},{"$f":"IF(J104=\"\",\"\",VLOOKUP(J104,判定式!L$3:$M$12,2,TRUE))","v":""},{"$f":"IF(K104=\"\",\"\",VLOOKUP(K104,判定式!G$3:$J$12,4,TRUE))","v":""},{"$f":"IF(L104=\"\",\"\",VLOOKUP(L104,判定式!H$3:$J$12,3,TRUE))","v":""},"",{"$f":"IF(ISNUMBER(D104),\"判定外\",IF(C104=6,VLOOKUP(U104,判定式!$C$15:I$19,7,TRUE),IF(C104=7,VLOOKUP(U104,判定式!$D$15:I$19,6,TRUE),IF(C104=8,VLOOKUP(U104,判定式!$E$15:I$19,5,TRUE),IF(C104=9,VLOOKUP(U104,判定式!$F$15:I$19,4,TRUE),IF(C104=10,VLOOKUP(U104,判定式!$G$15:I$19,3,TRUE),IF(C104=11,VLOOKUP(U104,判定式!$H$15:I$19,2,TRUE))))))))","v":false}]
[85,null,null,"-",null,null,null,null,null,null,null,null,{"$f":"IF(E105=\"\",\"\",VLOOKUP(E105,判定式!C$3:$J$12,8,TRUE))","v":""},{"$f":"IF(F105=\"\",\"\",VLOOKUP(F105,判定式!D$3:$J$12,7,TRUE))","v":""},{"$f":"IF(G105=\"\",\"\",VLOOKUP(G105,判定式!E$3:$J$12,6,TRUE))","v":""},{"$f":"IF(H105=\"\",\"\",VLOOKUP(H105,判定式!F$3:$J$12,5,TRUE))","v":""},{"$f":"IF(I105=\"\",\"\",VLOOKUP(I105,判定式!I$3:$J$12,2,TRUE))","v":""},{"$f":"IF(J105=\"\",\"\",VLOOKUP(J105,判定式!L$3:$M$12,2,TRUE))","v":""},{"$f":"IF(K105=\"\",\"\",VLOOKUP(K105,判定式!G$3:$J$12,4,TRUE))","v":""},{"$f":"IF(L105=\"\",\"\",VLOOKUP(L105,判定式!H$3:$J$12,3,TRUE))","v":""},"",{"$f":"IF(ISNUMBER(D105),\"判定外\",IF(C105=6,VLOOKUP(U105,判定式!$C$15:I$19,7,TRUE),IF(C105=7,VLOOKUP(U105,判定式!$D$15:I$19,6,TRUE),IF(C105=8,VLOOKUP(U105,判定式!$E$15:I$19,5,TRUE),IF(C105=9,VLOOKUP(U105,判定式!$F$15:I$19,4,TRUE),IF(C105=10,VLOOKUP(U105,判定式!$G$15:I$19,3,TRUE),IF(C105=11,VLOOKUP(U105,判定式!$H$15:I$19,2,TRUE))))))))","v":false}]
[86,null,null,"-",null,null,null,null,null,null,null,null,{"$f":"IF(E106=\"\",\"\",VLOOKUP(E106,判定式!C$3:$J$12,8,TRUE))","v":""},{"$f":"IF(F106=\"\",\"\",VLOOKUP(F106,判定式!D$3:$J$12,7,TRUE))","v":""},{"$f":"IF(G106=\"\",\"\",VLOOKUP(G106,判定式!E$3:$J$12,6,TRUE))","v":""},{"$f":"IF(H106=\"\",\"\",VLOOKUP(H106,判定式!F$3:$J$12,5,TRUE))","v":""},{"$f":"IF(I106=\"\",\"\",VLOOKUP(I106,判定式!I$3:$J$12,2,TRUE))","v":""},{"$f":"IF(J106=\"\",\"\",VLOOKUP(J106,判定式!L$3:$M$12,2,TRUE))","v":""},{"$f":"IF(K106=\"\",\"\",VLOOKUP(K106,判定式!G$3:$J$12,4,TRUE))","v":""},{"$f":"IF(L106=\"\",\"\",VLOOKUP(L106,判定式!H$3:$J$12,3,TRUE))","v":""},"",{"$f":"IF(ISNUMBER(D106),\"判定外\",IF(C106=6,VLOOKUP(U106,判定式!$C$15:I$19,7,TRUE),IF(C106=7,VLOOKUP(U106,判定式!$D$15:I$19,6,TRUE),IF(C106=8,VLOOKUP(U106,判定式!$E$15:I$19,5,TRUE),IF(C106=9,VLOOKUP(U106,判定式!$F$15:I$19,4,TRUE),IF(C106=10,VLOOKUP(U106,判定式!$G$15:I$19,3,TRUE),IF(C106=11,VLOOKUP(U106,判定式!$H$15:I$19,2,TRUE))))))))","v":false}]
[87,null,null,"-",null,null,null,null,null,null,null,null,{"$f":"IF(E107=\"\",\"\",VLOOKUP(E107,判定式!C$3:$J$12,8,TRUE))","v":""},{"$f":"IF(F107=\"\",\"\",VLOOKUP(F107,判定式!D$3:$J$12,7,TRUE))","v":""},{"$f":"IF(G107=\"\",\"\",VLOOKUP(G107,判定式!E$3:$J$12,6,TRUE))","v":""},{"$f":"IF(H107=\"\",\"\",VLOOKUP(H107,判定式!F$3:$J$12,5,TRUE))","v":""},{"$f":"IF(I107=\"\",\"\",VLOOKUP(I107,判定式!I$3:$J$12,2,TRUE))","v":""},{"$f":"IF(J107=\"\",\"\",VLOOKUP(J107,判定式!L$3:$M$12,2,TRUE))","v":""},{"$f":"IF(K107=\"\",\"\",VLOOKUP(K107,判定式!G$3:$J$12,4,TRUE))","v":""},{"$f":"IF(L107=\"\",\"\",VLOOKUP(L107,判定式!H$3:$J$12,3,TRUE))","v":""},"",{"$f":"IF(ISNUMBER(D107),\"判定外\",IF(C107=6,VLOOKUP(U107,判定式!$C$15:I$19,7,TRUE),IF(C107=7,VLOOKUP(U107,判定式!$D$15:I$19,6,TRUE),IF(C107=8,VLOOKUP(U107,判定式!$E$15:I$19,5,TRUE),IF(C107=9,VLOOKUP(U107,判定式!$F$15:I$19,4,TRUE),IF(C107=10,VLOOKUP(U107,判定式!$G$15:I$19,3,TRUE),IF(C107=11,VLOOKUP(U107,判定式!$H$15:I$19,2,TRUE))))))))","v":false}]
[88,null,null,"-",null,null,null,null,null,null,null,null,{"$f":"IF(E108=\"\",\"\",VLOOKUP(E108,判定式!C$3:$J$12,8,TRUE))","v":""},{"$f":"IF(F108=\"\",\"\",VLOOKUP(F108,判定式!D$3:$J$12,7,TRUE))","v":""},{"$f":"IF(G108=\"\",\"\",VLOOKUP(G108,判定式!E$3:$J$12,6,TRUE))","v":""},{"$f":"IF(H108=\"\",\"\",VLOOKUP(H108,判定式!F$3:$J$12,5,TRUE))","v":""},{"$f":"IF(I108=\"\",\"\",VLOOKUP(I108,判定式!I$3:$J$12,2,TRUE))","v":""},{"$f":"IF(J108=\"\",\"\",VLOOKUP(J108,判定式!L$3:$M$12,2,TRUE))","v":""},{"$f":"IF(K108=\"\",\"\",VLOOKUP(K108,判定式!G$3:$J$12,4,TRUE))","v":""},{"$f":"IF(L108=\"\",\"\",VLOOKUP(L108,判定式!H$3:$J$12,3,TRUE))","v":""},"",{"$f":"IF(ISNUMBER(D108),\"判定外\",IF(C108=6,VLOOKUP(U108,判定式!$C$15:I$19,7,TRUE),IF(C108=7,VLOOKUP(U108,判定式!$D$15:I$19,6,TRUE),IF(C108=8,VLOOKUP(U108,判定式!$E$15:I$19,5,TRUE),IF(C108=9,VLOOKUP(U108,判定式!$F$15:I$19,4,TRUE),IF(C108=10,VLOOKUP(U108,判定式!$G$15:I$19,3,TRUE),IF(C108=11,VLOOKUP(U108,判定式!$H$15:I$19,2,TRUE))))))))","v":false}]
[89,null,null,"-",null,null,null,null,null,null,null,null,{"$f":"IF(E109=\"\",\"\",VLOOKUP(E109,判定式!C$3:$J$12,8,TRUE))","v":""},{"$f":"IF(F109=\"\",\"\",VLOOKUP(F109,判定式!D$3:$J$12,7,TRUE))","v":""},{"$f":"IF(G109=\"\",\"\",VLOOKUP(G109,判定式!E$3:$J$12,6,TRUE))","v":""},{"$f":"IF(H109=\"\",\"\",VLOOKUP(H109,判定式!F$3:$J$12,5,TRUE))","v":""},{"$f":"IF(I109=\"\",\"\",VLOOKUP(I109,判定式!I$3:$J$12,2,TRUE))","v":""},{"$f":"IF(J109=\"\",\"\",VLOOKUP(J109,判定式!L$3:$M$12,2,TRUE))","v":""},{"$f":"IF(K109=\"\",\"\",VLOOKUP(K109,判定式!G$3:$J$12,4,TRUE))","v":""},{"$f":"IF(L109=\"\",\"\",VLOOKUP(L109,判定式!H$3:$J$12,3,TRUE))","v":""},"",{"$f":"IF(ISNUMBER(D109),\"判定外\",IF(C109=6,VLOOKUP(U109,判定式!$C$15:I$19,7,TRUE),IF(C109=7,VLOOKUP(U109,判定式!$D$15:I$19,6,TRUE),IF(C109=8,VLOOKUP(U109,判定式!$E$15:I$19,5,TRUE),IF(C109=9,VLOOKUP(U109,判定式!$F$15:I$19,4,TRUE),IF(C109=10,VLOOKUP(U109,判定式!$G$15:I$19,3,TRUE),IF(C109=11,VLOOKUP(U109,判定式!$H$15:I$19,2,TRUE))))))))","v":false}]
[90,null,null,"-",null,null,null,null,null,null,null,null,{"$f":"IF(E110=\"\",\"\",VLOOKUP(E110,判定式!C$3:$J$12,8,TRUE))","v":""},{"$f":"IF(F110=\"\",\"\",VLOOKUP(F110,判定式!D$3:$J$12,7,TRUE))","v":""},{"$f":"IF(G110=\"\",\"\",VLOOKUP(G110,判定式!E$3:$J$12,6,TRUE))","v":""},{"$f":"IF(H110=\"\",\"\",VLOOKUP(H110,判定式!F$3:$J$12,5,TRUE))","v":""},{"$f":"IF(I110=\"\",\"\",VLOOKUP(I110,判定式!I$3:$J$12,2,TRUE))","v":""},{"$f":"IF(J110=\"\",\"\",VLOOKUP(J110,判定式!L$3:$M$12,2,TRUE))","v":""},{"$f":"IF(K110=\"\",\"\",VLOOKUP(K110,判定式!G$3:$J$12,4,TRUE))","v":""},{"$f":"IF(L110=\"\",\"\",VLOOKUP(L110,判定式!H$3:$J$12,3,TRUE))","v":""},"",{"$f":"IF(ISNUMBER(D110),\"判定外\",IF(C110=6,VLOOKUP(U110,判定式!$C$15:I$19,7,TRUE),IF(C110=7,VLOOKUP(U110,判定式!$D$15:I$19,6,TRUE),IF(C110=8,VLOOKUP(U110,判定式!$E$15:I$19,5,TRUE),IF(C110=9,VLOOKUP(U110,判定式!$F$15:I$19,4,TRUE),IF(C110=10,VLOOKUP(U110,判定式!$G$15:I$19,3,TRUE),IF(C110=11,VLOOKUP(U110,判定式!$H$15:I$19,2,TRUE))))))))","v":false}]
[91,null,null,"-",null,null,null,null,null,null,null,null,{"$f":"IF(E111=\"\",\"\",VLOOKUP(E111,判定式!C$3:$J$12,8,TRUE))","v":""},{"$f":"IF(F111=\"\",\"\",VLOOKUP(F111,判定式!D$3:$J$12,7,TRUE))","v":""},{"$f":"IF(G111=\"\",\"\",VLOOKUP(G111,判定式!E$3:$J$12,6,TRUE))","v":""},{"$f":"IF(H111=\"\",\"\",VLOOKUP(H111,判定式!F$3:$J$12,5,TRUE))","v":""},{"$f":"IF(I111=\"\",\"\",VLOOKUP(I111,判定式!I$3:$J$12,2,TRUE))","v":""},{"$f":"IF(J111=\"\",\"\",VLOOKUP(J111,判定式!L$3:$M$12,2,TRUE))","v":""},{"$f":"IF(K111=\"\",\"\",VLOOKUP(K111,判定式!G$3:$J$12,4,TRUE))","v":""},{"$f":"IF(L111=\"\",\"\",VLOOKUP(L111,判定式!H$3:$J$12,3,TRUE))","v":""},"",{"$f":"IF(ISNUMBER(D111),\"判定外\",IF(C111=6,VLOOKUP(U111,判定式!$C$15:I$19,7,TRUE),IF(C111=7,VLOOKUP(U111,判定式!$D$15:I$19,6,TRUE),IF(C111=8,VLOOKUP(U111,判定式!$E$15:I$19,5,TRUE),IF(C111=9,VLOOKUP(U111,判定式!$F$15:I$19,4,TRUE),IF(C111=10,VLOOKUP(U111,判定式!$G$15:I$19,3,TRUE),IF(C111=11,VLOOKUP(U111,判定式!$H$15:I$19,2,TRUE))))))))","v":false}]
[92,null,null,"-",null,null,null,null,null,null,null,null,{"$f":"IF(E112=\"\",\"\",VLOOKUP(E112,判定式!C$3:$J$12,8,TRUE))","v":""},{"$f":"IF(F112=\"\",\"\",VLOOKUP(F112,判定式!D$3:$J$12,7,TRUE))","v":""},{"$f":"IF(G112=\"\",\"\",VLOOKUP(G112,判定式!E$3:$J$12,6,TRUE))","v":""},{"$f":"IF(H112=\"\",\"\",VLOOKUP(H112,判定式!F$3:$J$12,5,TRUE))","v":""},{"$f":"IF(I112=\"\",\"\",VLOOKUP(I112,判定式!I$3:$J$12,2,TRUE))","v":""},{"$f":"IF(J112=\"\",\"\",VLOOKUP(J112,判定式!L$3:$M$12,2,TRUE))","v":""},{"$f":"IF(K112=\"\",\"\",VLOOKUP(K112,判定式!G$3:$J$12,4,TRUE))","v":""},{"$f":"IF(L112=\"\",\"\",VLOOKUP(L112,判定式!H$3:$J$12,3,TRUE))","v":""},"",{"$f":"IF(ISNUMBER(D112),\"判定外\",IF(C112=6,VLOOKUP(U112,判定式!$C$15:I$19,7,TRUE),IF(C112=7,VLOOKUP(U112,判定式!$D$15:I$19,6,TRUE),IF(C112=8,VLOOKUP(U112,判定式!$E$15:I$19,5,TRUE),IF(C112=9,VLOOKUP(U112,判定式!$F$15:I$19,4,TRUE),IF(C112=10,VLOOKUP(U112,判定式!$G$15:I$19,3,TRUE),IF(C112=11,VLOOKUP(U112,判定式!$H$15:I$19,2,TRUE))))))))","v":false}]
[93,null,null,"-",null,null,null,null,null,null,null,null,{"$f":"IF(E113=\"\",\"\",VLOOKUP(E113,判定式!C$3:$J$12,8,TRUE))","v":""},{"$f":"IF(F113=\"\",\"\",VLOOKUP(F113,判定式!D$3:$J$12,7,TRUE))","v":""},{"$f":"IF(G113=\"\",\"\",VLOOKUP(G113,判定式!E$3:$J$12,6,TRUE))","v":""},{"$f":"IF(H113=\"\",\"\",VLOOKUP(H113,判定式!F$3:$J$12,5,TRUE))","v":""},{"$f":"IF(I113=\"\",\"\",VLOOKUP(I113,判定式!I$3:$J$12,2,TRUE))","v":""},{"$f":"IF(J113=\"\",\"\",VLOOKUP(J113,判定式!L$3:$M$12,2,TRUE))","v":""},{"$f":"IF(K113=\"\",\"\",VLOOKUP(K113,判定式!G$3:$J$12,4,TRUE))","v":""},{"$f":"IF(L113=\"\",\"\",VLOOKUP(L113,判定式!H$3:$J$12,3,TRUE))","v":""},"",{"$f":"IF(ISNUMBER(D113),\"判定外\",IF(C113=6,VLOOKUP(U113,判定式!$C$15:I$19,7,TRUE),IF(C113=7,VLOOKUP(U113,判定式!$D$15:I$19,6,TRUE),IF(C113=8,VLOOKUP(U113,判定式!$E$15:I$19,5,TRUE),IF(C113=9,VLOOKUP(U113,判定式!$F$15:I$19,4,TRUE),IF(C113=10,VLOOKUP(U113,判定式!$G$15:I$19,3,TRUE),IF(C113=11,VLOOKUP(U113,判定式!$H$15:I$19,2,TRUE))))))))","v":false}]
[94,null,null,"-",null,null,null,null,null,null,null,null,{"$f":"IF(E114=\"\",\"\",VLOOKUP(E114,判定式!C$3:$J$12,8,TRUE))","v":""},{"$f":"IF(F114=\"\",\"\",VLOOKUP(F114,判定式!D$3:$J$12,7,TRUE))","v":""},{"$f":"IF(G114=\"\",\"\",VLOOKUP(G114,判定式!E$3:$J$12,6,TRUE))","v":""},{"$f":"IF(H114=\"\",\"\",VLOOKUP(H114,判定式!F$3:$J$12,5,TRUE))","v":""},{"$f":"IF(I114=\"\",\"\",VLOOKUP(I114,判定式!I$3:$J$12,2,TRUE))","v":""},{"$f":"IF(J114=\"\",\"\",VLOOKUP(J114,判定式!L$3:$M$12,2,TRUE))","v":""},{"$f":"IF(K114=\"\",\"\",VLOOKUP(K114,判定式!G$3:$J$12,4,TRUE))","v":""},{"$f":"IF(L114=\"\",\"\",VLOOKUP(L114,判定式!H$3:$J$12,3,TRUE))","v":""},"",{"$f":"IF(ISNUMBER(D114),\"判定外\",IF(C114=6,VLOOKUP(U114,判定式!$C$15:I$19,7,TRUE),IF(C114=7,VLOOKUP(U114,判定式!$D$15:I$19,6,TRUE),IF(C114=8,VLOOKUP(U114,判定式!$E$15:I$19,5,TRUE),IF(C114=9,VLOOKUP(U114,判定式!$F$15:I$19,4,TRUE),IF(C114=10,VLOOKUP(U114,判定式!$G$15:I$19,3,TRUE),IF(C114=11,VLOOKUP(U114,判定式!$H$15:I$19,2,TRUE))))))))","v":false}]
[95,null,null,"-",null,null,null,null,null,null,null,null,{"$f":"IF(E115=\"\",\"\",VLOOKUP(E115,判定式!C$3:$J$12,8,TRUE))","v":""},{"$f":"IF(F115=\"\",\"\",VLOOKUP(F115,判定式!D$3:$J$12,7,TRUE))","v":""},{"$f":"IF(G115=\"\",\"\",VLOOKUP(G115,判定式!E$3:$J$12,6,TRUE))","v":""},{"$f":"IF(H115=\"\",\"\",VLOOKUP(H115,判定式!F$3:$J$12,5,TRUE))","v":""},{"$f":"IF(I115=\"\",\"\",VLOOKUP(I115,判定式!I$3:$J$12,2,TRUE))","v":""},{"$f":"IF(J115=\"\",\"\",VLOOKUP(J115,判定式!L$3:$M$12,2,TRUE))","v":""},{"$f":"IF(K115=\"\",\"\",VLOOKUP(K115,判定式!G$3:$J$12,4,TRUE))","v":""},{"$f":"IF(L115=\"\",\"\",VLOOKUP(L115,判定式!H$3:$J$12,3,TRUE))","v":""},"",{"$f":"IF(ISNUMBER(D115),\"判定外\",IF(C115=6,VLOOKUP(U115,判定式!$C$15:I$19,7,TRUE),IF(C115=7,VLOOKUP(U115,判定式!$D$15:I$19,6,TRUE),IF(C115=8,VLOOKUP(U115,判定式!$E$15:I$19,5,TRUE),IF(C115=9,VLOOKUP(U115,判定式!$F$15:I$19,4,TRUE),IF(C115=10,VLOOKUP(U115,判定式!$G$15:I$19,3,TRUE),IF(C115=11,VLOOKUP(U115,判定式!$H$15:I$19,2,TRUE))))))))","v":false}]
[96,null,null,"-",null,null,null,null,null,null,null,null,{"$f":"IF(E116=\"\",\"\",VLOOKUP(E116,判定式!C$3:$J$12,8,TRUE))","v":""},{"$f":"IF(F116=\"\",\"\",VLOOKUP(F116,判定式!D$3:$J$12,7,TRUE))","v":""},{"$f":"IF(G116=\"\",\"\",VLOOKUP(G116,判定式!E$3:$J$12,6,TRUE))","v":""},{"$f":"IF(H116=\"\",\"\",VLOOKUP(H116,判定式!F$3:$J$12,5,TRUE))","v":""},{"$f":"IF(I116=\"\",\"\",VLOOKUP(I116,判定式!I$3:$J$12,2,TRUE))","v":""},{"$f":"IF(J116=\"\",\"\",VLOOKUP(J116,判定式!L$3:$M$12,2,TRUE))","v":""},{"$f":"IF(K116=\"\",\"\",VLOOKUP(K116,判定式!G$3:$J$12,4,TRUE))","v":""},{"$f":"IF(L116=\"\",\"\",VLOOKUP(L116,判定式!H$3:$J$12,3,TRUE))","v":""},"",{"$f":"IF(ISNUMBER(D116),\"判定外\",IF(C116=6,VLOOKUP(U116,判定式!$C$15:I$19,7,TRUE),IF(C116=7,VLOOKUP(U116,判定式!$D$15:I$19,6,TRUE),IF(C116=8,VLOOKUP(U116,判定式!$E$15:I$19,5,TRUE),IF(C116=9,VLOOKUP(U116,判定式!$F$15:I$19,4,TRUE),IF(C116=10,VLOOKUP(U116,判定式!$G$15:I$19,3,TRUE),IF(C116=11,VLOOKUP(U116,判定式!$H$15:I$19,2,TRUE))))))))","v":false}]
[97,null,null,{"$f":"IF(COUNTBLANK(E117:L117)=0,\"\",IF(COUNTBLANK(E117:L117)=8,\"-\",COUNTBLANK(E117:L117)))","v":"-"},null,null,null,null,null,null,null,null,{"$f":"IF(E117=\"\",\"\",VLOOKUP(E117,判定式!C$3:$J$12,8,TRUE))","v":""},{"$f":"IF(F117=\"\",\"\",VLOOKUP(F117,判定式!D$3:$J$12,7,TRUE))","v":""},{"$f":"IF(G117=\"\",\"\",VLOOKUP(G117,判定式!E$3:$J$12,6,TRUE))","v":""},{"$f":"IF(H117=\"\",\"\",VLOOKUP(H117,判定式!F$3:$J$12,5,TRUE))","v":""},{"$f":"IF(I117=\"\",\"\",VLOOKUP(I117,判定式!I$3:$J$12,2,TRUE))","v":""},{"$f":"IF(J117=\"\",\"\",VLOOKUP(J117,判定式!L$3:$M$12,2,TRUE))","v":""},{"$f":"IF(K117=\"\",\"\",VLOOKUP(K117,判定式!G$3:$J$12,4,TRUE))","v":""},{"$f":"IF(L117=\"\",\"\",VLOOKUP(L117,判定式!H$3:$J$12,3,TRUE))","v":""},{"$f":"IF(COUNTBLANK(M117:T117)=0,SUM(M117:T117),\"\")","v":""},{"$f":"IF(ISNUMBER(D117),\"判定外\",IF(C117=6,VLOOKUP(U117,判定式!$C$15:I$19,7,TRUE),IF(C117=7,VLOOKUP(U117,判定式!$D$15:I$19,6,TRUE),IF(C117=8,VLOOKUP(U117,判定式!$E$15:I$19,5,TRUE),IF(C117=9,VLOOKUP(U117,判定式!$F$15:I$19,4,TRUE),IF(C117=10,VLOOKUP(U117,判定式!$G$15:I$19,3,TRUE),IF(C117=11,VLOOKUP(U117,判定式!$H$15:I$19,2,TRUE))))))))","v":false}]
[98,null,null,"-",null,null,null,null,null,null,null,null,{"$f":"IF(E118=\"\",\"\",VLOOKUP(E118,判定式!C$3:$J$12,8,TRUE))","v":""},{"$f":"IF(F118=\"\",\"\",VLOOKUP(F118,判定式!D$3:$J$12,7,TRUE))","v":""},{"$f":"IF(G118=\"\",\"\",VLOOKUP(G118,判定式!E$3:$J$12,6,TRUE))","v":""},{"$f":"IF(H118=\"\",\"\",VLOOKUP(H118,判定式!F$3:$J$12,5,TRUE))","v":""},{"$f":"IF(I118=\"\",\"\",VLOOKUP(I118,判定式!I$3:$J$12,2,TRUE))","v":""},{"$f":"IF(J118=\"\",\"\",VLOOKUP(J118,判定式!L$3:$M$12,2,TRUE))","v":""},{"$f":"IF(K118=\"\",\"\",VLOOKUP(K118,判定式!G$3:$J$12,4,TRUE))","v":""},{"$f":"IF(L118=\"\",\"\",VLOOKUP(L118,判定式!H$3:$J$12,3,TRUE))","v":""},"",{"$f":"IF(ISNUMBER(D118),\"判定外\",IF(C118=6,VLOOKUP(U118,判定式!$C$15:I$19,7,TRUE),IF(C118=7,VLOOKUP(U118,判定式!$D$15:I$19,6,TRUE),IF(C118=8,VLOOKUP(U118,判定式!$E$15:I$19,5,TRUE),IF(C118=9,VLOOKUP(U118,判定式!$F$15:I$19,4,TRUE),IF(C118=10,VLOOKUP(U118,判定式!$G$15:I$19,3,TRUE),IF(C118=11,VLOOKUP(U118,判定式!$H$15:I$19,2,TRUE))))))))","v":false}]
[99,null,null,"-",null,null,null,null,null,null,null,null,{"$f":"IF(E119=\"\",\"\",VLOOKUP(E119,判定式!C$3:$J$12,8,TRUE))","v":""},{"$f":"IF(F119=\"\",\"\",VLOOKUP(F119,判定式!D$3:$J$12,7,TRUE))","v":""},{"$f":"IF(G119=\"\",\"\",VLOOKUP(G119,判定式!E$3:$J$12,6,TRUE))","v":""},{"$f":"IF(H119=\"\",\"\",VLOOKUP(H119,判定式!F$3:$J$12,5,TRUE))","v":""},{"$f":"IF(I119=\"\",\"\",VLOOKUP(I119,判定式!I$3:$J$12,2,TRUE))","v":""},{"$f":"IF(J119=\"\",\"\",VLOOKUP(J119,判定式!L$3:$M$12,2,TRUE))","v":""},{"$f":"IF(K119=\"\",\"\",VLOOKUP(K119,判定式!G$3:$J$12,4,TRUE))","v":""},{"$f":"IF(L119=\"\",\"\",VLOOKUP(L119,判定式!H$3:$J$12,3,TRUE))","v":""},"",{"$f":"IF(ISNUMBER(D119),\"判定外\",IF(C119=6,VLOOKUP(U119,判定式!$C$15:I$19,7,TRUE),IF(C119=7,VLOOKUP(U119,判定式!$D$15:I$19,6,TRUE),IF(C119=8,VLOOKUP(U119,判定式!$E$15:I$19,5,TRUE),IF(C119=9,VLOOKUP(U119,判定式!$F$15:I$19,4,TRUE),IF(C119=10,VLOOKUP(U119,判定式!$G$15:I$19,3,TRUE),IF(C119=11,VLOOKUP(U119,判定式!$H$15:I$19,2,TRUE))))))))","v":false}]
[100,null,null,"-",null,null,null,null,null,null,null,null,{"$f":"IF(E120=\"\",\"\",VLOOKUP(E120,判定式!C$3:$J$12,8,TRUE))","v":""},{"$f":"IF(F120=\"\",\"\",VLOOKUP(F120,判定式!D$3:$J$12,7,TRUE))","v":""},{"$f":"IF(G120=\"\",\"\",VLOOKUP(G120,判定式!E$3:$J$12,6,TRUE))","v":""},{"$f":"IF(H120=\"\",\"\",VLOOKUP(H120,判定式!F$3:$J$12,5,TRUE))","v":""},{"$f":"IF(I120=\"\",\"\",VLOOKUP(I120,判定式!I$3:$J$12,2,TRUE))","v":""},{"$f":"IF(J120=\"\",\"\",VLOOKUP(J120,判定式!L$3:$M$12,2,TRUE))","v":""},{"$f":"IF(K120=\"\",\"\",VLOOKUP(K120,判定式!G$3:$J$12,4,TRUE))","v":""},{"$f":"IF(L120=\"\",\"\",VLOOKUP(L120,判定式!H$3:$J$12,3,TRUE))","v":""},"",{"$f":"IF(ISNUMBER(D120),\"判定外\",IF(C120=6,VLOOKUP(U120,判定式!$C$15:I$19,7,TRUE),IF(C120=7,VLOOKUP(U120,判定式!$D$15:I$19,6,TRUE),IF(C120=8,VLOOKUP(U120,判定式!$E$15:I$19,5,TRUE),IF(C120=9,VLOOKUP(U120,判定式!$F$15:I$19,4,TRUE),IF(C120=10,VLOOKUP(U120,判定式!$G$15:I$19,3,TRUE),IF(C120=11,VLOOKUP(U120,判定式!$H$15:I$19,2,TRUE))))))))","v":false}]
[101,null,null,"-",null,null,null,null,null,null,null,null,{"$f":"IF(E121=\"\",\"\",VLOOKUP(E121,判定式!C$3:$J$12,8,TRUE))","v":""},{"$f":"IF(F121=\"\",\"\",VLOOKUP(F121,判定式!D$3:$J$12,7,TRUE))","v":""},{"$f":"IF(G121=\"\",\"\",VLOOKUP(G121,判定式!E$3:$J$12,6,TRUE))","v":""},{"$f":"IF(H121=\"\",\"\",VLOOKUP(H121,判定式!F$3:$J$12,5,TRUE))","v":""},{"$f":"IF(I121=\"\",\"\",VLOOKUP(I121,判定式!I$3:$J$12,2,TRUE))","v":""},{"$f":"IF(J121=\"\",\"\",VLOOKUP(J121,判定式!L$3:$M$12,2,TRUE))","v":""},{"$f":"IF(K121=\"\",\"\",VLOOKUP(K121,判定式!G$3:$J$12,4,TRUE))","v":""},{"$f":"IF(L121=\"\",\"\",VLOOKUP(L121,判定式!H$3:$J$12,3,TRUE))","v":""},"",{"$f":"IF(ISNUMBER(D121),\"判定外\",IF(C121=6,VLOOKUP(U121,判定式!$C$15:I$19,7,TRUE),IF(C121=7,VLOOKUP(U121,判定式!$D$15:I$19,6,TRUE),IF(C121=8,VLOOKUP(U121,判定式!$E$15:I$19,5,TRUE),IF(C121=9,VLOOKUP(U121,判定式!$F$15:I$19,4,TRUE),IF(C121=10,VLOOKUP(U121,判定式!$G$15:I$19,3,TRUE),IF(C121=11,VLOOKUP(U121,判定式!$H$15:I$19,2,TRUE))))))))","v":false}]
[102,null,null,"-",null,null,null,null,null,null,null,null,{"$f":"IF(E122=\"\",\"\",VLOOKUP(E122,判定式!C$3:$J$12,8,TRUE))","v":""},{"$f":"IF(F122=\"\",\"\",VLOOKUP(F122,判定式!D$3:$J$12,7,TRUE))","v":""},{"$f":"IF(G122=\"\",\"\",VLOOKUP(G122,判定式!E$3:$J$12,6,TRUE))","v":""},{"$f":"IF(H122=\"\",\"\",VLOOKUP(H122,判定式!F$3:$J$12,5,TRUE))","v":""},{"$f":"IF(I122=\"\",\"\",VLOOKUP(I122,判定式!I$3:$J$12,2,TRUE))","v":""},{"$f":"IF(J122=\"\",\"\",VLOOKUP(J122,判定式!L$3:$M$12,2,TRUE))","v":""},{"$f":"IF(K122=\"\",\"\",VLOOKUP(K122,判定式!G$3:$J$12,4,TRUE))","v":""},{"$f":"IF(L122=\"\",\"\",VLOOKUP(L122,判定式!H$3:$J$12,3,TRUE))","v":""},"",{"$f":"IF(ISNUMBER(D122),\"判定外\",IF(C122=6,VLOOKUP(U122,判定式!$C$15:I$19,7,TRUE),IF(C122=7,VLOOKUP(U122,判定式!$D$15:I$19,6,TRUE),IF(C122=8,VLOOKUP(U122,判定式!$E$15:I$19,5,TRUE),IF(C122=9,VLOOKUP(U122,判定式!$F$15:I$19,4,TRUE),IF(C122=10,VLOOKUP(U122,判定式!$G$15:I$19,3,TRUE),IF(C122=11,VLOOKUP(U122,判定式!$H$15:I$19,2,TRUE))))))))","v":false}]
[103,null,null,"-",null,null,null,null,null,null,null,null,{"$f":"IF(E123=\"\",\"\",VLOOKUP(E123,判定式!C$3:$J$12,8,TRUE))","v":""},{"$f":"IF(F123=\"\",\"\",VLOOKUP(F123,判定式!D$3:$J$12,7,TRUE))","v":""},{"$f":"IF(G123=\"\",\"\",VLOOKUP(G123,判定式!E$3:$J$12,6,TRUE))","v":""},{"$f":"IF(H123=\"\",\"\",VLOOKUP(H123,判定式!F$3:$J$12,5,TRUE))","v":""},{"$f":"IF(I123=\"\",\"\",VLOOKUP(I123,判定式!I$3:$J$12,2,TRUE))","v":""},{"$f":"IF(J123=\"\",\"\",VLOOKUP(J123,判定式!L$3:$M$12,2,TRUE))","v":""},{"$f":"IF(K123=\"\",\"\",VLOOKUP(K123,判定式!G$3:$J$12,4,TRUE))","v":""},{"$f":"IF(L123=\"\",\"\",VLOOKUP(L123,判定式!H$3:$J$12,3,TRUE))","v":""},"",{"$f":"IF(ISNUMBER(D123),\"判定外\",IF(C123=6,VLOOKUP(U123,判定式!$C$15:I$19,7,TRUE),IF(C123=7,VLOOKUP(U123,判定式!$D$15:I$19,6,TRUE),IF(C123=8,VLOOKUP(U123,判定式!$E$15:I$19,5,TRUE),IF(C123=9,VLOOKUP(U123,判定式!$F$15:I$19,4,TRUE),IF(C123=10,VLOOKUP(U123,判定式!$G$15:I$19,3,TRUE),IF(C123=11,VLOOKUP(U123,判定式!$H$15:I$19,2,TRUE))))))))","v":false}]
[104,null,null,"-",null,null,null,null,null,null,null,null,{"$f":"IF(E124=\"\",\"\",VLOOKUP(E124,判定式!C$3:$J$12,8,TRUE))","v":""},{"$f":"IF(F124=\"\",\"\",VLOOKUP(F124,判定式!D$3:$J$12,7,TRUE))","v":""},{"$f":"IF(G124=\"\",\"\",VLOOKUP(G124,判定式!E$3:$J$12,6,TRUE))","v":""},{"$f":"IF(H124=\"\",\"\",VLOOKUP(H124,判定式!F$3:$J$12,5,TRUE))","v":""},{"$f":"IF(I124=\"\",\"\",VLOOKUP(I124,判定式!I$3:$J$12,2,TRUE))","v":""},{"$f":"IF(J124=\"\",\"\",VLOOKUP(J124,判定式!L$3:$M$12,2,TRUE))","v":""},{"$f":"IF(K124=\"\",\"\",VLOOKUP(K124,判定式!G$3:$J$12,4,TRUE))","v":""},{"$f":"IF(L124=\"\",\"\",VLOOKUP(L124,判定式!H$3:$J$12,3,TRUE))","v":""},"",{"$f":"IF(ISNUMBER(D124),\"判定外\",IF(C124=6,VLOOKUP(U124,判定式!$C$15:I$19,7,TRUE),IF(C124=7,VLOOKUP(U124,判定式!$D$15:I$19,6,TRUE),IF(C124=8,VLOOKUP(U124,判定式!$E$15:I$19,5,TRUE),IF(C124=9,VLOOKUP(U124,判定式!$F$15:I$19,4,TRUE),IF(C124=10,VLOOKUP(U124,判定式!$G$15:I$19,3,TRUE),IF(C124=11,VLOOKUP(U124,判定式!$H$15:I$19,2,TRUE))))))))","v":false}]
[105,null,null,"-",null,null,null,null,null,null,null,null,{"$f":"IF(E125=\"\",\"\",VLOOKUP(E125,判定式!C$3:$J$12,8,TRUE))","v":""},{"$f":"IF(F125=\"\",\"\",VLOOKUP(F125,判定式!D$3:$J$12,7,TRUE))","v":""},{"$f":"IF(G125=\"\",\"\",VLOOKUP(G125,判定式!E$3:$J$12,6,TRUE))","v":""},{"$f":"IF(H125=\"\",\"\",VLOOKUP(H125,判定式!F$3:$J$12,5,TRUE))","v":""},{"$f":"IF(I125=\"\",\"\",VLOOKUP(I125,判定式!I$3:$J$12,2,TRUE))","v":""},{"$f":"IF(J125=\"\",\"\",VLOOKUP(J125,判定式!L$3:$M$12,2,TRUE))","v":""},{"$f":"IF(K125=\"\",\"\",VLOOKUP(K125,判定式!G$3:$J$12,4,TRUE))","v":""},{"$f":"IF(L125=\"\",\"\",VLOOKUP(L125,判定式!H$3:$J$12,3,TRUE))","v":""},"",{"$f":"IF(ISNUMBER(D125),\"判定外\",IF(C125=6,VLOOKUP(U125,判定式!$C$15:I$19,7,TRUE),IF(C125=7,VLOOKUP(U125,判定式!$D$15:I$19,6,TRUE),IF(C125=8,VLOOKUP(U125,判定式!$E$15:I$19,5,TRUE),IF(C125=9,VLOOKUP(U125,判定式!$F$15:I$19,4,TRUE),IF(C125=10,VLOOKUP(U125,判定式!$G$15:I$19,3,TRUE),IF(C125=11,VLOOKUP(U125,判定式!$H$15:I$19,2,TRUE))))))))","v":false}]
[106,null,null,"-",null,null,null,null,null,null,null,null,{"$f":"IF(E126=\"\",\"\",VLOOKUP(E126,判定式!C$3:$J$12,8,TRUE))","v":""},{"$f":"IF(F126=\"\",\"\",VLOOKUP(F126,判定式!D$3:$J$12,7,TRUE))","v":""},{"$f":"IF(G126=\"\",\"\",VLOOKUP(G126,判定式!E$3:$J$12,6,TRUE))","v":""},{"$f":"IF(H126=\"\",\"\",VLOOKUP(H126,判定式!F$3:$J$12,5,TRUE))","v":""},{"$f":"IF(I126=\"\",\"\",VLOOKUP(I126,判定式!I$3:$J$12,2,TRUE))","v":""},{"$f":"IF(J126=\"\",\"\",VLOOKUP(J126,判定式!L$3:$M$12,2,TRUE))","v":""},{"$f":"IF(K126=\"\",\"\",VLOOKUP(K126,判定式!G$3:$J$12,4,TRUE))","v":""},{"$f":"IF(L126=\"\",\"\",VLOOKUP(L126,判定式!H$3:$J$12,3,TRUE))","v":""},"",{"$f":"IF(ISNUMBER(D126),\"判定外\",IF(C126=6,VLOOKUP(U126,判定式!$C$15:I$19,7,TRUE),IF(C126=7,VLOOKUP(U126,判定式!$D$15:I$19,6,TRUE),IF(C126=8,VLOOKUP(U126,判定式!$E$15:I$19,5,TRUE),IF(C126=9,VLOOKUP(U126,判定式!$F$15:I$19,4,TRUE),IF(C126=10,VLOOKUP(U126,判定式!$G$15:I$19,3,TRUE),IF(C126=11,VLOOKUP(U126,判定式!$H$15:I$19,2,TRUE))))))))","v":false}]
[107,null,null,"-",null,null,null,null,null,null,null,null,{"$f":"IF(E127=\"\",\"\",VLOOKUP(E127,判定式!C$3:$J$12,8,TRUE))","v":""},{"$f":"IF(F127=\"\",\"\",VLOOKUP(F127,判定式!D$3:$J$12,7,TRUE))","v":""},{"$f":"IF(G127=\"\",\"\",VLOOKUP(G127,判定式!E$3:$J$12,6,TRUE))","v":""},{"$f":"IF(H127=\"\",\"\",VLOOKUP(H127,判定式!F$3:$J$12,5,TRUE))","v":""},{"$f":"IF(I127=\"\",\"\",VLOOKUP(I127,判定式!I$3:$J$12,2,TRUE))","v":""},{"$f":"IF(J127=\"\",\"\",VLOOKUP(J127,判定式!L$3:$M$12,2,TRUE))","v":""},{"$f":"IF(K127=\"\",\"\",VLOOKUP(K127,判定式!G$3:$J$12,4,TRUE))","v":""},{"$f":"IF(L127=\"\",\"\",VLOOKUP(L127,判定式!H$3:$J$12,3,TRUE))","v":""},"",{"$f":"IF(ISNUMBER(D127),\"判定外\",IF(C127=6,VLOOKUP(U127,判定式!$C$15:I$19,7,TRUE),IF(C127=7,VLOOKUP(U127,判定式!$D$15:I$19,6,TRUE),IF(C127=8,VLOOKUP(U127,判定式!$E$15:I$19,5,TRUE),IF(C127=9,VLOOKUP(U127,判定式!$F$15:I$19,4,TRUE),IF(C127=10,VLOOKUP(U127,判定式!$G$15:I$19,3,TRUE),IF(C127=11,VLOOKUP(U127,判定式!$H$15:I$19,2,TRUE))))))))","v":false}]
[108,null,null,"-",null,null,null,null,null,null,null,null,{"$f":"IF(E128=\"\",\"\",VLOOKUP(E128,判定式!C$3:$J$12,8,TRUE))","v":""},{"$f":"IF(F128=\"\",\"\",VLOOKUP(F128,判定式!D$3:$J$12,7,TRUE))","v":""},{"$f":"IF(G128=\"\",\"\",VLOOKUP(G128,判定式!E$3:$J$12,6,TRUE))","v":""},{"$f":"IF(H128=\"\",\"\",VLOOKUP(H128,判定式!F$3:$J$12,5,TRUE))","v":""},{"$f":"IF(I128=\"\",\"\",VLOOKUP(I128,判定式!I$3:$J$12,2,TRUE))","v":""},{"$f":"IF(J128=\"\",\"\",VLOOKUP(J128,判定式!L$3:$M$12,2,TRUE))","v":""},{"$f":"IF(K128=\"\",\"\",VLOOKUP(K128,判定式!G$3:$J$12,4,TRUE))","v":""},{"$f":"IF(L128=\"\",\"\",VLOOKUP(L128,判定式!H$3:$J$12,3,TRUE))","v":""},"",{"$f":"IF(ISNUMBER(D128),\"判定外\",IF(C128=6,VLOOKUP(U128,判定式!$C$15:I$19,7,TRUE),IF(C128=7,VLOOKUP(U128,判定式!$D$15:I$19,6,TRUE),IF(C128=8,VLOOKUP(U128,判定式!$E$15:I$19,5,TRUE),IF(C128=9,VLOOKUP(U128,判定式!$F$15:I$19,4,TRUE),IF(C128=10,VLOOKUP(U128,判定式!$G$15:I$19,3,TRUE),IF(C128=11,VLOOKUP(U128,判定式!$H$15:I$19,2,TRUE))))))))","v":false}]
[109,null,null,"-",null,null,null,null,null,null,null,null,{"$f":"IF(E129=\"\",\"\",VLOOKUP(E129,判定式!C$3:$J$12,8,TRUE))","v":""},{"$f":"IF(F129=\"\",\"\",VLOOKUP(F129,判定式!D$3:$J$12,7,TRUE))","v":""},{"$f":"IF(G129=\"\",\"\",VLOOKUP(G129,判定式!E$3:$J$12,6,TRUE))","v":""},{"$f":"IF(H129=\"\",\"\",VLOOKUP(H129,判定式!F$3:$J$12,5,TRUE))","v":""},{"$f":"IF(I129=\"\",\"\",VLOOKUP(I129,判定式!I$3:$J$12,2,TRUE))","v":""},{"$f":"IF(J129=\"\",\"\",VLOOKUP(J129,判定式!L$3:$M$12,2,TRUE))","v":""},{"$f":"IF(K129=\"\",\"\",VLOOKUP(K129,判定式!G$3:$J$12,4,TRUE))","v":""},{"$f":"IF(L129=\"\",\"\",VLOOKUP(L129,判定式!H$3:$J$12,3,TRUE))","v":""},"",{"$f":"IF(ISNUMBER(D129),\"判定外\",IF(C129=6,VLOOKUP(U129,判定式!$C$15:I$19,7,TRUE),IF(C129=7,VLOOKUP(U129,判定式!$D$15:I$19,6,TRUE),IF(C129=8,VLOOKUP(U129,判定式!$E$15:I$19,5,TRUE),IF(C129=9,VLOOKUP(U129,判定式!$F$15:I$19,4,TRUE),IF(C129=10,VLOOKUP(U129,判定式!$G$15:I$19,3,TRUE),IF(C129=11,VLOOKUP(U129,判定式!$H$15:I$19,2,TRUE))))))))","v":false}]
[110,null,null,"-",null,null,null,null,null,null,null,null,{"$f":"IF(E130=\"\",\"\",VLOOKUP(E130,判定式!C$3:$J$12,8,TRUE))","v":""},{"$f":"IF(F130=\"\",\"\",VLOOKUP(F130,判定式!D$3:$J$12,7,TRUE))","v":""},{"$f":"IF(G130=\"\",\"\",VLOOKUP(G130,判定式!E$3:$J$12,6,TRUE))","v":""},{"$f":"IF(H130=\"\",\"\",VLOOKUP(H130,判定式!F$3:$J$12,5,TRUE))","v":""},{"$f":"IF(I130=\"\",\"\",VLOOKUP(I130,判定式!I$3:$J$12,2,TRUE))","v":""},{"$f":"IF(J130=\"\",\"\",VLOOKUP(J130,判定式!L$3:$M$12,2,TRUE))","v":""},{"$f":"IF(K130=\"\",\"\",VLOOKUP(K130,判定式!G$3:$J$12,4,TRUE))","v":""},{"$f":"IF(L130=\"\",\"\",VLOOKUP(L130,判定式!H$3:$J$12,3,TRUE))","v":""},"",{"$f":"IF(ISNUMBER(D130),\"判定外\",IF(C130=6,VLOOKUP(U130,判定式!$C$15:I$19,7,TRUE),IF(C130=7,VLOOKUP(U130,判定式!$D$15:I$19,6,TRUE),IF(C130=8,VLOOKUP(U130,判定式!$E$15:I$19,5,TRUE),IF(C130=9,VLOOKUP(U130,判定式!$F$15:I$19,4,TRUE),IF(C130=10,VLOOKUP(U130,判定式!$G$15:I$19,3,TRUE),IF(C130=11,VLOOKUP(U130,判定式!$H$15:I$19,2,TRUE))))))))","v":false}]
[111,null,null,"-",null,null,null,null,null,null,null,null,{"$f":"IF(E131=\"\",\"\",VLOOKUP(E131,判定式!C$3:$J$12,8,TRUE))","v":""},{"$f":"IF(F131=\"\",\"\",VLOOKUP(F131,判定式!D$3:$J$12,7,TRUE))","v":""},{"$f":"IF(G131=\"\",\"\",VLOOKUP(G131,判定式!E$3:$J$12,6,TRUE))","v":""},{"$f":"IF(H131=\"\",\"\",VLOOKUP(H131,判定式!F$3:$J$12,5,TRUE))","v":""},{"$f":"IF(I131=\"\",\"\",VLOOKUP(I131,判定式!I$3:$J$12,2,TRUE))","v":""},{"$f":"IF(J131=\"\",\"\",VLOOKUP(J131,判定式!L$3:$M$12,2,TRUE))","v":""},{"$f":"IF(K131=\"\",\"\",VLOOKUP(K131,判定式!G$3:$J$12,4,TRUE))","v":""},{"$f":"IF(L131=\"\",\"\",VLOOKUP(L131,判定式!H$3:$J$12,3,TRUE))","v":""},"",{"$f":"IF(ISNUMBER(D131),\"判定外\",IF(C131=6,VLOOKUP(U131,判定式!$C$15:I$19,7,TRUE),IF(C131=7,VLOOKUP(U131,判定式!$D$15:I$19,6,TRUE),IF(C131=8,VLOOKUP(U131,判定式!$E$15:I$19,5,TRUE),IF(C131=9,VLOOKUP(U131,判定式!$F$15:I$19,4,TRUE),IF(C131=10,VLOOKUP(U131,判定式!$G$15:I$19,3,TRUE),IF(C131=11,VLOOKUP(U131,判定式!$H$15:I$19,2,TRUE))))))))","v":false}]
[112,null,null,"-",null,null,null,null,null,null,null,null,{"$f":"IF(E132=\"\",\"\",VLOOKUP(E132,判定式!C$3:$J$12,8,TRUE))","v":""},{"$f":"IF(F132=\"\",\"\",VLOOKUP(F132,判定式!D$3:$J$12,7,TRUE))","v":""},{"$f":"IF(G132=\"\",\"\",VLOOKUP(G132,判定式!E$3:$J$12,6,TRUE))","v":""},{"$f":"IF(H132=\"\",\"\",VLOOKUP(H132,判定式!F$3:$J$12,5,TRUE))","v":""},{"$f":"IF(I132=\"\",\"\",VLOOKUP(I132,判定式!I$3:$J$12,2,TRUE))","v":""},{"$f":"IF(J132=\"\",\"\",VLOOKUP(J132,判定式!L$3:$M$12,2,TRUE))","v":""},{"$f":"IF(K132=\"\",\"\",VLOOKUP(K132,判定式!G$3:$J$12,4,TRUE))","v":""},{"$f":"IF(L132=\"\",\"\",VLOOKUP(L132,判定式!H$3:$J$12,3,TRUE))","v":""},"",{"$f":"IF(ISNUMBER(D132),\"判定外\",IF(C132=6,VLOOKUP(U132,判定式!$C$15:I$19,7,TRUE),IF(C132=7,VLOOKUP(U132,判定式!$D$15:I$19,6,TRUE),IF(C132=8,VLOOKUP(U132,判定式!$E$15:I$19,5,TRUE),IF(C132=9,VLOOKUP(U132,判定式!$F$15:I$19,4,TRUE),IF(C132=10,VLOOKUP(U132,判定式!$G$15:I$19,3,TRUE),IF(C132=11,VLOOKUP(U132,判定式!$H$15:I$19,2,TRUE))))))))","v":false}]
[113,null,null,"-",null,null,null,null,null,null,null,null,{"$f":"IF(E133=\"\",\"\",VLOOKUP(E133,判定式!C$3:$J$12,8,TRUE))","v":""},{"$f":"IF(F133=\"\",\"\",VLOOKUP(F133,判定式!D$3:$J$12,7,TRUE))","v":""},{"$f":"IF(G133=\"\",\"\",VLOOKUP(G133,判定式!E$3:$J$12,6,TRUE))","v":""},{"$f":"IF(H133=\"\",\"\",VLOOKUP(H133,判定式!F$3:$J$12,5,TRUE))","v":""},{"$f":"IF(I133=\"\",\"\",VLOOKUP(I133,判定式!I$3:$J$12,2,TRUE))","v":""},{"$f":"IF(J133=\"\",\"\",VLOOKUP(J133,判定式!L$3:$M$12,2,TRUE))","v":""},{"$f":"IF(K133=\"\",\"\",VLOOKUP(K133,判定式!G$3:$J$12,4,TRUE))","v":""},{"$f":"IF(L133=\"\",\"\",VLOOKUP(L133,判定式!H$3:$J$12,3,TRUE))","v":""},"",{"$f":"IF(ISNUMBER(D133),\"判定外\",IF(C133=6,VLOOKUP(U133,判定式!$C$15:I$19,7,TRUE),IF(C133=7,VLOOKUP(U133,判定式!$D$15:I$19,6,TRUE),IF(C133=8,VLOOKUP(U133,判定式!$E$15:I$19,5,TRUE),IF(C133=9,VLOOKUP(U133,判定式!$F$15:I$19,4,TRUE),IF(C133=10,VLOOKUP(U133,判定式!$G$15:I$19,3,TRUE),IF(C133=11,VLOOKUP(U133,判定式!$H$15:I$19,2,TRUE))))))))","v":false}]
[114,null,null,"-",null,null,null,null,null,null,null,null,{"$f":"IF(E134=\"\",\"\",VLOOKUP(E134,判定式!C$3:$J$12,8,TRUE))","v":""},{"$f":"IF(F134=\"\",\"\",VLOOKUP(F134,判定式!D$3:$J$12,7,TRUE))","v":""},{"$f":"IF(G134=\"\",\"\",VLOOKUP(G134,判定式!E$3:$J$12,6,TRUE))","v":""},{"$f":"IF(H134=\"\",\"\",VLOOKUP(H134,判定式!F$3:$J$12,5,TRUE))","v":""},{"$f":"IF(I134=\"\",\"\",VLOOKUP(I134,判定式!I$3:$J$12,2,TRUE))","v":""},{"$f":"IF(J134=\"\",\"\",VLOOKUP(J134,判定式!L$3:$M$12,2,TRUE))","v":""},{"$f":"IF(K134=\"\",\"\",VLOOKUP(K134,判定式!G$3:$J$12,4,TRUE))","v":""},{"$f":"IF(L134=\"\",\"\",VLOOKUP(L134,判定式!H$3:$J$12,3,TRUE))","v":""},"",{"$f":"IF(ISNUMBER(D134),\"判定外\",IF(C134=6,VLOOKUP(U134,判定式!$C$15:I$19,7,TRUE),IF(C134=7,VLOOKUP(U134,判定式!$D$15:I$19,6,TRUE),IF(C134=8,VLOOKUP(U134,判定式!$E$15:I$19,5,TRUE),IF(C134=9,VLOOKUP(U134,判定式!$F$15:I$19,4,TRUE),IF(C134=10,VLOOKUP(U134,判定式!$G$15:I$19,3,TRUE),IF(C134=11,VLOOKUP(U134,判定式!$H$15:I$19,2,TRUE))))))))","v":false}]
[115,null,null,"-",null,null,null,null,null,null,null,null,{"$f":"IF(E135=\"\",\"\",VLOOKUP(E135,判定式!C$3:$J$12,8,TRUE))","v":""},{"$f":"IF(F135=\"\",\"\",VLOOKUP(F135,判定式!D$3:$J$12,7,TRUE))","v":""},{"$f":"IF(G135=\"\",\"\",VLOOKUP(G135,判定式!E$3:$J$12,6,TRUE))","v":""},{"$f":"IF(H135=\"\",\"\",VLOOKUP(H135,判定式!F$3:$J$12,5,TRUE))","v":""},{"$f":"IF(I135=\"\",\"\",VLOOKUP(I135,判定式!I$3:$J$12,2,TRUE))","v":""},{"$f":"IF(J135=\"\",\"\",VLOOKUP(J135,判定式!L$3:$M$12,2,TRUE))","v":""},{"$f":"IF(K135=\"\",\"\",VLOOKUP(K135,判定式!G$3:$J$12,4,TRUE))","v":""},{"$f":"IF(L135=\"\",\"\",VLOOKUP(L135,判定式!H$3:$J$12,3,TRUE))","v":""},"",{"$f":"IF(ISNUMBER(D135),\"判定外\",IF(C135=6,VLOOKUP(U135,判定式!$C$15:I$19,7,TRUE),IF(C135=7,VLOOKUP(U135,判定式!$D$15:I$19,6,TRUE),IF(C135=8,VLOOKUP(U135,判定式!$E$15:I$19,5,TRUE),IF(C135=9,VLOOKUP(U135,判定式!$F$15:I$19,4,TRUE),IF(C135=10,VLOOKUP(U135,判定式!$G$15:I$19,3,TRUE),IF(C135=11,VLOOKUP(U135,判定式!$H$15:I$19,2,TRUE))))))))","v":false}]
[116,null,null,"-",null,null,null,null,null,null,null,null,{"$f":"IF(E136=\"\",\"\",VLOOKUP(E136,判定式!C$3:$J$12,8,TRUE))","v":""},{"$f":"IF(F136=\"\",\"\",VLOOKUP(F136,判定式!D$3:$J$12,7,TRUE))","v":""},{"$f":"IF(G136=\"\",\"\",VLOOKUP(G136,判定式!E$3:$J$12,6,TRUE))","v":""},{"$f":"IF(H136=\"\",\"\",VLOOKUP(H136,判定式!F$3:$J$12,5,TRUE))","v":""},{"$f":"IF(I136=\"\",\"\",VLOOKUP(I136,判定式!I$3:$J$12,2,TRUE))","v":""},{"$f":"IF(J136=\"\",\"\",VLOOKUP(J136,判定式!L$3:$M$12,2,TRUE))","v":""},{"$f":"IF(K136=\"\",\"\",VLOOKUP(K136,判定式!G$3:$J$12,4,TRUE))","v":""},{"$f":"IF(L136=\"\",\"\",VLOOKUP(L136,判定式!H$3:$J$12,3,TRUE))","v":""},"",{"$f":"IF(ISNUMBER(D136),\"判定外\",IF(C136=6,VLOOKUP(U136,判定式!$C$15:I$19,7,TRUE),IF(C136=7,VLOOKUP(U136,判定式!$D$15:I$19,6,TRUE),IF(C136=8,VLOOKUP(U136,判定式!$E$15:I$19,5,TRUE),IF(C136=9,VLOOKUP(U136,判定式!$F$15:I$19,4,TRUE),IF(C136=10,VLOOKUP(U136,判定式!$G$15:I$19,3,TRUE),IF(C136=11,VLOOKUP(U136,判定式!$H$15:I$19,2,TRUE))))))))","v":false}]
[117,null,null,"-",null,null,null,null,null,null,null,null,{"$f":"IF(E137=\"\",\"\",VLOOKUP(E137,判定式!C$3:$J$12,8,TRUE))","v":""},{"$f":"IF(F137=\"\",\"\",VLOOKUP(F137,判定式!D$3:$J$12,7,TRUE))","v":""},{"$f":"IF(G137=\"\",\"\",VLOOKUP(G137,判定式!E$3:$J$12,6,TRUE))","v":""},{"$f":"IF(H137=\"\",\"\",VLOOKUP(H137,判定式!F$3:$J$12,5,TRUE))","v":""},{"$f":"IF(I137=\"\",\"\",VLOOKUP(I137,判定式!I$3:$J$12,2,TRUE))","v":""},{"$f":"IF(J137=\"\",\"\",VLOOKUP(J137,判定式!L$3:$M$12,2,TRUE))","v":""},{"$f":"IF(K137=\"\",\"\",VLOOKUP(K137,判定式!G$3:$J$12,4,TRUE))","v":""},{"$f":"IF(L137=\"\",\"\",VLOOKUP(L137,判定式!H$3:$J$12,3,TRUE))","v":""},"",{"$f":"IF(ISNUMBER(D137),\"判定外\",IF(C137=6,VLOOKUP(U137,判定式!$C$15:I$19,7,TRUE),IF(C137=7,VLOOKUP(U137,判定式!$D$15:I$19,6,TRUE),IF(C137=8,VLOOKUP(U137,判定式!$E$15:I$19,5,TRUE),IF(C137=9,VLOOKUP(U137,判定式!$F$15:I$19,4,TRUE),IF(C137=10,VLOOKUP(U137,判定式!$G$15:I$19,3,TRUE),IF(C137=11,VLOOKUP(U137,判定式!$H$15:I$19,2,TRUE))))))))","v":false}]
[118,null,null,"-",null,null,null,null,null,null,null,null,{"$f":"IF(E138=\"\",\"\",VLOOKUP(E138,判定式!C$3:$J$12,8,TRUE))","v":""},{"$f":"IF(F138=\"\",\"\",VLOOKUP(F138,判定式!D$3:$J$12,7,TRUE))","v":""},{"$f":"IF(G138=\"\",\"\",VLOOKUP(G138,判定式!E$3:$J$12,6,TRUE))","v":""},{"$f":"IF(H138=\"\",\"\",VLOOKUP(H138,判定式!F$3:$J$12,5,TRUE))","v":""},{"$f":"IF(I138=\"\",\"\",VLOOKUP(I138,判定式!I$3:$J$12,2,TRUE))","v":""},{"$f":"IF(J138=\"\",\"\",VLOOKUP(J138,判定式!L$3:$M$12,2,TRUE))","v":""},{"$f":"IF(K138=\"\",\"\",VLOOKUP(K138,判定式!G$3:$J$12,4,TRUE))","v":""},{"$f":"IF(L138=\"\",\"\",VLOOKUP(L138,判定式!H$3:$J$12,3,TRUE))","v":""},"",{"$f":"IF(ISNUMBER(D138),\"判定外\",IF(C138=6,VLOOKUP(U138,判定式!$C$15:I$19,7,TRUE),IF(C138=7,VLOOKUP(U138,判定式!$D$15:I$19,6,TRUE),IF(C138=8,VLOOKUP(U138,判定式!$E$15:I$19,5,TRUE),IF(C138=9,VLOOKUP(U138,判定式!$F$15:I$19,4,TRUE),IF(C138=10,VLOOKUP(U138,判定式!$G$15:I$19,3,TRUE),IF(C138=11,VLOOKUP(U138,判定式!$H$15:I$19,2,TRUE))))))))","v":false}]
[119,null,null,"-",null,null,null,null,null,null,null,null,{"$f":"IF(E139=\"\",\"\",VLOOKUP(E139,判定式!C$3:$J$12,8,TRUE))","v":""},{"$f":"IF(F139=\"\",\"\",VLOOKUP(F139,判定式!D$3:$J$12,7,TRUE))","v":""},{"$f":"IF(G139=\"\",\"\",VLOOKUP(G139,判定式!E$3:$J$12,6,TRUE))","v":""},{"$f":"IF(H139=\"\",\"\",VLOOKUP(H139,判定式!F$3:$J$12,5,TRUE))","v":""},{"$f":"IF(I139=\"\",\"\",VLOOKUP(I139,判定式!I$3:$J$12,2,TRUE))","v":""},{"$f":"IF(J139=\"\",\"\",VLOOKUP(J139,判定式!L$3:$M$12,2,TRUE))","v":""},{"$f":"IF(K139=\"\",\"\",VLOOKUP(K139,判定式!G$3:$J$12,4,TRUE))","v":""},{"$f":"IF(L139=\"\",\"\",VLOOKUP(L139,判定式!H$3:$J$12,3,TRUE))","v":""},"",{"$f":"IF(ISNUMBER(D139),\"判定外\",IF(C139=6,VLOOKUP(U139,判定式!$C$15:I$19,7,TRUE),IF(C139=7,VLOOKUP(U139,判定式!$D$15:I$19,6,TRUE),IF(C139=8,VLOOKUP(U139,判定式!$E$15:I$19,5,TRUE),IF(C139=9,VLOOKUP(U139,判定式!$F$15:I$19,4,TRUE),IF(C139=10,VLOOKUP(U139,判定式!$G$15:I$19,3,TRUE),IF(C139=11,VLOOKUP(U139,判定式!$H$15:I$19,2,TRUE))))))))","v":false}]
[120,null,null,"-",null,null,null,null,null,null,null,null,{"$f":"IF(E140=\"\",\"\",VLOOKUP(E140,判定式!C$3:$J$12,8,TRUE))","v":""},{"$f":"IF(F140=\"\",\"\",VLOOKUP(F140,判定式!D$3:$J$12,7,TRUE))","v":""},{"$f":"IF(G140=\"\",\"\",VLOOKUP(G140,判定式!E$3:$J$12,6,TRUE))","v":""},{"$f":"IF(H140=\"\",\"\",VLOOKUP(H140,判定式!F$3:$J$12,5,TRUE))","v":""},{"$f":"IF(I140=\"\",\"\",VLOOKUP(I140,判定式!I$3:$J$12,2,TRUE))","v":""},{"$f":"IF(J140=\"\",\"\",VLOOKUP(J140,判定式!L$3:$M$12,2,TRUE))","v":""},{"$f":"IF(K140=\"\",\"\",VLOOKUP(K140,判定式!G$3:$J$12,4,TRUE))","v":""},{"$f":"IF(L140=\"\",\"\",VLOOKUP(L140,判定式!H$3:$J$12,3,TRUE))","v":""},"",{"$f":"IF(ISNUMBER(D140),\"判定外\",IF(C140=6,VLOOKUP(U140,判定式!$C$15:I$19,7,TRUE),IF(C140=7,VLOOKUP(U140,判定式!$D$15:I$19,6,TRUE),IF(C140=8,VLOOKUP(U140,判定式!$E$15:I$19,5,TRUE),IF(C140=9,VLOOKUP(U140,判定式!$F$15:I$19,4,TRUE),IF(C140=10,VLOOKUP(U140,判定式!$G$15:I$19,3,TRUE),IF(C140=11,VLOOKUP(U140,判定式!$H$15:I$19,2,TRUE))))))))","v":false}]
[]
[]
[null,"女子入力欄（男子は上段）"]
[]
[null,"提出時、名前記入は任意","年齢は、全員８",null,null,null,null,"５０m走は、1/100秒を切り上げて、「例：9.72→9.8」のように1/１０秒単位を入力する"]
[null,"小３　女子",8,"自動","整数","整数","整数","整数","整数","小数第１位","整数","整数"]
[null,null,"年齢","未実施\n項目数","調　　査　　項　　目　　記　　録",null,null,null,null,null,null,null,"実技種目得点"]
["Ｎｏ．","名前","半角",null,"握力","上体起こし","長座体前屈","反復横とび","シャトルラン","５０ｍ走","立ち幅とび","ﾎﾞｰﾙ投げ","握力","上体\n起こし","長座\n体前屈","反復\n横跳び","ｼｬﾄﾙ\nﾗﾝ","50ｍ\n走","立ち\n幅とび","ボール\n投げ","体力","総合"]
[null,null,8,null,"（ｋｇ）","（回）","（ｃｍ）","（回）","（回）","（秒）","（ｃｍ）","（ｍ）",null,null,null,null,null,null,null,null,"合計点","評価"]
[1,null,null,{"$f":"IF(COUNTBLANK(E150:L150)=0,\"\",IF(COUNTBLANK(E150:L150)=8,\"-\",COUNTBLANK(E150:L150)))","v":"-"},null,null,null,null,null,null,null,null,{"$f":"IF($E150=\"\",\"\",VLOOKUP($E150,判定式!$P$3:$W$12,8,TRUE))","v":""},{"$f":"IF($F150=\"\",\"\",VLOOKUP($F150,判定式!$Q$3:$W$12,7,TRUE))","v":""},{"$f":"IF($G150=\"\",\"\",VLOOKUP($G150,判定式!$R$3:$W$12,6,TRUE))","v":""},{"$f":"IF($H150=\"\",\"\",VLOOKUP($H150,判定式!$S$3:$W$12,5,TRUE))","v":""},{"$f":"IF($I150=\"\",\"\",VLOOKUP($I150,判定式!$V$3:$W$12,2,TRUE))","v":""},{"$f":"IF($J150=\"\",\"\",VLOOKUP($J150,判定式!$Y$3:$Z$12,2,TRUE))","v":""},{"$f":"IF($K150=\"\",\"\",VLOOKUP($K150,判定式!$T$3:$W$12,4,TRUE))","v":""},{"$f":"IF($L150=\"\",\"\",VLOOKUP($L150,判定式!$U$3:$W$12,3,TRUE))","v":""},{"$f":"IF(COUNTBLANK(M150:T150)=0,SUM(M150:T150),\"\")","v":""},{"$f":"IF(ISNUMBER(D150),\"判定外\",IF(C150=6,VLOOKUP(U150,判定式!$C$15:I$19,7,TRUE),IF(C150=7,VLOOKUP(U150,判定式!$D$15:I$19,6,TRUE),IF(C150=8,VLOOKUP(U150,判定式!$E$15:I$19,5,TRUE),IF(C150=9,VLOOKUP(U150,判定式!$F$15:I$19,4,TRUE),IF(C150=10,VLOOKUP(U150,判定式!$G$15:I$19,3,TRUE),IF(C150=11,VLOOKUP(U150,判定式!$H$15:I$19,2,TRUE))))))))","v":false}]
[2,null,null,"-",null,null,null,null,null,null,null,null,{"$f":"IF($E151=\"\",\"\",VLOOKUP($E151,判定式!$P$3:$W$12,8,TRUE))","v":""},{"$f":"IF($F151=\"\",\"\",VLOOKUP($F151,判定式!$Q$3:$W$12,7,TRUE))","v":""},{"$f":"IF($G151=\"\",\"\",VLOOKUP($G151,判定式!$R$3:$W$12,6,TRUE))","v":""},{"$f":"IF($H151=\"\",\"\",VLOOKUP($H151,判定式!$S$3:$W$12,5,TRUE))","v":""},{"$f":"IF($I151=\"\",\"\",VLOOKUP($I151,判定式!$V$3:$W$12,2,TRUE))","v":""},{"$f":"IF($J151=\"\",\"\",VLOOKUP($J151,判定式!$Y$3:$Z$12,2,TRUE))","v":""},{"$f":"IF($K151=\"\",\"\",VLOOKUP($K151,判定式!$T$3:$W$12,4,TRUE))","v":""},{"$f":"IF($L151=\"\",\"\",VLOOKUP($L151,判定式!$U$3:$W$12,3,TRUE))","v":""},"",{"$f":"IF(ISNUMBER(D151),\"判定外\",IF(C151=6,VLOOKUP(U151,判定式!$C$15:I$19,7,TRUE),IF(C151=7,VLOOKUP(U151,判定式!$D$15:I$19,6,TRUE),IF(C151=8,VLOOKUP(U151,判定式!$E$15:I$19,5,TRUE),IF(C151=9,VLOOKUP(U151,判定式!$F$15:I$19,4,TRUE),IF(C151=10,VLOOKUP(U151,判定式!$G$15:I$19,3,TRUE),IF(C151=11,VLOOKUP(U151,判定式!$H$15:I$19,2,TRUE))))))))","v":false}]
[3,null,null,"-",null,null,null,null,null,null,null,null,{"$f":"IF($E152=\"\",\"\",VLOOKUP($E152,判定式!$P$3:$W$12,8,TRUE))","v":""},{"$f":"IF($F152=\"\",\"\",VLOOKUP($F152,判定式!$Q$3:$W$12,7,TRUE))","v":""},{"$f":"IF($G152=\"\",\"\",VLOOKUP($G152,判定式!$R$3:$W$12,6,TRUE))","v":""},{"$f":"IF($H152=\"\",\"\",VLOOKUP($H152,判定式!$S$3:$W$12,5,TRUE))","v":""},{"$f":"IF($I152=\"\",\"\",VLOOKUP($I152,判定式!$V$3:$W$12,2,TRUE))","v":""},{"$f":"IF($J152=\"\",\"\",VLOOKUP($J152,判定式!$Y$3:$Z$12,2,TRUE))","v":""},{"$f":"IF($K152=\"\",\"\",VLOOKUP($K152,判定式!$T$3:$W$12,4,TRUE))","v":""},{"$f":"IF($L152=\"\",\"\",VLOOKUP($L152,判定式!$U$3:$W$12,3,TRUE))","v":""},"",{"$f":"IF(ISNUMBER(D152),\"判定外\",IF(C152=6,VLOOKUP(U152,判定式!$C$15:I$19,7,TRUE),IF(C152=7,VLOOKUP(U152,判定式!$D$15:I$19,6,TRUE),IF(C152=8,VLOOKUP(U152,判定式!$E$15:I$19,5,TRUE),IF(C152=9,VLOOKUP(U152,判定式!$F$15:I$19,4,TRUE),IF(C152=10,VLOOKUP(U152,判定式!$G$15:I$19,3,TRUE),IF(C152=11,VLOOKUP(U152,判定式!$H$15:I$19,2,TRUE))))))))","v":false}]
[4,null,null,"-",null,null,null,null,null,null,null,null,{"$f":"IF($E153=\"\",\"\",VLOOKUP($E153,判定式!$P$3:$W$12,8,TRUE))","v":""},{"$f":"IF($F153=\"\",\"\",VLOOKUP($F153,判定式!$Q$3:$W$12,7,TRUE))","v":""},{"$f":"IF($G153=\"\",\"\",VLOOKUP($G153,判定式!$R$3:$W$12,6,TRUE))","v":""},{"$f":"IF($H153=\"\",\"\",VLOOKUP($H153,判定式!$S$3:$W$12,5,TRUE))","v":""},{"$f":"IF($I153=\"\",\"\",VLOOKUP($I153,判定式!$V$3:$W$12,2,TRUE))","v":""},{"$f":"IF($J153=\"\",\"\",VLOOKUP($J153,判定式!$Y$3:$Z$12,2,TRUE))","v":""},{"$f":"IF($K153=\"\",\"\",VLOOKUP($K153,判定式!$T$3:$W$12,4,TRUE))","v":""},{"$f":"IF($L153=\"\",\"\",VLOOKUP($L153,判定式!$U$3:$W$12,3,TRUE))","v":""},"",{"$f":"IF(ISNUMBER(D153),\"判定外\",IF(C153=6,VLOOKUP(U153,判定式!$C$15:I$19,7,TRUE),IF(C153=7,VLOOKUP(U153,判定式!$D$15:I$19,6,TRUE),IF(C153=8,VLOOKUP(U153,判定式!$E$15:I$19,5,TRUE),IF(C153=9,VLOOKUP(U153,判定式!$F$15:I$19,4,TRUE),IF(C153=10,VLOOKUP(U153,判定式!$G$15:I$19,3,TRUE),IF(C153=11,VLOOKUP(U153,判定式!$H$15:I$19,2,TRUE))))))))","v":false}]
[5,null,null,"-",null,null,null,null,null,null,null,null,{"$f":"IF($E154=\"\",\"\",VLOOKUP($E154,判定式!$P$3:$W$12,8,TRUE))","v":""},{"$f":"IF($F154=\"\",\"\",VLOOKUP($F154,判定式!$Q$3:$W$12,7,TRUE))","v":""},{"$f":"IF($G154=\"\",\"\",VLOOKUP($G154,判定式!$R$3:$W$12,6,TRUE))","v":""},{"$f":"IF($H154=\"\",\"\",VLOOKUP($H154,判定式!$S$3:$W$12,5,TRUE))","v":""},{"$f":"IF($I154=\"\",\"\",VLOOKUP($I154,判定式!$V$3:$W$12,2,TRUE))","v":""},{"$f":"IF($J154=\"\",\"\",VLOOKUP($J154,判定式!$Y$3:$Z$12,2,TRUE))","v":""},{"$f":"IF($K154=\"\",\"\",VLOOKUP($K154,判定式!$T$3:$W$12,4,TRUE))","v":""},{"$f":"IF($L154=\"\",\"\",VLOOKUP($L154,判定式!$U$3:$W$12,3,TRUE))","v":""},"",{"$f":"IF(ISNUMBER(D154),\"判定外\",IF(C154=6,VLOOKUP(U154,判定式!$C$15:I$19,7,TRUE),IF(C154=7,VLOOKUP(U154,判定式!$D$15:I$19,6,TRUE),IF(C154=8,VLOOKUP(U154,判定式!$E$15:I$19,5,TRUE),IF(C154=9,VLOOKUP(U154,判定式!$F$15:I$19,4,TRUE),IF(C154=10,VLOOKUP(U154,判定式!$G$15:I$19,3,TRUE),IF(C154=11,VLOOKUP(U154,判定式!$H$15:I$19,2,TRUE))))))))","v":false}]
[6,null,null,"-",null,null,null,null,null,null,null,null,{"$f":"IF($E155=\"\",\"\",VLOOKUP($E155,判定式!$P$3:$W$12,8,TRUE))","v":""},{"$f":"IF($F155=\"\",\"\",VLOOKUP($F155,判定式!$Q$3:$W$12,7,TRUE))","v":""},{"$f":"IF($G155=\"\",\"\",VLOOKUP($G155,判定式!$R$3:$W$12,6,TRUE))","v":""},{"$f":"IF($H155=\"\",\"\",VLOOKUP($H155,判定式!$S$3:$W$12,5,TRUE))","v":""},{"$f":"IF($I155=\"\",\"\",VLOOKUP($I155,判定式!$V$3:$W$12,2,TRUE))","v":""},{"$f":"IF($J155=\"\",\"\",VLOOKUP($J155,判定式!$Y$3:$Z$12,2,TRUE))","v":""},{"$f":"IF($K155=\"\",\"\",VLOOKUP($K155,判定式!$T$3:$W$12,4,TRUE))","v":""},{"$f":"IF($L155=\"\",\"\",VLOOKUP($L155,判定式!$U$3:$W$12,3,TRUE))","v":""},"",{"$f":"IF(ISNUMBER(D155),\"判定外\",IF(C155=6,VLOOKUP(U155,判定式!$C$15:I$19,7,TRUE),IF(C155=7,VLOOKUP(U155,判定式!$D$15:I$19,6,TRUE),IF(C155=8,VLOOKUP(U155,判定式!$E$15:I$19,5,TRUE),IF(C155=9,VLOOKUP(U155,判定式!$F$15:I$19,4,TRUE),IF(C155=10,VLOOKUP(U155,判定式!$G$15:I$19,3,TRUE),IF(C155=11,VLOOKUP(U155,判定式!$H$15:I$19,2,TRUE))))))))","v":false}]
[7,null,null,"-",null,null,null,null,null,null,null,null,{"$f":"IF($E156=\"\",\"\",VLOOKUP($E156,判定式!$P$3:$W$12,8,TRUE))","v":""},{"$f":"IF($F156=\"\",\"\",VLOOKUP($F156,判定式!$Q$3:$W$12,7,TRUE))","v":""},{"$f":"IF($G156=\"\",\"\",VLOOKUP($G156,判定式!$R$3:$W$12,6,TRUE))","v":""},{"$f":"IF($H156=\"\",\"\",VLOOKUP($H156,判定式!$S$3:$W$12,5,TRUE))","v":""},{"$f":"IF($I156=\"\",\"\",VLOOKUP($I156,判定式!$V$3:$W$12,2,TRUE))","v":""},{"$f":"IF($J156=\"\",\"\",VLOOKUP($J156,判定式!$Y$3:$Z$12,2,TRUE))","v":""},{"$f":"IF($K156=\"\",\"\",VLOOKUP($K156,判定式!$T$3:$W$12,4,TRUE))","v":""},{"$f":"IF($L156=\"\",\"\",VLOOKUP($L156,判定式!$U$3:$W$12,3,TRUE))","v":""},"",{"$f":"IF(ISNUMBER(D156),\"判定外\",IF(C156=6,VLOOKUP(U156,判定式!$C$15:I$19,7,TRUE),IF(C156=7,VLOOKUP(U156,判定式!$D$15:I$19,6,TRUE),IF(C156=8,VLOOKUP(U156,判定式!$E$15:I$19,5,TRUE),IF(C156=9,VLOOKUP(U156,判定式!$F$15:I$19,4,TRUE),IF(C156=10,VLOOKUP(U156,判定式!$G$15:I$19,3,TRUE),IF(C156=11,VLOOKUP(U156,判定式!$H$15:I$19,2,TRUE))))))))","v":false}]
[8,null,null,"-",null,null,null,null,null,null,null,null,{"$f":"IF($E157=\"\",\"\",VLOOKUP($E157,判定式!$P$3:$W$12,8,TRUE))","v":""},{"$f":"IF($F157=\"\",\"\",VLOOKUP($F157,判定式!$Q$3:$W$12,7,TRUE))","v":""},{"$f":"IF($G157=\"\",\"\",VLOOKUP($G157,判定式!$R$3:$W$12,6,TRUE))","v":""},{"$f":"IF($H157=\"\",\"\",VLOOKUP($H157,判定式!$S$3:$W$12,5,TRUE))","v":""},{"$f":"IF($I157=\"\",\"\",VLOOKUP($I157,判定式!$V$3:$W$12,2,TRUE))","v":""},{"$f":"IF($J157=\"\",\"\",VLOOKUP($J157,判定式!$Y$3:$Z$12,2,TRUE))","v":""},{"$f":"IF($K157=\"\",\"\",VLOOKUP($K157,判定式!$T$3:$W$12,4,TRUE))","v":""},{"$f":"IF($L157=\"\",\"\",VLOOKUP($L157,判定式!$U$3:$W$12,3,TRUE))","v":""},"",{"$f":"IF(ISNUMBER(D157),\"判定外\",IF(C157=6,VLOOKUP(U157,判定式!$C$15:I$19,7,TRUE),IF(C157=7,VLOOKUP(U157,判定式!$D$15:I$19,6,TRUE),IF(C157=8,VLOOKUP(U157,判定式!$E$15:I$19,5,TRUE),IF(C157=9,VLOOKUP(U157,判定式!$F$15:I$19,4,TRUE),IF(C157=10,VLOOKUP(U157,判定式!$G$15:I$19,3,TRUE),IF(C157=11,VLOOKUP(U157,判定式!$H$15:I$19,2,TRUE))))))))","v":false}]
[9,null,null,"-",null,null,null,null,null,null,null,null,{"$f":"IF($E158=\"\",\"\",VLOOKUP($E158,判定式!$P$3:$W$12,8,TRUE))","v":""},{"$f":"IF($F158=\"\",\"\",VLOOKUP($F158,判定式!$Q$3:$W$12,7,TRUE))","v":""},{"$f":"IF($G158=\"\",\"\",VLOOKUP($G158,判定式!$R$3:$W$12,6,TRUE))","v":""},{"$f":"IF($H158=\"\",\"\",VLOOKUP($H158,判定式!$S$3:$W$12,5,TRUE))","v":""},{"$f":"IF($I158=\"\",\"\",VLOOKUP($I158,判定式!$V$3:$W$12,2,TRUE))","v":""},{"$f":"IF($J158=\"\",\"\",VLOOKUP($J158,判定式!$Y$3:$Z$12,2,TRUE))","v":""},{"$f":"IF($K158=\"\",\"\",VLOOKUP($K158,判定式!$T$3:$W$12,4,TRUE))","v":""},{"$f":"IF($L158=\"\",\"\",VLOOKUP($L158,判定式!$U$3:$W$12,3,TRUE))","v":""},"",{"$f":"IF(ISNUMBER(D158),\"判定外\",IF(C158=6,VLOOKUP(U158,判定式!$C$15:I$19,7,TRUE),IF(C158=7,VLOOKUP(U158,判定式!$D$15:I$19,6,TRUE),IF(C158=8,VLOOKUP(U158,判定式!$E$15:I$19,5,TRUE),IF(C158=9,VLOOKUP(U158,判定式!$F$15:I$19,4,TRUE),IF(C158=10,VLOOKUP(U158,判定式!$G$15:I$19,3,TRUE),IF(C158=11,VLOOKUP(U158,判定式!$H$15:I$19,2,TRUE))))))))","v":false}]
[10,null,null,"-",null,null,null,null,null,null,null,null,{"$f":"IF($E159=\"\",\"\",VLOOKUP($E159,判定式!$P$3:$W$12,8,TRUE))","v":""},{"$f":"IF($F159=\"\",\"\",VLOOKUP($F159,判定式!$Q$3:$W$12,7,TRUE))","v":""},{"$f":"IF($G159=\"\",\"\",VLOOKUP($G159,判定式!$R$3:$W$12,6,TRUE))","v":""},{"$f":"IF($H159=\"\",\"\",VLOOKUP($H159,判定式!$S$3:$W$12,5,TRUE))","v":""},{"$f":"IF($I159=\"\",\"\",VLOOKUP($I159,判定式!$V$3:$W$12,2,TRUE))","v":""},{"$f":"IF($J159=\"\",\"\",VLOOKUP($J159,判定式!$Y$3:$Z$12,2,TRUE))","v":""},{"$f":"IF($K159=\"\",\"\",VLOOKUP($K159,判定式!$T$3:$W$12,4,TRUE))","v":""},{"$f":"IF($L159=\"\",\"\",VLOOKUP($L159,判定式!$U$3:$W$12,3,TRUE))","v":""},"",{"$f":"IF(ISNUMBER(D159),\"判定外\",IF(C159=6,VLOOKUP(U159,判定式!$C$15:I$19,7,TRUE),IF(C159=7,VLOOKUP(U159,判定式!$D$15:I$19,6,TRUE),IF(C159=8,VLOOKUP(U159,判定式!$E$15:I$19,5,TRUE),IF(C159=9,VLOOKUP(U159,判定式!$F$15:I$19,4,TRUE),IF(C159=10,VLOOKUP(U159,判定式!$G$15:I$19,3,TRUE),IF(C159=11,VLOOKUP(U159,判定式!$H$15:I$19,2,TRUE))))))))","v":false}]
[11,null,null,"-",null,null,null,null,null,null,null,null,{"$f":"IF($E160=\"\",\"\",VLOOKUP($E160,判定式!$P$3:$W$12,8,TRUE))","v":""},{"$f":"IF($F160=\"\",\"\",VLOOKUP($F160,判定式!$Q$3:$W$12,7,TRUE))","v":""},{"$f":"IF($G160=\"\",\"\",VLOOKUP($G160,判定式!$R$3:$W$12,6,TRUE))","v":""},{"$f":"IF($H160=\"\",\"\",VLOOKUP($H160,判定式!$S$3:$W$12,5,TRUE))","v":""},{"$f":"IF($I160=\"\",\"\",VLOOKUP($I160,判定式!$V$3:$W$12,2,TRUE))","v":""},{"$f":"IF($J160=\"\",\"\",VLOOKUP($J160,判定式!$Y$3:$Z$12,2,TRUE))","v":""},{"$f":"IF($K160=\"\",\"\",VLOOKUP($K160,判定式!$T$3:$W$12,4,TRUE))","v":""},{"$f":"IF($L160=\"\",\"\",VLOOKUP($L160,判定式!$U$3:$W$12,3,TRUE))","v":""},"",{"$f":"IF(ISNUMBER(D160),\"判定外\",IF(C160=6,VLOOKUP(U160,判定式!$C$15:I$19,7,TRUE),IF(C160=7,VLOOKUP(U160,判定式!$D$15:I$19,6,TRUE),IF(C160=8,VLOOKUP(U160,判定式!$E$15:I$19,5,TRUE),IF(C160=9,VLOOKUP(U160,判定式!$F$15:I$19,4,TRUE),IF(C160=10,VLOOKUP(U160,判定式!$G$15:I$19,3,TRUE),IF(C160=11,VLOOKUP(U160,判定式!$H$15:I$19,2,TRUE))))))))","v":false}]
[12,null,null,"-",null,null,null,null,null,null,null,null,{"$f":"IF($E161=\"\",\"\",VLOOKUP($E161,判定式!$P$3:$W$12,8,TRUE))","v":""},{"$f":"IF($F161=\"\",\"\",VLOOKUP($F161,判定式!$Q$3:$W$12,7,TRUE))","v":""},{"$f":"IF($G161=\"\",\"\",VLOOKUP($G161,判定式!$R$3:$W$12,6,TRUE))","v":""},{"$f":"IF($H161=\"\",\"\",VLOOKUP($H161,判定式!$S$3:$W$12,5,TRUE))","v":""},{"$f":"IF($I161=\"\",\"\",VLOOKUP($I161,判定式!$V$3:$W$12,2,TRUE))","v":""},{"$f":"IF($J161=\"\",\"\",VLOOKUP($J161,判定式!$Y$3:$Z$12,2,TRUE))","v":""},{"$f":"IF($K161=\"\",\"\",VLOOKUP($K161,判定式!$T$3:$W$12,4,TRUE))","v":""},{"$f":"IF($L161=\"\",\"\",VLOOKUP($L161,判定式!$U$3:$W$12,3,TRUE))","v":""},"",{"$f":"IF(ISNUMBER(D161),\"判定外\",IF(C161=6,VLOOKUP(U161,判定式!$C$15:I$19,7,TRUE),IF(C161=7,VLOOKUP(U161,判定式!$D$15:I$19,6,TRUE),IF(C161=8,VLOOKUP(U161,判定式!$E$15:I$19,5,TRUE),IF(C161=9,VLOOKUP(U161,判定式!$F$15:I$19,4,TRUE),IF(C161=10,VLOOKUP(U161,判定式!$G$15:I$19,3,TRUE),IF(C161=11,VLOOKUP(U161,判定式!$H$15:I$19,2,TRUE))))))))","v":false}]
[13,null,null,"-",null,null,null,null,null,null,null,null,{"$f":"IF($E162=\"\",\"\",VLOOKUP($E162,判定式!$P$3:$W$12,8,TRUE))","v":""},{"$f":"IF($F162=\"\",\"\",VLOOKUP($F162,判定式!$Q$3:$W$12,7,TRUE))","v":""},{"$f":"IF($G162=\"\",\"\",VLOOKUP($G162,判定式!$R$3:$W$12,6,TRUE))","v":""},{"$f":"IF($H162=\"\",\"\",VLOOKUP($H162,判定式!$S$3:$W$12,5,TRUE))","v":""},{"$f":"IF($I162=\"\",\"\",VLOOKUP($I162,判定式!$V$3:$W$12,2,TRUE))","v":""},{"$f":"IF($J162=\"\",\"\",VLOOKUP($J162,判定式!$Y$3:$Z$12,2,TRUE))","v":""},{"$f":"IF($K162=\"\",\"\",VLOOKUP($K162,判定式!$T$3:$W$12,4,TRUE))","v":""},{"$f":"IF($L162=\"\",\"\",VLOOKUP($L162,判定式!$U$3:$W$12,3,TRUE))","v":""},"",{"$f":"IF(ISNUMBER(D162),\"判定外\",IF(C162=6,VLOOKUP(U162,判定式!$C$15:I$19,7,TRUE),IF(C162=7,VLOOKUP(U162,判定式!$D$15:I$19,6,TRUE),IF(C162=8,VLOOKUP(U162,判定式!$E$15:I$19,5,TRUE),IF(C162=9,VLOOKUP(U162,判定式!$F$15:I$19,4,TRUE),IF(C162=10,VLOOKUP(U162,判定式!$G$15:I$19,3,TRUE),IF(C162=11,VLOOKUP(U162,判定式!$H$15:I$19,2,TRUE))))))))","v":false}]
[14,null,null,"-",null,null,null,null,null,null,null,null,{"$f":"IF($E163=\"\",\"\",VLOOKUP($E163,判定式!$P$3:$W$12,8,TRUE))","v":""},{"$f":"IF($F163=\"\",\"\",VLOOKUP($F163,判定式!$Q$3:$W$12,7,TRUE))","v":""},{"$f":"IF($G163=\"\",\"\",VLOOKUP($G163,判定式!$R$3:$W$12,6,TRUE))","v":""},{"$f":"IF($H163=\"\",\"\",VLOOKUP($H163,判定式!$S$3:$W$12,5,TRUE))","v":""},{"$f":"IF($I163=\"\",\"\",VLOOKUP($I163,判定式!$V$3:$W$12,2,TRUE))","v":""},{"$f":"IF($J163=\"\",\"\",VLOOKUP($J163,判定式!$Y$3:$Z$12,2,TRUE))","v":""},{"$f":"IF($K163=\"\",\"\",VLOOKUP($K163,判定式!$T$3:$W$12,4,TRUE))","v":""},{"$f":"IF($L163=\"\",\"\",VLOOKUP($L163,判定式!$U$3:$W$12,3,TRUE))","v":""},"",{"$f":"IF(ISNUMBER(D163),\"判定外\",IF(C163=6,VLOOKUP(U163,判定式!$C$15:I$19,7,TRUE),IF(C163=7,VLOOKUP(U163,判定式!$D$15:I$19,6,TRUE),IF(C163=8,VLOOKUP(U163,判定式!$E$15:I$19,5,TRUE),IF(C163=9,VLOOKUP(U163,判定式!$F$15:I$19,4,TRUE),IF(C163=10,VLOOKUP(U163,判定式!$G$15:I$19,3,TRUE),IF(C163=11,VLOOKUP(U163,判定式!$H$15:I$19,2,TRUE))))))))","v":false}]
[15,null,null,"-",null,null,null,null,null,null,null,null,{"$f":"IF($E164=\"\",\"\",VLOOKUP($E164,判定式!$P$3:$W$12,8,TRUE))","v":""},{"$f":"IF($F164=\"\",\"\",VLOOKUP($F164,判定式!$Q$3:$W$12,7,TRUE))","v":""},{"$f":"IF($G164=\"\",\"\",VLOOKUP($G164,判定式!$R$3:$W$12,6,TRUE))","v":""},{"$f":"IF($H164=\"\",\"\",VLOOKUP($H164,判定式!$S$3:$W$12,5,TRUE))","v":""},{"$f":"IF($I164=\"\",\"\",VLOOKUP($I164,判定式!$V$3:$W$12,2,TRUE))","v":""},{"$f":"IF($J164=\"\",\"\",VLOOKUP($J164,判定式!$Y$3:$Z$12,2,TRUE))","v":""},{"$f":"IF($K164=\"\",\"\",VLOOKUP($K164,判定式!$T$3:$W$12,4,TRUE))","v":""},{"$f":"IF($L164=\"\",\"\",VLOOKUP($L164,判定式!$U$3:$W$12,3,TRUE))","v":""},"",{"$f":"IF(ISNUMBER(D164),\"判定外\",IF(C164=6,VLOOKUP(U164,判定式!$C$15:I$19,7,TRUE),IF(C164=7,VLOOKUP(U164,判定式!$D$15:I$19,6,TRUE),IF(C164=8,VLOOKUP(U164,判定式!$E$15:I$19,5,TRUE),IF(C164=9,VLOOKUP(U164,判定式!$F$15:I$19,4,TRUE),IF(C164=10,VLOOKUP(U164,判定式!$G$15:I$19,3,TRUE),IF(C164=11,VLOOKUP(U164,判定式!$H$15:I$19,2,TRUE))))))))","v":false}]
[16,null,null,"-",null,null,null,null,null,null,null,null,{"$f":"IF($E165=\"\",\"\",VLOOKUP($E165,判定式!$P$3:$W$12,8,TRUE))","v":""},{"$f":"IF($F165=\"\",\"\",VLOOKUP($F165,判定式!$Q$3:$W$12,7,TRUE))","v":""},{"$f":"IF($G165=\"\",\"\",VLOOKUP($G165,判定式!$R$3:$W$12,6,TRUE))","v":""},{"$f":"IF($H165=\"\",\"\",VLOOKUP($H165,判定式!$S$3:$W$12,5,TRUE))","v":""},{"$f":"IF($I165=\"\",\"\",VLOOKUP($I165,判定式!$V$3:$W$12,2,TRUE))","v":""},{"$f":"IF($J165=\"\",\"\",VLOOKUP($J165,判定式!$Y$3:$Z$12,2,TRUE))","v":""},{"$f":"IF($K165=\"\",\"\",VLOOKUP($K165,判定式!$T$3:$W$12,4,TRUE))","v":""},{"$f":"IF($L165=\"\",\"\",VLOOKUP($L165,判定式!$U$3:$W$12,3,TRUE))","v":""},"",{"$f":"IF(ISNUMBER(D165),\"判定外\",IF(C165=6,VLOOKUP(U165,判定式!$C$15:I$19,7,TRUE),IF(C165=7,VLOOKUP(U165,判定式!$D$15:I$19,6,TRUE),IF(C165=8,VLOOKUP(U165,判定式!$E$15:I$19,5,TRUE),IF(C165=9,VLOOKUP(U165,判定式!$F$15:I$19,4,TRUE),IF(C165=10,VLOOKUP(U165,判定式!$G$15:I$19,3,TRUE),IF(C165=11,VLOOKUP(U165,判定式!$H$15:I$19,2,TRUE))))))))","v":false}]
[17,null,null,"-",null,null,null,null,null,null,null,null,{"$f":"IF($E166=\"\",\"\",VLOOKUP($E166,判定式!$P$3:$W$12,8,TRUE))","v":""},{"$f":"IF($F166=\"\",\"\",VLOOKUP($F166,判定式!$Q$3:$W$12,7,TRUE))","v":""},{"$f":"IF($G166=\"\",\"\",VLOOKUP($G166,判定式!$R$3:$W$12,6,TRUE))","v":""},{"$f":"IF($H166=\"\",\"\",VLOOKUP($H166,判定式!$S$3:$W$12,5,TRUE))","v":""},{"$f":"IF($I166=\"\",\"\",VLOOKUP($I166,判定式!$V$3:$W$12,2,TRUE))","v":""},{"$f":"IF($J166=\"\",\"\",VLOOKUP($J166,判定式!$Y$3:$Z$12,2,TRUE))","v":""},{"$f":"IF($K166=\"\",\"\",VLOOKUP($K166,判定式!$T$3:$W$12,4,TRUE))","v":""},{"$f":"IF($L166=\"\",\"\",VLOOKUP($L166,判定式!$U$3:$W$12,3,TRUE))","v":""},"",{"$f":"IF(ISNUMBER(D166),\"判定外\",IF(C166=6,VLOOKUP(U166,判定式!$C$15:I$19,7,TRUE),IF(C166=7,VLOOKUP(U166,判定式!$D$15:I$19,6,TRUE),IF(C166=8,VLOOKUP(U166,判定式!$E$15:I$19,5,TRUE),IF(C166=9,VLOOKUP(U166,判定式!$F$15:I$19,4,TRUE),IF(C166=10,VLOOKUP(U166,判定式!$G$15:I$19,3,TRUE),IF(C166=11,VLOOKUP(U166,判定式!$H$15:I$19,2,TRUE))))))))","v":false}]
[18,null,null,"-",null,null,null,null,null,null,null,null,{"$f":"IF($E167=\"\",\"\",VLOOKUP($E167,判定式!$P$3:$W$12,8,TRUE))","v":""},{"$f":"IF($F167=\"\",\"\",VLOOKUP($F167,判定式!$Q$3:$W$12,7,TRUE))","v":""},{"$f":"IF($G167=\"\",\"\",VLOOKUP($G167,判定式!$R$3:$W$12,6,TRUE))","v":""},{"$f":"IF($H167=\"\",\"\",VLOOKUP($H167,判定式!$S$3:$W$12,5,TRUE))","v":""},{"$f":"IF($I167=\"\",\"\",VLOOKUP($I167,判定式!$V$3:$W$12,2,TRUE))","v":""},{"$f":"IF($J167=\"\",\"\",VLOOKUP($J167,判定式!$Y$3:$Z$12,2,TRUE))","v":""},{"$f":"IF($K167=\"\",\"\",VLOOKUP($K167,判定式!$T$3:$W$12,4,TRUE))","v":""},{"$f":"IF($L167=\"\",\"\",VLOOKUP($L167,判定式!$U$3:$W$12,3,TRUE))","v":""},"",{"$f":"IF(ISNUMBER(D167),\"判定外\",IF(C167=6,VLOOKUP(U167,判定式!$C$15:I$19,7,TRUE),IF(C167=7,VLOOKUP(U167,判定式!$D$15:I$19,6,TRUE),IF(C167=8,VLOOKUP(U167,判定式!$E$15:I$19,5,TRUE),IF(C167=9,VLOOKUP(U167,判定式!$F$15:I$19,4,TRUE),IF(C167=10,VLOOKUP(U167,判定式!$G$15:I$19,3,TRUE),IF(C167=11,VLOOKUP(U167,判定式!$H$15:I$19,2,TRUE))))))))","v":false}]
[19,null,null,"-",null,null,null,null,null,null,null,null,{"$f":"IF($E168=\"\",\"\",VLOOKUP($E168,判定式!$P$3:$W$12,8,TRUE))","v":""},{"$f":"IF($F168=\"\",\"\",VLOOKUP($F168,判定式!$Q$3:$W$12,7,TRUE))","v":""},{"$f":"IF($G168=\"\",\"\",VLOOKUP($G168,判定式!$R$3:$W$12,6,TRUE))","v":""},{"$f":"IF($H168=\"\",\"\",VLOOKUP($H168,判定式!$S$3:$W$12,5,TRUE))","v":""},{"$f":"IF($I168=\"\",\"\",VLOOKUP($I168,判定式!$V$3:$W$12,2,TRUE))","v":""},{"$f":"IF($J168=\"\",\"\",VLOOKUP($J168,判定式!$Y$3:$Z$12,2,TRUE))","v":""},{"$f":"IF($K168=\"\",\"\",VLOOKUP($K168,判定式!$T$3:$W$12,4,TRUE))","v":""},{"$f":"IF($L168=\"\",\"\",VLOOKUP($L168,判定式!$U$3:$W$12,3,TRUE))","v":""},"",{"$f":"IF(ISNUMBER(D168),\"判定外\",IF(C168=6,VLOOKUP(U168,判定式!$C$15:I$19,7,TRUE),IF(C168=7,VLOOKUP(U168,判定式!$D$15:I$19,6,TRUE),IF(C168=8,VLOOKUP(U168,判定式!$E$15:I$19,5,TRUE),IF(C168=9,VLOOKUP(U168,判定式!$F$15:I$19,4,TRUE),IF(C168=10,VLOOKUP(U168,判定式!$G$15:I$19,3,TRUE),IF(C168=11,VLOOKUP(U168,判定式!$H$15:I$19,2,TRUE))))))))","v":false}]
[20,null,null,"-",null,null,null,null,null,null,null,null,{"$f":"IF($E169=\"\",\"\",VLOOKUP($E169,判定式!$P$3:$W$12,8,TRUE))","v":""},{"$f":"IF($F169=\"\",\"\",VLOOKUP($F169,判定式!$Q$3:$W$12,7,TRUE))","v":""},{"$f":"IF($G169=\"\",\"\",VLOOKUP($G169,判定式!$R$3:$W$12,6,TRUE))","v":""},{"$f":"IF($H169=\"\",\"\",VLOOKUP($H169,判定式!$S$3:$W$12,5,TRUE))","v":""},{"$f":"IF($I169=\"\",\"\",VLOOKUP($I169,判定式!$V$3:$W$12,2,TRUE))","v":""},{"$f":"IF($J169=\"\",\"\",VLOOKUP($J169,判定式!$Y$3:$Z$12,2,TRUE))","v":""},{"$f":"IF($K169=\"\",\"\",VLOOKUP($K169,判定式!$T$3:$W$12,4,TRUE))","v":""},{"$f":"IF($L169=\"\",\"\",VLOOKUP($L169,判定式!$U$3:$W$12,3,TRUE))","v":""},"",{"$f":"IF(ISNUMBER(D169),\"判定外\",IF(C169=6,VLOOKUP(U169,判定式!$C$15:I$19,7,TRUE),IF(C169=7,VLOOKUP(U169,判定式!$D$15:I$19,6,TRUE),IF(C169=8,VLOOKUP(U169,判定式!$E$15:I$19,5,TRUE),IF(C169=9,VLOOKUP(U169,判定式!$F$15:I$19,4,TRUE),IF(C169=10,VLOOKUP(U169,判定式!$G$15:I$19,3,TRUE),IF(C169=11,VLOOKUP(U169,判定式!$H$15:I$19,2,TRUE))))))))","v":false}]
[21,null,null,"-",null,null,null,null,null,null,null,null,{"$f":"IF($E170=\"\",\"\",VLOOKUP($E170,判定式!$P$3:$W$12,8,TRUE))","v":""},{"$f":"IF($F170=\"\",\"\",VLOOKUP($F170,判定式!$Q$3:$W$12,7,TRUE))","v":""},{"$f":"IF($G170=\"\",\"\",VLOOKUP($G170,判定式!$R$3:$W$12,6,TRUE))","v":""},{"$f":"IF($H170=\"\",\"\",VLOOKUP($H170,判定式!$S$3:$W$12,5,TRUE))","v":""},{"$f":"IF($I170=\"\",\"\",VLOOKUP($I170,判定式!$V$3:$W$12,2,TRUE))","v":""},{"$f":"IF($J170=\"\",\"\",VLOOKUP($J170,判定式!$Y$3:$Z$12,2,TRUE))","v":""},{"$f":"IF($K170=\"\",\"\",VLOOKUP($K170,判定式!$T$3:$W$12,4,TRUE))","v":""},{"$f":"IF($L170=\"\",\"\",VLOOKUP($L170,判定式!$U$3:$W$12,3,TRUE))","v":""},"",{"$f":"IF(ISNUMBER(D170),\"判定外\",IF(C170=6,VLOOKUP(U170,判定式!$C$15:I$19,7,TRUE),IF(C170=7,VLOOKUP(U170,判定式!$D$15:I$19,6,TRUE),IF(C170=8,VLOOKUP(U170,判定式!$E$15:I$19,5,TRUE),IF(C170=9,VLOOKUP(U170,判定式!$F$15:I$19,4,TRUE),IF(C170=10,VLOOKUP(U170,判定式!$G$15:I$19,3,TRUE),IF(C170=11,VLOOKUP(U170,判定式!$H$15:I$19,2,TRUE))))))))","v":false}]
[22,null,null,"-",null,null,null,null,null,null,null,null,{"$f":"IF($E171=\"\",\"\",VLOOKUP($E171,判定式!$P$3:$W$12,8,TRUE))","v":""},{"$f":"IF($F171=\"\",\"\",VLOOKUP($F171,判定式!$Q$3:$W$12,7,TRUE))","v":""},{"$f":"IF($G171=\"\",\"\",VLOOKUP($G171,判定式!$R$3:$W$12,6,TRUE))","v":""},{"$f":"IF($H171=\"\",\"\",VLOOKUP($H171,判定式!$S$3:$W$12,5,TRUE))","v":""},{"$f":"IF($I171=\"\",\"\",VLOOKUP($I171,判定式!$V$3:$W$12,2,TRUE))","v":""},{"$f":"IF($J171=\"\",\"\",VLOOKUP($J171,判定式!$Y$3:$Z$12,2,TRUE))","v":""},{"$f":"IF($K171=\"\",\"\",VLOOKUP($K171,判定式!$T$3:$W$12,4,TRUE))","v":""},{"$f":"IF($L171=\"\",\"\",VLOOKUP($L171,判定式!$U$3:$W$12,3,TRUE))","v":""},"",{"$f":"IF(ISNUMBER(D171),\"判定外\",IF(C171=6,VLOOKUP(U171,判定式!$C$15:I$19,7,TRUE),IF(C171=7,VLOOKUP(U171,判定式!$D$15:I$19,6,TRUE),IF(C171=8,VLOOKUP(U171,判定式!$E$15:I$19,5,TRUE),IF(C171=9,VLOOKUP(U171,判定式!$F$15:I$19,4,TRUE),IF(C171=10,VLOOKUP(U171,判定式!$G$15:I$19,3,TRUE),IF(C171=11,VLOOKUP(U171,判定式!$H$15:I$19,2,TRUE))))))))","v":false}]
[23,null,null,"-",null,null,null,null,null,null,null,null,{"$f":"IF($E172=\"\",\"\",VLOOKUP($E172,判定式!$P$3:$W$12,8,TRUE))","v":""},{"$f":"IF($F172=\"\",\"\",VLOOKUP($F172,判定式!$Q$3:$W$12,7,TRUE))","v":""},{"$f":"IF($G172=\"\",\"\",VLOOKUP($G172,判定式!$R$3:$W$12,6,TRUE))","v":""},{"$f":"IF($H172=\"\",\"\",VLOOKUP($H172,判定式!$S$3:$W$12,5,TRUE))","v":""},{"$f":"IF($I172=\"\",\"\",VLOOKUP($I172,判定式!$V$3:$W$12,2,TRUE))","v":""},{"$f":"IF($J172=\"\",\"\",VLOOKUP($J172,判定式!$Y$3:$Z$12,2,TRUE))","v":""},{"$f":"IF($K172=\"\",\"\",VLOOKUP($K172,判定式!$T$3:$W$12,4,TRUE))","v":""},{"$f":"IF($L172=\"\",\"\",VLOOKUP($L172,判定式!$U$3:$W$12,3,TRUE))","v":""},"",{"$f":"IF(ISNUMBER(D172),\"判定外\",IF(C172=6,VLOOKUP(U172,判定式!$C$15:I$19,7,TRUE),IF(C172=7,VLOOKUP(U172,判定式!$D$15:I$19,6,TRUE),IF(C172=8,VLOOKUP(U172,判定式!$E$15:I$19,5,TRUE),IF(C172=9,VLOOKUP(U172,判定式!$F$15:I$19,4,TRUE),IF(C172=10,VLOOKUP(U172,判定式!$G$15:I$19,3,TRUE),IF(C172=11,VLOOKUP(U172,判定式!$H$15:I$19,2,TRUE))))))))","v":false}]
[24,null,null,"-",null,null,null,null,null,null,null,null,{"$f":"IF($E173=\"\",\"\",VLOOKUP($E173,判定式!$P$3:$W$12,8,TRUE))","v":""},{"$f":"IF($F173=\"\",\"\",VLOOKUP($F173,判定式!$Q$3:$W$12,7,TRUE))","v":""},{"$f":"IF($G173=\"\",\"\",VLOOKUP($G173,判定式!$R$3:$W$12,6,TRUE))","v":""},{"$f":"IF($H173=\"\",\"\",VLOOKUP($H173,判定式!$S$3:$W$12,5,TRUE))","v":""},{"$f":"IF($I173=\"\",\"\",VLOOKUP($I173,判定式!$V$3:$W$12,2,TRUE))","v":""},{"$f":"IF($J173=\"\",\"\",VLOOKUP($J173,判定式!$Y$3:$Z$12,2,TRUE))","v":""},{"$f":"IF($K173=\"\",\"\",VLOOKUP($K173,判定式!$T$3:$W$12,4,TRUE))","v":""},{"$f":"IF($L173=\"\",\"\",VLOOKUP($L173,判定式!$U$3:$W$12,3,TRUE))","v":""},"",{"$f":"IF(ISNUMBER(D173),\"判定外\",IF(C173=6,VLOOKUP(U173,判定式!$C$15:I$19,7,TRUE),IF(C173=7,VLOOKUP(U173,判定式!$D$15:I$19,6,TRUE),IF(C173=8,VLOOKUP(U173,判定式!$E$15:I$19,5,TRUE),IF(C173=9,VLOOKUP(U173,判定式!$F$15:I$19,4,TRUE),IF(C173=10,VLOOKUP(U173,判定式!$G$15:I$19,3,TRUE),IF(C173=11,VLOOKUP(U173,判定式!$H$15:I$19,2,TRUE))))))))","v":false}]
[25,null,null,"-",null,null,null,null,null,null,null,null,{"$f":"IF($E174=\"\",\"\",VLOOKUP($E174,判定式!$P$3:$W$12,8,TRUE))","v":""},{"$f":"IF($F174=\"\",\"\",VLOOKUP($F174,判定式!$Q$3:$W$12,7,TRUE))","v":""},{"$f":"IF($G174=\"\",\"\",VLOOKUP($G174,判定式!$R$3:$W$12,6,TRUE))","v":""},{"$f":"IF($H174=\"\",\"\",VLOOKUP($H174,判定式!$S$3:$W$12,5,TRUE))","v":""},{"$f":"IF($I174=\"\",\"\",VLOOKUP($I174,判定式!$V$3:$W$12,2,TRUE))","v":""},{"$f":"IF($J174=\"\",\"\",VLOOKUP($J174,判定式!$Y$3:$Z$12,2,TRUE))","v":""},{"$f":"IF($K174=\"\",\"\",VLOOKUP($K174,判定式!$T$3:$W$12,4,TRUE))","v":""},{"$f":"IF($L174=\"\",\"\",VLOOKUP($L174,判定式!$U$3:$W$12,3,TRUE))","v":""},"",{"$f":"IF(ISNUMBER(D174),\"判定外\",IF(C174=6,VLOOKUP(U174,判定式!$C$15:I$19,7,TRUE),IF(C174=7,VLOOKUP(U174,判定式!$D$15:I$19,6,TRUE),IF(C174=8,VLOOKUP(U174,判定式!$E$15:I$19,5,TRUE),IF(C174=9,VLOOKUP(U174,判定式!$F$15:I$19,4,TRUE),IF(C174=10,VLOOKUP(U174,判定式!$G$15:I$19,3,TRUE),IF(C174=11,VLOOKUP(U174,判定式!$H$15:I$19,2,TRUE))))))))","v":false}]
[26,null,null,"-",null,null,null,null,null,null,null,null,{"$f":"IF($E175=\"\",\"\",VLOOKUP($E175,判定式!$P$3:$W$12,8,TRUE))","v":""},{"$f":"IF($F175=\"\",\"\",VLOOKUP($F175,判定式!$Q$3:$W$12,7,TRUE))","v":""},{"$f":"IF($G175=\"\",\"\",VLOOKUP($G175,判定式!$R$3:$W$12,6,TRUE))","v":""},{"$f":"IF($H175=\"\",\"\",VLOOKUP($H175,判定式!$S$3:$W$12,5,TRUE))","v":""},{"$f":"IF($I175=\"\",\"\",VLOOKUP($I175,判定式!$V$3:$W$12,2,TRUE))","v":""},{"$f":"IF($J175=\"\",\"\",VLOOKUP($J175,判定式!$Y$3:$Z$12,2,TRUE))","v":""},{"$f":"IF($K175=\"\",\"\",VLOOKUP($K175,判定式!$T$3:$W$12,4,TRUE))","v":""},{"$f":"IF($L175=\"\",\"\",VLOOKUP($L175,判定式!$U$3:$W$12,3,TRUE))","v":""},"",{"$f":"IF(ISNUMBER(D175),\"判定外\",IF(C175=6,VLOOKUP(U175,判定式!$C$15:I$19,7,TRUE),IF(C175=7,VLOOKUP(U175,判定式!$D$15:I$19,6,TRUE),IF(C175=8,VLOOKUP(U175,判定式!$E$15:I$19,5,TRUE),IF(C175=9,VLOOKUP(U175,判定式!$F$15:I$19,4,TRUE),IF(C175=10,VLOOKUP(U175,判定式!$G$15:I$19,3,TRUE),IF(C175=11,VLOOKUP(U175,判定式!$H$15:I$19,2,TRUE))))))))","v":false}]
[27,null,null,"-",null,null,null,null,null,null,null,null,{"$f":"IF($E176=\"\",\"\",VLOOKUP($E176,判定式!$P$3:$W$12,8,TRUE))","v":""},{"$f":"IF($F176=\"\",\"\",VLOOKUP($F176,判定式!$Q$3:$W$12,7,TRUE))","v":""},{"$f":"IF($G176=\"\",\"\",VLOOKUP($G176,判定式!$R$3:$W$12,6,TRUE))","v":""},{"$f":"IF($H176=\"\",\"\",VLOOKUP($H176,判定式!$S$3:$W$12,5,TRUE))","v":""},{"$f":"IF($I176=\"\",\"\",VLOOKUP($I176,判定式!$V$3:$W$12,2,TRUE))","v":""},{"$f":"IF($J176=\"\",\"\",VLOOKUP($J176,判定式!$Y$3:$Z$12,2,TRUE))","v":""},{"$f":"IF($K176=\"\",\"\",VLOOKUP($K176,判定式!$T$3:$W$12,4,TRUE))","v":""},{"$f":"IF($L176=\"\",\"\",VLOOKUP($L176,判定式!$U$3:$W$12,3,TRUE))","v":""},"",{"$f":"IF(ISNUMBER(D176),\"判定外\",IF(C176=6,VLOOKUP(U176,判定式!$C$15:I$19,7,TRUE),IF(C176=7,VLOOKUP(U176,判定式!$D$15:I$19,6,TRUE),IF(C176=8,VLOOKUP(U176,判定式!$E$15:I$19,5,TRUE),IF(C176=9,VLOOKUP(U176,判定式!$F$15:I$19,4,TRUE),IF(C176=10,VLOOKUP(U176,判定式!$G$15:I$19,3,TRUE),IF(C176=11,VLOOKUP(U176,判定式!$H$15:I$19,2,TRUE))))))))","v":false}]
[28,null,null,"-",null,null,null,null,null,null,null,null,{"$f":"IF($E177=\"\",\"\",VLOOKUP($E177,判定式!$P$3:$W$12,8,TRUE))","v":""},{"$f":"IF($F177=\"\",\"\",VLOOKUP($F177,判定式!$Q$3:$W$12,7,TRUE))","v":""},{"$f":"IF($G177=\"\",\"\",VLOOKUP($G177,判定式!$R$3:$W$12,6,TRUE))","v":""},{"$f":"IF($H177=\"\",\"\",VLOOKUP($H177,判定式!$S$3:$W$12,5,TRUE))","v":""},{"$f":"IF($I177=\"\",\"\",VLOOKUP($I177,判定式!$V$3:$W$12,2,TRUE))","v":""},{"$f":"IF($J177=\"\",\"\",VLOOKUP($J177,判定式!$Y$3:$Z$12,2,TRUE))","v":""},{"$f":"IF($K177=\"\",\"\",VLOOKUP($K177,判定式!$T$3:$W$12,4,TRUE))","v":""},{"$f":"IF($L177=\"\",\"\",VLOOKUP($L177,判定式!$U$3:$W$12,3,TRUE))","v":""},"",{"$f":"IF(ISNUMBER(D177),\"判定外\",IF(C177=6,VLOOKUP(U177,判定式!$C$15:I$19,7,TRUE),IF(C177=7,VLOOKUP(U177,判定式!$D$15:I$19,6,TRUE),IF(C177=8,VLOOKUP(U177,判定式!$E$15:I$19,5,TRUE),IF(C177=9,VLOOKUP(U177,判定式!$F$15:I$19,4,TRUE),IF(C177=10,VLOOKUP(U177,判定式!$G$15:I$19,3,TRUE),IF(C177=11,VLOOKUP(U177,判定式!$H$15:I$19,2,TRUE))))))))","v":false}]
[29,null,null,"-",null,null,null,null,null,null,null,null,{"$f":"IF($E178=\"\",\"\",VLOOKUP($E178,判定式!$P$3:$W$12,8,TRUE))","v":""},{"$f":"IF($F178=\"\",\"\",VLOOKUP($F178,判定式!$Q$3:$W$12,7,TRUE))","v":""},{"$f":"IF($G178=\"\",\"\",VLOOKUP($G178,判定式!$R$3:$W$12,6,TRUE))","v":""},{"$f":"IF($H178=\"\",\"\",VLOOKUP($H178,判定式!$S$3:$W$12,5,TRUE))","v":""},{"$f":"IF($I178=\"\",\"\",VLOOKUP($I178,判定式!$V$3:$W$12,2,TRUE))","v":""},{"$f":"IF($J178=\"\",\"\",VLOOKUP($J178,判定式!$Y$3:$Z$12,2,TRUE))","v":""},{"$f":"IF($K178=\"\",\"\",VLOOKUP($K178,判定式!$T$3:$W$12,4,TRUE))","v":""},{"$f":"IF($L178=\"\",\"\",VLOOKUP($L178,判定式!$U$3:$W$12,3,TRUE))","v":""},"",{"$f":"IF(ISNUMBER(D178),\"判定外\",IF(C178=6,VLOOKUP(U178,判定式!$C$15:I$19,7,TRUE),IF(C178=7,VLOOKUP(U178,判定式!$D$15:I$19,6,TRUE),IF(C178=8,VLOOKUP(U178,判定式!$E$15:I$19,5,TRUE),IF(C178=9,VLOOKUP(U178,判定式!$F$15:I$19,4,TRUE),IF(C178=10,VLOOKUP(U178,判定式!$G$15:I$19,3,TRUE),IF(C178=11,VLOOKUP(U178,判定式!$H$15:I$19,2,TRUE))))))))","v":false}]
[30,null,null,"-",null,null,null,null,null,null,null,null,{"$f":"IF($E179=\"\",\"\",VLOOKUP($E179,判定式!$P$3:$W$12,8,TRUE))","v":""},{"$f":"IF($F179=\"\",\"\",VLOOKUP($F179,判定式!$Q$3:$W$12,7,TRUE))","v":""},{"$f":"IF($G179=\"\",\"\",VLOOKUP($G179,判定式!$R$3:$W$12,6,TRUE))","v":""},{"$f":"IF($H179=\"\",\"\",VLOOKUP($H179,判定式!$S$3:$W$12,5,TRUE))","v":""},{"$f":"IF($I179=\"\",\"\",VLOOKUP($I179,判定式!$V$3:$W$12,2,TRUE))","v":""},{"$f":"IF($J179=\"\",\"\",VLOOKUP($J179,判定式!$Y$3:$Z$12,2,TRUE))","v":""},{"$f":"IF($K179=\"\",\"\",VLOOKUP($K179,判定式!$T$3:$W$12,4,TRUE))","v":""},{"$f":"IF($L179=\"\",\"\",VLOOKUP($L179,判定式!$U$3:$W$12,3,TRUE))","v":""},"",{"$f":"IF(ISNUMBER(D179),\"判定外\",IF(C179=6,VLOOKUP(U179,判定式!$C$15:I$19,7,TRUE),IF(C179=7,VLOOKUP(U179,判定式!$D$15:I$19,6,TRUE),IF(C179=8,VLOOKUP(U179,判定式!$E$15:I$19,5,TRUE),IF(C179=9,VLOOKUP(U179,判定式!$F$15:I$19,4,TRUE),IF(C179=10,VLOOKUP(U179,判定式!$G$15:I$19,3,TRUE),IF(C179=11,VLOOKUP(U179,判定式!$H$15:I$19,2,TRUE))))))))","v":false}]
[31,null,null,"-",null,null,null,null,null,null,null,null,{"$f":"IF($E180=\"\",\"\",VLOOKUP($E180,判定式!$P$3:$W$12,8,TRUE))","v":""},{"$f":"IF($F180=\"\",\"\",VLOOKUP($F180,判定式!$Q$3:$W$12,7,TRUE))","v":""},{"$f":"IF($G180=\"\",\"\",VLOOKUP($G180,判定式!$R$3:$W$12,6,TRUE))","v":""},{"$f":"IF($H180=\"\",\"\",VLOOKUP($H180,判定式!$S$3:$W$12,5,TRUE))","v":""},{"$f":"IF($I180=\"\",\"\",VLOOKUP($I180,判定式!$V$3:$W$12,2,TRUE))","v":""},{"$f":"IF($J180=\"\",\"\",VLOOKUP($J180,判定式!$Y$3:$Z$12,2,TRUE))","v":""},{"$f":"IF($K180=\"\",\"\",VLOOKUP($K180,判定式!$T$3:$W$12,4,TRUE))","v":""},{"$f":"IF($L180=\"\",\"\",VLOOKUP($L180,判定式!$U$3:$W$12,3,TRUE))","v":""},"",{"$f":"IF(ISNUMBER(D180),\"判定外\",IF(C180=6,VLOOKUP(U180,判定式!$C$15:I$19,7,TRUE),IF(C180=7,VLOOKUP(U180,判定式!$D$15:I$19,6,TRUE),IF(C180=8,VLOOKUP(U180,判定式!$E$15:I$19,5,TRUE),IF(C180=9,VLOOKUP(U180,判定式!$F$15:I$19,4,TRUE),IF(C180=10,VLOOKUP(U180,判定式!$G$15:I$19,3,TRUE),IF(C180=11,VLOOKUP(U180,判定式!$H$15:I$19,2,TRUE))))))))","v":false}]
[32,null,null,"-",null,null,null,null,null,null,null,null,{"$f":"IF($E181=\"\",\"\",VLOOKUP($E181,判定式!$P$3:$W$12,8,TRUE))","v":""},{"$f":"IF($F181=\"\",\"\",VLOOKUP($F181,判定式!$Q$3:$W$12,7,TRUE))","v":""},{"$f":"IF($G181=\"\",\"\",VLOOKUP($G181,判定式!$R$3:$W$12,6,TRUE))","v":""},{"$f":"IF($H181=\"\",\"\",VLOOKUP($H181,判定式!$S$3:$W$12,5,TRUE))","v":""},{"$f":"IF($I181=\"\",\"\",VLOOKUP($I181,判定式!$V$3:$W$12,2,TRUE))","v":""},{"$f":"IF($J181=\"\",\"\",VLOOKUP($J181,判定式!$Y$3:$Z$12,2,TRUE))","v":""},{"$f":"IF($K181=\"\",\"\",VLOOKUP($K181,判定式!$T$3:$W$12,4,TRUE))","v":""},{"$f":"IF($L181=\"\",\"\",VLOOKUP($L181,判定式!$U$3:$W$12,3,TRUE))","v":""},"",{"$f":"IF(ISNUMBER(D181),\"判定外\",IF(C181=6,VLOOKUP(U181,判定式!$C$15:I$19,7,TRUE),IF(C181=7,VLOOKUP(U181,判定式!$D$15:I$19,6,TRUE),IF(C181=8,VLOOKUP(U181,判定式!$E$15:I$19,5,TRUE),IF(C181=9,VLOOKUP(U181,判定式!$F$15:I$19,4,TRUE),IF(C181=10,VLOOKUP(U181,判定式!$G$15:I$19,3,TRUE),IF(C181=11,VLOOKUP(U181,判定式!$H$15:I$19,2,TRUE))))))))","v":false}]
[33,null,null,{"$f":"IF(COUNTBLANK(E182:L182)=0,\"\",IF(COUNTBLANK(E182:L182)=8,\"-\",COUNTBLANK(E182:L182)))","v":"-"},null,null,null,null,null,null,null,null,{"$f":"IF($E182=\"\",\"\",VLOOKUP($E182,判定式!$P$3:$W$12,8,TRUE))","v":""},{"$f":"IF($F182=\"\",\"\",VLOOKUP($F182,判定式!$Q$3:$W$12,7,TRUE))","v":""},{"$f":"IF($G182=\"\",\"\",VLOOKUP($G182,判定式!$R$3:$W$12,6,TRUE))","v":""},{"$f":"IF($H182=\"\",\"\",VLOOKUP($H182,判定式!$S$3:$W$12,5,TRUE))","v":""},{"$f":"IF($I182=\"\",\"\",VLOOKUP($I182,判定式!$V$3:$W$12,2,TRUE))","v":""},{"$f":"IF($J182=\"\",\"\",VLOOKUP($J182,判定式!$Y$3:$Z$12,2,TRUE))","v":""},{"$f":"IF($K182=\"\",\"\",VLOOKUP($K182,判定式!$T$3:$W$12,4,TRUE))","v":""},{"$f":"IF($L182=\"\",\"\",VLOOKUP($L182,判定式!$U$3:$W$12,3,TRUE))","v":""},{"$f":"IF(COUNTBLANK(M182:T182)=0,SUM(M182:T182),\"\")","v":""},{"$f":"IF(ISNUMBER(D182),\"判定外\",IF(C182=6,VLOOKUP(U182,判定式!$C$15:I$19,7,TRUE),IF(C182=7,VLOOKUP(U182,判定式!$D$15:I$19,6,TRUE),IF(C182=8,VLOOKUP(U182,判定式!$E$15:I$19,5,TRUE),IF(C182=9,VLOOKUP(U182,判定式!$F$15:I$19,4,TRUE),IF(C182=10,VLOOKUP(U182,判定式!$G$15:I$19,3,TRUE),IF(C182=11,VLOOKUP(U182,判定式!$H$15:I$19,2,TRUE))))))))","v":false}]
[34,null,null,"-",null,null,null,null,null,null,null,null,{"$f":"IF($E183=\"\",\"\",VLOOKUP($E183,判定式!$P$3:$W$12,8,TRUE))","v":""},{"$f":"IF($F183=\"\",\"\",VLOOKUP($F183,判定式!$Q$3:$W$12,7,TRUE))","v":""},{"$f":"IF($G183=\"\",\"\",VLOOKUP($G183,判定式!$R$3:$W$12,6,TRUE))","v":""},{"$f":"IF($H183=\"\",\"\",VLOOKUP($H183,判定式!$S$3:$W$12,5,TRUE))","v":""},{"$f":"IF($I183=\"\",\"\",VLOOKUP($I183,判定式!$V$3:$W$12,2,TRUE))","v":""},{"$f":"IF($J183=\"\",\"\",VLOOKUP($J183,判定式!$Y$3:$Z$12,2,TRUE))","v":""},{"$f":"IF($K183=\"\",\"\",VLOOKUP($K183,判定式!$T$3:$W$12,4,TRUE))","v":""},{"$f":"IF($L183=\"\",\"\",VLOOKUP($L183,判定式!$U$3:$W$12,3,TRUE))","v":""},"",{"$f":"IF(ISNUMBER(D183),\"判定外\",IF(C183=6,VLOOKUP(U183,判定式!$C$15:I$19,7,TRUE),IF(C183=7,VLOOKUP(U183,判定式!$D$15:I$19,6,TRUE),IF(C183=8,VLOOKUP(U183,判定式!$E$15:I$19,5,TRUE),IF(C183=9,VLOOKUP(U183,判定式!$F$15:I$19,4,TRUE),IF(C183=10,VLOOKUP(U183,判定式!$G$15:I$19,3,TRUE),IF(C183=11,VLOOKUP(U183,判定式!$H$15:I$19,2,TRUE))))))))","v":false}]
[35,null,null,"-",null,null,null,null,null,null,null,null,{"$f":"IF($E184=\"\",\"\",VLOOKUP($E184,判定式!$P$3:$W$12,8,TRUE))","v":""},{"$f":"IF($F184=\"\",\"\",VLOOKUP($F184,判定式!$Q$3:$W$12,7,TRUE))","v":""},{"$f":"IF($G184=\"\",\"\",VLOOKUP($G184,判定式!$R$3:$W$12,6,TRUE))","v":""},{"$f":"IF($H184=\"\",\"\",VLOOKUP($H184,判定式!$S$3:$W$12,5,TRUE))","v":""},{"$f":"IF($I184=\"\",\"\",VLOOKUP($I184,判定式!$V$3:$W$12,2,TRUE))","v":""},{"$f":"IF($J184=\"\",\"\",VLOOKUP($J184,判定式!$Y$3:$Z$12,2,TRUE))","v":""},{"$f":"IF($K184=\"\",\"\",VLOOKUP($K184,判定式!$T$3:$W$12,4,TRUE))","v":""},{"$f":"IF($L184=\"\",\"\",VLOOKUP($L184,判定式!$U$3:$W$12,3,TRUE))","v":""},"",{"$f":"IF(ISNUMBER(D184),\"判定外\",IF(C184=6,VLOOKUP(U184,判定式!$C$15:I$19,7,TRUE),IF(C184=7,VLOOKUP(U184,判定式!$D$15:I$19,6,TRUE),IF(C184=8,VLOOKUP(U184,判定式!$E$15:I$19,5,TRUE),IF(C184=9,VLOOKUP(U184,判定式!$F$15:I$19,4,TRUE),IF(C184=10,VLOOKUP(U184,判定式!$G$15:I$19,3,TRUE),IF(C184=11,VLOOKUP(U184,判定式!$H$15:I$19,2,TRUE))))))))","v":false}]
[36,null,null,"-",null,null,null,null,null,null,null,null,{"$f":"IF($E185=\"\",\"\",VLOOKUP($E185,判定式!$P$3:$W$12,8,TRUE))","v":""},{"$f":"IF($F185=\"\",\"\",VLOOKUP($F185,判定式!$Q$3:$W$12,7,TRUE))","v":""},{"$f":"IF($G185=\"\",\"\",VLOOKUP($G185,判定式!$R$3:$W$12,6,TRUE))","v":""},{"$f":"IF($H185=\"\",\"\",VLOOKUP($H185,判定式!$S$3:$W$12,5,TRUE))","v":""},{"$f":"IF($I185=\"\",\"\",VLOOKUP($I185,判定式!$V$3:$W$12,2,TRUE))","v":""},{"$f":"IF($J185=\"\",\"\",VLOOKUP($J185,判定式!$Y$3:$Z$12,2,TRUE))","v":""},{"$f":"IF($K185=\"\",\"\",VLOOKUP($K185,判定式!$T$3:$W$12,4,TRUE))","v":""},{"$f":"IF($L185=\"\",\"\",VLOOKUP($L185,判定式!$U$3:$W$12,3,TRUE))","v":""},"",{"$f":"IF(ISNUMBER(D185),\"判定外\",IF(C185=6,VLOOKUP(U185,判定式!$C$15:I$19,7,TRUE),IF(C185=7,VLOOKUP(U185,判定式!$D$15:I$19,6,TRUE),IF(C185=8,VLOOKUP(U185,判定式!$E$15:I$19,5,TRUE),IF(C185=9,VLOOKUP(U185,判定式!$F$15:I$19,4,TRUE),IF(C185=10,VLOOKUP(U185,判定式!$G$15:I$19,3,TRUE),IF(C185=11,VLOOKUP(U185,判定式!$H$15:I$19,2,TRUE))))))))","v":false}]
[37,null,null,"-",null,null,null,null,null,null,null,null,{"$f":"IF($E186=\"\",\"\",VLOOKUP($E186,判定式!$P$3:$W$12,8,TRUE))","v":""},{"$f":"IF($F186=\"\",\"\",VLOOKUP($F186,判定式!$Q$3:$W$12,7,TRUE))","v":""},{"$f":"IF($G186=\"\",\"\",VLOOKUP($G186,判定式!$R$3:$W$12,6,TRUE))","v":""},{"$f":"IF($H186=\"\",\"\",VLOOKUP($H186,判定式!$S$3:$W$12,5,TRUE))","v":""},{"$f":"IF($I186=\"\",\"\",VLOOKUP($I186,判定式!$V$3:$W$12,2,TRUE))","v":""},{"$f":"IF($J186=\"\",\"\",VLOOKUP($J186,判定式!$Y$3:$Z$12,2,TRUE))","v":""},{"$f":"IF($K186=\"\",\"\",VLOOKUP($K186,判定式!$T$3:$W$12,4,TRUE))","v":""},{"$f":"IF($L186=\"\",\"\",VLOOKUP($L186,判定式!$U$3:$W$12,3,TRUE))","v":""},"",{"$f":"IF(ISNUMBER(D186),\"判定外\",IF(C186=6,VLOOKUP(U186,判定式!$C$15:I$19,7,TRUE),IF(C186=7,VLOOKUP(U186,判定式!$D$15:I$19,6,TRUE),IF(C186=8,VLOOKUP(U186,判定式!$E$15:I$19,5,TRUE),IF(C186=9,VLOOKUP(U186,判定式!$F$15:I$19,4,TRUE),IF(C186=10,VLOOKUP(U186,判定式!$G$15:I$19,3,TRUE),IF(C186=11,VLOOKUP(U186,判定式!$H$15:I$19,2,TRUE))))))))","v":false}]
[38,null,null,"-",null,null,null,null,null,null,null,null,{"$f":"IF($E187=\"\",\"\",VLOOKUP($E187,判定式!$P$3:$W$12,8,TRUE))","v":""},{"$f":"IF($F187=\"\",\"\",VLOOKUP($F187,判定式!$Q$3:$W$12,7,TRUE))","v":""},{"$f":"IF($G187=\"\",\"\",VLOOKUP($G187,判定式!$R$3:$W$12,6,TRUE))","v":""},{"$f":"IF($H187=\"\",\"\",VLOOKUP($H187,判定式!$S$3:$W$12,5,TRUE))","v":""},{"$f":"IF($I187=\"\",\"\",VLOOKUP($I187,判定式!$V$3:$W$12,2,TRUE))","v":""},{"$f":"IF($J187=\"\",\"\",VLOOKUP($J187,判定式!$Y$3:$Z$12,2,TRUE))","v":""},{"$f":"IF($K187=\"\",\"\",VLOOKUP($K187,判定式!$T$3:$W$12,4,TRUE))","v":""},{"$f":"IF($L187=\"\",\"\",VLOOKUP($L187,判定式!$U$3:$W$12,3,TRUE))","v":""},"",{"$f":"IF(ISNUMBER(D187),\"判定外\",IF(C187=6,VLOOKUP(U187,判定式!$C$15:I$19,7,TRUE),IF(C187=7,VLOOKUP(U187,判定式!$D$15:I$19,6,TRUE),IF(C187=8,VLOOKUP(U187,判定式!$E$15:I$19,5,TRUE),IF(C187=9,VLOOKUP(U187,判定式!$F$15:I$19,4,TRUE),IF(C187=10,VLOOKUP(U187,判定式!$G$15:I$19,3,TRUE),IF(C187=11,VLOOKUP(U187,判定式!$H$15:I$19,2,TRUE))))))))","v":false}]
[39,null,null,"-",null,null,null,null,null,null,null,null,{"$f":"IF($E188=\"\",\"\",VLOOKUP($E188,判定式!$P$3:$W$12,8,TRUE))","v":""},{"$f":"IF($F188=\"\",\"\",VLOOKUP($F188,判定式!$Q$3:$W$12,7,TRUE))","v":""},{"$f":"IF($G188=\"\",\"\",VLOOKUP($G188,判定式!$R$3:$W$12,6,TRUE))","v":""},{"$f":"IF($H188=\"\",\"\",VLOOKUP($H188,判定式!$S$3:$W$12,5,TRUE))","v":""},{"$f":"IF($I188=\"\",\"\",VLOOKUP($I188,判定式!$V$3:$W$12,2,TRUE))","v":""},{"$f":"IF($J188=\"\",\"\",VLOOKUP($J188,判定式!$Y$3:$Z$12,2,TRUE))","v":""},{"$f":"IF($K188=\"\",\"\",VLOOKUP($K188,判定式!$T$3:$W$12,4,TRUE))","v":""},{"$f":"IF($L188=\"\",\"\",VLOOKUP($L188,判定式!$U$3:$W$12,3,TRUE))","v":""},"",{"$f":"IF(ISNUMBER(D188),\"判定外\",IF(C188=6,VLOOKUP(U188,判定式!$C$15:I$19,7,TRUE),IF(C188=7,VLOOKUP(U188,判定式!$D$15:I$19,6,TRUE),IF(C188=8,VLOOKUP(U188,判定式!$E$15:I$19,5,TRUE),IF(C188=9,VLOOKUP(U188,判定式!$F$15:I$19,4,TRUE),IF(C188=10,VLOOKUP(U188,判定式!$G$15:I$19,3,TRUE),IF(C188=11,VLOOKUP(U188,判定式!$H$15:I$19,2,TRUE))))))))","v":false}]
[40,null,null,"-",null,null,null,null,null,null,null,null,{"$f":"IF($E189=\"\",\"\",VLOOKUP($E189,判定式!$P$3:$W$12,8,TRUE))","v":""},{"$f":"IF($F189=\"\",\"\",VLOOKUP($F189,判定式!$Q$3:$W$12,7,TRUE))","v":""},{"$f":"IF($G189=\"\",\"\",VLOOKUP($G189,判定式!$R$3:$W$12,6,TRUE))","v":""},{"$f":"IF($H189=\"\",\"\",VLOOKUP($H189,判定式!$S$3:$W$12,5,TRUE))","v":""},{"$f":"IF($I189=\"\",\"\",VLOOKUP($I189,判定式!$V$3:$W$12,2,TRUE))","v":""},{"$f":"IF($J189=\"\",\"\",VLOOKUP($J189,判定式!$Y$3:$Z$12,2,TRUE))","v":""},{"$f":"IF($K189=\"\",\"\",VLOOKUP($K189,判定式!$T$3:$W$12,4,TRUE))","v":""},{"$f":"IF($L189=\"\",\"\",VLOOKUP($L189,判定式!$U$3:$W$12,3,TRUE))","v":""},"",{"$f":"IF(ISNUMBER(D189),\"判定外\",IF(C189=6,VLOOKUP(U189,判定式!$C$15:I$19,7,TRUE),IF(C189=7,VLOOKUP(U189,判定式!$D$15:I$19,6,TRUE),IF(C189=8,VLOOKUP(U189,判定式!$E$15:I$19,5,TRUE),IF(C189=9,VLOOKUP(U189,判定式!$F$15:I$19,4,TRUE),IF(C189=10,VLOOKUP(U189,判定式!$G$15:I$19,3,TRUE),IF(C189=11,VLOOKUP(U189,判定式!$H$15:I$19,2,TRUE))))))))","v":false}]
[41,null,null,"-",null,null,null,null,null,null,null,null,{"$f":"IF($E190=\"\",\"\",VLOOKUP($E190,判定式!$P$3:$W$12,8,TRUE))","v":""},{"$f":"IF($F190=\"\",\"\",VLOOKUP($F190,判定式!$Q$3:$W$12,7,TRUE))","v":""},{"$f":"IF($G190=\"\",\"\",VLOOKUP($G190,判定式!$R$3:$W$12,6,TRUE))","v":""},{"$f":"IF($H190=\"\",\"\",VLOOKUP($H190,判定式!$S$3:$W$12,5,TRUE))","v":""},{"$f":"IF($I190=\"\",\"\",VLOOKUP($I190,判定式!$V$3:$W$12,2,TRUE))","v":""},{"$f":"IF($J190=\"\",\"\",VLOOKUP($J190,判定式!$Y$3:$Z$12,2,TRUE))","v":""},{"$f":"IF($K190=\"\",\"\",VLOOKUP($K190,判定式!$T$3:$W$12,4,TRUE))","v":""},{"$f":"IF($L190=\"\",\"\",VLOOKUP($L190,判定式!$U$3:$W$12,3,TRUE))","v":""},"",{"$f":"IF(ISNUMBER(D190),\"判定外\",IF(C190=6,VLOOKUP(U190,判定式!$C$15:I$19,7,TRUE),IF(C190=7,VLOOKUP(U190,判定式!$D$15:I$19,6,TRUE),IF(C190=8,VLOOKUP(U190,判定式!$E$15:I$19,5,TRUE),IF(C190=9,VLOOKUP(U190,判定式!$F$15:I$19,4,TRUE),IF(C190=10,VLOOKUP(U190,判定式!$G$15:I$19,3,TRUE),IF(C190=11,VLOOKUP(U190,判定式!$H$15:I$19,2,TRUE))))))))","v":false}]
[42,null,null,"-",null,null,null,null,null,null,null,null,{"$f":"IF($E191=\"\",\"\",VLOOKUP($E191,判定式!$P$3:$W$12,8,TRUE))","v":""},{"$f":"IF($F191=\"\",\"\",VLOOKUP($F191,判定式!$Q$3:$W$12,7,TRUE))","v":""},{"$f":"IF($G191=\"\",\"\",VLOOKUP($G191,判定式!$R$3:$W$12,6,TRUE))","v":""},{"$f":"IF($H191=\"\",\"\",VLOOKUP($H191,判定式!$S$3:$W$12,5,TRUE))","v":""},{"$f":"IF($I191=\"\",\"\",VLOOKUP($I191,判定式!$V$3:$W$12,2,TRUE))","v":""},{"$f":"IF($J191=\"\",\"\",VLOOKUP($J191,判定式!$Y$3:$Z$12,2,TRUE))","v":""},{"$f":"IF($K191=\"\",\"\",VLOOKUP($K191,判定式!$T$3:$W$12,4,TRUE))","v":""},{"$f":"IF($L191=\"\",\"\",VLOOKUP($L191,判定式!$U$3:$W$12,3,TRUE))","v":""},"",{"$f":"IF(ISNUMBER(D191),\"判定外\",IF(C191=6,VLOOKUP(U191,判定式!$C$15:I$19,7,TRUE),IF(C191=7,VLOOKUP(U191,判定式!$D$15:I$19,6,TRUE),IF(C191=8,VLOOKUP(U191,判定式!$E$15:I$19,5,TRUE),IF(C191=9,VLOOKUP(U191,判定式!$F$15:I$19,4,TRUE),IF(C191=10,VLOOKUP(U191,判定式!$G$15:I$19,3,TRUE),IF(C191=11,VLOOKUP(U191,判定式!$H$15:I$19,2,TRUE))))))))","v":false}]
[43,null,null,"-",null,null,null,null,null,null,null,null,{"$f":"IF($E192=\"\",\"\",VLOOKUP($E192,判定式!$P$3:$W$12,8,TRUE))","v":""},{"$f":"IF($F192=\"\",\"\",VLOOKUP($F192,判定式!$Q$3:$W$12,7,TRUE))","v":""},{"$f":"IF($G192=\"\",\"\",VLOOKUP($G192,判定式!$R$3:$W$12,6,TRUE))","v":""},{"$f":"IF($H192=\"\",\"\",VLOOKUP($H192,判定式!$S$3:$W$12,5,TRUE))","v":""},{"$f":"IF($I192=\"\",\"\",VLOOKUP($I192,判定式!$V$3:$W$12,2,TRUE))","v":""},{"$f":"IF($J192=\"\",\"\",VLOOKUP($J192,判定式!$Y$3:$Z$12,2,TRUE))","v":""},{"$f":"IF($K192=\"\",\"\",VLOOKUP($K192,判定式!$T$3:$W$12,4,TRUE))","v":""},{"$f":"IF($L192=\"\",\"\",VLOOKUP($L192,判定式!$U$3:$W$12,3,TRUE))","v":""},"",{"$f":"IF(ISNUMBER(D192),\"判定外\",IF(C192=6,VLOOKUP(U192,判定式!$C$15:I$19,7,TRUE),IF(C192=7,VLOOKUP(U192,判定式!$D$15:I$19,6,TRUE),IF(C192=8,VLOOKUP(U192,判定式!$E$15:I$19,5,TRUE),IF(C192=9,VLOOKUP(U192,判定式!$F$15:I$19,4,TRUE),IF(C192=10,VLOOKUP(U192,判定式!$G$15:I$19,3,TRUE),IF(C192=11,VLOOKUP(U192,判定式!$H$15:I$19,2,TRUE))))))))","v":false}]
[44,null,null,"-",null,null,null,null,null,null,null,null,{"$f":"IF($E193=\"\",\"\",VLOOKUP($E193,判定式!$P$3:$W$12,8,TRUE))","v":""},{"$f":"IF($F193=\"\",\"\",VLOOKUP($F193,判定式!$Q$3:$W$12,7,TRUE))","v":""},{"$f":"IF($G193=\"\",\"\",VLOOKUP($G193,判定式!$R$3:$W$12,6,TRUE))","v":""},{"$f":"IF($H193=\"\",\"\",VLOOKUP($H193,判定式!$S$3:$W$12,5,TRUE))","v":""},{"$f":"IF($I193=\"\",\"\",VLOOKUP($I193,判定式!$V$3:$W$12,2,TRUE))","v":""},{"$f":"IF($J193=\"\",\"\",VLOOKUP($J193,判定式!$Y$3:$Z$12,2,TRUE))","v":""},{"$f":"IF($K193=\"\",\"\",VLOOKUP($K193,判定式!$T$3:$W$12,4,TRUE))","v":""},{"$f":"IF($L193=\"\",\"\",VLOOKUP($L193,判定式!$U$3:$W$12,3,TRUE))","v":""},"",{"$f":"IF(ISNUMBER(D193),\"判定外\",IF(C193=6,VLOOKUP(U193,判定式!$C$15:I$19,7,TRUE),IF(C193=7,VLOOKUP(U193,判定式!$D$15:I$19,6,TRUE),IF(C193=8,VLOOKUP(U193,判定式!$E$15:I$19,5,TRUE),IF(C193=9,VLOOKUP(U193,判定式!$F$15:I$19,4,TRUE),IF(C193=10,VLOOKUP(U193,判定式!$G$15:I$19,3,TRUE),IF(C193=11,VLOOKUP(U193,判定式!$H$15:I$19,2,TRUE))))))))","v":false}]
[45,null,null,"-",null,null,null,null,null,null,null,null,{"$f":"IF($E194=\"\",\"\",VLOOKUP($E194,判定式!$P$3:$W$12,8,TRUE))","v":""},{"$f":"IF($F194=\"\",\"\",VLOOKUP($F194,判定式!$Q$3:$W$12,7,TRUE))","v":""},{"$f":"IF($G194=\"\",\"\",VLOOKUP($G194,判定式!$R$3:$W$12,6,TRUE))","v":""},{"$f":"IF($H194=\"\",\"\",VLOOKUP($H194,判定式!$S$3:$W$12,5,TRUE))","v":""},{"$f":"IF($I194=\"\",\"\",VLOOKUP($I194,判定式!$V$3:$W$12,2,TRUE))","v":""},{"$f":"IF($J194=\"\",\"\",VLOOKUP($J194,判定式!$Y$3:$Z$12,2,TRUE))","v":""},{"$f":"IF($K194=\"\",\"\",VLOOKUP($K194,判定式!$T$3:$W$12,4,TRUE))","v":""},{"$f":"IF($L194=\"\",\"\",VLOOKUP($L194,判定式!$U$3:$W$12,3,TRUE))","v":""},"",{"$f":"IF(ISNUMBER(D194),\"判定外\",IF(C194=6,VLOOKUP(U194,判定式!$C$15:I$19,7,TRUE),IF(C194=7,VLOOKUP(U194,判定式!$D$15:I$19,6,TRUE),IF(C194=8,VLOOKUP(U194,判定式!$E$15:I$19,5,TRUE),IF(C194=9,VLOOKUP(U194,判定式!$F$15:I$19,4,TRUE),IF(C194=10,VLOOKUP(U194,判定式!$G$15:I$19,3,TRUE),IF(C194=11,VLOOKUP(U194,判定式!$H$15:I$19,2,TRUE))))))))","v":false}]
[46,null,null,"-",null,null,null,null,null,null,null,null,{"$f":"IF($E195=\"\",\"\",VLOOKUP($E195,判定式!$P$3:$W$12,8,TRUE))","v":""},{"$f":"IF($F195=\"\",\"\",VLOOKUP($F195,判定式!$Q$3:$W$12,7,TRUE))","v":""},{"$f":"IF($G195=\"\",\"\",VLOOKUP($G195,判定式!$R$3:$W$12,6,TRUE))","v":""},{"$f":"IF($H195=\"\",\"\",VLOOKUP($H195,判定式!$S$3:$W$12,5,TRUE))","v":""},{"$f":"IF($I195=\"\",\"\",VLOOKUP($I195,判定式!$V$3:$W$12,2,TRUE))","v":""},{"$f":"IF($J195=\"\",\"\",VLOOKUP($J195,判定式!$Y$3:$Z$12,2,TRUE))","v":""},{"$f":"IF($K195=\"\",\"\",VLOOKUP($K195,判定式!$T$3:$W$12,4,TRUE))","v":""},{"$f":"IF($L195=\"\",\"\",VLOOKUP($L195,判定式!$U$3:$W$12,3,TRUE))","v":""},"",{"$f":"IF(ISNUMBER(D195),\"判定外\",IF(C195=6,VLOOKUP(U195,判定式!$C$15:I$19,7,TRUE),IF(C195=7,VLOOKUP(U195,判定式!$D$15:I$19,6,TRUE),IF(C195=8,VLOOKUP(U195,判定式!$E$15:I$19,5,TRUE),IF(C195=9,VLOOKUP(U195,判定式!$F$15:I$19,4,TRUE),IF(C195=10,VLOOKUP(U195,判定式!$G$15:I$19,3,TRUE),IF(C195=11,VLOOKUP(U195,判定式!$H$15:I$19,2,TRUE))))))))","v":false}]
[47,null,null,"-",null,null,null,null,null,null,null,null,{"$f":"IF($E196=\"\",\"\",VLOOKUP($E196,判定式!$P$3:$W$12,8,TRUE))","v":""},{"$f":"IF($F196=\"\",\"\",VLOOKUP($F196,判定式!$Q$3:$W$12,7,TRUE))","v":""},{"$f":"IF($G196=\"\",\"\",VLOOKUP($G196,判定式!$R$3:$W$12,6,TRUE))","v":""},{"$f":"IF($H196=\"\",\"\",VLOOKUP($H196,判定式!$S$3:$W$12,5,TRUE))","v":""},{"$f":"IF($I196=\"\",\"\",VLOOKUP($I196,判定式!$V$3:$W$12,2,TRUE))","v":""},{"$f":"IF($J196=\"\",\"\",VLOOKUP($J196,判定式!$Y$3:$Z$12,2,TRUE))","v":""},{"$f":"IF($K196=\"\",\"\",VLOOKUP($K196,判定式!$T$3:$W$12,4,TRUE))","v":""},{"$f":"IF($L196=\"\",\"\",VLOOKUP($L196,判定式!$U$3:$W$12,3,TRUE))","v":""},"",{"$f":"IF(ISNUMBER(D196),\"判定外\",IF(C196=6,VLOOKUP(U196,判定式!$C$15:I$19,7,TRUE),IF(C196=7,VLOOKUP(U196,判定式!$D$15:I$19,6,TRUE),IF(C196=8,VLOOKUP(U196,判定式!$E$15:I$19,5,TRUE),IF(C196=9,VLOOKUP(U196,判定式!$F$15:I$19,4,TRUE),IF(C196=10,VLOOKUP(U196,判定式!$G$15:I$19,3,TRUE),IF(C196=11,VLOOKUP(U196,判定式!$H$15:I$19,2,TRUE))))))))","v":false}]
[48,null,null,"-",null,null,null,null,null,null,null,null,{"$f":"IF($E197=\"\",\"\",VLOOKUP($E197,判定式!$P$3:$W$12,8,TRUE))","v":""},{"$f":"IF($F197=\"\",\"\",VLOOKUP($F197,判定式!$Q$3:$W$12,7,TRUE))","v":""},{"$f":"IF($G197=\"\",\"\",VLOOKUP($G197,判定式!$R$3:$W$12,6,TRUE))","v":""},{"$f":"IF($H197=\"\",\"\",VLOOKUP($H197,判定式!$S$3:$W$12,5,TRUE))","v":""},{"$f":"IF($I197=\"\",\"\",VLOOKUP($I197,判定式!$V$3:$W$12,2,TRUE))","v":""},{"$f":"IF($J197=\"\",\"\",VLOOKUP($J197,判定式!$Y$3:$Z$12,2,TRUE))","v":""},{"$f":"IF($K197=\"\",\"\",VLOOKUP($K197,判定式!$T$3:$W$12,4,TRUE))","v":""},{"$f":"IF($L197=\"\",\"\",VLOOKUP($L197,判定式!$U$3:$W$12,3,TRUE))","v":""},"",{"$f":"IF(ISNUMBER(D197),\"判定外\",IF(C197=6,VLOOKUP(U197,判定式!$C$15:I$19,7,TRUE),IF(C197=7,VLOOKUP(U197,判定式!$D$15:I$19,6,TRUE),IF(C197=8,VLOOKUP(U197,判定式!$E$15:I$19,5,TRUE),IF(C197=9,VLOOKUP(U197,判定式!$F$15:I$19,4,TRUE),IF(C197=10,VLOOKUP(U197,判定式!$G$15:I$19,3,TRUE),IF(C197=11,VLOOKUP(U197,判定式!$H$15:I$19,2,TRUE))))))))","v":false}]
[49,null,null,"-",null,null,null,null,null,null,null,null,{"$f":"IF($E198=\"\",\"\",VLOOKUP($E198,判定式!$P$3:$W$12,8,TRUE))","v":""},{"$f":"IF($F198=\"\",\"\",VLOOKUP($F198,判定式!$Q$3:$W$12,7,TRUE))","v":""},{"$f":"IF($G198=\"\",\"\",VLOOKUP($G198,判定式!$R$3:$W$12,6,TRUE))","v":""},{"$f":"IF($H198=\"\",\"\",VLOOKUP($H198,判定式!$S$3:$W$12,5,TRUE))","v":""},{"$f":"IF($I198=\"\",\"\",VLOOKUP($I198,判定式!$V$3:$W$12,2,TRUE))","v":""},{"$f":"IF($J198=\"\",\"\",VLOOKUP($J198,判定式!$Y$3:$Z$12,2,TRUE))","v":""},{"$f":"IF($K198=\"\",\"\",VLOOKUP($K198,判定式!$T$3:$W$12,4,TRUE))","v":""},{"$f":"IF($L198=\"\",\"\",VLOOKUP($L198,判定式!$U$3:$W$12,3,TRUE))","v":""},"",{"$f":"IF(ISNUMBER(D198),\"判定外\",IF(C198=6,VLOOKUP(U198,判定式!$C$15:I$19,7,TRUE),IF(C198=7,VLOOKUP(U198,判定式!$D$15:I$19,6,TRUE),IF(C198=8,VLOOKUP(U198,判定式!$E$15:I$19,5,TRUE),IF(C198=9,VLOOKUP(U198,判定式!$F$15:I$19,4,TRUE),IF(C198=10,VLOOKUP(U198,判定式!$G$15:I$19,3,TRUE),IF(C198=11,VLOOKUP(U198,判定式!$H$15:I$19,2,TRUE))))))))","v":false}]
[50,null,null,"-",null,null,null,null,null,null,null,null,{"$f":"IF($E199=\"\",\"\",VLOOKUP($E199,判定式!$P$3:$W$12,8,TRUE))","v":""},{"$f":"IF($F199=\"\",\"\",VLOOKUP($F199,判定式!$Q$3:$W$12,7,TRUE))","v":""},{"$f":"IF($G199=\"\",\"\",VLOOKUP($G199,判定式!$R$3:$W$12,6,TRUE))","v":""},{"$f":"IF($H199=\"\",\"\",VLOOKUP($H199,判定式!$S$3:$W$12,5,TRUE))","v":""},{"$f":"IF($I199=\"\",\"\",VLOOKUP($I199,判定式!$V$3:$W$12,2,TRUE))","v":""},{"$f":"IF($J199=\"\",\"\",VLOOKUP($J199,判定式!$Y$3:$Z$12,2,TRUE))","v":""},{"$f":"IF($K199=\"\",\"\",VLOOKUP($K199,判定式!$T$3:$W$12,4,TRUE))","v":""},{"$f":"IF($L199=\"\",\"\",VLOOKUP($L199,判定式!$U$3:$W$12,3,TRUE))","v":""},"",{"$f":"IF(ISNUMBER(D199),\"判定外\",IF(C199=6,VLOOKUP(U199,判定式!$C$15:I$19,7,TRUE),IF(C199=7,VLOOKUP(U199,判定式!$D$15:I$19,6,TRUE),IF(C199=8,VLOOKUP(U199,判定式!$E$15:I$19,5,TRUE),IF(C199=9,VLOOKUP(U199,判定式!$F$15:I$19,4,TRUE),IF(C199=10,VLOOKUP(U199,判定式!$G$15:I$19,3,TRUE),IF(C199=11,VLOOKUP(U199,判定式!$H$15:I$19,2,TRUE))))))))","v":false}]
[51,null,null,"-",null,null,null,null,null,null,null,null,{"$f":"IF($E200=\"\",\"\",VLOOKUP($E200,判定式!$P$3:$W$12,8,TRUE))","v":""},{"$f":"IF($F200=\"\",\"\",VLOOKUP($F200,判定式!$Q$3:$W$12,7,TRUE))","v":""},{"$f":"IF($G200=\"\",\"\",VLOOKUP($G200,判定式!$R$3:$W$12,6,TRUE))","v":""},{"$f":"IF($H200=\"\",\"\",VLOOKUP($H200,判定式!$S$3:$W$12,5,TRUE))","v":""},{"$f":"IF($I200=\"\",\"\",VLOOKUP($I200,判定式!$V$3:$W$12,2,TRUE))","v":""},{"$f":"IF($J200=\"\",\"\",VLOOKUP($J200,判定式!$Y$3:$Z$12,2,TRUE))","v":""},{"$f":"IF($K200=\"\",\"\",VLOOKUP($K200,判定式!$T$3:$W$12,4,TRUE))","v":""},{"$f":"IF($L200=\"\",\"\",VLOOKUP($L200,判定式!$U$3:$W$12,3,TRUE))","v":""},"",{"$f":"IF(ISNUMBER(D200),\"判定外\",IF(C200=6,VLOOKUP(U200,判定式!$C$15:I$19,7,TRUE),IF(C200=7,VLOOKUP(U200,判定式!$D$15:I$19,6,TRUE),IF(C200=8,VLOOKUP(U200,判定式!$E$15:I$19,5,TRUE),IF(C200=9,VLOOKUP(U200,判定式!$F$15:I$19,4,TRUE),IF(C200=10,VLOOKUP(U200,判定式!$G$15:I$19,3,TRUE),IF(C200=11,VLOOKUP(U200,判定式!$H$15:I$19,2,TRUE))))))))","v":false}]
[52,null,null,"-",null,null,null,null,null,null,null,null,{"$f":"IF($E201=\"\",\"\",VLOOKUP($E201,判定式!$P$3:$W$12,8,TRUE))","v":""},{"$f":"IF($F201=\"\",\"\",VLOOKUP($F201,判定式!$Q$3:$W$12,7,TRUE))","v":""},{"$f":"IF($G201=\"\",\"\",VLOOKUP($G201,判定式!$R$3:$W$12,6,TRUE))","v":""},{"$f":"IF($H201=\"\",\"\",VLOOKUP($H201,判定式!$S$3:$W$12,5,TRUE))","v":""},{"$f":"IF($I201=\"\",\"\",VLOOKUP($I201,判定式!$V$3:$W$12,2,TRUE))","v":""},{"$f":"IF($J201=\"\",\"\",VLOOKUP($J201,判定式!$Y$3:$Z$12,2,TRUE))","v":""},{"$f":"IF($K201=\"\",\"\",VLOOKUP($K201,判定式!$T$3:$W$12,4,TRUE))","v":""},{"$f":"IF($L201=\"\",\"\",VLOOKUP($L201,判定式!$U$3:$W$12,3,TRUE))","v":""},"",{"$f":"IF(ISNUMBER(D201),\"判定外\",IF(C201=6,VLOOKUP(U201,判定式!$C$15:I$19,7,TRUE),IF(C201=7,VLOOKUP(U201,判定式!$D$15:I$19,6,TRUE),IF(C201=8,VLOOKUP(U201,判定式!$E$15:I$19,5,TRUE),IF(C201=9,VLOOKUP(U201,判定式!$F$15:I$19,4,TRUE),IF(C201=10,VLOOKUP(U201,判定式!$G$15:I$19,3,TRUE),IF(C201=11,VLOOKUP(U201,判定式!$H$15:I$19,2,TRUE))))))))","v":false}]
[53,null,null,"-",null,null,null,null,null,null,null,null,{"$f":"IF($E202=\"\",\"\",VLOOKUP($E202,判定式!$P$3:$W$12,8,TRUE))","v":""},{"$f":"IF($F202=\"\",\"\",VLOOKUP($F202,判定式!$Q$3:$W$12,7,TRUE))","v":""},{"$f":"IF($G202=\"\",\"\",VLOOKUP($G202,判定式!$R$3:$W$12,6,TRUE))","v":""},{"$f":"IF($H202=\"\",\"\",VLOOKUP($H202,判定式!$S$3:$W$12,5,TRUE))","v":""},{"$f":"IF($I202=\"\",\"\",VLOOKUP($I202,判定式!$V$3:$W$12,2,TRUE))","v":""},{"$f":"IF($J202=\"\",\"\",VLOOKUP($J202,判定式!$Y$3:$Z$12,2,TRUE))","v":""},{"$f":"IF($K202=\"\",\"\",VLOOKUP($K202,判定式!$T$3:$W$12,4,TRUE))","v":""},{"$f":"IF($L202=\"\",\"\",VLOOKUP($L202,判定式!$U$3:$W$12,3,TRUE))","v":""},"",{"$f":"IF(ISNUMBER(D202),\"判定外\",IF(C202=6,VLOOKUP(U202,判定式!$C$15:I$19,7,TRUE),IF(C202=7,VLOOKUP(U202,判定式!$D$15:I$19,6,TRUE),IF(C202=8,VLOOKUP(U202,判定式!$E$15:I$19,5,TRUE),IF(C202=9,VLOOKUP(U202,判定式!$F$15:I$19,4,TRUE),IF(C202=10,VLOOKUP(U202,判定式!$G$15:I$19,3,TRUE),IF(C202=11,VLOOKUP(U202,判定式!$H$15:I$19,2,TRUE))))))))","v":false}]
[54,null,null,"-",null,null,null,null,null,null,null,null,{"$f":"IF($E203=\"\",\"\",VLOOKUP($E203,判定式!$P$3:$W$12,8,TRUE))","v":""},{"$f":"IF($F203=\"\",\"\",VLOOKUP($F203,判定式!$Q$3:$W$12,7,TRUE))","v":""},{"$f":"IF($G203=\"\",\"\",VLOOKUP($G203,判定式!$R$3:$W$12,6,TRUE))","v":""},{"$f":"IF($H203=\"\",\"\",VLOOKUP($H203,判定式!$S$3:$W$12,5,TRUE))","v":""},{"$f":"IF($I203=\"\",\"\",VLOOKUP($I203,判定式!$V$3:$W$12,2,TRUE))","v":""},{"$f":"IF($J203=\"\",\"\",VLOOKUP($J203,判定式!$Y$3:$Z$12,2,TRUE))","v":""},{"$f":"IF($K203=\"\",\"\",VLOOKUP($K203,判定式!$T$3:$W$12,4,TRUE))","v":""},{"$f":"IF($L203=\"\",\"\",VLOOKUP($L203,判定式!$U$3:$W$12,3,TRUE))","v":""},"",{"$f":"IF(ISNUMBER(D203),\"判定外\",IF(C203=6,VLOOKUP(U203,判定式!$C$15:I$19,7,TRUE),IF(C203=7,VLOOKUP(U203,判定式!$D$15:I$19,6,TRUE),IF(C203=8,VLOOKUP(U203,判定式!$E$15:I$19,5,TRUE),IF(C203=9,VLOOKUP(U203,判定式!$F$15:I$19,4,TRUE),IF(C203=10,VLOOKUP(U203,判定式!$G$15:I$19,3,TRUE),IF(C203=11,VLOOKUP(U203,判定式!$H$15:I$19,2,TRUE))))))))","v":false}]
[55,null,null,"-",null,null,null,null,null,null,null,null,{"$f":"IF($E204=\"\",\"\",VLOOKUP($E204,判定式!$P$3:$W$12,8,TRUE))","v":""},{"$f":"IF($F204=\"\",\"\",VLOOKUP($F204,判定式!$Q$3:$W$12,7,TRUE))","v":""},{"$f":"IF($G204=\"\",\"\",VLOOKUP($G204,判定式!$R$3:$W$12,6,TRUE))","v":""},{"$f":"IF($H204=\"\",\"\",VLOOKUP($H204,判定式!$S$3:$W$12,5,TRUE))","v":""},{"$f":"IF($I204=\"\",\"\",VLOOKUP($I204,判定式!$V$3:$W$12,2,TRUE))","v":""},{"$f":"IF($J204=\"\",\"\",VLOOKUP($J204,判定式!$Y$3:$Z$12,2,TRUE))","v":""},{"$f":"IF($K204=\"\",\"\",VLOOKUP($K204,判定式!$T$3:$W$12,4,TRUE))","v":""},{"$f":"IF($L204=\"\",\"\",VLOOKUP($L204,判定式!$U$3:$W$12,3,TRUE))","v":""},"",{"$f":"IF(ISNUMBER(D204),\"判定外\",IF(C204=6,VLOOKUP(U204,判定式!$C$15:I$19,7,TRUE),IF(C204=7,VLOOKUP(U204,判定式!$D$15:I$19,6,TRUE),IF(C204=8,VLOOKUP(U204,判定式!$E$15:I$19,5,TRUE),IF(C204=9,VLOOKUP(U204,判定式!$F$15:I$19,4,TRUE),IF(C204=10,VLOOKUP(U204,判定式!$G$15:I$19,3,TRUE),IF(C204=11,VLOOKUP(U204,判定式!$H$15:I$19,2,TRUE))))))))","v":false}]
[56,null,null,"-",null,null,null,null,null,null,null,null,{"$f":"IF($E205=\"\",\"\",VLOOKUP($E205,判定式!$P$3:$W$12,8,TRUE))","v":""},{"$f":"IF($F205=\"\",\"\",VLOOKUP($F205,判定式!$Q$3:$W$12,7,TRUE))","v":""},{"$f":"IF($G205=\"\",\"\",VLOOKUP($G205,判定式!$R$3:$W$12,6,TRUE))","v":""},{"$f":"IF($H205=\"\",\"\",VLOOKUP($H205,判定式!$S$3:$W$12,5,TRUE))","v":""},{"$f":"IF($I205=\"\",\"\",VLOOKUP($I205,判定式!$V$3:$W$12,2,TRUE))","v":""},{"$f":"IF($J205=\"\",\"\",VLOOKUP($J205,判定式!$Y$3:$Z$12,2,TRUE))","v":""},{"$f":"IF($K205=\"\",\"\",VLOOKUP($K205,判定式!$T$3:$W$12,4,TRUE))","v":""},{"$f":"IF($L205=\"\",\"\",VLOOKUP($L205,判定式!$U$3:$W$12,3,TRUE))","v":""},"",{"$f":"IF(ISNUMBER(D205),\"判定外\",IF(C205=6,VLOOKUP(U205,判定式!$C$15:I$19,7,TRUE),IF(C205=7,VLOOKUP(U205,判定式!$D$15:I$19,6,TRUE),IF(C205=8,VLOOKUP(U205,判定式!$E$15:I$19,5,TRUE),IF(C205=9,VLOOKUP(U205,判定式!$F$15:I$19,4,TRUE),IF(C205=10,VLOOKUP(U205,判定式!$G$15:I$19,3,TRUE),IF(C205=11,VLOOKUP(U205,判定式!$H$15:I$19,2,TRUE))))))))","v":false}]
[57,null,null,"-",null,null,null,null,null,null,null,null,{"$f":"IF($E206=\"\",\"\",VLOOKUP($E206,判定式!$P$3:$W$12,8,TRUE))","v":""},{"$f":"IF($F206=\"\",\"\",VLOOKUP($F206,判定式!$Q$3:$W$12,7,TRUE))","v":""},{"$f":"IF($G206=\"\",\"\",VLOOKUP($G206,判定式!$R$3:$W$12,6,TRUE))","v":""},{"$f":"IF($H206=\"\",\"\",VLOOKUP($H206,判定式!$S$3:$W$12,5,TRUE))","v":""},{"$f":"IF($I206=\"\",\"\",VLOOKUP($I206,判定式!$V$3:$W$12,2,TRUE))","v":""},{"$f":"IF($J206=\"\",\"\",VLOOKUP($J206,判定式!$Y$3:$Z$12,2,TRUE))","v":""},{"$f":"IF($K206=\"\",\"\",VLOOKUP($K206,判定式!$T$3:$W$12,4,TRUE))","v":""},{"$f":"IF($L206=\"\",\"\",VLOOKUP($L206,判定式!$U$3:$W$12,3,TRUE))","v":""},"",{"$f":"IF(ISNUMBER(D206),\"判定外\",IF(C206=6,VLOOKUP(U206,判定式!$C$15:I$19,7,TRUE),IF(C206=7,VLOOKUP(U206,判定式!$D$15:I$19,6,TRUE),IF(C206=8,VLOOKUP(U206,判定式!$E$15:I$19,5,TRUE),IF(C206=9,VLOOKUP(U206,判定式!$F$15:I$19,4,TRUE),IF(C206=10,VLOOKUP(U206,判定式!$G$15:I$19,3,TRUE),IF(C206=11,VLOOKUP(U206,判定式!$H$15:I$19,2,TRUE))))))))","v":false}]
[58,null,null,"-",null,null,null,null,null,null,null,null,{"$f":"IF($E207=\"\",\"\",VLOOKUP($E207,判定式!$P$3:$W$12,8,TRUE))","v":""},{"$f":"IF($F207=\"\",\"\",VLOOKUP($F207,判定式!$Q$3:$W$12,7,TRUE))","v":""},{"$f":"IF($G207=\"\",\"\",VLOOKUP($G207,判定式!$R$3:$W$12,6,TRUE))","v":""},{"$f":"IF($H207=\"\",\"\",VLOOKUP($H207,判定式!$S$3:$W$12,5,TRUE))","v":""},{"$f":"IF($I207=\"\",\"\",VLOOKUP($I207,判定式!$V$3:$W$12,2,TRUE))","v":""},{"$f":"IF($J207=\"\",\"\",VLOOKUP($J207,判定式!$Y$3:$Z$12,2,TRUE))","v":""},{"$f":"IF($K207=\"\",\"\",VLOOKUP($K207,判定式!$T$3:$W$12,4,TRUE))","v":""},{"$f":"IF($L207=\"\",\"\",VLOOKUP($L207,判定式!$U$3:$W$12,3,TRUE))","v":""},"",{"$f":"IF(ISNUMBER(D207),\"判定外\",IF(C207=6,VLOOKUP(U207,判定式!$C$15:I$19,7,TRUE),IF(C207=7,VLOOKUP(U207,判定式!$D$15:I$19,6,TRUE),IF(C207=8,VLOOKUP(U207,判定式!$E$15:I$19,5,TRUE),IF(C207=9,VLOOKUP(U207,判定式!$F$15:I$19,4,TRUE),IF(C207=10,VLOOKUP(U207,判定式!$G$15:I$19,3,TRUE),IF(C207=11,VLOOKUP(U207,判定式!$H$15:I$19,2,TRUE))))))))","v":false}]
[59,null,null,"-",null,null,null,null,null,null,null,null,{"$f":"IF($E208=\"\",\"\",VLOOKUP($E208,判定式!$P$3:$W$12,8,TRUE))","v":""},{"$f":"IF($F208=\"\",\"\",VLOOKUP($F208,判定式!$Q$3:$W$12,7,TRUE))","v":""},{"$f":"IF($G208=\"\",\"\",VLOOKUP($G208,判定式!$R$3:$W$12,6,TRUE))","v":""},{"$f":"IF($H208=\"\",\"\",VLOOKUP($H208,判定式!$S$3:$W$12,5,TRUE))","v":""},{"$f":"IF($I208=\"\",\"\",VLOOKUP($I208,判定式!$V$3:$W$12,2,TRUE))","v":""},{"$f":"IF($J208=\"\",\"\",VLOOKUP($J208,判定式!$Y$3:$Z$12,2,TRUE))","v":""},{"$f":"IF($K208=\"\",\"\",VLOOKUP($K208,判定式!$T$3:$W$12,4,TRUE))","v":""},{"$f":"IF($L208=\"\",\"\",VLOOKUP($L208,判定式!$U$3:$W$12,3,TRUE))","v":""},"",{"$f":"IF(ISNUMBER(D208),\"判定外\",IF(C208=6,VLOOKUP(U208,判定式!$C$15:I$19,7,TRUE),IF(C208=7,VLOOKUP(U208,判定式!$D$15:I$19,6,TRUE),IF(C208=8,VLOOKUP(U208,判定式!$E$15:I$19,5,TRUE),IF(C208=9,VLOOKUP(U208,判定式!$F$15:I$19,4,TRUE),IF(C208=10,VLOOKUP(U208,判定式!$G$15:I$19,3,TRUE),IF(C208=11,VLOOKUP(U208,判定式!$H$15:I$19,2,TRUE))))))))","v":false}]
[60,null,null,"-",null,null,null,null,null,null,null,null,{"$f":"IF($E209=\"\",\"\",VLOOKUP($E209,判定式!$P$3:$W$12,8,TRUE))","v":""},{"$f":"IF($F209=\"\",\"\",VLOOKUP($F209,判定式!$Q$3:$W$12,7,TRUE))","v":""},{"$f":"IF($G209=\"\",\"\",VLOOKUP($G209,判定式!$R$3:$W$12,6,TRUE))","v":""},{"$f":"IF($H209=\"\",\"\",VLOOKUP($H209,判定式!$S$3:$W$12,5,TRUE))","v":""},{"$f":"IF($I209=\"\",\"\",VLOOKUP($I209,判定式!$V$3:$W$12,2,TRUE))","v":""},{"$f":"IF($J209=\"\",\"\",VLOOKUP($J209,判定式!$Y$3:$Z$12,2,TRUE))","v":""},{"$f":"IF($K209=\"\",\"\",VLOOKUP($K209,判定式!$T$3:$W$12,4,TRUE))","v":""},{"$f":"IF($L209=\"\",\"\",VLOOKUP($L209,判定式!$U$3:$W$12,3,TRUE))","v":""},"",{"$f":"IF(ISNUMBER(D209),\"判定外\",IF(C209=6,VLOOKUP(U209,判定式!$C$15:I$19,7,TRUE),IF(C209=7,VLOOKUP(U209,判定式!$D$15:I$19,6,TRUE),IF(C209=8,VLOOKUP(U209,判定式!$E$15:I$19,5,TRUE),IF(C209=9,VLOOKUP(U209,判定式!$F$15:I$19,4,TRUE),IF(C209=10,VLOOKUP(U209,判定式!$G$15:I$19,3,TRUE),IF(C209=11,VLOOKUP(U209,判定式!$H$15:I$19,2,TRUE))))))))","v":false}]
[61,null,null,"-",null,null,null,null,null,null,null,null,{"$f":"IF($E210=\"\",\"\",VLOOKUP($E210,判定式!$P$3:$W$12,8,TRUE))","v":""},{"$f":"IF($F210=\"\",\"\",VLOOKUP($F210,判定式!$Q$3:$W$12,7,TRUE))","v":""},{"$f":"IF($G210=\"\",\"\",VLOOKUP($G210,判定式!$R$3:$W$12,6,TRUE))","v":""},{"$f":"IF($H210=\"\",\"\",VLOOKUP($H210,判定式!$S$3:$W$12,5,TRUE))","v":""},{"$f":"IF($I210=\"\",\"\",VLOOKUP($I210,判定式!$V$3:$W$12,2,TRUE))","v":""},{"$f":"IF($J210=\"\",\"\",VLOOKUP($J210,判定式!$Y$3:$Z$12,2,TRUE))","v":""},{"$f":"IF($K210=\"\",\"\",VLOOKUP($K210,判定式!$T$3:$W$12,4,TRUE))","v":""},{"$f":"IF($L210=\"\",\"\",VLOOKUP($L210,判定式!$U$3:$W$12,3,TRUE))","v":""},"",{"$f":"IF(ISNUMBER(D210),\"判定外\",IF(C210=6,VLOOKUP(U210,判定式!$C$15:I$19,7,TRUE),IF(C210=7,VLOOKUP(U210,判定式!$D$15:I$19,6,TRUE),IF(C210=8,VLOOKUP(U210,判定式!$E$15:I$19,5,TRUE),IF(C210=9,VLOOKUP(U210,判定式!$F$15:I$19,4,TRUE),IF(C210=10,VLOOKUP(U210,判定式!$G$15:I$19,3,TRUE),IF(C210=11,VLOOKUP(U210,判定式!$H$15:I$19,2,TRUE))))))))","v":false}]
[62,null,null,"-",null,null,null,null,null,null,null,null,{"$f":"IF($E211=\"\",\"\",VLOOKUP($E211,判定式!$P$3:$W$12,8,TRUE))","v":""},{"$f":"IF($F211=\"\",\"\",VLOOKUP($F211,判定式!$Q$3:$W$12,7,TRUE))","v":""},{"$f":"IF($G211=\"\",\"\",VLOOKUP($G211,判定式!$R$3:$W$12,6,TRUE))","v":""},{"$f":"IF($H211=\"\",\"\",VLOOKUP($H211,判定式!$S$3:$W$12,5,TRUE))","v":""},{"$f":"IF($I211=\"\",\"\",VLOOKUP($I211,判定式!$V$3:$W$12,2,TRUE))","v":""},{"$f":"IF($J211=\"\",\"\",VLOOKUP($J211,判定式!$Y$3:$Z$12,2,TRUE))","v":""},{"$f":"IF($K211=\"\",\"\",VLOOKUP($K211,判定式!$T$3:$W$12,4,TRUE))","v":""},{"$f":"IF($L211=\"\",\"\",VLOOKUP($L211,判定式!$U$3:$W$12,3,TRUE))","v":""},"",{"$f":"IF(ISNUMBER(D211),\"判定外\",IF(C211=6,VLOOKUP(U211,判定式!$C$15:I$19,7,TRUE),IF(C211=7,VLOOKUP(U211,判定式!$D$15:I$19,6,TRUE),IF(C211=8,VLOOKUP(U211,判定式!$E$15:I$19,5,TRUE),IF(C211=9,VLOOKUP(U211,判定式!$F$15:I$19,4,TRUE),IF(C211=10,VLOOKUP(U211,判定式!$G$15:I$19,3,TRUE),IF(C211=11,VLOOKUP(U211,判定式!$H$15:I$19,2,TRUE))))))))","v":false}]
[63,null,null,"-",null,null,null,null,null,null,null,null,{"$f":"IF($E212=\"\",\"\",VLOOKUP($E212,判定式!$P$3:$W$12,8,TRUE))","v":""},{"$f":"IF($F212=\"\",\"\",VLOOKUP($F212,判定式!$Q$3:$W$12,7,TRUE))","v":""},{"$f":"IF($G212=\"\",\"\",VLOOKUP($G212,判定式!$R$3:$W$12,6,TRUE))","v":""},{"$f":"IF($H212=\"\",\"\",VLOOKUP($H212,判定式!$S$3:$W$12,5,TRUE))","v":""},{"$f":"IF($I212=\"\",\"\",VLOOKUP($I212,判定式!$V$3:$W$12,2,TRUE))","v":""},{"$f":"IF($J212=\"\",\"\",VLOOKUP($J212,判定式!$Y$3:$Z$12,2,TRUE))","v":""},{"$f":"IF($K212=\"\",\"\",VLOOKUP($K212,判定式!$T$3:$W$12,4,TRUE))","v":""},{"$f":"IF($L212=\"\",\"\",VLOOKUP($L212,判定式!$U$3:$W$12,3,TRUE))","v":""},"",{"$f":"IF(ISNUMBER(D212),\"判定外\",IF(C212=6,VLOOKUP(U212,判定式!$C$15:I$19,7,TRUE),IF(C212=7,VLOOKUP(U212,判定式!$D$15:I$19,6,TRUE),IF(C212=8,VLOOKUP(U212,判定式!$E$15:I$19,5,TRUE),IF(C212=9,VLOOKUP(U212,判定式!$F$15:I$19,4,TRUE),IF(C212=10,VLOOKUP(U212,判定式!$G$15:I$19,3,TRUE),IF(C212=11,VLOOKUP(U212,判定式!$H$15:I$19,2,TRUE))))))))","v":false}]
[64,null,null,"-",null,null,null,null,null,null,null,null,{"$f":"IF($E213=\"\",\"\",VLOOKUP($E213,判定式!$P$3:$W$12,8,TRUE))","v":""},{"$f":"IF($F213=\"\",\"\",VLOOKUP($F213,判定式!$Q$3:$W$12,7,TRUE))","v":""},{"$f":"IF($G213=\"\",\"\",VLOOKUP($G213,判定式!$R$3:$W$12,6,TRUE))","v":""},{"$f":"IF($H213=\"\",\"\",VLOOKUP($H213,判定式!$S$3:$W$12,5,TRUE))","v":""},{"$f":"IF($I213=\"\",\"\",VLOOKUP($I213,判定式!$V$3:$W$12,2,TRUE))","v":""},{"$f":"IF($J213=\"\",\"\",VLOOKUP($J213,判定式!$Y$3:$Z$12,2,TRUE))","v":""},{"$f":"IF($K213=\"\",\"\",VLOOKUP($K213,判定式!$T$3:$W$12,4,TRUE))","v":""},{"$f":"IF($L213=\"\",\"\",VLOOKUP($L213,判定式!$U$3:$W$12,3,TRUE))","v":""},"",{"$f":"IF(ISNUMBER(D213),\"判定外\",IF(C213=6,VLOOKUP(U213,判定式!$C$15:I$19,7,TRUE),IF(C213=7,VLOOKUP(U213,判定式!$D$15:I$19,6,TRUE),IF(C213=8,VLOOKUP(U213,判定式!$E$15:I$19,5,TRUE),IF(C213=9,VLOOKUP(U213,判定式!$F$15:I$19,4,TRUE),IF(C213=10,VLOOKUP(U213,判定式!$G$15:I$19,3,TRUE),IF(C213=11,VLOOKUP(U213,判定式!$H$15:I$19,2,TRUE))))))))","v":false}]
[65,null,null,{"$f":"IF(COUNTBLANK(E214:L214)=0,\"\",IF(COUNTBLANK(E214:L214)=8,\"-\",COUNTBLANK(E214:L214)))","v":"-"},null,null,null,null,null,null,null,null,{"$f":"IF($E214=\"\",\"\",VLOOKUP($E214,判定式!$P$3:$W$12,8,TRUE))","v":""},{"$f":"IF($F214=\"\",\"\",VLOOKUP($F214,判定式!$Q$3:$W$12,7,TRUE))","v":""},{"$f":"IF($G214=\"\",\"\",VLOOKUP($G214,判定式!$R$3:$W$12,6,TRUE))","v":""},{"$f":"IF($H214=\"\",\"\",VLOOKUP($H214,判定式!$S$3:$W$12,5,TRUE))","v":""},{"$f":"IF($I214=\"\",\"\",VLOOKUP($I214,判定式!$V$3:$W$12,2,TRUE))","v":""},{"$f":"IF($J214=\"\",\"\",VLOOKUP($J214,判定式!$Y$3:$Z$12,2,TRUE))","v":""},{"$f":"IF($K214=\"\",\"\",VLOOKUP($K214,判定式!$T$3:$W$12,4,TRUE))","v":""},{"$f":"IF($L214=\"\",\"\",VLOOKUP($L214,判定式!$U$3:$W$12,3,TRUE))","v":""},{"$f":"IF(COUNTBLANK(M214:T214)=0,SUM(M214:T214),\"\")","v":""},{"$f":"IF(ISNUMBER(D214),\"判定外\",IF(C214=6,VLOOKUP(U214,判定式!$C$15:I$19,7,TRUE),IF(C214=7,VLOOKUP(U214,判定式!$D$15:I$19,6,TRUE),IF(C214=8,VLOOKUP(U214,判定式!$E$15:I$19,5,TRUE),IF(C214=9,VLOOKUP(U214,判定式!$F$15:I$19,4,TRUE),IF(C214=10,VLOOKUP(U214,判定式!$G$15:I$19,3,TRUE),IF(C214=11,VLOOKUP(U214,判定式!$H$15:I$19,2,TRUE))))))))","v":false}]
[66,null,null,"-",null,null,null,null,null,null,null,null,{"$f":"IF($E215=\"\",\"\",VLOOKUP($E215,判定式!$P$3:$W$12,8,TRUE))","v":""},{"$f":"IF($F215=\"\",\"\",VLOOKUP($F215,判定式!$Q$3:$W$12,7,TRUE))","v":""},{"$f":"IF($G215=\"\",\"\",VLOOKUP($G215,判定式!$R$3:$W$12,6,TRUE))","v":""},{"$f":"IF($H215=\"\",\"\",VLOOKUP($H215,判定式!$S$3:$W$12,5,TRUE))","v":""},{"$f":"IF($I215=\"\",\"\",VLOOKUP($I215,判定式!$V$3:$W$12,2,TRUE))","v":""},{"$f":"IF($J215=\"\",\"\",VLOOKUP($J215,判定式!$Y$3:$Z$12,2,TRUE))","v":""},{"$f":"IF($K215=\"\",\"\",VLOOKUP($K215,判定式!$T$3:$W$12,4,TRUE))","v":""},{"$f":"IF($L215=\"\",\"\",VLOOKUP($L215,判定式!$U$3:$W$12,3,TRUE))","v":""},"",{"$f":"IF(ISNUMBER(D215),\"判定外\",IF(C215=6,VLOOKUP(U215,判定式!$C$15:I$19,7,TRUE),IF(C215=7,VLOOKUP(U215,判定式!$D$15:I$19,6,TRUE),IF(C215=8,VLOOKUP(U215,判定式!$E$15:I$19,5,TRUE),IF(C215=9,VLOOKUP(U215,判定式!$F$15:I$19,4,TRUE),IF(C215=10,VLOOKUP(U215,判定式!$G$15:I$19,3,TRUE),IF(C215=11,VLOOKUP(U215,判定式!$H$15:I$19,2,TRUE))))))))","v":false}]
[67,null,null,"-",null,null,null,null,null,null,null,null,{"$f":"IF($E216=\"\",\"\",VLOOKUP($E216,判定式!$P$3:$W$12,8,TRUE))","v":""},{"$f":"IF($F216=\"\",\"\",VLOOKUP($F216,判定式!$Q$3:$W$12,7,TRUE))","v":""},{"$f":"IF($G216=\"\",\"\",VLOOKUP($G216,判定式!$R$3:$W$12,6,TRUE))","v":""},{"$f":"IF($H216=\"\",\"\",VLOOKUP($H216,判定式!$S$3:$W$12,5,TRUE))","v":""},{"$f":"IF($I216=\"\",\"\",VLOOKUP($I216,判定式!$V$3:$W$12,2,TRUE))","v":""},{"$f":"IF($J216=\"\",\"\",VLOOKUP($J216,判定式!$Y$3:$Z$12,2,TRUE))","v":""},{"$f":"IF($K216=\"\",\"\",VLOOKUP($K216,判定式!$T$3:$W$12,4,TRUE))","v":""},{"$f":"IF($L216=\"\",\"\",VLOOKUP($L216,判定式!$U$3:$W$12,3,TRUE))","v":""},"",{"$f":"IF(ISNUMBER(D216),\"判定外\",IF(C216=6,VLOOKUP(U216,判定式!$C$15:I$19,7,TRUE),IF(C216=7,VLOOKUP(U216,判定式!$D$15:I$19,6,TRUE),IF(C216=8,VLOOKUP(U216,判定式!$E$15:I$19,5,TRUE),IF(C216=9,VLOOKUP(U216,判定式!$F$15:I$19,4,TRUE),IF(C216=10,VLOOKUP(U216,判定式!$G$15:I$19,3,TRUE),IF(C216=11,VLOOKUP(U216,判定式!$H$15:I$19,2,TRUE))))))))","v":false}]
[68,null,null,"-",null,null,null,null,null,null,null,null,{"$f":"IF($E217=\"\",\"\",VLOOKUP($E217,判定式!$P$3:$W$12,8,TRUE))","v":""},{"$f":"IF($F217=\"\",\"\",VLOOKUP($F217,判定式!$Q$3:$W$12,7,TRUE))","v":""},{"$f":"IF($G217=\"\",\"\",VLOOKUP($G217,判定式!$R$3:$W$12,6,TRUE))","v":""},{"$f":"IF($H217=\"\",\"\",VLOOKUP($H217,判定式!$S$3:$W$12,5,TRUE))","v":""},{"$f":"IF($I217=\"\",\"\",VLOOKUP($I217,判定式!$V$3:$W$12,2,TRUE))","v":""},{"$f":"IF($J217=\"\",\"\",VLOOKUP($J217,判定式!$Y$3:$Z$12,2,TRUE))","v":""},{"$f":"IF($K217=\"\",\"\",VLOOKUP($K217,判定式!$T$3:$W$12,4,TRUE))","v":""},{"$f":"IF($L217=\"\",\"\",VLOOKUP($L217,判定式!$U$3:$W$12,3,TRUE))","v":""},"",{"$f":"IF(ISNUMBER(D217),\"判定外\",IF(C217=6,VLOOKUP(U217,判定式!$C$15:I$19,7,TRUE),IF(C217=7,VLOOKUP(U217,判定式!$D$15:I$19,6,TRUE),IF(C217=8,VLOOKUP(U217,判定式!$E$15:I$19,5,TRUE),IF(C217=9,VLOOKUP(U217,判定式!$F$15:I$19,4,TRUE),IF(C217=10,VLOOKUP(U217,判定式!$G$15:I$19,3,TRUE),IF(C217=11,VLOOKUP(U217,判定式!$H$15:I$19,2,TRUE))))))))","v":false}]
[69,null,null,"-",null,null,null,null,null,null,null,null,{"$f":"IF($E218=\"\",\"\",VLOOKUP($E218,判定式!$P$3:$W$12,8,TRUE))","v":""},{"$f":"IF($F218=\"\",\"\",VLOOKUP($F218,判定式!$Q$3:$W$12,7,TRUE))","v":""},{"$f":"IF($G218=\"\",\"\",VLOOKUP($G218,判定式!$R$3:$W$12,6,TRUE))","v":""},{"$f":"IF($H218=\"\",\"\",VLOOKUP($H218,判定式!$S$3:$W$12,5,TRUE))","v":""},{"$f":"IF($I218=\"\",\"\",VLOOKUP($I218,判定式!$V$3:$W$12,2,TRUE))","v":""},{"$f":"IF($J218=\"\",\"\",VLOOKUP($J218,判定式!$Y$3:$Z$12,2,TRUE))","v":""},{"$f":"IF($K218=\"\",\"\",VLOOKUP($K218,判定式!$T$3:$W$12,4,TRUE))","v":""},{"$f":"IF($L218=\"\",\"\",VLOOKUP($L218,判定式!$U$3:$W$12,3,TRUE))","v":""},"",{"$f":"IF(ISNUMBER(D218),\"判定外\",IF(C218=6,VLOOKUP(U218,判定式!$C$15:I$19,7,TRUE),IF(C218=7,VLOOKUP(U218,判定式!$D$15:I$19,6,TRUE),IF(C218=8,VLOOKUP(U218,判定式!$E$15:I$19,5,TRUE),IF(C218=9,VLOOKUP(U218,判定式!$F$15:I$19,4,TRUE),IF(C218=10,VLOOKUP(U218,判定式!$G$15:I$19,3,TRUE),IF(C218=11,VLOOKUP(U218,判定式!$H$15:I$19,2,TRUE))))))))","v":false}]
[70,null,null,"-",null,null,null,null,null,null,null,null,{"$f":"IF($E219=\"\",\"\",VLOOKUP($E219,判定式!$P$3:$W$12,8,TRUE))","v":""},{"$f":"IF($F219=\"\",\"\",VLOOKUP($F219,判定式!$Q$3:$W$12,7,TRUE))","v":""},{"$f":"IF($G219=\"\",\"\",VLOOKUP($G219,判定式!$R$3:$W$12,6,TRUE))","v":""},{"$f":"IF($H219=\"\",\"\",VLOOKUP($H219,判定式!$S$3:$W$12,5,TRUE))","v":""},{"$f":"IF($I219=\"\",\"\",VLOOKUP($I219,判定式!$V$3:$W$12,2,TRUE))","v":""},{"$f":"IF($J219=\"\",\"\",VLOOKUP($J219,判定式!$Y$3:$Z$12,2,TRUE))","v":""},{"$f":"IF($K219=\"\",\"\",VLOOKUP($K219,判定式!$T$3:$W$12,4,TRUE))","v":""},{"$f":"IF($L219=\"\",\"\",VLOOKUP($L219,判定式!$U$3:$W$12,3,TRUE))","v":""},"",{"$f":"IF(ISNUMBER(D219),\"判定外\",IF(C219=6,VLOOKUP(U219,判定式!$C$15:I$19,7,TRUE),IF(C219=7,VLOOKUP(U219,判定式!$D$15:I$19,6,TRUE),IF(C219=8,VLOOKUP(U219,判定式!$E$15:I$19,5,TRUE),IF(C219=9,VLOOKUP(U219,判定式!$F$15:I$19,4,TRUE),IF(C219=10,VLOOKUP(U219,判定式!$G$15:I$19,3,TRUE),IF(C219=11,VLOOKUP(U219,判定式!$H$15:I$19,2,TRUE))))))))","v":false}]
[71,null,null,"-",null,null,null,null,null,null,null,null,{"$f":"IF($E220=\"\",\"\",VLOOKUP($E220,判定式!$P$3:$W$12,8,TRUE))","v":""},{"$f":"IF($F220=\"\",\"\",VLOOKUP($F220,判定式!$Q$3:$W$12,7,TRUE))","v":""},{"$f":"IF($G220=\"\",\"\",VLOOKUP($G220,判定式!$R$3:$W$12,6,TRUE))","v":""},{"$f":"IF($H220=\"\",\"\",VLOOKUP($H220,判定式!$S$3:$W$12,5,TRUE))","v":""},{"$f":"IF($I220=\"\",\"\",VLOOKUP($I220,判定式!$V$3:$W$12,2,TRUE))","v":""},{"$f":"IF($J220=\"\",\"\",VLOOKUP($J220,判定式!$Y$3:$Z$12,2,TRUE))","v":""},{"$f":"IF($K220=\"\",\"\",VLOOKUP($K220,判定式!$T$3:$W$12,4,TRUE))","v":""},{"$f":"IF($L220=\"\",\"\",VLOOKUP($L220,判定式!$U$3:$W$12,3,TRUE))","v":""},"",{"$f":"IF(ISNUMBER(D220),\"判定外\",IF(C220=6,VLOOKUP(U220,判定式!$C$15:I$19,7,TRUE),IF(C220=7,VLOOKUP(U220,判定式!$D$15:I$19,6,TRUE),IF(C220=8,VLOOKUP(U220,判定式!$E$15:I$19,5,TRUE),IF(C220=9,VLOOKUP(U220,判定式!$F$15:I$19,4,TRUE),IF(C220=10,VLOOKUP(U220,判定式!$G$15:I$19,3,TRUE),IF(C220=11,VLOOKUP(U220,判定式!$H$15:I$19,2,TRUE))))))))","v":false}]
[72,null,null,"-",null,null,null,null,null,null,null,null,{"$f":"IF($E221=\"\",\"\",VLOOKUP($E221,判定式!$P$3:$W$12,8,TRUE))","v":""},{"$f":"IF($F221=\"\",\"\",VLOOKUP($F221,判定式!$Q$3:$W$12,7,TRUE))","v":""},{"$f":"IF($G221=\"\",\"\",VLOOKUP($G221,判定式!$R$3:$W$12,6,TRUE))","v":""},{"$f":"IF($H221=\"\",\"\",VLOOKUP($H221,判定式!$S$3:$W$12,5,TRUE))","v":""},{"$f":"IF($I221=\"\",\"\",VLOOKUP($I221,判定式!$V$3:$W$12,2,TRUE))","v":""},{"$f":"IF($J221=\"\",\"\",VLOOKUP($J221,判定式!$Y$3:$Z$12,2,TRUE))","v":""},{"$f":"IF($K221=\"\",\"\",VLOOKUP($K221,判定式!$T$3:$W$12,4,TRUE))","v":""},{"$f":"IF($L221=\"\",\"\",VLOOKUP($L221,判定式!$U$3:$W$12,3,TRUE))","v":""},"",{"$f":"IF(ISNUMBER(D221),\"判定外\",IF(C221=6,VLOOKUP(U221,判定式!$C$15:I$19,7,TRUE),IF(C221=7,VLOOKUP(U221,判定式!$D$15:I$19,6,TRUE),IF(C221=8,VLOOKUP(U221,判定式!$E$15:I$19,5,TRUE),IF(C221=9,VLOOKUP(U221,判定式!$F$15:I$19,4,TRUE),IF(C221=10,VLOOKUP(U221,判定式!$G$15:I$19,3,TRUE),IF(C221=11,VLOOKUP(U221,判定式!$H$15:I$19,2,TRUE))))))))","v":false}]
[73,null,null,"-",null,null,null,null,null,null,null,null,{"$f":"IF($E222=\"\",\"\",VLOOKUP($E222,判定式!$P$3:$W$12,8,TRUE))","v":""},{"$f":"IF($F222=\"\",\"\",VLOOKUP($F222,判定式!$Q$3:$W$12,7,TRUE))","v":""},{"$f":"IF($G222=\"\",\"\",VLOOKUP($G222,判定式!$R$3:$W$12,6,TRUE))","v":""},{"$f":"IF($H222=\"\",\"\",VLOOKUP($H222,判定式!$S$3:$W$12,5,TRUE))","v":""},{"$f":"IF($I222=\"\",\"\",VLOOKUP($I222,判定式!$V$3:$W$12,2,TRUE))","v":""},{"$f":"IF($J222=\"\",\"\",VLOOKUP($J222,判定式!$Y$3:$Z$12,2,TRUE))","v":""},{"$f":"IF($K222=\"\",\"\",VLOOKUP($K222,判定式!$T$3:$W$12,4,TRUE))","v":""},{"$f":"IF($L222=\"\",\"\",VLOOKUP($L222,判定式!$U$3:$W$12,3,TRUE))","v":""},"",{"$f":"IF(ISNUMBER(D222),\"判定外\",IF(C222=6,VLOOKUP(U222,判定式!$C$15:I$19,7,TRUE),IF(C222=7,VLOOKUP(U222,判定式!$D$15:I$19,6,TRUE),IF(C222=8,VLOOKUP(U222,判定式!$E$15:I$19,5,TRUE),IF(C222=9,VLOOKUP(U222,判定式!$F$15:I$19,4,TRUE),IF(C222=10,VLOOKUP(U222,判定式!$G$15:I$19,3,TRUE),IF(C222=11,VLOOKUP(U222,判定式!$H$15:I$19,2,TRUE))))))))","v":false}]
[74,null,null,"-",null,null,null,null,null,null,null,null,{"$f":"IF($E223=\"\",\"\",VLOOKUP($E223,判定式!$P$3:$W$12,8,TRUE))","v":""},{"$f":"IF($F223=\"\",\"\",VLOOKUP($F223,判定式!$Q$3:$W$12,7,TRUE))","v":""},{"$f":"IF($G223=\"\",\"\",VLOOKUP($G223,判定式!$R$3:$W$12,6,TRUE))","v":""},{"$f":"IF($H223=\"\",\"\",VLOOKUP($H223,判定式!$S$3:$W$12,5,TRUE))","v":""},{"$f":"IF($I223=\"\",\"\",VLOOKUP($I223,判定式!$V$3:$W$12,2,TRUE))","v":""},{"$f":"IF($J223=\"\",\"\",VLOOKUP($J223,判定式!$Y$3:$Z$12,2,TRUE))","v":""},{"$f":"IF($K223=\"\",\"\",VLOOKUP($K223,判定式!$T$3:$W$12,4,TRUE))","v":""},{"$f":"IF($L223=\"\",\"\",VLOOKUP($L223,判定式!$U$3:$W$12,3,TRUE))","v":""},"",{"$f":"IF(ISNUMBER(D223),\"判定外\",IF(C223=6,VLOOKUP(U223,判定式!$C$15:I$19,7,TRUE),IF(C223=7,VLOOKUP(U223,判定式!$D$15:I$19,6,TRUE),IF(C223=8,VLOOKUP(U223,判定式!$E$15:I$19,5,TRUE),IF(C223=9,VLOOKUP(U223,判定式!$F$15:I$19,4,TRUE),IF(C223=10,VLOOKUP(U223,判定式!$G$15:I$19,3,TRUE),IF(C223=11,VLOOKUP(U223,判定式!$H$15:I$19,2,TRUE))))))))","v":false}]
[75,null,null,"-",null,null,null,null,null,null,null,null,{"$f":"IF($E224=\"\",\"\",VLOOKUP($E224,判定式!$P$3:$W$12,8,TRUE))","v":""},{"$f":"IF($F224=\"\",\"\",VLOOKUP($F224,判定式!$Q$3:$W$12,7,TRUE))","v":""},{"$f":"IF($G224=\"\",\"\",VLOOKUP($G224,判定式!$R$3:$W$12,6,TRUE))","v":""},{"$f":"IF($H224=\"\",\"\",VLOOKUP($H224,判定式!$S$3:$W$12,5,TRUE))","v":""},{"$f":"IF($I224=\"\",\"\",VLOOKUP($I224,判定式!$V$3:$W$12,2,TRUE))","v":""},{"$f":"IF($J224=\"\",\"\",VLOOKUP($J224,判定式!$Y$3:$Z$12,2,TRUE))","v":""},{"$f":"IF($K224=\"\",\"\",VLOOKUP($K224,判定式!$T$3:$W$12,4,TRUE))","v":""},{"$f":"IF($L224=\"\",\"\",VLOOKUP($L224,判定式!$U$3:$W$12,3,TRUE))","v":""},"",{"$f":"IF(ISNUMBER(D224),\"判定外\",IF(C224=6,VLOOKUP(U224,判定式!$C$15:I$19,7,TRUE),IF(C224=7,VLOOKUP(U224,判定式!$D$15:I$19,6,TRUE),IF(C224=8,VLOOKUP(U224,判定式!$E$15:I$19,5,TRUE),IF(C224=9,VLOOKUP(U224,判定式!$F$15:I$19,4,TRUE),IF(C224=10,VLOOKUP(U224,判定式!$G$15:I$19,3,TRUE),IF(C224=11,VLOOKUP(U224,判定式!$H$15:I$19,2,TRUE))))))))","v":false}]
[76,null,null,"-",null,null,null,null,null,null,null,null,{"$f":"IF($E225=\"\",\"\",VLOOKUP($E225,判定式!$P$3:$W$12,8,TRUE))","v":""},{"$f":"IF($F225=\"\",\"\",VLOOKUP($F225,判定式!$Q$3:$W$12,7,TRUE))","v":""},{"$f":"IF($G225=\"\",\"\",VLOOKUP($G225,判定式!$R$3:$W$12,6,TRUE))","v":""},{"$f":"IF($H225=\"\",\"\",VLOOKUP($H225,判定式!$S$3:$W$12,5,TRUE))","v":""},{"$f":"IF($I225=\"\",\"\",VLOOKUP($I225,判定式!$V$3:$W$12,2,TRUE))","v":""},{"$f":"IF($J225=\"\",\"\",VLOOKUP($J225,判定式!$Y$3:$Z$12,2,TRUE))","v":""},{"$f":"IF($K225=\"\",\"\",VLOOKUP($K225,判定式!$T$3:$W$12,4,TRUE))","v":""},{"$f":"IF($L225=\"\",\"\",VLOOKUP($L225,判定式!$U$3:$W$12,3,TRUE))","v":""},"",{"$f":"IF(ISNUMBER(D225),\"判定外\",IF(C225=6,VLOOKUP(U225,判定式!$C$15:I$19,7,TRUE),IF(C225=7,VLOOKUP(U225,判定式!$D$15:I$19,6,TRUE),IF(C225=8,VLOOKUP(U225,判定式!$E$15:I$19,5,TRUE),IF(C225=9,VLOOKUP(U225,判定式!$F$15:I$19,4,TRUE),IF(C225=10,VLOOKUP(U225,判定式!$G$15:I$19,3,TRUE),IF(C225=11,VLOOKUP(U225,判定式!$H$15:I$19,2,TRUE))))))))","v":false}]
[77,null,null,"-",null,null,null,null,null,null,null,null,{"$f":"IF($E226=\"\",\"\",VLOOKUP($E226,判定式!$P$3:$W$12,8,TRUE))","v":""},{"$f":"IF($F226=\"\",\"\",VLOOKUP($F226,判定式!$Q$3:$W$12,7,TRUE))","v":""},{"$f":"IF($G226=\"\",\"\",VLOOKUP($G226,判定式!$R$3:$W$12,6,TRUE))","v":""},{"$f":"IF($H226=\"\",\"\",VLOOKUP($H226,判定式!$S$3:$W$12,5,TRUE))","v":""},{"$f":"IF($I226=\"\",\"\",VLOOKUP($I226,判定式!$V$3:$W$12,2,TRUE))","v":""},{"$f":"IF($J226=\"\",\"\",VLOOKUP($J226,判定式!$Y$3:$Z$12,2,TRUE))","v":""},{"$f":"IF($K226=\"\",\"\",VLOOKUP($K226,判定式!$T$3:$W$12,4,TRUE))","v":""},{"$f":"IF($L226=\"\",\"\",VLOOKUP($L226,判定式!$U$3:$W$12,3,TRUE))","v":""},"",{"$f":"IF(ISNUMBER(D226),\"判定外\",IF(C226=6,VLOOKUP(U226,判定式!$C$15:I$19,7,TRUE),IF(C226=7,VLOOKUP(U226,判定式!$D$15:I$19,6,TRUE),IF(C226=8,VLOOKUP(U226,判定式!$E$15:I$19,5,TRUE),IF(C226=9,VLOOKUP(U226,判定式!$F$15:I$19,4,TRUE),IF(C226=10,VLOOKUP(U226,判定式!$G$15:I$19,3,TRUE),IF(C226=11,VLOOKUP(U226,判定式!$H$15:I$19,2,TRUE))))))))","v":false}]
[78,null,null,"-",null,null,null,null,null,null,null,null,{"$f":"IF($E227=\"\",\"\",VLOOKUP($E227,判定式!$P$3:$W$12,8,TRUE))","v":""},{"$f":"IF($F227=\"\",\"\",VLOOKUP($F227,判定式!$Q$3:$W$12,7,TRUE))","v":""},{"$f":"IF($G227=\"\",\"\",VLOOKUP($G227,判定式!$R$3:$W$12,6,TRUE))","v":""},{"$f":"IF($H227=\"\",\"\",VLOOKUP($H227,判定式!$S$3:$W$12,5,TRUE))","v":""},{"$f":"IF($I227=\"\",\"\",VLOOKUP($I227,判定式!$V$3:$W$12,2,TRUE))","v":""},{"$f":"IF($J227=\"\",\"\",VLOOKUP($J227,判定式!$Y$3:$Z$12,2,TRUE))","v":""},{"$f":"IF($K227=\"\",\"\",VLOOKUP($K227,判定式!$T$3:$W$12,4,TRUE))","v":""},{"$f":"IF($L227=\"\",\"\",VLOOKUP($L227,判定式!$U$3:$W$12,3,TRUE))","v":""},"",{"$f":"IF(ISNUMBER(D227),\"判定外\",IF(C227=6,VLOOKUP(U227,判定式!$C$15:I$19,7,TRUE),IF(C227=7,VLOOKUP(U227,判定式!$D$15:I$19,6,TRUE),IF(C227=8,VLOOKUP(U227,判定式!$E$15:I$19,5,TRUE),IF(C227=9,VLOOKUP(U227,判定式!$F$15:I$19,4,TRUE),IF(C227=10,VLOOKUP(U227,判定式!$G$15:I$19,3,TRUE),IF(C227=11,VLOOKUP(U227,判定式!$H$15:I$19,2,TRUE))))))))","v":false}]
[79,null,null,"-",null,null,null,null,null,null,null,null,{"$f":"IF($E228=\"\",\"\",VLOOKUP($E228,判定式!$P$3:$W$12,8,TRUE))","v":""},{"$f":"IF($F228=\"\",\"\",VLOOKUP($F228,判定式!$Q$3:$W$12,7,TRUE))","v":""},{"$f":"IF($G228=\"\",\"\",VLOOKUP($G228,判定式!$R$3:$W$12,6,TRUE))","v":""},{"$f":"IF($H228=\"\",\"\",VLOOKUP($H228,判定式!$S$3:$W$12,5,TRUE))","v":""},{"$f":"IF($I228=\"\",\"\",VLOOKUP($I228,判定式!$V$3:$W$12,2,TRUE))","v":""},{"$f":"IF($J228=\"\",\"\",VLOOKUP($J228,判定式!$Y$3:$Z$12,2,TRUE))","v":""},{"$f":"IF($K228=\"\",\"\",VLOOKUP($K228,判定式!$T$3:$W$12,4,TRUE))","v":""},{"$f":"IF($L228=\"\",\"\",VLOOKUP($L228,判定式!$U$3:$W$12,3,TRUE))","v":""},"",{"$f":"IF(ISNUMBER(D228),\"判定外\",IF(C228=6,VLOOKUP(U228,判定式!$C$15:I$19,7,TRUE),IF(C228=7,VLOOKUP(U228,判定式!$D$15:I$19,6,TRUE),IF(C228=8,VLOOKUP(U228,判定式!$E$15:I$19,5,TRUE),IF(C228=9,VLOOKUP(U228,判定式!$F$15:I$19,4,TRUE),IF(C228=10,VLOOKUP(U228,判定式!$G$15:I$19,3,TRUE),IF(C228=11,VLOOKUP(U228,判定式!$H$15:I$19,2,TRUE))))))))","v":false}]
[80,null,null,"-",null,null,null,null,null,null,null,null,{"$f":"IF($E229=\"\",\"\",VLOOKUP($E229,判定式!$P$3:$W$12,8,TRUE))","v":""},{"$f":"IF($F229=\"\",\"\",VLOOKUP($F229,判定式!$Q$3:$W$12,7,TRUE))","v":""},{"$f":"IF($G229=\"\",\"\",VLOOKUP($G229,判定式!$R$3:$W$12,6,TRUE))","v":""},{"$f":"IF($H229=\"\",\"\",VLOOKUP($H229,判定式!$S$3:$W$12,5,TRUE))","v":""},{"$f":"IF($I229=\"\",\"\",VLOOKUP($I229,判定式!$V$3:$W$12,2,TRUE))","v":""},{"$f":"IF($J229=\"\",\"\",VLOOKUP($J229,判定式!$Y$3:$Z$12,2,TRUE))","v":""},{"$f":"IF($K229=\"\",\"\",VLOOKUP($K229,判定式!$T$3:$W$12,4,TRUE))","v":""},{"$f":"IF($L229=\"\",\"\",VLOOKUP($L229,判定式!$U$3:$W$12,3,TRUE))","v":""},"",{"$f":"IF(ISNUMBER(D229),\"判定外\",IF(C229=6,VLOOKUP(U229,判定式!$C$15:I$19,7,TRUE),IF(C229=7,VLOOKUP(U229,判定式!$D$15:I$19,6,TRUE),IF(C229=8,VLOOKUP(U229,判定式!$E$15:I$19,5,TRUE),IF(C229=9,VLOOKUP(U229,判定式!$F$15:I$19,4,TRUE),IF(C229=10,VLOOKUP(U229,判定式!$G$15:I$19,3,TRUE),IF(C229=11,VLOOKUP(U229,判定式!$H$15:I$19,2,TRUE))))))))","v":false}]
[81,null,null,"-",null,null,null,null,null,null,null,null,{"$f":"IF($E230=\"\",\"\",VLOOKUP($E230,判定式!$P$3:$W$12,8,TRUE))","v":""},{"$f":"IF($F230=\"\",\"\",VLOOKUP($F230,判定式!$Q$3:$W$12,7,TRUE))","v":""},{"$f":"IF($G230=\"\",\"\",VLOOKUP($G230,判定式!$R$3:$W$12,6,TRUE))","v":""},{"$f":"IF($H230=\"\",\"\",VLOOKUP($H230,判定式!$S$3:$W$12,5,TRUE))","v":""},{"$f":"IF($I230=\"\",\"\",VLOOKUP($I230,判定式!$V$3:$W$12,2,TRUE))","v":""},{"$f":"IF($J230=\"\",\"\",VLOOKUP($J230,判定式!$Y$3:$Z$12,2,TRUE))","v":""},{"$f":"IF($K230=\"\",\"\",VLOOKUP($K230,判定式!$T$3:$W$12,4,TRUE))","v":""},{"$f":"IF($L230=\"\",\"\",VLOOKUP($L230,判定式!$U$3:$W$12,3,TRUE))","v":""},"",{"$f":"IF(ISNUMBER(D230),\"判定外\",IF(C230=6,VLOOKUP(U230,判定式!$C$15:I$19,7,TRUE),IF(C230=7,VLOOKUP(U230,判定式!$D$15:I$19,6,TRUE),IF(C230=8,VLOOKUP(U230,判定式!$E$15:I$19,5,TRUE),IF(C230=9,VLOOKUP(U230,判定式!$F$15:I$19,4,TRUE),IF(C230=10,VLOOKUP(U230,判定式!$G$15:I$19,3,TRUE),IF(C230=11,VLOOKUP(U230,判定式!$H$15:I$19,2,TRUE))))))))","v":false}]
[82,null,null,"-",null,null,null,null,null,null,null,null,{"$f":"IF($E231=\"\",\"\",VLOOKUP($E231,判定式!$P$3:$W$12,8,TRUE))","v":""},{"$f":"IF($F231=\"\",\"\",VLOOKUP($F231,判定式!$Q$3:$W$12,7,TRUE))","v":""},{"$f":"IF($G231=\"\",\"\",VLOOKUP($G231,判定式!$R$3:$W$12,6,TRUE))","v":""},{"$f":"IF($H231=\"\",\"\",VLOOKUP($H231,判定式!$S$3:$W$12,5,TRUE))","v":""},{"$f":"IF($I231=\"\",\"\",VLOOKUP($I231,判定式!$V$3:$W$12,2,TRUE))","v":""},{"$f":"IF($J231=\"\",\"\",VLOOKUP($J231,判定式!$Y$3:$Z$12,2,TRUE))","v":""},{"$f":"IF($K231=\"\",\"\",VLOOKUP($K231,判定式!$T$3:$W$12,4,TRUE))","v":""},{"$f":"IF($L231=\"\",\"\",VLOOKUP($L231,判定式!$U$3:$W$12,3,TRUE))","v":""},"",{"$f":"IF(ISNUMBER(D231),\"判定外\",IF(C231=6,VLOOKUP(U231,判定式!$C$15:I$19,7,TRUE),IF(C231=7,VLOOKUP(U231,判定式!$D$15:I$19,6,TRUE),IF(C231=8,VLOOKUP(U231,判定式!$E$15:I$19,5,TRUE),IF(C231=9,VLOOKUP(U231,判定式!$F$15:I$19,4,TRUE),IF(C231=10,VLOOKUP(U231,判定式!$G$15:I$19,3,TRUE),IF(C231=11,VLOOKUP(U231,判定式!$H$15:I$19,2,TRUE))))))))","v":false}]
[83,null,null,"-",null,null,null,null,null,null,null,null,{"$f":"IF($E232=\"\",\"\",VLOOKUP($E232,判定式!$P$3:$W$12,8,TRUE))","v":""},{"$f":"IF($F232=\"\",\"\",VLOOKUP($F232,判定式!$Q$3:$W$12,7,TRUE))","v":""},{"$f":"IF($G232=\"\",\"\",VLOOKUP($G232,判定式!$R$3:$W$12,6,TRUE))","v":""},{"$f":"IF($H232=\"\",\"\",VLOOKUP($H232,判定式!$S$3:$W$12,5,TRUE))","v":""},{"$f":"IF($I232=\"\",\"\",VLOOKUP($I232,判定式!$V$3:$W$12,2,TRUE))","v":""},{"$f":"IF($J232=\"\",\"\",VLOOKUP($J232,判定式!$Y$3:$Z$12,2,TRUE))","v":""},{"$f":"IF($K232=\"\",\"\",VLOOKUP($K232,判定式!$T$3:$W$12,4,TRUE))","v":""},{"$f":"IF($L232=\"\",\"\",VLOOKUP($L232,判定式!$U$3:$W$12,3,TRUE))","v":""},"",{"$f":"IF(ISNUMBER(D232),\"判定外\",IF(C232=6,VLOOKUP(U232,判定式!$C$15:I$19,7,TRUE),IF(C232=7,VLOOKUP(U232,判定式!$D$15:I$19,6,TRUE),IF(C232=8,VLOOKUP(U232,判定式!$E$15:I$19,5,TRUE),IF(C232=9,VLOOKUP(U232,判定式!$F$15:I$19,4,TRUE),IF(C232=10,VLOOKUP(U232,判定式!$G$15:I$19,3,TRUE),IF(C232=11,VLOOKUP(U232,判定式!$H$15:I$19,2,TRUE))))))))","v":false}]
[84,null,null,"-",null,null,null,null,null,null,null,null,{"$f":"IF($E233=\"\",\"\",VLOOKUP($E233,判定式!$P$3:$W$12,8,TRUE))","v":""},{"$f":"IF($F233=\"\",\"\",VLOOKUP($F233,判定式!$Q$3:$W$12,7,TRUE))","v":""},{"$f":"IF($G233=\"\",\"\",VLOOKUP($G233,判定式!$R$3:$W$12,6,TRUE))","v":""},{"$f":"IF($H233=\"\",\"\",VLOOKUP($H233,判定式!$S$3:$W$12,5,TRUE))","v":""},{"$f":"IF($I233=\"\",\"\",VLOOKUP($I233,判定式!$V$3:$W$12,2,TRUE))","v":""},{"$f":"IF($J233=\"\",\"\",VLOOKUP($J233,判定式!$Y$3:$Z$12,2,TRUE))","v":""},{"$f":"IF($K233=\"\",\"\",VLOOKUP($K233,判定式!$T$3:$W$12,4,TRUE))","v":""},{"$f":"IF($L233=\"\",\"\",VLOOKUP($L233,判定式!$U$3:$W$12,3,TRUE))","v":""},"",{"$f":"IF(ISNUMBER(D233),\"判定外\",IF(C233=6,VLOOKUP(U233,判定式!$C$15:I$19,7,TRUE),IF(C233=7,VLOOKUP(U233,判定式!$D$15:I$19,6,TRUE),IF(C233=8,VLOOKUP(U233,判定式!$E$15:I$19,5,TRUE),IF(C233=9,VLOOKUP(U233,判定式!$F$15:I$19,4,TRUE),IF(C233=10,VLOOKUP(U233,判定式!$G$15:I$19,3,TRUE),IF(C233=11,VLOOKUP(U233,判定式!$H$15:I$19,2,TRUE))))))))","v":false}]
[85,null,null,"-",null,null,null,null,null,null,null,null,{"$f":"IF($E234=\"\",\"\",VLOOKUP($E234,判定式!$P$3:$W$12,8,TRUE))","v":""},{"$f":"IF($F234=\"\",\"\",VLOOKUP($F234,判定式!$Q$3:$W$12,7,TRUE))","v":""},{"$f":"IF($G234=\"\",\"\",VLOOKUP($G234,判定式!$R$3:$W$12,6,TRUE))","v":""},{"$f":"IF($H234=\"\",\"\",VLOOKUP($H234,判定式!$S$3:$W$12,5,TRUE))","v":""},{"$f":"IF($I234=\"\",\"\",VLOOKUP($I234,判定式!$V$3:$W$12,2,TRUE))","v":""},{"$f":"IF($J234=\"\",\"\",VLOOKUP($J234,判定式!$Y$3:$Z$12,2,TRUE))","v":""},{"$f":"IF($K234=\"\",\"\",VLOOKUP($K234,判定式!$T$3:$W$12,4,TRUE))","v":""},{"$f":"IF($L234=\"\",\"\",VLOOKUP($L234,判定式!$U$3:$W$12,3,TRUE))","v":""},"",{"$f":"IF(ISNUMBER(D234),\"判定外\",IF(C234=6,VLOOKUP(U234,判定式!$C$15:I$19,7,TRUE),IF(C234=7,VLOOKUP(U234,判定式!$D$15:I$19,6,TRUE),IF(C234=8,VLOOKUP(U234,判定式!$E$15:I$19,5,TRUE),IF(C234=9,VLOOKUP(U234,判定式!$F$15:I$19,4,TRUE),IF(C234=10,VLOOKUP(U234,判定式!$G$15:I$19,3,TRUE),IF(C234=11,VLOOKUP(U234,判定式!$H$15:I$19,2,TRUE))))))))","v":false}]
[86,null,null,"-",null,null,null,null,null,null,null,null,{"$f":"IF($E235=\"\",\"\",VLOOKUP($E235,判定式!$P$3:$W$12,8,TRUE))","v":""},{"$f":"IF($F235=\"\",\"\",VLOOKUP($F235,判定式!$Q$3:$W$12,7,TRUE))","v":""},{"$f":"IF($G235=\"\",\"\",VLOOKUP($G235,判定式!$R$3:$W$12,6,TRUE))","v":""},{"$f":"IF($H235=\"\",\"\",VLOOKUP($H235,判定式!$S$3:$W$12,5,TRUE))","v":""},{"$f":"IF($I235=\"\",\"\",VLOOKUP($I235,判定式!$V$3:$W$12,2,TRUE))","v":""},{"$f":"IF($J235=\"\",\"\",VLOOKUP($J235,判定式!$Y$3:$Z$12,2,TRUE))","v":""},{"$f":"IF($K235=\"\",\"\",VLOOKUP($K235,判定式!$T$3:$W$12,4,TRUE))","v":""},{"$f":"IF($L235=\"\",\"\",VLOOKUP($L235,判定式!$U$3:$W$12,3,TRUE))","v":""},"",{"$f":"IF(ISNUMBER(D235),\"判定外\",IF(C235=6,VLOOKUP(U235,判定式!$C$15:I$19,7,TRUE),IF(C235=7,VLOOKUP(U235,判定式!$D$15:I$19,6,TRUE),IF(C235=8,VLOOKUP(U235,判定式!$E$15:I$19,5,TRUE),IF(C235=9,VLOOKUP(U235,判定式!$F$15:I$19,4,TRUE),IF(C235=10,VLOOKUP(U235,判定式!$G$15:I$19,3,TRUE),IF(C235=11,VLOOKUP(U235,判定式!$H$15:I$19,2,TRUE))))))))","v":false}]
[87,null,null,"-",null,null,null,null,null,null,null,null,{"$f":"IF($E236=\"\",\"\",VLOOKUP($E236,判定式!$P$3:$W$12,8,TRUE))","v":""},{"$f":"IF($F236=\"\",\"\",VLOOKUP($F236,判定式!$Q$3:$W$12,7,TRUE))","v":""},{"$f":"IF($G236=\"\",\"\",VLOOKUP($G236,判定式!$R$3:$W$12,6,TRUE))","v":""},{"$f":"IF($H236=\"\",\"\",VLOOKUP($H236,判定式!$S$3:$W$12,5,TRUE))","v":""},{"$f":"IF($I236=\"\",\"\",VLOOKUP($I236,判定式!$V$3:$W$12,2,TRUE))","v":""},{"$f":"IF($J236=\"\",\"\",VLOOKUP($J236,判定式!$Y$3:$Z$12,2,TRUE))","v":""},{"$f":"IF($K236=\"\",\"\",VLOOKUP($K236,判定式!$T$3:$W$12,4,TRUE))","v":""},{"$f":"IF($L236=\"\",\"\",VLOOKUP($L236,判定式!$U$3:$W$12,3,TRUE))","v":""},"",{"$f":"IF(ISNUMBER(D236),\"判定外\",IF(C236=6,VLOOKUP(U236,判定式!$C$15:I$19,7,TRUE),IF(C236=7,VLOOKUP(U236,判定式!$D$15:I$19,6,TRUE),IF(C236=8,VLOOKUP(U236,判定式!$E$15:I$19,5,TRUE),IF(C236=9,VLOOKUP(U236,判定式!$F$15:I$19,4,TRUE),IF(C236=10,VLOOKUP(U236,判定式!$G$15:I$19,3,TRUE),IF(C236=11,VLOOKUP(U236,判定式!$H$15:I$19,2,TRUE))))))))","v":false}]
[88,null,null,"-",null,null,null,null,null,null,null,null,{"$f":"IF($E237=\"\",\"\",VLOOKUP($E237,判定式!$P$3:$W$12,8,TRUE))","v":""},{"$f":"IF($F237=\"\",\"\",VLOOKUP($F237,判定式!$Q$3:$W$12,7,TRUE))","v":""},{"$f":"IF($G237=\"\",\"\",VLOOKUP($G237,判定式!$R$3:$W$12,6,TRUE))","v":""},{"$f":"IF($H237=\"\",\"\",VLOOKUP($H237,判定式!$S$3:$W$12,5,TRUE))","v":""},{"$f":"IF($I237=\"\",\"\",VLOOKUP($I237,判定式!$V$3:$W$12,2,TRUE))","v":""},{"$f":"IF($J237=\"\",\"\",VLOOKUP($J237,判定式!$Y$3:$Z$12,2,TRUE))","v":""},{"$f":"IF($K237=\"\",\"\",VLOOKUP($K237,判定式!$T$3:$W$12,4,TRUE))","v":""},{"$f":"IF($L237=\"\",\"\",VLOOKUP($L237,判定式!$U$3:$W$12,3,TRUE))","v":""},"",{"$f":"IF(ISNUMBER(D237),\"判定外\",IF(C237=6,VLOOKUP(U237,判定式!$C$15:I$19,7,TRUE),IF(C237=7,VLOOKUP(U237,判定式!$D$15:I$19,6,TRUE),IF(C237=8,VLOOKUP(U237,判定式!$E$15:I$19,5,TRUE),IF(C237=9,VLOOKUP(U237,判定式!$F$15:I$19,4,TRUE),IF(C237=10,VLOOKUP(U237,判定式!$G$15:I$19,3,TRUE),IF(C237=11,VLOOKUP(U237,判定式!$H$15:I$19,2,TRUE))))))))","v":false}]
[89,null,null,"-",null,null,null,null,null,null,null,null,{"$f":"IF($E238=\"\",\"\",VLOOKUP($E238,判定式!$P$3:$W$12,8,TRUE))","v":""},{"$f":"IF($F238=\"\",\"\",VLOOKUP($F238,判定式!$Q$3:$W$12,7,TRUE))","v":""},{"$f":"IF($G238=\"\",\"\",VLOOKUP($G238,判定式!$R$3:$W$12,6,TRUE))","v":""},{"$f":"IF($H238=\"\",\"\",VLOOKUP($H238,判定式!$S$3:$W$12,5,TRUE))","v":""},{"$f":"IF($I238=\"\",\"\",VLOOKUP($I238,判定式!$V$3:$W$12,2,TRUE))","v":""},{"$f":"IF($J238=\"\",\"\",VLOOKUP($J238,判定式!$Y$3:$Z$12,2,TRUE))","v":""},{"$f":"IF($K238=\"\",\"\",VLOOKUP($K238,判定式!$T$3:$W$12,4,TRUE))","v":""},{"$f":"IF($L238=\"\",\"\",VLOOKUP($L238,判定式!$U$3:$W$12,3,TRUE))","v":""},"",{"$f":"IF(ISNUMBER(D238),\"判定外\",IF(C238=6,VLOOKUP(U238,判定式!$C$15:I$19,7,TRUE),IF(C238=7,VLOOKUP(U238,判定式!$D$15:I$19,6,TRUE),IF(C238=8,VLOOKUP(U238,判定式!$E$15:I$19,5,TRUE),IF(C238=9,VLOOKUP(U238,判定式!$F$15:I$19,4,TRUE),IF(C238=10,VLOOKUP(U238,判定式!$G$15:I$19,3,TRUE),IF(C238=11,VLOOKUP(U238,判定式!$H$15:I$19,2,TRUE))))))))","v":false}]
[90,null,null,"-",null,null,null,null,null,null,null,null,{"$f":"IF($E239=\"\",\"\",VLOOKUP($E239,判定式!$P$3:$W$12,8,TRUE))","v":""},{"$f":"IF($F239=\"\",\"\",VLOOKUP($F239,判定式!$Q$3:$W$12,7,TRUE))","v":""},{"$f":"IF($G239=\"\",\"\",VLOOKUP($G239,判定式!$R$3:$W$12,6,TRUE))","v":""},{"$f":"IF($H239=\"\",\"\",VLOOKUP($H239,判定式!$S$3:$W$12,5,TRUE))","v":""},{"$f":"IF($I239=\"\",\"\",VLOOKUP($I239,判定式!$V$3:$W$12,2,TRUE))","v":""},{"$f":"IF($J239=\"\",\"\",VLOOKUP($J239,判定式!$Y$3:$Z$12,2,TRUE))","v":""},{"$f":"IF($K239=\"\",\"\",VLOOKUP($K239,判定式!$T$3:$W$12,4,TRUE))","v":""},{"$f":"IF($L239=\"\",\"\",VLOOKUP($L239,判定式!$U$3:$W$12,3,TRUE))","v":""},"",{"$f":"IF(ISNUMBER(D239),\"判定外\",IF(C239=6,VLOOKUP(U239,判定式!$C$15:I$19,7,TRUE),IF(C239=7,VLOOKUP(U239,判定式!$D$15:I$19,6,TRUE),IF(C239=8,VLOOKUP(U239,判定式!$E$15:I$19,5,TRUE),IF(C239=9,VLOOKUP(U239,判定式!$F$15:I$19,4,TRUE),IF(C239=10,VLOOKUP(U239,判定式!$G$15:I$19,3,TRUE),IF(C239=11,VLOOKUP(U239,判定式!$H$15:I$19,2,TRUE))))))))","v":false}]
[91,null,null,"-",null,null,null,null,null,null,null,null,{"$f":"IF($E240=\"\",\"\",VLOOKUP($E240,判定式!$P$3:$W$12,8,TRUE))","v":""},{"$f":"IF($F240=\"\",\"\",VLOOKUP($F240,判定式!$Q$3:$W$12,7,TRUE))","v":""},{"$f":"IF($G240=\"\",\"\",VLOOKUP($G240,判定式!$R$3:$W$12,6,TRUE))","v":""},{"$f":"IF($H240=\"\",\"\",VLOOKUP($H240,判定式!$S$3:$W$12,5,TRUE))","v":""},{"$f":"IF($I240=\"\",\"\",VLOOKUP($I240,判定式!$V$3:$W$12,2,TRUE))","v":""},{"$f":"IF($J240=\"\",\"\",VLOOKUP($J240,判定式!$Y$3:$Z$12,2,TRUE))","v":""},{"$f":"IF($K240=\"\",\"\",VLOOKUP($K240,判定式!$T$3:$W$12,4,TRUE))","v":""},{"$f":"IF($L240=\"\",\"\",VLOOKUP($L240,判定式!$U$3:$W$12,3,TRUE))","v":""},"",{"$f":"IF(ISNUMBER(D240),\"判定外\",IF(C240=6,VLOOKUP(U240,判定式!$C$15:I$19,7,TRUE),IF(C240=7,VLOOKUP(U240,判定式!$D$15:I$19,6,TRUE),IF(C240=8,VLOOKUP(U240,判定式!$E$15:I$19,5,TRUE),IF(C240=9,VLOOKUP(U240,判定式!$F$15:I$19,4,TRUE),IF(C240=10,VLOOKUP(U240,判定式!$G$15:I$19,3,TRUE),IF(C240=11,VLOOKUP(U240,判定式!$H$15:I$19,2,TRUE))))))))","v":false}]
[92,null,null,"-",null,null,null,null,null,null,null,null,{"$f":"IF($E241=\"\",\"\",VLOOKUP($E241,判定式!$P$3:$W$12,8,TRUE))","v":""},{"$f":"IF($F241=\"\",\"\",VLOOKUP($F241,判定式!$Q$3:$W$12,7,TRUE))","v":""},{"$f":"IF($G241=\"\",\"\",VLOOKUP($G241,判定式!$R$3:$W$12,6,TRUE))","v":""},{"$f":"IF($H241=\"\",\"\",VLOOKUP($H241,判定式!$S$3:$W$12,5,TRUE))","v":""},{"$f":"IF($I241=\"\",\"\",VLOOKUP($I241,判定式!$V$3:$W$12,2,TRUE))","v":""},{"$f":"IF($J241=\"\",\"\",VLOOKUP($J241,判定式!$Y$3:$Z$12,2,TRUE))","v":""},{"$f":"IF($K241=\"\",\"\",VLOOKUP($K241,判定式!$T$3:$W$12,4,TRUE))","v":""},{"$f":"IF($L241=\"\",\"\",VLOOKUP($L241,判定式!$U$3:$W$12,3,TRUE))","v":""},"",{"$f":"IF(ISNUMBER(D241),\"判定外\",IF(C241=6,VLOOKUP(U241,判定式!$C$15:I$19,7,TRUE),IF(C241=7,VLOOKUP(U241,判定式!$D$15:I$19,6,TRUE),IF(C241=8,VLOOKUP(U241,判定式!$E$15:I$19,5,TRUE),IF(C241=9,VLOOKUP(U241,判定式!$F$15:I$19,4,TRUE),IF(C241=10,VLOOKUP(U241,判定式!$G$15:I$19,3,TRUE),IF(C241=11,VLOOKUP(U241,判定式!$H$15:I$19,2,TRUE))))))))","v":false}]
[93,null,null,"-",null,null,null,null,null,null,null,null,{"$f":"IF($E242=\"\",\"\",VLOOKUP($E242,判定式!$P$3:$W$12,8,TRUE))","v":""},{"$f":"IF($F242=\"\",\"\",VLOOKUP($F242,判定式!$Q$3:$W$12,7,TRUE))","v":""},{"$f":"IF($G242=\"\",\"\",VLOOKUP($G242,判定式!$R$3:$W$12,6,TRUE))","v":""},{"$f":"IF($H242=\"\",\"\",VLOOKUP($H242,判定式!$S$3:$W$12,5,TRUE))","v":""},{"$f":"IF($I242=\"\",\"\",VLOOKUP($I242,判定式!$V$3:$W$12,2,TRUE))","v":""},{"$f":"IF($J242=\"\",\"\",VLOOKUP($J242,判定式!$Y$3:$Z$12,2,TRUE))","v":""},{"$f":"IF($K242=\"\",\"\",VLOOKUP($K242,判定式!$T$3:$W$12,4,TRUE))","v":""},{"$f":"IF($L242=\"\",\"\",VLOOKUP($L242,判定式!$U$3:$W$12,3,TRUE))","v":""},"",{"$f":"IF(ISNUMBER(D242),\"判定外\",IF(C242=6,VLOOKUP(U242,判定式!$C$15:I$19,7,TRUE),IF(C242=7,VLOOKUP(U242,判定式!$D$15:I$19,6,TRUE),IF(C242=8,VLOOKUP(U242,判定式!$E$15:I$19,5,TRUE),IF(C242=9,VLOOKUP(U242,判定式!$F$15:I$19,4,TRUE),IF(C242=10,VLOOKUP(U242,判定式!$G$15:I$19,3,TRUE),IF(C242=11,VLOOKUP(U242,判定式!$H$15:I$19,2,TRUE))))))))","v":false}]
[94,null,null,"-",null,null,null,null,null,null,null,null,{"$f":"IF($E243=\"\",\"\",VLOOKUP($E243,判定式!$P$3:$W$12,8,TRUE))","v":""},{"$f":"IF($F243=\"\",\"\",VLOOKUP($F243,判定式!$Q$3:$W$12,7,TRUE))","v":""},{"$f":"IF($G243=\"\",\"\",VLOOKUP($G243,判定式!$R$3:$W$12,6,TRUE))","v":""},{"$f":"IF($H243=\"\",\"\",VLOOKUP($H243,判定式!$S$3:$W$12,5,TRUE))","v":""},{"$f":"IF($I243=\"\",\"\",VLOOKUP($I243,判定式!$V$3:$W$12,2,TRUE))","v":""},{"$f":"IF($J243=\"\",\"\",VLOOKUP($J243,判定式!$Y$3:$Z$12,2,TRUE))","v":""},{"$f":"IF($K243=\"\",\"\",VLOOKUP($K243,判定式!$T$3:$W$12,4,TRUE))","v":""},{"$f":"IF($L243=\"\",\"\",VLOOKUP($L243,判定式!$U$3:$W$12,3,TRUE))","v":""},"",{"$f":"IF(ISNUMBER(D243),\"判定外\",IF(C243=6,VLOOKUP(U243,判定式!$C$15:I$19,7,TRUE),IF(C243=7,VLOOKUP(U243,判定式!$D$15:I$19,6,TRUE),IF(C243=8,VLOOKUP(U243,判定式!$E$15:I$19,5,TRUE),IF(C243=9,VLOOKUP(U243,判定式!$F$15:I$19,4,TRUE),IF(C243=10,VLOOKUP(U243,判定式!$G$15:I$19,3,TRUE),IF(C243=11,VLOOKUP(U243,判定式!$H$15:I$19,2,TRUE))))))))","v":false}]
[95,null,null,"-",null,null,null,null,null,null,null,null,{"$f":"IF($E244=\"\",\"\",VLOOKUP($E244,判定式!$P$3:$W$12,8,TRUE))","v":""},{"$f":"IF($F244=\"\",\"\",VLOOKUP($F244,判定式!$Q$3:$W$12,7,TRUE))","v":""},{"$f":"IF($G244=\"\",\"\",VLOOKUP($G244,判定式!$R$3:$W$12,6,TRUE))","v":""},{"$f":"IF($H244=\"\",\"\",VLOOKUP($H244,判定式!$S$3:$W$12,5,TRUE))","v":""},{"$f":"IF($I244=\"\",\"\",VLOOKUP($I244,判定式!$V$3:$W$12,2,TRUE))","v":""},{"$f":"IF($J244=\"\",\"\",VLOOKUP($J244,判定式!$Y$3:$Z$12,2,TRUE))","v":""},{"$f":"IF($K244=\"\",\"\",VLOOKUP($K244,判定式!$T$3:$W$12,4,TRUE))","v":""},{"$f":"IF($L244=\"\",\"\",VLOOKUP($L244,判定式!$U$3:$W$12,3,TRUE))","v":""},"",{"$f":"IF(ISNUMBER(D244),\"判定外\",IF(C244=6,VLOOKUP(U244,判定式!$C$15:I$19,7,TRUE),IF(C244=7,VLOOKUP(U244,判定式!$D$15:I$19,6,TRUE),IF(C244=8,VLOOKUP(U244,判定式!$E$15:I$19,5,TRUE),IF(C244=9,VLOOKUP(U244,判定式!$F$15:I$19,4,TRUE),IF(C244=10,VLOOKUP(U244,判定式!$G$15:I$19,3,TRUE),IF(C244=11,VLOOKUP(U244,判定式!$H$15:I$19,2,TRUE))))))))","v":false}]
[96,null,null,"-",null,null,null,null,null,null,null,null,{"$f":"IF($E245=\"\",\"\",VLOOKUP($E245,判定式!$P$3:$W$12,8,TRUE))","v":""},{"$f":"IF($F245=\"\",\"\",VLOOKUP($F245,判定式!$Q$3:$W$12,7,TRUE))","v":""},{"$f":"IF($G245=\"\",\"\",VLOOKUP($G245,判定式!$R$3:$W$12,6,TRUE))","v":""},{"$f":"IF($H245=\"\",\"\",VLOOKUP($H245,判定式!$S$3:$W$12,5,TRUE))","v":""},{"$f":"IF($I245=\"\",\"\",VLOOKUP($I245,判定式!$V$3:$W$12,2,TRUE))","v":""},{"$f":"IF($J245=\"\",\"\",VLOOKUP($J245,判定式!$Y$3:$Z$12,2,TRUE))","v":""},{"$f":"IF($K245=\"\",\"\",VLOOKUP($K245,判定式!$T$3:$W$12,4,TRUE))","v":""},{"$f":"IF($L245=\"\",\"\",VLOOKUP($L245,判定式!$U$3:$W$12,3,TRUE))","v":""},"",{"$f":"IF(ISNUMBER(D245),\"判定外\",IF(C245=6,VLOOKUP(U245,判定式!$C$15:I$19,7,TRUE),IF(C245=7,VLOOKUP(U245,判定式!$D$15:I$19,6,TRUE),IF(C245=8,VLOOKUP(U245,判定式!$E$15:I$19,5,TRUE),IF(C245=9,VLOOKUP(U245,判定式!$F$15:I$19,4,TRUE),IF(C245=10,VLOOKUP(U245,判定式!$G$15:I$19,3,TRUE),IF(C245=11,VLOOKUP(U245,判定式!$H$15:I$19,2,TRUE))))))))","v":false}]
[97,null,null,{"$f":"IF(COUNTBLANK(E246:L246)=0,\"\",IF(COUNTBLANK(E246:L246)=8,\"-\",COUNTBLANK(E246:L246)))","v":"-"},null,null,null,null,null,null,null,null,{"$f":"IF($E246=\"\",\"\",VLOOKUP($E246,判定式!$P$3:$W$12,8,TRUE))","v":""},{"$f":"IF($F246=\"\",\"\",VLOOKUP($F246,判定式!$Q$3:$W$12,7,TRUE))","v":""},{"$f":"IF($G246=\"\",\"\",VLOOKUP($G246,判定式!$R$3:$W$12,6,TRUE))","v":""},{"$f":"IF($H246=\"\",\"\",VLOOKUP($H246,判定式!$S$3:$W$12,5,TRUE))","v":""},{"$f":"IF($I246=\"\",\"\",VLOOKUP($I246,判定式!$V$3:$W$12,2,TRUE))","v":""},{"$f":"IF($J246=\"\",\"\",VLOOKUP($J246,判定式!$Y$3:$Z$12,2,TRUE))","v":""},{"$f":"IF($K246=\"\",\"\",VLOOKUP($K246,判定式!$T$3:$W$12,4,TRUE))","v":""},{"$f":"IF($L246=\"\",\"\",VLOOKUP($L246,判定式!$U$3:$W$12,3,TRUE))","v":""},{"$f":"IF(COUNTBLANK(M246:T246)=0,SUM(M246:T246),\"\")","v":""},{"$f":"IF(ISNUMBER(D246),\"判定外\",IF(C246=6,VLOOKUP(U246,判定式!$C$15:I$19,7,TRUE),IF(C246=7,VLOOKUP(U246,判定式!$D$15:I$19,6,TRUE),IF(C246=8,VLOOKUP(U246,判定式!$E$15:I$19,5,TRUE),IF(C246=9,VLOOKUP(U246,判定式!$F$15:I$19,4,TRUE),IF(C246=10,VLOOKUP(U246,判定式!$G$15:I$19,3,TRUE),IF(C246=11,VLOOKUP(U246,判定式!$H$15:I$19,2,TRUE))))))))","v":false}]
[98,null,null,"-",null,null,null,null,null,null,null,null,{"$f":"IF($E247=\"\",\"\",VLOOKUP($E247,判定式!$P$3:$W$12,8,TRUE))","v":""},{"$f":"IF($F247=\"\",\"\",VLOOKUP($F247,判定式!$Q$3:$W$12,7,TRUE))","v":""},{"$f":"IF($G247=\"\",\"\",VLOOKUP($G247,判定式!$R$3:$W$12,6,TRUE))","v":""},{"$f":"IF($H247=\"\",\"\",VLOOKUP($H247,判定式!$S$3:$W$12,5,TRUE))","v":""},{"$f":"IF($I247=\"\",\"\",VLOOKUP($I247,判定式!$V$3:$W$12,2,TRUE))","v":""},{"$f":"IF($J247=\"\",\"\",VLOOKUP($J247,判定式!$Y$3:$Z$12,2,TRUE))","v":""},{"$f":"IF($K247=\"\",\"\",VLOOKUP($K247,判定式!$T$3:$W$12,4,TRUE))","v":""},{"$f":"IF($L247=\"\",\"\",VLOOKUP($L247,判定式!$U$3:$W$12,3,TRUE))","v":""},"",{"$f":"IF(ISNUMBER(D247),\"判定外\",IF(C247=6,VLOOKUP(U247,判定式!$C$15:I$19,7,TRUE),IF(C247=7,VLOOKUP(U247,判定式!$D$15:I$19,6,TRUE),IF(C247=8,VLOOKUP(U247,判定式!$E$15:I$19,5,TRUE),IF(C247=9,VLOOKUP(U247,判定式!$F$15:I$19,4,TRUE),IF(C247=10,VLOOKUP(U247,判定式!$G$15:I$19,3,TRUE),IF(C247=11,VLOOKUP(U247,判定式!$H$15:I$19,2,TRUE))))))))","v":false}]
[99,null,null,"-",null,null,null,null,null,null,null,null,{"$f":"IF($E248=\"\",\"\",VLOOKUP($E248,判定式!$P$3:$W$12,8,TRUE))","v":""},{"$f":"IF($F248=\"\",\"\",VLOOKUP($F248,判定式!$Q$3:$W$12,7,TRUE))","v":""},{"$f":"IF($G248=\"\",\"\",VLOOKUP($G248,判定式!$R$3:$W$12,6,TRUE))","v":""},{"$f":"IF($H248=\"\",\"\",VLOOKUP($H248,判定式!$S$3:$W$12,5,TRUE))","v":""},{"$f":"IF($I248=\"\",\"\",VLOOKUP($I248,判定式!$V$3:$W$12,2,TRUE))","v":""},{"$f":"IF($J248=\"\",\"\",VLOOKUP($J248,判定式!$Y$3:$Z$12,2,TRUE))","v":""},{"$f":"IF($K248=\"\",\"\",VLOOKUP($K248,判定式!$T$3:$W$12,4,TRUE))","v":""},{"$f":"IF($L248=\"\",\"\",VLOOKUP($L248,判定式!$U$3:$W$12,3,TRUE))","v":""},"",{"$f":"IF(ISNUMBER(D248),\"判定外\",IF(C248=6,VLOOKUP(U248,判定式!$C$15:I$19,7,TRUE),IF(C248=7,VLOOKUP(U248,判定式!$D$15:I$19,6,TRUE),IF(C248=8,VLOOKUP(U248,判定式!$E$15:I$19,5,TRUE),IF(C248=9,VLOOKUP(U248,判定式!$F$15:I$19,4,TRUE),IF(C248=10,VLOOKUP(U248,判定式!$G$15:I$19,3,TRUE),IF(C248=11,VLOOKUP(U248,判定式!$H$15:I$19,2,TRUE))))))))","v":false}]
[100,null,null,"-",null,null,null,null,null,null,null,null,{"$f":"IF($E249=\"\",\"\",VLOOKUP($E249,判定式!$P$3:$W$12,8,TRUE))","v":""},{"$f":"IF($F249=\"\",\"\",VLOOKUP($F249,判定式!$Q$3:$W$12,7,TRUE))","v":""},{"$f":"IF($G249=\"\",\"\",VLOOKUP($G249,判定式!$R$3:$W$12,6,TRUE))","v":""},{"$f":"IF($H249=\"\",\"\",VLOOKUP($H249,判定式!$S$3:$W$12,5,TRUE))","v":""},{"$f":"IF($I249=\"\",\"\",VLOOKUP($I249,判定式!$V$3:$W$12,2,TRUE))","v":""},{"$f":"IF($J249=\"\",\"\",VLOOKUP($J249,判定式!$Y$3:$Z$12,2,TRUE))","v":""},{"$f":"IF($K249=\"\",\"\",VLOOKUP($K249,判定式!$T$3:$W$12,4,TRUE))","v":""},{"$f":"IF($L249=\"\",\"\",VLOOKUP($L249,判定式!$U$3:$W$12,3,TRUE))","v":""},"",{"$f":"IF(ISNUMBER(D249),\"判定外\",IF(C249=6,VLOOKUP(U249,判定式!$C$15:I$19,7,TRUE),IF(C249=7,VLOOKUP(U249,判定式!$D$15:I$19,6,TRUE),IF(C249=8,VLOOKUP(U249,判定式!$E$15:I$19,5,TRUE),IF(C249=9,VLOOKUP(U249,判定式!$F$15:I$19,4,TRUE),IF(C249=10,VLOOKUP(U249,判定式!$G$15:I$19,3,TRUE),IF(C249=11,VLOOKUP(U249,判定式!$H$15:I$19,2,TRUE))))))))","v":false}]
[101,null,null,"-",null,null,null,null,null,null,null,null,{"$f":"IF($E250=\"\",\"\",VLOOKUP($E250,判定式!$P$3:$W$12,8,TRUE))","v":""},{"$f":"IF($F250=\"\",\"\",VLOOKUP($F250,判定式!$Q$3:$W$12,7,TRUE))","v":""},{"$f":"IF($G250=\"\",\"\",VLOOKUP($G250,判定式!$R$3:$W$12,6,TRUE))","v":""},{"$f":"IF($H250=\"\",\"\",VLOOKUP($H250,判定式!$S$3:$W$12,5,TRUE))","v":""},{"$f":"IF($I250=\"\",\"\",VLOOKUP($I250,判定式!$V$3:$W$12,2,TRUE))","v":""},{"$f":"IF($J250=\"\",\"\",VLOOKUP($J250,判定式!$Y$3:$Z$12,2,TRUE))","v":""},{"$f":"IF($K250=\"\",\"\",VLOOKUP($K250,判定式!$T$3:$W$12,4,TRUE))","v":""},{"$f":"IF($L250=\"\",\"\",VLOOKUP($L250,判定式!$U$3:$W$12,3,TRUE))","v":""},"",{"$f":"IF(ISNUMBER(D250),\"判定外\",IF(C250=6,VLOOKUP(U250,判定式!$C$15:I$19,7,TRUE),IF(C250=7,VLOOKUP(U250,判定式!$D$15:I$19,6,TRUE),IF(C250=8,VLOOKUP(U250,判定式!$E$15:I$19,5,TRUE),IF(C250=9,VLOOKUP(U250,判定式!$F$15:I$19,4,TRUE),IF(C250=10,VLOOKUP(U250,判定式!$G$15:I$19,3,TRUE),IF(C250=11,VLOOKUP(U250,判定式!$H$15:I$19,2,TRUE))))))))","v":false}]
[102,null,null,"-",null,null,null,null,null,null,null,null,{"$f":"IF($E251=\"\",\"\",VLOOKUP($E251,判定式!$P$3:$W$12,8,TRUE))","v":""},{"$f":"IF($F251=\"\",\"\",VLOOKUP($F251,判定式!$Q$3:$W$12,7,TRUE))","v":""},{"$f":"IF($G251=\"\",\"\",VLOOKUP($G251,判定式!$R$3:$W$12,6,TRUE))","v":""},{"$f":"IF($H251=\"\",\"\",VLOOKUP($H251,判定式!$S$3:$W$12,5,TRUE))","v":""},{"$f":"IF($I251=\"\",\"\",VLOOKUP($I251,判定式!$V$3:$W$12,2,TRUE))","v":""},{"$f":"IF($J251=\"\",\"\",VLOOKUP($J251,判定式!$Y$3:$Z$12,2,TRUE))","v":""},{"$f":"IF($K251=\"\",\"\",VLOOKUP($K251,判定式!$T$3:$W$12,4,TRUE))","v":""},{"$f":"IF($L251=\"\",\"\",VLOOKUP($L251,判定式!$U$3:$W$12,3,TRUE))","v":""},"",{"$f":"IF(ISNUMBER(D251),\"判定外\",IF(C251=6,VLOOKUP(U251,判定式!$C$15:I$19,7,TRUE),IF(C251=7,VLOOKUP(U251,判定式!$D$15:I$19,6,TRUE),IF(C251=8,VLOOKUP(U251,判定式!$E$15:I$19,5,TRUE),IF(C251=9,VLOOKUP(U251,判定式!$F$15:I$19,4,TRUE),IF(C251=10,VLOOKUP(U251,判定式!$G$15:I$19,3,TRUE),IF(C251=11,VLOOKUP(U251,判定式!$H$15:I$19,2,TRUE))))))))","v":false}]
[103,null,null,"-",null,null,null,null,null,null,null,null,{"$f":"IF($E252=\"\",\"\",VLOOKUP($E252,判定式!$P$3:$W$12,8,TRUE))","v":""},{"$f":"IF($F252=\"\",\"\",VLOOKUP($F252,判定式!$Q$3:$W$12,7,TRUE))","v":""},{"$f":"IF($G252=\"\",\"\",VLOOKUP($G252,判定式!$R$3:$W$12,6,TRUE))","v":""},{"$f":"IF($H252=\"\",\"\",VLOOKUP($H252,判定式!$S$3:$W$12,5,TRUE))","v":""},{"$f":"IF($I252=\"\",\"\",VLOOKUP($I252,判定式!$V$3:$W$12,2,TRUE))","v":""},{"$f":"IF($J252=\"\",\"\",VLOOKUP($J252,判定式!$Y$3:$Z$12,2,TRUE))","v":""},{"$f":"IF($K252=\"\",\"\",VLOOKUP($K252,判定式!$T$3:$W$12,4,TRUE))","v":""},{"$f":"IF($L252=\"\",\"\",VLOOKUP($L252,判定式!$U$3:$W$12,3,TRUE))","v":""},"",{"$f":"IF(ISNUMBER(D252),\"判定外\",IF(C252=6,VLOOKUP(U252,判定式!$C$15:I$19,7,TRUE),IF(C252=7,VLOOKUP(U252,判定式!$D$15:I$19,6,TRUE),IF(C252=8,VLOOKUP(U252,判定式!$E$15:I$19,5,TRUE),IF(C252=9,VLOOKUP(U252,判定式!$F$15:I$19,4,TRUE),IF(C252=10,VLOOKUP(U252,判定式!$G$15:I$19,3,TRUE),IF(C252=11,VLOOKUP(U252,判定式!$H$15:I$19,2,TRUE))))))))","v":false}]
[104,null,null,"-",null,null,null,null,null,null,null,null,{"$f":"IF($E253=\"\",\"\",VLOOKUP($E253,判定式!$P$3:$W$12,8,TRUE))","v":""},{"$f":"IF($F253=\"\",\"\",VLOOKUP($F253,判定式!$Q$3:$W$12,7,TRUE))","v":""},{"$f":"IF($G253=\"\",\"\",VLOOKUP($G253,判定式!$R$3:$W$12,6,TRUE))","v":""},{"$f":"IF($H253=\"\",\"\",VLOOKUP($H253,判定式!$S$3:$W$12,5,TRUE))","v":""},{"$f":"IF($I253=\"\",\"\",VLOOKUP($I253,判定式!$V$3:$W$12,2,TRUE))","v":""},{"$f":"IF($J253=\"\",\"\",VLOOKUP($J253,判定式!$Y$3:$Z$12,2,TRUE))","v":""},{"$f":"IF($K253=\"\",\"\",VLOOKUP($K253,判定式!$T$3:$W$12,4,TRUE))","v":""},{"$f":"IF($L253=\"\",\"\",VLOOKUP($L253,判定式!$U$3:$W$12,3,TRUE))","v":""},"",{"$f":"IF(ISNUMBER(D253),\"判定外\",IF(C253=6,VLOOKUP(U253,判定式!$C$15:I$19,7,TRUE),IF(C253=7,VLOOKUP(U253,判定式!$D$15:I$19,6,TRUE),IF(C253=8,VLOOKUP(U253,判定式!$E$15:I$19,5,TRUE),IF(C253=9,VLOOKUP(U253,判定式!$F$15:I$19,4,TRUE),IF(C253=10,VLOOKUP(U253,判定式!$G$15:I$19,3,TRUE),IF(C253=11,VLOOKUP(U253,判定式!$H$15:I$19,2,TRUE))))))))","v":false}]
[105,null,null,"-",null,null,null,null,null,null,null,null,{"$f":"IF($E254=\"\",\"\",VLOOKUP($E254,判定式!$P$3:$W$12,8,TRUE))","v":""},{"$f":"IF($F254=\"\",\"\",VLOOKUP($F254,判定式!$Q$3:$W$12,7,TRUE))","v":""},{"$f":"IF($G254=\"\",\"\",VLOOKUP($G254,判定式!$R$3:$W$12,6,TRUE))","v":""},{"$f":"IF($H254=\"\",\"\",VLOOKUP($H254,判定式!$S$3:$W$12,5,TRUE))","v":""},{"$f":"IF($I254=\"\",\"\",VLOOKUP($I254,判定式!$V$3:$W$12,2,TRUE))","v":""},{"$f":"IF($J254=\"\",\"\",VLOOKUP($J254,判定式!$Y$3:$Z$12,2,TRUE))","v":""},{"$f":"IF($K254=\"\",\"\",VLOOKUP($K254,判定式!$T$3:$W$12,4,TRUE))","v":""},{"$f":"IF($L254=\"\",\"\",VLOOKUP($L254,判定式!$U$3:$W$12,3,TRUE))","v":""},"",{"$f":"IF(ISNUMBER(D254),\"判定外\",IF(C254=6,VLOOKUP(U254,判定式!$C$15:I$19,7,TRUE),IF(C254=7,VLOOKUP(U254,判定式!$D$15:I$19,6,TRUE),IF(C254=8,VLOOKUP(U254,判定式!$E$15:I$19,5,TRUE),IF(C254=9,VLOOKUP(U254,判定式!$F$15:I$19,4,TRUE),IF(C254=10,VLOOKUP(U254,判定式!$G$15:I$19,3,TRUE),IF(C254=11,VLOOKUP(U254,判定式!$H$15:I$19,2,TRUE))))))))","v":false}]
[106,null,null,"-",null,null,null,null,null,null,null,null,{"$f":"IF($E255=\"\",\"\",VLOOKUP($E255,判定式!$P$3:$W$12,8,TRUE))","v":""},{"$f":"IF($F255=\"\",\"\",VLOOKUP($F255,判定式!$Q$3:$W$12,7,TRUE))","v":""},{"$f":"IF($G255=\"\",\"\",VLOOKUP($G255,判定式!$R$3:$W$12,6,TRUE))","v":""},{"$f":"IF($H255=\"\",\"\",VLOOKUP($H255,判定式!$S$3:$W$12,5,TRUE))","v":""},{"$f":"IF($I255=\"\",\"\",VLOOKUP($I255,判定式!$V$3:$W$12,2,TRUE))","v":""},{"$f":"IF($J255=\"\",\"\",VLOOKUP($J255,判定式!$Y$3:$Z$12,2,TRUE))","v":""},{"$f":"IF($K255=\"\",\"\",VLOOKUP($K255,判定式!$T$3:$W$12,4,TRUE))","v":""},{"$f":"IF($L255=\"\",\"\",VLOOKUP($L255,判定式!$U$3:$W$12,3,TRUE))","v":""},"",{"$f":"IF(ISNUMBER(D255),\"判定外\",IF(C255=6,VLOOKUP(U255,判定式!$C$15:I$19,7,TRUE),IF(C255=7,VLOOKUP(U255,判定式!$D$15:I$19,6,TRUE),IF(C255=8,VLOOKUP(U255,判定式!$E$15:I$19,5,TRUE),IF(C255=9,VLOOKUP(U255,判定式!$F$15:I$19,4,TRUE),IF(C255=10,VLOOKUP(U255,判定式!$G$15:I$19,3,TRUE),IF(C255=11,VLOOKUP(U255,判定式!$H$15:I$19,2,TRUE))))))))","v":false}]
[107,null,null,"-",null,null,null,null,null,null,null,null,{"$f":"IF($E256=\"\",\"\",VLOOKUP($E256,判定式!$P$3:$W$12,8,TRUE))","v":""},{"$f":"IF($F256=\"\",\"\",VLOOKUP($F256,判定式!$Q$3:$W$12,7,TRUE))","v":""},{"$f":"IF($G256=\"\",\"\",VLOOKUP($G256,判定式!$R$3:$W$12,6,TRUE))","v":""},{"$f":"IF($H256=\"\",\"\",VLOOKUP($H256,判定式!$S$3:$W$12,5,TRUE))","v":""},{"$f":"IF($I256=\"\",\"\",VLOOKUP($I256,判定式!$V$3:$W$12,2,TRUE))","v":""},{"$f":"IF($J256=\"\",\"\",VLOOKUP($J256,判定式!$Y$3:$Z$12,2,TRUE))","v":""},{"$f":"IF($K256=\"\",\"\",VLOOKUP($K256,判定式!$T$3:$W$12,4,TRUE))","v":""},{"$f":"IF($L256=\"\",\"\",VLOOKUP($L256,判定式!$U$3:$W$12,3,TRUE))","v":""},"",{"$f":"IF(ISNUMBER(D256),\"判定外\",IF(C256=6,VLOOKUP(U256,判定式!$C$15:I$19,7,TRUE),IF(C256=7,VLOOKUP(U256,判定式!$D$15:I$19,6,TRUE),IF(C256=8,VLOOKUP(U256,判定式!$E$15:I$19,5,TRUE),IF(C256=9,VLOOKUP(U256,判定式!$F$15:I$19,4,TRUE),IF(C256=10,VLOOKUP(U256,判定式!$G$15:I$19,3,TRUE),IF(C256=11,VLOOKUP(U256,判定式!$H$15:I$19,2,TRUE))))))))","v":false}]
[108,null,null,"-",null,null,null,null,null,null,null,null,{"$f":"IF($E257=\"\",\"\",VLOOKUP($E257,判定式!$P$3:$W$12,8,TRUE))","v":""},{"$f":"IF($F257=\"\",\"\",VLOOKUP($F257,判定式!$Q$3:$W$12,7,TRUE))","v":""},{"$f":"IF($G257=\"\",\"\",VLOOKUP($G257,判定式!$R$3:$W$12,6,TRUE))","v":""},{"$f":"IF($H257=\"\",\"\",VLOOKUP($H257,判定式!$S$3:$W$12,5,TRUE))","v":""},{"$f":"IF($I257=\"\",\"\",VLOOKUP($I257,判定式!$V$3:$W$12,2,TRUE))","v":""},{"$f":"IF($J257=\"\",\"\",VLOOKUP($J257,判定式!$Y$3:$Z$12,2,TRUE))","v":""},{"$f":"IF($K257=\"\",\"\",VLOOKUP($K257,判定式!$T$3:$W$12,4,TRUE))","v":""},{"$f":"IF($L257=\"\",\"\",VLOOKUP($L257,判定式!$U$3:$W$12,3,TRUE))","v":""},"",{"$f":"IF(ISNUMBER(D257),\"判定外\",IF(C257=6,VLOOKUP(U257,判定式!$C$15:I$19,7,TRUE),IF(C257=7,VLOOKUP(U257,判定式!$D$15:I$19,6,TRUE),IF(C257=8,VLOOKUP(U257,判定式!$E$15:I$19,5,TRUE),IF(C257=9,VLOOKUP(U257,判定式!$F$15:I$19,4,TRUE),IF(C257=10,VLOOKUP(U257,判定式!$G$15:I$19,3,TRUE),IF(C257=11,VLOOKUP(U257,判定式!$H$15:I$19,2,TRUE))))))))","v":false}]
[109,null,null,"-",null,null,null,null,null,null,null,null,{"$f":"IF($E258=\"\",\"\",VLOOKUP($E258,判定式!$P$3:$W$12,8,TRUE))","v":""},{"$f":"IF($F258=\"\",\"\",VLOOKUP($F258,判定式!$Q$3:$W$12,7,TRUE))","v":""},{"$f":"IF($G258=\"\",\"\",VLOOKUP($G258,判定式!$R$3:$W$12,6,TRUE))","v":""},{"$f":"IF($H258=\"\",\"\",VLOOKUP($H258,判定式!$S$3:$W$12,5,TRUE))","v":""},{"$f":"IF($I258=\"\",\"\",VLOOKUP($I258,判定式!$V$3:$W$12,2,TRUE))","v":""},{"$f":"IF($J258=\"\",\"\",VLOOKUP($J258,判定式!$Y$3:$Z$12,2,TRUE))","v":""},{"$f":"IF($K258=\"\",\"\",VLOOKUP($K258,判定式!$T$3:$W$12,4,TRUE))","v":""},{"$f":"IF($L258=\"\",\"\",VLOOKUP($L258,判定式!$U$3:$W$12,3,TRUE))","v":""},"",{"$f":"IF(ISNUMBER(D258),\"判定外\",IF(C258=6,VLOOKUP(U258,判定式!$C$15:I$19,7,TRUE),IF(C258=7,VLOOKUP(U258,判定式!$D$15:I$19,6,TRUE),IF(C258=8,VLOOKUP(U258,判定式!$E$15:I$19,5,TRUE),IF(C258=9,VLOOKUP(U258,判定式!$F$15:I$19,4,TRUE),IF(C258=10,VLOOKUP(U258,判定式!$G$15:I$19,3,TRUE),IF(C258=11,VLOOKUP(U258,判定式!$H$15:I$19,2,TRUE))))))))","v":false}]
[110,null,null,"-",null,null,null,null,null,null,null,null,{"$f":"IF($E259=\"\",\"\",VLOOKUP($E259,判定式!$P$3:$W$12,8,TRUE))","v":""},{"$f":"IF($F259=\"\",\"\",VLOOKUP($F259,判定式!$Q$3:$W$12,7,TRUE))","v":""},{"$f":"IF($G259=\"\",\"\",VLOOKUP($G259,判定式!$R$3:$W$12,6,TRUE))","v":""},{"$f":"IF($H259=\"\",\"\",VLOOKUP($H259,判定式!$S$3:$W$12,5,TRUE))","v":""},{"$f":"IF($I259=\"\",\"\",VLOOKUP($I259,判定式!$V$3:$W$12,2,TRUE))","v":""},{"$f":"IF($J259=\"\",\"\",VLOOKUP($J259,判定式!$Y$3:$Z$12,2,TRUE))","v":""},{"$f":"IF($K259=\"\",\"\",VLOOKUP($K259,判定式!$T$3:$W$12,4,TRUE))","v":""},{"$f":"IF($L259=\"\",\"\",VLOOKUP($L259,判定式!$U$3:$W$12,3,TRUE))","v":""},"",{"$f":"IF(ISNUMBER(D259),\"判定外\",IF(C259=6,VLOOKUP(U259,判定式!$C$15:I$19,7,TRUE),IF(C259=7,VLOOKUP(U259,判定式!$D$15:I$19,6,TRUE),IF(C259=8,VLOOKUP(U259,判定式!$E$15:I$19,5,TRUE),IF(C259=9,VLOOKUP(U259,判定式!$F$15:I$19,4,TRUE),IF(C259=10,VLOOKUP(U259,判定式!$G$15:I$19,3,TRUE),IF(C259=11,VLOOKUP(U259,判定式!$H$15:I$19,2,TRUE))))))))","v":false}]
[111,null,null,"-",null,null,null,null,null,null,null,null,{"$f":"IF($E260=\"\",\"\",VLOOKUP($E260,判定式!$P$3:$W$12,8,TRUE))","v":""},{"$f":"IF($F260=\"\",\"\",VLOOKUP($F260,判定式!$Q$3:$W$12,7,TRUE))","v":""},{"$f":"IF($G260=\"\",\"\",VLOOKUP($G260,判定式!$R$3:$W$12,6,TRUE))","v":""},{"$f":"IF($H260=\"\",\"\",VLOOKUP($H260,判定式!$S$3:$W$12,5,TRUE))","v":""},{"$f":"IF($I260=\"\",\"\",VLOOKUP($I260,判定式!$V$3:$W$12,2,TRUE))","v":""},{"$f":"IF($J260=\"\",\"\",VLOOKUP($J260,判定式!$Y$3:$Z$12,2,TRUE))","v":""},{"$f":"IF($K260=\"\",\"\",VLOOKUP($K260,判定式!$T$3:$W$12,4,TRUE))","v":""},{"$f":"IF($L260=\"\",\"\",VLOOKUP($L260,判定式!$U$3:$W$12,3,TRUE))","v":""},"",{"$f":"IF(ISNUMBER(D260),\"判定外\",IF(C260=6,VLOOKUP(U260,判定式!$C$15:I$19,7,TRUE),IF(C260=7,VLOOKUP(U260,判定式!$D$15:I$19,6,TRUE),IF(C260=8,VLOOKUP(U260,判定式!$E$15:I$19,5,TRUE),IF(C260=9,VLOOKUP(U260,判定式!$F$15:I$19,4,TRUE),IF(C260=10,VLOOKUP(U260,判定式!$G$15:I$19,3,TRUE),IF(C260=11,VLOOKUP(U260,判定式!$H$15:I$19,2,TRUE))))))))","v":false}]
[112,null,null,"-",null,null,null,null,null,null,null,null,{"$f":"IF($E261=\"\",\"\",VLOOKUP($E261,判定式!$P$3:$W$12,8,TRUE))","v":""},{"$f":"IF($F261=\"\",\"\",VLOOKUP($F261,判定式!$Q$3:$W$12,7,TRUE))","v":""},{"$f":"IF($G261=\"\",\"\",VLOOKUP($G261,判定式!$R$3:$W$12,6,TRUE))","v":""},{"$f":"IF($H261=\"\",\"\",VLOOKUP($H261,判定式!$S$3:$W$12,5,TRUE))","v":""},{"$f":"IF($I261=\"\",\"\",VLOOKUP($I261,判定式!$V$3:$W$12,2,TRUE))","v":""},{"$f":"IF($J261=\"\",\"\",VLOOKUP($J261,判定式!$Y$3:$Z$12,2,TRUE))","v":""},{"$f":"IF($K261=\"\",\"\",VLOOKUP($K261,判定式!$T$3:$W$12,4,TRUE))","v":""},{"$f":"IF($L261=\"\",\"\",VLOOKUP($L261,判定式!$U$3:$W$12,3,TRUE))","v":""},"",{"$f":"IF(ISNUMBER(D261),\"判定外\",IF(C261=6,VLOOKUP(U261,判定式!$C$15:I$19,7,TRUE),IF(C261=7,VLOOKUP(U261,判定式!$D$15:I$19,6,TRUE),IF(C261=8,VLOOKUP(U261,判定式!$E$15:I$19,5,TRUE),IF(C261=9,VLOOKUP(U261,判定式!$F$15:I$19,4,TRUE),IF(C261=10,VLOOKUP(U261,判定式!$G$15:I$19,3,TRUE),IF(C261=11,VLOOKUP(U261,判定式!$H$15:I$19,2,TRUE))))))))","v":false}]
[113,null,null,"-",null,null,null,null,null,null,null,null,{"$f":"IF($E262=\"\",\"\",VLOOKUP($E262,判定式!$P$3:$W$12,8,TRUE))","v":""},{"$f":"IF($F262=\"\",\"\",VLOOKUP($F262,判定式!$Q$3:$W$12,7,TRUE))","v":""},{"$f":"IF($G262=\"\",\"\",VLOOKUP($G262,判定式!$R$3:$W$12,6,TRUE))","v":""},{"$f":"IF($H262=\"\",\"\",VLOOKUP($H262,判定式!$S$3:$W$12,5,TRUE))","v":""},{"$f":"IF($I262=\"\",\"\",VLOOKUP($I262,判定式!$V$3:$W$12,2,TRUE))","v":""},{"$f":"IF($J262=\"\",\"\",VLOOKUP($J262,判定式!$Y$3:$Z$12,2,TRUE))","v":""},{"$f":"IF($K262=\"\",\"\",VLOOKUP($K262,判定式!$T$3:$W$12,4,TRUE))","v":""},{"$f":"IF($L262=\"\",\"\",VLOOKUP($L262,判定式!$U$3:$W$12,3,TRUE))","v":""},"",{"$f":"IF(ISNUMBER(D262),\"判定外\",IF(C262=6,VLOOKUP(U262,判定式!$C$15:I$19,7,TRUE),IF(C262=7,VLOOKUP(U262,判定式!$D$15:I$19,6,TRUE),IF(C262=8,VLOOKUP(U262,判定式!$E$15:I$19,5,TRUE),IF(C262=9,VLOOKUP(U262,判定式!$F$15:I$19,4,TRUE),IF(C262=10,VLOOKUP(U262,判定式!$G$15:I$19,3,TRUE),IF(C262=11,VLOOKUP(U262,判定式!$H$15:I$19,2,TRUE))))))))","v":false}]
[114,null,null,"-",null,null,null,null,null,null,null,null,{"$f":"IF($E263=\"\",\"\",VLOOKUP($E263,判定式!$P$3:$W$12,8,TRUE))","v":""},{"$f":"IF($F263=\"\",\"\",VLOOKUP($F263,判定式!$Q$3:$W$12,7,TRUE))","v":""},{"$f":"IF($G263=\"\",\"\",VLOOKUP($G263,判定式!$R$3:$W$12,6,TRUE))","v":""},{"$f":"IF($H263=\"\",\"\",VLOOKUP($H263,判定式!$S$3:$W$12,5,TRUE))","v":""},{"$f":"IF($I263=\"\",\"\",VLOOKUP($I263,判定式!$V$3:$W$12,2,TRUE))","v":""},{"$f":"IF($J263=\"\",\"\",VLOOKUP($J263,判定式!$Y$3:$Z$12,2,TRUE))","v":""},{"$f":"IF($K263=\"\",\"\",VLOOKUP($K263,判定式!$T$3:$W$12,4,TRUE))","v":""},{"$f":"IF($L263=\"\",\"\",VLOOKUP($L263,判定式!$U$3:$W$12,3,TRUE))","v":""},"",{"$f":"IF(ISNUMBER(D263),\"判定外\",IF(C263=6,VLOOKUP(U263,判定式!$C$15:I$19,7,TRUE),IF(C263=7,VLOOKUP(U263,判定式!$D$15:I$19,6,TRUE),IF(C263=8,VLOOKUP(U263,判定式!$E$15:I$19,5,TRUE),IF(C263=9,VLOOKUP(U263,判定式!$F$15:I$19,4,TRUE),IF(C263=10,VLOOKUP(U263,判定式!$G$15:I$19,3,TRUE),IF(C263=11,VLOOKUP(U263,判定式!$H$15:I$19,2,TRUE))))))))","v":false}]
[115,null,null,"-",null,null,null,null,null,null,null,null,{"$f":"IF($E264=\"\",\"\",VLOOKUP($E264,判定式!$P$3:$W$12,8,TRUE))","v":""},{"$f":"IF($F264=\"\",\"\",VLOOKUP($F264,判定式!$Q$3:$W$12,7,TRUE))","v":""},{"$f":"IF($G264=\"\",\"\",VLOOKUP($G264,判定式!$R$3:$W$12,6,TRUE))","v":""},{"$f":"IF($H264=\"\",\"\",VLOOKUP($H264,判定式!$S$3:$W$12,5,TRUE))","v":""},{"$f":"IF($I264=\"\",\"\",VLOOKUP($I264,判定式!$V$3:$W$12,2,TRUE))","v":""},{"$f":"IF($J264=\"\",\"\",VLOOKUP($J264,判定式!$Y$3:$Z$12,2,TRUE))","v":""},{"$f":"IF($K264=\"\",\"\",VLOOKUP($K264,判定式!$T$3:$W$12,4,TRUE))","v":""},{"$f":"IF($L264=\"\",\"\",VLOOKUP($L264,判定式!$U$3:$W$12,3,TRUE))","v":""},"",{"$f":"IF(ISNUMBER(D264),\"判定外\",IF(C264=6,VLOOKUP(U264,判定式!$C$15:I$19,7,TRUE),IF(C264=7,VLOOKUP(U264,判定式!$D$15:I$19,6,TRUE),IF(C264=8,VLOOKUP(U264,判定式!$E$15:I$19,5,TRUE),IF(C264=9,VLOOKUP(U264,判定式!$F$15:I$19,4,TRUE),IF(C264=10,VLOOKUP(U264,判定式!$G$15:I$19,3,TRUE),IF(C264=11,VLOOKUP(U264,判定式!$H$15:I$19,2,TRUE))))))))","v":false}]
[116,null,null,"-",null,null,null,null,null,null,null,null,{"$f":"IF($E265=\"\",\"\",VLOOKUP($E265,判定式!$P$3:$W$12,8,TRUE))","v":""},{"$f":"IF($F265=\"\",\"\",VLOOKUP($F265,判定式!$Q$3:$W$12,7,TRUE))","v":""},{"$f":"IF($G265=\"\",\"\",VLOOKUP($G265,判定式!$R$3:$W$12,6,TRUE))","v":""},{"$f":"IF($H265=\"\",\"\",VLOOKUP($H265,判定式!$S$3:$W$12,5,TRUE))","v":""},{"$f":"IF($I265=\"\",\"\",VLOOKUP($I265,判定式!$V$3:$W$12,2,TRUE))","v":""},{"$f":"IF($J265=\"\",\"\",VLOOKUP($J265,判定式!$Y$3:$Z$12,2,TRUE))","v":""},{"$f":"IF($K265=\"\",\"\",VLOOKUP($K265,判定式!$T$3:$W$12,4,TRUE))","v":""},{"$f":"IF($L265=\"\",\"\",VLOOKUP($L265,判定式!$U$3:$W$12,3,TRUE))","v":""},"",{"$f":"IF(ISNUMBER(D265),\"判定外\",IF(C265=6,VLOOKUP(U265,判定式!$C$15:I$19,7,TRUE),IF(C265=7,VLOOKUP(U265,判定式!$D$15:I$19,6,TRUE),IF(C265=8,VLOOKUP(U265,判定式!$E$15:I$19,5,TRUE),IF(C265=9,VLOOKUP(U265,判定式!$F$15:I$19,4,TRUE),IF(C265=10,VLOOKUP(U265,判定式!$G$15:I$19,3,TRUE),IF(C265=11,VLOOKUP(U265,判定式!$H$15:I$19,2,TRUE))))))))","v":false}]
[117,null,null,"-",null,null,null,null,null,null,null,null,{"$f":"IF($E266=\"\",\"\",VLOOKUP($E266,判定式!$P$3:$W$12,8,TRUE))","v":""},{"$f":"IF($F266=\"\",\"\",VLOOKUP($F266,判定式!$Q$3:$W$12,7,TRUE))","v":""},{"$f":"IF($G266=\"\",\"\",VLOOKUP($G266,判定式!$R$3:$W$12,6,TRUE))","v":""},{"$f":"IF($H266=\"\",\"\",VLOOKUP($H266,判定式!$S$3:$W$12,5,TRUE))","v":""},{"$f":"IF($I266=\"\",\"\",VLOOKUP($I266,判定式!$V$3:$W$12,2,TRUE))","v":""},{"$f":"IF($J266=\"\",\"\",VLOOKUP($J266,判定式!$Y$3:$Z$12,2,TRUE))","v":""},{"$f":"IF($K266=\"\",\"\",VLOOKUP($K266,判定式!$T$3:$W$12,4,TRUE))","v":""},{"$f":"IF($L266=\"\",\"\",VLOOKUP($L266,判定式!$U$3:$W$12,3,TRUE))","v":""},"",{"$f":"IF(ISNUMBER(D266),\"判定外\",IF(C266=6,VLOOKUP(U266,判定式!$C$15:I$19,7,TRUE),IF(C266=7,VLOOKUP(U266,判定式!$D$15:I$19,6,TRUE),IF(C266=8,VLOOKUP(U266,判定式!$E$15:I$19,5,TRUE),IF(C266=9,VLOOKUP(U266,判定式!$F$15:I$19,4,TRUE),IF(C266=10,VLOOKUP(U266,判定式!$G$15:I$19,3,TRUE),IF(C266=11,VLOOKUP(U266,判定式!$H$15:I$19,2,TRUE))))))))","v":false}]
[118,null,null,"-",null,null,null,null,null,null,null,null,{"$f":"IF($E267=\"\",\"\",VLOOKUP($E267,判定式!$P$3:$W$12,8,TRUE))","v":""},{"$f":"IF($F267=\"\",\"\",VLOOKUP($F267,判定式!$Q$3:$W$12,7,TRUE))","v":""},{"$f":"IF($G267=\"\",\"\",VLOOKUP($G267,判定式!$R$3:$W$12,6,TRUE))","v":""},{"$f":"IF($H267=\"\",\"\",VLOOKUP($H267,判定式!$S$3:$W$12,5,TRUE))","v":""},{"$f":"IF($I267=\"\",\"\",VLOOKUP($I267,判定式!$V$3:$W$12,2,TRUE))","v":""},{"$f":"IF($J267=\"\",\"\",VLOOKUP($J267,判定式!$Y$3:$Z$12,2,TRUE))","v":""},{"$f":"IF($K267=\"\",\"\",VLOOKUP($K267,判定式!$T$3:$W$12,4,TRUE))","v":""},{"$f":"IF($L267=\"\",\"\",VLOOKUP($L267,判定式!$U$3:$W$12,3,TRUE))","v":""},"",{"$f":"IF(ISNUMBER(D267),\"判定外\",IF(C267=6,VLOOKUP(U267,判定式!$C$15:I$19,7,TRUE),IF(C267=7,VLOOKUP(U267,判定式!$D$15:I$19,6,TRUE),IF(C267=8,VLOOKUP(U267,判定式!$E$15:I$19,5,TRUE),IF(C267=9,VLOOKUP(U267,判定式!$F$15:I$19,4,TRUE),IF(C267=10,VLOOKUP(U267,判定式!$G$15:I$19,3,TRUE),IF(C267=11,VLOOKUP(U267,判定式!$H$15:I$19,2,TRUE))))))))","v":false}]
[119,null,null,"-",null,null,null,null,null,null,null,null,{"$f":"IF($E268=\"\",\"\",VLOOKUP($E268,判定式!$P$3:$W$12,8,TRUE))","v":""},{"$f":"IF($F268=\"\",\"\",VLOOKUP($F268,判定式!$Q$3:$W$12,7,TRUE))","v":""},{"$f":"IF($G268=\"\",\"\",VLOOKUP($G268,判定式!$R$3:$W$12,6,TRUE))","v":""},{"$f":"IF($H268=\"\",\"\",VLOOKUP($H268,判定式!$S$3:$W$12,5,TRUE))","v":""},{"$f":"IF($I268=\"\",\"\",VLOOKUP($I268,判定式!$V$3:$W$12,2,TRUE))","v":""},{"$f":"IF($J268=\"\",\"\",VLOOKUP($J268,判定式!$Y$3:$Z$12,2,TRUE))","v":""},{"$f":"IF($K268=\"\",\"\",VLOOKUP($K268,判定式!$T$3:$W$12,4,TRUE))","v":""},{"$f":"IF($L268=\"\",\"\",VLOOKUP($L268,判定式!$U$3:$W$12,3,TRUE))","v":""},"",{"$f":"IF(ISNUMBER(D268),\"判定外\",IF(C268=6,VLOOKUP(U268,判定式!$C$15:I$19,7,TRUE),IF(C268=7,VLOOKUP(U268,判定式!$D$15:I$19,6,TRUE),IF(C268=8,VLOOKUP(U268,判定式!$E$15:I$19,5,TRUE),IF(C268=9,VLOOKUP(U268,判定式!$F$15:I$19,4,TRUE),IF(C268=10,VLOOKUP(U268,判定式!$G$15:I$19,3,TRUE),IF(C268=11,VLOOKUP(U268,判定式!$H$15:I$19,2,TRUE))))))))","v":false}]
[120,null,null,"-",null,null,null,null,null,null,null,null,{"$f":"IF($E269=\"\",\"\",VLOOKUP($E269,判定式!$P$3:$W$12,8,TRUE))","v":""},{"$f":"IF($F269=\"\",\"\",VLOOKUP($F269,判定式!$Q$3:$W$12,7,TRUE))","v":""},{"$f":"IF($G269=\"\",\"\",VLOOKUP($G269,判定式!$R$3:$W$12,6,TRUE))","v":""},{"$f":"IF($H269=\"\",\"\",VLOOKUP($H269,判定式!$S$3:$W$12,5,TRUE))","v":""},{"$f":"IF($I269=\"\",\"\",VLOOKUP($I269,判定式!$V$3:$W$12,2,TRUE))","v":""},{"$f":"IF($J269=\"\",\"\",VLOOKUP($J269,判定式!$Y$3:$Z$12,2,TRUE))","v":""},{"$f":"IF($K269=\"\",\"\",VLOOKUP($K269,判定式!$T$3:$W$12,4,TRUE))","v":""},{"$f":"IF($L269=\"\",\"\",VLOOKUP($L269,判定式!$U$3:$W$12,3,TRUE))","v":""},"",{"$f":"IF(ISNUMBER(D269),\"判定外\",IF(C269=6,VLOOKUP(U269,判定式!$C$15:I$19,7,TRUE),IF(C269=7,VLOOKUP(U269,判定式!$D$15:I$19,6,TRUE),IF(C269=8,VLOOKUP(U269,判定式!$E$15:I$19,5,TRUE),IF(C269=9,VLOOKUP(U269,判定式!$F$15:I$19,4,TRUE),IF(C269=10,VLOOKUP(U269,判定式!$G$15:I$19,3,TRUE),IF(C269=11,VLOOKUP(U269,判定式!$H$15:I$19,2,TRUE))))))))","v":false}]

{"sheet":"小4","index":4,"n_rows":269,"n_cols":22,"rows_kept":269,"cut":false,"hidden":false,"merged":[[17,3,19,3],[18,12,19,12],[18,13,19,13],[18,14,19,14],[146,4,146,11],[146,12,146,19],[17,4,17,11],[17,12,17,19],[146,3,148,3],[147,12,148,12],[147,13,148,13],[147,14,148,14],[18,19,19,19],[18,16,19,16],[18,17,19,17],[18,18,19,18],[147,19,148,19],[147,15,148,15],[147,16,148,16],[147,17,148,17],[18,15,19,15],[147,18,148,18],[4,2,7,2],[7,14,7,16],[8,2,11,2],[11,14,11,16],[1,2,1,5],[3,13,3,19]]}
[null,{"$f":"IF(入力要領・学校名入力!D2=0,\"\",入力要領・学校名入力!D2)","v":""},"年度","三重県体力・運動能力調査実技種目（新体力テスト）集計表"]
[null,"学校名",{"$f":"IF(入力要領・学校名入力!H2=0,\"\",入力要領・学校名入力!H2)","v":""},null,null,null,"「年度」「学校名」は【入力要領・学校名入力】シートにて行ってください。"]
[]
[null,"集計速報値",null,"種目","握力","上体起こし","長座体前屈","反復横とび","20mシャトルラン","５０ｍ走","立ち幅とび","ｿﾌﾄﾎﾞｰﾙ投げ","体力合計点","総合評価"]
[null,null,"小４\n男子","標本数",{"$f":"COUNT(E21:E140)","v":0},{"$f":"COUNT(F21:F140)","v":0},0,0,0,0,0,0,{"$f":"COUNT(U21:U140)","v":0},"判定","A","B","C","D","E","判定外"]
[null,null,null,"平均",{"$f":"IF(ISERROR(AVERAGE(E21:E140)),\"\",AVERAGE(E21:E140))","v":""},"","","","","","","",{"$f":"IF(ISERROR(AVERAGE(U21:U140)),\"\",AVERAGE(U21:U140))","v":""},"人数",{"$f":"COUNTIF($V21:$V140,\"A\")","v":0},{"$f":"COUNTIF($V21:$V140,\"B\")","v":0},{"$f":"COUNTIF($V21:$V140,\"C\")","v":0},{"$f":"COUNTIF($V21:$V140,\"d\")","v":0},{"$f":"COUNTIF($V21:$V140,\"e\")","v":0},{"$f":"COUNTIF($V21:$V140,\"判定外\")","v":0}]
[null,null,null,"標準偏差",{"$f":"IF(ISERROR(STDEV(E21:E140)),\"\",STDEV(E21:E140))","v":""},"","","","","","","",{"$f":"IF(ISERROR(STDEV(U21:U140)),\"\",STDEV(U21:U140))","v":""},"割合",{"$f":"IFERROR(O6/SUM($O$6:$S$6),0)","v":0},{"$f":"IFERROR(P6/SUM($O$6:$S$6),0)","v":0},0,0,0]
[null,null,null,"目標値",15,17,32,39,44,9.6999999999999993,142,20,48,"ABC",{"$f":"SUM(O7:Q7)","v":0},null,null,"AB－DE",{"$f":"(+O7+P7)-(R7+S7)","v":0}]
[null,null,"小４\n女子","標本数",{"$f":"COUNT(E150:E269)","v":0},{"$f":"COUNT(F150:F269)","v":0},0,0,0,0,0,0,{"$f":"COUNT(U150:U269)","v":0},"判定","A","B","C","D","E","判定外"]
[null,null,null,"平均",{"$f":"IF(ISERROR(AVERAGE(E150:E269)),\"\",AVERAGE(E150:E269))","v":""},"","","","","","","",{"$f":"IF(ISERROR(AVERAGE(U150:U269)),\"\",AVERAGE(U150:U269))","v":""},"人数",{"$f":"COUNTIF($V150:$V269,\"A\")","v":0},{"$f":"COUNTIF($V150:$V269,\"B\")","v":0},{"$f":"COUNTIF($V150:$V269,\"C\")","v":0},{"$f":"COUNTIF($V150:$V269,\"d\")","v":0},{"$f":"COUNTIF($V150:$V269,\"e\")","v":0},{"$f":"COUNTIF($V150:$V269,\"判定外\")","v":0}]
[null,null,null,"標準偏差",{"$f":"IF(ISERROR(STDEV(E150:E269)),\"\",STDEV(E150:E269))","v":""},"","","","","","","",{"$f":"IF(ISERROR(STDEV(U150:U269)),\"\",STDEV(U150:U269))","v":""},"割合",{"$f":"IFERROR(O10/SUM($O$10:$S$10),0)","v":0},{"$f":"IFERROR(P10/SUM($O$10:$S$10),0)","v":0},0,0,0]
[null,null,null,"目標値",14,16,36,37,33,10,135,12,50,"ABC",{"$f":"SUM(O11:Q11)","v":0},null,null,"AB－DE",{"$f":"(+O11+P11)-(R11+S11)","v":0}]
[]
[null,"男子入力欄（女子は下段）"]
[]
[null,"提出時、名前記入は任意","年齢は、全員９",null,null,null,null,"５０m走は、1/100秒を切り上げて、「例：9.72→9.8」のように1/１０秒単位を入力する"]
[null,"小４　男子",9,"自動","整数","整数","整数","整数","整数","小数第１位","整数","整数"]
[null,null,"年齢","未実施\n項目数","調　　査　　項　　目　　記　　録",null,null,null,null,null,null,null,"実技種目得点"]
["Ｎｏ．","名前","半角",null,"握力","上体起こし","長座体前屈","反復横とび","シャトルラン","５０ｍ走","立ち幅とび","ﾎﾞｰﾙ投げ","握力","上体\n起こし","長座\n体前屈","反復\n横跳び","ｼｬﾄﾙ\nﾗﾝ","50ｍ\n走","立ち\n幅とび","ボール\n投げ","体力","総合"]
[null,null,9,null,"（ｋｇ）","（回）","（ｃｍ）","（回）","（回）","（秒）","（ｃｍ）","（ｍ）",null,null,null,null,null,null,null,null,"合計点","評価"]
[1,null,null,{"$f":"IF(COUNTBLANK(E21:L21)=0,\"\",IF(COUNTBLANK(E21:L21)=8,\"-\",COUNTBLANK(E21:L21)))","v":"-"},null,null,null,null,null,null,null,null,{"$f":"IF(E21=\"\",\"\",VLOOKUP(E21,判定式!C$3:$J$12,8,TRUE))","v":""},{"$f":"IF(F21=\"\",\"\",VLOOKUP(F21,判定式!D$3:$J$12,7,TRUE))","v":""},{"$f":"IF(G21=\"\",\"\",VLOOKUP(G21,判定式!E$3:$J$12,6,TRUE))","v":""},{"$f":"IF(H21=\"\",\"\",VLOOKUP(H21,判定式!F$3:$J$12,5,TRUE))","v":""},{"$f":"IF(I21=\"\",\"\",VLOOKUP(I21,判定式!I$3:$J$12,2,TRUE))","v":""},{"$f":"IF(J21=\"\",\"\",VLOOKUP(J21,判定式!L$3:$M$12,2,TRUE))","v":""},{"$f":"IF(K21=\"\",\"\",VLOOKUP(K21,判定式!G$3:$J$12,4,TRUE))","v":""},{"$f":"IF(L21=\"\",\"\",VLOOKUP(L21,判定式!H$3:$J$12,3,TRUE))","v":""},{"$f":"IF(COUNTBLANK(M21:T21)=0,SUM(M21:T21),\"\")","v":""},{"$f":"IF(ISNUMBER(D21),\"判定外\",IF(C21=6,VLOOKUP(U21,判定式!$C$15:I$19,7,TRUE),IF(C21=7,VLOOKUP(U21,判定式!$D$15:I$19,6,TRUE),IF(C21=8,VLOOKUP(U21,判定式!$E$15:I$19,5,TRUE),IF(C21=9,VLOOKUP(U21,判定式!$F$15:I$19,4,TRUE),IF(C21=10,VLOOKUP(U21,判定式!$G$15:I$19,3,TRUE),IF(C21=11,VLOOKUP(U21,判定式!$H$15:I$19,2,TRUE))))))))","v":false}]
[2,null,null,"-",null,null,null,null,null,null,null,null,{"$f":"IF(E22=\"\",\"\",VLOOKUP(E22,判定式!C$3:$J$12,8,TRUE))","v":""},{"$f":"IF(F22=\"\",\"\",VLOOKUP(F22,判定式!D$3:$J$12,7,TRUE))","v":""},{"$f":"IF(G22=\"\",\"\",VLOOKUP(G22,判定式!E$3:$J$12,6,TRUE))","v":""},{"$f":"IF(H22=\"\",\"\",VLOOKUP(H22,判定式!F$3:$J$12,5,TRUE))","v":""},{"$f":"IF(I22=\"\",\"\",VLOOKUP(I22,判定式!I$3:$J$12,2,TRUE))","v":""},{"$f":"IF(J22=\"\",\"\",VLOOKUP(J22,判定式!L$3:$M$12,2,TRUE))","v":""},{"$f":"IF(K22=\"\",\"\",VLOOKUP(K22,判定式!G$3:$J$12,4,TRUE))","v":""},{"$f":"IF(L22=\"\",\"\",VLOOKUP(L22,判定式!H$3:$J$12,3,TRUE))","v":""},"",{"$f":"IF(ISNUMBER(D22),\"判定外\",IF(C22=6,VLOOKUP(U22,判定式!$C$15:I$19,7,TRUE),IF(C22=7,VLOOKUP(U22,判定式!$D$15:I$19,6,TRUE),IF(C22=8,VLOOKUP(U22,判定式!$E$15:I$19,5,TRUE),IF(C22=9,VLOOKUP(U22,判定式!$F$15:I$19,4,TRUE),IF(C22=10,VLOOKUP(U22,判定式!$G$15:I$19,3,TRUE),IF(C22=11,VLOOKUP(U22,判定式!$H$15:I$19,2,TRUE))))))))","v":false}]
[3,null,null,"-",null,null,null,null,null,null,null,null,{"$f":"IF(E23=\"\",\"\",VLOOKUP(E23,判定式!C$3:$J$12,8,TRUE))","v":""},{"$f":"IF(F23=\"\",\"\",VLOOKUP(F23,判定式!D$3:$J$12,7,TRUE))","v":""},{"$f":"IF(G23=\"\",\"\",VLOOKUP(G23,判定式!E$3:$J$12,6,TRUE))","v":""},{"$f":"IF(H23=\"\",\"\",VLOOKUP(H23,判定式!F$3:$J$12,5,TRUE))","v":""},{"$f":"IF(I23=\"\",\"\",VLOOKUP(I23,判定式!I$3:$J$12,2,TRUE))","v":""},{"$f":"IF(J23=\"\",\"\",VLOOKUP(J23,判定式!L$3:$M$12,2,TRUE))","v":""},{"$f":"IF(K23=\"\",\"\",VLOOKUP(K23,判定式!G$3:$J$12,4,TRUE))","v":""},{"$f":"IF(L23=\"\",\"\",VLOOKUP(L23,判定式!H$3:$J$12,3,TRUE))","v":""},"",{"$f":"IF(ISNUMBER(D23),\"判定外\",IF(C23=6,VLOOKUP(U23,判定式!$C$15:I$19,7,TRUE),IF(C23=7,VLOOKUP(U23,判定式!$D$15:I$19,6,TRUE),IF(C23=8,VLOOKUP(U23,判定式!$E$15:I$19,5,TRUE),IF(C23=9,VLOOKUP(U23,判定式!$F$15:I$19,4,TRUE),IF(C23=10,VLOOKUP(U23,判定式!$G$15:I$19,3,TRUE),IF(C23=11,VLOOKUP(U23,判定式!$H$15:I$19,2,TRUE))))))))","v":false}]
[4,null,null,"-",null,null,null,null,null,null,null,null,{"$f":"IF(E24=\"\",\"\",VLOOKUP(E24,判定式!C$3:$J$12,8,TRUE))","v":""},{"$f":"IF(F24=\"\",\"\",VLOOKUP(F24,判定式!D$3:$J$12,7,TRUE))","v":""},{"$f":"IF(G24=\"\",\"\",VLOOKUP(G24,判定式!E$3:$J$12,6,TRUE))","v":""},{"$f":"IF(H24=\"\",\"\",VLOOKUP(H24,判定式!F$3:$J$12,5,TRUE))","v":""},{"$f":"IF(I24=\"\",\"\",VLOOKUP(I24,判定式!I$3:$J$12,2,TRUE))","v":""},{"$f":"IF(J24=\"\",\"\",VLOOKUP(J24,判定式!L$3:$M$12,2,TRUE))","v":""},{"$f":"IF(K24=\"\",\"\",VLOOKUP(K24,判定式!G$3:$J$12,4,TRUE))","v":""},{"$f":"IF(L24=\"\",\"\",VLOOKUP(L24,判定式!H$3:$J$12,3,TRUE))","v":""},"",{"$f":"IF(ISNUMBER(D24),\"判定外\",IF(C24=6,VLOOKUP(U24,判定式!$C$15:I$19,7,TRUE),IF(C24=7,VLOOKUP(U24,判定式!$D$15:I$19,6,TRUE),IF(C24=8,VLOOKUP(U24,判定式!$E$15:I$19,5,TRUE),IF(C24=9,VLOOKUP(U24,判定式!$F$15:I$19,4,TRUE),IF(C24=10,VLOOKUP(U24,判定式!$G$15:I$19,3,TRUE),IF(C24=11,VLOOKUP(U24,判定式!$H$15:I$19,2,TRUE))))))))","v":false}]
[5,null,null,"-",null,null,null,null,null,null,null,null,{"$f":"IF(E25=\"\",\"\",VLOOKUP(E25,判定式!C$3:$J$12,8,TRUE))","v":""},{"$f":"IF(F25=\"\",\"\",VLOOKUP(F25,判定式!D$3:$J$12,7,TRUE))","v":""},{"$f":"IF(G25=\"\",\"\",VLOOKUP(G25,判定式!E$3:$J$12,6,TRUE))","v":""},{"$f":"IF(H25=\"\",\"\",VLOOKUP(H25,判定式!F$3:$J$12,5,TRUE))","v":""},{"$f":"IF(I25=\"\",\"\",VLOOKUP(I25,判定式!I$3:$J$12,2,TRUE))","v":""},{"$f":"IF(J25=\"\",\"\",VLOOKUP(J25,判定式!L$3:$M$12,2,TRUE))","v":""},{"$f":"IF(K25=\"\",\"\",VLOOKUP(K25,判定式!G$3:$J$12,4,TRUE))","v":""},{"$f":"IF(L25=\"\",\"\",VLOOKUP(L25,判定式!H$3:$J$12,3,TRUE))","v":""},"",{"$f":"IF(ISNUMBER(D25),\"判定外\",IF(C25=6,VLOOKUP(U25,判定式!$C$15:I$19,7,TRUE),IF(C25=7,VLOOKUP(U25,判定式!$D$15:I$19,6,TRUE),IF(C25=8,VLOOKUP(U25,判定式!$E$15:I$19,5,TRUE),IF(C25=9,VLOOKUP(U25,判定式!$F$15:I$19,4,TRUE),IF(C25=10,VLOOKUP(U25,判定式!$G$15:I$19,3,TRUE),IF(C25=11,VLOOKUP(U25,判定式!$H$15:I$19,2,TRUE))))))))","v":false}]
[6,null,null,"-",null,null,null,null,null,null,null,null,{"$f":"IF(E26=\"\",\"\",VLOOKUP(E26,判定式!C$3:$J$12,8,TRUE))","v":""},{"$f":"IF(F26=\"\",\"\",VLOOKUP(F26,判定式!D$3:$J$12,7,TRUE))","v":""},{"$f":"IF(G26=\"\",\"\",VLOOKUP(G26,判定式!E$3:$J$12,6,TRUE))","v":""},{"$f":"IF(H26=\"\",\"\",VLOOKUP(H26,判定式!F$3:$J$12,5,TRUE))","v":""},{"$f":"IF(I26=\"\",\"\",VLOOKUP(I26,判定式!I$3:$J$12,2,TRUE))","v":""},{"$f":"IF(J26=\"\",\"\",VLOOKUP(J26,判定式!L$3:$M$12,2,TRUE))","v":""},{"$f":"IF(K26=\"\",\"\",VLOOKUP(K26,判定式!G$3:$J$12,4,TRUE))","v":""},{"$f":"IF(L26=\"\",\"\",VLOOKUP(L26,判定式!H$3:$J$12,3,TRUE))","v":""},"",{"$f":"IF(ISNUMBER(D26),\"判定外\",IF(C26=6,VLOOKUP(U26,判定式!$C$15:I$19,7,TRUE),IF(C26=7,VLOOKUP(U26,判定式!$D$15:I$19,6,TRUE),IF(C26=8,VLOOKUP(U26,判定式!$E$15:I$19,5,TRUE),IF(C26=9,VLOOKUP(U26,判定式!$F$15:I$19,4,TRUE),IF(C26=10,VLOOKUP(U26,判定式!$G$15:I$19,3,TRUE),IF(C26=11,VLOOKUP(U26,判定式!$H$15:I$19,2,TRUE))))))))","v":false}]
[7,null,null,"-",null,null,null,null,null,null,null,null,{"$f":"IF(E27=\"\",\"\",VLOOKUP(E27,判定式!C$3:$J$12,8,TRUE))","v":""},{"$f":"IF(F27=\"\",\"\",VLOOKUP(F27,判定式!D$3:$J$12,7,TRUE))","v":""},{"$f":"IF(G27=\"\",\"\",VLOOKUP(G27,判定式!E$3:$J$12,6,TRUE))","v":""},{"$f":"IF(H27=\"\",\"\",VLOOKUP(H27,判定式!F$3:$J$12,5,TRUE))","v":""},{"$f":"IF(I27=\"\",\"\",VLOOKUP(I27,判定式!I$3:$J$12,2,TRUE))","v":""},{"$f":"IF(J27=\"\",\"\",VLOOKUP(J27,判定式!L$3:$M$12,2,TRUE))","v":""},{"$f":"IF(K27=\"\",\"\",VLOOKUP(K27,判定式!G$3:$J$12,4,TRUE))","v":""},{"$f":"IF(L27=\"\",\"\",VLOOKUP(L27,判定式!H$3:$J$12,3,TRUE))","v":""},"",{"$f":"IF(ISNUMBER(D27),\"判定外\",IF(C27=6,VLOOKUP(U27,判定式!$C$15:I$19,7,TRUE),IF(C27=7,VLOOKUP(U27,判定式!$D$15:I$19,6,TRUE),IF(C27=8,VLOOKUP(U27,判定式!$E$15:I$19,5,TRUE),IF(C27=9,VLOOKUP(U27,判定式!$F$15:I$19,4,TRUE),IF(C27=10,VLOOKUP(U27,判定式!$G$15:I$19,3,TRUE),IF(C27=11,VLOOKUP(U27,判定式!$H$15:I$19,2,TRUE))))))))","v":false}]
[8,null,null,"-",null,null,null,null,null,null,null,null,{"$f":"IF(E28=\"\",\"\",VLOOKUP(E28,判定式!C$3:$J$12,8,TRUE))","v":""},{"$f":"IF(F28=\"\",\"\",VLOOKUP(F28,判定式!D$3:$J$12,7,TRUE))","v":""},{"$f":"IF(G28=\"\",\"\",VLOOKUP(G28,判定式!E$3:$J$12,6,TRUE))","v":""},{"$f":"IF(H28=\"\",\"\",VLOOKUP(H28,判定式!F$3:$J$12,5,TRUE))","v":""},{"$f":"IF(I28=\"\",\"\",VLOOKUP(I28,判定式!I$3:$J$12,2,TRUE))","v":""},{"$f":"IF(J28=\"\",\"\",VLOOKUP(J28,判定式!L$3:$M$12,2,TRUE))","v":""},{"$f":"IF(K28=\"\",\"\",VLOOKUP(K28,判定式!G$3:$J$12,4,TRUE))","v":""},{"$f":"IF(L28=\"\",\"\",VLOOKUP(L28,判定式!H$3:$J$12,3,TRUE))","v":""},"",{"$f":"IF(ISNUMBER(D28),\"判定外\",IF(C28=6,VLOOKUP(U28,判定式!$C$15:I$19,7,TRUE),IF(C28=7,VLOOKUP(U28,判定式!$D$15:I$19,6,TRUE),IF(C28=8,VLOOKUP(U28,判定式!$E$15:I$19,5,TRUE),IF(C28=9,VLOOKUP(U28,判定式!$F$15:I$19,4,TRUE),IF(C28=10,VLOOKUP(U28,判定式!$G$15:I$19,3,TRUE),IF(C28=11,VLOOKUP(U28,判定式!$H$15:I$19,2,TRUE))))))))","v":false}]
[9,null,null,"-",null,null,null,null,null,null,null,null,{"$f":"IF(E29=\"\",\"\",VLOOKUP(E29,判定式!C$3:$J$12,8,TRUE))","v":""},{"$f":"IF(F29=\"\",\"\",VLOOKUP(F29,判定式!D$3:$J$12,7,TRUE))","v":""},{"$f":"IF(G29=\"\",\"\",VLOOKUP(G29,判定式!E$3:$J$12,6,TRUE))","v":""},{"$f":"IF(H29=\"\",\"\",VLOOKUP(H29,判定式!F$3:$J$12,5,TRUE))","v":""},{"$f":"IF(I29=\"\",\"\",VLOOKUP(I29,判定式!I$3:$J$12,2,TRUE))","v":""},{"$f":"IF(J29=\"\",\"\",VLOOKUP(J29,判定式!L$3:$M$12,2,TRUE))","v":""},{"$f":"IF(K29=\"\",\"\",VLOOKUP(K29,判定式!G$3:$J$12,4,TRUE))","v":""},{"$f":"IF(L29=\"\",\"\",VLOOKUP(L29,判定式!H$3:$J$12,3,TRUE))","v":""},"",{"$f":"IF(ISNUMBER(D29),\"判定外\",IF(C29=6,VLOOKUP(U29,判定式!$C$15:I$19,7,TRUE),IF(C29=7,VLOOKUP(U29,判定式!$D$15:I$19,6,TRUE),IF(C29=8,VLOOKUP(U29,判定式!$E$15:I$19,5,TRUE),IF(C29=9,VLOOKUP(U29,判定式!$F$15:I$19,4,TRUE),IF(C29=10,VLOOKUP(U29,判定式!$G$15:I$19,3,TRUE),IF(C29=11,VLOOKUP(U29,判定式!$H$15:I$19,2,TRUE))))))))","v":false}]
[10,null,null,"-",null,null,null,null,null,null,null,null,{"$f":"IF(E30=\"\",\"\",VLOOKUP(E30,判定式!C$3:$J$12,8,TRUE))","v":""},{"$f":"IF(F30=\"\",\"\",VLOOKUP(F30,判定式!D$3:$J$12,7,TRUE))","v":""},{"$f":"IF(G30=\"\",\"\",VLOOKUP(G30,判定式!E$3:$J$12,6,TRUE))","v":""},{"$f":"IF(H30=\"\",\"\",VLOOKUP(H30,判定式!F$3:$J$12,5,TRUE))","v":""},{"$f":"IF(I30=\"\",\"\",VLOOKUP(I30,判定式!I$3:$J$12,2,TRUE))","v":""},{"$f":"IF(J30=\"\",\"\",VLOOKUP(J30,判定式!L$3:$M$12,2,TRUE))","v":""},{"$f":"IF(K30=\"\",\"\",VLOOKUP(K30,判定式!G$3:$J$12,4,TRUE))","v":""},{"$f":"IF(L30=\"\",\"\",VLOOKUP(L30,判定式!H$3:$J$12,3,TRUE))","v":""},"",{"$f":"IF(ISNUMBER(D30),\"判定外\",IF(C30=6,VLOOKUP(U30,判定式!$C$15:I$19,7,TRUE),IF(C30=7,VLOOKUP(U30,判定式!$D$15:I$19,6,TRUE),IF(C30=8,VLOOKUP(U30,判定式!$E$15:I$19,5,TRUE),IF(C30=9,VLOOKUP(U30,判定式!$F$15:I$19,4,TRUE),IF(C30=10,VLOOKUP(U30,判定式!$G$15:I$19,3,TRUE),IF(C30=11,VLOOKUP(U30,判定式!$H$15:I$19,2,TRUE))))))))","v":false}]
[11,null,null,"-",null,null,null,null,null,null,null,null,{"$f":"IF(E31=\"\",\"\",VLOOKUP(E31,判定式!C$3:$J$12,8,TRUE))","v":""},{"$f":"IF(F31=\"\",\"\",VLOOKUP(F31,判定式!D$3:$J$12,7,TRUE))","v":""},{"$f":"IF(G31=\"\",\"\",VLOOKUP(G31,判定式!E$3:$J$12,6,TRUE))","v":""},{"$f":"IF(H31=\"\",\"\",VLOOKUP(H31,判定式!F$3:$J$12,5,TRUE))","v":""},{"$f":"IF(I31=\"\",\"\",VLOOKUP(I31,判定式!I$3:$J$12,2,TRUE))","v":""},{"$f":"IF(J31=\"\",\"\",VLOOKUP(J31,判定式!L$3:$M$12,2,TRUE))","v":""},{"$f":"IF(K31=\"\",\"\",VLOOKUP(K31,判定式!G$3:$J$12,4,TRUE))","v":""},{"$f":"IF(L31=\"\",\"\",VLOOKUP(L31,判定式!H$3:$J$12,3,TRUE))","v":""},"",{"$f":"IF(ISNUMBER(D31),\"判定外\",IF(C31=6,VLOOKUP(U31,判定式!$C$15:I$19,7,TRUE),IF(C31=7,VLOOKUP(U31,判定式!$D$15:I$19,6,TRUE),IF(C31=8,VLOOKUP(U31,判定式!$E$15:I$19,5,TRUE),IF(C31=9,VLOOKUP(U31,判定式!$F$15:I$19,4,TRUE),IF(C31=10,VLOOKUP(U31,判定式!$G$15:I$19,3,TRUE),IF(C31=11,VLOOKUP(U31,判定式!$H$15:I$19,2,TRUE))))))))","v":false}]
[12,null,null,"-",null,null,null,null,null,null,null,null,{"$f":"IF(E32=\"\",\"\",VLOOKUP(E32,判定式!C$3:$J$12,8,TRUE))","v":""},{"$f":"IF(F32=\"\",\"\",VLOOKUP(F32,判定式!D$3:$J$12,7,TRUE))","v":""},{"$f":"IF(G32=\"\",\"\",VLOOKUP(G32,判定式!E$3:$J$12,6,TRUE))","v":""},{"$f":"IF(H32=\"\",\"\",VLOOKUP(H32,判定式!F$3:$J$12,5,TRUE))","v":""},{"$f":"IF(I32=\"\",\"\",VLOOKUP(I32,判定式!I$3:$J$12,2,TRUE))","v":""},{"$f":"IF(J32=\"\",\"\",VLOOKUP(J32,判定式!L$3:$M$12,2,TRUE))","v":""},{"$f":"IF(K32=\"\",\"\",VLOOKUP(K32,判定式!G$3:$J$12,4,TRUE))","v":""},{"$f":"IF(L32=\"\",\"\",VLOOKUP(L32,判定式!H$3:$J$12,3,TRUE))","v":""},"",{"$f":"IF(ISNUMBER(D32),\"判定外\",IF(C32=6,VLOOKUP(U32,判定式!$C$15:I$19,7,TRUE),IF(C32=7,VLOOKUP(U32,判定式!$D$15:I$19,6,TRUE),IF(C32=8,VLOOKUP(U32,判定式!$E$15:I$19,5,TRUE),IF(C32=9,VLOOKUP(U32,判定式!$F$15:I$19,4,TRUE),IF(C32=10,VLOOKUP(U32,判定式!$G$15:I$19,3,TRUE),IF(C32=11,VLOOKUP(U32,判定式!$H$15:I$19,2,TRUE))))))))","v":false}]
[13,null,null,"-",null,null,null,null,null,null,null,null,{"$f":"IF(E33=\"\",\"\",VLOOKUP(E33,判定式!C$3:$J$12,8,TRUE))","v":""},{"$f":"IF(F33=\"\",\"\",VLOOKUP(F33,判定式!D$3:$J$12,7,TRUE))","v":""},{"$f":"IF(G33=\"\",\"\",VLOOKUP(G33,判定式!E$3:$J$12,6,TRUE))","v":""},{"$f":"IF(H33=\"\",\"\",VLOOKUP(H33,判定式!F$3:$J$12,5,TRUE))","v":""},{"$f":"IF(I33=\"\",\"\",VLOOKUP(I33,判定式!I$3:$J$12,2,TRUE))","v":""},{"$f":"IF(J33=\"\",\"\",VLOOKUP(J33,判定式!L$3:$M$12,2,TRUE))","v":""},{"$f":"IF(K33=\"\",\"\",VLOOKUP(K33,判定式!G$3:$J$12,4,TRUE))","v":""},{"$f":"IF(L33=\"\",\"\",VLOOKUP(L33,判定式!H$3:$J$12,3,TRUE))","v":""},"",{"$f":"IF(ISNUMBER(D33),\"判定外\",IF(C33=6,VLOOKUP(U33,判定式!$C$15:I$19,7,TRUE),IF(C33=7,VLOOKUP(U33,判定式!$D$15:I$19,6,TRUE),IF(C33=8,VLOOKUP(U33,判定式!$E$15:I$19,5,TRUE),IF(C33=9,VLOOKUP(U33,判定式!$F$15:I$19,4,TRUE),IF(C33=10,VLOOKUP(U33,判定式!$G$15:I$19,3,TRUE),IF(C33=11,VLOOKUP(U33,判定式!$H$15:I$19,2,TRUE))))))))","v":false}]
[14,null,null,"-",null,null,null,null,null,null,null,null,{"$f":"IF(E34=\"\",\"\",VLOOKUP(E34,判定式!C$3:$J$12,8,TRUE))","v":""},{"$f":"IF(F34=\"\",\"\",VLOOKUP(F34,判定式!D$3:$J$12,7,TRUE))","v":""},{"$f":"IF(G34=\"\",\"\",VLOOKUP(G34,判定式!E$3:$J$12,6,TRUE))","v":""},{"$f":"IF(H34=\"\",\"\",VLOOKUP(H34,判定式!F$3:$J$12,5,TRUE))","v":""},{"$f":"IF(I34=\"\",\"\",VLOOKUP(I34,判定式!I$3:$J$12,2,TRUE))","v":""},{"$f":"IF(J34=\"\",\"\",VLOOKUP(J34,判定式!L$3:$M$12,2,TRUE))","v":""},{"$f":"IF(K34=\"\",\"\",VLOOKUP(K34,判定式!G$3:$J$12,4,TRUE))","v":""},{"$f":"IF(L34=\"\",\"\",VLOOKUP(L34,判定式!H$3:$J$12,3,TRUE))","v":""},"",{"$f":"IF(ISNUMBER(D34),\"判定外\",IF(C34=6,VLOOKUP(U34,判定式!$C$15:I$19,7,TRUE),IF(C34=7,VLOOKUP(U34,判定式!$D$15:I$19,6,TRUE),IF(C34=8,VLOOKUP(U34,判定式!$E$15:I$19,5,TRUE),IF(C34=9,VLOOKUP(U34,判定式!$F$15:I$19,4,TRUE),IF(C34=10,VLOOKUP(U34,判定式!$G$15:I$19,3,TRUE),IF(C34=11,VLOOKUP(U34,判定式!$H$15:I$19,2,TRUE))))))))","v":false}]
[15,null,null,"-",null,null,null,null,null,null,null,null,{"$f":"IF(E35=\"\",\"\",VLOOKUP(E35,判定式!C$3:$J$12,8,TRUE))","v":""},{"$f":"IF(F35=\"\",\"\",VLOOKUP(F35,判定式!D$3:$J$12,7,TRUE))","v":""},{"$f":"IF(G35=\"\",\"\",VLOOKUP(G35,判定式!E$3:$J$12,6,TRUE))","v":""},{"$f":"IF(H35=\"\",\"\",VLOOKUP(H35,判定式!F$3:$J$12,5,TRUE))","v":""},{"$f":"IF(I35=\"\",\"\",VLOOKUP(I35,判定式!I$3:$J$12,2,TRUE))","v":""},{"$f":"IF(J35=\"\",\"\",VLOOKUP(J35,判定式!L$3:$M$12,2,TRUE))","v":""},{"$f":"IF(K35=\"\",\"\",VLOOKUP(K35,判定式!G$3:$J$12,4,TRUE))","v":""},{"$f":"IF(L35=\"\",\"\",VLOOKUP(L35,判定式!H$3:$J$12,3,TRUE))","v":""},"",{"$f":"IF(ISNUMBER(D35),\"判定外\",IF(C35=6,VLOOKUP(U35,判定式!$C$15:I$19,7,TRUE),IF(C35=7,VLOOKUP(U35,判定式!$D$15:I$19,6,TRUE),IF(C35=8,VLOOKUP(U35,判定式!$E$15:I$19,5,TRUE),IF(C35=9,VLOOKUP(U35,判定式!$F$15:I$19,4,TRUE),IF(C35=10,VLOOKUP(U35,判定式!$G$15:I$19,3,TRUE),IF(C35=11,VLOOKUP(U35,判定式!$H$15:I$19,2,TRUE))))))))","v":false}]
[16,null,null,"-",null,null,null,null,null,null,null,null,{"$f":"IF(E36=\"\",\"\",VLOOKUP(E36,判定式!C$3:$J$12,8,TRUE))","v":""},{"$f":"IF(F36=\"\",\"\",VLOOKUP(F36,判定式!D$3:$J$12,7,TRUE))","v":""},{"$f":"IF(G36=\"\",\"\",VLOOKUP(G36,判定式!E$3:$J$12,6,TRUE))","v":""},{"$f":"IF(H36=\"\",\"\",VLOOKUP(H36,判定式!F$3:$J$12,5,TRUE))","v":""},{"$f":"IF(I36=\"\",\"\",VLOOKUP(I36,判定式!I$3:$J$12,2,TRUE))","v":""},{"$f":"IF(J36=\"\",\"\",VLOOKUP(J36,判定式!L$3:$M$12,2,TRUE))","v":""},{"$f":"IF(K36=\"\",\"\",VLOOKUP(K36,判定式!G$3:$J$12,4,TRUE))","v":""},{"$f":"IF(L36=\"\",\"\",VLOOKUP(L36,判定式!H$3:$J$12,3,TRUE))","v":""},"",{"$f":"IF(ISNUMBER(D36),\"判定外\",IF(C36=6,VLOOKUP(U36,判定式!$C$15:I$19,7,TRUE),IF(C36=7,VLOOKUP(U36,判定式!$D$15:I$19,6,TRUE),IF(C36=8,VLOOKUP(U36,判定式!$E$15:I$19,5,TRUE),IF(C36=9,VLOOKUP(U36,判定式!$F$15:I$19,4,TRUE),IF(C36=10,VLOOKUP(U36,判定式!$G$15:I$19,3,TRUE),IF(C36=11,VLOOKUP(U36,判定式!$H$15:I$19,2,TRUE))))))))","v":false}]
[17,null,null,"-",null,null,null,null,null,null,null,null,{"$f":"IF(E37=\"\",\"\",VLOOKUP(E37,判定式!C$3:$J$12,8,TRUE))","v":""},{"$f":"IF(F37=\"\",\"\",VLOOKUP(F37,判定式!D$3:$J$12,7,TRUE))","v":""},{"$f":"IF(G37=\"\",\"\",VLOOKUP(G37,判定式!E$3:$J$12,6,TRUE))","v":""},{"$f":"IF(H37=\"\",\"\",VLOOKUP(H37,判定式!F$3:$J$12,5,TRUE))","v":""},{"$f":"IF(I37=\"\",\"\",VLOOKUP(I37,判定式!I$3:$J$12,2,TRUE))","v":""},{"$f":"IF(J37=\"\",\"\",VLOOKUP(J37,判定式!L$3:$M$12,2,TRUE))","v":""},{"$f":"IF(K37=\"\",\"\",VLOOKUP(K37,判定式!G$3:$J$12,4,TRUE))","v":""},{"$f":"IF(L37=\"\",\"\",VLOOKUP(L37,判定式!H$3:$J$12,3,TRUE))","v":""},"",{"$f":"IF(ISNUMBER(D37),\"判定外\",IF(C37=6,VLOOKUP(U37,判定式!$C$15:I$19,7,TRUE),IF(C37=7,VLOOKUP(U37,判定式!$D$15:I$19,6,TRUE),IF(C37=8,VLOOKUP(U37,判定式!$E$15:I$19,5,TRUE),IF(C37=9,VLOOKUP(U37,判定式!$F$15:I$19,4,TRUE),IF(C37=10,VLOOKUP(U37,判定式!$G$15:I$19,3,TRUE),IF(C37=11,VLOOKUP(U37,判定式!$H$15:I$19,2,TRUE))))))))","v":false}]
[18,null,null,"-",null,null,null,null,null,null,null,null,{"$f":"IF(E38=\"\",\"\",VLOOKUP(E38,判定式!C$3:$J$12,8,TRUE))","v":""},{"$f":"IF(F38=\"\",\"\",VLOOKUP(F38,判定式!D$3:$J$12,7,TRUE))","v":""},{"$f":"IF(G38=\"\",\"\",VLOOKUP(G38,判定式!E$3:$J$12,6,TRUE))","v":""},{"$f":"IF(H38=\"\",\"\",VLOOKUP(H38,判定式!F$3:$J$12,5,TRUE))","v":""},{"$f":"IF(I38=\"\",\"\",VLOOKUP(I38,判定式!I$3:$J$12,2,TRUE))","v":""},{"$f":"IF(J38=\"\",\"\",VLOOKUP(J38,判定式!L$3:$M$12,2,TRUE))","v":""},{"$f":"IF(K38=\"\",\"\",VLOOKUP(K38,判定式!G$3:$J$12,4,TRUE))","v":""},{"$f":"IF(L38=\"\",\"\",VLOOKUP(L38,判定式!H$3:$J$12,3,TRUE))","v":""},"",{"$f":"IF(ISNUMBER(D38),\"判定外\",IF(C38=6,VLOOKUP(U38,判定式!$C$15:I$19,7,TRUE),IF(C38=7,VLOOKUP(U38,判定式!$D$15:I$19,6,TRUE),IF(C38=8,VLOOKUP(U38,判定式!$E$15:I$19,5,TRUE),IF(C38=9,VLOOKUP(U38,判定式!$F$15:I$19,4,TRUE),IF(C38=10,VLOOKUP(U38,判定式!$G$15:I$19,3,TRUE),IF(C38=11,VLOOKUP(U38,判定式!$H$15:I$19,2,TRUE))))))))","v":false}]
[19,null,null,"-",null,null,null,null,null,null,null,null,{"$f":"IF(E39=\"\",\"\",VLOOKUP(E39,判定式!C$3:$J$12,8,TRUE))","v":""},{"$f":"IF(F39=\"\",\"\",VLOOKUP(F39,判定式!D$3:$J$12,7,TRUE))","v":""},{"$f":"IF(G39=\"\",\"\",VLOOKUP(G39,判定式!E$3:$J$12,6,TRUE))","v":""},{"$f":"IF(H39=\"\",\"\",VLOOKUP(H39,判定式!F$3:$J$12,5,TRUE))","v":""},{"$f":"IF(I39=\"\",\"\",VLOOKUP(I39,判定式!I$3:$J$12,2,TRUE))","v":""},{"$f":"IF(J39=\"\",\"\",VLOOKUP(J39,判定式!L$3:$M$12,2,TRUE))","v":""},{"$f":"IF(K39=\"\",\"\",VLOOKUP(K39,判定式!G$3:$J$12,4,TRUE))","v":""},{"$f":"IF(L39=\"\",\"\",VLOOKUP(L39,判定式!H$3:$J$12,3,TRUE))","v":""},"",{"$f":"IF(ISNUMBER(D39),\"判定外\",IF(C39=6,VLOOKUP(U39,判定式!$C$15:I$19,7,TRUE),IF(C39=7,VLOOKUP(U39,判定式!$D$15:I$19,6,TRUE),IF(C39=8,VLOOKUP(U39,判定式!$E$15:I$19,5,TRUE),IF(C39=9,VLOOKUP(U39,判定式!$F$15:I$19,4,TRUE),IF(C39=10,VLOOKUP(U39,判定式!$G$15:I$19,3,TRUE),IF(C39=11,VLOOKUP(U39,判定式!$H$15:I$19,2,TRUE))))))))","v":false}]
[20,null,null,"-",null,null,null,null,null,null,null,null,{"$f":"IF(E40=\"\",\"\",VLOOKUP(E40,判定式!C$3:$J$12,8,TRUE))","v":""},{"$f":"IF(F40=\"\",\"\",VLOOKUP(F40,判定式!D$3:$J$12,7,TRUE))","v":""},{"$f":"IF(G40=\"\",\"\",VLOOKUP(G40,判定式!E$3:$J$12,6,TRUE))","v":""},{"$f":"IF(H40=\"\",\"\",VLOOKUP(H40,判定式!F$3:$J$12,5,TRUE))","v":""},{"$f":"IF(I40=\"\",\"\",VLOOKUP(I40,判定式!I$3:$J$12,2,TRUE))","v":""},{"$f":"IF(J40=\"\",\"\",VLOOKUP(J40,判定式!L$3:$M$12,2,TRUE))","v":""},{"$f":"IF(K40=\"\",\"\",VLOOKUP(K40,判定式!G$3:$J$12,4,TRUE))","v":""},{"$f":"IF(L40=\"\",\"\",VLOOKUP(L40,判定式!H$3:$J$12,3,TRUE))","v":""},"",{"$f":"IF(ISNUMBER(D40),\"判定外\",IF(C40=6,VLOOKUP(U40,判定式!$C$15:I$19,7,TRUE),IF(C40=7,VLOOKUP(U40,判定式!$D$15:I$19,6,TRUE),IF(C40=8,VLOOKUP(U40,判定式!$E$15:I$19,5,TRUE),IF(C40=9,VLOOKUP(U40,判定式!$F$15:I$19,4,TRUE),IF(C40=10,VLOOKUP(U40,判定式!$G$15:I$19,3,TRUE),IF(C40=11,VLOOKUP(U40,判定式!$H$15:I$19,2,TRUE))))))))","v":false}]
[21,null,null,"-",null,null,null,null,null,null,null,null,{"$f":"IF(E41=\"\",\"\",VLOOKUP(E41,判定式!C$3:$J$12,8,TRUE))","v":""},{"$f":"IF(F41=\"\",\"\",VLOOKUP(F41,判定式!D$3:$J$12,7,TRUE))","v":""},{"$f":"IF(G41=\"\",\"\",VLOOKUP(G41,判定式!E$3:$J$12,6,TRUE))","v":""},{"$f":"IF(H41=\"\",\"\",VLOOKUP(H41,判定式!F$3:$J$12,5,TRUE))","v":""},{"$f":"IF(I41=\"\",\"\",VLOOKUP(I41,判定式!I$3:$J$12,2,TRUE))","v":""},{"$f":"IF(J41=\"\",\"\",VLOOKUP(J41,判定式!L$3:$M$12,2,TRUE))","v":""},{"$f":"IF(K41=\"\",\"\",VLOOKUP(K41,判定式!G$3:$J$12,4,TRUE))","v":""},{"$f":"IF(L41=\"\",\"\",VLOOKUP(L41,判定式!H$3:$J$12,3,TRUE))","v":""},"",{"$f":"IF(ISNUMBER(D41),\"判定外\",IF(C41=6,VLOOKUP(U41,判定式!$C$15:I$19,7,TRUE),IF(C41=7,VLOOKUP(U41,判定式!$D$15:I$19,6,TRUE),IF(C41=8,VLOOKUP(U41,判定式!$E$15:I$19,5,TRUE),IF(C41=9,VLOOKUP(U41,判定式!$F$15:I$19,4,TRUE),IF(C41=10,VLOOKUP(U41,判定式!$G$15:I$19,3,TRUE),IF(C41=11,VLOOKUP(U41,判定式!$H$15:I$19,2,TRUE))))))))","v":false}]
[22,null,null,"-",null,null,null,null,null,null,null,null,{"$f":"IF(E42=\"\",\"\",VLOOKUP(E42,判定式!C$3:$J$12,8,TRUE))","v":""},{"$f":"IF(F42=\"\",\"\",VLOOKUP(F42,判定式!D$3:$J$12,7,TRUE))","v":""},{"$f":"IF(G42=\"\",\"\",VLOOKUP(G42,判定式!E$3:$J$12,6,TRUE))","v":""},{"$f":"IF(H42=\"\",\"\",VLOOKUP(H42,判定式!F$3:$J$12,5,TRUE))","v":""},{"$f":"IF(I42=\"\",\"\",VLOOKUP(I42,判定式!I$3:$J$12,2,TRUE))","v":""},{"$f":"IF(J42=\"\",\"\",VLOOKUP(J42,判定式!L$3:$M$12,2,TRUE))","v":""},{"$f":"IF(K42=\"\",\"\",VLOOKUP(K42,判定式!G$3:$J$12,4,TRUE))","v":""},{"$f":"IF(L42=\"\",\"\",VLOOKUP(L42,判定式!H$3:$J$12,3,TRUE))","v":""},"",{"$f":"IF(ISNUMBER(D42),\"判定外\",IF(C42=6,VLOOKUP(U42,判定式!$C$15:I$19,7,TRUE),IF(C42=7,VLOOKUP(U42,判定式!$D$15:I$19,6,TRUE),IF(C42=8,VLOOKUP(U42,判定式!$E$15:I$19,5,TRUE),IF(C42=9,VLOOKUP(U42,判定式!$F$15:I$19,4,TRUE),IF(C42=10,VLOOKUP(U42,判定式!$G$15:I$19,3,TRUE),IF(C42=11,VLOOKUP(U42,判定式!$H$15:I$19,2,TRUE))))))))","v":false}]
[23,null,null,"-",null,null,null,null,null,null,null,null,{"$f":"IF(E43=\"\",\"\",VLOOKUP(E43,判定式!C$3:$J$12,8,TRUE))","v":""},{"$f":"IF(F43=\"\",\"\",VLOOKUP(F43,判定式!D$3:$J$12,7,TRUE))","v":""},{"$f":"IF(G43=\"\",\"\",VLOOKUP(G43,判定式!E$3:$J$12,6,TRUE))","v":""},{"$f":"IF(H43=\"\",\"\",VLOOKUP(H43,判定式!F$3:$J$12,5,TRUE))","v":""},{"$f":"IF(I43=\"\",\"\",VLOOKUP(I43,判定式!I$3:$J$12,2,TRUE))","v":""},{"$f":"IF(J43=\"\",\"\",VLOOKUP(J43,判定式!L$3:$M$12,2,TRUE))","v":""},{"$f":"IF(K43=\"\",\"\",VLOOKUP(K43,判定式!G$3:$J$12,4,TRUE))","v":""},{"$f":"IF(L43=\"\",\"\",VLOOKUP(L43,判定式!H$3:$J$12,3,TRUE))","v":""},"",{"$f":"IF(ISNUMBER(D43),\"判定外\",IF(C43=6,VLOOKUP(U43,判定式!$C$15:I$19,7,TRUE),IF(C43=7,VLOOKUP(U43,判定式!$D$15:I$19,6,TRUE),IF(C43=8,VLOOKUP(U43,判定式!$E$15:I$19,5,TRUE),IF(C43=9,VLOOKUP(U43,判定式!$F$15:I$19,4,TRUE),IF(C43=10,VLOOKUP(U43,判定式!$G$15:I$19,3,TRUE),IF(C43=11,VLOOKUP(U43,判定式!$H$15:I$19,2,TRUE))))))))","v":false}]
[24,null,null,"-",null,null,null,null,null,null,null,null,{"$f":"IF(E44=\"\",\"\",VLOOKUP(E44,判定式!C$3:$J$12,8,TRUE))","v":""},{"$f":"IF(F44=\"\",\"\",VLOOKUP(F44,判定式!D$3:$J$12,7,TRUE))","v":""},{"$f":"IF(G44=\"\",\"\",VLOOKUP(G44,判定式!E$3:$J$12,6,TRUE))","v":""},{"$f":"IF(H44=\"\",\"\",VLOOKUP(H44,判定式!F$3:$J$12,5,TRUE))","v":""},{"$f":"IF(I44=\"\",\"\",VLOOKUP(I44,判定式!I$3:$J$12,2,TRUE))","v":""},{"$f":"IF(J44=\"\",\"\",VLOOKUP(J44,判定式!L$3:$M$12,2,TRUE))","v":""},{"$f":"IF(K44=\"\",\"\",VLOOKUP(K44,判定式!G$3:$J$12,4,TRUE))","v":""},{"$f":"IF(L44=\"\",\"\",VLOOKUP(L44,判定式!H$3:$J$12,3,TRUE))","v":""},"",{"$f":"IF(ISNUMBER(D44),\"判定外\",IF(C44=6,VLOOKUP(U44,判定式!$C$15:I$19,7,TRUE),IF(C44=7,VLOOKUP(U44,判定式!$D$15:I$19,6,TRUE),IF(C44=8,VLOOKUP(U44,判定式!$E$15:I$19,5,TRUE),IF(C44=9,VLOOKUP(U44,判定式!$F$15:I$19,4,TRUE),IF(C44=10,VLOOKUP(U44,判定式!$G$15:I$19,3,TRUE),IF(C44=11,VLOOKUP(U44,判定式!$H$15:I$19,2,TRUE))))))))","v":false}]
[25,null,null,"-",null,null,null,null,null,null,null,null,{"$f":"IF(E45=\"\",\"\",VLOOKUP(E45,判定式!C$3:$J$12,8,TRUE))","v":""},{"$f":"IF(F45=\"\",\"\",VLOOKUP(F45,判定式!D$3:$J$12,7,TRUE))","v":""},{"$f":"IF(G45=\"\",\"\",VLOOKUP(G45,判定式!E$3:$J$12,6,TRUE))","v":""},{"$f":"IF(H45=\"\",\"\",VLOOKUP(H45,判定式!F$3:$J$12,5,TRUE))","v":""},{"$f":"IF(I45=\"\",\"\",VLOOKUP(I45,判定式!I$3:$J$12,2,TRUE))","v":""},{"$f":"IF(J45=\"\",\"\",VLOOKUP(J45,判定式!L$3:$M$12,2,TRUE))","v":""},{"$f":"IF(K45=\"\",\"\",VLOOKUP(K45,判定式!G$3:$J$12,4,TRUE))","v":""},{"$f":"IF(L45=\"\",\"\",VLOOKUP(L45,判定式!H$3:$J$12,3,TRUE))","v":""},"",{"$f":"IF(ISNUMBER(D45),\"判定外\",IF(C45=6,VLOOKUP(U45,判定式!$C$15:I$19,7,TRUE),IF(C45=7,VLOOKUP(U45,判定式!$D$15:I$19,6,TRUE),IF(C45=8,VLOOKUP(U45,判定式!$E$15:I$19,5,TRUE),IF(C45=9,VLOOKUP(U45,判定式!$F$15:I$19,4,TRUE),IF(C45=10,VLOOKUP(U45,判定式!$G$15:I$19,3,TRUE),IF(C45=11,VLOOKUP(U45,判定式!$H$15:I$19,2,TRUE))))))))","v":false}]
[26,null,null,"-",null,null,null,null,null,null,null,null,{"$f":"IF(E46=\"\",\"\",VLOOKUP(E46,判定式!C$3:$J$12,8,TRUE))","v":""},{"$f":"IF(F46=\"\",\"\",VLOOKUP(F46,判定式!D$3:$J$12,7,TRUE))","v":""},{"$f":"IF(G46=\"\",\"\",VLOOKUP(G46,判定式!E$3:$J$12,6,TRUE))","v":""},{"$f":"IF(H46=\"\",\"\",VLOOKUP(H46,判定式!F$3:$J$12,5,TRUE))","v":""},{"$f":"IF(I46=\"\",\"\",VLOOKUP(I46,判定式!I$3:$J$12,2,TRUE))","v":""},{"$f":"IF(J46=\"\",\"\",VLOOKUP(J46,判定式!L$3:$M$12,2,TRUE))","v":""},{"$f":"IF(K46=\"\",\"\",VLOOKUP(K46,判定式!G$3:$J$12,4,TRUE))","v":""},{"$f":"IF(L46=\"\",\"\",VLOOKUP(L46,判定式!H$3:$J$12,3,TRUE))","v":""},"",{"$f":"IF(ISNUMBER(D46),\"判定外\",IF(C46=6,VLOOKUP(U46,判定式!$C$15:I$19,7,TRUE),IF(C46=7,VLOOKUP(U46,判定式!$D$15:I$19,6,TRUE),IF(C46=8,VLOOKUP(U46,判定式!$E$15:I$19,5,TRUE),IF(C46=9,VLOOKUP(U46,判定式!$F$15:I$19,4,TRUE),IF(C46=10,VLOOKUP(U46,判定式!$G$15:I$19,3,TRUE),IF(C46=11,VLOOKUP(U46,判定式!$H$15:I$19,2,TRUE))))))))","v":false}]
[27,null,null,"-",null,null,null,null,null,null,null,null,{"$f":"IF(E47=\"\",\"\",VLOOKUP(E47,判定式!C$3:$J$12,8,TRUE))","v":""},{"$f":"IF(F47=\"\",\"\",VLOOKUP(F47,判定式!D$3:$J$12,7,TRUE))","v":""},{"$f":"IF(G47=\"\",\"\",VLOOKUP(G47,判定式!E$3:$J$12,6,TRUE))","v":""},{"$f":"IF(H47=\"\",\"\",VLOOKUP(H47,判定式!F$3:$J$12,5,TRUE))","v":""},{"$f":"IF(I47=\"\",\"\",VLOOKUP(I47,判定式!I$3:$J$12,2,TRUE))","v":""},{"$f":"IF(J47=\"\",\"\",VLOOKUP(J47,判定式!L$3:$M$12,2,TRUE))","v":""},{"$f":"IF(K47=\"\",\"\",VLOOKUP(K47,判定式!G$3:$J$12,4,TRUE))","v":""},{"$f":"IF(L47=\"\",\"\",VLOOKUP(L47,判定式!H$3:$J$12,3,TRUE))","v":""},"",{"$f":"IF(ISNUMBER(D47),\"判定外\",IF(C47=6,VLOOKUP(U47,判定式!$C$15:I$19,7,TRUE),IF(C47=7,VLOOKUP(U47,判定式!$D$15:I$19,6,TRUE),IF(C47=8,VLOOKUP(U47,判定式!$E$15:I$19,5,TRUE),IF(C47=9,VLOOKUP(U47,判定式!$F$15:I$19,4,TRUE),IF(C47=10,VLOOKUP(U47,判定式!$G$15:I$19,3,TRUE),IF(C47=11,VLOOKUP(U47,判定式!$H$15:I$19,2,TRUE))))))))","v":false}]
[28,null,null,"-",null,null,null,null,null,null,null,null,{"$f":"IF(E48=\"\",\"\",VLOOKUP(E48,判定式!C$3:$J$12,8,TRUE))","v":""},{"$f":"IF(F48=\"\",\"\",VLOOKUP(F48,判定式!D$3:$J$12,7,TRUE))","v":""},{"$f":"IF(G48=\"\",\"\",VLOOKUP(G48,判定式!E$3:$J$12,6,TRUE))","v":""},{"$f":"IF(H48=\"\",\"\",VLOOKUP(H48,判定式!F$3:$J$12,5,TRUE))","v":""},{"$f":"IF(I48=\"\",\"\",VLOOKUP(I48,判定式!I$3:$J$12,2,TRUE))","v":""},{"$f":"IF(J48=\"\",\"\",VLOOKUP(J48,判定式!L$3:$M$12,2,TRUE))","v":""},{"$f":"IF(K48=\"\",\"\",VLOOKUP(K48,判定式!G$3:$J$12,4,TRUE))","v":""},{"$f":"IF(L48=\"\",\"\",VLOOKUP(L48,判定式!H$3:$J$12,3,TRUE))","v":""},"",{"$f":"IF(ISNUMBER(D48),\"判定外\",IF(C48=6,VLOOKUP(U48,判定式!$C$15:I$19,7,TRUE),IF(C48=7,VLOOKUP(U48,判定式!$D$15:I$19,6,TRUE),IF(C48=8,VLOOKUP(U48,判定式!$E$15:I$19,5,TRUE),IF(C48=9,VLOOKUP(U48,判定式!$F$15:I$19,4,TRUE),IF(C48=10,VLOOKUP(U48,判定式!$G$15:I$19,3,TRUE),IF(C48=11,VLOOKUP(U48,判定式!$H$15:I$19,2,TRUE))))))))","v":false}]
[29,null,null,"-",null,null,null,null,null,null,null,null,{"$f":"IF(E49=\"\",\"\",VLOOKUP(E49,判定式!C$3:$J$12,8,TRUE))","v":""},{"$f":"IF(F49=\"\",\"\",VLOOKUP(F49,判定式!D$3:$J$12,7,TRUE))","v":""},{"$f":"IF(G49=\"\",\"\",VLOOKUP(G49,判定式!E$3:$J$12,6,TRUE))","v":""},{"$f":"IF(H49=\"\",\"\",VLOOKUP(H49,判定式!F$3:$J$12,5,TRUE))","v":""},{"$f":"IF(I49=\"\",\"\",VLOOKUP(I49,判定式!I$3:$J$12,2,TRUE))","v":""},{"$f":"IF(J49=\"\",\"\",VLOOKUP(J49,判定式!L$3:$M$12,2,TRUE))","v":""},{"$f":"IF(K49=\"\",\"\",VLOOKUP(K49,判定式!G$3:$J$12,4,TRUE))","v":""},{"$f":"IF(L49=\"\",\"\",VLOOKUP(L49,判定式!H$3:$J$12,3,TRUE))","v":""},"",{"$f":"IF(ISNUMBER(D49),\"判定外\",IF(C49=6,VLOOKUP(U49,判定式!$C$15:I$19,7,TRUE),IF(C49=7,VLOOKUP(U49,判定式!$D$15:I$19,6,TRUE),IF(C49=8,VLOOKUP(U49,判定式!$E$15:I$19,5,TRUE),IF(C49=9,VLOOKUP(U49,判定式!$F$15:I$19,4,TRUE),IF(C49=10,VLOOKUP(U49,判定式!$G$15:I$19,3,TRUE),IF(C49=11,VLOOKUP(U49,判定式!$H$15:I$19,2,TRUE))))))))","v":false}]
[30,null,null,"-",null,null,null,null,null,null,null,null,{"$f":"IF(E50=\"\",\"\",VLOOKUP(E50,判定式!C$3:$J$12,8,TRUE))","v":""},{"$f":"IF(F50=\"\",\"\",VLOOKUP(F50,判定式!D$3:$J$12,7,TRUE))","v":""},{"$f":"IF(G50=\"\",\"\",VLOOKUP(G50,判定式!E$3:$J$12,6,TRUE))","v":""},{"$f":"IF(H50=\"\",\"\",VLOOKUP(H50,判定式!F$3:$J$12,5,TRUE))","v":""},{"$f":"IF(I50=\"\",\"\",VLOOKUP(I50,判定式!I$3:$J$12,2,TRUE))","v":""},{"$f":"IF(J50=\"\",\"\",VLOOKUP(J50,判定式!L$3:$M$12,2,TRUE))","v":""},{"$f":"IF(K50=\"\",\"\",VLOOKUP(K50,判定式!G$3:$J$12,4,TRUE))","v":""},{"$f":"IF(L50=\"\",\"\",VLOOKUP(L50,判定式!H$3:$J$12,3,TRUE))","v":""},"",{"$f":"IF(ISNUMBER(D50),\"判定外\",IF(C50=6,VLOOKUP(U50,判定式!$C$15:I$19,7,TRUE),IF(C50=7,VLOOKUP(U50,判定式!$D$15:I$19,6,TRUE),IF(C50=8,VLOOKUP(U50,判定式!$E$15:I$19,5,TRUE),IF(C50=9,VLOOKUP(U50,判定式!$F$15:I$19,4,TRUE),IF(C50=10,VLOOKUP(U50,判定式!$G$15:I$19,3,TRUE),IF(C50=11,VLOOKUP(U50,判定式!$H$15:I$19,2,TRUE))))))))","v":false}]
[31,null,null,"-",null,null,null,null,null,null,null,null,{"$f":"IF(E51=\"\",\"\",VLOOKUP(E51,判定式!C$3:$J$12,8,TRUE))","v":""},{"$f":"IF(F51=\"\",\"\",VLOOKUP(F51,判定式!D$3:$J$12,7,TRUE))","v":""},{"$f":"IF(G51=\"\",\"\",VLOOKUP(G51,判定式!E$3:$J$12,6,TRUE))","v":""},{"$f":"IF(H51=\"\",\"\",VLOOKUP(H51,判定式!F$3:$J$12,5,TRUE))","v":""},{"$f":"IF(I51=\"\",\"\",VLOOKUP(I51,判定式!I$3:$J$12,2,TRUE))","v":""},{"$f":"IF(J51=\"\",\"\",VLOOKUP(J51,判定式!L$3:$M$12,2,TRUE))","v":""},{"$f":"IF(K51=\"\",\"\",VLOOKUP(K51,判定式!G$3:$J$12,4,TRUE))","v":""},{"$f":"IF(L51=\"\",\"\",VLOOKUP(L51,判定式!H$3:$J$12,3,TRUE))","v":""},"",{"$f":"IF(ISNUMBER(D51),\"判定外\",IF(C51=6,VLOOKUP(U51,判定式!$C$15:I$19,7,TRUE),IF(C51=7,VLOOKUP(U51,判定式!$D$15:I$19,6,TRUE),IF(C51=8,VLOOKUP(U51,判定式!$E$15:I$19,5,TRUE),IF(C51=9,VLOOKUP(U51,判定式!$F$15:I$19,4,TRUE),IF(C51=10,VLOOKUP(U51,判定式!$G$15:I$19,3,TRUE),IF(C51=11,VLOOKUP(U51,判定式!$H$15:I$19,2,TRUE))))))))","v":false}]
[32,null,null,"-",null,null,null,null,null,null,null,null,{"$f":"IF(E52=\"\",\"\",VLOOKUP(E52,判定式!C$3:$J$12,8,TRUE))","v":""},{"$f":"IF(F52=\"\",\"\",VLOOKUP(F52,判定式!D$3:$J$12,7,TRUE))","v":""},{"$f":"IF(G52=\"\",\"\",VLOOKUP(G52,判定式!E$3:$J$12,6,TRUE))","v":""},{"$f":"IF(H52=\"\",\"\",VLOOKUP(H52,判定式!F$3:$J$12,5,TRUE))","v":""},{"$f":"IF(I52=\"\",\"\",VLOOKUP(I52,判定式!I$3:$J$12,2,TRUE))","v":""},{"$f":"IF(J52=\"\",\"\",VLOOKUP(J52,判定式!L$3:$M$12,2,TRUE))","v":""},{"$f":"IF(K52=\"\",\"\",VLOOKUP(K52,判定式!G$3:$J$12,4,TRUE))","v":""},{"$f":"IF(L52=\"\",\"\",VLOOKUP(L52,判定式!H$3:$J$12,3,TRUE))","v":""},"",{"$f":"IF(ISNUMBER(D52),\"判定外\",IF(C52=6,VLOOKUP(U52,判定式!$C$15:I$19,7,TRUE),IF(C52=7,VLOOKUP(U52,判定式!$D$15:I$19,6,TRUE),IF(C52=8,VLOOKUP(U52,判定式!$E$15:I$19,5,TRUE),IF(C52=9,VLOOKUP(U52,判定式!$F$15:I$19,4,TRUE),IF(C52=10,VLOOKUP(U52,判定式!$G$15:I$19,3,TRUE),IF(C52=11,VLOOKUP(U52,判定式!$H$15:I$19,2,TRUE))))))))","v":false}]
[33,null,null,{"$f":"IF(COUNTBLANK(E53:L53)=0,\"\",IF(COUNTBLANK(E53:L53)=8,\"-\",COUNTBLANK(E53:L53)))","v":"-"},null,null,null,null,null,null,null,null,{"$f":"IF(E53=\"\",\"\",VLOOKUP(E53,判定式!C$3:$J$12,8,TRUE))","v":""},{"$f":"IF(F53=\"\",\"\",VLOOKUP(F53,判定式!D$3:$J$12,7,TRUE))","v":""},{"$f":"IF(G53=\"\",\"\",VLOOKUP(G53,判定式!E$3:$J$12,6,TRUE))","v":""},{"$f":"IF(H53=\"\",\"\",VLOOKUP(H53,判定式!F$3:$J$12,5,TRUE))","v":""},{"$f":"IF(I53=\"\",\"\",VLOOKUP(I53,判定式!I$3:$J$12,2,TRUE))","v":""},{"$f":"IF(J53=\"\",\"\",VLOOKUP(J53,判定式!L$3:$M$12,2,TRUE))","v":""},{"$f":"IF(K53=\"\",\"\",VLOOKUP(K53,判定式!G$3:$J$12,4,TRUE))","v":""},{"$f":"IF(L53=\"\",\"\",VLOOKUP(L53,判定式!H$3:$J$12,3,TRUE))","v":""},{"$f":"IF(COUNTBLANK(M53:T53)=0,SUM(M53:T53),\"\")","v":""},{"$f":"IF(ISNUMBER(D53),\"判定外\",IF(C53=6,VLOOKUP(U53,判定式!$C$15:I$19,7,TRUE),IF(C53=7,VLOOKUP(U53,判定式!$D$15:I$19,6,TRUE),IF(C53=8,VLOOKUP(U53,判定式!$E$15:I$19,5,TRUE),IF(C53=9,VLOOKUP(U53,判定式!$F$15:I$19,4,TRUE),IF(C53=10,VLOOKUP(U53,判定式!$G$15:I$19,3,TRUE),IF(C53=11,VLOOKUP(U53,判定式!$H$15:I$19,2,TRUE))))))))","v":false}]
[34,null,null,"-",null,null,null,null,null,null,null,null,{"$f":"IF(E54=\"\",\"\",VLOOKUP(E54,判定式!C$3:$J$12,8,TRUE))","v":""},{"$f":"IF(F54=\"\",\"\",VLOOKUP(F54,判定式!D$3:$J$12,7,TRUE))","v":""},{"$f":"IF(G54=\"\",\"\",VLOOKUP(G54,判定式!E$3:$J$12,6,TRUE))","v":""},{"$f":"IF(H54=\"\",\"\",VLOOKUP(H54,判定式!F$3:$J$12,5,TRUE))","v":""},{"$f":"IF(I54=\"\",\"\",VLOOKUP(I54,判定式!I$3:$J$12,2,TRUE))","v":""},{"$f":"IF(J54=\"\",\"\",VLOOKUP(J54,判定式!L$3:$M$12,2,TRUE))","v":""},{"$f":"IF(K54=\"\",\"\",VLOOKUP(K54,判定式!G$3:$J$12,4,TRUE))","v":""},{"$f":"IF(L54=\"\",\"\",VLOOKUP(L54,判定式!H$3:$J$12,3,TRUE))","v":""},"",{"$f":"IF(ISNUMBER(D54),\"判定外\",IF(C54=6,VLOOKUP(U54,判定式!$C$15:I$19,7,TRUE),IF(C54=7,VLOOKUP(U54,判定式!$D$15:I$19,6,TRUE),IF(C54=8,VLOOKUP(U54,判定式!$E$15:I$19,5,TRUE),IF(C54=9,VLOOKUP(U54,判定式!$F$15:I$19,4,TRUE),IF(C54=10,VLOOKUP(U54,判定式!$G$15:I$19,3,TRUE),IF(C54=11,VLOOKUP(U54,判定式!$H$15:I$19,2,TRUE))))))))","v":false}]
[35,null,null,"-",null,null,null,null,null,null,null,null,{"$f":"IF(E55=\"\",\"\",VLOOKUP(E55,判定式!C$3:$J$12,8,TRUE))","v":""},{"$f":"IF(F55=\"\",\"\",VLOOKUP(F55,判定式!D$3:$J$12,7,TRUE))","v":""},{"$f":"IF(G55=\"\",\"\",VLOOKUP(G55,判定式!E$3:$J$12,6,TRUE))","v":""},{"$f":"IF(H55=\"\",\"\",VLOOKUP(H55,判定式!F$3:$J$12,5,TRUE))","v":""},{"$f":"IF(I55=\"\",\"\",VLOOKUP(I55,判定式!I$3:$J$12,2,TRUE))","v":""},{"$f":"IF(J55=\"\",\"\",VLOOKUP(J55,判定式!L$3:$M$12,2,TRUE))","v":""},{"$f":"IF(K55=\"\",\"\",VLOOKUP(K55,判定式!G$3:$J$12,4,TRUE))","v":""},{"$f":"IF(L55=\"\",\"\",VLOOKUP(L55,判定式!H$3:$J$12,3,TRUE))","v":""},"",{"$f":"IF(ISNUMBER(D55),\"判定外\",IF(C55=6,VLOOKUP(U55,判定式!$C$15:I$19,7,TRUE),IF(C55=7,VLOOKUP(U55,判定式!$D$15:I$19,6,TRUE),IF(C55=8,VLOOKUP(U55,判定式!$E$15:I$19,5,TRUE),IF(C55=9,VLOOKUP(U55,判定式!$F$15:I$19,4,TRUE),IF(C55=10,VLOOKUP(U55,判定式!$G$15:I$19,3,TRUE),IF(C55=11,VLOOKUP(U55,判定式!$H$15:I$19,2,TRUE))))))))","v":false}]
[36,null,null,"-",null,null,null,null,null,null,null,null,{"$f":"IF(E56=\"\",\"\",VLOOKUP(E56,判定式!C$3:$J$12,8,TRUE))","v":""},{"$f":"IF(F56=\"\",\"\",VLOOKUP(F56,判定式!D$3:$J$12,7,TRUE))","v":""},{"$f":"IF(G56=\"\",\"\",VLOOKUP(G56,判定式!E$3:$J$12,6,TRUE))","v":""},{"$f":"IF(H56=\"\",\"\",VLOOKUP(H56,判定式!F$3:$J$12,5,TRUE))","v":""},{"$f":"IF(I56=\"\",\"\",VLOOKUP(I56,判定式!I$3:$J$12,2,TRUE))","v":""},{"$f":"IF(J56=\"\",\"\",VLOOKUP(J56,判定式!L$3:$M$12,2,TRUE))","v":""},{"$f":"IF(K56=\"\",\"\",VLOOKUP(K56,判定式!G$3:$J$12,4,TRUE))","v":""},{"$f":"IF(L56=\"\",\"\",VLOOKUP(L56,判定式!H$3:$J$12,3,TRUE))","v":""},"",{"$f":"IF(ISNUMBER(D56),\"判定外\",IF(C56=6,VLOOKUP(U56,判定式!$C$15:I$19,7,TRUE),IF(C56=7,VLOOKUP(U56,判定式!$D$15:I$19,6,TRUE),IF(C56=8,VLOOKUP(U56,判定式!$E$15:I$19,5,TRUE),IF(C56=9,VLOOKUP(U56,判定式!$F$15:I$19,4,TRUE),IF(C56=10,VLOOKUP(U56,判定式!$G$15:I$19,3,TRUE),IF(C56=11,VLOOKUP(U56,判定式!$H$15:I$19,2,TRUE))))))))","v":false}]
[37,null,null,"-",null,null,null,null,null,null,null,null,{"$f":"IF(E57=\"\",\"\",VLOOKUP(E57,判定式!C$3:$J$12,8,TRUE))","v":""},{"$f":"IF(F57=\"\",\"\",VLOOKUP(F57,判定式!D$3:$J$12,7,TRUE))","v":""},{"$f":"IF(G57=\"\",\"\",VLOOKUP(G57,判定式!E$3:$J$12,6,TRUE))","v":""},{"$f":"IF(H57=\"\",\"\",VLOOKUP(H57,判定式!F$3:$J$12,5,TRUE))","v":""},{"$f":"IF(I57=\"\",\"\",VLOOKUP(I57,判定式!I$3:$J$12,2,TRUE))","v":""},{"$f":"IF(J57=\"\",\"\",VLOOKUP(J57,判定式!L$3:$M$12,2,TRUE))","v":""},{"$f":"IF(K57=\"\",\"\",VLOOKUP(K57,判定式!G$3:$J$12,4,TRUE))","v":""},{"$f":"IF(L57=\"\",\"\",VLOOKUP(L57,判定式!H$3:$J$12,3,TRUE))","v":""},"",{"$f":"IF(ISNUMBER(D57),\"判定外\",IF(C57=6,VLOOKUP(U57,判定式!$C$15:I$19,7,TRUE),IF(C57=7,VLOOKUP(U57,判定式!$D$15:I$19,6,TRUE),IF(C57=8,VLOOKUP(U57,判定式!$E$15:I$19,5,TRUE),IF(C57=9,VLOOKUP(U57,判定式!$F$15:I$19,4,TRUE),IF(C57=10,VLOOKUP(U57,判定式!$G$15:I$19,3,TRUE),IF(C57=11,VLOOKUP(U57,判定式!$H$15:I$19,2,TRUE))))))))","v":false}]
[38,null,null,"-",null,null,null,null,null,null,null,null,{"$f":"IF(E58=\"\",\"\",VLOOKUP(E58,判定式!C$3:$J$12,8,TRUE))","v":""},{"$f":"IF(F58=\"\",\"\",VLOOKUP(F58,判定式!D$3:$J$12,7,TRUE))","v":""},{"$f":"IF(G58=\"\",\"\",VLOOKUP(G58,判定式!E$3:$J$12,6,TRUE))","v":""},{"$f":"IF(H58=\"\",\"\",VLOOKUP(H58,判定式!F$3:$J$12,5,TRUE))","v":""},{"$f":"IF(I58=\"\",\"\",VLOOKUP(I58,判定式!I$3:$J$12,2,TRUE))","v":""},{"$f":"IF(J58=\"\",\"\",VLOOKUP(J58,判定式!L$3:$M$12,2,TRUE))","v":""},{"$f":"IF(K58=\"\",\"\",VLOOKUP(K58,判定式!G$3:$J$12,4,TRUE))","v":""},{"$f":"IF(L58=\"\",\"\",VLOOKUP(L58,判定式!H$3:$J$12,3,TRUE))","v":""},"",{"$f":"IF(ISNUMBER(D58),\"判定外\",IF(C58=6,VLOOKUP(U58,判定式!$C$15:I$19,7,TRUE),IF(C58=7,VLOOKUP(U58,判定式!$D$15:I$19,6,TRUE),IF(C58=8,VLOOKUP(U58,判定式!$E$15:I$19,5,TRUE),IF(C58=9,VLOOKUP(U58,判定式!$F$15:I$19,4,TRUE),IF(C58=10,VLOOKUP(U58,判定式!$G$15:I$19,3,TRUE),IF(C58=11,VLOOKUP(U58,判定式!$H$15:I$19,2,TRUE))))))))","v":false}]
[39,null,null,"-",null,null,null,null,null,null,null,null,{"$f":"IF(E59=\"\",\"\",VLOOKUP(E59,判定式!C$3:$J$12,8,TRUE))","v":""},{"$f":"IF(F59=\"\",\"\",VLOOKUP(F59,判定式!D$3:$J$12,7,TRUE))","v":""},{"$f":"IF(G59=\"\",\"\",VLOOKUP(G59,判定式!E$3:$J$12,6,TRUE))","v":""},{"$f":"IF(H59=\"\",\"\",VLOOKUP(H59,判定式!F$3:$J$12,5,TRUE))","v":""},{"$f":"IF(I59=\"\",\"\",VLOOKUP(I59,判定式!I$3:$J$12,2,TRUE))","v":""},{"$f":"IF(J59=\"\",\"\",VLOOKUP(J59,判定式!L$3:$M$12,2,TRUE))","v":""},{"$f":"IF(K59=\"\",\"\",VLOOKUP(K59,判定式!G$3:$J$12,4,TRUE))","v":""},{"$f":"IF(L59=\"\",\"\",VLOOKUP(L59,判定式!H$3:$J$12,3,TRUE))","v":""},"",{"$f":"IF(ISNUMBER(D59),\"判定外\",IF(C59=6,VLOOKUP(U59,判定式!$C$15:I$19,7,TRUE),IF(C59=7,VLOOKUP(U59,判定式!$D$15:I$19,6,TRUE),IF(C59=8,VLOOKUP(U59,判定式!$E$15:I$19,5,TRUE),IF(C59=9,VLOOKUP(U59,判定式!$F$15:I$19,4,TRUE),IF(C59=10,VLOOKUP(U59,判定式!$G$15:I$19,3,TRUE),IF(C59=11,VLOOKUP(U59,判定式!$H$15:I$19,2,TRUE))))))))","v":false}]
[40,null,null,"-",null,null,null,null,null,null,null,null,{"$f":"IF(E60=\"\",\"\",VLOOKUP(E60,判定式!C$3:$J$12,8,TRUE))","v":""},{"$f":"IF(F60=\"\",\"\",VLOOKUP(F60,判定式!D$3:$J$12,7,TRUE))","v":""},{"$f":"IF(G60=\"\",\"\",VLOOKUP(G60,判定式!E$3:$J$12,6,TRUE))","v":""},{"$f":"IF(H60=\"\",\"\",VLOOKUP(H60,判定式!F$3:$J$12,5,TRUE))","v":""},{"$f":"IF(I60=\"\",\"\",VLOOKUP(I60,判定式!I$3:$J$12,2,TRUE))","v":""},{"$f":"IF(J60=\"\",\"\",VLOOKUP(J60,判定式!L$3:$M$12,2,TRUE))","v":""},{"$f":"IF(K60=\"\",\"\",VLOOKUP(K60,判定式!G$3:$J$12,4,TRUE))","v":""},{"$f":"IF(L60=\"\",\"\",VLOOKUP(L60,判定式!H$3:$J$12,3,TRUE))","v":""},"",{"$f":"IF(ISNUMBER(D60),\"判定外\",IF(C60=6,VLOOKUP(U60,判定式!$C$15:I$19,7,TRUE),IF(C60=7,VLOOKUP(U60,判定式!$D$15:I$19,6,TRUE),IF(C60=8,VLOOKUP(U60,判定式!$E$15:I$19,5,TRUE),IF(C60=9,VLOOKUP(U60,判定式!$F$15:I$19,4,TRUE),IF(C60=10,VLOOKUP(U60,判定式!$G$15:I$19,3,TRUE),IF(C60=11,VLOOKUP(U60,判定式!$H$15:I$19,2,TRUE))))))))","v":false}]
[41,null,null,"-",null,null,null,null,null,null,null,null,{"$f":"IF(E61=\"\",\"\",VLOOKUP(E61,判定式!C$3:$J$12,8,TRUE))","v":""},{"$f":"IF(F61=\"\",\"\",VLOOKUP(F61,判定式!D$3:$J$12,7,TRUE))","v":""},{"$f":"IF(G61=\"\",\"\",VLOOKUP(G61,判定式!E$3:$J$12,6,TRUE))","v":""},{"$f":"IF(H61=\"\",\"\",VLOOKUP(H61,判定式!F$3:$J$12,5,TRUE))","v":""},{"$f":"IF(I61=\"\",\"\",VLOOKUP(I61,判定式!I$3:$J$12,2,TRUE))","v":""},{"$f":"IF(J61=\"\",\"\",VLOOKUP(J61,判定式!L$3:$M$12,2,TRUE))","v":""},{"$f":"IF(K61=\"\",\"\",VLOOKUP(K61,判定式!G$3:$J$12,4,TRUE))","v":""},{"$f":"IF(L61=\"\",\"\",VLOOKUP(L61,判定式!H$3:$J$12,3,TRUE))","v":""},"",{"$f":"IF(ISNUMBER(D61),\"判定外\",IF(C61=6,VLOOKUP(U61,判定式!$C$15:I$19,7,TRUE),IF(C61=7,VLOOKUP(U61,判定式!$D$15:I$19,6,TRUE),IF(C61=8,VLOOKUP(U61,判定式!$E$15:I$19,5,TRUE),IF(C61=9,VLOOKUP(U61,判定式!$F$15:I$19,4,TRUE),IF(C61=10,VLOOKUP(U61,判定式!$G$15:I$19,3,TRUE),IF(C61=11,VLOOKUP(U61,判定式!$H$15:I$19,2,TRUE))))))))","v":false}]
[42,null,null,"-",null,null,null,null,null,null,null,null,{"$f":"IF(E62=\"\",\"\",VLOOKUP(E62,判定式!C$3:$J$12,8,TRUE))","v":""},{"$f":"IF(F62=\"\",\"\",VLOOKUP(F62,判定式!D$3:$J$12,7,TRUE))","v":""},{"$f":"IF(G62=\"\",\"\",VLOOKUP(G62,判定式!E$3:$J$12,6,TRUE))","v":""},{"$f":"IF(H62=\"\",\"\",VLOOKUP(H62,判定式!F$3:$J$12,5,TRUE))","v":""},{"$f":"IF(I62=\"\",\"\",VLOOKUP(I62,判定式!I$3:$J$12,2,TRUE))","v":""},{"$f":"IF(J62=\"\",\"\",VLOOKUP(J62,判定式!L$3:$M$12,2,TRUE))","v":""},{"$f":"IF(K62=\"\",\"\",VLOOKUP(K62,判定式!G$3:$J$12,4,TRUE))","v":""},{"$f":"IF(L62=\"\",\"\",VLOOKUP(L62,判定式!H$3:$J$12,3,TRUE))","v":""},"",{"$f":"IF(ISNUMBER(D62),\"判定外\",IF(C62=6,VLOOKUP(U62,判定式!$C$15:I$19,7,TRUE),IF(C62=7,VLOOKUP(U62,判定式!$D$15:I$19,6,TRUE),IF(C62=8,VLOOKUP(U62,判定式!$E$15:I$19,5,TRUE),IF(C62=9,VLOOKUP(U62,判定式!$F$15:I$19,4,TRUE),IF(C62=10,VLOOKUP(U62,判定式!$G$15:I$19,3,TRUE),IF(C62=11,VLOOKUP(U62,判定式!$H$15:I$19,2,TRUE))))))))","v":false}]
[43,null,null,"-",null,null,null,null,null,null,null,null,{"$f":"IF(E63=\"\",\"\",VLOOKUP(E63,判定式!C$3:$J$12,8,TRUE))","v":""},{"$f":"IF(F63=\"\",\"\",VLOOKUP(F63,判定式!D$3:$J$12,7,TRUE))","v":""},{"$f":"IF(G63=\"\",\"\",VLOOKUP(G63,判定式!E$3:$J$12,6,TRUE))","v":""},{"$f":"IF(H63=\"\",\"\",VLOOKUP(H63,判定式!F$3:$J$12,5,TRUE))","v":""},{"$f":"IF(I63=\"\",\"\",VLOOKUP(I63,判定式!I$3:$J$12,2,TRUE))","v":""},{"$f":"IF(J63=\"\",\"\",VLOOKUP(J63,判定式!L$3:$M$12,2,TRUE))","v":""},{"$f":"IF(K63=\"\",\"\",VLOOKUP(K63,判定式!G$3:$J$12,4,TRUE))","v":""},{"$f":"IF(L63=\"\",\"\",VLOOKUP(L63,判定式!H$3:$J$12,3,TRUE))","v":""},"",{"$f":"IF(ISNUMBER(D63),\"判定外\",IF(C63=6,VLOOKUP(U63,判定式!$C$15:I$19,7,TRUE),IF(C63=7,VLOOKUP(U63,判定式!$D$15:I$19,6,TRUE),IF(C63=8,VLOOKUP(U63,判定式!$E$15:I$19,5,TRUE),IF(C63=9,VLOOKUP(U63,判定式!$F$15:I$19,4,TRUE),IF(C63=10,VLOOKUP(U63,判定式!$G$15:I$19,3,TRUE),IF(C63=11,VLOOKUP(U63,判定式!$H$15:I$19,2,TRUE))))))))","v":false}]
[44,null,null,"-",null,null,null,null,null,null,null,null,{"$f":"IF(E64=\"\",\"\",VLOOKUP(E64,判定式!C$3:$J$12,8,TRUE))","v":""},{"$f":"IF(F64=\"\",\"\",VLOOKUP(F64,判定式!D$3:$J$12,7,TRUE))","v":""},{"$f":"IF(G64=\"\",\"\",VLOOKUP(G64,判定式!E$3:$J$12,6,TRUE))","v":""},{"$f":"IF(H64=\"\",\"\",VLOOKUP(H64,判定式!F$3:$J$12,5,TRUE))","v":""},{"$f":"IF(I64=\"\",\"\",VLOOKUP(I64,判定式!I$3:$J$12,2,TRUE))","v":""},{"$f":"IF(J64=\"\",\"\",VLOOKUP(J64,判定式!L$3:$M$12,2,TRUE))","v":""},{"$f":"IF(K64=\"\",\"\",VLOOKUP(K64,判定式!G$3:$J$12,4,TRUE))","v":""},{"$f":"IF(L64=\"\",\"\",VLOOKUP(L64,判定式!H$3:$J$12,3,TRUE))","v":""},"",{"$f":"IF(ISNUMBER(D64),\"判定外\",IF(C64=6,VLOOKUP(U64,判定式!$C$15:I$19,7,TRUE),IF(C64=7,VLOOKUP(U64,判定式!$D$15:I$19,6,TRUE),IF(C64=8,VLOOKUP(U64,判定式!$E$15:I$19,5,TRUE),IF(C64=9,VLOOKUP(U64,判定式!$F$15:I$19,4,TRUE),IF(C64=10,VLOOKUP(U64,判定式!$G$15:I$19,3,TRUE),IF(C64=11,VLOOKUP(U64,判定式!$H$15:I$19,2,TRUE))))))))","v":false}]
[45,null,null,"-",null,null,null,null,null,null,null,null,{"$f":"IF(E65=\"\",\"\",VLOOKUP(E65,判定式!C$3:$J$12,8,TRUE))","v":""},{"$f":"IF(F65=\"\",\"\",VLOOKUP(F65,判定式!D$3:$J$12,7,TRUE))","v":""},{"$f":"IF(G65=\"\",\"\",VLOOKUP(G65,判定式!E$3:$J$12,6,TRUE))","v":""},{"$f":"IF(H65=\"\",\"\",VLOOKUP(H65,判定式!F$3:$J$12,5,TRUE))","v":""},{"$f":"IF(I65=\"\",\"\",VLOOKUP(I65,判定式!I$3:$J$12,2,TRUE))","v":""},{"$f":"IF(J65=\"\",\"\",VLOOKUP(J65,判定式!L$3:$M$12,2,TRUE))","v":""},{"$f":"IF(K65=\"\",\"\",VLOOKUP(K65,判定式!G$3:$J$12,4,TRUE))","v":""},{"$f":"IF(L65=\"\",\"\",VLOOKUP(L65,判定式!H$3:$J$12,3,TRUE))","v":""},"",{"$f":"IF(ISNUMBER(D65),\"判定外\",IF(C65=6,VLOOKUP(U65,判定式!$C$15:I$19,7,TRUE),IF(C65=7,VLOOKUP(U65,判定式!$D$15:I$19,6,TRUE),IF(C65=8,VLOOKUP(U65,判定式!$E$15:I$19,5,TRUE),IF(C65=9,VLOOKUP(U65,判定式!$F$15:I$19,4,TRUE),IF(C65=10,VLOOKUP(U65,判定式!$G$15:I$19,3,TRUE),IF(C65=11,VLOOKUP(U65,判定式!$H$15:I$19,2,TRUE))))))))","v":false}]
[46,null,null,"-",null,null,null,null,null,null,null,null,{"$f":"IF(E66=\"\",\"\",VLOOKUP(E66,判定式!C$3:$J$12,8,TRUE))","v":""},{"$f":"IF(F66=\"\",\"\",VLOOKUP(F66,判定式!D$3:$J$12,7,TRUE))","v":""},{"$f":"IF(G66=\"\",\"\",VLOOKUP(G66,判定式!E$3:$J$12,6,TRUE))","v":""},{"$f":"IF(H66=\"\",\"\",VLOOKUP(H66,判定式!F$3:$J$12,5,TRUE))","v":""},{"$f":"IF(I66=\"\",\"\",VLOOKUP(I66,判定式!I$3:$J$12,2,TRUE))","v":""},{"$f":"IF(J66=\"\",\"\",VLOOKUP(J66,判定式!L$3:$M$12,2,TRUE))","v":""},{"$f":"IF(K66=\"\",\"\",VLOOKUP(K66,判定式!G$3:$J$12,4,TRUE))","v":""},{"$f":"IF(L66=\"\",\"\",VLOOKUP(L66,判定式!H$3:$J$12,3,TRUE))","v":""},"",{"$f":"IF(ISNUMBER(D66),\"判定外\",IF(C66=6,VLOOKUP(U66,判定式!$C$15:I$19,7,TRUE),IF(C66=7,VLOOKUP(U66,判定式!$D$15:I$19,6,TRUE),IF(C66=8,VLOOKUP(U66,判定式!$E$15:I$19,5,TRUE),IF(C66=9,VLOOKUP(U66,判定式!$F$15:I$19,4,TRUE),IF(C66=10,VLOOKUP(U66,判定式!$G$15:I$19,3,TRUE),IF(C66=11,VLOOKUP(U66,判定式!$H$15:I$19,2,TRUE))))))))","v":false}]
[47,null,null,"-",null,null,null,null,null,null,null,null,{"$f":"IF(E67=\"\",\"\",VLOOKUP(E67,判定式!C$3:$J$12,8,TRUE))","v":""},{"$f":"IF(F67=\"\",\"\",VLOOKUP(F67,判定式!D$3:$J$12,7,TRUE))","v":""},{"$f":"IF(G67=\"\",\"\",VLOOKUP(G67,判定式!E$3:$J$12,6,TRUE))","v":""},{"$f":"IF(H67=\"\",\"\",VLOOKUP(H67,判定式!F$3:$J$12,5,TRUE))","v":""},{"$f":"IF(I67=\"\",\"\",VLOOKUP(I67,判定式!I$3:$J$12,2,TRUE))","v":""},{"$f":"IF(J67=\"\",\"\",VLOOKUP(J67,判定式!L$3:$M$12,2,TRUE))","v":""},{"$f":"IF(K67=\"\",\"\",VLOOKUP(K67,判定式!G$3:$J$12,4,TRUE))","v":""},{"$f":"IF(L67=\"\",\"\",VLOOKUP(L67,判定式!H$3:$J$12,3,TRUE))","v":""},"",{"$f":"IF(ISNUMBER(D67),\"判定外\",IF(C67=6,VLOOKUP(U67,判定式!$C$15:I$19,7,TRUE),IF(C67=7,VLOOKUP(U67,判定式!$D$15:I$19,6,TRUE),IF(C67=8,VLOOKUP(U67,判定式!$E$15:I$19,5,TRUE),IF(C67=9,VLOOKUP(U67,判定式!$F$15:I$19,4,TRUE),IF(C67=10,VLOOKUP(U67,判定式!$G$15:I$19,3,TRUE),IF(C67=11,VLOOKUP(U67,判定式!$H$15:I$19,2,TRUE))))))))","v":false}]
[48,null,null,"-",null,null,null,null,null,null,null,null,{"$f":"IF(E68=\"\",\"\",VLOOKUP(E68,判定式!C$3:$J$12,8,TRUE))","v":""},{"$f":"IF(F68=\"\",\"\",VLOOKUP(F68,判定式!D$3:$J$12,7,TRUE))","v":""},{"$f":"IF(G68=\"\",\"\",VLOOKUP(G68,判定式!E$3:$J$12,6,TRUE))","v":""},{"$f":"IF(H68=\"\",\"\",VLOOKUP(H68,判定式!F$3:$J$12,5,TRUE))","v":""},{"$f":"IF(I68=\"\",\"\",VLOOKUP(I68,判定式!I$3:$J$12,2,TRUE))","v":""},{"$f":"IF(J68=\"\",\"\",VLOOKUP(J68,判定式!L$3:$M$12,2,TRUE))","v":""},{"$f":"IF(K68=\"\",\"\",VLOOKUP(K68,判定式!G$3:$J$12,4,TRUE))","v":""},{"$f":"IF(L68=\"\",\"\",VLOOKUP(L68,判定式!H$3:$J$12,3,TRUE))","v":""},"",{"$f":"IF(ISNUMBER(D68),\"判定外\",IF(C68=6,VLOOKUP(U68,判定式!$C$15:I$19,7,TRUE),IF(C68=7,VLOOKUP(U68,判定式!$D$15:I$19,6,TRUE),IF(C68=8,VLOOKUP(U68,判定式!$E$15:I$19,5,TRUE),IF(C68=9,VLOOKUP(U68,判定式!$F$15:I$19,4,TRUE),IF(C68=10,VLOOKUP(U68,判定式!$G$15:I$19,3,TRUE),IF(C68=11,VLOOKUP(U68,判定式!$H$15:I$19,2,TRUE))))))))","v":false}]
[49,null,null,"-",null,null,null,null,null,null,null,null,{"$f":"IF(E69=\"\",\"\",VLOOKUP(E69,判定式!C$3:$J$12,8,TRUE))","v":""},{"$f":"IF(F69=\"\",\"\",VLOOKUP(F69,判定式!D$3:$J$12,7,TRUE))","v":""},{"$f":"IF(G69=\"\",\"\",VLOOKUP(G69,判定式!E$3:$J$12,6,TRUE))","v":""},{"$f":"IF(H69=\"\",\"\",VLOOKUP(H69,判定式!F$3:$J$12,5,TRUE))","v":""},{"$f":"IF(I69=\"\",\"\",VLOOKUP(I69,判定式!I$3:$J$12,2,TRUE))","v":""},{"$f":"IF(J69=\"\",\"\",VLOOKUP(J69,判定式!L$3:$M$12,2,TRUE))","v":""},{"$f":"IF(K69=\"\",\"\",VLOOKUP(K69,判定式!G$3:$J$12,4,TRUE))","v":""},{"$f":"IF(L69=\"\",\"\",VLOOKUP(L69,判定式!H$3:$J$12,3,TRUE))","v":""},"",{"$f":"IF(ISNUMBER(D69),\"判定外\",IF(C69=6,VLOOKUP(U69,判定式!$C$15:I$19,7,TRUE),IF(C69=7,VLOOKUP(U69,判定式!$D$15:I$19,6,TRUE),IF(C69=8,VLOOKUP(U69,判定式!$E$15:I$19,5,TRUE),IF(C69=9,VLOOKUP(U69,判定式!$F$15:I$19,4,TRUE),IF(C69=10,VLOOKUP(U69,判定式!$G$15:I$19,3,TRUE),IF(C69=11,VLOOKUP(U69,判定式!$H$15:I$19,2,TRUE))))))))","v":false}]
[50,null,null,"-",null,null,null,null,null,null,null,null,{"$f":"IF(E70=\"\",\"\",VLOOKUP(E70,判定式!C$3:$J$12,8,TRUE))","v":""},{"$f":"IF(F70=\"\",\"\",VLOOKUP(F70,判定式!D$3:$J$12,7,TRUE))","v":""},{"$f":"IF(G70=\"\",\"\",VLOOKUP(G70,判定式!E$3:$J$12,6,TRUE))","v":""},{"$f":"IF(H70=\"\",\"\",VLOOKUP(H70,判定式!F$3:$J$12,5,TRUE))","v":""},{"$f":"IF(I70=\"\",\"\",VLOOKUP(I70,判定式!I$3:$J$12,2,TRUE))","v":""},{"$f":"IF(J70=\"\",\"\",VLOOKUP(J70,判定式!L$3:$M$12,2,TRUE))","v":""},{"$f":"IF(K70=\"\",\"\",VLOOKUP(K70,判定式!G$3:$J$12,4,TRUE))","v":""},{"$f":"IF(L70=\"\",\"\",VLOOKUP(L70,判定式!H$3:$J$12,3,TRUE))","v":""},"",{"$f":"IF(ISNUMBER(D70),\"判定外\",IF(C70=6,VLOOKUP(U70,判定式!$C$15:I$19,7,TRUE),IF(C70=7,VLOOKUP(U70,判定式!$D$15:I$19,6,TRUE),IF(C70=8,VLOOKUP(U70,判定式!$E$15:I$19,5,TRUE),IF(C70=9,VLOOKUP(U70,判定式!$F$15:I$19,4,TRUE),IF(C70=10,VLOOKUP(U70,判定式!$G$15:I$19,3,TRUE),IF(C70=11,VLOOKUP(U70,判定式!$H$15:I$19,2,TRUE))))))))","v":false}]
[51,null,null,"-",null,null,null,null,null,null,null,null,{"$f":"IF(E71=\"\",\"\",VLOOKUP(E71,判定式!C$3:$J$12,8,TRUE))","v":""},{"$f":"IF(F71=\"\",\"\",VLOOKUP(F71,判定式!D$3:$J$12,7,TRUE))","v":""},{"$f":"IF(G71=\"\",\"\",VLOOKUP(G71,判定式!E$3:$J$12,6,TRUE))","v":""},{"$f":"IF(H71=\"\",\"\",VLOOKUP(H71,判定式!F$3:$J$12,5,TRUE))","v":""},{"$f":"IF(I71=\"\",\"\",VLOOKUP(I71,判定式!I$3:$J$12,2,TRUE))","v":""},{"$f":"IF(J71=\"\",\"\",VLOOKUP(J71,判定式!L$3:$M$12,2,TRUE))","v":""},{"$f":"IF(K71=\"\",\"\",VLOOKUP(K71,判定式!G$3:$J$12,4,TRUE))","v":""},{"$f":"IF(L71=\"\",\"\",VLOOKUP(L71,判定式!H$3:$J$12,3,TRUE))","v":""},"",{"$f":"IF(ISNUMBER(D71),\"判定外\",IF(C71=6,VLOOKUP(U71,判定式!$C$15:I$19,7,TRUE),IF(C71=7,VLOOKUP(U71,判定式!$D$15:I$19,6,TRUE),IF(C71=8,VLOOKUP(U71,判定式!$E$15:I$19,5,TRUE),IF(C71=9,VLOOKUP(U71,判定式!$F$15:I$19,4,TRUE),IF(C71=10,VLOOKUP(U71,判定式!$G$15:I$19,3,TRUE),IF(C71=11,VLOOKUP(U71,判定式!$H$15:I$19,2,TRUE))))))))","v":false}]
[52,null,null,"-",null,null,null,null,null,null,null,null,{"$f":"IF(E72=\"\",\"\",VLOOKUP(E72,判定式!C$3:$J$12,8,TRUE))","v":""},{"$f":"IF(F72=\"\",\"\",VLOOKUP(F72,判定式!D$3:$J$12,7,TRUE))","v":""},{"$f":"IF(G72=\"\",\"\",VLOOKUP(G72,判定式!E$3:$J$12,6,TRUE))","v":""},{"$f":"IF(H72=\"\",\"\",VLOOKUP(H72,判定式!F$3:$J$12,5,TRUE))","v":""},{"$f":"IF(I72=\"\",\"\",VLOOKUP(I72,判定式!I$3:$J$12,2,TRUE))","v":""},{"$f":"IF(J72=\"\",\"\",VLOOKUP(J72,判定式!L$3:$M$12,2,TRUE))","v":""},{"$f":"IF(K72=\"\",\"\",VLOOKUP(K72,判定式!G$3:$J$12,4,TRUE))","v":""},{"$f":"IF(L72=\"\",\"\",VLOOKUP(L72,判定式!H$3:$J$12,3,TRUE))","v":""},"",{"$f":"IF(ISNUMBER(D72),\"判定外\",IF(C72=6,VLOOKUP(U72,判定式!$C$15:I$19,7,TRUE),IF(C72=7,VLOOKUP(U72,判定式!$D$15:I$19,6,TRUE),IF(C72=8,VLOOKUP(U72,判定式!$E$15:I$19,5,TRUE),IF(C72=9,VLOOKUP(U72,判定式!$F$15:I$19,4,TRUE),IF(C72=10,VLOOKUP(U72,判定式!$G$15:I$19,3,TRUE),IF(C72=11,VLOOKUP(U72,判定式!$H$15:I$19,2,TRUE))))))))","v":false}]
[53,null,null,"-",null,null,null,null,null,null,null,null,{"$f":"IF(E73=\"\",\"\",VLOOKUP(E73,判定式!C$3:$J$12,8,TRUE))","v":""},{"$f":"IF(F73=\"\",\"\",VLOOKUP(F73,判定式!D$3:$J$12,7,TRUE))","v":""},{"$f":"IF(G73=\"\",\"\",VLOOKUP(G73,判定式!E$3:$J$12,6,TRUE))","v":""},{"$f":"IF(H73=\"\",\"\",VLOOKUP(H73,判定式!F$3:$J$12,5,TRUE))","v":""},{"$f":"IF(I73=\"\",\"\",VLOOKUP(I73,判定式!I$3:$J$12,2,TRUE))","v":""},{"$f":"IF(J73=\"\",\"\",VLOOKUP(J73,判定式!L$3:$M$12,2,TRUE))","v":""},{"$f":"IF(K73=\"\",\"\",VLOOKUP(K73,判定式!G$3:$J$12,4,TRUE))","v":""},{"$f":"IF(L73=\"\",\"\",VLOOKUP(L73,判定式!H$3:$J$12,3,TRUE))","v":""},"",{"$f":"IF(ISNUMBER(D73),\"判定外\",IF(C73=6,VLOOKUP(U73,判定式!$C$15:I$19,7,TRUE),IF(C73=7,VLOOKUP(U73,判定式!$D$15:I$19,6,TRUE),IF(C73=8,VLOOKUP(U73,判定式!$E$15:I$19,5,TRUE),IF(C73=9,VLOOKUP(U73,判定式!$F$15:I$19,4,TRUE),IF(C73=10,VLOOKUP(U73,判定式!$G$15:I$19,3,TRUE),IF(C73=11,VLOOKUP(U73,判定式!$H$15:I$19,2,TRUE))))))))","v":false}]
[54,null,null,"-",null,null,null,null,null,null,null,null,{"$f":"IF(E74=\"\",\"\",VLOOKUP(E74,判定式!C$3:$J$12,8,TRUE))","v":""},{"$f":"IF(F74=\"\",\"\",VLOOKUP(F74,判定式!D$3:$J$12,7,TRUE))","v":""},{"$f":"IF(G74=\"\",\"\",VLOOKUP(G74,判定式!E$3:$J$12,6,TRUE))","v":""},{"$f":"IF(H74=\"\",\"\",VLOOKUP(H74,判定式!F$3:$J$12,5,TRUE))","v":""},{"$f":"IF(I74=\"\",\"\",VLOOKUP(I74,判定式!I$3:$J$12,2,TRUE))","v":""},{"$f":"IF(J74=\"\",\"\",VLOOKUP(J74,判定式!L$3:$M$12,2,TRUE))","v":""},{"$f":"IF(K74=\"\",\"\",VLOOKUP(K74,判定式!G$3:$J$12,4,TRUE))","v":""},{"$f":"IF(L74=\"\",\"\",VLOOKUP(L74,判定式!H$3:$J$12,3,TRUE))","v":""},"",{"$f":"IF(ISNUMBER(D74),\"判定外\",IF(C74=6,VLOOKUP(U74,判定式!$C$15:I$19,7,TRUE),IF(C74=7,VLOOKUP(U74,判定式!$D$15:I$19,6,TRUE),IF(C74=8,VLOOKUP(U74,判定式!$E$15:I$19,5,TRUE),IF(C74=9,VLOOKUP(U74,判定式!$F$15:I$19,4,TRUE),IF(C74=10,VLOOKUP(U74,判定式!$G$15:I$19,3,TRUE),IF(C74=11,VLOOKUP(U74,判定式!$H$15:I$19,2,TRUE))))))))","v":false}]
[55,null,null,"-",null,null,null,null,null,null,null,null,{"$f":"IF(E75=\"\",\"\",VLOOKUP(E75,判定式!C$3:$J$12,8,TRUE))","v":""},{"$f":"IF(F75=\"\",\"\",VLOOKUP(F75,判定式!D$3:$J$12,7,TRUE))","v":""},{"$f":"IF(G75=\"\",\"\",VLOOKUP(G75,判定式!E$3:$J$12,6,TRUE))","v":""},{"$f":"IF(H75=\"\",\"\",VLOOKUP(H75,判定式!F$3:$J$12,5,TRUE))","v":""},{"$f":"IF(I75=\"\",\"\",VLOOKUP(I75,判定式!I$3:$J$12,2,TRUE))","v":""},{"$f":"IF(J75=\"\",\"\",VLOOKUP(J75,判定式!L$3:$M$12,2,TRUE))","v":""},{"$f":"IF(K75=\"\",\"\",VLOOKUP(K75,判定式!G$3:$J$12,4,TRUE))","v":""},{"$f":"IF(L75=\"\",\"\",VLOOKUP(L75,判定式!H$3:$J$12,3,TRUE))","v":""},"",{"$f":"IF(ISNUMBER(D75),\"判定外\",IF(C75=6,VLOOKUP(U75,判定式!$C$15:I$19,7,TRUE),IF(C75=7,VLOOKUP(U75,判定式!$D$15:I$19,6,TRUE),IF(C75=8,VLOOKUP(U75,判定式!$E$15:I$19,5,TRUE),IF(C75=9,VLOOKUP(U75,判定式!$F$15:I$19,4,TRUE),IF(C75=10,VLOOKUP(U75,判定式!$G$15:I$19,3,TRUE),IF(C75=11,VLOOKUP(U75,判定式!$H$15:I$19,2,TRUE))))))))","v":false}]
[56,null,null,"-",null,null,null,null,null,null,null,null,{"$f":"IF(E76=\"\",\"\",VLOOKUP(E76,判定式!C$3:$J$12,8,TRUE))","v":""},{"$f":"IF(F76=\"\",\"\",VLOOKUP(F76,判定式!D$3:$J$12,7,TRUE))","v":""},{"$f":"IF(G76=\"\",\"\",VLOOKUP(G76,判定式!E$3:$J$12,6,TRUE))","v":""},{"$f":"IF(H76=\"\",\"\",VLOOKUP(H76,判定式!F$3:$J$12,5,TRUE))","v":""},{"$f":"IF(I76=\"\",\"\",VLOOKUP(I76,判定式!I$3:$J$12,2,TRUE))","v":""},{"$f":"IF(J76=\"\",\"\",VLOOKUP(J76,判定式!L$3:$M$12,2,TRUE))","v":""},{"$f":"IF(K76=\"\",\"\",VLOOKUP(K76,判定式!G$3:$J$12,4,TRUE))","v":""},{"$f":"IF(L76=\"\",\"\",VLOOKUP(L76,判定式!H$3:$J$12,3,TRUE))","v":""},"",{"$f":"IF(ISNUMBER(D76),\"判定外\",IF(C76=6,VLOOKUP(U76,判定式!$C$15:I$19,7,TRUE),IF(C76=7,VLOOKUP(U76,判定式!$D$15:I$19,6,TRUE),IF(C76=8,VLOOKUP(U76,判定式!$E$15:I$19,5,TRUE),IF(C76=9,VLOOKUP(U76,判定式!$F$15:I$19,4,TRUE),IF(C76=10,VLOOKUP(U76,判定式!$G$15:I$19,3,TRUE),IF(C76=11,VLOOKUP(U76,判定式!$H$15:I$19,2,TRUE))))))))","v":false}]
[57,null,null,"-",null,null,null,null,null,null,null,null,{"$f":"IF(E77=\"\",\"\",VLOOKUP(E77,判定式!C$3:$J$12,8,TRUE))","v":""},{"$f":"IF(F77=\"\",\"\",VLOOKUP(F77,判定式!D$3:$J$12,7,TRUE))","v":""},{"$f":"IF(G77=\"\",\"\",VLOOKUP(G77,判定式!E$3:$J$12,6,TRUE))","v":""},{"$f":"IF(H77=\"\",\"\",VLOOKUP(H77,判定式!F$3:$J$12,5,TRUE))","v":""},{"$f":"IF(I77=\"\",\"\",VLOOKUP(I77,判定式!I$3:$J$12,2,TRUE))","v":""},{"$f":"IF(J77=\"\",\"\",VLOOKUP(J77,判定式!L$3:$M$12,2,TRUE))","v":""},{"$f":"IF(K77=\"\",\"\",VLOOKUP(K77,判定式!G$3:$J$12,4,TRUE))","v":""},{"$f":"IF(L77=\"\",\"\",VLOOKUP(L77,判定式!H$3:$J$12,3,TRUE))","v":""},"",{"$f":"IF(ISNUMBER(D77),\"判定外\",IF(C77=6,VLOOKUP(U77,判定式!$C$15:I$19,7,TRUE),IF(C77=7,VLOOKUP(U77,判定式!$D$15:I$19,6,TRUE),IF(C77=8,VLOOKUP(U77,判定式!$E$15:I$19,5,TRUE),IF(C77=9,VLOOKUP(U77,判定式!$F$15:I$19,4,TRUE),IF(C77=10,VLOOKUP(U77,判定式!$G$15:I$19,3,TRUE),IF(C77=11,VLOOKUP(U77,判定式!$H$15:I$19,2,TRUE))))))))","v":false}]
[58,null,null,"-",null,null,null,null,null,null,null,null,{"$f":"IF(E78=\"\",\"\",VLOOKUP(E78,判定式!C$3:$J$12,8,TRUE))","v":""},{"$f":"IF(F78=\"\",\"\",VLOOKUP(F78,判定式!D$3:$J$12,7,TRUE))","v":""},{"$f":"IF(G78=\"\",\"\",VLOOKUP(G78,判定式!E$3:$J$12,6,TRUE))","v":""},{"$f":"IF(H78=\"\",\"\",VLOOKUP(H78,判定式!F$3:$J$12,5,TRUE))","v":""},{"$f":"IF(I78=\"\",\"\",VLOOKUP(I78,判定式!I$3:$J$12,2,TRUE))","v":""},{"$f":"IF(J78=\"\",\"\",VLOOKUP(J78,判定式!L$3:$M$12,2,TRUE))","v":""},{"$f":"IF(K78=\"\",\"\",VLOOKUP(K78,判定式!G$3:$J$12,4,TRUE))","v":""},{"$f":"IF(L78=\"\",\"\",VLOOKUP(L78,判定式!H$3:$J$12,3,TRUE))","v":""},"",{"$f":"IF(ISNUMBER(D78),\"判定外\",IF(C78=6,VLOOKUP(U78,判定式!$C$15:I$19,7,TRUE),IF(C78=7,VLOOKUP(U78,判定式!$D$15:I$19,6,TRUE),IF(C78=8,VLOOKUP(U78,判定式!$E$15:I$19,5,TRUE),IF(C78=9,VLOOKUP(U78,判定式!$F$15:I$19,4,TRUE),IF(C78=10,VLOOKUP(U78,判定式!$G$15:I$19,3,TRUE),IF(C78=11,VLOOKUP(U78,判定式!$H$15:I$19,2,TRUE))))))))","v":false}]
[59,null,null,"-",null,null,null,null,null,null,null,null,{"$f":"IF(E79=\"\",\"\",VLOOKUP(E79,判定式!C$3:$J$12,8,TRUE))","v":""},{"$f":"IF(F79=\"\",\"\",VLOOKUP(F79,判定式!D$3:$J$12,7,TRUE))","v":""},{"$f":"IF(G79=\"\",\"\",VLOOKUP(G79,判定式!E$3:$J$12,6,TRUE))","v":""},{"$f":"IF(H79=\"\",\"\",VLOOKUP(H79,判定式!F$3:$J$12,5,TRUE))","v":""},{"$f":"IF(I79=\"\",\"\",VLOOKUP(I79,判定式!I$3:$J$12,2,TRUE))","v":""},{"$f":"IF(J79=\"\",\"\",VLOOKUP(J79,判定式!L$3:$M$12,2,TRUE))","v":""},{"$f":"IF(K79=\"\",\"\",VLOOKUP(K79,判定式!G$3:$J$12,4,TRUE))","v":""},{"$f":"IF(L79=\"\",\"\",VLOOKUP(L79,判定式!H$3:$J$12,3,TRUE))","v":""},"",{"$f":"IF(ISNUMBER(D79),\"判定外\",IF(C79=6,VLOOKUP(U79,判定式!$C$15:I$19,7,TRUE),IF(C79=7,VLOOKUP(U79,判定式!$D$15:I$19,6,TRUE),IF(C79=8,VLOOKUP(U79,判定式!$E$15:I$19,5,TRUE),IF(C79=9,VLOOKUP(U79,判定式!$F$15:I$19,4,TRUE),IF(C79=10,VLOOKUP(U79,判定式!$G$15:I$19,3,TRUE),IF(C79=11,VLOOKUP(U79,判定式!$H$15:I$19,2,TRUE))))))))","v":false}]
[60,null,null,"-",null,null,null,null,null,null,null,null,{"$f":"IF(E80=\"\",\"\",VLOOKUP(E80,判定式!C$3:$J$12,8,TRUE))","v":""},{"$f":"IF(F80=\"\",\"\",VLOOKUP(F80,判定式!D$3:$J$12,7,TRUE))","v":""},{"$f":"IF(G80=\"\",\"\",VLOOKUP(G80,判定式!E$3:$J$12,6,TRUE))","v":""},{"$f":"IF(H80=\"\",\"\",VLOOKUP(H80,判定式!F$3:$J$12,5,TRUE))","v":""},{"$f":"IF(I80=\"\",\"\",VLOOKUP(I80,判定式!I$3:$J$12,2,TRUE))","v":""},{"$f":"IF(J80=\"\",\"\",VLOOKUP(J80,判定式!L$3:$M$12,2,TRUE))","v":""},{"$f":"IF(K80=\"\",\"\",VLOOKUP(K80,判定式!G$3:$J$12,4,TRUE))","v":""},{"$f":"IF(L80=\"\",\"\",VLOOKUP(L80,判定式!H$3:$J$12,3,TRUE))","v":""},"",{"$f":"IF(ISNUMBER(D80),\"判定外\",IF(C80=6,VLOOKUP(U80,判定式!$C$15:I$19,7,TRUE),IF(C80=7,VLOOKUP(U80,判定式!$D$15:I$19,6,TRUE),IF(C80=8,VLOOKUP(U80,判定式!$E$15:I$19,5,TRUE),IF(C80=9,VLOOKUP(U80,判定式!$F$15:I$19,4,TRUE),IF(C80=10,VLOOKUP(U80,判定式!$G$15:I$19,3,TRUE),IF(C80=11,VLOOKUP(U80,判定式!$H$15:I$19,2,TRUE))))))))","v":false}]
[61,null,null,"-",null,null,null,null,null,null,null,null,{"$f":"IF(E81=\"\",\"\",VLOOKUP(E81,判定式!C$3:$J$12,8,TRUE))","v":""},{"$f":"IF(F81=\"\",\"\",VLOOKUP(F81,判定式!D$3:$J$12,7,TRUE))","v":""},{"$f":"IF(G81=\"\",\"\",VLOOKUP(G81,判定式!E$3:$J$12,6,TRUE))","v":""},{"$f":"IF(H81=\"\",\"\",VLOOKUP(H81,判定式!F$3:$J$12,5,TRUE))","v":""},{"$f":"IF(I81=\"\",\"\",VLOOKUP(I81,判定式!I$3:$J$12,2,TRUE))","v":""},{"$f":"IF(J81=\"\",\"\",VLOOKUP(J81,判定式!L$3:$M$12,2,TRUE))","v":""},{"$f":"IF(K81=\"\",\"\",VLOOKUP(K81,判定式!G$3:$J$12,4,TRUE))","v":""},{"$f":"IF(L81=\"\",\"\",VLOOKUP(L81,判定式!H$3:$J$12,3,TRUE))","v":""},"",{"$f":"IF(ISNUMBER(D81),\"判定外\",IF(C81=6,VLOOKUP(U81,判定式!$C$15:I$19,7,TRUE),IF(C81=7,VLOOKUP(U81,判定式!$D$15:I$19,6,TRUE),IF(C81=8,VLOOKUP(U81,判定式!$E$15:I$19,5,TRUE),IF(C81=9,VLOOKUP(U81,判定式!$F$15:I$19,4,TRUE),IF(C81=10,VLOOKUP(U81,判定式!$G$15:I$19,3,TRUE),IF(C81=11,VLOOKUP(U81,判定式!$H$15:I$19,2,TRUE))))))))","v":false}]
[62,null,null,"-",null,null,null,null,null,null,null,null,{"$f":"IF(E82=\"\",\"\",VLOOKUP(E82,判定式!C$3:$J$12,8,TRUE))","v":""},{"$f":"IF(F82=\"\",\"\",VLOOKUP(F82,判定式!D$3:$J$12,7,TRUE))","v":""},{"$f":"IF(G82=\"\",\"\",VLOOKUP(G82,判定式!E$3:$J$12,6,TRUE))","v":""},{"$f":"IF(H82=\"\",\"\",VLOOKUP(H82,判定式!F$3:$J$12,5,TRUE))","v":""},{"$f":"IF(I82=\"\",\"\",VLOOKUP(I82,判定式!I$3:$J$12,2,TRUE))","v":""},{"$f":"IF(J82=\"\",\"\",VLOOKUP(J82,判定式!L$3:$M$12,2,TRUE))","v":""},{"$f":"IF(K82=\"\",\"\",VLOOKUP(K82,判定式!G$3:$J$12,4,TRUE))","v":""},{"$f":"IF(L82=\"\",\"\",VLOOKUP(L82,判定式!H$3:$J$12,3,TRUE))","v":""},"",{"$f":"IF(ISNUMBER(D82),\"判定外\",IF(C82=6,VLOOKUP(U82,判定式!$C$15:I$19,7,TRUE),IF(C82=7,VLOOKUP(U82,判定式!$D$15:I$19,6,TRUE),IF(C82=8,VLOOKUP(U82,判定式!$E$15:I$19,5,TRUE),IF(C82=9,VLOOKUP(U82,判定式!$F$15:I$19,4,TRUE),IF(C82=10,VLOOKUP(U82,判定式!$G$15:I$19,3,TRUE),IF(C82=11,VLOOKUP(U82,判定式!$H$15:I$19,2,TRUE))))))))","v":false}]
[63,null,null,"-",null,null,null,null,null,null,null,null,{"$f":"IF(E83=\"\",\"\",VLOOKUP(E83,判定式!C$3:$J$12,8,TRUE))","v":""},{"$f":"IF(F83=\"\",\"\",VLOOKUP(F83,判定式!D$3:$J$12,7,TRUE))","v":""},{"$f":"IF(G83=\"\",\"\",VLOOKUP(G83,判定式!E$3:$J$12,6,TRUE))","v":""},{"$f":"IF(H83=\"\",\"\",VLOOKUP(H83,判定式!F$3:$J$12,5,TRUE))","v":""},{"$f":"IF(I83=\"\",\"\",VLOOKUP(I83,判定式!I$3:$J$12,2,TRUE))","v":""},{"$f":"IF(J83=\"\",\"\",VLOOKUP(J83,判定式!L$3:$M$12,2,TRUE))","v":""},{"$f":"IF(K83=\"\",\"\",VLOOKUP(K83,判定式!G$3:$J$12,4,TRUE))","v":""},{"$f":"IF(L83=\"\",\"\",VLOOKUP(L83,判定式!H$3:$J$12,3,TRUE))","v":""},"",{"$f":"IF(ISNUMBER(D83),\"判定外\",IF(C83=6,VLOOKUP(U83,判定式!$C$15:I$19,7,TRUE),IF(C83=7,VLOOKUP(U83,判定式!$D$15:I$19,6,TRUE),IF(C83=8,VLOOKUP(U83,判定式!$E$15:I$19,5,TRUE),IF(C83=9,VLOOKUP(U83,判定式!$F$15:I$19,4,TRUE),IF(C83=10,VLOOKUP(U83,判定式!$G$15:I$19,3,TRUE),IF(C83=11,VLOOKUP(U83,判定式!$H$15:I$19,2,TRUE))))))))","v":false}]
[64,null,null,"-",null,null,null,null,null,null,null,null,{"$f":"IF(E84=\"\",\"\",VLOOKUP(E84,判定式!C$3:$J$12,8,TRUE))","v":""},{"$f":"IF(F84=\"\",\"\",VLOOKUP(F84,判定式!D$3:$J$12,7,TRUE))","v":""},{"$f":"IF(G84=\"\",\"\",VLOOKUP(G84,判定式!E$3:$J$12,6,TRUE))","v":""},{"$f":"IF(H84=\"\",\"\",VLOOKUP(H84,判定式!F$3:$J$12,5,TRUE))","v":""},{"$f":"IF(I84=\"\",\"\",VLOOKUP(I84,判定式!I$3:$J$12,2,TRUE))","v":""},{"$f":"IF(J84=\"\",\"\",VLOOKUP(J84,判定式!L$3:$M$12,2,TRUE))","v":""},{"$f":"IF(K84=\"\",\"\",VLOOKUP(K84,判定式!G$3:$J$12,4,TRUE))","v":""},{"$f":"IF(L84=\"\",\"\",VLOOKUP(L84,判定式!H$3:$J$12,3,TRUE))","v":""},"",{"$f":"IF(ISNUMBER(D84),\"判定外\",IF(C84=6,VLOOKUP(U84,判定式!$C$15:I$19,7,TRUE),IF(C84=7,VLOOKUP(U84,判定式!$D$15:I$19,6,TRUE),IF(C84=8,VLOOKUP(U84,判定式!$E$15:I$19,5,TRUE),IF(C84=9,VLOOKUP(U84,判定式!$F$15:I$19,4,TRUE),IF(C84=10,VLOOKUP(U84,判定式!$G$15:I$19,3,TRUE),IF(C84=11,VLOOKUP(U84,判定式!$H$15:I$19,2,TRUE))))))))","v":false}]
[65,null,null,{"$f":"IF(COUNTBLANK(E85:L85)=0,\"\",IF(COUNTBLANK(E85:L85)=8,\"-\",COUNTBLANK(E85:L85)))","v":"-"},null,null,null,null,null,null,null,null,{"$f":"IF(E85=\"\",\"\",VLOOKUP(E85,判定式!C$3:$J$12,8,TRUE))","v":""},{"$f":"IF(F85=\"\",\"\",VLOOKUP(F85,判定式!D$3:$J$12,7,TRUE))","v":""},{"$f":"IF(G85=\"\",\"\",VLOOKUP(G85,判定式!E$3:$J$12,6,TRUE))","v":""},{"$f":"IF(H85=\"\",\"\",VLOOKUP(H85,判定式!F$3:$J$12,5,TRUE))","v":""},{"$f":"IF(I85=\"\",\"\",VLOOKUP(I85,判定式!I$3:$J$12,2,TRUE))","v":""},{"$f":"IF(J85=\"\",\"\",VLOOKUP(J85,判定式!L$3:$M$12,2,TRUE))","v":""},{"$f":"IF(K85=\"\",\"\",VLOOKUP(K85,判定式!G$3:$J$12,4,TRUE))","v":""},{"$f":"IF(L85=\"\",\"\",VLOOKUP(L85,判定式!H$3:$J$12,3,TRUE))","v":""},{"$f":"IF(COUNTBLANK(M85:T85)=0,SUM(M85:T85),\"\")","v":""},{"$f":"IF(ISNUMBER(D85),\"判定外\",IF(C85=6,VLOOKUP(U85,判定式!$C$15:I$19,7,TRUE),IF(C85=7,VLOOKUP(U85,判定式!$D$15:I$19,6,TRUE),IF(C85=8,VLOOKUP(U85,判定式!$E$15:I$19,5,TRUE),IF(C85=9,VLOOKUP(U85,判定式!$F$15:I$19,4,TRUE),IF(C85=10,VLOOKUP(U85,判定式!$G$15:I$19,3,TRUE),IF(C85=11,VLOOKUP(U85,判定式!$H$15:I$19,2,TRUE))))))))","v":false}]
[66,null,null,"-",null,null,null,null,null,null,null,null,{"$f":"IF(E86=\"\",\"\",VLOOKUP(E86,判定式!C$3:$J$12,8,TRUE))","v":""},{"$f":"IF(F86=\"\",\"\",VLOOKUP(F86,判定式!D$3:$J$12,7,TRUE))","v":""},{"$f":"IF(G86=\"\",\"\",VLOOKUP(G86,判定式!E$3:$J$12,6,TRUE))","v":""},{"$f":"IF(H86=\"\",\"\",VLOOKUP(H86,判定式!F$3:$J$12,5,TRUE))","v":""},{"$f":"IF(I86=\"\",\"\",VLOOKUP(I86,判定式!I$3:$J$12,2,TRUE))","v":""},{"$f":"IF(J86=\"\",\"\",VLOOKUP(J86,判定式!L$3:$M$12,2,TRUE))","v":""},{"$f":"IF(K86=\"\",\"\",VLOOKUP(K86,判定式!G$3:$J$12,4,TRUE))","v":""},{"$f":"IF(L86=\"\",\"\",VLOOKUP(L86,判定式!H$3:$J$12,3,TRUE))","v":""},"",{"$f":"IF(ISNUMBER(D86),\"判定外\",IF(C86=6,VLOOKUP(U86,判定式!$C$15:I$19,7,TRUE),IF(C86=7,VLOOKUP(U86,判定式!$D$15:I$19,6,TRUE),IF(C86=8,VLOOKUP(U86,判定式!$E$15:I$19,5,TRUE),IF(C86=9,VLOOKUP(U86,判定式!$F$15:I$19,4,TRUE),IF(C86=10,VLOOKUP(U86,判定式!$G$15:I$19,3,TRUE),IF(C86=11,VLOOKUP(U86,判定式!$H$15:I$19,2,TRUE))))))))","v":false}]
[67,null,null,"-",null,null,null,null,null,null,null,null,{"$f":"IF(E87=\"\",\"\",VLOOKUP(E87,判定式!C$3:$J$12,8,TRUE))","v":""},{"$f":"IF(F87=\"\",\"\",VLOOKUP(F87,判定式!D$3:$J$12,7,TRUE))","v":""},{"$f":"IF(G87=\"\",\"\",VLOOKUP(G87,判定式!E$3:$J$12,6,TRUE))","v":""},{"$f":"IF(H87=\"\",\"\",VLOOKUP(H87,判定式!F$3:$J$12,5,TRUE))","v":""},{"$f":"IF(I87=\"\",\"\",VLOOKUP(I87,判定式!I$3:$J$12,2,TRUE))","v":""},{"$f":"IF(J87=\"\",\"\",VLOOKUP(J87,判定式!L$3:$M$12,2,TRUE))","v":""},{"$f":"IF(K87=\"\",\"\",VLOOKUP(K87,判定式!G$3:$J$12,4,TRUE))","v":""},{"$f":"IF(L87=\"\",\"\",VLOOKUP(L87,判定式!H$3:$J$12,3,TRUE))","v":""},"",{"$f":"IF(ISNUMBER(D87),\"判定外\",IF(C87=6,VLOOKUP(U87,判定式!$C$15:I$19,7,TRUE),IF(C87=7,VLOOKUP(U87,判定式!$D$15:I$19,6,TRUE),IF(C87=8,VLOOKUP(U87,判定式!$E$15:I$19,5,TRUE),IF(C87=9,VLOOKUP(U87,判定式!$F$15:I$19,4,TRUE),IF(C87=10,VLOOKUP(U87,判定式!$G$15:I$19,3,TRUE),IF(C87=11,VLOOKUP(U87,判定式!$H$15:I$19,2,TRUE))))))))","v":false}]
[68,null,null,"-",null,null,null,null,null,null,null,null,{"$f":"IF(E88=\"\",\"\",VLOOKUP(E88,判定式!C$3:$J$12,8,TRUE))","v":""},{"$f":"IF(F88=\"\",\"\",VLOOKUP(F88,判定式!D$3:$J$12,7,TRUE))","v":""},{"$f":"IF(G88=\"\",\"\",VLOOKUP(G88,判定式!E$3:$J$12,6,TRUE))","v":""},{"$f":"IF(H88=\"\",\"\",VLOOKUP(H88,判定式!F$3:$J$12,5,TRUE))","v":""},{"$f":"IF(I88=\"\",\"\",VLOOKUP(I88,判定式!I$3:$J$12,2,TRUE))","v":""},{"$f":"IF(J88=\"\",\"\",VLOOKUP(J88,判定式!L$3:$M$12,2,TRUE))","v":""},{"$f":"IF(K88=\"\",\"\",VLOOKUP(K88,判定式!G$3:$J$12,4,TRUE))","v":""},{"$f":"IF(L88=\"\",\"\",VLOOKUP(L88,判定式!H$3:$J$12,3,TRUE))","v":""},"",{"$f":"IF(ISNUMBER(D88),\"判定外\",IF(C88=6,VLOOKUP(U88,判定式!$C$15:I$19,7,TRUE),IF(C88=7,VLOOKUP(U88,判定式!$D$15:I$19,6,TRUE),IF(C88=8,VLOOKUP(U88,判定式!$E$15:I$19,5,TRUE),IF(C88=9,VLOOKUP(U88,判定式!$F$15:I$19,4,TRUE),IF(C88=10,VLOOKUP(U88,判定式!$G$15:I$19,3,TRUE),IF(C88=11,VLOOKUP(U88,判定式!$H$15:I$19,2,TRUE))))))))","v":false}]
[69,null,null,"-",null,null,null,null,null,null,null,null,{"$f":"IF(E89=\"\",\"\",VLOOKUP(E89,判定式!C$3:$J$12,8,TRUE))","v":""},{"$f":"IF(F89=\"\",\"\",VLOOKUP(F89,判定式!D$3:$J$12,7,TRUE))","v":""},{"$f":"IF(G89=\"\",\"\",VLOOKUP(G89,判定式!E$3:$J$12,6,TRUE))","v":""},{"$f":"IF(H89=\"\",\"\",VLOOKUP(H89,判定式!F$3:$J$12,5,TRUE))","v":""},{"$f":"IF(I89=\"\",\"\",VLOOKUP(I89,判定式!I$3:$J$12,2,TRUE))","v":""},{"$f":"IF(J89=\"\",\"\",VLOOKUP(J89,判定式!L$3:$M$12,2,TRUE))","v":""},{"$f":"IF(K89=\"\",\"\",VLOOKUP(K89,判定式!G$3:$J$12,4,TRUE))","v":""},{"$f":"IF(L89=\"\",\"\",VLOOKUP(L89,判定式!H$3:$J$12,3,TRUE))","v":""},"",{"$f":"IF(ISNUMBER(D89),\"判定外\",IF(C89=6,VLOOKUP(U89,判定式!$C$15:I$19,7,TRUE),IF(C89=7,VLOOKUP(U89,判定式!$D$15:I$19,6,TRUE),IF(C89=8,VLOOKUP(U89,判定式!$E$15:I$19,5,TRUE),IF(C89=9,VLOOKUP(U89,判定式!$F$15:I$19,4,TRUE),IF(C89=10,VLOOKUP(U89,判定式!$G$15:I$19,3,TRUE),IF(C89=11,VLOOKUP(U89,判定式!$H$15:I$19,2,TRUE))))))))","v":false}]
[70,null,null,"-",null,null,null,null,null,null,null,null,{"$f":"IF(E90=\"\",\"\",VLOOKUP(E90,判定式!C$3:$J$12,8,TRUE))","v":""},{"$f":"IF(F90=\"\",\"\",VLOOKUP(F90,判定式!D$3:$J$12,7,TRUE))","v":""},{"$f":"IF(G90=\"\",\"\",VLOOKUP(G90,判定式!E$3:$J$12,6,TRUE))","v":""},{"$f":"IF(H90=\"\",\"\",VLOOKUP(H90,判定式!F$3:$J$12,5,TRUE))","v":""},{"$f":"IF(I90=\"\",\"\",VLOOKUP(I90,判定式!I$3:$J$12,2,TRUE))","v":""},{"$f":"IF(J90=\"\",\"\",VLOOKUP(J90,判定式!L$3:$M$12,2,TRUE))","v":""},{"$f":"IF(K90=\"\",\"\",VLOOKUP(K90,判定式!G$3:$J$12,4,TRUE))","v":""},{"$f":"IF(L90=\"\",\"\",VLOOKUP(L90,判定式!H$3:$J$12,3,TRUE))","v":""},"",{"$f":"IF(ISNUMBER(D90),\"判定外\",IF(C90=6,VLOOKUP(U90,判定式!$C$15:I$19,7,TRUE),IF(C90=7,VLOOKUP(U90,判定式!$D$15:I$19,6,TRUE),IF(C90=8,VLOOKUP(U90,判定式!$E$15:I$19,5,TRUE),IF(C90=9,VLOOKUP(U90,判定式!$F$15:I$19,4,TRUE),IF(C90=10,VLOOKUP(U90,判定式!$G$15:I$19,3,TRUE),IF(C90=11,VLOOKUP(U90,判定式!$H$15:I$19,2,TRUE))))))))","v":false}]
[71,null,null,"-",null,null,null,null,null,null,null,null,{"$f":"IF(E91=\"\",\"\",VLOOKUP(E91,判定式!C$3:$J$12,8,TRUE))","v":""},{"$f":"IF(F91=\"\",\"\",VLOOKUP(F91,判定式!D$3:$J$12,7,TRUE))","v":""},{"$f":"IF(G91=\"\",\"\",VLOOKUP(G91,判定式!E$3:$J$12,6,TRUE))","v":""},{"$f":"IF(H91=\"\",\"\",VLOOKUP(H91,判定式!F$3:$J$12,5,TRUE))","v":""},{"$f":"IF(I91=\"\",\"\",VLOOKUP(I91,判定式!I$3:$J$12,2,TRUE))","v":""},{"$f":"IF(J91=\"\",\"\",VLOOKUP(J91,判定式!L$3:$M$12,2,TRUE))","v":""},{"$f":"IF(K91=\"\",\"\",VLOOKUP(K91,判定式!G$3:$J$12,4,TRUE))","v":""},{"$f":"IF(L91=\"\",\"\",VLOOKUP(L91,判定式!H$3:$J$12,3,TRUE))","v":""},"",{"$f":"IF(ISNUMBER(D91),\"判定外\",IF(C91=6,VLOOKUP(U91,判定式!$C$15:I$19,7,TRUE),IF(C91=7,VLOOKUP(U91,判定式!$D$15:I$19,6,TRUE),IF(C91=8,VLOOKUP(U91,判定式!$E$15:I$19,5,TRUE),IF(C91=9,VLOOKUP(U91,判定式!$F$15:I$19,4,TRUE),IF(C91=10,VLOOKUP(U91,判定式!$G$15:I$19,3,TRUE),IF(C91=11,VLOOKUP(U91,判定式!$H$15:I$19,2,TRUE))))))))","v":false}]
[72,null,null,"-",null,null,null,null,null,null,null,null,{"$f":"IF(E92=\"\",\"\",VLOOKUP(E92,判定式!C$3:$J$12,8,TRUE))","v":""},{"$f":"IF(F92=\"\",\"\",VLOOKUP(F92,判定式!D$3:$J$12,7,TRUE))","v":""},{"$f":"IF(G92=\"\",\"\",VLOOKUP(G92,判定式!E$3:$J$12,6,TRUE))","v":""},{"$f":"IF(H92=\"\",\"\",VLOOKUP(H92,判定式!F$3:$J$12,5,TRUE))","v":""},{"$f":"IF(I92=\"\",\"\",VLOOKUP(I92,判定式!I$3:$J$12,2,TRUE))","v":""},{"$f":"IF(J92=\"\",\"\",VLOOKUP(J92,判定式!L$3:$M$12,2,TRUE))","v":""},{"$f":"IF(K92=\"\",\"\",VLOOKUP(K92,判定式!G$3:$J$12,4,TRUE))","v":""},{"$f":"IF(L92=\"\",\"\",VLOOKUP(L92,判定式!H$3:$J$12,3,TRUE))","v":""},"",{"$f":"IF(ISNUMBER(D92),\"判定外\",IF(C92=6,VLOOKUP(U92,判定式!$C$15:I$19,7,TRUE),IF(C92=7,VLOOKUP(U92,判定式!$D$15:I$19,6,TRUE),IF(C92=8,VLOOKUP(U92,判定式!$E$15:I$19,5,TRUE),IF(C92=9,VLOOKUP(U92,判定式!$F$15:I$19,4,TRUE),IF(C92=10,VLOOKUP(U92,判定式!$G$15:I$19,3,TRUE),IF(C92=11,VLOOKUP(U92,判定式!$H$15:I$19,2,TRUE))))))))","v":false}]
[73,null,null,"-",null,null,null,null,null,null,null,null,{"$f":"IF(E93=\"\",\"\",VLOOKUP(E93,判定式!C$3:$J$12,8,TRUE))","v":""},{"$f":"IF(F93=\"\",\"\",VLOOKUP(F93,判定式!D$3:$J$12,7,TRUE))","v":""},{"$f":"IF(G93=\"\",\"\",VLOOKUP(G93,判定式!E$3:$J$12,6,TRUE))","v":""},{"$f":"IF(H93=\"\",\"\",VLOOKUP(H93,判定式!F$3:$J$12,5,TRUE))","v":""},{"$f":"IF(I93=\"\",\"\",VLOOKUP(I93,判定式!I$3:$J$12,2,TRUE))","v":""},{"$f":"IF(J93=\"\",\"\",VLOOKUP(J93,判定式!L$3:$M$12,2,TRUE))","v":""},{"$f":"IF(K93=\"\",\"\",VLOOKUP(K93,判定式!G$3:$J$12,4,TRUE))","v":""},{"$f":"IF(L93=\"\",\"\",VLOOKUP(L93,判定式!H$3:$J$12,3,TRUE))","v":""},"",{"$f":"IF(ISNUMBER(D93),\"判定外\",IF(C93=6,VLOOKUP(U93,判定式!$C$15:I$19,7,TRUE),IF(C93=7,VLOOKUP(U93,判定式!$D$15:I$19,6,TRUE),IF(C93=8,VLOOKUP(U93,判定式!$E$15:I$19,5,TRUE),IF(C93=9,VLOOKUP(U93,判定式!$F$15:I$19,4,TRUE),IF(C93=10,VLOOKUP(U93,判定式!$G$15:I$19,3,TRUE),IF(C93=11,VLOOKUP(U93,判定式!$H$15:I$19,2,TRUE))))))))","v":false}]
[74,null,null,"-",null,null,null,null,null,null,null,null,{"$f":"IF(E94=\"\",\"\",VLOOKUP(E94,判定式!C$3:$J$12,8,TRUE))","v":""},{"$f":"IF(F94=\"\",\"\",VLOOKUP(F94,判定式!D$3:$J$12,7,TRUE))","v":""},{"$f":"IF(G94=\"\",\"\",VLOOKUP(G94,判定式!E$3:$J$12,6,TRUE))","v":""},{"$f":"IF(H94=\"\",\"\",VLOOKUP(H94,判定式!F$3:$J$12,5,TRUE))","v":""},{"$f":"IF(I94=\"\",\"\",VLOOKUP(I94,判定式!I$3:$J$12,2,TRUE))","v":""},{"$f":"IF(J94=\"\",\"\",VLOOKUP(J94,判定式!L$3:$M$12,2,TRUE))","v":""},{"$f":"IF(K94=\"\",\"\",VLOOKUP(K94,判定式!G$3:$J$12,4,TRUE))","v":""},{"$f":"IF(L94=\"\",\"\",VLOOKUP(L94,判定式!H$3:$J$12,3,TRUE))","v":""},"",{"$f":"IF(ISNUMBER(D94),\"判定外\",IF(C94=6,VLOOKUP(U94,判定式!$C$15:I$19,7,TRUE),IF(C94=7,VLOOKUP(U94,判定式!$D$15:I$19,6,TRUE),IF(C94=8,VLOOKUP(U94,判定式!$E$15:I$19,5,TRUE),IF(C94=9,VLOOKUP(U94,判定式!$F$15:I$19,4,TRUE),IF(C94=10,VLOOKUP(U94,判定式!$G$15:I$19,3,TRUE),IF(C94=11,VLOOKUP(U94,判定式!$H$15:I$19,2,TRUE))))))))","v":false}]
[75,null,null,"-",null,null,null,null,null,null,null,null,{"$f":"IF(E95=\"\",\"\",VLOOKUP(E95,判定式!C$3:$J$12,8,TRUE))","v":""},{"$f":"IF(F95=\"\",\"\",VLOOKUP(F95,判定式!D$3:$J$12,7,TRUE))","v":""},{"$f":"IF(G95=\"\",\"\",VLOOKUP(G95,判定式!E$3:$J$12,6,TRUE))","v":""},{"$f":"IF(H95=\"\",\"\",VLOOKUP(H95,判定式!F$3:$J$12,5,TRUE))","v":""},{"$f":"IF(I95=\"\",\"\",VLOOKUP(I95,判定式!I$3:$J$12,2,TRUE))","v":""},{"$f":"IF(J95=\"\",\"\",VLOOKUP(J95,判定式!L$3:$M$12,2,TRUE))","v":""},{"$f":"IF(K95=\"\",\"\",VLOOKUP(K95,判定式!G$3:$J$12,4,TRUE))","v":""},{"$f":"IF(L95=\"\",\"\",VLOOKUP(L95,判定式!H$3:$J$12,3,TRUE))","v":""},"",{"$f":"IF(ISNUMBER(D95),\"判定外\",IF(C95=6,VLOOKUP(U95,判定式!$C$15:I$19,7,TRUE),IF(C95=7,VLOOKUP(U95,判定式!$D$15:I$19,6,TRUE),IF(C95=8,VLOOKUP(U95,判定式!$E$15:I$19,5,TRUE),IF(C95=9,VLOOKUP(U95,判定式!$F$15:I$19,4,TRUE),IF(C95=10,VLOOKUP(U95,判定式!$G$15:I$19,3,TRUE),IF(C95=11,VLOOKUP(U95,判定式!$H$15:I$19,2,TRUE))))))))","v":false}]
[76,null,null,"-",null,null,null,null,null,null,null,null,{"$f":"IF(E96=\"\",\"\",VLOOKUP(E96,判定式!C$3:$J$12,8,TRUE))","v":""},{"$f":"IF(F96=\"\",\"\",VLOOKUP(F96,判定式!D$3:$J$12,7,TRUE))","v":""},{"$f":"IF(G96=\"\",\"\",VLOOKUP(G96,判定式!E$3:$J$12,6,TRUE))","v":""},{"$f":"IF(H96=\"\",\"\",VLOOKUP(H96,判定式!F$3:$J$12,5,TRUE))","v":""},{"$f":"IF(I96=\"\",\"\",VLOOKUP(I96,判定式!I$3:$J$12,2,TRUE))","v":""},{"$f":"IF(J96=\"\",\"\",VLOOKUP(J96,判定式!L$3:$M$12,2,TRUE))","v":""},{"$f":"IF(K96=\"\",\"\",VLOOKUP(K96,判定式!G$3:$J$12,4,TRUE))","v":""},{"$f":"IF(L96=\"\",\"\",VLOOKUP(L96,判定式!H$3:$J$12,3,TRUE))","v":""},"",{"$f":"IF(ISNUMBER(D96),\"判定外\",IF(C96=6,VLOOKUP(U96,判定式!$C$15:I$19,7,TRUE),IF(C96=7,VLOOKUP(U96,判定式!$D$15:I$19,6,TRUE),IF(C96=8,VLOOKUP(U96,判定式!$E$15:I$19,5,TRUE),IF(C96=9,VLOOKUP(U96,判定式!$F$15:I$19,4,TRUE),IF(C96=10,VLOOKUP(U96,判定式!$G$15:I$19,3,TRUE),IF(C96=11,VLOOKUP(U96,判定式!$H$15:I$19,2,TRUE))))))))","v":false}]
[77,null,null,"-",null,null,null,null,null,null,null,null,{"$f":"IF(E97=\"\",\"\",VLOOKUP(E97,判定式!C$3:$J$12,8,TRUE))","v":""},{"$f":"IF(F97=\"\",\"\",VLOOKUP(F97,判定式!D$3:$J$12,7,TRUE))","v":""},{"$f":"IF(G97=\"\",\"\",VLOOKUP(G97,判定式!E$3:$J$12,6,TRUE))","v":""},{"$f":"IF(H97=\"\",\"\",VLOOKUP(H97,判定式!F$3:$J$12,5,TRUE))","v":""},{"$f":"IF(I97=\"\",\"\",VLOOKUP(I97,判定式!I$3:$J$12,2,TRUE))","v":""},{"$f":"IF(J97=\"\",\"\",VLOOKUP(J97,判定式!L$3:$M$12,2,TRUE))","v":""},{"$f":"IF(K97=\"\",\"\",VLOOKUP(K97,判定式!G$3:$J$12,4,TRUE))","v":""},{"$f":"IF(L97=\"\",\"\",VLOOKUP(L97,判定式!H$3:$J$12,3,TRUE))","v":""},"",{"$f":"IF(ISNUMBER(D97),\"判定外\",IF(C97=6,VLOOKUP(U97,判定式!$C$15:I$19,7,TRUE),IF(C97=7,VLOOKUP(U97,判定式!$D$15:I$19,6,TRUE),IF(C97=8,VLOOKUP(U97,判定式!$E$15:I$19,5,TRUE),IF(C97=9,VLOOKUP(U97,判定式!$F$15:I$19,4,TRUE),IF(C97=10,VLOOKUP(U97,判定式!$G$15:I$19,3,TRUE),IF(C97=11,VLOOKUP(U97,判定式!$H$15:I$19,2,TRUE))))))))","v":false}]
[78,null,null,"-",null,null,null,null,null,null,null,null,{"$f":"IF(E98=\"\",\"\",VLOOKUP(E98,判定式!C$3:$J$12,8,TRUE))","v":""},{"$f":"IF(F98=\"\",\"\",VLOOKUP(F98,判定式!D$3:$J$12,7,TRUE))","v":""},{"$f":"IF(G98=\"\",\"\",VLOOKUP(G98,判定式!E$3:$J$12,6,TRUE))","v":""},{"$f":"IF(H98=\"\",\"\",VLOOKUP(H98,判定式!F$3:$J$12,5,TRUE))","v":""},{"$f":"IF(I98=\"\",\"\",VLOOKUP(I98,判定式!I$3:$J$12,2,TRUE))","v":""},{"$f":"IF(J98=\"\",\"\",VLOOKUP(J98,判定式!L$3:$M$12,2,TRUE))","v":""},{"$f":"IF(K98=\"\",\"\",VLOOKUP(K98,判定式!G$3:$J$12,4,TRUE))","v":""},{"$f":"IF(L98=\"\",\"\",VLOOKUP(L98,判定式!H$3:$J$12,3,TRUE))","v":""},"",{"$f":"IF(ISNUMBER(D98),\"判定外\",IF(C98=6,VLOOKUP(U98,判定式!$C$15:I$19,7,TRUE),IF(C98=7,VLOOKUP(U98,判定式!$D$15:I$19,6,TRUE),IF(C98=8,VLOOKUP(U98,判定式!$E$15:I$19,5,TRUE),IF(C98=9,VLOOKUP(U98,判定式!$F$15:I$19,4,TRUE),IF(C98=10,VLOOKUP(U98,判定式!$G$15:I$19,3,TRUE),IF(C98=11,VLOOKUP(U98,判定式!$H$15:I$19,2,TRUE))))))))","v":false}]
[79,null,null,"-",null,null,null,null,null,null,null,null,{"$f":"IF(E99=\"\",\"\",VLOOKUP(E99,判定式!C$3:$J$12,8,TRUE))","v":""},{"$f":"IF(F99=\"\",\"\",VLOOKUP(F99,判定式!D$3:$J$12,7,TRUE))","v":""},{"$f":"IF(G99=\"\",\"\",VLOOKUP(G99,判定式!E$3:$J$12,6,TRUE))","v":""},{"$f":"IF(H99=\"\",\"\",VLOOKUP(H99,判定式!F$3:$J$12,5,TRUE))","v":""},{"$f":"IF(I99=\"\",\"\",VLOOKUP(I99,判定式!I$3:$J$12,2,TRUE))","v":""},{"$f":"IF(J99=\"\",\"\",VLOOKUP(J99,判定式!L$3:$M$12,2,TRUE))","v":""},{"$f":"IF(K99=\"\",\"\",VLOOKUP(K99,判定式!G$3:$J$12,4,TRUE))","v":""},{"$f":"IF(L99=\"\",\"\",VLOOKUP(L99,判定式!H$3:$J$12,3,TRUE))","v":""},"",{"$f":"IF(ISNUMBER(D99),\"判定外\",IF(C99=6,VLOOKUP(U99,判定式!$C$15:I$19,7,TRUE),IF(C99=7,VLOOKUP(U99,判定式!$D$15:I$19,6,TRUE),IF(C99=8,VLOOKUP(U99,判定式!$E$15:I$19,5,TRUE),IF(C99=9,VLOOKUP(U99,判定式!$F$15:I$19,4,TRUE),IF(C99=10,VLOOKUP(U99,判定式!$G$15:I$19,3,TRUE),IF(C99=11,VLOOKUP(U99,判定式!$H$15:I$19,2,TRUE))))))))","v":false}]
[80,null,null,"-",null,null,null,null,null,null,null,null,{"$f":"IF(E100=\"\",\"\",VLOOKUP(E100,判定式!C$3:$J$12,8,TRUE))","v":""},{"$f":"IF(F100=\"\",\"\",VLOOKUP(F100,判定式!D$3:$J$12,7,TRUE))","v":""},{"$f":"IF(G100=\"\",\"\",VLOOKUP(G100,判定式!E$3:$J$12,6,TRUE))","v":""},{"$f":"IF(H100=\"\",\"\",VLOOKUP(H100,判定式!F$3:$J$12,5,TRUE))","v":""},{"$f":"IF(I100=\"\",\"\",VLOOKUP(I100,判定式!I$3:$J$12,2,TRUE))","v":""},{"$f":"IF(J100=\"\",\"\",VLOOKUP(J100,判定式!L$3:$M$12,2,TRUE))","v":""},{"$f":"IF(K100=\"\",\"\",VLOOKUP(K100,判定式!G$3:$J$12,4,TRUE))","v":""},{"$f":"IF(L100=\"\",\"\",VLOOKUP(L100,判定式!H$3:$J$12,3,TRUE))","v":""},"",{"$f":"IF(ISNUMBER(D100),\"判定外\",IF(C100=6,VLOOKUP(U100,判定式!$C$15:I$19,7,TRUE),IF(C100=7,VLOOKUP(U100,判定式!$D$15:I$19,6,TRUE),IF(C100=8,VLOOKUP(U100,判定式!$E$15:I$19,5,TRUE),IF(C100=9,VLOOKUP(U100,判定式!$F$15:I$19,4,TRUE),IF(C100=10,VLOOKUP(U100,判定式!$G$15:I$19,3,TRUE),IF(C100=11,VLOOKUP(U100,判定式!$H$15:I$19,2,TRUE))))))))","v":false}]
[81,null,null,"-",null,null,null,null,null,null,null,null,{"$f":"IF(E101=\"\",\"\",VLOOKUP(E101,判定式!C$3:$J$12,8,TRUE))","v":""},{"$f":"IF(F101=\"\",\"\",VLOOKUP(F101,判定式!D$3:$J$12,7,TRUE))","v":""},{"$f":"IF(G101=\"\",\"\",VLOOKUP(G101,判定式!E$3:$J$12,6,TRUE))","v":""},{"$f":"IF(H101=\"\",\"\",VLOOKUP(H101,判定式!F$3:$J$12,5,TRUE))","v":""},{"$f":"IF(I101=\"\",\"\",VLOOKUP(I101,判定式!I$3:$J$12,2,TRUE))","v":""},{"$f":"IF(J101=\"\",\"\",VLOOKUP(J101,判定式!L$3:$M$12,2,TRUE))","v":""},{"$f":"IF(K101=\"\",\"\",VLOOKUP(K101,判定式!G$3:$J$12,4,TRUE))","v":""},{"$f":"IF(L101=\"\",\"\",VLOOKUP(L101,判定式!H$3:$J$12,3,TRUE))","v":""},"",{"$f":"IF(ISNUMBER(D101),\"判定外\",IF(C101=6,VLOOKUP(U101,判定式!$C$15:I$19,7,TRUE),IF(C101=7,VLOOKUP(U101,判定式!$D$15:I$19,6,TRUE),IF(C101=8,VLOOKUP(U101,判定式!$E$15:I$19,5,TRUE),IF(C101=9,VLOOKUP(U101,判定式!$F$15:I$19,4,TRUE),IF(C101=10,VLOOKUP(U101,判定式!$G$15:I$19,3,TRUE),IF(C101=11,VLOOKUP(U101,判定式!$H$15:I$19,2,TRUE))))))))","v":false}]
[82,null,null,"-",null,null,null,null,null,null,null,null,{"$f":"IF(E102=\"\",\"\",VLOOKUP(E102,判定式!C$3:$J$12,8,TRUE))","v":""},{"$f":"IF(F102=\"\",\"\",VLOOKUP(F102,判定式!D$3:$J$12,7,TRUE))","v":""},{"$f":"IF(G102=\"\",\"\",VLOOKUP(G102,判定式!E$3:$J$12,6,TRUE))","v":""},{"$f":"IF(H102=\"\",\"\",VLOOKUP(H102,判定式!F$3:$J$12,5,TRUE))","v":""},{"$f":"IF(I102=\"\",\"\",VLOOKUP(I102,判定式!I$3:$J$12,2,TRUE))","v":""},{"$f":"IF(J102=\"\",\"\",VLOOKUP(J102,判定式!L$3:$M$12,2,TRUE))","v":""},{"$f":"IF(K102=\"\",\"\",VLOOKUP(K102,判定式!G$3:$J$12,4,TRUE))","v":""},{"$f":"IF(L102=\"\",\"\",VLOOKUP(L102,判定式!H$3:$J$12,3,TRUE))","v":""},"",{"$f":"IF(ISNUMBER(D102),\"判定外\",IF(C102=6,VLOOKUP(U102,判定式!$C$15:I$19,7,TRUE),IF(C102=7,VLOOKUP(U102,判定式!$D$15:I$19,6,TRUE),IF(C102=8,VLOOKUP(U102,判定式!$E$15:I$19,5,TRUE),IF(C102=9,VLOOKUP(U102,判定式!$F$15:I$19,4,TRUE),IF(C102=10,VLOOKUP(U102,判定式!$G$15:I$19,3,TRUE),IF(C102=11,VLOOKUP(U102,判定式!$H$15:I$19,2,TRUE))))))))","v":false}]
[83,null,null,"-",null,null,null,null,null,null,null,null,{"$f":"IF(E103=\"\",\"\",VLOOKUP(E103,判定式!C$3:$J$12,8,TRUE))","v":""},{"$f":"IF(F103=\"\",\"\",VLOOKUP(F103,判定式!D$3:$J$12,7,TRUE))","v":""},{"$f":"IF(G103=\"\",\"\",VLOOKUP(G103,判定式!E$3:$J$12,6,TRUE))","v":""},{"$f":"IF(H103=\"\",\"\",VLOOKUP(H103,判定式!F$3:$J$12,5,TRUE))","v":""},{"$f":"IF(I103=\"\",\"\",VLOOKUP(I103,判定式!I$3:$J$12,2,TRUE))","v":""},{"$f":"IF(J103=\"\",\"\",VLOOKUP(J103,判定式!L$3:$M$12,2,TRUE))","v":""},{"$f":"IF(K103=\"\",\"\",VLOOKUP(K103,判定式!G$3:$J$12,4,TRUE))","v":""},{"$f":"IF(L103=\"\",\"\",VLOOKUP(L103,判定式!H$3:$J$12,3,TRUE))","v":""},"",{"$f":"IF(ISNUMBER(D103),\"判定外\",IF(C103=6,VLOOKUP(U103,判定式!$C$15:I$19,7,TRUE),IF(C103=7,VLOOKUP(U103,判定式!$D$15:I$19,6,TRUE),IF(C103=8,VLOOKUP(U103,判定式!$E$15:I$19,5,TRUE),IF(C103=9,VLOOKUP(U103,判定式!$F$15:I$19,4,TRUE),IF(C103=10,VLOOKUP(U103,判定式!$G$15:I$19,3,TRUE),IF(C103=11,VLOOKUP(U103,判定式!$H$15:I$19,2,TRUE))))))))","v":false}]
[84,null,null,"-",null,null,null,null,null,null,null,null,{"$f":"IF(E104=\"\",\"\",VLOOKUP(E104,判定式!C$3:$J$12,8,TRUE))","v":""},{"$f":"IF(F104=\"\",\"\",VLOOKUP(F104,判定式!D$3:$J$12,7,TRUE))","v":""},{"$f":"IF(G104=\"\",\"\",VLOOKUP(G104,判定式!E$3:$J$12,6,TRUE))","v":""},{"$f":"IF(H104=\"\",\"\",VLOOKUP(H104,判定式!F$3:$J$12,5,TRUE))","v":""},{"$f":"IF(I104=\"\",\"\",VLOOKUP(I104,判定式!I$3:$J$12,2,TRUE))","v":""},{"$f":"IF(J104=\"\",\"\",VLOOKUP(J104,判定式!L$3:$M$12,2,TRUE))","v":""},{"$f":"IF(K104=\"\",\"\",VLOOKUP(K104,判定式!G$3:$J$12,4,TRUE))","v":""},{"$f":"IF(L104=\"\",\"\",VLOOKUP(L104,判定式!H$3:$J$12,3,TRUE))","v":""},"",{"$f":"IF(ISNUMBER(D104),\"判定外\",IF(C104=6,VLOOKUP(U104,判定式!$C$15:I$19,7,TRUE),IF(C104=7,VLOOKUP(U104,判定式!$D$15:I$19,6,TRUE),IF(C104=8,VLOOKUP(U104,判定式!$E$15:I$19,5,TRUE),IF(C104=9,VLOOKUP(U104,判定式!$F$15:I$19,4,TRUE),IF(C104=10,VLOOKUP(U104,判定式!$G$15:I$19,3,TRUE),IF(C104=11,VLOOKUP(U104,判定式!$H$15:I$19,2,TRUE))))))))","v":false}]
[85,null,null,"-",null,null,null,null,null,null,null,null,{"$f":"IF(E105=\"\",\"\",VLOOKUP(E105,判定式!C$3:$J$12,8,TRUE))","v":""},{"$f":"IF(F105=\"\",\"\",VLOOKUP(F105,判定式!D$3:$J$12,7,TRUE))","v":""},{"$f":"IF(G105=\"\",\"\",VLOOKUP(G105,判定式!E$3:$J$12,6,TRUE))","v":""},{"$f":"IF(H105=\"\",\"\",VLOOKUP(H105,判定式!F$3:$J$12,5,TRUE))","v":""},{"$f":"IF(I105=\"\",\"\",VLOOKUP(I105,判定式!I$3:$J$12,2,TRUE))","v":""},{"$f":"IF(J105=\"\",\"\",VLOOKUP(J105,判定式!L$3:$M$12,2,TRUE))","v":""},{"$f":"IF(K105=\"\",\"\",VLOOKUP(K105,判定式!G$3:$J$12,4,TRUE))","v":""},{"$f":"IF(L105=\"\",\"\",VLOOKUP(L105,判定式!H$3:$J$12,3,TRUE))","v":""},"",{"$f":"IF(ISNUMBER(D105),\"判定外\",IF(C105=6,VLOOKUP(U105,判定式!$C$15:I$19,7,TRUE),IF(C105=7,VLOOKUP(U105,判定式!$D$15:I$19,6,TRUE),IF(C105=8,VLOOKUP(U105,判定式!$E$15:I$19,5,TRUE),IF(C105=9,VLOOKUP(U105,判定式!$F$15:I$19,4,TRUE),IF(C105=10,VLOOKUP(U105,判定式!$G$15:I$19,3,TRUE),IF(C105=11,VLOOKUP(U105,判定式!$H$15:I$19,2,TRUE))))))))","v":false}]
[86,null,null,"-",null,null,null,null,null,null,null,null,{"$f":"IF(E106=\"\",\"\",VLOOKUP(E106,判定式!C$3:$J$12,8,TRUE))","v":""},{"$f":"IF(F106=\"\",\"\",VLOOKUP(F106,判定式!D$3:$J$12,7,TRUE))","v":""},{"$f":"IF(G106=\"\",\"\",VLOOKUP(G106,判定式!E$3:$J$12,6,TRUE))","v":""},{"$f":"IF(H106=\"\",\"\",VLOOKUP(H106,判定式!F$3:$J$12,5,TRUE))","v":""},{"$f":"IF(I106=\"\",\"\",VLOOKUP(I106,判定式!I$3:$J$12,2,TRUE))","v":""},{"$f":"IF(J106=\"\",\"\",VLOOKUP(J106,判定式!L$3:$M$12,2,TRUE))","v":""},{"$f":"IF(K106=\"\",\"\",VLOOKUP(K106,判定式!G$3:$J$12,4,TRUE))","v":""},{"$f":"IF(L106=\"\",\"\",VLOOKUP(L106,判定式!H$3:$J$12,3,TRUE))","v":""},"",{"$f":"IF(ISNUMBER(D106),\"判定外\",IF(C106=6,VLOOKUP(U106,判定式!$C$15:I$19,7,TRUE),IF(C106=7,VLOOKUP(U106,判定式!$D$15:I$19,6,TRUE),IF(C106=8,VLOOKUP(U106,判定式!$E$15:I$19,5,TRUE),IF(C106=9,VLOOKUP(U106,判定式!$F$15:I$19,4,TRUE),IF(C106=10,VLOOKUP(U106,判定式!$G$15:I$19,3,TRUE),IF(C106=11,VLOOKUP(U106,判定式!$H$15:I$19,2,TRUE))))))))","v":false}]
[87,null,null,"-",null,null,null,null,null,null,null,null,{"$f":"IF(E107=\"\",\"\",VLOOKUP(E107,判定式!C$3:$J$12,8,TRUE))","v":""},{"$f":"IF(F107=\"\",\"\",VLOOKUP(F107,判定式!D$3:$J$12,7,TRUE))","v":""},{"$f":"IF(G107=\"\",\"\",VLOOKUP(G107,判定式!E$3:$J$12,6,TRUE))","v":""},{"$f":"IF(H107=\"\",\"\",VLOOKUP(H107,判定式!F$3:$J$12,5,TRUE))","v":""},{"$f":"IF(I107=\"\",\"\",VLOOKUP(I107,判定式!I$3:$J$12,2,TRUE))","v":""},{"$f":"IF(J107=\"\",\"\",VLOOKUP(J107,判定式!L$3:$M$12,2,TRUE))","v":""},{"$f":"IF(K107=\"\",\"\",VLOOKUP(K107,判定式!G$3:$J$12,4,TRUE))","v":""},{"$f":"IF(L107=\"\",\"\",VLOOKUP(L107,判定式!H$3:$J$12,3,TRUE))","v":""},"",{"$f":"IF(ISNUMBER(D107),\"判定外\",IF(C107=6,VLOOKUP(U107,判定式!$C$15:I$19,7,TRUE),IF(C107=7,VLOOKUP(U107,判定式!$D$15:I$19,6,TRUE),IF(C107=8,VLOOKUP(U107,判定式!$E$15:I$19,5,TRUE),IF(C107=9,VLOOKUP(U107,判定式!$F$15:I$19,4,TRUE),IF(C107=10,VLOOKUP(U107,判定式!$G$15:I$19,3,TRUE),IF(C107=11,VLOOKUP(U107,判定式!$H$15:I$19,2,TRUE))))))))","v":false}]
[88,null,null,"-",null,null,null,null,null,null,null,null,{"$f":"IF(E108=\"\",\"\",VLOOKUP(E108,判定式!C$3:$J$12,8,TRUE))","v":""},{"$f":"IF(F108=\"\",\"\",VLOOKUP(F108,判定式!D$3:$J$12,7,TRUE))","v":""},{"$f":"IF(G108=\"\",\"\",VLOOKUP(G108,判定式!E$3:$J$12,6,TRUE))","v":""},{"$f":"IF(H108=\"\",\"\",VLOOKUP(H108,判定式!F$3:$J$12,5,TRUE))","v":""},{"$f":"IF(I108=\"\",\"\",VLOOKUP(I108,判定式!I$3:$J$12,2,TRUE))","v":""},{"$f":"IF(J108=\"\",\"\",VLOOKUP(J108,判定式!L$3:$M$12,2,TRUE))","v":""},{"$f":"IF(K108=\"\",\"\",VLOOKUP(K108,判定式!G$3:$J$12,4,TRUE))","v":""},{"$f":"IF(L108=\"\",\"\",VLOOKUP(L108,判定式!H$3:$J$12,3,TRUE))","v":""},"",{"$f":"IF(ISNUMBER(D108),\"判定外\",IF(C108=6,VLOOKUP(U108,判定式!$C$15:I$19,7,TRUE),IF(C108=7,VLOOKUP(U108,判定式!$D$15:I$19,6,TRUE),IF(C108=8,VLOOKUP(U108,判定式!$E$15:I$19,5,TRUE),IF(C108=9,VLOOKUP(U108,判定式!$F$15:I$19,4,TRUE),IF(C108=10,VLOOKUP(U108,判定式!$G$15:I$19,3,TRUE),IF(C108=11,VLOOKUP(U108,判定式!$H$15:I$19,2,TRUE))))))))","v":false}]
[89,null,null,"-",null,null,null,null,null,null,null,null,{"$f":"IF(E109=\"\",\"\",VLOOKUP(E109,判定式!C$3:$J$12,8,TRUE))","v":""},{"$f":"IF(F109=\"\",\"\",VLOOKUP(F109,判定式!D$3:$J$12,7,TRUE))","v":""},{"$f":"IF(G109=\"\",\"\",VLOOKUP(G109,判定式!E$3:$J$12,6,TRUE))","v":""},{"$f":"IF(H109=\"\",\"\",VLOOKUP(H109,判定式!F$3:$J$12,5,TRUE))","v":""},{"$f":"IF(I109=\"\",\"\",VLOOKUP(I109,判定式!I$3:$J$12,2,TRUE))","v":""},{"$f":"IF(J109=\"\",\"\",VLOOKUP(J109,判定式!L$3:$M$12,2,TRUE))","v":""},{"$f":"IF(K109=\"\",\"\",VLOOKUP(K109,判定式!G$3:$J$12,4,TRUE))","v":""},{"$f":"IF(L109=\"\",\"\",VLOOKUP(L109,判定式!H$3:$J$12,3,TRUE))","v":""},"",{"$f":"IF(ISNUMBER(D109),\"判定外\",IF(C109=6,VLOOKUP(U109,判定式!$C$15:I$19,7,TRUE),IF(C109=7,VLOOKUP(U109,判定式!$D$15:I$19,6,TRUE),IF(C109=8,VLOOKUP(U109,判定式!$E$15:I$19,5,TRUE),IF(C109=9,VLOOKUP(U109,判定式!$F$15:I$19,4,TRUE),IF(C109=10,VLOOKUP(U109,判定式!$G$15:I$19,3,TRUE),IF(C109=11,VLOOKUP(U109,判定式!$H$15:I$19,2,TRUE))))))))","v":false}]
[90,null,null,"-",null,null,null,null,null,null,null,null,{"$f":"IF(E110=\"\",\"\",VLOOKUP(E110,判定式!C$3:$J$12,8,TRUE))","v":""},{"$f":"IF(F110=\"\",\"\",VLOOKUP(F110,判定式!D$3:$J$12,7,TRUE))","v":""},{"$f":"IF(G110=\"\",\"\",VLOOKUP(G110,判定式!E$3:$J$12,6,TRUE))","v":""},{"$f":"IF(H110=\"\",\"\",VLOOKUP(H110,判定式!F$3:$J$12,5,TRUE))","v":""},{"$f":"IF(I110=\"\",\"\",VLOOKUP(I110,判定式!I$3:$J$12,2,TRUE))","v":""},{"$f":"IF(J110=\"\",\"\",VLOOKUP(J110,判定式!L$3:$M$12,2,TRUE))","v":""},{"$f":"IF(K110=\"\",\"\",VLOOKUP(K110,判定式!G$3:$J$12,4,TRUE))","v":""},{"$f":"IF(L110=\"\",\"\",VLOOKUP(L110,判定式!H$3:$J$12,3,TRUE))","v":""},"",{"$f":"IF(ISNUMBER(D110),\"判定外\",IF(C110=6,VLOOKUP(U110,判定式!$C$15:I$19,7,TRUE),IF(C110=7,VLOOKUP(U110,判定式!$D$15:I$19,6,TRUE),IF(C110=8,VLOOKUP(U110,判定式!$E$15:I$19,5,TRUE),IF(C110=9,VLOOKUP(U110,判定式!$F$15:I$19,4,TRUE),IF(C110=10,VLOOKUP(U110,判定式!$G$15:I$19,3,TRUE),IF(C110=11,VLOOKUP(U110,判定式!$H$15:I$19,2,TRUE))))))))","v":false}]
[91,null,null,"-",null,null,null,null,null,null,null,null,{"$f":"IF(E111=\"\",\"\",VLOOKUP(E111,判定式!C$3:$J$12,8,TRUE))","v":""},{"$f":"IF(F111=\"\",\"\",VLOOKUP(F111,判定式!D$3:$J$12,7,TRUE))","v":""},{"$f":"IF(G111=\"\",\"\",VLOOKUP(G111,判定式!E$3:$J$12,6,TRUE))","v":""},{"$f":"IF(H111=\"\",\"\",VLOOKUP(H111,判定式!F$3:$J$12,5,TRUE))","v":""},{"$f":"IF(I111=\"\",\"\",VLOOKUP(I111,判定式!I$3:$J$12,2,TRUE))","v":""},{"$f":"IF(J111=\"\",\"\",VLOOKUP(J111,判定式!L$3:$M$12,2,TRUE))","v":""},{"$f":"IF(K111=\"\",\"\",VLOOKUP(K111,判定式!G$3:$J$12,4,TRUE))","v":""},{"$f":"IF(L111=\"\",\"\",VLOOKUP(L111,判定式!H$3:$J$12,3,TRUE))","v":""},"",{"$f":"IF(ISNUMBER(D111),\"判定外\",IF(C111=6,VLOOKUP(U111,判定式!$C$15:I$19,7,TRUE),IF(C111=7,VLOOKUP(U111,判定式!$D$15:I$19,6,TRUE),IF(C111=8,VLOOKUP(U111,判定式!$E$15:I$19,5,TRUE),IF(C111=9,VLOOKUP(U111,判定式!$F$15:I$19,4,TRUE),IF(C111=10,VLOOKUP(U111,判定式!$G$15:I$19,3,TRUE),IF(C111=11,VLOOKUP(U111,判定式!$H$15:I$19,2,TRUE))))))))","v":false}]
[92,null,null,"-",null,null,null,null,null,null,null,null,{"$f":"IF(E112=\"\",\"\",VLOOKUP(E112,判定式!C$3:$J$12,8,TRUE))","v":""},{"$f":"IF(F112=\"\",\"\",VLOOKUP(F112,判定式!D$3:$J$12,7,TRUE))","v":""},{"$f":"IF(G112=\"\",\"\",VLOOKUP(G112,判定式!E$3:$J$12,6,TRUE))","v":""},{"$f":"IF(H112=\"\",\"\",VLOOKUP(H112,判定式!F$3:$J$12,5,TRUE))","v":""},{"$f":"IF(I112=\"\",\"\",VLOOKUP(I112,判定式!I$3:$J$12,2,TRUE))","v":""},{"$f":"IF(J112=\"\",\"\",VLOOKUP(J112,判定式!L$3:$M$12,2,TRUE))","v":""},{"$f":"IF(K112=\"\",\"\",VLOOKUP(K112,判定式!G$3:$J$12,4,TRUE))","v":""},{"$f":"IF(L112=\"\",\"\",VLOOKUP(L112,判定式!H$3:$J$12,3,TRUE))","v":""},"",{"$f":"IF(ISNUMBER(D112),\"判定外\",IF(C112=6,VLOOKUP(U112,判定式!$C$15:I$19,7,TRUE),IF(C112=7,VLOOKUP(U112,判定式!$D$15:I$19,6,TRUE),IF(C112=8,VLOOKUP(U112,判定式!$E$15:I$19,5,TRUE),IF(C112=9,VLOOKUP(U112,判定式!$F$15:I$19,4,TRUE),IF(C112=10,VLOOKUP(U112,判定式!$G$15:I$19,3,TRUE),IF(C112=11,VLOOKUP(U112,判定式!$H$15:I$19,2,TRUE))))))))","v":false}]
[93,null,null,"-",null,null,null,null,null,null,null,null,{"$f":"IF(E113=\"\",\"\",VLOOKUP(E113,判定式!C$3:$J$12,8,TRUE))","v":""},{"$f":"IF(F113=\"\",\"\",VLOOKUP(F113,判定式!D$3:$J$12,7,TRUE))","v":""},{"$f":"IF(G113=\"\",\"\",VLOOKUP(G113,判定式!E$3:$J$12,6,TRUE))","v":""},{"$f":"IF(H113=\"\",\"\",VLOOKUP(H113,判定式!F$3:$J$12,5,TRUE))","v":""},{"$f":"IF(I113=\"\",\"\",VLOOKUP(I113,判定式!I$3:$J$12,2,TRUE))","v":""},{"$f":"IF(J113=\"\",\"\",VLOOKUP(J113,判定式!L$3:$M$12,2,TRUE))","v":""},{"$f":"IF(K113=\"\",\"\",VLOOKUP(K113,判定式!G$3:$J$12,4,TRUE))","v":""},{"$f":"IF(L113=\"\",\"\",VLOOKUP(L113,判定式!H$3:$J$12,3,TRUE))","v":""},"",{"$f":"IF(ISNUMBER(D113),\"判定外\",IF(C113=6,VLOOKUP(U113,判定式!$C$15:I$19,7,TRUE),IF(C113=7,VLOOKUP(U113,判定式!$D$15:I$19,6,TRUE),IF(C113=8,VLOOKUP(U113,判定式!$E$15:I$19,5,TRUE),IF(C113=9,VLOOKUP(U113,判定式!$F$15:I$19,4,TRUE),IF(C113=10,VLOOKUP(U113,判定式!$G$15:I$19,3,TRUE),IF(C113=11,VLOOKUP(U113,判定式!$H$15:I$19,2,TRUE))))))))","v":false}]
[94,null,null,"-",null,null,null,null,null,null,null,null,{"$f":"IF(E114=\"\",\"\",VLOOKUP(E114,判定式!C$3:$J$12,8,TRUE))","v":""},{"$f":"IF(F114=\"\",\"\",VLOOKUP(F114,判定式!D$3:$J$12,7,TRUE))","v":""},{"$f":"IF(G114=\"\",\"\",VLOOKUP(G114,判定式!E$3:$J$12,6,TRUE))","v":""},{"$f":"IF(H114=\"\",\"\",VLOOKUP(H114,判定式!F$3:$J$12,5,TRUE))","v":""},{"$f":"IF(I114=\"\",\"\",VLOOKUP(I114,判定式!I$3:$J$12,2,TRUE))","v":""},{"$f":"IF(J114=\"\",\"\",VLOOKUP(J114,判定式!L$3:$M$12,2,TRUE))","v":""},{"$f":"IF(K114=\"\",\"\",VLOOKUP(K114,判定式!G$3:$J$12,4,TRUE))","v":""},{"$f":"IF(L114=\"\",\"\",VLOOKUP(L114,判定式!H$3:$J$12,3,TRUE))","v":""},"",{"$f":"IF(ISNUMBER(D114),\"判定外\",IF(C114=6,VLOOKUP(U114,判定式!$C$15:I$19,7,TRUE),IF(C114=7,VLOOKUP(U114,判定式!$D$15:I$19,6,TRUE),IF(C114=8,VLOOKUP(U114,判定式!$E$15:I$19,5,TRUE),IF(C114=9,VLOOKUP(U114,判定式!$F$15:I$19,4,TRUE),IF(C114=10,VLOOKUP(U114,判定式!$G$15:I$19,3,TRUE),IF(C114=11,VLOOKUP(U114,判定式!$H$15:I$19,2,TRUE))))))))","v":false}]
[95,null,null,"-",null,null,null,null,null,null,null,null,{"$f":"IF(E115=\"\",\"\",VLOOKUP(E115,判定式!C$3:$J$12,8,TRUE))","v":""},{"$f":"IF(F115=\"\",\"\",VLOOKUP(F115,判定式!D$3:$J$12,7,TRUE))","v":""},{"$f":"IF(G115=\"\",\"\",VLOOKUP(G115,判定式!E$3:$J$12,6,TRUE))","v":""},{"$f":"IF(H115=\"\",\"\",VLOOKUP(H115,判定式!F$3:$J$12,5,TRUE))","v":""},{"$f":"IF(I115=\"\",\"\",VLOOKUP(I115,判定式!I$3:$J$12,2,TRUE))","v":""},{"$f":"IF(J115=\"\",\"\",VLOOKUP(J115,判定式!L$3:$M$12,2,TRUE))","v":""},{"$f":"IF(K115=\"\",\"\",VLOOKUP(K115,判定式!G$3:$J$12,4,TRUE))","v":""},{"$f":"IF(L115=\"\",\"\",VLOOKUP(L115,判定式!H$3:$J$12,3,TRUE))","v":""},"",{"$f":"IF(ISNUMBER(D115),\"判定外\",IF(C115=6,VLOOKUP(U115,判定式!$C$15:I$19,7,TRUE),IF(C115=7,VLOOKUP(U115,判定式!$D$15:I$19,6,TRUE),IF(C115=8,VLOOKUP(U115,判定式!$E$15:I$19,5,TRUE),IF(C115=9,VLOOKUP(U115,判定式!$F$15:I$19,4,TRUE),IF(C115=10,VLOOKUP(U115,判定式!$G$15:I$19,3,TRUE),IF(C115=11,VLOOKUP(U115,判定式!$H$15:I$19,2,TRUE))))))))","v":false}]
[96,null,null,"-",null,null,null,null,null,null,null,null,{"$f":"IF(E116=\"\",\"\",VLOOKUP(E116,判定式!C$3:$J$12,8,TRUE))","v":""},{"$f":"IF(F116=\"\",\"\",VLOOKUP(F116,判定式!D$3:$J$12,7,TRUE))","v":""},{"$f":"IF(G116=\"\",\"\",VLOOKUP(G116,判定式!E$3:$J$12,6,TRUE))","v":""},{"$f":"IF(H116=\"\",\"\",VLOOKUP(H116,判定式!F$3:$J$12,5,TRUE))","v":""},{"$f":"IF(I116=\"\",\"\",VLOOKUP(I116,判定式!I$3:$J$12,2,TRUE))","v":""},{"$f":"IF(J116=\"\",\"\",VLOOKUP(J116,判定式!L$3:$M$12,2,TRUE))","v":""},{"$f":"IF(K116=\"\",\"\",VLOOKUP(K116,判定式!G$3:$J$12,4,TRUE))","v":""},{"$f":"IF(L116=\"\",\"\",VLOOKUP(L116,判定式!H$3:$J$12,3,TRUE))","v":""},"",{"$f":"IF(ISNUMBER(D116),\"判定外\",IF(C116=6,VLOOKUP(U116,判定式!$C$15:I$19,7,TRUE),IF(C116=7,VLOOKUP(U116,判定式!$D$15:I$19,6,TRUE),IF(C116=8,VLOOKUP(U116,判定式!$E$15:I$19,5,TRUE),IF(C116=9,VLOOKUP(U116,判定式!$F$15:I$19,4,TRUE),IF(C116=10,VLOOKUP(U116,判定式!$G$15:I$19,3,TRUE),IF(C116=11,VLOOKUP(U116,判定式!$H$15:I$19,2,TRUE))))))))","v":false}]
[97,null,null,{"$f":"IF(COUNTBLANK(E117:L117)=0,\"\",IF(COUNTBLANK(E117:L117)=8,\"-\",COUNTBLANK(E117:L117)))","v":"-"},null,null,null,null,null,null,null,null,{"$f":"IF(E117=\"\",\"\",VLOOKUP(E117,判定式!C$3:$J$12,8,TRUE))","v":""},{"$f":"IF(F117=\"\",\"\",VLOOKUP(F117,判定式!D$3:$J$12,7,TRUE))","v":""},{"$f":"IF(G117=\"\",\"\",VLOOKUP(G117,判定式!E$3:$J$12,6,TRUE))","v":""},{"$f":"IF(H117=\"\",\"\",VLOOKUP(H117,判定式!F$3:$J$12,5,TRUE))","v":""},{"$f":"IF(I117=\"\",\"\",VLOOKUP(I117,判定式!I$3:$J$12,2,TRUE))","v":""},{"$f":"IF(J117=\"\",\"\",VLOOKUP(J117,判定式!L$3:$M$12,2,TRUE))","v":""},{"$f":"IF(K117=\"\",\"\",VLOOKUP(K117,判定式!G$3:$J$12,4,TRUE))","v":""},{"$f":"IF(L117=\"\",\"\",VLOOKUP(L117,判定式!H$3:$J$12,3,TRUE))","v":""},{"$f":"IF(COUNTBLANK(M117:T117)=0,SUM(M117:T117),\"\")","v":""},{"$f":"IF(ISNUMBER(D117),\"判定外\",IF(C117=6,VLOOKUP(U117,判定式!$C$15:I$19,7,TRUE),IF(C117=7,VLOOKUP(U117,判定式!$D$15:I$19,6,TRUE),IF(C117=8,VLOOKUP(U117,判定式!$E$15:I$19,5,TRUE),IF(C117=9,VLOOKUP(U117,判定式!$F$15:I$19,4,TRUE),IF(C117=10,VLOOKUP(U117,判定式!$G$15:I$19,3,TRUE),IF(C117=11,VLOOKUP(U117,判定式!$H$15:I$19,2,TRUE))))))))","v":false}]
[98,null,null,"-",null,null,null,null,null,null,null,null,{"$f":"IF(E118=\"\",\"\",VLOOKUP(E118,判定式!C$3:$J$12,8,TRUE))","v":""},{"$f":"IF(F118=\"\",\"\",VLOOKUP(F118,判定式!D$3:$J$12,7,TRUE))","v":""},{"$f":"IF(G118=\"\",\"\",VLOOKUP(G118,判定式!E$3:$J$12,6,TRUE))","v":""},{"$f":"IF(H118=\"\",\"\",VLOOKUP(H118,判定式!F$3:$J$12,5,TRUE))","v":""},{"$f":"IF(I118=\"\",\"\",VLOOKUP(I118,判定式!I$3:$J$12,2,TRUE))","v":""},{"$f":"IF(J118=\"\",\"\",VLOOKUP(J118,判定式!L$3:$M$12,2,TRUE))","v":""},{"$f":"IF(K118=\"\",\"\",VLOOKUP(K118,判定式!G$3:$J$12,4,TRUE))","v":""},{"$f":"IF(L118=\"\",\"\",VLOOKUP(L118,判定式!H$3:$J$12,3,TRUE))","v":""},"",{"$f":"IF(ISNUMBER(D118),\"判定外\",IF(C118=6,VLOOKUP(U118,判定式!$C$15:I$19,7,TRUE),IF(C118=7,VLOOKUP(U118,判定式!$D$15:I$19,6,TRUE),IF(C118=8,VLOOKUP(U118,判定式!$E$15:I$19,5,TRUE),IF(C118=9,VLOOKUP(U118,判定式!$F$15:I$19,4,TRUE),IF(C118=10,VLOOKUP(U118,判定式!$G$15:I$19,3,TRUE),IF(C118=11,VLOOKUP(U118,判定式!$H$15:I$19,2,TRUE))))))))","v":false}]
[99,null,null,"-",null,null,null,null,null,null,null,null,{"$f":"IF(E119=\"\",\"\",VLOOKUP(E119,判定式!C$3:$J$12,8,TRUE))","v":""},{"$f":"IF(F119=\"\",\"\",VLOOKUP(F119,判定式!D$3:$J$12,7,TRUE))","v":""},{"$f":"IF(G119=\"\",\"\",VLOOKUP(G119,判定式!E$3:$J$12,6,TRUE))","v":""},{"$f":"IF(H119=\"\",\"\",VLOOKUP(H119,判定式!F$3:$J$12,5,TRUE))","v":""},{"$f":"IF(I119=\"\",\"\",VLOOKUP(I119,判定式!I$3:$J$12,2,TRUE))","v":""},{"$f":"IF(J119=\"\",\"\",VLOOKUP(J119,判定式!L$3:$M$12,2,TRUE))","v":""},{"$f":"IF(K119=\"\",\"\",VLOOKUP(K119,判定式!G$3:$J$12,4,TRUE))","v":""},{"$f":"IF(L119=\"\",\"\",VLOOKUP(L119,判定式!H$3:$J$12,3,TRUE))","v":""},"",{"$f":"IF(ISNUMBER(D119),\"判定外\",IF(C119=6,VLOOKUP(U119,判定式!$C$15:I$19,7,TRUE),IF(C119=7,VLOOKUP(U119,判定式!$D$15:I$19,6,TRUE),IF(C119=8,VLOOKUP(U119,判定式!$E$15:I$19,5,TRUE),IF(C119=9,VLOOKUP(U119,判定式!$F$15:I$19,4,TRUE),IF(C119=10,VLOOKUP(U119,判定式!$G$15:I$19,3,TRUE),IF(C119=11,VLOOKUP(U119,判定式!$H$15:I$19,2,TRUE))))))))","v":false}]
[100,null,null,"-",null,null,null,null,null,null,null,null,{"$f":"IF(E120=\"\",\"\",VLOOKUP(E120,判定式!C$3:$J$12,8,TRUE))","v":""},{"$f":"IF(F120=\"\",\"\",VLOOKUP(F120,判定式!D$3:$J$12,7,TRUE))","v":""},{"$f":"IF(G120=\"\",\"\",VLOOKUP(G120,判定式!E$3:$J$12,6,TRUE))","v":""},{"$f":"IF(H120=\"\",\"\",VLOOKUP(H120,判定式!F$3:$J$12,5,TRUE))","v":""},{"$f":"IF(I120=\"\",\"\",VLOOKUP(I120,判定式!I$3:$J$12,2,TRUE))","v":""},{"$f":"IF(J120=\"\",\"\",VLOOKUP(J120,判定式!L$3:$M$12,2,TRUE))","v":""},{"$f":"IF(K120=\"\",\"\",VLOOKUP(K120,判定式!G$3:$J$12,4,TRUE))","v":""},{"$f":"IF(L120=\"\",\"\",VLOOKUP(L120,判定式!H$3:$J$12,3,TRUE))","v":""},"",{"$f":"IF(ISNUMBER(D120),\"判定外\",IF(C120=6,VLOOKUP(U120,判定式!$C$15:I$19,7,TRUE),IF(C120=7,VLOOKUP(U120,判定式!$D$15:I$19,6,TRUE),IF(C120=8,VLOOKUP(U120,判定式!$E$15:I$19,5,TRUE),IF(C120=9,VLOOKUP(U120,判定式!$F$15:I$19,4,TRUE),IF(C120=10,VLOOKUP(U120,判定式!$G$15:I$19,3,TRUE),IF(C120=11,VLOOKUP(U120,判定式!$H$15:I$19,2,TRUE))))))))","v":false}]
[101,null,null,"-",null,null,null,null,null,null,null,null,{"$f":"IF(E121=\"\",\"\",VLOOKUP(E121,判定式!C$3:$J$12,8,TRUE))","v":""},{"$f":"IF(F121=\"\",\"\",VLOOKUP(F121,判定式!D$3:$J$12,7,TRUE))","v":""},{"$f":"IF(G121=\"\",\"\",VLOOKUP(G121,判定式!E$3:$J$12,6,TRUE))","v":""},{"$f":"IF(H121=\"\",\"\",VLOOKUP(H121,判定式!F$3:$J$12,5,TRUE))","v":""},{"$f":"IF(I121=\"\",\"\",VLOOKUP(I121,判定式!I$3:$J$12,2,TRUE))","v":""},{"$f":"IF(J121=\"\",\"\",VLOOKUP(J121,判定式!L$3:$M$12,2,TRUE))","v":""},{"$f":"IF(K121=\"\",\"\",VLOOKUP(K121,判定式!G$3:$J$12,4,TRUE))","v":""},{"$f":"IF(L121=\"\",\"\",VLOOKUP(L121,判定式!H$3:$J$12,3,TRUE))","v":""},"",{"$f":"IF(ISNUMBER(D121),\"判定外\",IF(C121=6,VLOOKUP(U121,判定式!$C$15:I$19,7,TRUE),IF(C121=7,VLOOKUP(U121,判定式!$D$15:I$19,6,TRUE),IF(C121=8,VLOOKUP(U121,判定式!$E$15:I$19,5,TRUE),IF(C121=9,VLOOKUP(U121,判定式!$F$15:I$19,4,TRUE),IF(C121=10,VLOOKUP(U121,判定式!$G$15:I$19,3,TRUE),IF(C121=11,VLOOKUP(U121,判定式!$H$15:I$19,2,TRUE))))))))","v":false}]
[102,null,null,"-",null,null,null,null,null,null,null,null,{"$f":"IF(E122=\"\",\"\",VLOOKUP(E122,判定式!C$3:$J$12,8,TRUE))","v":""},{"$f":"IF(F122=\"\",\"\",VLOOKUP(F122,判定式!D$3:$J$12,7,TRUE))","v":""},{"$f":"IF(G122=\"\",\"\",VLOOKUP(G122,判定式!E$3:$J$12,6,TRUE))","v":""},{"$f":"IF(H122=\"\",\"\",VLOOKUP(H122,判定式!F$3:$J$12,5,TRUE))","v":""},{"$f":"IF(I122=\"\",\"\",VLOOKUP(I122,判定式!I$3:$J$12,2,TRUE))","v":""},{"$f":"IF(J122=\"\",\"\",VLOOKUP(J122,判定式!L$3:$M$12,2,TRUE))","v":""},{"$f":"IF(K122=\"\",\"\",VLOOKUP(K122,判定式!G$3:$J$12,4,TRUE))","v":""},{"$f":"IF(L122=\"\",\"\",VLOOKUP(L122,判定式!H$3:$J$12,3,TRUE))","v":""},"",{"$f":"IF(ISNUMBER(D122),\"判定外\",IF(C122=6,VLOOKUP(U122,判定式!$C$15:I$19,7,TRUE),IF(C122=7,VLOOKUP(U122,判定式!$D$15:I$19,6,TRUE),IF(C122=8,VLOOKUP(U122,判定式!$E$15:I$19,5,TRUE),IF(C122=9,VLOOKUP(U122,判定式!$F$15:I$19,4,TRUE),IF(C122=10,VLOOKUP(U122,判定式!$G$15:I$19,3,TRUE),IF(C122=11,VLOOKUP(U122,判定式!$H$15:I$19,2,TRUE))))))))","v":false}]
[103,null,null,"-",null,null,null,null,null,null,null,null,{"$f":"IF(E123=\"\",\"\",VLOOKUP(E123,判定式!C$3:$J$12,8,TRUE))","v":""},{"$f":"IF(F123=\"\",\"\",VLOOKUP(F123,判定式!D$3:$J$12,7,TRUE))","v":""},{"$f":"IF(G123=\"\",\"\",VLOOKUP(G123,判定式!E$3:$J$12,6,TRUE))","v":""},{"$f":"IF(H123=\"\",\"\",VLOOKUP(H123,判定式!F$3:$J$12,5,TRUE))","v":""},{"$f":"IF(I123=\"\",\"\",VLOOKUP(I123,判定式!I$3:$J$12,2,TRUE))","v":""},{"$f":"IF(J123=\"\",\"\",VLOOKUP(J123,判定式!L$3:$M$12,2,TRUE))","v":""},{"$f":"IF(K123=\"\",\"\",VLOOKUP(K123,判定式!G$3:$J$12,4,TRUE))","v":""},{"$f":"IF(L123=\"\",\"\",VLOOKUP(L123,判定式!H$3:$J$12,3,TRUE))","v":""},"",{"$f":"IF(ISNUMBER(D123),\"判定外\",IF(C123=6,VLOOKUP(U123,判定式!$C$15:I$19,7,TRUE),IF(C123=7,VLOOKUP(U123,判定式!$D$15:I$19,6,TRUE),IF(C123=8,VLOOKUP(U123,判定式!$E$15:I$19,5,TRUE),IF(C123=9,VLOOKUP(U123,判定式!$F$15:I$19,4,TRUE),IF(C123=10,VLOOKUP(U123,判定式!$G$15:I$19,3,TRUE),IF(C123=11,VLOOKUP(U123,判定式!$H$15:I$19,2,TRUE))))))))","v":false}]
[104,null,null,"-",null,null,null,null,null,null,null,null,{"$f":"IF(E124=\"\",\"\",VLOOKUP(E124,判定式!C$3:$J$12,8,TRUE))","v":""},{"$f":"IF(F124=\"\",\"\",VLOOKUP(F124,判定式!D$3:$J$12,7,TRUE))","v":""},{"$f":"IF(G124=\"\",\"\",VLOOKUP(G124,判定式!E$3:$J$12,6,TRUE))","v":""},{"$f":"IF(H124=\"\",\"\",VLOOKUP(H124,判定式!F$3:$J$12,5,TRUE))","v":""},{"$f":"IF(I124=\"\",\"\",VLOOKUP(I124,判定式!I$3:$J$12,2,TRUE))","v":""},{"$f":"IF(J124=\"\",\"\",VLOOKUP(J124,判定式!L$3:$M$12,2,TRUE))","v":""},{"$f":"IF(K124=\"\",\"\",VLOOKUP(K124,判定式!G$3:$J$12,4,TRUE))","v":""},{"$f":"IF(L124=\"\",\"\",VLOOKUP(L124,判定式!H$3:$J$12,3,TRUE))","v":""},"",{"$f":"IF(ISNUMBER(D124),\"判定外\",IF(C124=6,VLOOKUP(U124,判定式!$C$15:I$19,7,TRUE),IF(C124=7,VLOOKUP(U124,判定式!$D$15:I$19,6,TRUE),IF(C124=8,VLOOKUP(U124,判定式!$E$15:I$19,5,TRUE),IF(C124=9,VLOOKUP(U124,判定式!$F$15:I$19,4,TRUE),IF(C124=10,VLOOKUP(U124,判定式!$G$15:I$19,3,TRUE),IF(C124=11,VLOOKUP(U124,判定式!$H$15:I$19,2,TRUE))))))))","v":false}]
[105,null,null,"-",null,null,null,null,null,null,null,null,{"$f":"IF(E125=\"\",\"\",VLOOKUP(E125,判定式!C$3:$J$12,8,TRUE))","v":""},{"$f":"IF(F125=\"\",\"\",VLOOKUP(F125,判定式!D$3:$J$12,7,TRUE))","v":""},{"$f":"IF(G125=\"\",\"\",VLOOKUP(G125,判定式!E$3:$J$12,6,TRUE))","v":""},{"$f":"IF(H125=\"\",\"\",VLOOKUP(H125,判定式!F$3:$J$12,5,TRUE))","v":""},{"$f":"IF(I125=\"\",\"\",VLOOKUP(I125,判定式!I$3:$J$12,2,TRUE))","v":""},{"$f":"IF(J125=\"\",\"\",VLOOKUP(J125,判定式!L$3:$M$12,2,TRUE))","v":""},{"$f":"IF(K125=\"\",\"\",VLOOKUP(K125,判定式!G$3:$J$12,4,TRUE))","v":""},{"$f":"IF(L125=\"\",\"\",VLOOKUP(L125,判定式!H$3:$J$12,3,TRUE))","v":""},"",{"$f":"IF(ISNUMBER(D125),\"判定外\",IF(C125=6,VLOOKUP(U125,判定式!$C$15:I$19,7,TRUE),IF(C125=7,VLOOKUP(U125,判定式!$D$15:I$19,6,TRUE),IF(C125=8,VLOOKUP(U125,判定式!$E$15:I$19,5,TRUE),IF(C125=9,VLOOKUP(U125,判定式!$F$15:I$19,4,TRUE),IF(C125=10,VLOOKUP(U125,判定式!$G$15:I$19,3,TRUE),IF(C125=11,VLOOKUP(U125,判定式!$H$15:I$19,2,TRUE))))))))","v":false}]
[106,null,null,"-",null,null,null,null,null,null,null,null,{"$f":"IF(E126=\"\",\"\",VLOOKUP(E126,判定式!C$3:$J$12,8,TRUE))","v":""},{"$f":"IF(F126=\"\",\"\",VLOOKUP(F126,判定式!D$3:$J$12,7,TRUE))","v":""},{"$f":"IF(G126=\"\",\"\",VLOOKUP(G126,判定式!E$3:$J$12,6,TRUE))","v":""},{"$f":"IF(H126=\"\",\"\",VLOOKUP(H126,判定式!F$3:$J$12,5,TRUE))","v":""},{"$f":"IF(I126=\"\",\"\",VLOOKUP(I126,判定式!I$3:$J$12,2,TRUE))","v":""},{"$f":"IF(J126=\"\",\"\",VLOOKUP(J126,判定式!L$3:$M$12,2,TRUE))","v":""},{"$f":"IF(K126=\"\",\"\",VLOOKUP(K126,判定式!G$3:$J$12,4,TRUE))","v":""},{"$f":"IF(L126=\"\",\"\",VLOOKUP(L126,判定式!H$3:$J$12,3,TRUE))","v":""},"",{"$f":"IF(ISNUMBER(D126),\"判定外\",IF(C126=6,VLOOKUP(U126,判定式!$C$15:I$19,7,TRUE),IF(C126=7,VLOOKUP(U126,判定式!$D$15:I$19,6,TRUE),IF(C126=8,VLOOKUP(U126,判定式!$E$15:I$19,5,TRUE),IF(C126=9,VLOOKUP(U126,判定式!$F$15:I$19,4,TRUE),IF(C126=10,VLOOKUP(U126,判定式!$G$15:I$19,3,TRUE),IF(C126=11,VLOOKUP(U126,判定式!$H$15:I$19,2,TRUE))))))))","v":false}]
[107,null,null,"-",null,null,null,null,null,null,null,null,{"$f":"IF(E127=\"\",\"\",VLOOKUP(E127,判定式!C$3:$J$12,8,TRUE))","v":""},{"$f":"IF(F127=\"\",\"\",VLOOKUP(F127,判定式!D$3:$J$12,7,TRUE))","v":""},{"$f":"IF(G127=\"\",\"\",VLOOKUP(G127,判定式!E$3:$J$12,6,TRUE))","v":""},{"$f":"IF(H127=\"\",\"\",VLOOKUP(H127,判定式!F$3:$J$12,5,TRUE))","v":""},{"$f":"IF(I127=\"\",\"\",VLOOKUP(I127,判定式!I$3:$J$12,2,TRUE))","v":""},{"$f":"IF(J127=\"\",\"\",VLOOKUP(J127,判定式!L$3:$M$12,2,TRUE))","v":""},{"$f":"IF(K127=\"\",\"\",VLOOKUP(K127,判定式!G$3:$J$12,4,TRUE))","v":""},{"$f":"IF(L127=\"\",\"\",VLOOKUP(L127,判定式!H$3:$J$12,3,TRUE))","v":""},"",{"$f":"IF(ISNUMBER(D127),\"判定外\",IF(C127=6,VLOOKUP(U127,判定式!$C$15:I$19,7,TRUE),IF(C127=7,VLOOKUP(U127,判定式!$D$15:I$19,6,TRUE),IF(C127=8,VLOOKUP(U127,判定式!$E$15:I$19,5,TRUE),IF(C127=9,VLOOKUP(U127,判定式!$F$15:I$19,4,TRUE),IF(C127=10,VLOOKUP(U127,判定式!$G$15:I$19,3,TRUE),IF(C127=11,VLOOKUP(U127,判定式!$H$15:I$19,2,TRUE))))))))","v":false}]
[108,null,null,"-",null,null,null,null,null,null,null,null,{"$f":"IF(E128=\"\",\"\",VLOOKUP(E128,判定式!C$3:$J$12,8,TRUE))","v":""},{"$f":"IF(F128=\"\",\"\",VLOOKUP(F128,判定式!D$3:$J$12,7,TRUE))","v":""},{"$f":"IF(G128=\"\",\"\",VLOOKUP(G128,判定式!E$3:$J$12,6,TRUE))","v":""},{"$f":"IF(H128=\"\",\"\",VLOOKUP(H128,判定式!F$3:$J$12,5,TRUE))","v":""},{"$f":"IF(I128=\"\",\"\",VLOOKUP(I128,判定式!I$3:$J$12,2,TRUE))","v":""},{"$f":"IF(J128=\"\",\"\",VLOOKUP(J128,判定式!L$3:$M$12,2,TRUE))","v":""},{"$f":"IF(K128=\"\",\"\",VLOOKUP(K128,判定式!G$3:$J$12,4,TRUE))","v":""},{"$f":"IF(L128=\"\",\"\",VLOOKUP(L128,判定式!H$3:$J$12,3,TRUE))","v":""},"",{"$f":"IF(ISNUMBER(D128),\"判定外\",IF(C128=6,VLOOKUP(U128,判定式!$C$15:I$19,7,TRUE),IF(C128=7,VLOOKUP(U128,判定式!$D$15:I$19,6,TRUE),IF(C128=8,VLOOKUP(U128,判定式!$E$15:I$19,5,TRUE),IF(C128=9,VLOOKUP(U128,判定式!$F$15:I$19,4,TRUE),IF(C128=10,VLOOKUP(U128,判定式!$G$15:I$19,3,TRUE),IF(C128=11,VLOOKUP(U128,判定式!$H$15:I$19,2,TRUE))))))))","v":false}]
[109,null,null,"-",null,null,null,null,null,null,null,null,{"$f":"IF(E129=\"\",\"\",VLOOKUP(E129,判定式!C$3:$J$12,8,TRUE))","v":""},{"$f":"IF(F129=\"\",\"\",VLOOKUP(F129,判定式!D$3:$J$12,7,TRUE))","v":""},{"$f":"IF(G129=\"\",\"\",VLOOKUP(G129,判定式!E$3:$J$12,6,TRUE))","v":""},{"$f":"IF(H129=\"\",\"\",VLOOKUP(H129,判定式!F$3:$J$12,5,TRUE))","v":""},{"$f":"IF(I129=\"\",\"\",VLOOKUP(I129,判定式!I$3:$J$12,2,TRUE))","v":""},{"$f":"IF(J129=\"\",\"\",VLOOKUP(J129,判定式!L$3:$M$12,2,TRUE))","v":""},{"$f":"IF(K129=\"\",\"\",VLOOKUP(K129,判定式!G$3:$J$12,4,TRUE))","v":""},{"$f":"IF(L129=\"\",\"\",VLOOKUP(L129,判定式!H$3:$J$12,3,TRUE))","v":""},"",{"$f":"IF(ISNUMBER(D129),\"判定外\",IF(C129=6,VLOOKUP(U129,判定式!$C$15:I$19,7,TRUE),IF(C129=7,VLOOKUP(U129,判定式!$D$15:I$19,6,TRUE),IF(C129=8,VLOOKUP(U129,判定式!$E$15:I$19,5,TRUE),IF(C129=9,VLOOKUP(U129,判定式!$F$15:I$19,4,TRUE),IF(C129=10,VLOOKUP(U129,判定式!$G$15:I$19,3,TRUE),IF(C129=11,VLOOKUP(U129,判定式!$H$15:I$19,2,TRUE))))))))","v":false}]
[110,null,null,"-",null,null,null,null,null,null,null,null,{"$f":"IF(E130=\"\",\"\",VLOOKUP(E130,判定式!C$3:$J$12,8,TRUE))","v":""},{"$f":"IF(F130=\"\",\"\",VLOOKUP(F130,判定式!D$3:$J$12,7,TRUE))","v":""},{"$f":"IF(G130=\"\",\"\",VLOOKUP(G130,判定式!E$3:$J$12,6,TRUE))","v":""},{"$f":"IF(H130=\"\",\"\",VLOOKUP(H130,判定式!F$3:$J$12,5,TRUE))","v":""},{"$f":"IF(I130=\"\",\"\",VLOOKUP(I130,判定式!I$3:$J$12,2,TRUE))","v":""},{"$f":"IF(J130=\"\",\"\",VLOOKUP(J130,判定式!L$3:$M$12,2,TRUE))","v":""},{"$f":"IF(K130=\"\",\"\",VLOOKUP(K130,判定式!G$3:$J$12,4,TRUE))","v":""},{"$f":"IF(L130=\"\",\"\",VLOOKUP(L130,判定式!H$3:$J$12,3,TRUE))","v":""},"",{"$f":"IF(ISNUMBER(D130),\"判定外\",IF(C130=6,VLOOKUP(U130,判定式!$C$15:I$19,7,TRUE),IF(C130=7,VLOOKUP(U130,判定式!$D$15:I$19,6,TRUE),IF(C130=8,VLOOKUP(U130,判定式!$E$15:I$19,5,TRUE),IF(C130=9,VLOOKUP(U130,判定式!$F$15:I$19,4,TRUE),IF(C130=10,VLOOKUP(U130,判定式!$G$15:I$19,3,TRUE),IF(C130=11,VLOOKUP(U130,判定式!$H$15:I$19,2,TRUE))))))))","v":false}]
[111,null,null,"-",null,null,null,null,null,null,null,null,{"$f":"IF(E131=\"\",\"\",VLOOKUP(E131,判定式!C$3:$J$12,8,TRUE))","v":""},{"$f":"IF(F131=\"\",\"\",VLOOKUP(F131,判定式!D$3:$J$12,7,TRUE))","v":""},{"$f":"IF(G131=\"\",\"\",VLOOKUP(G131,判定式!E$3:$J$12,6,TRUE))","v":""},{"$f":"IF(H131=\"\",\"\",VLOOKUP(H131,判定式!F$3:$J$12,5,TRUE))","v":""},{"$f":"IF(I131=\"\",\"\",VLOOKUP(I131,判定式!I$3:$J$12,2,TRUE))","v":""},{"$f":"IF(J131=\"\",\"\",VLOOKUP(J131,判定式!L$3:$M$12,2,TRUE))","v":""},{"$f":"IF(K131=\"\",\"\",VLOOKUP(K131,判定式!G$3:$J$12,4,TRUE))","v":""},{"$f":"IF(L131=\"\",\"\",VLOOKUP(L131,判定式!H$3:$J$12,3,TRUE))","v":""},"",{"$f":"IF(ISNUMBER(D131),\"判定外\",IF(C131=6,VLOOKUP(U131,判定式!$C$15:I$19,7,TRUE),IF(C131=7,VLOOKUP(U131,判定式!$D$15:I$19,6,TRUE),IF(C131=8,VLOOKUP(U131,判定式!$E$15:I$19,5,TRUE),IF(C131=9,VLOOKUP(U131,判定式!$F$15:I$19,4,TRUE),IF(C131=10,VLOOKUP(U131,判定式!$G$15:I$19,3,TRUE),IF(C131=11,VLOOKUP(U131,判定式!$H$15:I$19,2,TRUE))))))))","v":false}]
[112,null,null,"-",null,null,null,null,null,null,null,null,{"$f":"IF(E132=\"\",\"\",VLOOKUP(E132,判定式!C$3:$J$12,8,TRUE))","v":""},{"$f":"IF(F132=\"\",\"\",VLOOKUP(F132,判定式!D$3:$J$12,7,TRUE))","v":""},{"$f":"IF(G132=\"\",\"\",VLOOKUP(G132,判定式!E$3:$J$12,6,TRUE))","v":""},{"$f":"IF(H132=\"\",\"\",VLOOKUP(H132,判定式!F$3:$J$12,5,TRUE))","v":""},{"$f":"IF(I132=\"\",\"\",VLOOKUP(I132,判定式!I$3:$J$12,2,TRUE))","v":""},{"$f":"IF(J132=\"\",\"\",VLOOKUP(J132,判定式!L$3:$M$12,2,TRUE))","v":""},{"$f":"IF(K132=\"\",\"\",VLOOKUP(K132,判定式!G$3:$J$12,4,TRUE))","v":""},{"$f":"IF(L132=\"\",\"\",VLOOKUP(L132,判定式!H$3:$J$12,3,TRUE))","v":""},"",{"$f":"IF(ISNUMBER(D132),\"判定外\",IF(C132=6,VLOOKUP(U132,判定式!$C$15:I$19,7,TRUE),IF(C132=7,VLOOKUP(U132,判定式!$D$15:I$19,6,TRUE),IF(C132=8,VLOOKUP(U132,判定式!$E$15:I$19,5,TRUE),IF(C132=9,VLOOKUP(U132,判定式!$F$15:I$19,4,TRUE),IF(C132=10,VLOOKUP(U132,判定式!$G$15:I$19,3,TRUE),IF(C132=11,VLOOKUP(U132,判定式!$H$15:I$19,2,TRUE))))))))","v":false}]
[113,null,null,"-",null,null,null,null,null,null,null,null,{"$f":"IF(E133=\"\",\"\",VLOOKUP(E133,判定式!C$3:$J$12,8,TRUE))","v":""},{"$f":"IF(F133=\"\",\"\",VLOOKUP(F133,判定式!D$3:$J$12,7,TRUE))","v":""},{"$f":"IF(G133=\"\",\"\",VLOOKUP(G133,判定式!E$3:$J$12,6,TRUE))","v":""},{"$f":"IF(H133=\"\",\"\",VLOOKUP(H133,判定式!F$3:$J$12,5,TRUE))","v":""},{"$f":"IF(I133=\"\",\"\",VLOOKUP(I133,判定式!I$3:$J$12,2,TRUE))","v":""},{"$f":"IF(J133=\"\",\"\",VLOOKUP(J133,判定式!L$3:$M$12,2,TRUE))","v":""},{"$f":"IF(K133=\"\",\"\",VLOOKUP(K133,判定式!G$3:$J$12,4,TRUE))","v":""},{"$f":"IF(L133=\"\",\"\",VLOOKUP(L133,判定式!H$3:$J$12,3,TRUE))","v":""},"",{"$f":"IF(ISNUMBER(D133),\"判定外\",IF(C133=6,VLOOKUP(U133,判定式!$C$15:I$19,7,TRUE),IF(C133=7,VLOOKUP(U133,判定式!$D$15:I$19,6,TRUE),IF(C133=8,VLOOKUP(U133,判定式!$E$15:I$19,5,TRUE),IF(C133=9,VLOOKUP(U133,判定式!$F$15:I$19,4,TRUE),IF(C133=10,VLOOKUP(U133,判定式!$G$15:I$19,3,TRUE),IF(C133=11,VLOOKUP(U133,判定式!$H$15:I$19,2,TRUE))))))))","v":false}]
[114,null,null,"-",null,null,null,null,null,null,null,null,{"$f":"IF(E134=\"\",\"\",VLOOKUP(E134,判定式!C$3:$J$12,8,TRUE))","v":""},{"$f":"IF(F134=\"\",\"\",VLOOKUP(F134,判定式!D$3:$J$12,7,TRUE))","v":""},{"$f":"IF(G134=\"\",\"\",VLOOKUP(G134,判定式!E$3:$J$12,6,TRUE))","v":""},{"$f":"IF(H134=\"\",\"\",VLOOKUP(H134,判定式!F$3:$J$12,5,TRUE))","v":""},{"$f":"IF(I134=\"\",\"\",VLOOKUP(I134,判定式!I$3:$J$12,2,TRUE))","v":""},{"$f":"IF(J134=\"\",\"\",VLOOKUP(J134,判定式!L$3:$M$12,2,TRUE))","v":""},{"$f":"IF(K134=\"\",\"\",VLOOKUP(K134,判定式!G$3:$J$12,4,TRUE))","v":""},{"$f":"IF(L134=\"\",\"\",VLOOKUP(L134,判定式!H$3:$J$12,3,TRUE))","v":""},"",{"$f":"IF(ISNUMBER(D134),\"判定外\",IF(C134=6,VLOOKUP(U134,判定式!$C$15:I$19,7,TRUE),IF(C134=7,VLOOKUP(U134,判定式!$D$15:I$19,6,TRUE),IF(C134=8,VLOOKUP(U134,判定式!$E$15:I$19,5,TRUE),IF(C134=9,VLOOKUP(U134,判定式!$F$15:I$19,4,TRUE),IF(C134=10,VLOOKUP(U134,判定式!$G$15:I$19,3,TRUE),IF(C134=11,VLOOKUP(U134,判定式!$H$15:I$19,2,TRUE))))))))","v":false}]
[115,null,null,"-",null,null,null,null,null,null,null,null,{"$f":"IF(E135=\"\",\"\",VLOOKUP(E135,判定式!C$3:$J$12,8,TRUE))","v":""},{"$f":"IF(F135=\"\",\"\",VLOOKUP(F135,判定式!D$3:$J$12,7,TRUE))","v":""},{"$f":"IF(G135=\"\",\"\",VLOOKUP(G135,判定式!E$3:$J$12,6,TRUE))","v":""},{"$f":"IF(H135=\"\",\"\",VLOOKUP(H135,判定式!F$3:$J$12,5,TRUE))","v":""},{"$f":"IF(I135=\"\",\"\",VLOOKUP(I135,判定式!I$3:$J$12,2,TRUE))","v":""},{"$f":"IF(J135=\"\",\"\",VLOOKUP(J135,判定式!L$3:$M$12,2,TRUE))","v":""},{"$f":"IF(K135=\"\",\"\",VLOOKUP(K135,判定式!G$3:$J$12,4,TRUE))","v":""},{"$f":"IF(L135=\"\",\"\",VLOOKUP(L135,判定式!H$3:$J$12,3,TRUE))","v":""},"",{"$f":"IF(ISNUMBER(D135),\"判定外\",IF(C135=6,VLOOKUP(U135,判定式!$C$15:I$19,7,TRUE),IF(C135=7,VLOOKUP(U135,判定式!$D$15:I$19,6,TRUE),IF(C135=8,VLOOKUP(U135,判定式!$E$15:I$19,5,TRUE),IF(C135=9,VLOOKUP(U135,判定式!$F$15:I$19,4,TRUE),IF(C135=10,VLOOKUP(U135,判定式!$G$15:I$19,3,TRUE),IF(C135=11,VLOOKUP(U135,判定式!$H$15:I$19,2,TRUE))))))))","v":false}]
[116,null,null,"-",null,null,null,null,null,null,null,null,{"$f":"IF(E136=\"\",\"\",VLOOKUP(E136,判定式!C$3:$J$12,8,TRUE))","v":""},{"$f":"IF(F136=\"\",\"\",VLOOKUP(F136,判定式!D$3:$J$12,7,TRUE))","v":""},{"$f":"IF(G136=\"\",\"\",VLOOKUP(G136,判定式!E$3:$J$12,6,TRUE))","v":""},{"$f":"IF(H136=\"\",\"\",VLOOKUP(H136,判定式!F$3:$J$12,5,TRUE))","v":""},{"$f":"IF(I136=\"\",\"\",VLOOKUP(I136,判定式!I$3:$J$12,2,TRUE))","v":""},{"$f":"IF(J136=\"\",\"\",VLOOKUP(J136,判定式!L$3:$M$12,2,TRUE))","v":""},{"$f":"IF(K136=\"\",\"\",VLOOKUP(K136,判定式!G$3:$J$12,4,TRUE))","v":""},{"$f":"IF(L136=\"\",\"\",VLOOKUP(L136,判定式!H$3:$J$12,3,TRUE))","v":""},"",{"$f":"IF(ISNUMBER(D136),\"判定外\",IF(C136=6,VLOOKUP(U136,判定式!$C$15:I$19,7,TRUE),IF(C136=7,VLOOKUP(U136,判定式!$D$15:I$19,6,TRUE),IF(C136=8,VLOOKUP(U136,判定式!$E$15:I$19,5,TRUE),IF(C136=9,VLOOKUP(U136,判定式!$F$15:I$19,4,TRUE),IF(C136=10,VLOOKUP(U136,判定式!$G$15:I$19,3,TRUE),IF(C136=11,VLOOKUP(U136,判定式!$H$15:I$19,2,TRUE))))))))","v":false}]
[117,null,null,"-",null,null,null,null,null,null,null,null,{"$f":"IF(E137=\"\",\"\",VLOOKUP(E137,判定式!C$3:$J$12,8,TRUE))","v":""},{"$f":"IF(F137=\"\",\"\",VLOOKUP(F137,判定式!D$3:$J$12,7,TRUE))","v":""},{"$f":"IF(G137=\"\",\"\",VLOOKUP(G137,判定式!E$3:$J$12,6,TRUE))","v":""},{"$f":"IF(H137=\"\",\"\",VLOOKUP(H137,判定式!F$3:$J$12,5,TRUE))","v":""},{"$f":"IF(I137=\"\",\"\",VLOOKUP(I137,判定式!I$3:$J$12,2,TRUE))","v":""},{"$f":"IF(J137=\"\",\"\",VLOOKUP(J137,判定式!L$3:$M$12,2,TRUE))","v":""},{"$f":"IF(K137=\"\",\"\",VLOOKUP(K137,判定式!G$3:$J$12,4,TRUE))","v":""},{"$f":"IF(L137=\"\",\"\",VLOOKUP(L137,判定式!H$3:$J$12,3,TRUE))","v":""},"",{"$f":"IF(ISNUMBER(D137),\"判定外\",IF(C137=6,VLOOKUP(U137,判定式!$C$15:I$19,7,TRUE),IF(C137=7,VLOOKUP(U137,判定式!$D$15:I$19,6,TRUE),IF(C137=8,VLOOKUP(U137,判定式!$E$15:I$19,5,TRUE),IF(C137=9,VLOOKUP(U137,判定式!$F$15:I$19,4,TRUE),IF(C137=10,VLOOKUP(U137,判定式!$G$15:I$19,3,TRUE),IF(C137=11,VLOOKUP(U137,判定式!$H$15:I$19,2,TRUE))))))))","v":false}]
[118,null,null,"-",null,null,null,null,null,null,null,null,{"$f":"IF(E138=\"\",\"\",VLOOKUP(E138,判定式!C$3:$J$12,8,TRUE))","v":""},{"$f":"IF(F138=\"\",\"\",VLOOKUP(F138,判定式!D$3:$J$12,7,TRUE))","v":""},{"$f":"IF(G138=\"\",\"\",VLOOKUP(G138,判定式!E$3:$J$12,6,TRUE))","v":""},{"$f":"IF(H138=\"\",\"\",VLOOKUP(H138,判定式!F$3:$J$12,5,TRUE))","v":""},{"$f":"IF(I138=\"\",\"\",VLOOKUP(I138,判定式!I$3:$J$12,2,TRUE))","v":""},{"$f":"IF(J138=\"\",\"\",VLOOKUP(J138,判定式!L$3:$M$12,2,TRUE))","v":""},{"$f":"IF(K138=\"\",\"\",VLOOKUP(K138,判定式!G$3:$J$12,4,TRUE))","v":""},{"$f":"IF(L138=\"\",\"\",VLOOKUP(L138,判定式!H$3:$J$12,3,TRUE))","v":""},"",{"$f":"IF(ISNUMBER(D138),\"判定外\",IF(C138=6,VLOOKUP(U138,判定式!$C$15:I$19,7,TRUE),IF(C138=7,VLOOKUP(U138,判定式!$D$15:I$19,6,TRUE),IF(C138=8,VLOOKUP(U138,判定式!$E$15:I$19,5,TRUE),IF(C138=9,VLOOKUP(U138,判定式!$F$15:I$19,4,TRUE),IF(C138=10,VLOOKUP(U138,判定式!$G$15:I$19,3,TRUE),IF(C138=11,VLOOKUP(U138,判定式!$H$15:I$19,2,TRUE))))))))","v":false}]
[119,null,null,"-",null,null,null,null,null,null,null,null,{"$f":"IF(E139=\"\",\"\",VLOOKUP(E139,判定式!C$3:$J$12,8,TRUE))","v":""},{"$f":"IF(F139=\"\",\"\",VLOOKUP(F139,判定式!D$3:$J$12,7,TRUE))","v":""},{"$f":"IF(G139=\"\",\"\",VLOOKUP(G139,判定式!E$3:$J$12,6,TRUE))","v":""},{"$f":"IF(H139=\"\",\"\",VLOOKUP(H139,判定式!F$3:$J$12,5,TRUE))","v":""},{"$f":"IF(I139=\"\",\"\",VLOOKUP(I139,判定式!I$3:$J$12,2,TRUE))","v":""},{"$f":"IF(J139=\"\",\"\",VLOOKUP(J139,判定式!L$3:$M$12,2,TRUE))","v":""},{"$f":"IF(K139=\"\",\"\",VLOOKUP(K139,判定式!G$3:$J$12,4,TRUE))","v":""},{"$f":"IF(L139=\"\",\"\",VLOOKUP(L139,判定式!H$3:$J$12,3,TRUE))","v":""},"",{"$f":"IF(ISNUMBER(D139),\"判定外\",IF(C139=6,VLOOKUP(U139,判定式!$C$15:I$19,7,TRUE),IF(C139=7,VLOOKUP(U139,判定式!$D$15:I$19,6,TRUE),IF(C139=8,VLOOKUP(U139,判定式!$E$15:I$19,5,TRUE),IF(C139=9,VLOOKUP(U139,判定式!$F$15:I$19,4,TRUE),IF(C139=10,VLOOKUP(U139,判定式!$G$15:I$19,3,TRUE),IF(C139=11,VLOOKUP(U139,判定式!$H$15:I$19,2,TRUE))))))))","v":false}]
[120,null,null,"-",null,null,null,null,null,null,null,null,{"$f":"IF(E140=\"\",\"\",VLOOKUP(E140,判定式!C$3:$J$12,8,TRUE))","v":""},{"$f":"IF(F140=\"\",\"\",VLOOKUP(F140,判定式!D$3:$J$12,7,TRUE))","v":""},{"$f":"IF(G140=\"\",\"\",VLOOKUP(G140,判定式!E$3:$J$12,6,TRUE))","v":""},{"$f":"IF(H140=\"\",\"\",VLOOKUP(H140,判定式!F$3:$J$12,5,TRUE))","v":""},{"$f":"IF(I140=\"\",\"\",VLOOKUP(I140,判定式!I$3:$J$12,2,TRUE))","v":""},{"$f":"IF(J140=\"\",\"\",VLOOKUP(J140,判定式!L$3:$M$12,2,TRUE))","v":""},{"$f":"IF(K140=\"\",\"\",VLOOKUP(K140,判定式!G$3:$J$12,4,TRUE))","v":""},{"$f":"IF(L140=\"\",\"\",VLOOKUP(L140,判定式!H$3:$J$12,3,TRUE))","v":""},"",{"$f":"IF(ISNUMBER(D140),\"判定外\",IF(C140=6,VLOOKUP(U140,判定式!$C$15:I$19,7,TRUE),IF(C140=7,VLOOKUP(U140,判定式!$D$15:I$19,6,TRUE),IF(C140=8,VLOOKUP(U140,判定式!$E$15:I$19,5,TRUE),IF(C140=9,VLOOKUP(U140,判定式!$F$15:I$19,4,TRUE),IF(C140=10,VLOOKUP(U140,判定式!$G$15:I$19,3,TRUE),IF(C140=11,VLOOKUP(U140,判定式!$H$15:I$19,2,TRUE))))))))","v":false}]
[]
[]
[null,"女子入力欄（男子は上段）"]
[]
[null,"提出時、名前記入は任意","年齢は、全員９",null,null,null,null,"５０m走は、1/100秒を切り上げて、「例：9.72→9.8」のように1/１０秒単位を入力する"]
[null,"小４　女子",9,"自動","整数","整数","整数","整数","整数","小数第１位","整数","整数"]
[null,null,"年齢","未実施\n項目数","調　　査　　項　　目　　記　　録",null,null,null,null,null,null,null,"実技種目得点"]
["Ｎｏ．","名前","半角",null,"握力","上体起こし","長座体前屈","反復横とび","シャトルラン","５０ｍ走","立ち幅とび","ﾎﾞｰﾙ投げ","握力","上体\n起こし","長座\n体前屈","反復\n横跳び","ｼｬﾄﾙ\nﾗﾝ","50ｍ\n走","立ち\n幅とび","ボール\n投げ","体力","総合"]
[null,null,9,null,"（ｋｇ）","（回）","（ｃｍ）","（回）","（回）","（秒）","（ｃｍ）","（ｍ）",null,null,null,null,null,null,null,null,"合計点","評価"]
[1,null,null,{"$f":"IF(COUNTBLANK(E150:L150)=0,\"\",IF(COUNTBLANK(E150:L150)=8,\"-\",COUNTBLANK(E150:L150)))","v":"-"},null,null,null,null,null,null,null,null,{"$f":"IF($E150=\"\",\"\",VLOOKUP($E150,判定式!$P$3:$W$12,8,TRUE))","v":""},{"$f":"IF($F150=\"\",\"\",VLOOKUP($F150,判定式!$Q$3:$W$12,7,TRUE))","v":""},{"$f":"IF($G150=\"\",\"\",VLOOKUP($G150,判定式!$R$3:$W$12,6,TRUE))","v":""},{"$f":"IF($H150=\"\",\"\",VLOOKUP($H150,判定式!$S$3:$W$12,5,TRUE))","v":""},{"$f":"IF($I150=\"\",\"\",VLOOKUP($I150,判定式!$V$3:$W$12,2,TRUE))","v":""},{"$f":"IF($J150=\"\",\"\",VLOOKUP($J150,判定式!$Y$3:$Z$12,2,TRUE))","v":""},{"$f":"IF($K150=\"\",\"\",VLOOKUP($K150,判定式!$T$3:$W$12,4,TRUE))","v":""},{"$f":"IF($L150=\"\",\"\",VLOOKUP($L150,判定式!$U$3:$W$12,3,TRUE))","v":""},{"$f":"IF(COUNTBLANK(M150:T150)=0,SUM(M150:T150),\"\")","v":""},{"$f":"IF(ISNUMBER(D150),\"判定外\",IF(C150=6,VLOOKUP(U150,判定式!$C$15:I$19,7,TRUE),IF(C150=7,VLOOKUP(U150,判定式!$D$15:I$19,6,TRUE),IF(C150=8,VLOOKUP(U150,判定式!$E$15:I$19,5,TRUE),IF(C150=9,VLOOKUP(U150,判定式!$F$15:I$19,4,TRUE),IF(C150=10,VLOOKUP(U150,判定式!$G$15:I$19,3,TRUE),IF(C150=11,VLOOKUP(U150,判定式!$H$15:I$19,2,TRUE))))))))","v":false}]
[2,null,null,"-",null,null,null,null,null,null,null,null,{"$f":"IF($E151=\"\",\"\",VLOOKUP($E151,判定式!$P$3:$W$12,8,TRUE))","v":""},{"$f":"IF($F151=\"\",\"\",VLOOKUP($F151,判定式!$Q$3:$W$12,7,TRUE))","v":""},{"$f":"IF($G151=\"\",\"\",VLOOKUP($G151,判定式!$R$3:$W$12,6,TRUE))","v":""},{"$f":"IF($H151=\"\",\"\",VLOOKUP($H151,判定式!$S$3:$W$12,5,TRUE))","v":""},{"$f":"IF($I151=\"\",\"\",VLOOKUP($I151,判定式!$V$3:$W$12,2,TRUE))","v":""},{"$f":"IF($J151=\"\",\"\",VLOOKUP($J151,判定式!$Y$3:$Z$12,2,TRUE))","v":""},{"$f":"IF($K151=\"\",\"\",VLOOKUP($K151,判定式!$T$3:$W$12,4,TRUE))","v":""},{"$f":"IF($L151=\"\",\"\",VLOOKUP($L151,判定式!$U$3:$W$12,3,TRUE))","v":""},"",{"$f":"IF(ISNUMBER(D151),\"判定外\",IF(C151=6,VLOOKUP(U151,判定式!$C$15:I$19,7,TRUE),IF(C151=7,VLOOKUP(U151,判定式!$D$15:I$19,6,TRUE),IF(C151=8,VLOOKUP(U151,判定式!$E$15:I$19,5,TRUE),IF(C151=9,VLOOKUP(U151,判定式!$F$15:I$19,4,TRUE),IF(C151=10,VLOOKUP(U151,判定式!$G$15:I$19,3,TRUE),IF(C151=11,VLOOKUP(U151,判定式!$H$15:I$19,2,TRUE))))))))","v":false}]
[3,null,null,"-",null,null,null,null,null,null,null,null,{"$f":"IF($E152=\"\",\"\",VLOOKUP($E152,判定式!$P$3:$W$12,8,TRUE))","v":""},{"$f":"IF($F152=\"\",\"\",VLOOKUP($F152,判定式!$Q$3:$W$12,7,TRUE))","v":""},{"$f":"IF($G152=\"\",\"\",VLOOKUP($G152,判定式!$R$3:$W$12,6,TRUE))","v":""},{"$f":"IF($H152=\"\",\"\",VLOOKUP($H152,判定式!$S$3:$W$12,5,TRUE))","v":""},{"$f":"IF($I152=\"\",\"\",VLOOKUP($I152,判定式!$V$3:$W$12,2,TRUE))","v":""},{"$f":"IF($J152=\"\",\"\",VLOOKUP($J152,判定式!$Y$3:$Z$12,2,TRUE))","v":""},{"$f":"IF($K152=\"\",\"\",VLOOKUP($K152,判定式!$T$3:$W$12,4,TRUE))","v":""},{"$f":"IF($L152=\"\",\"\",VLOOKUP($L152,判定式!$U$3:$W$12,3,TRUE))","v":""},"",{"$f":"IF(ISNUMBER(D152),\"判定外\",IF(C152=6,VLOOKUP(U152,判定式!$C$15:I$19,7,TRUE),IF(C152=7,VLOOKUP(U152,判定式!$D$15:I$19,6,TRUE),IF(C152=8,VLOOKUP(U152,判定式!$E$15:I$19,5,TRUE),IF(C152=9,VLOOKUP(U152,判定式!$F$15:I$19,4,TRUE),IF(C152=10,VLOOKUP(U152,判定式!$G$15:I$19,3,TRUE),IF(C152=11,VLOOKUP(U152,判定式!$H$15:I$19,2,TRUE))))))))","v":false}]
[4,null,null,"-",null,null,null,null,null,null,null,null,{"$f":"IF($E153=\"\",\"\",VLOOKUP($E153,判定式!$P$3:$W$12,8,TRUE))","v":""},{"$f":"IF($F153=\"\",\"\",VLOOKUP($F153,判定式!$Q$3:$W$12,7,TRUE))","v":""},{"$f":"IF($G153=\"\",\"\",VLOOKUP($G153,判定式!$R$3:$W$12,6,TRUE))","v":""},{"$f":"IF($H153=\"\",\"\",VLOOKUP($H153,判定式!$S$3:$W$12,5,TRUE))","v":""},{"$f":"IF($I153=\"\",\"\",VLOOKUP($I153,判定式!$V$3:$W$12,2,TRUE))","v":""},{"$f":"IF($J153=\"\",\"\",VLOOKUP($J153,判定式!$Y$3:$Z$12,2,TRUE))","v":""},{"$f":"IF($K153=\"\",\"\",VLOOKUP($K153,判定式!$T$3:$W$12,4,TRUE))","v":""},{"$f":"IF($L153=\"\",\"\",VLOOKUP($L153,判定式!$U$3:$W$12,3,TRUE))","v":""},"",{"$f":"IF(ISNUMBER(D153),\"判定外\",IF(C153=6,VLOOKUP(U153,判定式!$C$15:I$19,7,TRUE),IF(C153=7,VLOOKUP(U153,判定式!$D$15:I$19,6,TRUE),IF(C153=8,VLOOKUP(U153,判定式!$E$15:I$19,5,TRUE),IF(C153=9,VLOOKUP(U153,判定式!$F$15:I$19,4,TRUE),IF(C153=10,VLOOKUP(U153,判定式!$G$15:I$19,3,TRUE),IF(C153=11,VLOOKUP(U153,判定式!$H$15:I$19,2,TRUE))))))))","v":false}]
[5,null,null,"-",null,null,null,null,null,null,null,null,{"$f":"IF($E154=\"\",\"\",VLOOKUP($E154,判定式!$P$3:$W$12,8,TRUE))","v":""},{"$f":"IF($F154=\"\",\"\",VLOOKUP($F154,判定式!$Q$3:$W$12,7,TRUE))","v":""},{"$f":"IF($G154=\"\",\"\",VLOOKUP($G154,判定式!$R$3:$W$12,6,TRUE))","v":""},{"$f":"IF($H154=\"\",\"\",VLOOKUP($H154,判定式!$S$3:$W$12,5,TRUE))","v":""},{"$f":"IF($I154=\"\",\"\",VLOOKUP($I154,判定式!$V$3:$W$12,2,TRUE))","v":""},{"$f":"IF($J154=\"\",\"\",VLOOKUP($J154,判定式!$Y$3:$Z$12,2,TRUE))","v":""},{"$f":"IF($K154=\"\",\"\",VLOOKUP($K154,判定式!$T$3:$W$12,4,TRUE))","v":""},{"$f":"IF($L154=\"\",\"\",VLOOKUP($L154,判定式!$U$3:$W$12,3,TRUE))","v":""},"",{"$f":"IF(ISNUMBER(D154),\"判定外\",IF(C154=6,VLOOKUP(U154,判定式!$C$15:I$19,7,TRUE),IF(C154=7,VLOOKUP(U154,判定式!$D$15:I$19,6,TRUE),IF(C154=8,VLOOKUP(U154,判定式!$E$15:I$19,5,TRUE),IF(C154=9,VLOOKUP(U154,判定式!$F$15:I$19,4,TRUE),IF(C154=10,VLOOKUP(U154,判定式!$G$15:I$19,3,TRUE),IF(C154=11,VLOOKUP(U154,判定式!$H$15:I$19,2,TRUE))))))))","v":false}]
[6,null,null,"-",null,null,null,null,null,null,null,null,{"$f":"IF($E155=\"\",\"\",VLOOKUP($E155,判定式!$P$3:$W$12,8,TRUE))","v":""},{"$f":"IF($F155=\"\",\"\",VLOOKUP($F155,判定式!$Q$3:$W$12,7,TRUE))","v":""},{"$f":"IF($G155=\"\",\"\",VLOOKUP($G155,判定式!$R$3:$W$12,6,TRUE))","v":""},{"$f":"IF($H155=\"\",\"\",VLOOKUP($H155,判定式!$S$3:$W$12,5,TRUE))","v":""},{"$f":"IF($I155=\"\",\"\",VLOOKUP($I155,判定式!$V$3:$W$12,2,TRUE))","v":""},{"$f":"IF($J155=\"\",\"\",VLOOKUP($J155,判定式!$Y$3:$Z$12,2,TRUE))","v":""},{"$f":"IF($K155=\"\",\"\",VLOOKUP($K155,判定式!$T$3:$W$12,4,TRUE))","v":""},{"$f":"IF($L155=\"\",\"\",VLOOKUP($L155,判定式!$U$3:$W$12,3,TRUE))","v":""},"",{"$f":"IF(ISNUMBER(D155),\"判定外\",IF(C155=6,VLOOKUP(U155,判定式!$C$15:I$19,7,TRUE),IF(C155=7,VLOOKUP(U155,判定式!$D$15:I$19,6,TRUE),IF(C155=8,VLOOKUP(U155,判定式!$E$15:I$19,5,TRUE),IF(C155=9,VLOOKUP(U155,判定式!$F$15:I$19,4,TRUE),IF(C155=10,VLOOKUP(U155,判定式!$G$15:I$19,3,TRUE),IF(C155=11,VLOOKUP(U155,判定式!$H$15:I$19,2,TRUE))))))))","v":false}]
[7,null,null,"-",null,null,null,null,null,null,null,null,{"$f":"IF($E156=\"\",\"\",VLOOKUP($E156,判定式!$P$3:$W$12,8,TRUE))","v":""},{"$f":"IF($F156=\"\",\"\",VLOOKUP($F156,判定式!$Q$3:$W$12,7,TRUE))","v":""},{"$f":"IF($G156=\"\",\"\",VLOOKUP($G156,判定式!$R$3:$W$12,6,TRUE))","v":""},{"$f":"IF($H156=\"\",\"\",VLOOKUP($H156,判定式!$S$3:$W$12,5,TRUE))","v":""},{"$f":"IF($I156=\"\",\"\",VLOOKUP($I156,判定式!$V$3:$W$12,2,TRUE))","v":""},{"$f":"IF($J156=\"\",\"\",VLOOKUP($J156,判定式!$Y$3:$Z$12,2,TRUE))","v":""},{"$f":"IF($K156=\"\",\"\",VLOOKUP($K156,判定式!$T$3:$W$12,4,TRUE))","v":""},{"$f":"IF($L156=\"\",\"\",VLOOKUP($L156,判定式!$U$3:$W$12,3,TRUE))","v":""},"",{"$f":"IF(ISNUMBER(D156),\"判定外\",IF(C156=6,VLOOKUP(U156,判定式!$C$15:I$19,7,TRUE),IF(C156=7,VLOOKUP(U156,判定式!$D$15:I$19,6,TRUE),IF(C156=8,VLOOKUP(U156,判定式!$E$15:I$19,5,TRUE),IF(C156=9,VLOOKUP(U156,判定式!$F$15:I$19,4,TRUE),IF(C156=10,VLOOKUP(U156,判定式!$G$15:I$19,3,TRUE),IF(C156=11,VLOOKUP(U156,判定式!$H$15:I$19,2,TRUE))))))))","v":false}]
[8,null,null,"-",null,null,null,null,null,null,null,null,{"$f":"IF($E157=\"\",\"\",VLOOKUP($E157,判定式!$P$3:$W$12,8,TRUE))","v":""},{"$f":"IF($F157=\"\",\"\",VLOOKUP($F157,判定式!$Q$3:$W$12,7,TRUE))","v":""},{"$f":"IF($G157=\"\",\"\",VLOOKUP($G157,判定式!$R$3:$W$12,6,TRUE))","v":""},{"$f":"IF($H157=\"\",\"\",VLOOKUP($H157,判定式!$S$3:$W$12,5,TRUE))","v":""},{"$f":"IF($I157=\"\",\"\",VLOOKUP($I157,判定式!$V$3:$W$12,2,TRUE))","v":""},{"$f":"IF($J157=\"\",\"\",VLOOKUP($J157,判定式!$Y$3:$Z$12,2,TRUE))","v":""},{"$f":"IF($K157=\"\",\"\",VLOOKUP($K157,判定式!$T$3:$W$12,4,TRUE))","v":""},{"$f":"IF($L157=\"\",\"\",VLOOKUP($L157,判定式!$U$3:$W$12,3,TRUE))","v":""},"",{"$f":"IF(ISNUMBER(D157),\"判定外\",IF(C157=6,VLOOKUP(U157,判定式!$C$15:I$19,7,TRUE),IF(C157=7,VLOOKUP(U157,判定式!$D$15:I$19,6,TRUE),IF(C157=8,VLOOKUP(U157,判定式!$E$15:I$19,5,TRUE),IF(C157=9,VLOOKUP(U157,判定式!$F$15:I$19,4,TRUE),IF(C157=10,VLOOKUP(U157,判定式!$G$15:I$19,3,TRUE),IF(C157=11,VLOOKUP(U157,判定式!$H$15:I$19,2,TRUE))))))))","v":false}]
[9,null,null,"-",null,null,null,null,null,null,null,null,{"$f":"IF($E158=\"\",\"\",VLOOKUP($E158,判定式!$P$3:$W$12,8,TRUE))","v":""},{"$f":"IF($F158=\"\",\"\",VLOOKUP($F158,判定式!$Q$3:$W$12,7,TRUE))","v":""},{"$f":"IF($G158=\"\",\"\",VLOOKUP($G158,判定式!$R$3:$W$12,6,TRUE))","v":""},{"$f":"IF($H158=\"\",\"\",VLOOKUP($H158,判定式!$S$3:$W$12,5,TRUE))","v":""},{"$f":"IF($I158=\"\",\"\",VLOOKUP($I158,判定式!$V$3:$W$12,2,TRUE))","v":""},{"$f":"IF($J158=\"\",\"\",VLOOKUP($J158,判定式!$Y$3:$Z$12,2,TRUE))","v":""},{"$f":"IF($K158=\"\",\"\",VLOOKUP($K158,判定式!$T$3:$W$12,4,TRUE))","v":""},{"$f":"IF($L158=\"\",\"\",VLOOKUP($L158,判定式!$U$3:$W$12,3,TRUE))","v":""},"",{"$f":"IF(ISNUMBER(D158),\"判定外\",IF(C158=6,VLOOKUP(U158,判定式!$C$15:I$19,7,TRUE),IF(C158=7,VLOOKUP(U158,判定式!$D$15:I$19,6,TRUE),IF(C158=8,VLOOKUP(U158,判定式!$E$15:I$19,5,TRUE),IF(C158=9,VLOOKUP(U158,判定式!$F$15:I$19,4,TRUE),IF(C158=10,VLOOKUP(U158,判定式!$G$15:I$19,3,TRUE),IF(C158=11,VLOOKUP(U158,判定式!$H$15:I$19,2,TRUE))))))))","v":false}]
[10,null,null,"-",null,null,null,null,null,null,null,null,{"$f":"IF($E159=\"\",\"\",VLOOKUP($E159,判定式!$P$3:$W$12,8,TRUE))","v":""},{"$f":"IF($F159=\"\",\"\",VLOOKUP($F159,判定式!$Q$3:$W$12,7,TRUE))","v":""},{"$f":"IF($G159=\"\",\"\",VLOOKUP($G159,判定式!$R$3:$W$12,6,TRUE))","v":""},{"$f":"IF($H159=\"\",\"\",VLOOKUP($H159,判定式!$S$3:$W$12,5,TRUE))","v":""},{"$f":"IF($I159=\"\",\"\",VLOOKUP($I159,判定式!$V$3:$W$12,2,TRUE))","v":""},{"$f":"IF($J159=\"\",\"\",VLOOKUP($J159,判定式!$Y$3:$Z$12,2,TRUE))","v":""},{"$f":"IF($K159=\"\",\"\",VLOOKUP($K159,判定式!$T$3:$W$12,4,TRUE))","v":""},{"$f":"IF($L159=\"\",\"\",VLOOKUP($L159,判定式!$U$3:$W$12,3,TRUE))","v":""},"",{"$f":"IF(ISNUMBER(D159),\"判定外\",IF(C159=6,VLOOKUP(U159,判定式!$C$15:I$19,7,TRUE),IF(C159=7,VLOOKUP(U159,判定式!$D$15:I$19,6,TRUE),IF(C159=8,VLOOKUP(U159,判定式!$E$15:I$19,5,TRUE),IF(C159=9,VLOOKUP(U159,判定式!$F$15:I$19,4,TRUE),IF(C159=10,VLOOKUP(U159,判定式!$G$15:I$19,3,TRUE),IF(C159=11,VLOOKUP(U159,判定式!$H$15:I$19,2,TRUE))))))))","v":false}]
[11,null,null,"-",null,null,null,null,null,null,null,null,{"$f":"IF($E160=\"\",\"\",VLOOKUP($E160,判定式!$P$3:$W$12,8,TRUE))","v":""},{"$f":"IF($F160=\"\",\"\",VLOOKUP($F160,判定式!$Q$3:$W$12,7,TRUE))","v":""},{"$f":"IF($G160=\"\",\"\",VLOOKUP($G160,判定式!$R$3:$W$12,6,TRUE))","v":""},{"$f":"IF($H160=\"\",\"\",VLOOKUP($H160,判定式!$S$3:$W$12,5,TRUE))","v":""},{"$f":"IF($I160=\"\",\"\",VLOOKUP($I160,判定式!$V$3:$W$12,2,TRUE))","v":""},{"$f":"IF($J160=\"\",\"\",VLOOKUP($J160,判定式!$Y$3:$Z$12,2,TRUE))","v":""},{"$f":"IF($K160=\"\",\"\",VLOOKUP($K160,判定式!$T$3:$W$12,4,TRUE))","v":""},{"$f":"IF($L160=\"\",\"\",VLOOKUP($L160,判定式!$U$3:$W$12,3,TRUE))","v":""},"",{"$f":"IF(ISNUMBER(D160),\"判定外\",IF(C160=6,VLOOKUP(U160,判定式!$C$15:I$19,7,TRUE),IF(C160=7,VLOOKUP(U160,判定式!$D$15:I$19,6,TRUE),IF(C160=8,VLOOKUP(U160,判定式!$E$15:I$19,5,TRUE),IF(C160=9,VLOOKUP(U160,判定式!$F$15:I$19,4,TRUE),IF(C160=10,VLOOKUP(U160,判定式!$G$15:I$19,3,TRUE),IF(C160=11,VLOOKUP(U160,判定式!$H$15:I$19,2,TRUE))))))))","v":false}]
[12,null,null,"-",null,null,null,null,null,null,null,null,{"$f":"IF($E161=\"\",\"\",VLOOKUP($E161,判定式!$P$3:$W$12,8,TRUE))","v":""},{"$f":"IF($F161=\"\",\"\",VLOOKUP($F161,判定式!$Q$3:$W$12,7,TRUE))","v":""},{"$f":"IF($G161=\"\",\"\",VLOOKUP($G161,判定式!$R$3:$W$12,6,TRUE))","v":""},{"$f":"IF($H161=\"\",\"\",VLOOKUP($H161,判定式!$S$3:$W$12,5,TRUE))","v":""},{"$f":"IF($I161=\"\",\"\",VLOOKUP($I161,判定式!$V$3:$W$12,2,TRUE))","v":""},{"$f":"IF($J161=\"\",\"\",VLOOKUP($J161,判定式!$Y$3:$Z$12,2,TRUE))","v":""},{"$f":"IF($K161=\"\",\"\",VLOOKUP($K161,判定式!$T$3:$W$12,4,TRUE))","v":""},{"$f":"IF($L161=\"\",\"\",VLOOKUP($L161,判定式!$U$3:$W$12,3,TRUE))","v":""},"",{"$f":"IF(ISNUMBER(D161),\"判定外\",IF(C161=6,VLOOKUP(U161,判定式!$C$15:I$19,7,TRUE),IF(C161=7,VLOOKUP(U161,判定式!$D$15:I$19,6,TRUE),IF(C161=8,VLOOKUP(U161,判定式!$E$15:I$19,5,TRUE),IF(C161=9,VLOOKUP(U161,判定式!$F$15:I$19,4,TRUE),IF(C161=10,VLOOKUP(U161,判定式!$G$15:I$19,3,TRUE),IF(C161=11,VLOOKUP(U161,判定式!$H$15:I$19,2,TRUE))))))))","v":false}]
[13,null,null,"-",null,null,null,null,null,null,null,null,{"$f":"IF($E162=\"\",\"\",VLOOKUP($E162,判定式!$P$3:$W$12,8,TRUE))","v":""},{"$f":"IF($F162=\"\",\"\",VLOOKUP($F162,判定式!$Q$3:$W$12,7,TRUE))","v":""},{"$f":"IF($G162=\"\",\"\",VLOOKUP($G162,判定式!$R$3:$W$12,6,TRUE))","v":""},{"$f":"IF($H162=\"\",\"\",VLOOKUP($H162,判定式!$S$3:$W$12,5,TRUE))","v":""},{"$f":"IF($I162=\"\",\"\",VLOOKUP($I162,判定式!$V$3:$W$12,2,TRUE))","v":""},{"$f":"IF($J162=\"\",\"\",VLOOKUP($J162,判定式!$Y$3:$Z$12,2,TRUE))","v":""},{"$f":"IF($K162=\"\",\"\",VLOOKUP($K162,判定式!$T$3:$W$12,4,TRUE))","v":""},{"$f":"IF($L162=\"\",\"\",VLOOKUP($L162,判定式!$U$3:$W$12,3,TRUE))","v":""},"",{"$f":"IF(ISNUMBER(D162),\"判定外\",IF(C162=6,VLOOKUP(U162,判定式!$C$15:I$19,7,TRUE),IF(C162=7,VLOOKUP(U162,判定式!$D$15:I$19,6,TRUE),IF(C162=8,VLOOKUP(U162,判定式!$E$15:I$19,5,TRUE),IF(C162=9,VLOOKUP(U162,判定式!$F$15:I$19,4,TRUE),IF(C162=10,VLOOKUP(U162,判定式!$G$15:I$19,3,TRUE),IF(C162=11,VLOOKUP(U162,判定式!$H$15:I$19,2,TRUE))))))))","v":false}]
[14,null,null,"-",null,null,null,null,null,null,null,null,{"$f":"IF($E163=\"\",\"\",VLOOKUP($E163,判定式!$P$3:$W$12,8,TRUE))","v":""},{"$f":"IF($F163=\"\",\"\",VLOOKUP($F163,判定式!$Q$3:$W$12,7,TRUE))","v":""},{"$f":"IF($G163=\"\",\"\",VLOOKUP($G163,判定式!$R$3:$W$12,6,TRUE))","v":""},{"$f":"IF($H163=\"\",\"\",VLOOKUP($H163,判定式!$S$3:$W$12,5,TRUE))","v":""},{"$f":"IF($I163=\"\",\"\",VLOOKUP($I163,判定式!$V$3:$W$12,2,TRUE))","v":""},{"$f":"IF($J163=\"\",\"\",VLOOKUP($J163,判定式!$Y$3:$Z$12,2,TRUE))","v":""},{"$f":"IF($K163=\"\",\"\",VLOOKUP($K163,判定式!$T$3:$W$12,4,TRUE))","v":""},{"$f":"IF($L163=\"\",\"\",VLOOKUP($L163,判定式!$U$3:$W$12,3,TRUE))","v":""},"",{"$f":"IF(ISNUMBER(D163),\"判定外\",IF(C163=6,VLOOKUP(U163,判定式!$C$15:I$19,7,TRUE),IF(C163=7,VLOOKUP(U163,判定式!$D$15:I$19,6,TRUE),IF(C163=8,VLOOKUP(U163,判定式!$E$15:I$19,5,TRUE),IF(C163=9,VLOOKUP(U163,判定式!$F$15:I$19,4,TRUE),IF(C163=10,VLOOKUP(U163,判定式!$G$15:I$19,3,TRUE),IF(C163=11,VLOOKUP(U163,判定式!$H$15:I$19,2,TRUE))))))))","v":false}]
[15,null,null,"-",null,null,null,null,null,null,null,null,{"$f":"IF($E164=\"\",\"\",VLOOKUP($E164,判定式!$P$3:$W$12,8,TRUE))","v":""},{"$f":"IF($F164=\"\",\"\",VLOOKUP($F164,判定式!$Q$3:$W$12,7,TRUE))","v":""},{"$f":"IF($G164=\"\",\"\",VLOOKUP($G164,判定式!$R$3:$W$12,6,TRUE))","v":""},{"$f":"IF($H164=\"\",\"\",VLOOKUP($H164,判定式!$S$3:$W$12,5,TRUE))","v":""},{"$f":"IF($I164=\"\",\"\",VLOOKUP($I164,判定式!$V$3:$W$12,2,TRUE))","v":""},{"$f":"IF($J164=\"\",\"\",VLOOKUP($J164,判定式!$Y$3:$Z$12,2,TRUE))","v":""},{"$f":"IF($K164=\"\",\"\",VLOOKUP($K164,判定式!$T$3:$W$12,4,TRUE))","v":""},{"$f":"IF($L164=\"\",\"\",VLOOKUP($L164,判定式!$U$3:$W$12,3,TRUE))","v":""},"",{"$f":"IF(ISNUMBER(D164),\"判定外\",IF(C164=6,VLOOKUP(U164,判定式!$C$15:I$19,7,TRUE),IF(C164=7,VLOOKUP(U164,判定式!$D$15:I$19,6,TRUE),IF(C164=8,VLOOKUP(U164,判定式!$E$15:I$19,5,TRUE),IF(C164=9,VLOOKUP(U164,判定式!$F$15:I$19,4,TRUE),IF(C164=10,VLOOKUP(U164,判定式!$G$15:I$19,3,TRUE),IF(C164=11,VLOOKUP(U164,判定式!$H$15:I$19,2,TRUE))))))))","v":false}]
[16,null,null,"-",null,null,null,null,null,null,null,null,{"$f":"IF($E165=\"\",\"\",VLOOKUP($E165,判定式!$P$3:$W$12,8,TRUE))","v":""},{"$f":"IF($F165=\"\",\"\",VLOOKUP($F165,判定式!$Q$3:$W$12,7,TRUE))","v":""},{"$f":"IF($G165=\"\",\"\",VLOOKUP($G165,判定式!$R$3:$W$12,6,TRUE))","v":""},{"$f":"IF($H165=\"\",\"\",VLOOKUP($H165,判定式!$S$3:$W$12,5,TRUE))","v":""},{"$f":"IF($I165=\"\",\"\",VLOOKUP($I165,判定式!$V$3:$W$12,2,TRUE))","v":""},{"$f":"IF($J165=\"\",\"\",VLOOKUP($J165,判定式!$Y$3:$Z$12,2,TRUE))","v":""},{"$f":"IF($K165=\"\",\"\",VLOOKUP($K165,判定式!$T$3:$W$12,4,TRUE))","v":""},{"$f":"IF($L165=\"\",\"\",VLOOKUP($L165,判定式!$U$3:$W$12,3,TRUE))","v":""},"",{"$f":"IF(ISNUMBER(D165),\"判定外\",IF(C165=6,VLOOKUP(U165,判定式!$C$15:I$19,7,TRUE),IF(C165=7,VLOOKUP(U165,判定式!$D$15:I$19,6,TRUE),IF(C165=8,VLOOKUP(U165,判定式!$E$15:I$19,5,TRUE),IF(C165=9,VLOOKUP(U165,判定式!$F$15:I$19,4,TRUE),IF(C165=10,VLOOKUP(U165,判定式!$G$15:I$19,3,TRUE),IF(C165=11,VLOOKUP(U165,判定式!$H$15:I$19,2,TRUE))))))))","v":false}]
[17,null,null,"-",null,null,null,null,null,null,null,null,{"$f":"IF($E166=\"\",\"\",VLOOKUP($E166,判定式!$P$3:$W$12,8,TRUE))","v":""},{"$f":"IF($F166=\"\",\"\",VLOOKUP($F166,判定式!$Q$3:$W$12,7,TRUE))","v":""},{"$f":"IF($G166=\"\",\"\",VLOOKUP($G166,判定式!$R$3:$W$12,6,TRUE))","v":""},{"$f":"IF($H166=\"\",\"\",VLOOKUP($H166,判定式!$S$3:$W$12,5,TRUE))","v":""},{"$f":"IF($I166=\"\",\"\",VLOOKUP($I166,判定式!$V$3:$W$12,2,TRUE))","v":""},{"$f":"IF($J166=\"\",\"\",VLOOKUP($J166,判定式!$Y$3:$Z$12,2,TRUE))","v":""},{"$f":"IF($K166=\"\",\"\",VLOOKUP($K166,判定式!$T$3:$W$12,4,TRUE))","v":""},{"$f":"IF($L166=\"\",\"\",VLOOKUP($L166,判定式!$U$3:$W$12,3,TRUE))","v":""},"",{"$f":"IF(ISNUMBER(D166),\"判定外\",IF(C166=6,VLOOKUP(U166,判定式!$C$15:I$19,7,TRUE),IF(C166=7,VLOOKUP(U166,判定式!$D$15:I$19,6,TRUE),IF(C166=8,VLOOKUP(U166,判定式!$E$15:I$19,5,TRUE),IF(C166=9,VLOOKUP(U166,判定式!$F$15:I$19,4,TRUE),IF(C166=10,VLOOKUP(U166,判定式!$G$15:I$19,3,TRUE),IF(C166=11,VLOOKUP(U166,判定式!$H$15:I$19,2,TRUE))))))))","v":false}]
[18,null,null,"-",null,null,null,null,null,null,null,null,{"$f":"IF($E167=\"\",\"\",VLOOKUP($E167,判定式!$P$3:$W$12,8,TRUE))","v":""},{"$f":"IF($F167=\"\",\"\",VLOOKUP($F167,判定式!$Q$3:$W$12,7,TRUE))","v":""},{"$f":"IF($G167=\"\",\"\",VLOOKUP($G167,判定式!$R$3:$W$12,6,TRUE))","v":""},{"$f":"IF($H167=\"\",\"\",VLOOKUP($H167,判定式!$S$3:$W$12,5,TRUE))","v":""},{"$f":"IF($I167=\"\",\"\",VLOOKUP($I167,判定式!$V$3:$W$12,2,TRUE))","v":""},{"$f":"IF($J167=\"\",\"\",VLOOKUP($J167,判定式!$Y$3:$Z$12,2,TRUE))","v":""},{"$f":"IF($K167=\"\",\"\",VLOOKUP($K167,判定式!$T$3:$W$12,4,TRUE))","v":""},{"$f":"IF($L167=\"\",\"\",VLOOKUP($L167,判定式!$U$3:$W$12,3,TRUE))","v":""},"",{"$f":"IF(ISNUMBER(D167),\"判定外\",IF(C167=6,VLOOKUP(U167,判定式!$C$15:I$19,7,TRUE),IF(C167=7,VLOOKUP(U167,判定式!$D$15:I$19,6,TRUE),IF(C167=8,VLOOKUP(U167,判定式!$E$15:I$19,5,TRUE),IF(C167=9,VLOOKUP(U167,判定式!$F$15:I$19,4,TRUE),IF(C167=10,VLOOKUP(U167,判定式!$G$15:I$19,3,TRUE),IF(C167=11,VLOOKUP(U167,判定式!$H$15:I$19,2,TRUE))))))))","v":false}]
[19,null,null,"-",null,null,null,null,null,null,null,null,{"$f":"IF($E168=\"\",\"\",VLOOKUP($E168,判定式!$P$3:$W$12,8,TRUE))","v":""},{"$f":"IF($F168=\"\",\"\",VLOOKUP($F168,判定式!$Q$3:$W$12,7,TRUE))","v":""},{"$f":"IF($G168=\"\",\"\",VLOOKUP($G168,判定式!$R$3:$W$12,6,TRUE))","v":""},{"$f":"IF($H168=\"\",\"\",VLOOKUP($H168,判定式!$S$3:$W$12,5,TRUE))","v":""},{"$f":"IF($I168=\"\",\"\",VLOOKUP($I168,判定式!$V$3:$W$12,2,TRUE))","v":""},{"$f":"IF($J168=\"\",\"\",VLOOKUP($J168,判定式!$Y$3:$Z$12,2,TRUE))","v":""},{"$f":"IF($K168=\"\",\"\",VLOOKUP($K168,判定式!$T$3:$W$12,4,TRUE))","v":""},{"$f":"IF($L168=\"\",\"\",VLOOKUP($L168,判定式!$U$3:$W$12,3,TRUE))","v":""},"",{"$f":"IF(ISNUMBER(D168),\"判定外\",IF(C168=6,VLOOKUP(U168,判定式!$C$15:I$19,7,TRUE),IF(C168=7,VLOOKUP(U168,判定式!$D$15:I$19,6,TRUE),IF(C168=8,VLOOKUP(U168,判定式!$E$15:I$19,5,TRUE),IF(C168=9,VLOOKUP(U168,判定式!$F$15:I$19,4,TRUE),IF(C168=10,VLOOKUP(U168,判定式!$G$15:I$19,3,TRUE),IF(C168=11,VLOOKUP(U168,判定式!$H$15:I$19,2,TRUE))))))))","v":false}]
[20,null,null,"-",null,null,null,null,null,null,null,null,{"$f":"IF($E169=\"\",\"\",VLOOKUP($E169,判定式!$P$3:$W$12,8,TRUE))","v":""},{"$f":"IF($F169=\"\",\"\",VLOOKUP($F169,判定式!$Q$3:$W$12,7,TRUE))","v":""},{"$f":"IF($G169=\"\",\"\",VLOOKUP($G169,判定式!$R$3:$W$12,6,TRUE))","v":""},{"$f":"IF($H169=\"\",\"\",VLOOKUP($H169,判定式!$S$3:$W$12,5,TRUE))","v":""},{"$f":"IF($I169=\"\",\"\",VLOOKUP($I169,判定式!$V$3:$W$12,2,TRUE))","v":""},{"$f":"IF($J169=\"\",\"\",VLOOKUP($J169,判定式!$Y$3:$Z$12,2,TRUE))","v":""},{"$f":"IF($K169=\"\",\"\",VLOOKUP($K169,判定式!$T$3:$W$12,4,TRUE))","v":""},{"$f":"IF($L169=\"\",\"\",VLOOKUP($L169,判定式!$U$3:$W$12,3,TRUE))","v":""},"",{"$f":"IF(ISNUMBER(D169),\"判定外\",IF(C169=6,VLOOKUP(U169,判定式!$C$15:I$19,7,TRUE),IF(C169=7,VLOOKUP(U169,判定式!$D$15:I$19,6,TRUE),IF(C169=8,VLOOKUP(U169,判定式!$E$15:I$19,5,TRUE),IF(C169=9,VLOOKUP(U169,判定式!$F$15:I$19,4,TRUE),IF(C169=10,VLOOKUP(U169,判定式!$G$15:I$19,3,TRUE),IF(C169=11,VLOOKUP(U169,判定式!$H$15:I$19,2,TRUE))))))))","v":false}]
[21,null,null,"-",null,null,null,null,null,null,null,null,{"$f":"IF($E170=\"\",\"\",VLOOKUP($E170,判定式!$P$3:$W$12,8,TRUE))","v":""},{"$f":"IF($F170=\"\",\"\",VLOOKUP($F170,判定式!$Q$3:$W$12,7,TRUE))","v":""},{"$f":"IF($G170=\"\",\"\",VLOOKUP($G170,判定式!$R$3:$W$12,6,TRUE))","v":""},{"$f":"IF($H170=\"\",\"\",VLOOKUP($H170,判定式!$S$3:$W$12,5,TRUE))","v":""},{"$f":"IF($I170=\"\",\"\",VLOOKUP($I170,判定式!$V$3:$W$12,2,TRUE))","v":""},{"$f":"IF($J170=\"\",\"\",VLOOKUP($J170,判定式!$Y$3:$Z$12,2,TRUE))","v":""},{"$f":"IF($K170=\"\",\"\",VLOOKUP($K170,判定式!$T$3:$W$12,4,TRUE))","v":""},{"$f":"IF($L170=\"\",\"\",VLOOKUP($L170,判定式!$U$3:$W$12,3,TRUE))","v":""},"",{"$f":"IF(ISNUMBER(D170),\"判定外\",IF(C170=6,VLOOKUP(U170,判定式!$C$15:I$19,7,TRUE),IF(C170=7,VLOOKUP(U170,判定式!$D$15:I$19,6,TRUE),IF(C170=8,VLOOKUP(U170,判定式!$E$15:I$19,5,TRUE),IF(C170=9,VLOOKUP(U170,判定式!$F$15:I$19,4,TRUE),IF(C170=10,VLOOKUP(U170,判定式!$G$15:I$19,3,TRUE),IF(C170=11,VLOOKUP(U170,判定式!$H$15:I$19,2,TRUE))))))))","v":false}]
[22,null,null,"-",null,null,null,null,null,null,null,null,{"$f":"IF($E171=\"\",\"\",VLOOKUP($E171,判定式!$P$3:$W$12,8,TRUE))","v":""},{"$f":"IF($F171=\"\",\"\",VLOOKUP($F171,判定式!$Q$3:$W$12,7,TRUE))","v":""},{"$f":"IF($G171=\"\",\"\",VLOOKUP($G171,判定式!$R$3:$W$12,6,TRUE))","v":""},{"$f":"IF($H171=\"\",\"\",VLOOKUP($H171,判定式!$S$3:$W$12,5,TRUE))","v":""},{"$f":"IF($I171=\"\",\"\",VLOOKUP($I171,判定式!$V$3:$W$12,2,TRUE))","v":""},{"$f":"IF($J171=\"\",\"\",VLOOKUP($J171,判定式!$Y$3:$Z$12,2,TRUE))","v":""},{"$f":"IF($K171=\"\",\"\",VLOOKUP($K171,判定式!$T$3:$W$12,4,TRUE))","v":""},{"$f":"IF($L171=\"\",\"\",VLOOKUP($L171,判定式!$U$3:$W$12,3,TRUE))","v":""},"",{"$f":"IF(ISNUMBER(D171),\"判定外\",IF(C171=6,VLOOKUP(U171,判定式!$C$15:I$19,7,TRUE),IF(C171=7,VLOOKUP(U171,判定式!$D$15:I$19,6,TRUE),IF(C171=8,VLOOKUP(U171,判定式!$E$15:I$19,5,TRUE),IF(C171=9,VLOOKUP(U171,判定式!$F$15:I$19,4,TRUE),IF(C171=10,VLOOKUP(U171,判定式!$G$15:I$19,3,TRUE),IF(C171=11,VLOOKUP(U171,判定式!$H$15:I$19,2,TRUE))))))))","v":false}]
[23,null,null,"-",null,null,null,null,null,null,null,null,{"$f":"IF($E172=\"\",\"\",VLOOKUP($E172,判定式!$P$3:$W$12,8,TRUE))","v":""},{"$f":"IF($F172=\"\",\"\",VLOOKUP($F172,判定式!$Q$3:$W$12,7,TRUE))","v":""},{"$f":"IF($G172=\"\",\"\",VLOOKUP($G172,判定式!$R$3:$W$12,6,TRUE))","v":""},{"$f":"IF($H172=\"\",\"\",VLOOKUP($H172,判定式!$S$3:$W$12,5,TRUE))","v":""},{"$f":"IF($I172=\"\",\"\",VLOOKUP($I172,判定式!$V$3:$W$12,2,TRUE))","v":""},{"$f":"IF($J172=\"\",\"\",VLOOKUP($J172,判定式!$Y$3:$Z$12,2,TRUE))","v":""},{"$f":"IF($K172=\"\",\"\",VLOOKUP($K172,判定式!$T$3:$W$12,4,TRUE))","v":""},{"$f":"IF($L172=\"\",\"\",VLOOKUP($L172,判定式!$U$3:$W$12,3,TRUE))","v":""},"",{"$f":"IF(ISNUMBER(D172),\"判定外\",IF(C172=6,VLOOKUP(U172,判定式!$C$15:I$19,7,TRUE),IF(C172=7,VLOOKUP(U172,判定式!$D$15:I$19,6,TRUE),IF(C172=8,VLOOKUP(U172,判定式!$E$15:I$19,5,TRUE),IF(C172=9,VLOOKUP(U172,判定式!$F$15:I$19,4,TRUE),IF(C172=10,VLOOKUP(U172,判定式!$G$15:I$19,3,TRUE),IF(C172=11,VLOOKUP(U172,判定式!$H$15:I$19,2,TRUE))))))))","v":false}]
[24,null,null,"-",null,null,null,null,null,null,null,null,{"$f":"IF($E173=\"\",\"\",VLOOKUP($E173,判定式!$P$3:$W$12,8,TRUE))","v":""},{"$f":"IF($F173=\"\",\"\",VLOOKUP($F173,判定式!$Q$3:$W$12,7,TRUE))","v":""},{"$f":"IF($G173=\"\",\"\",VLOOKUP($G173,判定式!$R$3:$W$12,6,TRUE))","v":""},{"$f":"IF($H173=\"\",\"\",VLOOKUP($H173,判定式!$S$3:$W$12,5,TRUE))","v":""},{"$f":"IF($I173=\"\",\"\",VLOOKUP($I173,判定式!$V$3:$W$12,2,TRUE))","v":""},{"$f":"IF($J173=\"\",\"\",VLOOKUP($J173,判定式!$Y$3:$Z$12,2,TRUE))","v":""},{"$f":"IF($K173=\"\",\"\",VLOOKUP($K173,判定式!$T$3:$W$12,4,TRUE))","v":""},{"$f":"IF($L173=\"\",\"\",VLOOKUP($L173,判定式!$U$3:$W$12,3,TRUE))","v":""},"",{"$f":"IF(ISNUMBER(D173),\"判定外\",IF(C173=6,VLOOKUP(U173,判定式!$C$15:I$19,7,TRUE),IF(C173=7,VLOOKUP(U173,判定式!$D$15:I$19,6,TRUE),IF(C173=8,VLOOKUP(U173,判定式!$E$15:I$19,5,TRUE),IF(C173=9,VLOOKUP(U173,判定式!$F$15:I$19,4,TRUE),IF(C173=10,VLOOKUP(U173,判定式!$G$15:I$19,3,TRUE),IF(C173=11,VLOOKUP(U173,判定式!$H$15:I$19,2,TRUE))))))))","v":false}]
[25,null,null,"-",null,null,null,null,null,null,null,null,{"$f":"IF($E174=\"\",\"\",VLOOKUP($E174,判定式!$P$3:$W$12,8,TRUE))","v":""},{"$f":"IF($F174=\"\",\"\",VLOOKUP($F174,判定式!$Q$3:$W$12,7,TRUE))","v":""},{"$f":"IF($G174=\"\",\"\",VLOOKUP($G174,判定式!$R$3:$W$12,6,TRUE))","v":""},{"$f":"IF($H174=\"\",\"\",VLOOKUP($H174,判定式!$S$3:$W$12,5,TRUE))","v":""},{"$f":"IF($I174=\"\",\"\",VLOOKUP($I174,判定式!$V$3:$W$12,2,TRUE))","v":""},{"$f":"IF($J174=\"\",\"\",VLOOKUP($J174,判定式!$Y$3:$Z$12,2,TRUE))","v":""},{"$f":"IF($K174=\"\",\"\",VLOOKUP($K174,判定式!$T$3:$W$12,4,TRUE))","v":""},{"$f":"IF($L174=\"\",\"\",VLOOKUP($L174,判定式!$U$3:$W$12,3,TRUE))","v":""},"",{"$f":"IF(ISNUMBER(D174),\"判定外\",IF(C174=6,VLOOKUP(U174,判定式!$C$15:I$19,7,TRUE),IF(C174=7,VLOOKUP(U174,判定式!$D$15:I$19,6,TRUE),IF(C174=8,VLOOKUP(U174,判定式!$E$15:I$19,5,TRUE),IF(C174=9,VLOOKUP(U174,判定式!$F$15:I$19,4,TRUE),IF(C174=10,VLOOKUP(U174,判定式!$G$15:I$19,3,TRUE),IF(C174=11,VLOOKUP(U174,判定式!$H$15:I$19,2,TRUE))))))))","v":false}]
[26,null,null,"-",null,null,null,null,null,null,null,null,{"$f":"IF($E175=\"\",\"\",VLOOKUP($E175,判定式!$P$3:$W$12,8,TRUE))","v":""},{"$f":"IF($F175=\"\",\"\",VLOOKUP($F175,判定式!$Q$3:$W$12,7,TRUE))","v":""},{"$f":"IF($G175=\"\",\"\",VLOOKUP($G175,判定式!$R$3:$W$12,6,TRUE))","v":""},{"$f":"IF($H175=\"\",\"\",VLOOKUP($H175,判定式!$S$3:$W$12,5,TRUE))","v":""},{"$f":"IF($I175=\"\",\"\",VLOOKUP($I175,判定式!$V$3:$W$12,2,TRUE))","v":""},{"$f":"IF($J175=\"\",\"\",VLOOKUP($J175,判定式!$Y$3:$Z$12,2,TRUE))","v":""},{"$f":"IF($K175=\"\",\"\",VLOOKUP($K175,判定式!$T$3:$W$12,4,TRUE))","v":""},{"$f":"IF($L175=\"\",\"\",VLOOKUP($L175,判定式!$U$3:$W$12,3,TRUE))","v":""},"",{"$f":"IF(ISNUMBER(D175),\"判定外\",IF(C175=6,VLOOKUP(U175,判定式!$C$15:I$19,7,TRUE),IF(C175=7,VLOOKUP(U175,判定式!$D$15:I$19,6,TRUE),IF(C175=8,VLOOKUP(U175,判定式!$E$15:I$19,5,TRUE),IF(C175=9,VLOOKUP(U175,判定式!$F$15:I$19,4,TRUE),IF(C175=10,VLOOKUP(U175,判定式!$G$15:I$19,3,TRUE),IF(C175=11,VLOOKUP(U175,判定式!$H$15:I$19,2,TRUE))))))))","v":false}]
[27,null,null,"-",null,null,null,null,null,null,null,null,{"$f":"IF($E176=\"\",\"\",VLOOKUP($E176,判定式!$P$3:$W$12,8,TRUE))","v":""},{"$f":"IF($F176=\"\",\"\",VLOOKUP($F176,判定式!$Q$3:$W$12,7,TRUE))","v":""},{"$f":"IF($G176=\"\",\"\",VLOOKUP($G176,判定式!$R$3:$W$12,6,TRUE))","v":""},{"$f":"IF($H176=\"\",\"\",VLOOKUP($H176,判定式!$S$3:$W$12,5,TRUE))","v":""},{"$f":"IF($I176=\"\",\"\",VLOOKUP($I176,判定式!$V$3:$W$12,2,TRUE))","v":""},{"$f":"IF($J176=\"\",\"\",VLOOKUP($J176,判定式!$Y$3:$Z$12,2,TRUE))","v":""},{"$f":"IF($K176=\"\",\"\",VLOOKUP($K176,判定式!$T$3:$W$12,4,TRUE))","v":""},{"$f":"IF($L176=\"\",\"\",VLOOKUP($L176,判定式!$U$3:$W$12,3,TRUE))","v":""},"",{"$f":"IF(ISNUMBER(D176),\"判定外\",IF(C176=6,VLOOKUP(U176,判定式!$C$15:I$19,7,TRUE),IF(C176=7,VLOOKUP(U176,判定式!$D$15:I$19,6,TRUE),IF(C176=8,VLOOKUP(U176,判定式!$E$15:I$19,5,TRUE),IF(C176=9,VLOOKUP(U176,判定式!$F$15:I$19,4,TRUE),IF(C176=10,VLOOKUP(U176,判定式!$G$15:I$19,3,TRUE),IF(C176=11,VLOOKUP(U176,判定式!$H$15:I$19,2,TRUE))))))))","v":false}]
[28,null,null,"-",null,null,null,null,null,null,null,null,{"$f":"IF($E177=\"\",\"\",VLOOKUP($E177,判定式!$P$3:$W$12,8,TRUE))","v":""},{"$f":"IF($F177=\"\",\"\",VLOOKUP($F177,判定式!$Q$3:$W$12,7,TRUE))","v":""},{"$f":"IF($G177=\"\",\"\",VLOOKUP($G177,判定式!$R$3:$W$12,6,TRUE))","v":""},{"$f":"IF($H177=\"\",\"\",VLOOKUP($H177,判定式!$S$3:$W$12,5,TRUE))","v":""},{"$f":"IF($I177=\"\",\"\",VLOOKUP($I177,判定式!$V$3:$W$12,2,TRUE))","v":""},{"$f":"IF($J177=\"\",\"\",VLOOKUP($J177,判定式!$Y$3:$Z$12,2,TRUE))","v":""},{"$f":"IF($K177=\"\",\"\",VLOOKUP($K177,判定式!$T$3:$W$12,4,TRUE))","v":""},{"$f":"IF($L177=\"\",\"\",VLOOKUP($L177,判定式!$U$3:$W$12,3,TRUE))","v":""},"",{"$f":"IF(ISNUMBER(D177),\"判定外\",IF(C177=6,VLOOKUP(U177,判定式!$C$15:I$19,7,TRUE),IF(C177=7,VLOOKUP(U177,判定式!$D$15:I$19,6,TRUE),IF(C177=8,VLOOKUP(U177,判定式!$E$15:I$19,5,TRUE),IF(C177=9,VLOOKUP(U177,判定式!$F$15:I$19,4,TRUE),IF(C177=10,VLOOKUP(U177,判定式!$G$15:I$19,3,TRUE),IF(C177=11,VLOOKUP(U177,判定式!$H$15:I$19,2,TRUE))))))))","v":false}]
[29,null,null,"-",null,null,null,null,null,null,null,null,{"$f":"IF($E178=\"\",\"\",VLOOKUP($E178,判定式!$P$3:$W$12,8,TRUE))","v":""},{"$f":"IF($F178=\"\",\"\",VLOOKUP($F178,判定式!$Q$3:$W$12,7,TRUE))","v":""},{"$f":"IF($G178=\"\",\"\",VLOOKUP($G178,判定式!$R$3:$W$12,6,TRUE))","v":""},{"$f":"IF($H178=\"\",\"\",VLOOKUP($H178,判定式!$S$3:$W$12,5,TRUE))","v":""},{"$f":"IF($I178=\"\",\"\",VLOOKUP($I178,判定式!$V$3:$W$12,2,TRUE))","v":""},{"$f":"IF($J178=\"\",\"\",VLOOKUP($J178,判定式!$Y$3:$Z$12,2,TRUE))","v":""},{"$f":"IF($K178=\"\",\"\",VLOOKUP($K178,判定式!$T$3:$W$12,4,TRUE))","v":""},{"$f":"IF($L178=\"\",\"\",VLOOKUP($L178,判定式!$U$3:$W$12,3,TRUE))","v":""},"",{"$f":"IF(ISNUMBER(D178),\"判定外\",IF(C178=6,VLOOKUP(U178,判定式!$C$15:I$19,7,TRUE),IF(C178=7,VLOOKUP(U178,判定式!$D$15:I$19,6,TRUE),IF(C178=8,VLOOKUP(U178,判定式!$E$15:I$19,5,TRUE),IF(C178=9,VLOOKUP(U178,判定式!$F$15:I$19,4,TRUE),IF(C178=10,VLOOKUP(U178,判定式!$G$15:I$19,3,TRUE),IF(C178=11,VLOOKUP(U178,判定式!$H$15:I$19,2,TRUE))))))))","v":false}]
[30,null,null,"-",null,null,null,null,null,null,null,null,{"$f":"IF($E179=\"\",\"\",VLOOKUP($E179,判定式!$P$3:$W$12,8,TRUE))","v":""},{"$f":"IF($F179=\"\",\"\",VLOOKUP($F179,判定式!$Q$3:$W$12,7,TRUE))","v":""},{"$f":"IF($G179=\"\",\"\",VLOOKUP($G179,判定式!$R$3:$W$12,6,TRUE))","v":""},{"$f":"IF($H179=\"\",\"\",VLOOKUP($H179,判定式!$S$3:$W$12,5,TRUE))","v":""},{"$f":"IF($I179=\"\",\"\",VLOOKUP($I179,判定式!$V$3:$W$12,2,TRUE))","v":""},{"$f":"IF($J179=\"\",\"\",VLOOKUP($J179,判定式!$Y$3:$Z$12,2,TRUE))","v":""},{"$f":"IF($K179=\"\",\"\",VLOOKUP($K179,判定式!$T$3:$W$12,4,TRUE))","v":""},{"$f":"IF($L179=\"\",\"\",VLOOKUP($L179,判定式!$U$3:$W$12,3,TRUE))","v":""},"",{"$f":"IF(ISNUMBER(D179),\"判定外\",IF(C179=6,VLOOKUP(U179,判定式!$C$15:I$19,7,TRUE),IF(C179=7,VLOOKUP(U179,判定式!$D$15:I$19,6,TRUE),IF(C179=8,VLOOKUP(U179,判定式!$E$15:I$19,5,TRUE),IF(C179=9,VLOOKUP(U179,判定式!$F$15:I$19,4,TRUE),IF(C179=10,VLOOKUP(U179,判定式!$G$15:I$19,3,TRUE),IF(C179=11,VLOOKUP(U179,判定式!$H$15:I$19,2,TRUE))))))))","v":false}]
[31,null,null,"-",null,null,null,null,null,null,null,null,{"$f":"IF($E180=\"\",\"\",VLOOKUP($E180,判定式!$P$3:$W$12,8,TRUE))","v":""},{"$f":"IF($F180=\"\",\"\",VLOOKUP($F180,判定式!$Q$3:$W$12,7,TRUE))","v":""},{"$f":"IF($G180=\"\",\"\",VLOOKUP($G180,判定式!$R$3:$W$12,6,TRUE))","v":""},{"$f":"IF($H180=\"\",\"\",VLOOKUP($H180,判定式!$S$3:$W$12,5,TRUE))","v":""},{"$f":"IF($I180=\"\",\"\",VLOOKUP($I180,判定式!$V$3:$W$12,2,TRUE))","v":""},{"$f":"IF($J180=\"\",\"\",VLOOKUP($J180,判定式!$Y$3:$Z$12,2,TRUE))","v":""},{"$f":"IF($K180=\"\",\"\",VLOOKUP($K180,判定式!$T$3:$W$12,4,TRUE))","v":""},{"$f":"IF($L180=\"\",\"\",VLOOKUP($L180,判定式!$U$3:$W$12,3,TRUE))","v":""},"",{"$f":"IF(ISNUMBER(D180),\"判定外\",IF(C180=6,VLOOKUP(U180,判定式!$C$15:I$19,7,TRUE),IF(C180=7,VLOOKUP(U180,判定式!$D$15:I$19,6,TRUE),IF(C180=8,VLOOKUP(U180,判定式!$E$15:I$19,5,TRUE),IF(C180=9,VLOOKUP(U180,判定式!$F$15:I$19,4,TRUE),IF(C180=10,VLOOKUP(U180,判定式!$G$15:I$19,3,TRUE),IF(C180=11,VLOOKUP(U180,判定式!$H$15:I$19,2,TRUE))))))))","v":false}]
[32,null,null,"-",null,null,null,null,null,null,null,null,{"$f":"IF($E181=\"\",\"\",VLOOKUP($E181,判定式!$P$3:$W$12,8,TRUE))","v":""},{"$f":"IF($F181=\"\",\"\",VLOOKUP($F181,判定式!$Q$3:$W$12,7,TRUE))","v":""},{"$f":"IF($G181=\"\",\"\",VLOOKUP($G181,判定式!$R$3:$W$12,6,TRUE))","v":""},{"$f":"IF($H181=\"\",\"\",VLOOKUP($H181,判定式!$S$3:$W$12,5,TRUE))","v":""},{"$f":"IF($I181=\"\",\"\",VLOOKUP($I181,判定式!$V$3:$W$12,2,TRUE))","v":""},{"$f":"IF($J181=\"\",\"\",VLOOKUP($J181,判定式!$Y$3:$Z$12,2,TRUE))","v":""},{"$f":"IF($K181=\"\",\"\",VLOOKUP($K181,判定式!$T$3:$W$12,4,TRUE))","v":""},{"$f":"IF($L181=\"\",\"\",VLOOKUP($L181,判定式!$U$3:$W$12,3,TRUE))","v":""},"",{"$f":"IF(ISNUMBER(D181),\"判定外\",IF(C181=6,VLOOKUP(U181,判定式!$C$15:I$19,7,TRUE),IF(C181=7,VLOOKUP(U181,判定式!$D$15:I$19,6,TRUE),IF(C181=8,VLOOKUP(U181,判定式!$E$15:I$19,5,TRUE),IF(C181=9,VLOOKUP(U181,判定式!$F$15:I$19,4,TRUE),IF(C181=10,VLOOKUP(U181,判定式!$G$15:I$19,3,TRUE),IF(C181=11,VLOOKUP(U181,判定式!$H$15:I$19,2,TRUE))))))))","v":false}]
[33,null,null,{"$f":"IF(COUNTBLANK(E182:L182)=0,\"\",IF(COUNTBLANK(E182:L182)=8,\"-\",COUNTBLANK(E182:L182)))","v":"-"},null,null,null,null,null,null,null,null,{"$f":"IF($E182=\"\",\"\",VLOOKUP($E182,判定式!$P$3:$W$12,8,TRUE))","v":""},{"$f":"IF($F182=\"\",\"\",VLOOKUP($F182,判定式!$Q$3:$W$12,7,TRUE))","v":""},{"$f":"IF($G182=\"\",\"\",VLOOKUP($G182,判定式!$R$3:$W$12,6,TRUE))","v":""},{"$f":"IF($H182=\"\",\"\",VLOOKUP($H182,判定式!$S$3:$W$12,5,TRUE))","v":""},{"$f":"IF($I182=\"\",\"\",VLOOKUP($I182,判定式!$V$3:$W$12,2,TRUE))","v":""},{"$f":"IF($J182=\"\",\"\",VLOOKUP($J182,判定式!$Y$3:$Z$12,2,TRUE))","v":""},{"$f":"IF($K182=\"\",\"\",VLOOKUP($K182,判定式!$T$3:$W$12,4,TRUE))","v":""},{"$f":"IF($L182=\"\",\"\",VLOOKUP($L182,判定式!$U$3:$W$12,3,TRUE))","v":""},{"$f":"IF(COUNTBLANK(M182:T182)=0,SUM(M182:T182),\"\")","v":""},{"$f":"IF(ISNUMBER(D182),\"判定外\",IF(C182=6,VLOOKUP(U182,判定式!$C$15:I$19,7,TRUE),IF(C182=7,VLOOKUP(U182,判定式!$D$15:I$19,6,TRUE),IF(C182=8,VLOOKUP(U182,判定式!$E$15:I$19,5,TRUE),IF(C182=9,VLOOKUP(U182,判定式!$F$15:I$19,4,TRUE),IF(C182=10,VLOOKUP(U182,判定式!$G$15:I$19,3,TRUE),IF(C182=11,VLOOKUP(U182,判定式!$H$15:I$19,2,TRUE))))))))","v":false}]
[34,null,null,"-",null,null,null,null,null,null,null,null,{"$f":"IF($E183=\"\",\"\",VLOOKUP($E183,判定式!$P$3:$W$12,8,TRUE))","v":""},{"$f":"IF($F183=\"\",\"\",VLOOKUP($F183,判定式!$Q$3:$W$12,7,TRUE))","v":""},{"$f":"IF($G183=\"\",\"\",VLOOKUP($G183,判定式!$R$3:$W$12,6,TRUE))","v":""},{"$f":"IF($H183=\"\",\"\",VLOOKUP($H183,判定式!$S$3:$W$12,5,TRUE))","v":""},{"$f":"IF($I183=\"\",\"\",VLOOKUP($I183,判定式!$V$3:$W$12,2,TRUE))","v":""},{"$f":"IF($J183=\"\",\"\",VLOOKUP($J183,判定式!$Y$3:$Z$12,2,TRUE))","v":""},{"$f":"IF($K183=\"\",\"\",VLOOKUP($K183,判定式!$T$3:$W$12,4,TRUE))","v":""},{"$f":"IF($L183=\"\",\"\",VLOOKUP($L183,判定式!$U$3:$W$12,3,TRUE))","v":""},"",{"$f":"IF(ISNUMBER(D183),\"判定外\",IF(C183=6,VLOOKUP(U183,判定式!$C$15:I$19,7,TRUE),IF(C183=7,VLOOKUP(U183,判定式!$D$15:I$19,6,TRUE),IF(C183=8,VLOOKUP(U183,判定式!$E$15:I$19,5,TRUE),IF(C183=9,VLOOKUP(U183,判定式!$F$15:I$19,4,TRUE),IF(C183=10,VLOOKUP(U183,判定式!$G$15:I$19,3,TRUE),IF(C183=11,VLOOKUP(U183,判定式!$H$15:I$19,2,TRUE))))))))","v":false}]
[35,null,null,"-",null,null,null,null,null,null,null,null,{"$f":"IF($E184=\"\",\"\",VLOOKUP($E184,判定式!$P$3:$W$12,8,TRUE))","v":""},{"$f":"IF($F184=\"\",\"\",VLOOKUP($F184,判定式!$Q$3:$W$12,7,TRUE))","v":""},{"$f":"IF($G184=\"\",\"\",VLOOKUP($G184,判定式!$R$3:$W$12,6,TRUE))","v":""},{"$f":"IF($H184=\"\",\"\",VLOOKUP($H184,判定式!$S$3:$W$12,5,TRUE))","v":""},{"$f":"IF($I184=\"\",\"\",VLOOKUP($I184,判定式!$V$3:$W$12,2,TRUE))","v":""},{"$f":"IF($J184=\"\",\"\",VLOOKUP($J184,判定式!$Y$3:$Z$12,2,TRUE))","v":""},{"$f":"IF($K184=\"\",\"\",VLOOKUP($K184,判定式!$T$3:$W$12,4,TRUE))","v":""},{"$f":"IF($L184=\"\",\"\",VLOOKUP($L184,判定式!$U$3:$W$12,3,TRUE))","v":""},"",{"$f":"IF(ISNUMBER(D184),\"判定外\",IF(C184=6,VLOOKUP(U184,判定式!$C$15:I$19,7,TRUE),IF(C184=7,VLOOKUP(U184,判定式!$D$15:I$19,6,TRUE),IF(C184=8,VLOOKUP(U184,判定式!$E$15:I$19,5,TRUE),IF(C184=9,VLOOKUP(U184,判定式!$F$15:I$19,4,TRUE),IF(C184=10,VLOOKUP(U184,判定式!$G$15:I$19,3,TRUE),IF(C184=11,VLOOKUP(U184,判定式!$H$15:I$19,2,TRUE))))))))","v":false}]
[36,null,null,"-",null,null,null,null,null,null,null,null,{"$f":"IF($E185=\"\",\"\",VLOOKUP($E185,判定式!$P$3:$W$12,8,TRUE))","v":""},{"$f":"IF($F185=\"\",\"\",VLOOKUP($F185,判定式!$Q$3:$W$12,7,TRUE))","v":""},{"$f":"IF($G185=\"\",\"\",VLOOKUP($G185,判定式!$R$3:$W$12,6,TRUE))","v":""},{"$f":"IF($H185=\"\",\"\",VLOOKUP($H185,判定式!$S$3:$W$12,5,TRUE))","v":""},{"$f":"IF($I185=\"\",\"\",VLOOKUP($I185,判定式!$V$3:$W$12,2,TRUE))","v":""},{"$f":"IF($J185=\"\",\"\",VLOOKUP($J185,判定式!$Y$3:$Z$12,2,TRUE))","v":""},{"$f":"IF($K185=\"\",\"\",VLOOKUP($K185,判定式!$T$3:$W$12,4,TRUE))","v":""},{"$f":"IF($L185=\"\",\"\",VLOOKUP($L185,判定式!$U$3:$W$12,3,TRUE))","v":""},"",{"$f":"IF(ISNUMBER(D185),\"判定外\",IF(C185=6,VLOOKUP(U185,判定式!$C$15:I$19,7,TRUE),IF(C185=7,VLOOKUP(U185,判定式!$D$15:I$19,6,TRUE),IF(C185=8,VLOOKUP(U185,判定式!$E$15:I$19,5,TRUE),IF(C185=9,VLOOKUP(U185,判定式!$F$15:I$19,4,TRUE),IF(C185=10,VLOOKUP(U185,判定式!$G$15:I$19,3,TRUE),IF(C185=11,VLOOKUP(U185,判定式!$H$15:I$19,2,TRUE))))))))","v":false}]
[37,null,null,"-",null,null,null,null,null,null,null,null,{"$f":"IF($E186=\"\",\"\",VLOOKUP($E186,判定式!$P$3:$W$12,8,TRUE))","v":""},{"$f":"IF($F186=\"\",\"\",VLOOKUP($F186,判定式!$Q$3:$W$12,7,TRUE))","v":""},{"$f":"IF($G186=\"\",\"\",VLOOKUP($G186,判定式!$R$3:$W$12,6,TRUE))","v":""},{"$f":"IF($H186=\"\",\"\",VLOOKUP($H186,判定式!$S$3:$W$12,5,TRUE))","v":""},{"$f":"IF($I186=\"\",\"\",VLOOKUP($I186,判定式!$V$3:$W$12,2,TRUE))","v":""},{"$f":"IF($J186=\"\",\"\",VLOOKUP($J186,判定式!$Y$3:$Z$12,2,TRUE))","v":""},{"$f":"IF($K186=\"\",\"\",VLOOKUP($K186,判定式!$T$3:$W$12,4,TRUE))","v":""},{"$f":"IF($L186=\"\",\"\",VLOOKUP($L186,判定式!$U$3:$W$12,3,TRUE))","v":""},"",{"$f":"IF(ISNUMBER(D186),\"判定外\",IF(C186=6,VLOOKUP(U186,判定式!$C$15:I$19,7,TRUE),IF(C186=7,VLOOKUP(U186,判定式!$D$15:I$19,6,TRUE),IF(C186=8,VLOOKUP(U186,判定式!$E$15:I$19,5,TRUE),IF(C186=9,VLOOKUP(U186,判定式!$F$15:I$19,4,TRUE),IF(C186=10,VLOOKUP(U186,判定式!$G$15:I$19,3,TRUE),IF(C186=11,VLOOKUP(U186,判定式!$H$15:I$19,2,TRUE))))))))","v":false}]
[38,null,null,"-",null,null,null,null,null,null,null,null,{"$f":"IF($E187=\"\",\"\",VLOOKUP($E187,判定式!$P$3:$W$12,8,TRUE))","v":""},{"$f":"IF($F187=\"\",\"\",VLOOKUP($F187,判定式!$Q$3:$W$12,7,TRUE))","v":""},{"$f":"IF($G187=\"\",\"\",VLOOKUP($G187,判定式!$R$3:$W$12,6,TRUE))","v":""},{"$f":"IF($H187=\"\",\"\",VLOOKUP($H187,判定式!$S$3:$W$12,5,TRUE))","v":""},{"$f":"IF($I187=\"\",\"\",VLOOKUP($I187,判定式!$V$3:$W$12,2,TRUE))","v":""},{"$f":"IF($J187=\"\",\"\",VLOOKUP($J187,判定式!$Y$3:$Z$12,2,TRUE))","v":""},{"$f":"IF($K187=\"\",\"\",VLOOKUP($K187,判定式!$T$3:$W$12,4,TRUE))","v":""},{"$f":"IF($L187=\"\",\"\",VLOOKUP($L187,判定式!$U$3:$W$12,3,TRUE))","v":""},"",{"$f":"IF(ISNUMBER(D187),\"判定外\",IF(C187=6,VLOOKUP(U187,判定式!$C$15:I$19,7,TRUE),IF(C187=7,VLOOKUP(U187,判定式!$D$15:I$19,6,TRUE),IF(C187=8,VLOOKUP(U187,判定式!$E$15:I$19,5,TRUE),IF(C187=9,VLOOKUP(U187,判定式!$F$15:I$19,4,TRUE),IF(C187=10,VLOOKUP(U187,判定式!$G$15:I$19,3,TRUE),IF(C187=11,VLOOKUP(U187,判定式!$H$15:I$19,2,TRUE))))))))","v":false}]
[39,null,null,"-",null,null,null,null,null,null,null,null,{"$f":"IF($E188=\"\",\"\",VLOOKUP($E188,判定式!$P$3:$W$12,8,TRUE))","v":""},{"$f":"IF($F188=\"\",\"\",VLOOKUP($F188,判定式!$Q$3:$W$12,7,TRUE))","v":""},{"$f":"IF($G188=\"\",\"\",VLOOKUP($G188,判定式!$R$3:$W$12,6,TRUE))","v":""},{"$f":"IF($H188=\"\",\"\",VLOOKUP($H188,判定式!$S$3:$W$12,5,TRUE))","v":""},{"$f":"IF($I188=\"\",\"\",VLOOKUP($I188,判定式!$V$3:$W$12,2,TRUE))","v":""},{"$f":"IF($J188=\"\",\"\",VLOOKUP($J188,判定式!$Y$3:$Z$12,2,TRUE))","v":""},{"$f":"IF($K188=\"\",\"\",VLOOKUP($K188,判定式!$T$3:$W$12,4,TRUE))","v":""},{"$f":"IF($L188=\"\",\"\",VLOOKUP($L188,判定式!$U$3:$W$12,3,TRUE))","v":""},"",{"$f":"IF(ISNUMBER(D188),\"判定外\",IF(C188=6,VLOOKUP(U188,判定式!$C$15:I$19,7,TRUE),IF(C188=7,VLOOKUP(U188,判定式!$D$15:I$19,6,TRUE),IF(C188=8,VLOOKUP(U188,判定式!$E$15:I$19,5,TRUE),IF(C188=9,VLOOKUP(U188,判定式!$F$15:I$19,4,TRUE),IF(C188=10,VLOOKUP(U188,判定式!$G$15:I$19,3,TRUE),IF(C188=11,VLOOKUP(U188,判定式!$H$15:I$19,2,TRUE))))))))","v":false}]
[40,null,null,"-",null,null,null,null,null,null,null,null,{"$f":"IF($E189=\"\",\"\",VLOOKUP($E189,判定式!$P$3:$W$12,8,TRUE))","v":""},{"$f":"IF($F189=\"\",\"\",VLOOKUP($F189,判定式!$Q$3:$W$12,7,TRUE))","v":""},{"$f":"IF($G189=\"\",\"\",VLOOKUP($G189,判定式!$R$3:$W$12,6,TRUE))","v":""},{"$f":"IF($H189=\"\",\"\",VLOOKUP($H189,判定式!$S$3:$W$12,5,TRUE))","v":""},{"$f":"IF($I189=\"\",\"\",VLOOKUP($I189,判定式!$V$3:$W$12,2,TRUE))","v":""},{"$f":"IF($J189=\"\",\"\",VLOOKUP($J189,判定式!$Y$3:$Z$12,2,TRUE))","v":""},{"$f":"IF($K189=\"\",\"\",VLOOKUP($K189,判定式!$T$3:$W$12,4,TRUE))","v":""},{"$f":"IF($L189=\"\",\"\",VLOOKUP($L189,判定式!$U$3:$W$12,3,TRUE))","v":""},"",{"$f":"IF(ISNUMBER(D189),\"判定外\",IF(C189=6,VLOOKUP(U189,判定式!$C$15:I$19,7,TRUE),IF(C189=7,VLOOKUP(U189,判定式!$D$15:I$19,6,TRUE),IF(C189=8,VLOOKUP(U189,判定式!$E$15:I$19,5,TRUE),IF(C189=9,VLOOKUP(U189,判定式!$F$15:I$19,4,TRUE),IF(C189=10,VLOOKUP(U189,判定式!$G$15:I$19,3,TRUE),IF(C189=11,VLOOKUP(U189,判定式!$H$15:I$19,2,TRUE))))))))","v":false}]
[41,null,null,"-",null,null,null,null,null,null,null,null,{"$f":"IF($E190=\"\",\"\",VLOOKUP($E190,判定式!$P$3:$W$12,8,TRUE))","v":""},{"$f":"IF($F190=\"\",\"\",VLOOKUP($F190,判定式!$Q$3:$W$12,7,TRUE))","v":""},{"$f":"IF($G190=\"\",\"\",VLOOKUP($G190,判定式!$R$3:$W$12,6,TRUE))","v":""},{"$f":"IF($H190=\"\",\"\",VLOOKUP($H190,判定式!$S$3:$W$12,5,TRUE))","v":""},{"$f":"IF($I190=\"\",\"\",VLOOKUP($I190,判定式!$V$3:$W$12,2,TRUE))","v":""},{"$f":"IF($J190=\"\",\"\",VLOOKUP($J190,判定式!$Y$3:$Z$12,2,TRUE))","v":""},{"$f":"IF($K190=\"\",\"\",VLOOKUP($K190,判定式!$T$3:$W$12,4,TRUE))","v":""},{"$f":"IF($L190=\"\",\"\",VLOOKUP($L190,判定式!$U$3:$W$12,3,TRUE))","v":""},"",{"$f":"IF(ISNUMBER(D190),\"判定外\",IF(C190=6,VLOOKUP(U190,判定式!$C$15:I$19,7,TRUE),IF(C190=7,VLOOKUP(U190,判定式!$D$15:I$19,6,TRUE),IF(C190=8,VLOOKUP(U190,判定式!$E$15:I$19,5,TRUE),IF(C190=9,VLOOKUP(U190,判定式!$F$15:I$19,4,TRUE),IF(C190=10,VLOOKUP(U190,判定式!$G$15:I$19,3,TRUE),IF(C190=11,VLOOKUP(U190,判定式!$H$15:I$19,2,TRUE))))))))","v":false}]
[42,null,null,"-",null,null,null,null,null,null,null,null,{"$f":"IF($E191=\"\",\"\",VLOOKUP($E191,判定式!$P$3:$W$12,8,TRUE))","v":""},{"$f":"IF($F191=\"\",\"\",VLOOKUP($F191,判定式!$Q$3:$W$12,7,TRUE))","v":""},{"$f":"IF($G191=\"\",\"\",VLOOKUP($G191,判定式!$R$3:$W$12,6,TRUE))","v":""},{"$f":"IF($H191=\"\",\"\",VLOOKUP($H191,判定式!$S$3:$W$12,5,TRUE))","v":""},{"$f":"IF($I191=\"\",\"\",VLOOKUP($I191,判定式!$V$3:$W$12,2,TRUE))","v":""},{"$f":"IF($J191=\"\",\"\",VLOOKUP($J191,判定式!$Y$3:$Z$12,2,TRUE))","v":""},{"$f":"IF($K191=\"\",\"\",VLOOKUP($K191,判定式!$T$3:$W$12,4,TRUE))","v":""},{"$f":"IF($L191=\"\",\"\",VLOOKUP($L191,判定式!$U$3:$W$12,3,TRUE))","v":""},"",{"$f":"IF(ISNUMBER(D191),\"判定外\",IF(C191=6,VLOOKUP(U191,判定式!$C$15:I$19,7,TRUE),IF(C191=7,VLOOKUP(U191,判定式!$D$15:I$19,6,TRUE),IF(C191=8,VLOOKUP(U191,判定式!$E$15:I$19,5,TRUE),IF(C191=9,VLOOKUP(U191,判定式!$F$15:I$19,4,TRUE),IF(C191=10,VLOOKUP(U191,判定式!$G$15:I$19,3,TRUE),IF(C191=11,VLOOKUP(U191,判定式!$H$15:I$19,2,TRUE))))))))","v":false}]
[43,null,null,"-",null,null,null,null,null,null,null,null,{"$f":"IF($E192=\"\",\"\",VLOOKUP($E192,判定式!$P$3:$W$12,8,TRUE))","v":""},{"$f":"IF($F192=\"\",\"\",VLOOKUP($F192,判定式!$Q$3:$W$12,7,TRUE))","v":""},{"$f":"IF($G192=\"\",\"\",VLOOKUP($G192,判定式!$R$3:$W$12,6,TRUE))","v":""},{"$f":"IF($H192=\"\",\"\",VLOOKUP($H192,判定式!$S$3:$W$12,5,TRUE))","v":""},{"$f":"IF($I192=\"\",\"\",VLOOKUP($I192,判定式!$V$3:$W$12,2,TRUE))","v":""},{"$f":"IF($J192=\"\",\"\",VLOOKUP($J192,判定式!$Y$3:$Z$12,2,TRUE))","v":""},{"$f":"IF($K192=\"\",\"\",VLOOKUP($K192,判定式!$T$3:$W$12,4,TRUE))","v":""},{"$f":"IF($L192=\"\",\"\",VLOOKUP($L192,判定式!$U$3:$W$12,3,TRUE))","v":""},"",{"$f":"IF(ISNUMBER(D192),\"判定外\",IF(C192=6,VLOOKUP(U192,判定式!$C$15:I$19,7,TRUE),IF(C192=7,VLOOKUP(U192,判定式!$D$15:I$19,6,TRUE),IF(C192=8,VLOOKUP(U192,判定式!$E$15:I$19,5,TRUE),IF(C192=9,VLOOKUP(U192,判定式!$F$15:I$19,4,TRUE),IF(C192=10,VLOOKUP(U192,判定式!$G$15:I$19,3,TRUE),IF(C192=11,VLOOKUP(U192,判定式!$H$15:I$19,2,TRUE))))))))","v":false}]
[44,null,null,"-",null,null,null,null,null,null,null,null,{"$f":"IF($E193=\"\",\"\",VLOOKUP($E193,判定式!$P$3:$W$12,8,TRUE))","v":""},{"$f":"IF($F193=\"\",\"\",VLOOKUP($F193,判定式!$Q$3:$W$12,7,TRUE))","v":""},{"$f":"IF($G193=\"\",\"\",VLOOKUP($G193,判定式!$R$3:$W$12,6,TRUE))","v":""},{"$f":"IF($H193=\"\",\"\",VLOOKUP($H193,判定式!$S$3:$W$12,5,TRUE))","v":""},{"$f":"IF($I193=\"\",\"\",VLOOKUP($I193,判定式!$V$3:$W$12,2,TRUE))","v":""},{"$f":"IF($J193=\"\",\"\",VLOOKUP($J193,判定式!$Y$3:$Z$12,2,TRUE))","v":""},{"$f":"IF($K193=\"\",\"\",VLOOKUP($K193,判定式!$T$3:$W$12,4,TRUE))","v":""},{"$f":"IF($L193=\"\",\"\",VLOOKUP($L193,判定式!$U$3:$W$12,3,TRUE))","v":""},"",{"$f":"IF(ISNUMBER(D193),\"判定外\",IF(C193=6,VLOOKUP(U193,判定式!$C$15:I$19,7,TRUE),IF(C193=7,VLOOKUP(U193,判定式!$D$15:I$19,6,TRUE),IF(C193=8,VLOOKUP(U193,判定式!$E$15:I$19,5,TRUE),IF(C193=9,VLOOKUP(U193,判定式!$F$15:I$19,4,TRUE),IF(C193=10,VLOOKUP(U193,判定式!$G$15:I$19,3,TRUE),IF(C193=11,VLOOKUP(U193,判定式!$H$15:I$19,2,TRUE))))))))","v":false}]
[45,null,null,"-",null,null,null,null,null,null,null,null,{"$f":"IF($E194=\"\",\"\",VLOOKUP($E194,判定式!$P$3:$W$12,8,TRUE))","v":""},{"$f":"IF($F194=\"\",\"\",VLOOKUP($F194,判定式!$Q$3:$W$12,7,TRUE))","v":""},{"$f":"IF($G194=\"\",\"\",VLOOKUP($G194,判定式!$R$3:$W$12,6,TRUE))","v":""},{"$f":"IF($H194=\"\",\"\",VLOOKUP($H194,判定式!$S$3:$W$12,5,TRUE))","v":""},{"$f":"IF($I194=\"\",\"\",VLOOKUP($I194,判定式!$V$3:$W$12,2,TRUE))","v":""},{"$f":"IF($J194=\"\",\"\",VLOOKUP($J194,判定式!$Y$3:$Z$12,2,TRUE))","v":""},{"$f":"IF($K194=\"\",\"\",VLOOKUP($K194,判定式!$T$3:$W$12,4,TRUE))","v":""},{"$f":"IF($L194=\"\",\"\",VLOOKUP($L194,判定式!$U$3:$W$12,3,TRUE))","v":""},"",{"$f":"IF(ISNUMBER(D194),\"判定外\",IF(C194=6,VLOOKUP(U194,判定式!$C$15:I$19,7,TRUE),IF(C194=7,VLOOKUP(U194,判定式!$D$15:I$19,6,TRUE),IF(C194=8,VLOOKUP(U194,判定式!$E$15:I$19,5,TRUE),IF(C194=9,VLOOKUP(U194,判定式!$F$15:I$19,4,TRUE),IF(C194=10,VLOOKUP(U194,判定式!$G$15:I$19,3,TRUE),IF(C194=11,VLOOKUP(U194,判定式!$H$15:I$19,2,TRUE))))))))","v":false}]
[46,null,null,"-",null,null,null,null,null,null,null,null,{"$f":"IF($E195=\"\",\"\",VLOOKUP($E195,判定式!$P$3:$W$12,8,TRUE))","v":""},{"$f":"IF($F195=\"\",\"\",VLOOKUP($F195,判定式!$Q$3:$W$12,7,TRUE))","v":""},{"$f":"IF($G195=\"\",\"\",VLOOKUP($G195,判定式!$R$3:$W$12,6,TRUE))","v":""},{"$f":"IF($H195=\"\",\"\",VLOOKUP($H195,判定式!$S$3:$W$12,5,TRUE))","v":""},{"$f":"IF($I195=\"\",\"\",VLOOKUP($I195,判定式!$V$3:$W$12,2,TRUE))","v":""},{"$f":"IF($J195=\"\",\"\",VLOOKUP($J195,判定式!$Y$3:$Z$12,2,TRUE))","v":""},{"$f":"IF($K195=\"\",\"\",VLOOKUP($K195,判定式!$T$3:$W$12,4,TRUE))","v":""},{"$f":"IF($L195=\"\",\"\",VLOOKUP($L195,判定式!$U$3:$W$12,3,TRUE))","v":""},"",{"$f":"IF(ISNUMBER(D195),\"判定外\",IF(C195=6,VLOOKUP(U195,判定式!$C$15:I$19,7,TRUE),IF(C195=7,VLOOKUP(U195,判定式!$D$15:I$19,6,TRUE),IF(C195=8,VLOOKUP(U195,判定式!$E$15:I$19,5,TRUE),IF(C195=9,VLOOKUP(U195,判定式!$F$15:I$19,4,TRUE),IF(C195=10,VLOOKUP(U195,判定式!$G$15:I$19,3,TRUE),IF(C195=11,VLOOKUP(U195,判定式!$H$15:I$19,2,TRUE))))))))","v":false}]
[47,null,null,"-",null,null,null,null,null,null,null,null,{"$f":"IF($E196=\"\",\"\",VLOOKUP($E196,判定式!$P$3:$W$12,8,TRUE))","v":""},{"$f":"IF($F196=\"\",\"\",VLOOKUP($F196,判定式!$Q$3:$W$12,7,TRUE))","v":""},{"$f":"IF($G196=\"\",\"\",VLOOKUP($G196,判定式!$R$3:$W$12,6,TRUE))","v":""},{"$f":"IF($H196=\"\",\"\",VLOOKUP($H196,判定式!$S$3:$W$12,5,TRUE))","v":""},{"$f":"IF($I196=\"\",\"\",VLOOKUP($I196,判定式!$V$3:$W$12,2,TRUE))","v":""},{"$f":"IF($J196=\"\",\"\",VLOOKUP($J196,判定式!$Y$3:$Z$12,2,TRUE))","v":""},{"$f":"IF($K196=\"\",\"\",VLOOKUP($K196,判定式!$T$3:$W$12,4,TRUE))","v":""},{"$f":"IF($L196=\"\",\"\",VLOOKUP($L196,判定式!$U$3:$W$12,3,TRUE))","v":""},"",{"$f":"IF(ISNUMBER(D196),\"判定外\",IF(C196=6,VLOOKUP(U196,判定式!$C$15:I$19,7,TRUE),IF(C196=7,VLOOKUP(U196,判定式!$D$15:I$19,6,TRUE),IF(C196=8,VLOOKUP(U196,判定式!$E$15:I$19,5,TRUE),IF(C196=9,VLOOKUP(U196,判定式!$F$15:I$19,4,TRUE),IF(C196=10,VLOOKUP(U196,判定式!$G$15:I$19,3,TRUE),IF(C196=11,VLOOKUP(U196,判定式!$H$15:I$19,2,TRUE))))))))","v":false}]
[48,null,null,"-",null,null,null,null,null,null,null,null,{"$f":"IF($E197=\"\",\"\",VLOOKUP($E197,判定式!$P$3:$W$12,8,TRUE))","v":""},{"$f":"IF($F197=\"\",\"\",VLOOKUP($F197,判定式!$Q$3:$W$12,7,TRUE))","v":""},{"$f":"IF($G197=\"\",\"\",VLOOKUP($G197,判定式!$R$3:$W$12,6,TRUE))","v":""},{"$f":"IF($H197=\"\",\"\",VLOOKUP($H197,判定式!$S$3:$W$12,5,TRUE))","v":""},{"$f":"IF($I197=\"\",\"\",VLOOKUP($I197,判定式!$V$3:$W$12,2,TRUE))","v":""},{"$f":"IF($J197=\"\",\"\",VLOOKUP($J197,判定式!$Y$3:$Z$12,2,TRUE))","v":""},{"$f":"IF($K197=\"\",\"\",VLOOKUP($K197,判定式!$T$3:$W$12,4,TRUE))","v":""},{"$f":"IF($L197=\"\",\"\",VLOOKUP($L197,判定式!$U$3:$W$12,3,TRUE))","v":""},"",{"$f":"IF(ISNUMBER(D197),\"判定外\",IF(C197=6,VLOOKUP(U197,判定式!$C$15:I$19,7,TRUE),IF(C197=7,VLOOKUP(U197,判定式!$D$15:I$19,6,TRUE),IF(C197=8,VLOOKUP(U197,判定式!$E$15:I$19,5,TRUE),IF(C197=9,VLOOKUP(U197,判定式!$F$15:I$19,4,TRUE),IF(C197=10,VLOOKUP(U197,判定式!$G$15:I$19,3,TRUE),IF(C197=11,VLOOKUP(U197,判定式!$H$15:I$19,2,TRUE))))))))","v":false}]
[49,null,null,"-",null,null,null,null,null,null,null,null,{"$f":"IF($E198=\"\",\"\",VLOOKUP($E198,判定式!$P$3:$W$12,8,TRUE))","v":""},{"$f":"IF($F198=\"\",\"\",VLOOKUP($F198,判定式!$Q$3:$W$12,7,TRUE))","v":""},{"$f":"IF($G198=\"\",\"\",VLOOKUP($G198,判定式!$R$3:$W$12,6,TRUE))","v":""},{"$f":"IF($H198=\"\",\"\",VLOOKUP($H198,判定式!$S$3:$W$12,5,TRUE))","v":""},{"$f":"IF($I198=\"\",\"\",VLOOKUP($I198,判定式!$V$3:$W$12,2,TRUE))","v":""},{"$f":"IF($J198=\"\",\"\",VLOOKUP($J198,判定式!$Y$3:$Z$12,2,TRUE))","v":""},{"$f":"IF($K198=\"\",\"\",VLOOKUP($K198,判定式!$T$3:$W$12,4,TRUE))","v":""},{"$f":"IF($L198=\"\",\"\",VLOOKUP($L198,判定式!$U$3:$W$12,3,TRUE))","v":""},"",{"$f":"IF(ISNUMBER(D198),\"判定外\",IF(C198=6,VLOOKUP(U198,判定式!$C$15:I$19,7,TRUE),IF(C198=7,VLOOKUP(U198,判定式!$D$15:I$19,6,TRUE),IF(C198=8,VLOOKUP(U198,判定式!$E$15:I$19,5,TRUE),IF(C198=9,VLOOKUP(U198,判定式!$F$15:I$19,4,TRUE),IF(C198=10,VLOOKUP(U198,判定式!$G$15:I$19,3,TRUE),IF(C198=11,VLOOKUP(U198,判定式!$H$15:I$19,2,TRUE))))))))","v":false}]
[50,null,null,"-",null,null,null,null,null,null,null,null,{"$f":"IF($E199=\"\",\"\",VLOOKUP($E199,判定式!$P$3:$W$12,8,TRUE))","v":""},{"$f":"IF($F199=\"\",\"\",VLOOKUP($F199,判定式!$Q$3:$W$12,7,TRUE))","v":""},{"$f":"IF($G199=\"\",\"\",VLOOKUP($G199,判定式!$R$3:$W$12,6,TRUE))","v":""},{"$f":"IF($H199=\"\",\"\",VLOOKUP($H199,判定式!$S$3:$W$12,5,TRUE))","v":""},{"$f":"IF($I199=\"\",\"\",VLOOKUP($I199,判定式!$V$3:$W$12,2,TRUE))","v":""},{"$f":"IF($J199=\"\",\"\",VLOOKUP($J199,判定式!$Y$3:$Z$12,2,TRUE))","v":""},{"$f":"IF($K199=\"\",\"\",VLOOKUP($K199,判定式!$T$3:$W$12,4,TRUE))","v":""},{"$f":"IF($L199=\"\",\"\",VLOOKUP($L199,判定式!$U$3:$W$12,3,TRUE))","v":""},"",{"$f":"IF(ISNUMBER(D199),\"判定外\",IF(C199=6,VLOOKUP(U199,判定式!$C$15:I$19,7,TRUE),IF(C199=7,VLOOKUP(U199,判定式!$D$15:I$19,6,TRUE),IF(C199=8,VLOOKUP(U199,判定式!$E$15:I$19,5,TRUE),IF(C199=9,VLOOKUP(U199,判定式!$F$15:I$19,4,TRUE),IF(C199=10,VLOOKUP(U199,判定式!$G$15:I$19,3,TRUE),IF(C199=11,VLOOKUP(U199,判定式!$H$15:I$19,2,TRUE))))))))","v":false}]
[51,null,null,"-",null,null,null,null,null,null,null,null,{"$f":"IF($E200=\"\",\"\",VLOOKUP($E200,判定式!$P$3:$W$12,8,TRUE))","v":""},{"$f":"IF($F200=\"\",\"\",VLOOKUP($F200,判定式!$Q$3:$W$12,7,TRUE))","v":""},{"$f":"IF($G200=\"\",\"\",VLOOKUP($G200,判定式!$R$3:$W$12,6,TRUE))","v":""},{"$f":"IF($H200=\"\",\"\",VLOOKUP($H200,判定式!$S$3:$W$12,5,TRUE))","v":""},{"$f":"IF($I200=\"\",\"\",VLOOKUP($I200,判定式!$V$3:$W$12,2,TRUE))","v":""},{"$f":"IF($J200=\"\",\"\",VLOOKUP($J200,判定式!$Y$3:$Z$12,2,TRUE))","v":""},{"$f":"IF($K200=\"\",\"\",VLOOKUP($K200,判定式!$T$3:$W$12,4,TRUE))","v":""},{"$f":"IF($L200=\"\",\"\",VLOOKUP($L200,判定式!$U$3:$W$12,3,TRUE))","v":""},"",{"$f":"IF(ISNUMBER(D200),\"判定外\",IF(C200=6,VLOOKUP(U200,判定式!$C$15:I$19,7,TRUE),IF(C200=7,VLOOKUP(U200,判定式!$D$15:I$19,6,TRUE),IF(C200=8,VLOOKUP(U200,判定式!$E$15:I$19,5,TRUE),IF(C200=9,VLOOKUP(U200,判定式!$F$15:I$19,4,TRUE),IF(C200=10,VLOOKUP(U200,判定式!$G$15:I$19,3,TRUE),IF(C200=11,VLOOKUP(U200,判定式!$H$15:I$19,2,TRUE))))))))","v":false}]
[52,null,null,"-",null,null,null,null,null,null,null,null,{"$f":"IF($E201=\"\",\"\",VLOOKUP($E201,判定式!$P$3:$W$12,8,TRUE))","v":""},{"$f":"IF($F201=\"\",\"\",VLOOKUP($F201,判定式!$Q$3:$W$12,7,TRUE))","v":""},{"$f":"IF($G201=\"\",\"\",VLOOKUP($G201,判定式!$R$3:$W$12,6,TRUE))","v":""},{"$f":"IF($H201=\"\",\"\",VLOOKUP($H201,判定式!$S$3:$W$12,5,TRUE))","v":""},{"$f":"IF($I201=\"\",\"\",VLOOKUP($I201,判定式!$V$3:$W$12,2,TRUE))","v":""},{"$f":"IF($J201=\"\",\"\",VLOOKUP($J201,判定式!$Y$3:$Z$12,2,TRUE))","v":""},{"$f":"IF($K201=\"\",\"\",VLOOKUP($K201,判定式!$T$3:$W$12,4,TRUE))","v":""},{"$f":"IF($L201=\"\",\"\",VLOOKUP($L201,判定式!$U$3:$W$12,3,TRUE))","v":""},"",{"$f":"IF(ISNUMBER(D201),\"判定外\",IF(C201=6,VLOOKUP(U201,判定式!$C$15:I$19,7,TRUE),IF(C201=7,VLOOKUP(U201,判定式!$D$15:I$19,6,TRUE),IF(C201=8,VLOOKUP(U201,判定式!$E$15:I$19,5,TRUE),IF(C201=9,VLOOKUP(U201,判定式!$F$15:I$19,4,TRUE),IF(C201=10,VLOOKUP(U201,判定式!$G$15:I$19,3,TRUE),IF(C201=11,VLOOKUP(U201,判定式!$H$15:I$19,2,TRUE))))))))","v":false}]
[53,null,null,"-",null,null,null,null,null,null,null,null,{"$f":"IF($E202=\"\",\"\",VLOOKUP($E202,判定式!$P$3:$W$12,8,TRUE))","v":""},{"$f":"IF($F202=\"\",\"\",VLOOKUP($F202,判定式!$Q$3:$W$12,7,TRUE))","v":""},{"$f":"IF($G202=\"\",\"\",VLOOKUP($G202,判定式!$R$3:$W$12,6,TRUE))","v":""},{"$f":"IF($H202=\"\",\"\",VLOOKUP($H202,判定式!$S$3:$W$12,5,TRUE))","v":""},{"$f":"IF($I202=\"\",\"\",VLOOKUP($I202,判定式!$V$3:$W$12,2,TRUE))","v":""},{"$f":"IF($J202=\"\",\"\",VLOOKUP($J202,判定式!$Y$3:$Z$12,2,TRUE))","v":""},{"$f":"IF($K202=\"\",\"\",VLOOKUP($K202,判定式!$T$3:$W$12,4,TRUE))","v":""},{"$f":"IF($L202=\"\",\"\",VLOOKUP($L202,判定式!$U$3:$W$12,3,TRUE))","v":""},"",{"$f":"IF(ISNUMBER(D202),\"判定外\",IF(C202=6,VLOOKUP(U202,判定式!$C$15:I$19,7,TRUE),IF(C202=7,VLOOKUP(U202,判定式!$D$15:I$19,6,TRUE),IF(C202=8,VLOOKUP(U202,判定式!$E$15:I$19,5,TRUE),IF(C202=9,VLOOKUP(U202,判定式!$F$15:I$19,4,TRUE),IF(C202=10,VLOOKUP(U202,判定式!$G$15:I$19,3,TRUE),IF(C202=11,VLOOKUP(U202,判定式!$H$15:I$19,2,TRUE))))))))","v":false}]
[54,null,null,"-",null,null,null,null,null,null,null,null,{"$f":"IF($E203=\"\",\"\",VLOOKUP($E203,判定式!$P$3:$W$12,8,TRUE))","v":""},{"$f":"IF($F203=\"\",\"\",VLOOKUP($F203,判定式!$Q$3:$W$12,7,TRUE))","v":""},{"$f":"IF($G203=\"\",\"\",VLOOKUP($G203,判定式!$R$3:$W$12,6,TRUE))","v":""},{"$f":"IF($H203=\"\",\"\",VLOOKUP($H203,判定式!$S$3:$W$12,5,TRUE))","v":""},{"$f":"IF($I203=\"\",\"\",VLOOKUP($I203,判定式!$V$3:$W$12,2,TRUE))","v":""},{"$f":"IF($J203=\"\",\"\",VLOOKUP($J203,判定式!$Y$3:$Z$12,2,TRUE))","v":""},{"$f":"IF($K203=\"\",\"\",VLOOKUP($K203,判定式!$T$3:$W$12,4,TRUE))","v":""},{"$f":"IF($L203=\"\",\"\",VLOOKUP($L203,判定式!$U$3:$W$12,3,TRUE))","v":""},"",{"$f":"IF(ISNUMBER(D203),\"判定外\",IF(C203=6,VLOOKUP(U203,判定式!$C$15:I$19,7,TRUE),IF(C203=7,VLOOKUP(U203,判定式!$D$15:I$19,6,TRUE),IF(C203=8,VLOOKUP(U203,判定式!$E$15:I$19,5,TRUE),IF(C203=9,VLOOKUP(U203,判定式!$F$15:I$19,4,TRUE),IF(C203=10,VLOOKUP(U203,判定式!$G$15:I$19,3,TRUE),IF(C203=11,VLOOKUP(U203,判定式!$H$15:I$19,2,TRUE))))))))","v":false}]
[55,null,null,"-",null,null,null,null,null,null,null,null,{"$f":"IF($E204=\"\",\"\",VLOOKUP($E204,判定式!$P$3:$W$12,8,TRUE))","v":""},{"$f":"IF($F204=\"\",\"\",VLOOKUP($F204,判定式!$Q$3:$W$12,7,TRUE))","v":""},{"$f":"IF($G204=\"\",\"\",VLOOKUP($G204,判定式!$R$3:$W$12,6,TRUE))","v":""},{"$f":"IF($H204=\"\",\"\",VLOOKUP($H204,判定式!$S$3:$W$12,5,TRUE))","v":""},{"$f":"IF($I204=\"\",\"\",VLOOKUP($I204,判定式!$V$3:$W$12,2,TRUE))","v":""},{"$f":"IF($J204=\"\",\"\",VLOOKUP($J204,判定式!$Y$3:$Z$12,2,TRUE))","v":""},{"$f":"IF($K204=\"\",\"\",VLOOKUP($K204,判定式!$T$3:$W$12,4,TRUE))","v":""},{"$f":"IF($L204=\"\",\"\",VLOOKUP($L204,判定式!$U$3:$W$12,3,TRUE))","v":""},"",{"$f":"IF(ISNUMBER(D204),\"判定外\",IF(C204=6,VLOOKUP(U204,判定式!$C$15:I$19,7,TRUE),IF(C204=7,VLOOKUP(U204,判定式!$D$15:I$19,6,TRUE),IF(C204=8,VLOOKUP(U204,判定式!$E$15:I$19,5,TRUE),IF(C204=9,VLOOKUP(U204,判定式!$F$15:I$19,4,TRUE),IF(C204=10,VLOOKUP(U204,判定式!$G$15:I$19,3,TRUE),IF(C204=11,VLOOKUP(U204,判定式!$H$15:I$19,2,TRUE))))))))","v":false}]
[56,null,null,"-",null,null,null,null,null,null,null,null,{"$f":"IF($E205=\"\",\"\",VLOOKUP($E205,判定式!$P$3:$W$12,8,TRUE))","v":""},{"$f":"IF($F205=\"\",\"\",VLOOKUP($F205,判定式!$Q$3:$W$12,7,TRUE))","v":""},{"$f":"IF($G205=\"\",\"\",VLOOKUP($G205,判定式!$R$3:$W$12,6,TRUE))","v":""},{"$f":"IF($H205=\"\",\"\",VLOOKUP($H205,判定式!$S$3:$W$12,5,TRUE))","v":""},{"$f":"IF($I205=\"\",\"\",VLOOKUP($I205,判定式!$V$3:$W$12,2,TRUE))","v":""},{"$f":"IF($J205=\"\",\"\",VLOOKUP($J205,判定式!$Y$3:$Z$12,2,TRUE))","v":""},{"$f":"IF($K205=\"\",\"\",VLOOKUP($K205,判定式!$T$3:$W$12,4,TRUE))","v":""},{"$f":"IF($L205=\"\",\"\",VLOOKUP($L205,判定式!$U$3:$W$12,3,TRUE))","v":""},"",{"$f":"IF(ISNUMBER(D205),\"判定外\",IF(C205=6,VLOOKUP(U205,判定式!$C$15:I$19,7,TRUE),IF(C205=7,VLOOKUP(U205,判定式!$D$15:I$19,6,TRUE),IF(C205=8,VLOOKUP(U205,判定式!$E$15:I$19,5,TRUE),IF(C205=9,VLOOKUP(U205,判定式!$F$15:I$19,4,TRUE),IF(C205=10,VLOOKUP(U205,判定式!$G$15:I$19,3,TRUE),IF(C205=11,VLOOKUP(U205,判定式!$H$15:I$19,2,TRUE))))))))","v":false}]
[57,null,null,"-",null,null,null,null,null,null,null,null,{"$f":"IF($E206=\"\",\"\",VLOOKUP($E206,判定式!$P$3:$W$12,8,TRUE))","v":""},{"$f":"IF($F206=\"\",\"\",VLOOKUP($F206,判定式!$Q$3:$W$12,7,TRUE))","v":""},{"$f":"IF($G206=\"\",\"\",VLOOKUP($G206,判定式!$R$3:$W$12,6,TRUE))","v":""},{"$f":"IF($H206=\"\",\"\",VLOOKUP($H206,判定式!$S$3:$W$12,5,TRUE))","v":""},{"$f":"IF($I206=\"\",\"\",VLOOKUP($I206,判定式!$V$3:$W$12,2,TRUE))","v":""},{"$f":"IF($J206=\"\",\"\",VLOOKUP($J206,判定式!$Y$3:$Z$12,2,TRUE))","v":""},{"$f":"IF($K206=\"\",\"\",VLOOKUP($K206,判定式!$T$3:$W$12,4,TRUE))","v":""},{"$f":"IF($L206=\"\",\"\",VLOOKUP($L206,判定式!$U$3:$W$12,3,TRUE))","v":""},"",{"$f":"IF(ISNUMBER(D206),\"判定外\",IF(C206=6,VLOOKUP(U206,判定式!$C$15:I$19,7,TRUE),IF(C206=7,VLOOKUP(U206,判定式!$D$15:I$19,6,TRUE),IF(C206=8,VLOOKUP(U206,判定式!$E$15:I$19,5,TRUE),IF(C206=9,VLOOKUP(U206,判定式!$F$15:I$19,4,TRUE),IF(C206=10,VLOOKUP(U206,判定式!$G$15:I$19,3,TRUE),IF(C206=11,VLOOKUP(U206,判定式!$H$15:I$19,2,TRUE))))))))","v":false}]
[58,null,null,"-",null,null,null,null,null,null,null,null,{"$f":"IF($E207=\"\",\"\",VLOOKUP($E207,判定式!$P$3:$W$12,8,TRUE))","v":""},{"$f":"IF($F207=\"\",\"\",VLOOKUP($F207,判定式!$Q$3:$W$12,7,TRUE))","v":""},{"$f":"IF($G207=\"\",\"\",VLOOKUP($G207,判定式!$R$3:$W$12,6,TRUE))","v":""},{"$f":"IF($H207=\"\",\"\",VLOOKUP($H207,判定式!$S$3:$W$12,5,TRUE))","v":""},{"$f":"IF($I207=\"\",\"\",VLOOKUP($I207,判定式!$V$3:$W$12,2,TRUE))","v":""},{"$f":"IF($J207=\"\",\"\",VLOOKUP($J207,判定式!$Y$3:$Z$12,2,TRUE))","v":""},{"$f":"IF($K207=\"\",\"\",VLOOKUP($K207,判定式!$T$3:$W$12,4,TRUE))","v":""},{"$f":"IF($L207=\"\",\"\",VLOOKUP($L207,判定式!$U$3:$W$12,3,TRUE))","v":""},"",{"$f":"IF(ISNUMBER(D207),\"判定外\",IF(C207=6,VLOOKUP(U207,判定式!$C$15:I$19,7,TRUE),IF(C207=7,VLOOKUP(U207,判定式!$D$15:I$19,6,TRUE),IF(C207=8,VLOOKUP(U207,判定式!$E$15:I$19,5,TRUE),IF(C207=9,VLOOKUP(U207,判定式!$F$15:I$19,4,TRUE),IF(C207=10,VLOOKUP(U207,判定式!$G$15:I$19,3,TRUE),IF(C207=11,VLOOKUP(U207,判定式!$H$15:I$19,2,TRUE))))))))","v":false}]
[59,null,null,"-",null,null,null,null,null,null,null,null,{"$f":"IF($E208=\"\",\"\",VLOOKUP($E208,判定式!$P$3:$W$12,8,TRUE))","v":""},{"$f":"IF($F208=\"\",\"\",VLOOKUP($F208,判定式!$Q$3:$W$12,7,TRUE))","v":""},{"$f":"IF($G208=\"\",\"\",VLOOKUP($G208,判定式!$R$3:$W$12,6,TRUE))","v":""},{"$f":"IF($H208=\"\",\"\",VLOOKUP($H208,判定式!$S$3:$W$12,5,TRUE))","v":""},{"$f":"IF($I208=\"\",\"\",VLOOKUP($I208,判定式!$V$3:$W$12,2,TRUE))","v":""},{"$f":"IF($J208=\"\",\"\",VLOOKUP($J208,判定式!$Y$3:$Z$12,2,TRUE))","v":""},{"$f":"IF($K208=\"\",\"\",VLOOKUP($K208,判定式!$T$3:$W$12,4,TRUE))","v":""},{"$f":"IF($L208=\"\",\"\",VLOOKUP($L208,判定式!$U$3:$W$12,3,TRUE))","v":""},"",{"$f":"IF(ISNUMBER(D208),\"判定外\",IF(C208=6,VLOOKUP(U208,判定式!$C$15:I$19,7,TRUE),IF(C208=7,VLOOKUP(U208,判定式!$D$15:I$19,6,TRUE),IF(C208=8,VLOOKUP(U208,判定式!$E$15:I$19,5,TRUE),IF(C208=9,VLOOKUP(U208,判定式!$F$15:I$19,4,TRUE),IF(C208=10,VLOOKUP(U208,判定式!$G$15:I$19,3,TRUE),IF(C208=11,VLOOKUP(U208,判定式!$H$15:I$19,2,TRUE))))))))","v":false}]
[60,null,null,"-",null,null,null,null,null,null,null,null,{"$f":"IF($E209=\"\",\"\",VLOOKUP($E209,判定式!$P$3:$W$12,8,TRUE))","v":""},{"$f":"IF($F209=\"\",\"\",VLOOKUP($F209,判定式!$Q$3:$W$12,7,TRUE))","v":""},{"$f":"IF($G209=\"\",\"\",VLOOKUP($G209,判定式!$R$3:$W$12,6,TRUE))","v":""},{"$f":"IF($H209=\"\",\"\",VLOOKUP($H209,判定式!$S$3:$W$12,5,TRUE))","v":""},{"$f":"IF($I209=\"\",\"\",VLOOKUP($I209,判定式!$V$3:$W$12,2,TRUE))","v":""},{"$f":"IF($J209=\"\",\"\",VLOOKUP($J209,判定式!$Y$3:$Z$12,2,TRUE))","v":""},{"$f":"IF($K209=\"\",\"\",VLOOKUP($K209,判定式!$T$3:$W$12,4,TRUE))","v":""},{"$f":"IF($L209=\"\",\"\",VLOOKUP($L209,判定式!$U$3:$W$12,3,TRUE))","v":""},"",{"$f":"IF(ISNUMBER(D209),\"判定外\",IF(C209=6,VLOOKUP(U209,判定式!$C$15:I$19,7,TRUE),IF(C209=7,VLOOKUP(U209,判定式!$D$15:I$19,6,TRUE),IF(C209=8,VLOOKUP(U209,判定式!$E$15:I$19,5,TRUE),IF(C209=9,VLOOKUP(U209,判定式!$F$15:I$19,4,TRUE),IF(C209=10,VLOOKUP(U209,判定式!$G$15:I$19,3,TRUE),IF(C209=11,VLOOKUP(U209,判定式!$H$15:I$19,2,TRUE))))))))","v":false}]
[61,null,null,"-",null,null,null,null,null,null,null,null,{"$f":"IF($E210=\"\",\"\",VLOOKUP($E210,判定式!$P$3:$W$12,8,TRUE))","v":""},{"$f":"IF($F210=\"\",\"\",VLOOKUP($F210,判定式!$Q$3:$W$12,7,TRUE))","v":""},{"$f":"IF($G210=\"\",\"\",VLOOKUP($G210,判定式!$R$3:$W$12,6,TRUE))","v":""},{"$f":"IF($H210=\"\",\"\",VLOOKUP($H210,判定式!$S$3:$W$12,5,TRUE))","v":""},{"$f":"IF($I210=\"\",\"\",VLOOKUP($I210,判定式!$V$3:$W$12,2,TRUE))","v":""},{"$f":"IF($J210=\"\",\"\",VLOOKUP($J210,判定式!$Y$3:$Z$12,2,TRUE))","v":""},{"$f":"IF($K210=\"\",\"\",VLOOKUP($K210,判定式!$T$3:$W$12,4,TRUE))","v":""},{"$f":"IF($L210=\"\",\"\",VLOOKUP($L210,判定式!$U$3:$W$12,3,TRUE))","v":""},"",{"$f":"IF(ISNUMBER(D210),\"判定外\",IF(C210=6,VLOOKUP(U210,判定式!$C$15:I$19,7,TRUE),IF(C210=7,VLOOKUP(U210,判定式!$D$15:I$19,6,TRUE),IF(C210=8,VLOOKUP(U210,判定式!$E$15:I$19,5,TRUE),IF(C210=9,VLOOKUP(U210,判定式!$F$15:I$19,4,TRUE),IF(C210=10,VLOOKUP(U210,判定式!$G$15:I$19,3,TRUE),IF(C210=11,VLOOKUP(U210,判定式!$H$15:I$19,2,TRUE))))))))","v":false}]
[62,null,null,"-",null,null,null,null,null,null,null,null,{"$f":"IF($E211=\"\",\"\",VLOOKUP($E211,判定式!$P$3:$W$12,8,TRUE))","v":""},{"$f":"IF($F211=\"\",\"\",VLOOKUP($F211,判定式!$Q$3:$W$12,7,TRUE))","v":""},{"$f":"IF($G211=\"\",\"\",VLOOKUP($G211,判定式!$R$3:$W$12,6,TRUE))","v":""},{"$f":"IF($H211=\"\",\"\",VLOOKUP($H211,判定式!$S$3:$W$12,5,TRUE))","v":""},{"$f":"IF($I211=\"\",\"\",VLOOKUP($I211,判定式!$V$3:$W$12,2,TRUE))","v":""},{"$f":"IF($J211=\"\",\"\",VLOOKUP($J211,判定式!$Y$3:$Z$12,2,TRUE))","v":""},{"$f":"IF($K211=\"\",\"\",VLOOKUP($K211,判定式!$T$3:$W$12,4,TRUE))","v":""},{"$f":"IF($L211=\"\",\"\",VLOOKUP($L211,判定式!$U$3:$W$12,3,TRUE))","v":""},"",{"$f":"IF(ISNUMBER(D211),\"判定外\",IF(C211=6,VLOOKUP(U211,判定式!$C$15:I$19,7,TRUE),IF(C211=7,VLOOKUP(U211,判定式!$D$15:I$19,6,TRUE),IF(C211=8,VLOOKUP(U211,判定式!$E$15:I$19,5,TRUE),IF(C211=9,VLOOKUP(U211,判定式!$F$15:I$19,4,TRUE),IF(C211=10,VLOOKUP(U211,判定式!$G$15:I$19,3,TRUE),IF(C211=11,VLOOKUP(U211,判定式!$H$15:I$19,2,TRUE))))))))","v":false}]
[63,null,null,"-",null,null,null,null,null,null,null,null,{"$f":"IF($E212=\"\",\"\",VLOOKUP($E212,判定式!$P$3:$W$12,8,TRUE))","v":""},{"$f":"IF($F212=\"\",\"\",VLOOKUP($F212,判定式!$Q$3:$W$12,7,TRUE))","v":""},{"$f":"IF($G212=\"\",\"\",VLOOKUP($G212,判定式!$R$3:$W$12,6,TRUE))","v":""},{"$f":"IF($H212=\"\",\"\",VLOOKUP($H212,判定式!$S$3:$W$12,5,TRUE))","v":""},{"$f":"IF($I212=\"\",\"\",VLOOKUP($I212,判定式!$V$3:$W$12,2,TRUE))","v":""},{"$f":"IF($J212=\"\",\"\",VLOOKUP($J212,判定式!$Y$3:$Z$12,2,TRUE))","v":""},{"$f":"IF($K212=\"\",\"\",VLOOKUP($K212,判定式!$T$3:$W$12,4,TRUE))","v":""},{"$f":"IF($L212=\"\",\"\",VLOOKUP($L212,判定式!$U$3:$W$12,3,TRUE))","v":""},"",{"$f":"IF(ISNUMBER(D212),\"判定外\",IF(C212=6,VLOOKUP(U212,判定式!$C$15:I$19,7,TRUE),IF(C212=7,VLOOKUP(U212,判定式!$D$15:I$19,6,TRUE),IF(C212=8,VLOOKUP(U212,判定式!$E$15:I$19,5,TRUE),IF(C212=9,VLOOKUP(U212,判定式!$F$15:I$19,4,TRUE),IF(C212=10,VLOOKUP(U212,判定式!$G$15:I$19,3,TRUE),IF(C212=11,VLOOKUP(U212,判定式!$H$15:I$19,2,TRUE))))))))","v":false}]
[64,null,null,"-",null,null,null,null,null,null,null,null,{"$f":"IF($E213=\"\",\"\",VLOOKUP($E213,判定式!$P$3:$W$12,8,TRUE))","v":""},{"$f":"IF($F213=\"\",\"\",VLOOKUP($F213,判定式!$Q$3:$W$12,7,TRUE))","v":""},{"$f":"IF($G213=\"\",\"\",VLOOKUP($G213,判定式!$R$3:$W$12,6,TRUE))","v":""},{"$f":"IF($H213=\"\",\"\",VLOOKUP($H213,判定式!$S$3:$W$12,5,TRUE))","v":""},{"$f":"IF($I213=\"\",\"\",VLOOKUP($I213,判定式!$V$3:$W$12,2,TRUE))","v":""},{"$f":"IF($J213=\"\",\"\",VLOOKUP($J213,判定式!$Y$3:$Z$12,2,TRUE))","v":""},{"$f":"IF($K213=\"\",\"\",VLOOKUP($K213,判定式!$T$3:$W$12,4,TRUE))","v":""},{"$f":"IF($L213=\"\",\"\",VLOOKUP($L213,判定式!$U$3:$W$12,3,TRUE))","v":""},"",{"$f":"IF(ISNUMBER(D213),\"判定外\",IF(C213=6,VLOOKUP(U213,判定式!$C$15:I$19,7,TRUE),IF(C213=7,VLOOKUP(U213,判定式!$D$15:I$19,6,TRUE),IF(C213=8,VLOOKUP(U213,判定式!$E$15:I$19,5,TRUE),IF(C213=9,VLOOKUP(U213,判定式!$F$15:I$19,4,TRUE),IF(C213=10,VLOOKUP(U213,判定式!$G$15:I$19,3,TRUE),IF(C213=11,VLOOKUP(U213,判定式!$H$15:I$19,2,TRUE))))))))","v":false}]
[65,null,null,{"$f":"IF(COUNTBLANK(E214:L214)=0,\"\",IF(COUNTBLANK(E214:L214)=8,\"-\",COUNTBLANK(E214:L214)))","v":"-"},null,null,null,null,null,null,null,null,{"$f":"IF($E214=\"\",\"\",VLOOKUP($E214,判定式!$P$3:$W$12,8,TRUE))","v":""},{"$f":"IF($F214=\"\",\"\",VLOOKUP($F214,判定式!$Q$3:$W$12,7,TRUE))","v":""},{"$f":"IF($G214=\"\",\"\",VLOOKUP($G214,判定式!$R$3:$W$12,6,TRUE))","v":""},{"$f":"IF($H214=\"\",\"\",VLOOKUP($H214,判定式!$S$3:$W$12,5,TRUE))","v":""},{"$f":"IF($I214=\"\",\"\",VLOOKUP($I214,判定式!$V$3:$W$12,2,TRUE))","v":""},{"$f":"IF($J214=\"\",\"\",VLOOKUP($J214,判定式!$Y$3:$Z$12,2,TRUE))","v":""},{"$f":"IF($K214=\"\",\"\",VLOOKUP($K214,判定式!$T$3:$W$12,4,TRUE))","v":""},{"$f":"IF($L214=\"\",\"\",VLOOKUP($L214,判定式!$U$3:$W$12,3,TRUE))","v":""},{"$f":"IF(COUNTBLANK(M214:T214)=0,SUM(M214:T214),\"\")","v":""},{"$f":"IF(ISNUMBER(D214),\"判定外\",IF(C214=6,VLOOKUP(U214,判定式!$C$15:I$19,7,TRUE),IF(C214=7,VLOOKUP(U214,判定式!$D$15:I$19,6,TRUE),IF(C214=8,VLOOKUP(U214,判定式!$E$15:I$19,5,TRUE),IF(C214=9,VLOOKUP(U214,判定式!$F$15:I$19,4,TRUE),IF(C214=10,VLOOKUP(U214,判定式!$G$15:I$19,3,TRUE),IF(C214=11,VLOOKUP(U214,判定式!$H$15:I$19,2,TRUE))))))))","v":false}]
[66,null,null,"-",null,null,null,null,null,null,null,null,{"$f":"IF($E215=\"\",\"\",VLOOKUP($E215,判定式!$P$3:$W$12,8,TRUE))","v":""},{"$f":"IF($F215=\"\",\"\",VLOOKUP($F215,判定式!$Q$3:$W$12,7,TRUE))","v":""},{"$f":"IF($G215=\"\",\"\",VLOOKUP($G215,判定式!$R$3:$W$12,6,TRUE))","v":""},{"$f":"IF($H215=\"\",\"\",VLOOKUP($H215,判定式!$S$3:$W$12,5,TRUE))","v":""},{"$f":"IF($I215=\"\",\"\",VLOOKUP($I215,判定式!$V$3:$W$12,2,TRUE))","v":""},{"$f":"IF($J215=\"\",\"\",VLOOKUP($J215,判定式!$Y$3:$Z$12,2,TRUE))","v":""},{"$f":"IF($K215=\"\",\"\",VLOOKUP($K215,判定式!$T$3:$W$12,4,TRUE))","v":""},{"$f":"IF($L215=\"\",\"\",VLOOKUP($L215,判定式!$U$3:$W$12,3,TRUE))","v":""},"",{"$f":"IF(ISNUMBER(D215),\"判定外\",IF(C215=6,VLOOKUP(U215,判定式!$C$15:I$19,7,TRUE),IF(C215=7,VLOOKUP(U215,判定式!$D$15:I$19,6,TRUE),IF(C215=8,VLOOKUP(U215,判定式!$E$15:I$19,5,TRUE),IF(C215=9,VLOOKUP(U215,判定式!$F$15:I$19,4,TRUE),IF(C215=10,VLOOKUP(U215,判定式!$G$15:I$19,3,TRUE),IF(C215=11,VLOOKUP(U215,判定式!$H$15:I$19,2,TRUE))))))))","v":false}]
[67,null,null,"-",null,null,null,null,null,null,null,null,{"$f":"IF($E216=\"\",\"\",VLOOKUP($E216,判定式!$P$3:$W$12,8,TRUE))","v":""},{"$f":"IF($F216=\"\",\"\",VLOOKUP($F216,判定式!$Q$3:$W$12,7,TRUE))","v":""},{"$f":"IF($G216=\"\",\"\",VLOOKUP($G216,判定式!$R$3:$W$12,6,TRUE))","v":""},{"$f":"IF($H216=\"\",\"\",VLOOKUP($H216,判定式!$S$3:$W$12,5,TRUE))","v":""},{"$f":"IF($I216=\"\",\"\",VLOOKUP($I216,判定式!$V$3:$W$12,2,TRUE))","v":""},{"$f":"IF($J216=\"\",\"\",VLOOKUP($J216,判定式!$Y$3:$Z$12,2,TRUE))","v":""},{"$f":"IF($K216=\"\",\"\",VLOOKUP($K216,判定式!$T$3:$W$12,4,TRUE))","v":""},{"$f":"IF($L216=\"\",\"\",VLOOKUP($L216,判定式!$U$3:$W$12,3,TRUE))","v":""},"",{"$f":"IF(ISNUMBER(D216),\"判定外\",IF(C216=6,VLOOKUP(U216,判定式!$C$15:I$19,7,TRUE),IF(C216=7,VLOOKUP(U216,判定式!$D$15:I$19,6,TRUE),IF(C216=8,VLOOKUP(U216,判定式!$E$15:I$19,5,TRUE),IF(C216=9,VLOOKUP(U216,判定式!$F$15:I$19,4,TRUE),IF(C216=10,VLOOKUP(U216,判定式!$G$15:I$19,3,TRUE),IF(C216=11,VLOOKUP(U216,判定式!$H$15:I$19,2,TRUE))))))))","v":false}]
[68,null,null,"-",null,null,null,null,null,null,null,null,{"$f":"IF($E217=\"\",\"\",VLOOKUP($E217,判定式!$P$3:$W$12,8,TRUE))","v":""},{"$f":"IF($F217=\"\",\"\",VLOOKUP($F217,判定式!$Q$3:$W$12,7,TRUE))","v":""},{"$f":"IF($G217=\"\",\"\",VLOOKUP($G217,判定式!$R$3:$W$12,6,TRUE))","v":""},{"$f":"IF($H217=\"\",\"\",VLOOKUP($H217,判定式!$S$3:$W$12,5,TRUE))","v":""},{"$f":"IF($I217=\"\",\"\",VLOOKUP($I217,判定式!$V$3:$W$12,2,TRUE))","v":""},{"$f":"IF($J217=\"\",\"\",VLOOKUP($J217,判定式!$Y$3:$Z$12,2,TRUE))","v":""},{"$f":"IF($K217=\"\",\"\",VLOOKUP($K217,判定式!$T$3:$W$12,4,TRUE))","v":""},{"$f":"IF($L217=\"\",\"\",VLOOKUP($L217,判定式!$U$3:$W$12,3,TRUE))","v":""},"",{"$f":"IF(ISNUMBER(D217),\"判定外\",IF(C217=6,VLOOKUP(U217,判定式!$C$15:I$19,7,TRUE),IF(C217=7,VLOOKUP(U217,判定式!$D$15:I$19,6,TRUE),IF(C217=8,VLOOKUP(U217,判定式!$E$15:I$19,5,TRUE),IF(C217=9,VLOOKUP(U217,判定式!$F$15:I$19,4,TRUE),IF(C217=10,VLOOKUP(U217,判定式!$G$15:I$19,3,TRUE),IF(C217=11,VLOOKUP(U217,判定式!$H$15:I$19,2,TRUE))))))))","v":false}]
[69,null,null,"-",null,null,null,null,null,null,null,null,{"$f":"IF($E218=\"\",\"\",VLOOKUP($E218,判定式!$P$3:$W$12,8,TRUE))","v":""},{"$f":"IF($F218=\"\",\"\",VLOOKUP($F218,判定式!$Q$3:$W$12,7,TRUE))","v":""},{"$f":"IF($G218=\"\",\"\",VLOOKUP($G218,判定式!$R$3:$W$12,6,TRUE))","v":""},{"$f":"IF($H218=\"\",\"\",VLOOKUP($H218,判定式!$S$3:$W$12,5,TRUE))","v":""},{"$f":"IF($I218=\"\",\"\",VLOOKUP($I218,判定式!$V$3:$W$12,2,TRUE))","v":""},{"$f":"IF($J218=\"\",\"\",VLOOKUP($J218,判定式!$Y$3:$Z$12,2,TRUE))","v":""},{"$f":"IF($K218=\"\",\"\",VLOOKUP($K218,判定式!$T$3:$W$12,4,TRUE))","v":""},{"$f":"IF($L218=\"\",\"\",VLOOKUP($L218,判定式!$U$3:$W$12,3,TRUE))","v":""},"",{"$f":"IF(ISNUMBER(D218),\"判定外\",IF(C218=6,VLOOKUP(U218,判定式!$C$15:I$19,7,TRUE),IF(C218=7,VLOOKUP(U218,判定式!$D$15:I$19,6,TRUE),IF(C218=8,VLOOKUP(U218,判定式!$E$15:I$19,5,TRUE),IF(C218=9,VLOOKUP(U218,判定式!$F$15:I$19,4,TRUE),IF(C218=10,VLOOKUP(U218,判定式!$G$15:I$19,3,TRUE),IF(C218=11,VLOOKUP(U218,判定式!$H$15:I$19,2,TRUE))))))))","v":false}]
[70,null,null,"-",null,null,null,null,null,null,null,null,{"$f":"IF($E219=\"\",\"\",VLOOKUP($E219,判定式!$P$3:$W$12,8,TRUE))","v":""},{"$f":"IF($F219=\"\",\"\",VLOOKUP($F219,判定式!$Q$3:$W$12,7,TRUE))","v":""},{"$f":"IF($G219=\"\",\"\",VLOOKUP($G219,判定式!$R$3:$W$12,6,TRUE))","v":""},{"$f":"IF($H219=\"\",\"\",VLOOKUP($H219,判定式!$S$3:$W$12,5,TRUE))","v":""},{"$f":"IF($I219=\"\",\"\",VLOOKUP($I219,判定式!$V$3:$W$12,2,TRUE))","v":""},{"$f":"IF($J219=\"\",\"\",VLOOKUP($J219,判定式!$Y$3:$Z$12,2,TRUE))","v":""},{"$f":"IF($K219=\"\",\"\",VLOOKUP($K219,判定式!$T$3:$W$12,4,TRUE))","v":""},{"$f":"IF($L219=\"\",\"\",VLOOKUP($L219,判定式!$U$3:$W$12,3,TRUE))","v":""},"",{"$f":"IF(ISNUMBER(D219),\"判定外\",IF(C219=6,VLOOKUP(U219,判定式!$C$15:I$19,7,TRUE),IF(C219=7,VLOOKUP(U219,判定式!$D$15:I$19,6,TRUE),IF(C219=8,VLOOKUP(U219,判定式!$E$15:I$19,5,TRUE),IF(C219=9,VLOOKUP(U219,判定式!$F$15:I$19,4,TRUE),IF(C219=10,VLOOKUP(U219,判定式!$G$15:I$19,3,TRUE),IF(C219=11,VLOOKUP(U219,判定式!$H$15:I$19,2,TRUE))))))))","v":false}]
[71,null,null,"-",null,null,null,null,null,null,null,null,{"$f":"IF($E220=\"\",\"\",VLOOKUP($E220,判定式!$P$3:$W$12,8,TRUE))","v":""},{"$f":"IF($F220=\"\",\"\",VLOOKUP($F220,判定式!$Q$3:$W$12,7,TRUE))","v":""},{"$f":"IF($G220=\"\",\"\",VLOOKUP($G220,判定式!$R$3:$W$12,6,TRUE))","v":""},{"$f":"IF($H220=\"\",\"\",VLOOKUP($H220,判定式!$S$3:$W$12,5,TRUE))","v":""},{"$f":"IF($I220=\"\",\"\",VLOOKUP($I220,判定式!$V$3:$W$12,2,TRUE))","v":""},{"$f":"IF($J220=\"\",\"\",VLOOKUP($J220,判定式!$Y$3:$Z$12,2,TRUE))","v":""},{"$f":"IF($K220=\"\",\"\",VLOOKUP($K220,判定式!$T$3:$W$12,4,TRUE))","v":""},{"$f":"IF($L220=\"\",\"\",VLOOKUP($L220,判定式!$U$3:$W$12,3,TRUE))","v":""},"",{"$f":"IF(ISNUMBER(D220),\"判定外\",IF(C220=6,VLOOKUP(U220,判定式!$C$15:I$19,7,TRUE),IF(C220=7,VLOOKUP(U220,判定式!$D$15:I$19,6,TRUE),IF(C220=8,VLOOKUP(U220,判定式!$E$15:I$19,5,TRUE),IF(C220=9,VLOOKUP(U220,判定式!$F$15:I$19,4,TRUE),IF(C220=10,VLOOKUP(U220,判定式!$G$15:I$19,3,TRUE),IF(C220=11,VLOOKUP(U220,判定式!$H$15:I$19,2,TRUE))))))))","v":false}]
[72,null,null,"-",null,null,null,null,null,null,null,null,{"$f":"IF($E221=\"\",\"\",VLOOKUP($E221,判定式!$P$3:$W$12,8,TRUE))","v":""},{"$f":"IF($F221=\"\",\"\",VLOOKUP($F221,判定式!$Q$3:$W$12,7,TRUE))","v":""},{"$f":"IF($G221=\"\",\"\",VLOOKUP($G221,判定式!$R$3:$W$12,6,TRUE))","v":""},{"$f":"IF($H221=\"\",\"\",VLOOKUP($H221,判定式!$S$3:$W$12,5,TRUE))","v":""},{"$f":"IF($I221=\"\",\"\",VLOOKUP($I221,判定式!$V$3:$W$12,2,TRUE))","v":""},{"$f":"IF($J221=\"\",\"\",VLOOKUP($J221,判定式!$Y$3:$Z$12,2,TRUE))","v":""},{"$f":"IF($K221=\"\",\"\",VLOOKUP($K221,判定式!$T$3:$W$12,4,TRUE))","v":""},{"$f":"IF($L221=\"\",\"\",VLOOKUP($L221,判定式!$U$3:$W$12,3,TRUE))","v":""},"",{"$f":"IF(ISNUMBER(D221),\"判定外\",IF(C221=6,VLOOKUP(U221,判定式!$C$15:I$19,7,TRUE),IF(C221=7,VLOOKUP(U221,判定式!$D$15:I$19,6,TRUE),IF(C221=8,VLOOKUP(U221,判定式!$E$15:I$19,5,TRUE),IF(C221=9,VLOOKUP(U221,判定式!$F$15:I$19,4,TRUE),IF(C221=10,VLOOKUP(U221,判定式!$G$15:I$19,3,TRUE),IF(C221=11,VLOOKUP(U221,判定式!$H$15:I$19,2,TRUE))))))))","v":false}]
[73,null,null,"-",null,null,null,null,null,null,null,null,{"$f":"IF($E222=\"\",\"\",VLOOKUP($E222,判定式!$P$3:$W$12,8,TRUE))","v":""},{"$f":"IF($F222=\"\",\"\",VLOOKUP($F222,判定式!$Q$3:$W$12,7,TRUE))","v":""},{"$f":"IF($G222=\"\",\"\",VLOOKUP($G222,判定式!$R$3:$W$12,6,TRUE))","v":""},{"$f":"IF($H222=\"\",\"\",VLOOKUP($H222,判定式!$S$3:$W$12,5,TRUE))","v":""},{"$f":"IF($I222=\"\",\"\",VLOOKUP($I222,判定式!$V$3:$W$12,2,TRUE))","v":""},{"$f":"IF($J222=\"\",\"\",VLOOKUP($J222,判定式!$Y$3:$Z$12,2,TRUE))","v":""},{"$f":"IF($K222=\"\",\"\",VLOOKUP($K222,判定式!$T$3:$W$12,4,TRUE))","v":""},{"$f":"IF($L222=\"\",\"\",VLOOKUP($L222,判定式!$U$3:$W$12,3,TRUE))","v":""},"",{"$f":"IF(ISNUMBER(D222),\"判定外\",IF(C222=6,VLOOKUP(U222,判定式!$C$15:I$19,7,TRUE),IF(C222=7,VLOOKUP(U222,判定式!$D$15:I$19,6,TRUE),IF(C222=8,VLOOKUP(U222,判定式!$E$15:I$19,5,TRUE),IF(C222=9,VLOOKUP(U222,判定式!$F$15:I$19,4,TRUE),IF(C222=10,VLOOKUP(U222,判定式!$G$15:I$19,3,TRUE),IF(C222=11,VLOOKUP(U222,判定式!$H$15:I$19,2,TRUE))))))))","v":false}]
[74,null,null,"-",null,null,null,null,null,null,null,null,{"$f":"IF($E223=\"\",\"\",VLOOKUP($E223,判定式!$P$3:$W$12,8,TRUE))","v":""},{"$f":"IF($F223=\"\",\"\",VLOOKUP($F223,判定式!$Q$3:$W$12,7,TRUE))","v":""},{"$f":"IF($G223=\"\",\"\",VLOOKUP($G223,判定式!$R$3:$W$12,6,TRUE))","v":""},{"$f":"IF($H223=\"\",\"\",VLOOKUP($H223,判定式!$S$3:$W$12,5,TRUE))","v":""},{"$f":"IF($I223=\"\",\"\",VLOOKUP($I223,判定式!$V$3:$W$12,2,TRUE))","v":""},{"$f":"IF($J223=\"\",\"\",VLOOKUP($J223,判定式!$Y$3:$Z$12,2,TRUE))","v":""},{"$f":"IF($K223=\"\",\"\",VLOOKUP($K223,判定式!$T$3:$W$12,4,TRUE))","v":""},{"$f":"IF($L223=\"\",\"\",VLOOKUP($L223,判定式!$U$3:$W$12,3,TRUE))","v":""},"",{"$f":"IF(ISNUMBER(D223),\"判定外\",IF(C223=6,VLOOKUP(U223,判定式!$C$15:I$19,7,TRUE),IF(C223=7,VLOOKUP(U223,判定式!$D$15:I$19,6,TRUE),IF(C223=8,VLOOKUP(U223,判定式!$E$15:I$19,5,TRUE),IF(C223=9,VLOOKUP(U223,判定式!$F$15:I$19,4,TRUE),IF(C223=10,VLOOKUP(U223,判定式!$G$15:I$19,3,TRUE),IF(C223=11,VLOOKUP(U223,判定式!$H$15:I$19,2,TRUE))))))))","v":false}]
[75,null,null,"-",null,null,null,null,null,null,null,null,{"$f":"IF($E224=\"\",\"\",VLOOKUP($E224,判定式!$P$3:$W$12,8,TRUE))","v":""},{"$f":"IF($F224=\"\",\"\",VLOOKUP($F224,判定式!$Q$3:$W$12,7,TRUE))","v":""},{"$f":"IF($G224=\"\",\"\",VLOOKUP($G224,判定式!$R$3:$W$12,6,TRUE))","v":""},{"$f":"IF($H224=\"\",\"\",VLOOKUP($H224,判定式!$S$3:$W$12,5,TRUE))","v":""},{"$f":"IF($I224=\"\",\"\",VLOOKUP($I224,判定式!$V$3:$W$12,2,TRUE))","v":""},{"$f":"IF($J224=\"\",\"\",VLOOKUP($J224,判定式!$Y$3:$Z$12,2,TRUE))","v":""},{"$f":"IF($K224=\"\",\"\",VLOOKUP($K224,判定式!$T$3:$W$12,4,TRUE))","v":""},{"$f":"IF($L224=\"\",\"\",VLOOKUP($L224,判定式!$U$3:$W$12,3,TRUE))","v":""},"",{"$f":"IF(ISNUMBER(D224),\"判定外\",IF(C224=6,VLOOKUP(U224,判定式!$C$15:I$19,7,TRUE),IF(C224=7,VLOOKUP(U224,判定式!$D$15:I$19,6,TRUE),IF(C224=8,VLOOKUP(U224,判定式!$E$15:I$19,5,TRUE),IF(C224=9,VLOOKUP(U224,判定式!$F$15:I$19,4,TRUE),IF(C224=10,VLOOKUP(U224,判定式!$G$15:I$19,3,TRUE),IF(C224=11,VLOOKUP(U224,判定式!$H$15:I$19,2,TRUE))))))))","v":false}]
[76,null,null,"-",null,null,null,null,null,null,null,null,{"$f":"IF($E225=\"\",\"\",VLOOKUP($E225,判定式!$P$3:$W$12,8,TRUE))","v":""},{"$f":"IF($F225=\"\",\"\",VLOOKUP($F225,判定式!$Q$3:$W$12,7,TRUE))","v":""},{"$f":"IF($G225=\"\",\"\",VLOOKUP($G225,判定式!$R$3:$W$12,6,TRUE))","v":""},{"$f":"IF($H225=\"\",\"\",VLOOKUP($H225,判定式!$S$3:$W$12,5,TRUE))","v":""},{"$f":"IF($I225=\"\",\"\",VLOOKUP($I225,判定式!$V$3:$W$12,2,TRUE))","v":""},{"$f":"IF($J225=\"\",\"\",VLOOKUP($J225,判定式!$Y$3:$Z$12,2,TRUE))","v":""},{"$f":"IF($K225=\"\",\"\",VLOOKUP($K225,判定式!$T$3:$W$12,4,TRUE))","v":""},{"$f":"IF($L225=\"\",\"\",VLOOKUP($L225,判定式!$U$3:$W$12,3,TRUE))","v":""},"",{"$f":"IF(ISNUMBER(D225),\"判定外\",IF(C225=6,VLOOKUP(U225,判定式!$C$15:I$19,7,TRUE),IF(C225=7,VLOOKUP(U225,判定式!$D$15:I$19,6,TRUE),IF(C225=8,VLOOKUP(U225,判定式!$E$15:I$19,5,TRUE),IF(C225=9,VLOOKUP(U225,判定式!$F$15:I$19,4,TRUE),IF(C225=10,VLOOKUP(U225,判定式!$G$15:I$19,3,TRUE),IF(C225=11,VLOOKUP(U225,判定式!$H$15:I$19,2,TRUE))))))))","v":false}]
[77,null,null,"-",null,null,null,null,null,null,null,null,{"$f":"IF($E226=\"\",\"\",VLOOKUP($E226,判定式!$P$3:$W$12,8,TRUE))","v":""},{"$f":"IF($F226=\"\",\"\",VLOOKUP($F226,判定式!$Q$3:$W$12,7,TRUE))","v":""},{"$f":"IF($G226=\"\",\"\",VLOOKUP($G226,判定式!$R$3:$W$12,6,TRUE))","v":""},{"$f":"IF($H226=\"\",\"\",VLOOKUP($H226,判定式!$S$3:$W$12,5,TRUE))","v":""},{"$f":"IF($I226=\"\",\"\",VLOOKUP($I226,判定式!$V$3:$W$12,2,TRUE))","v":""},{"$f":"IF($J226=\"\",\"\",VLOOKUP($J226,判定式!$Y$3:$Z$12,2,TRUE))","v":""},{"$f":"IF($K226=\"\",\"\",VLOOKUP($K226,判定式!$T$3:$W$12,4,TRUE))","v":""},{"$f":"IF($L226=\"\",\"\",VLOOKUP($L226,判定式!$U$3:$W$12,3,TRUE))","v":""},"",{"$f":"IF(ISNUMBER(D226),\"判定外\",IF(C226=6,VLOOKUP(U226,判定式!$C$15:I$19,7,TRUE),IF(C226=7,VLOOKUP(U226,判定式!$D$15:I$19,6,TRUE),IF(C226=8,VLOOKUP(U226,判定式!$E$15:I$19,5,TRUE),IF(C226=9,VLOOKUP(U226,判定式!$F$15:I$19,4,TRUE),IF(C226=10,VLOOKUP(U226,判定式!$G$15:I$19,3,TRUE),IF(C226=11,VLOOKUP(U226,判定式!$H$15:I$19,2,TRUE))))))))","v":false}]
[78,null,null,"-",null,null,null,null,null,null,null,null,{"$f":"IF($E227=\"\",\"\",VLOOKUP($E227,判定式!$P$3:$W$12,8,TRUE))","v":""},{"$f":"IF($F227=\"\",\"\",VLOOKUP($F227,判定式!$Q$3:$W$12,7,TRUE))","v":""},{"$f":"IF($G227=\"\",\"\",VLOOKUP($G227,判定式!$R$3:$W$12,6,TRUE))","v":""},{"$f":"IF($H227=\"\",\"\",VLOOKUP($H227,判定式!$S$3:$W$12,5,TRUE))","v":""},{"$f":"IF($I227=\"\",\"\",VLOOKUP($I227,判定式!$V$3:$W$12,2,TRUE))","v":""},{"$f":"IF($J227=\"\",\"\",VLOOKUP($J227,判定式!$Y$3:$Z$12,2,TRUE))","v":""},{"$f":"IF($K227=\"\",\"\",VLOOKUP($K227,判定式!$T$3:$W$12,4,TRUE))","v":""},{"$f":"IF($L227=\"\",\"\",VLOOKUP($L227,判定式!$U$3:$W$12,3,TRUE))","v":""},"",{"$f":"IF(ISNUMBER(D227),\"判定外\",IF(C227=6,VLOOKUP(U227,判定式!$C$15:I$19,7,TRUE),IF(C227=7,VLOOKUP(U227,判定式!$D$15:I$19,6,TRUE),IF(C227=8,VLOOKUP(U227,判定式!$E$15:I$19,5,TRUE),IF(C227=9,VLOOKUP(U227,判定式!$F$15:I$19,4,TRUE),IF(C227=10,VLOOKUP(U227,判定式!$G$15:I$19,3,TRUE),IF(C227=11,VLOOKUP(U227,判定式!$H$15:I$19,2,TRUE))))))))","v":false}]
[79,null,null,"-",null,null,null,null,null,null,null,null,{"$f":"IF($E228=\"\",\"\",VLOOKUP($E228,判定式!$P$3:$W$12,8,TRUE))","v":""},{"$f":"IF($F228=\"\",\"\",VLOOKUP($F228,判定式!$Q$3:$W$12,7,TRUE))","v":""},{"$f":"IF($G228=\"\",\"\",VLOOKUP($G228,判定式!$R$3:$W$12,6,TRUE))","v":""},{"$f":"IF($H228=\"\",\"\",VLOOKUP($H228,判定式!$S$3:$W$12,5,TRUE))","v":""},{"$f":"IF($I228=\"\",\"\",VLOOKUP($I228,判定式!$V$3:$W$12,2,TRUE))","v":""},{"$f":"IF($J228=\"\",\"\",VLOOKUP($J228,判定式!$Y$3:$Z$12,2,TRUE))","v":""},{"$f":"IF($K228=\"\",\"\",VLOOKUP($K228,判定式!$T$3:$W$12,4,TRUE))","v":""},{"$f":"IF($L228=\"\",\"\",VLOOKUP($L228,判定式!$U$3:$W$12,3,TRUE))","v":""},"",{"$f":"IF(ISNUMBER(D228),\"判定外\",IF(C228=6,VLOOKUP(U228,判定式!$C$15:I$19,7,TRUE),IF(C228=7,VLOOKUP(U228,判定式!$D$15:I$19,6,TRUE),IF(C228=8,VLOOKUP(U228,判定式!$E$15:I$19,5,TRUE),IF(C228=9,VLOOKUP(U228,判定式!$F$15:I$19,4,TRUE),IF(C228=10,VLOOKUP(U228,判定式!$G$15:I$19,3,TRUE),IF(C228=11,VLOOKUP(U228,判定式!$H$15:I$19,2,TRUE))))))))","v":false}]
[80,null,null,"-",null,null,null,null,null,null,null,null,{"$f":"IF($E229=\"\",\"\",VLOOKUP($E229,判定式!$P$3:$W$12,8,TRUE))","v":""},{"$f":"IF($F229=\"\",\"\",VLOOKUP($F229,判定式!$Q$3:$W$12,7,TRUE))","v":""},{"$f":"IF($G229=\"\",\"\",VLOOKUP($G229,判定式!$R$3:$W$12,6,TRUE))","v":""},{"$f":"IF($H229=\"\",\"\",VLOOKUP($H229,判定式!$S$3:$W$12,5,TRUE))","v":""},{"$f":"IF($I229=\"\",\"\",VLOOKUP($I229,判定式!$V$3:$W$12,2,TRUE))","v":""},{"$f":"IF($J229=\"\",\"\",VLOOKUP($J229,判定式!$Y$3:$Z$12,2,TRUE))","v":""},{"$f":"IF($K229=\"\",\"\",VLOOKUP($K229,判定式!$T$3:$W$12,4,TRUE))","v":""},{"$f":"IF($L229=\"\",\"\",VLOOKUP($L229,判定式!$U$3:$W$12,3,TRUE))","v":""},"",{"$f":"IF(ISNUMBER(D229),\"判定外\",IF(C229=6,VLOOKUP(U229,判定式!$C$15:I$19,7,TRUE),IF(C229=7,VLOOKUP(U229,判定式!$D$15:I$19,6,TRUE),IF(C229=8,VLOOKUP(U229,判定式!$E$15:I$19,5,TRUE),IF(C229=9,VLOOKUP(U229,判定式!$F$15:I$19,4,TRUE),IF(C229=10,VLOOKUP(U229,判定式!$G$15:I$19,3,TRUE),IF(C229=11,VLOOKUP(U229,判定式!$H$15:I$19,2,TRUE))))))))","v":false}]
[81,null,null,"-",null,null,null,null,null,null,null,null,{"$f":"IF($E230=\"\",\"\",VLOOKUP($E230,判定式!$P$3:$W$12,8,TRUE))","v":""},{"$f":"IF($F230=\"\",\"\",VLOOKUP($F230,判定式!$Q$3:$W$12,7,TRUE))","v":""},{"$f":"IF($G230=\"\",\"\",VLOOKUP($G230,判定式!$R$3:$W$12,6,TRUE))","v":""},{"$f":"IF($H230=\"\",\"\",VLOOKUP($H230,判定式!$S$3:$W$12,5,TRUE))","v":""},{"$f":"IF($I230=\"\",\"\",VLOOKUP($I230,判定式!$V$3:$W$12,2,TRUE))","v":""},{"$f":"IF($J230=\"\",\"\",VLOOKUP($J230,判定式!$Y$3:$Z$12,2,TRUE))","v":""},{"$f":"IF($K230=\"\",\"\",VLOOKUP($K230,判定式!$T$3:$W$12,4,TRUE))","v":""},{"$f":"IF($L230=\"\",\"\",VLOOKUP($L230,判定式!$U$3:$W$12,3,TRUE))","v":""},"",{"$f":"IF(ISNUMBER(D230),\"判定外\",IF(C230=6,VLOOKUP(U230,判定式!$C$15:I$19,7,TRUE),IF(C230=7,VLOOKUP(U230,判定式!$D$15:I$19,6,TRUE),IF(C230=8,VLOOKUP(U230,判定式!$E$15:I$19,5,TRUE),IF(C230=9,VLOOKUP(U230,判定式!$F$15:I$19,4,TRUE),IF(C230=10,VLOOKUP(U230,判定式!$G$15:I$19,3,TRUE),IF(C230=11,VLOOKUP(U230,判定式!$H$15:I$19,2,TRUE))))))))","v":false}]
[82,null,null,"-",null,null,null,null,null,null,null,null,{"$f":"IF($E231=\"\",\"\",VLOOKUP($E231,判定式!$P$3:$W$12,8,TRUE))","v":""},{"$f":"IF($F231=\"\",\"\",VLOOKUP($F231,判定式!$Q$3:$W$12,7,TRUE))","v":""},{"$f":"IF($G231=\"\",\"\",VLOOKUP($G231,判定式!$R$3:$W$12,6,TRUE))","v":""},{"$f":"IF($H231=\"\",\"\",VLOOKUP($H231,判定式!$S$3:$W$12,5,TRUE))","v":""},{"$f":"IF($I231=\"\",\"\",VLOOKUP($I231,判定式!$V$3:$W$12,2,TRUE))","v":""},{"$f":"IF($J231=\"\",\"\",VLOOKUP($J231,判定式!$Y$3:$Z$12,2,TRUE))","v":""},{"$f":"IF($K231=\"\",\"\",VLOOKUP($K231,判定式!$T$3:$W$12,4,TRUE))","v":""},{"$f":"IF($L231=\"\",\"\",VLOOKUP($L231,判定式!$U$3:$W$12,3,TRUE))","v":""},"",{"$f":"IF(ISNUMBER(D231),\"判定外\",IF(C231=6,VLOOKUP(U231,判定式!$C$15:I$19,7,TRUE),IF(C231=7,VLOOKUP(U231,判定式!$D$15:I$19,6,TRUE),IF(C231=8,VLOOKUP(U231,判定式!$E$15:I$19,5,TRUE),IF(C231=9,VLOOKUP(U231,判定式!$F$15:I$19,4,TRUE),IF(C231=10,VLOOKUP(U231,判定式!$G$15:I$19,3,TRUE),IF(C231=11,VLOOKUP(U231,判定式!$H$15:I$19,2,TRUE))))))))","v":false}]
[83,null,null,"-",null,null,null,null,null,null,null,null,{"$f":"IF($E232=\"\",\"\",VLOOKUP($E232,判定式!$P$3:$W$12,8,TRUE))","v":""},{"$f":"IF($F232=\"\",\"\",VLOOKUP($F232,判定式!$Q$3:$W$12,7,TRUE))","v":""},{"$f":"IF($G232=\"\",\"\",VLOOKUP($G232,判定式!$R$3:$W$12,6,TRUE))","v":""},{"$f":"IF($H232=\"\",\"\",VLOOKUP($H232,判定式!$S$3:$W$12,5,TRUE))","v":""},{"$f":"IF($I232=\"\",\"\",VLOOKUP($I232,判定式!$V$3:$W$12,2,TRUE))","v":""},{"$f":"IF($J232=\"\",\"\",VLOOKUP($J232,判定式!$Y$3:$Z$12,2,TRUE))","v":""},{"$f":"IF($K232=\"\",\"\",VLOOKUP($K232,判定式!$T$3:$W$12,4,TRUE))","v":""},{"$f":"IF($L232=\"\",\"\",VLOOKUP($L232,判定式!$U$3:$W$12,3,TRUE))","v":""},"",{"$f":"IF(ISNUMBER(D232),\"判定外\",IF(C232=6,VLOOKUP(U232,判定式!$C$15:I$19,7,TRUE),IF(C232=7,VLOOKUP(U232,判定式!$D$15:I$19,6,TRUE),IF(C232=8,VLOOKUP(U232,判定式!$E$15:I$19,5,TRUE),IF(C232=9,VLOOKUP(U232,判定式!$F$15:I$19,4,TRUE),IF(C232=10,VLOOKUP(U232,判定式!$G$15:I$19,3,TRUE),IF(C232=11,VLOOKUP(U232,判定式!$H$15:I$19,2,TRUE))))))))","v":false}]
[84,null,null,"-",null,null,null,null,null,null,null,null,{"$f":"IF($E233=\"\",\"\",VLOOKUP($E233,判定式!$P$3:$W$12,8,TRUE))","v":""},{"$f":"IF($F233=\"\",\"\",VLOOKUP($F233,判定式!$Q$3:$W$12,7,TRUE))","v":""},{"$f":"IF($G233=\"\",\"\",VLOOKUP($G233,判定式!$R$3:$W$12,6,TRUE))","v":""},{"$f":"IF($H233=\"\",\"\",VLOOKUP($H233,判定式!$S$3:$W$12,5,TRUE))","v":""},{"$f":"IF($I233=\"\",\"\",VLOOKUP($I233,判定式!$V$3:$W$12,2,TRUE))","v":""},{"$f":"IF($J233=\"\",\"\",VLOOKUP($J233,判定式!$Y$3:$Z$12,2,TRUE))","v":""},{"$f":"IF($K233=\"\",\"\",VLOOKUP($K233,判定式!$T$3:$W$12,4,TRUE))","v":""},{"$f":"IF($L233=\"\",\"\",VLOOKUP($L233,判定式!$U$3:$W$12,3,TRUE))","v":""},"",{"$f":"IF(ISNUMBER(D233),\"判定外\",IF(C233=6,VLOOKUP(U233,判定式!$C$15:I$19,7,TRUE),IF(C233=7,VLOOKUP(U233,判定式!$D$15:I$19,6,TRUE),IF(C233=8,VLOOKUP(U233,判定式!$E$15:I$19,5,TRUE),IF(C233=9,VLOOKUP(U233,判定式!$F$15:I$19,4,TRUE),IF(C233=10,VLOOKUP(U233,判定式!$G$15:I$19,3,TRUE),IF(C233=11,VLOOKUP(U233,判定式!$H$15:I$19,2,TRUE))))))))","v":false}]
[85,null,null,"-",null,null,null,null,null,null,null,null,{"$f":"IF($E234=\"\",\"\",VLOOKUP($E234,判定式!$P$3:$W$12,8,TRUE))","v":""},{"$f":"IF($F234=\"\",\"\",VLOOKUP($F234,判定式!$Q$3:$W$12,7,TRUE))","v":""},{"$f":"IF($G234=\"\",\"\",VLOOKUP($G234,判定式!$R$3:$W$12,6,TRUE))","v":""},{"$f":"IF($H234=\"\",\"\",VLOOKUP($H234,判定式!$S$3:$W$12,5,TRUE))","v":""},{"$f":"IF($I234=\"\",\"\",VLOOKUP($I234,判定式!$V$3:$W$12,2,TRUE))","v":""},{"$f":"IF($J234=\"\",\"\",VLOOKUP($J234,判定式!$Y$3:$Z$12,2,TRUE))","v":""},{"$f":"IF($K234=\"\",\"\",VLOOKUP($K234,判定式!$T$3:$W$12,4,TRUE))","v":""},{"$f":"IF($L234=\"\",\"\",VLOOKUP($L234,判定式!$U$3:$W$12,3,TRUE))","v":""},"",{"$f":"IF(ISNUMBER(D234),\"判定外\",IF(C234=6,VLOOKUP(U234,判定式!$C$15:I$19,7,TRUE),IF(C234=7,VLOOKUP(U234,判定式!$D$15:I$19,6,TRUE),IF(C234=8,VLOOKUP(U234,判定式!$E$15:I$19,5,TRUE),IF(C234=9,VLOOKUP(U234,判定式!$F$15:I$19,4,TRUE),IF(C234=10,VLOOKUP(U234,判定式!$G$15:I$19,3,TRUE),IF(C234=11,VLOOKUP(U234,判定式!$H$15:I$19,2,TRUE))))))))","v":false}]
[86,null,null,"-",null,null,null,null,null,null,null,null,{"$f":"IF($E235=\"\",\"\",VLOOKUP($E235,判定式!$P$3:$W$12,8,TRUE))","v":""},{"$f":"IF($F235=\"\",\"\",VLOOKUP($F235,判定式!$Q$3:$W$12,7,TRUE))","v":""},{"$f":"IF($G235=\"\",\"\",VLOOKUP($G235,判定式!$R$3:$W$12,6,TRUE))","v":""},{"$f":"IF($H235=\"\",\"\",VLOOKUP($H235,判定式!$S$3:$W$12,5,TRUE))","v":""},{"$f":"IF($I235=\"\",\"\",VLOOKUP($I235,判定式!$V$3:$W$12,2,TRUE))","v":""},{"$f":"IF($J235=\"\",\"\",VLOOKUP($J235,判定式!$Y$3:$Z$12,2,TRUE))","v":""},{"$f":"IF($K235=\"\",\"\",VLOOKUP($K235,判定式!$T$3:$W$12,4,TRUE))","v":""},{"$f":"IF($L235=\"\",\"\",VLOOKUP($L235,判定式!$U$3:$W$12,3,TRUE))","v":""},"",{"$f":"IF(ISNUMBER(D235),\"判定外\",IF(C235=6,VLOOKUP(U235,判定式!$C$15:I$19,7,TRUE),IF(C235=7,VLOOKUP(U235,判定式!$D$15:I$19,6,TRUE),IF(C235=8,VLOOKUP(U235,判定式!$E$15:I$19,5,TRUE),IF(C235=9,VLOOKUP(U235,判定式!$F$15:I$19,4,TRUE),IF(C235=10,VLOOKUP(U235,判定式!$G$15:I$19,3,TRUE),IF(C235=11,VLOOKUP(U235,判定式!$H$15:I$19,2,TRUE))))))))","v":false}]
[87,null,null,"-",null,null,null,null,null,null,null,null,{"$f":"IF($E236=\"\",\"\",VLOOKUP($E236,判定式!$P$3:$W$12,8,TRUE))","v":""},{"$f":"IF($F236=\"\",\"\",VLOOKUP($F236,判定式!$Q$3:$W$12,7,TRUE))","v":""},{"$f":"IF($G236=\"\",\"\",VLOOKUP($G236,判定式!$R$3:$W$12,6,TRUE))","v":""},{"$f":"IF($H236=\"\",\"\",VLOOKUP($H236,判定式!$S$3:$W$12,5,TRUE))","v":""},{"$f":"IF($I236=\"\",\"\",VLOOKUP($I236,判定式!$V$3:$W$12,2,TRUE))","v":""},{"$f":"IF($J236=\"\",\"\",VLOOKUP($J236,判定式!$Y$3:$Z$12,2,TRUE))","v":""},{"$f":"IF($K236=\"\",\"\",VLOOKUP($K236,判定式!$T$3:$W$12,4,TRUE))","v":""},{"$f":"IF($L236=\"\",\"\",VLOOKUP($L236,判定式!$U$3:$W$12,3,TRUE))","v":""},"",{"$f":"IF(ISNUMBER(D236),\"判定外\",IF(C236=6,VLOOKUP(U236,判定式!$C$15:I$19,7,TRUE),IF(C236=7,VLOOKUP(U236,判定式!$D$15:I$19,6,TRUE),IF(C236=8,VLOOKUP(U236,判定式!$E$15:I$19,5,TRUE),IF(C236=9,VLOOKUP(U236,判定式!$F$15:I$19,4,TRUE),IF(C236=10,VLOOKUP(U236,判定式!$G$15:I$19,3,TRUE),IF(C236=11,VLOOKUP(U236,判定式!$H$15:I$19,2,TRUE))))))))","v":false}]
[88,null,null,"-",null,null,null,null,null,null,null,null,{"$f":"IF($E237=\"\",\"\",VLOOKUP($E237,判定式!$P$3:$W$12,8,TRUE))","v":""},{"$f":"IF($F237=\"\",\"\",VLOOKUP($F237,判定式!$Q$3:$W$12,7,TRUE))","v":""},{"$f":"IF($G237=\"\",\"\",VLOOKUP($G237,判定式!$R$3:$W$12,6,TRUE))","v":""},{"$f":"IF($H237=\"\",\"\",VLOOKUP($H237,判定式!$S$3:$W$12,5,TRUE))","v":""},{"$f":"IF($I237=\"\",\"\",VLOOKUP($I237,判定式!$V$3:$W$12,2,TRUE))","v":""},{"$f":"IF($J237=\"\",\"\",VLOOKUP($J237,判定式!$Y$3:$Z$12,2,TRUE))","v":""},{"$f":"IF($K237=\"\",\"\",VLOOKUP($K237,判定式!$T$3:$W$12,4,TRUE))","v":""},{"$f":"IF($L237=\"\",\"\",VLOOKUP($L237,判定式!$U$3:$W$12,3,TRUE))","v":""},"",{"$f":"IF(ISNUMBER(D237),\"判定外\",IF(C237=6,VLOOKUP(U237,判定式!$C$15:I$19,7,TRUE),IF(C237=7,VLOOKUP(U237,判定式!$D$15:I$19,6,TRUE),IF(C237=8,VLOOKUP(U237,判定式!$E$15:I$19,5,TRUE),IF(C237=9,VLOOKUP(U237,判定式!$F$15:I$19,4,TRUE),IF(C237=10,VLOOKUP(U237,判定式!$G$15:I$19,3,TRUE),IF(C237=11,VLOOKUP(U237,判定式!$H$15:I$19,2,TRUE))))))))","v":false}]
[89,null,null,"-",null,null,null,null,null,null,null,null,{"$f":"IF($E238=\"\",\"\",VLOOKUP($E238,判定式!$P$3:$W$12,8,TRUE))","v":""},{"$f":"IF($F238=\"\",\"\",VLOOKUP($F238,判定式!$Q$3:$W$12,7,TRUE))","v":""},{"$f":"IF($G238=\"\",\"\",VLOOKUP($G238,判定式!$R$3:$W$12,6,TRUE))","v":""},{"$f":"IF($H238=\"\",\"\",VLOOKUP($H238,判定式!$S$3:$W$12,5,TRUE))","v":""},{"$f":"IF($I238=\"\",\"\",VLOOKUP($I238,判定式!$V$3:$W$12,2,TRUE))","v":""},{"$f":"IF($J238=\"\",\"\",VLOOKUP($J238,判定式!$Y$3:$Z$12,2,TRUE))","v":""},{"$f":"IF($K238=\"\",\"\",VLOOKUP($K238,判定式!$T$3:$W$12,4,TRUE))","v":""},{"$f":"IF($L238=\"\",\"\",VLOOKUP($L238,判定式!$U$3:$W$12,3,TRUE))","v":""},"",{"$f":"IF(ISNUMBER(D238),\"判定外\",IF(C238=6,VLOOKUP(U238,判定式!$C$15:I$19,7,TRUE),IF(C238=7,VLOOKUP(U238,判定式!$D$15:I$19,6,TRUE),IF(C238=8,VLOOKUP(U238,判定式!$E$15:I$19,5,TRUE),IF(C238=9,VLOOKUP(U238,判定式!$F$15:I$19,4,TRUE),IF(C238=10,VLOOKUP(U238,判定式!$G$15:I$19,3,TRUE),IF(C238=11,VLOOKUP(U238,判定式!$H$15:I$19,2,TRUE))))))))","v":false}]
[90,null,null,"-",null,null,null,null,null,null,null,null,{"$f":"IF($E239=\"\",\"\",VLOOKUP($E239,判定式!$P$3:$W$12,8,TRUE))","v":""},{"$f":"IF($F239=\"\",\"\",VLOOKUP($F239,判定式!$Q$3:$W$12,7,TRUE))","v":""},{"$f":"IF($G239=\"\",\"\",VLOOKUP($G239,判定式!$R$3:$W$12,6,TRUE))","v":""},{"$f":"IF($H239=\"\",\"\",VLOOKUP($H239,判定式!$S$3:$W$12,5,TRUE))","v":""},{"$f":"IF($I239=\"\",\"\",VLOOKUP($I239,判定式!$V$3:$W$12,2,TRUE))","v":""},{"$f":"IF($J239=\"\",\"\",VLOOKUP($J239,判定式!$Y$3:$Z$12,2,TRUE))","v":""},{"$f":"IF($K239=\"\",\"\",VLOOKUP($K239,判定式!$T$3:$W$12,4,TRUE))","v":""},{"$f":"IF($L239=\"\",\"\",VLOOKUP($L239,判定式!$U$3:$W$12,3,TRUE))","v":""},"",{"$f":"IF(ISNUMBER(D239),\"判定外\",IF(C239=6,VLOOKUP(U239,判定式!$C$15:I$19,7,TRUE),IF(C239=7,VLOOKUP(U239,判定式!$D$15:I$19,6,TRUE),IF(C239=8,VLOOKUP(U239,判定式!$E$15:I$19,5,TRUE),IF(C239=9,VLOOKUP(U239,判定式!$F$15:I$19,4,TRUE),IF(C239=10,VLOOKUP(U239,判定式!$G$15:I$19,3,TRUE),IF(C239=11,VLOOKUP(U239,判定式!$H$15:I$19,2,TRUE))))))))","v":false}]
[91,null,null,"-",null,null,null,null,null,null,null,null,{"$f":"IF($E240=\"\",\"\",VLOOKUP($E240,判定式!$P$3:$W$12,8,TRUE))","v":""},{"$f":"IF($F240=\"\",\"\",VLOOKUP($F240,判定式!$Q$3:$W$12,7,TRUE))","v":""},{"$f":"IF($G240=\"\",\"\",VLOOKUP($G240,判定式!$R$3:$W$12,6,TRUE))","v":""},{"$f":"IF($H240=\"\",\"\",VLOOKUP($H240,判定式!$S$3:$W$12,5,TRUE))","v":""},{"$f":"IF($I240=\"\",\"\",VLOOKUP($I240,判定式!$V$3:$W$12,2,TRUE))","v":""},{"$f":"IF($J240=\"\",\"\",VLOOKUP($J240,判定式!$Y$3:$Z$12,2,TRUE))","v":""},{"$f":"IF($K240=\"\",\"\",VLOOKUP($K240,判定式!$T$3:$W$12,4,TRUE))","v":""},{"$f":"IF($L240=\"\",\"\",VLOOKUP($L240,判定式!$U$3:$W$12,3,TRUE))","v":""},"",{"$f":"IF(ISNUMBER(D240),\"判定外\",IF(C240=6,VLOOKUP(U240,判定式!$C$15:I$19,7,TRUE),IF(C240=7,VLOOKUP(U240,判定式!$D$15:I$19,6,TRUE),IF(C240=8,VLOOKUP(U240,判定式!$E$15:I$19,5,TRUE),IF(C240=9,VLOOKUP(U240,判定式!$F$15:I$19,4,TRUE),IF(C240=10,VLOOKUP(U240,判定式!$G$15:I$19,3,TRUE),IF(C240=11,VLOOKUP(U240,判定式!$H$15:I$19,2,TRUE))))))))","v":false}]
[92,null,null,"-",null,null,null,null,null,null,null,null,{"$f":"IF($E241=\"\",\"\",VLOOKUP($E241,判定式!$P$3:$W$12,8,TRUE))","v":""},{"$f":"IF($F241=\"\",\"\",VLOOKUP($F241,判定式!$Q$3:$W$12,7,TRUE))","v":""},{"$f":"IF($G241=\"\",\"\",VLOOKUP($G241,判定式!$R$3:$W$12,6,TRUE))","v":""},{"$f":"IF($H241=\"\",\"\",VLOOKUP($H241,判定式!$S$3:$W$12,5,TRUE))","v":""},{"$f":"IF($I241=\"\",\"\",VLOOKUP($I241,判定式!$V$3:$W$12,2,TRUE))","v":""},{"$f":"IF($J241=\"\",\"\",VLOOKUP($J241,判定式!$Y$3:$Z$12,2,TRUE))","v":""},{"$f":"IF($K241=\"\",\"\",VLOOKUP($K241,判定式!$T$3:$W$12,4,TRUE))","v":""},{"$f":"IF($L241=\"\",\"\",VLOOKUP($L241,判定式!$U$3:$W$12,3,TRUE))","v":""},"",{"$f":"IF(ISNUMBER(D241),\"判定外\",IF(C241=6,VLOOKUP(U241,判定式!$C$15:I$19,7,TRUE),IF(C241=7,VLOOKUP(U241,判定式!$D$15:I$19,6,TRUE),IF(C241=8,VLOOKUP(U241,判定式!$E$15:I$19,5,TRUE),IF(C241=9,VLOOKUP(U241,判定式!$F$15:I$19,4,TRUE),IF(C241=10,VLOOKUP(U241,判定式!$G$15:I$19,3,TRUE),IF(C241=11,VLOOKUP(U241,判定式!$H$15:I$19,2,TRUE))))))))","v":false}]
[93,null,null,"-",null,null,null,null,null,null,null,null,{"$f":"IF($E242=\"\",\"\",VLOOKUP($E242,判定式!$P$3:$W$12,8,TRUE))","v":""},{"$f":"IF($F242=\"\",\"\",VLOOKUP($F242,判定式!$Q$3:$W$12,7,TRUE))","v":""},{"$f":"IF($G242=\"\",\"\",VLOOKUP($G242,判定式!$R$3:$W$12,6,TRUE))","v":""},{"$f":"IF($H242=\"\",\"\",VLOOKUP($H242,判定式!$S$3:$W$12,5,TRUE))","v":""},{"$f":"IF($I242=\"\",\"\",VLOOKUP($I242,判定式!$V$3:$W$12,2,TRUE))","v":""},{"$f":"IF($J242=\"\",\"\",VLOOKUP($J242,判定式!$Y$3:$Z$12,2,TRUE))","v":""},{"$f":"IF($K242=\"\",\"\",VLOOKUP($K242,判定式!$T$3:$W$12,4,TRUE))","v":""},{"$f":"IF($L242=\"\",\"\",VLOOKUP($L242,判定式!$U$3:$W$12,3,TRUE))","v":""},"",{"$f":"IF(ISNUMBER(D242),\"判定外\",IF(C242=6,VLOOKUP(U242,判定式!$C$15:I$19,7,TRUE),IF(C242=7,VLOOKUP(U242,判定式!$D$15:I$19,6,TRUE),IF(C242=8,VLOOKUP(U242,判定式!$E$15:I$19,5,TRUE),IF(C242=9,VLOOKUP(U242,判定式!$F$15:I$19,4,TRUE),IF(C242=10,VLOOKUP(U242,判定式!$G$15:I$19,3,TRUE),IF(C242=11,VLOOKUP(U242,判定式!$H$15:I$19,2,TRUE))))))))","v":false}]
[94,null,null,"-",null,null,null,null,null,null,null,null,{"$f":"IF($E243=\"\",\"\",VLOOKUP($E243,判定式!$P$3:$W$12,8,TRUE))","v":""},{"$f":"IF($F243=\"\",\"\",VLOOKUP($F243,判定式!$Q$3:$W$12,7,TRUE))","v":""},{"$f":"IF($G243=\"\",\"\",VLOOKUP($G243,判定式!$R$3:$W$12,6,TRUE))","v":""},{"$f":"IF($H243=\"\",\"\",VLOOKUP($H243,判定式!$S$3:$W$12,5,TRUE))","v":""},{"$f":"IF($I243=\"\",\"\",VLOOKUP($I243,判定式!$V$3:$W$12,2,TRUE))","v":""},{"$f":"IF($J243=\"\",\"\",VLOOKUP($J243,判定式!$Y$3:$Z$12,2,TRUE))","v":""},{"$f":"IF($K243=\"\",\"\",VLOOKUP($K243,判定式!$T$3:$W$12,4,TRUE))","v":""},{"$f":"IF($L243=\"\",\"\",VLOOKUP($L243,判定式!$U$3:$W$12,3,TRUE))","v":""},"",{"$f":"IF(ISNUMBER(D243),\"判定外\",IF(C243=6,VLOOKUP(U243,判定式!$C$15:I$19,7,TRUE),IF(C243=7,VLOOKUP(U243,判定式!$D$15:I$19,6,TRUE),IF(C243=8,VLOOKUP(U243,判定式!$E$15:I$19,5,TRUE),IF(C243=9,VLOOKUP(U243,判定式!$F$15:I$19,4,TRUE),IF(C243=10,VLOOKUP(U243,判定式!$G$15:I$19,3,TRUE),IF(C243=11,VLOOKUP(U243,判定式!$H$15:I$19,2,TRUE))))))))","v":false}]
[95,null,null,"-",null,null,null,null,null,null,null,null,{"$f":"IF($E244=\"\",\"\",VLOOKUP($E244,判定式!$P$3:$W$12,8,TRUE))","v":""},{"$f":"IF($F244=\"\",\"\",VLOOKUP($F244,判定式!$Q$3:$W$12,7,TRUE))","v":""},{"$f":"IF($G244=\"\",\"\",VLOOKUP($G244,判定式!$R$3:$W$12,6,TRUE))","v":""},{"$f":"IF($H244=\"\",\"\",VLOOKUP($H244,判定式!$S$3:$W$12,5,TRUE))","v":""},{"$f":"IF($I244=\"\",\"\",VLOOKUP($I244,判定式!$V$3:$W$12,2,TRUE))","v":""},{"$f":"IF($J244=\"\",\"\",VLOOKUP($J244,判定式!$Y$3:$Z$12,2,TRUE))","v":""},{"$f":"IF($K244=\"\",\"\",VLOOKUP($K244,判定式!$T$3:$W$12,4,TRUE))","v":""},{"$f":"IF($L244=\"\",\"\",VLOOKUP($L244,判定式!$U$3:$W$12,3,TRUE))","v":""},"",{"$f":"IF(ISNUMBER(D244),\"判定外\",IF(C244=6,VLOOKUP(U244,判定式!$C$15:I$19,7,TRUE),IF(C244=7,VLOOKUP(U244,判定式!$D$15:I$19,6,TRUE),IF(C244=8,VLOOKUP(U244,判定式!$E$15:I$19,5,TRUE),IF(C244=9,VLOOKUP(U244,判定式!$F$15:I$19,4,TRUE),IF(C244=10,VLOOKUP(U244,判定式!$G$15:I$19,3,TRUE),IF(C244=11,VLOOKUP(U244,判定式!$H$15:I$19,2,TRUE))))))))","v":false}]
[96,null,null,"-",null,null,null,null,null,null,null,null,{"$f":"IF($E245=\"\",\"\",VLOOKUP($E245,判定式!$P$3:$W$12,8,TRUE))","v":""},{"$f":"IF($F245=\"\",\"\",VLOOKUP($F245,判定式!$Q$3:$W$12,7,TRUE))","v":""},{"$f":"IF($G245=\"\",\"\",VLOOKUP($G245,判定式!$R$3:$W$12,6,TRUE))","v":""},{"$f":"IF($H245=\"\",\"\",VLOOKUP($H245,判定式!$S$3:$W$12,5,TRUE))","v":""},{"$f":"IF($I245=\"\",\"\",VLOOKUP($I245,判定式!$V$3:$W$12,2,TRUE))","v":""},{"$f":"IF($J245=\"\",\"\",VLOOKUP($J245,判定式!$Y$3:$Z$12,2,TRUE))","v":""},{"$f":"IF($K245=\"\",\"\",VLOOKUP($K245,判定式!$T$3:$W$12,4,TRUE))","v":""},{"$f":"IF($L245=\"\",\"\",VLOOKUP($L245,判定式!$U$3:$W$12,3,TRUE))","v":""},"",{"$f":"IF(ISNUMBER(D245),\"判定外\",IF(C245=6,VLOOKUP(U245,判定式!$C$15:I$19,7,TRUE),IF(C245=7,VLOOKUP(U245,判定式!$D$15:I$19,6,TRUE),IF(C245=8,VLOOKUP(U245,判定式!$E$15:I$19,5,TRUE),IF(C245=9,VLOOKUP(U245,判定式!$F$15:I$19,4,TRUE),IF(C245=10,VLOOKUP(U245,判定式!$G$15:I$19,3,TRUE),IF(C245=11,VLOOKUP(U245,判定式!$H$15:I$19,2,TRUE))))))))","v":false}]
[97,null,null,{"$f":"IF(COUNTBLANK(E246:L246)=0,\"\",IF(COUNTBLANK(E246:L246)=8,\"-\",COUNTBLANK(E246:L246)))","v":"-"},null,null,null,null,null,null,null,null,{"$f":"IF($E246=\"\",\"\",VLOOKUP($E246,判定式!$P$3:$W$12,8,TRUE))","v":""},{"$f":"IF($F246=\"\",\"\",VLOOKUP($F246,判定式!$Q$3:$W$12,7,TRUE))","v":""},{"$f":"IF($G246=\"\",\"\",VLOOKUP($G246,判定式!$R$3:$W$12,6,TRUE))","v":""},{"$f":"IF($H246=\"\",\"\",VLOOKUP($H246,判定式!$S$3:$W$12,5,TRUE))","v":""},{"$f":"IF($I246=\"\",\"\",VLOOKUP($I246,判定式!$V$3:$W$12,2,TRUE))","v":""},{"$f":"IF($J246=\"\",\"\",VLOOKUP($J246,判定式!$Y$3:$Z$12,2,TRUE))","v":""},{"$f":"IF($K246=\"\",\"\",VLOOKUP($K246,判定式!$T$3:$W$12,4,TRUE))","v":""},{"$f":"IF($L246=\"\",\"\",VLOOKUP($L246,判定式!$U$3:$W$12,3,TRUE))","v":""},{"$f":"IF(COUNTBLANK(M246:T246)=0,SUM(M246:T246),\"\")","v":""},{"$f":"IF(ISNUMBER(D246),\"判定外\",IF(C246=6,VLOOKUP(U246,判定式!$C$15:I$19,7,TRUE),IF(C246=7,VLOOKUP(U246,判定式!$D$15:I$19,6,TRUE),IF(C246=8,VLOOKUP(U246,判定式!$E$15:I$19,5,TRUE),IF(C246=9,VLOOKUP(U246,判定式!$F$15:I$19,4,TRUE),IF(C246=10,VLOOKUP(U246,判定式!$G$15:I$19,3,TRUE),IF(C246=11,VLOOKUP(U246,判定式!$H$15:I$19,2,TRUE))))))))","v":false}]
[98,null,null,"-",null,null,null,null,null,null,null,null,{"$f":"IF($E247=\"\",\"\",VLOOKUP($E247,判定式!$P$3:$W$12,8,TRUE))","v":""},{"$f":"IF($F247=\"\",\"\",VLOOKUP($F247,判定式!$Q$3:$W$12,7,TRUE))","v":""},{"$f":"IF($G247=\"\",\"\",VLOOKUP($G247,判定式!$R$3:$W$12,6,TRUE))","v":""},{"$f":"IF($H247=\"\",\"\",VLOOKUP($H247,判定式!$S$3:$W$12,5,TRUE))","v":""},{"$f":"IF($I247=\"\",\"\",VLOOKUP($I247,判定式!$V$3:$W$12,2,TRUE))","v":""},{"$f":"IF($J247=\"\",\"\",VLOOKUP($J247,判定式!$Y$3:$Z$12,2,TRUE))","v":""},{"$f":"IF($K247=\"\",\"\",VLOOKUP($K247,判定式!$T$3:$W$12,4,TRUE))","v":""},{"$f":"IF($L247=\"\",\"\",VLOOKUP($L247,判定式!$U$3:$W$12,3,TRUE))","v":""},"",{"$f":"IF(ISNUMBER(D247),\"判定外\",IF(C247=6,VLOOKUP(U247,判定式!$C$15:I$19,7,TRUE),IF(C247=7,VLOOKUP(U247,判定式!$D$15:I$19,6,TRUE),IF(C247=8,VLOOKUP(U247,判定式!$E$15:I$19,5,TRUE),IF(C247=9,VLOOKUP(U247,判定式!$F$15:I$19,4,TRUE),IF(C247=10,VLOOKUP(U247,判定式!$G$15:I$19,3,TRUE),IF(C247=11,VLOOKUP(U247,判定式!$H$15:I$19,2,TRUE))))))))","v":false}]
[99,null,null,"-",null,null,null,null,null,null,null,null,{"$f":"IF($E248=\"\",\"\",VLOOKUP($E248,判定式!$P$3:$W$12,8,TRUE))","v":""},{"$f":"IF($F248=\"\",\"\",VLOOKUP($F248,判定式!$Q$3:$W$12,7,TRUE))","v":""},{"$f":"IF($G248=\"\",\"\",VLOOKUP($G248,判定式!$R$3:$W$12,6,TRUE))","v":""},{"$f":"IF($H248=\"\",\"\",VLOOKUP($H248,判定式!$S$3:$W$12,5,TRUE))","v":""},{"$f":"IF($I248=\"\",\"\",VLOOKUP($I248,判定式!$V$3:$W$12,2,TRUE))","v":""},{"$f":"IF($J248=\"\",\"\",VLOOKUP($J248,判定式!$Y$3:$Z$12,2,TRUE))","v":""},{"$f":"IF($K248=\"\",\"\",VLOOKUP($K248,判定式!$T$3:$W$12,4,TRUE))","v":""},{"$f":"IF($L248=\"\",\"\",VLOOKUP($L248,判定式!$U$3:$W$12,3,TRUE))","v":""},"",{"$f":"IF(ISNUMBER(D248),\"判定外\",IF(C248=6,VLOOKUP(U248,判定式!$C$15:I$19,7,TRUE),IF(C248=7,VLOOKUP(U248,判定式!$D$15:I$19,6,TRUE),IF(C248=8,VLOOKUP(U248,判定式!$E$15:I$19,5,TRUE),IF(C248=9,VLOOKUP(U248,判定式!$F$15:I$19,4,TRUE),IF(C248=10,VLOOKUP(U248,判定式!$G$15:I$19,3,TRUE),IF(C248=11,VLOOKUP(U248,判定式!$H$15:I$19,2,TRUE))))))))","v":false}]
[100,null,null,"-",null,null,null,null,null,null,null,null,{"$f":"IF($E249=\"\",\"\",VLOOKUP($E249,判定式!$P$3:$W$12,8,TRUE))","v":""},{"$f":"IF($F249=\"\",\"\",VLOOKUP($F249,判定式!$Q$3:$W$12,7,TRUE))","v":""},{"$f":"IF($G249=\"\",\"\",VLOOKUP($G249,判定式!$R$3:$W$12,6,TRUE))","v":""},{"$f":"IF($H249=\"\",\"\",VLOOKUP($H249,判定式!$S$3:$W$12,5,TRUE))","v":""},{"$f":"IF($I249=\"\",\"\",VLOOKUP($I249,判定式!$V$3:$W$12,2,TRUE))","v":""},{"$f":"IF($J249=\"\",\"\",VLOOKUP($J249,判定式!$Y$3:$Z$12,2,TRUE))","v":""},{"$f":"IF($K249=\"\",\"\",VLOOKUP($K249,判定式!$T$3:$W$12,4,TRUE))","v":""},{"$f":"IF($L249=\"\",\"\",VLOOKUP($L249,判定式!$U$3:$W$12,3,TRUE))","v":""},"",{"$f":"IF(ISNUMBER(D249),\"判定外\",IF(C249=6,VLOOKUP(U249,判定式!$C$15:I$19,7,TRUE),IF(C249=7,VLOOKUP(U249,判定式!$D$15:I$19,6,TRUE),IF(C249=8,VLOOKUP(U249,判定式!$E$15:I$19,5,TRUE),IF(C249=9,VLOOKUP(U249,判定式!$F$15:I$19,4,TRUE),IF(C249=10,VLOOKUP(U249,判定式!$G$15:I$19,3,TRUE),IF(C249=11,VLOOKUP(U249,判定式!$H$15:I$19,2,TRUE))))))))","v":false}]
[101,null,null,"-",null,null,null,null,null,null,null,null,{"$f":"IF($E250=\"\",\"\",VLOOKUP($E250,判定式!$P$3:$W$12,8,TRUE))","v":""},{"$f":"IF($F250=\"\",\"\",VLOOKUP($F250,判定式!$Q$3:$W$12,7,TRUE))","v":""},{"$f":"IF($G250=\"\",\"\",VLOOKUP($G250,判定式!$R$3:$W$12,6,TRUE))","v":""},{"$f":"IF($H250=\"\",\"\",VLOOKUP($H250,判定式!$S$3:$W$12,5,TRUE))","v":""},{"$f":"IF($I250=\"\",\"\",VLOOKUP($I250,判定式!$V$3:$W$12,2,TRUE))","v":""},{"$f":"IF($J250=\"\",\"\",VLOOKUP($J250,判定式!$Y$3:$Z$12,2,TRUE))","v":""},{"$f":"IF($K250=\"\",\"\",VLOOKUP($K250,判定式!$T$3:$W$12,4,TRUE))","v":""},{"$f":"IF($L250=\"\",\"\",VLOOKUP($L250,判定式!$U$3:$W$12,3,TRUE))","v":""},"",{"$f":"IF(ISNUMBER(D250),\"判定外\",IF(C250=6,VLOOKUP(U250,判定式!$C$15:I$19,7,TRUE),IF(C250=7,VLOOKUP(U250,判定式!$D$15:I$19,6,TRUE),IF(C250=8,VLOOKUP(U250,判定式!$E$15:I$19,5,TRUE),IF(C250=9,VLOOKUP(U250,判定式!$F$15:I$19,4,TRUE),IF(C250=10,VLOOKUP(U250,判定式!$G$15:I$19,3,TRUE),IF(C250=11,VLOOKUP(U250,判定式!$H$15:I$19,2,TRUE))))))))","v":false}]
[102,null,null,"-",null,null,null,null,null,null,null,null,{"$f":"IF($E251=\"\",\"\",VLOOKUP($E251,判定式!$P$3:$W$12,8,TRUE))","v":""},{"$f":"IF($F251=\"\",\"\",VLOOKUP($F251,判定式!$Q$3:$W$12,7,TRUE))","v":""},{"$f":"IF($G251=\"\",\"\",VLOOKUP($G251,判定式!$R$3:$W$12,6,TRUE))","v":""},{"$f":"IF($H251=\"\",\"\",VLOOKUP($H251,判定式!$S$3:$W$12,5,TRUE))","v":""},{"$f":"IF($I251=\"\",\"\",VLOOKUP($I251,判定式!$V$3:$W$12,2,TRUE))","v":""},{"$f":"IF($J251=\"\",\"\",VLOOKUP($J251,判定式!$Y$3:$Z$12,2,TRUE))","v":""},{"$f":"IF($K251=\"\",\"\",VLOOKUP($K251,判定式!$T$3:$W$12,4,TRUE))","v":""},{"$f":"IF($L251=\"\",\"\",VLOOKUP($L251,判定式!$U$3:$W$12,3,TRUE))","v":""},"",{"$f":"IF(ISNUMBER(D251),\"判定外\",IF(C251=6,VLOOKUP(U251,判定式!$C$15:I$19,7,TRUE),IF(C251=7,VLOOKUP(U251,判定式!$D$15:I$19,6,TRUE),IF(C251=8,VLOOKUP(U251,判定式!$E$15:I$19,5,TRUE),IF(C251=9,VLOOKUP(U251,判定式!$F$15:I$19,4,TRUE),IF(C251=10,VLOOKUP(U251,判定式!$G$15:I$19,3,TRUE),IF(C251=11,VLOOKUP(U251,判定式!$H$15:I$19,2,TRUE))))))))","v":false}]
[103,null,null,"-",null,null,null,null,null,null,null,null,{"$f":"IF($E252=\"\",\"\",VLOOKUP($E252,判定式!$P$3:$W$12,8,TRUE))","v":""},{"$f":"IF($F252=\"\",\"\",VLOOKUP($F252,判定式!$Q$3:$W$12,7,TRUE))","v":""},{"$f":"IF($G252=\"\",\"\",VLOOKUP($G252,判定式!$R$3:$W$12,6,TRUE))","v":""},{"$f":"IF($H252=\"\",\"\",VLOOKUP($H252,判定式!$S$3:$W$12,5,TRUE))","v":""},{"$f":"IF($I252=\"\",\"\",VLOOKUP($I252,判定式!$V$3:$W$12,2,TRUE))","v":""},{"$f":"IF($J252=\"\",\"\",VLOOKUP($J252,判定式!$Y$3:$Z$12,2,TRUE))","v":""},{"$f":"IF($K252=\"\",\"\",VLOOKUP($K252,判定式!$T$3:$W$12,4,TRUE))","v":""},{"$f":"IF($L252=\"\",\"\",VLOOKUP($L252,判定式!$U$3:$W$12,3,TRUE))","v":""},"",{"$f":"IF(ISNUMBER(D252),\"判定外\",IF(C252=6,VLOOKUP(U252,判定式!$C$15:I$19,7,TRUE),IF(C252=7,VLOOKUP(U252,判定式!$D$15:I$19,6,TRUE),IF(C252=8,VLOOKUP(U252,判定式!$E$15:I$19,5,TRUE),IF(C252=9,VLOOKUP(U252,判定式!$F$15:I$19,4,TRUE),IF(C252=10,VLOOKUP(U252,判定式!$G$15:I$19,3,TRUE),IF(C252=11,VLOOKUP(U252,判定式!$H$15:I$19,2,TRUE))))))))","v":false}]
[104,null,null,"-",null,null,null,null,null,null,null,null,{"$f":"IF($E253=\"\",\"\",VLOOKUP($E253,判定式!$P$3:$W$12,8,TRUE))","v":""},{"$f":"IF($F253=\"\",\"\",VLOOKUP($F253,判定式!$Q$3:$W$12,7,TRUE))","v":""},{"$f":"IF($G253=\"\",\"\",VLOOKUP($G253,判定式!$R$3:$W$12,6,TRUE))","v":""},{"$f":"IF($H253=\"\",\"\",VLOOKUP($H253,判定式!$S$3:$W$12,5,TRUE))","v":""},{"$f":"IF($I253=\"\",\"\",VLOOKUP($I253,判定式!$V$3:$W$12,2,TRUE))","v":""},{"$f":"IF($J253=\"\",\"\",VLOOKUP($J253,判定式!$Y$3:$Z$12,2,TRUE))","v":""},{"$f":"IF($K253=\"\",\"\",VLOOKUP($K253,判定式!$T$3:$W$12,4,TRUE))","v":""},{"$f":"IF($L253=\"\",\"\",VLOOKUP($L253,判定式!$U$3:$W$12,3,TRUE))","v":""},"",{"$f":"IF(ISNUMBER(D253),\"判定外\",IF(C253=6,VLOOKUP(U253,判定式!$C$15:I$19,7,TRUE),IF(C253=7,VLOOKUP(U253,判定式!$D$15:I$19,6,TRUE),IF(C253=8,VLOOKUP(U253,判定式!$E$15:I$19,5,TRUE),IF(C253=9,VLOOKUP(U253,判定式!$F$15:I$19,4,TRUE),IF(C253=10,VLOOKUP(U253,判定式!$G$15:I$19,3,TRUE),IF(C253=11,VLOOKUP(U253,判定式!$H$15:I$19,2,TRUE))))))))","v":false}]
[105,null,null,"-",null,null,null,null,null,null,null,null,{"$f":"IF($E254=\"\",\"\",VLOOKUP($E254,判定式!$P$3:$W$12,8,TRUE))","v":""},{"$f":"IF($F254=\"\",\"\",VLOOKUP($F254,判定式!$Q$3:$W$12,7,TRUE))","v":""},{"$f":"IF($G254=\"\",\"\",VLOOKUP($G254,判定式!$R$3:$W$12,6,TRUE))","v":""},{"$f":"IF($H254=\"\",\"\",VLOOKUP($H254,判定式!$S$3:$W$12,5,TRUE))","v":""},{"$f":"IF($I254=\"\",\"\",VLOOKUP($I254,判定式!$V$3:$W$12,2,TRUE))","v":""},{"$f":"IF($J254=\"\",\"\",VLOOKUP($J254,判定式!$Y$3:$Z$12,2,TRUE))","v":""},{"$f":"IF($K254=\"\",\"\",VLOOKUP($K254,判定式!$T$3:$W$12,4,TRUE))","v":""},{"$f":"IF($L254=\"\",\"\",VLOOKUP($L254,判定式!$U$3:$W$12,3,TRUE))","v":""},"",{"$f":"IF(ISNUMBER(D254),\"判定外\",IF(C254=6,VLOOKUP(U254,判定式!$C$15:I$19,7,TRUE),IF(C254=7,VLOOKUP(U254,判定式!$D$15:I$19,6,TRUE),IF(C254=8,VLOOKUP(U254,判定式!$E$15:I$19,5,TRUE),IF(C254=9,VLOOKUP(U254,判定式!$F$15:I$19,4,TRUE),IF(C254=10,VLOOKUP(U254,判定式!$G$15:I$19,3,TRUE),IF(C254=11,VLOOKUP(U254,判定式!$H$15:I$19,2,TRUE))))))))","v":false}]
[106,null,null,"-",null,null,null,null,null,null,null,null,{"$f":"IF($E255=\"\",\"\",VLOOKUP($E255,判定式!$P$3:$W$12,8,TRUE))","v":""},{"$f":"IF($F255=\"\",\"\",VLOOKUP($F255,判定式!$Q$3:$W$12,7,TRUE))","v":""},{"$f":"IF($G255=\"\",\"\",VLOOKUP($G255,判定式!$R$3:$W$12,6,TRUE))","v":""},{"$f":"IF($H255=\"\",\"\",VLOOKUP($H255,判定式!$S$3:$W$12,5,TRUE))","v":""},{"$f":"IF($I255=\"\",\"\",VLOOKUP($I255,判定式!$V$3:$W$12,2,TRUE))","v":""},{"$f":"IF($J255=\"\",\"\",VLOOKUP($J255,判定式!$Y$3:$Z$12,2,TRUE))","v":""},{"$f":"IF($K255=\"\",\"\",VLOOKUP($K255,判定式!$T$3:$W$12,4,TRUE))","v":""},{"$f":"IF($L255=\"\",\"\",VLOOKUP($L255,判定式!$U$3:$W$12,3,TRUE))","v":""},"",{"$f":"IF(ISNUMBER(D255),\"判定外\",IF(C255=6,VLOOKUP(U255,判定式!$C$15:I$19,7,TRUE),IF(C255=7,VLOOKUP(U255,判定式!$D$15:I$19,6,TRUE),IF(C255=8,VLOOKUP(U255,判定式!$E$15:I$19,5,TRUE),IF(C255=9,VLOOKUP(U255,判定式!$F$15:I$19,4,TRUE),IF(C255=10,VLOOKUP(U255,判定式!$G$15:I$19,3,TRUE),IF(C255=11,VLOOKUP(U255,判定式!$H$15:I$19,2,TRUE))))))))","v":false}]
[107,null,null,"-",null,null,null,null,null,null,null,null,{"$f":"IF($E256=\"\",\"\",VLOOKUP($E256,判定式!$P$3:$W$12,8,TRUE))","v":""},{"$f":"IF($F256=\"\",\"\",VLOOKUP($F256,判定式!$Q$3:$W$12,7,TRUE))","v":""},{"$f":"IF($G256=\"\",\"\",VLOOKUP($G256,判定式!$R$3:$W$12,6,TRUE))","v":""},{"$f":"IF($H256=\"\",\"\",VLOOKUP($H256,判定式!$S$3:$W$12,5,TRUE))","v":""},{"$f":"IF($I256=\"\",\"\",VLOOKUP($I256,判定式!$V$3:$W$12,2,TRUE))","v":""},{"$f":"IF($J256=\"\",\"\",VLOOKUP($J256,判定式!$Y$3:$Z$12,2,TRUE))","v":""},{"$f":"IF($K256=\"\",\"\",VLOOKUP($K256,判定式!$T$3:$W$12,4,TRUE))","v":""},{"$f":"IF($L256=\"\",\"\",VLOOKUP($L256,判定式!$U$3:$W$12,3,TRUE))","v":""},"",{"$f":"IF(ISNUMBER(D256),\"判定外\",IF(C256=6,VLOOKUP(U256,判定式!$C$15:I$19,7,TRUE),IF(C256=7,VLOOKUP(U256,判定式!$D$15:I$19,6,TRUE),IF(C256=8,VLOOKUP(U256,判定式!$E$15:I$19,5,TRUE),IF(C256=9,VLOOKUP(U256,判定式!$F$15:I$19,4,TRUE),IF(C256=10,VLOOKUP(U256,判定式!$G$15:I$19,3,TRUE),IF(C256=11,VLOOKUP(U256,判定式!$H$15:I$19,2,TRUE))))))))","v":false}]
[108,null,null,"-",null,null,null,null,null,null,null,null,{"$f":"IF($E257=\"\",\"\",VLOOKUP($E257,判定式!$P$3:$W$12,8,TRUE))","v":""},{"$f":"IF($F257=\"\",\"\",VLOOKUP($F257,判定式!$Q$3:$W$12,7,TRUE))","v":""},{"$f":"IF($G257=\"\",\"\",VLOOKUP($G257,判定式!$R$3:$W$12,6,TRUE))","v":""},{"$f":"IF($H257=\"\",\"\",VLOOKUP($H257,判定式!$S$3:$W$12,5,TRUE))","v":""},{"$f":"IF($I257=\"\",\"\",VLOOKUP($I257,判定式!$V$3:$W$12,2,TRUE))","v":""},{"$f":"IF($J257=\"\",\"\",VLOOKUP($J257,判定式!$Y$3:$Z$12,2,TRUE))","v":""},{"$f":"IF($K257=\"\",\"\",VLOOKUP($K257,判定式!$T$3:$W$12,4,TRUE))","v":""},{"$f":"IF($L257=\"\",\"\",VLOOKUP($L257,判定式!$U$3:$W$12,3,TRUE))","v":""},"",{"$f":"IF(ISNUMBER(D257),\"判定外\",IF(C257=6,VLOOKUP(U257,判定式!$C$15:I$19,7,TRUE),IF(C257=7,VLOOKUP(U257,判定式!$D$15:I$19,6,TRUE),IF(C257=8,VLOOKUP(U257,判定式!$E$15:I$19,5,TRUE),IF(C257=9,VLOOKUP(U257,判定式!$F$15:I$19,4,TRUE),IF(C257=10,VLOOKUP(U257,判定式!$G$15:I$19,3,TRUE),IF(C257=11,VLOOKUP(U257,判定式!$H$15:I$19,2,TRUE))))))))","v":false}]
[109,null,null,"-",null,null,null,null,null,null,null,null,{"$f":"IF($E258=\"\",\"\",VLOOKUP($E258,判定式!$P$3:$W$12,8,TRUE))","v":""},{"$f":"IF($F258=\"\",\"\",VLOOKUP($F258,判定式!$Q$3:$W$12,7,TRUE))","v":""},{"$f":"IF($G258=\"\",\"\",VLOOKUP($G258,判定式!$R$3:$W$12,6,TRUE))","v":""},{"$f":"IF($H258=\"\",\"\",VLOOKUP($H258,判定式!$S$3:$W$12,5,TRUE))","v":""},{"$f":"IF($I258=\"\",\"\",VLOOKUP($I258,判定式!$V$3:$W$12,2,TRUE))","v":""},{"$f":"IF($J258=\"\",\"\",VLOOKUP($J258,判定式!$Y$3:$Z$12,2,TRUE))","v":""},{"$f":"IF($K258=\"\",\"\",VLOOKUP($K258,判定式!$T$3:$W$12,4,TRUE))","v":""},{"$f":"IF($L258=\"\",\"\",VLOOKUP($L258,判定式!$U$3:$W$12,3,TRUE))","v":""},"",{"$f":"IF(ISNUMBER(D258),\"判定外\",IF(C258=6,VLOOKUP(U258,判定式!$C$15:I$19,7,TRUE),IF(C258=7,VLOOKUP(U258,判定式!$D$15:I$19,6,TRUE),IF(C258=8,VLOOKUP(U258,判定式!$E$15:I$19,5,TRUE),IF(C258=9,VLOOKUP(U258,判定式!$F$15:I$19,4,TRUE),IF(C258=10,VLOOKUP(U258,判定式!$G$15:I$19,3,TRUE),IF(C258=11,VLOOKUP(U258,判定式!$H$15:I$19,2,TRUE))))))))","v":false}]
[110,null,null,"-",null,null,null,null,null,null,null,null,{"$f":"IF($E259=\"\",\"\",VLOOKUP($E259,判定式!$P$3:$W$12,8,TRUE))","v":""},{"$f":"IF($F259=\"\",\"\",VLOOKUP($F259,判定式!$Q$3:$W$12,7,TRUE))","v":""},{"$f":"IF($G259=\"\",\"\",VLOOKUP($G259,判定式!$R$3:$W$12,6,TRUE))","v":""},{"$f":"IF($H259=\"\",\"\",VLOOKUP($H259,判定式!$S$3:$W$12,5,TRUE))","v":""},{"$f":"IF($I259=\"\",\"\",VLOOKUP($I259,判定式!$V$3:$W$12,2,TRUE))","v":""},{"$f":"IF($J259=\"\",\"\",VLOOKUP($J259,判定式!$Y$3:$Z$12,2,TRUE))","v":""},{"$f":"IF($K259=\"\",\"\",VLOOKUP($K259,判定式!$T$3:$W$12,4,TRUE))","v":""},{"$f":"IF($L259=\"\",\"\",VLOOKUP($L259,判定式!$U$3:$W$12,3,TRUE))","v":""},"",{"$f":"IF(ISNUMBER(D259),\"判定外\",IF(C259=6,VLOOKUP(U259,判定式!$C$15:I$19,7,TRUE),IF(C259=7,VLOOKUP(U259,判定式!$D$15:I$19,6,TRUE),IF(C259=8,VLOOKUP(U259,判定式!$E$15:I$19,5,TRUE),IF(C259=9,VLOOKUP(U259,判定式!$F$15:I$19,4,TRUE),IF(C259=10,VLOOKUP(U259,判定式!$G$15:I$19,3,TRUE),IF(C259=11,VLOOKUP(U259,判定式!$H$15:I$19,2,TRUE))))))))","v":false}]
[111,null,null,"-",null,null,null,null,null,null,null,null,{"$f":"IF($E260=\"\",\"\",VLOOKUP($E260,判定式!$P$3:$W$12,8,TRUE))","v":""},{"$f":"IF($F260=\"\",\"\",VLOOKUP($F260,判定式!$Q$3:$W$12,7,TRUE))","v":""},{"$f":"IF($G260=\"\",\"\",VLOOKUP($G260,判定式!$R$3:$W$12,6,TRUE))","v":""},{"$f":"IF($H260=\"\",\"\",VLOOKUP($H260,判定式!$S$3:$W$12,5,TRUE))","v":""},{"$f":"IF($I260=\"\",\"\",VLOOKUP($I260,判定式!$V$3:$W$12,2,TRUE))","v":""},{"$f":"IF($J260=\"\",\"\",VLOOKUP($J260,判定式!$Y$3:$Z$12,2,TRUE))","v":""},{"$f":"IF($K260=\"\",\"\",VLOOKUP($K260,判定式!$T$3:$W$12,4,TRUE))","v":""},{"$f":"IF($L260=\"\",\"\",VLOOKUP($L260,判定式!$U$3:$W$12,3,TRUE))","v":""},"",{"$f":"IF(ISNUMBER(D260),\"判定外\",IF(C260=6,VLOOKUP(U260,判定式!$C$15:I$19,7,TRUE),IF(C260=7,VLOOKUP(U260,判定式!$D$15:I$19,6,TRUE),IF(C260=8,VLOOKUP(U260,判定式!$E$15:I$19,5,TRUE),IF(C260=9,VLOOKUP(U260,判定式!$F$15:I$19,4,TRUE),IF(C260=10,VLOOKUP(U260,判定式!$G$15:I$19,3,TRUE),IF(C260=11,VLOOKUP(U260,判定式!$H$15:I$19,2,TRUE))))))))","v":false}]
[112,null,null,"-",null,null,null,null,null,null,null,null,{"$f":"IF($E261=\"\",\"\",VLOOKUP($E261,判定式!$P$3:$W$12,8,TRUE))","v":""},{"$f":"IF($F261=\"\",\"\",VLOOKUP($F261,判定式!$Q$3:$W$12,7,TRUE))","v":""},{"$f":"IF($G261=\"\",\"\",VLOOKUP($G261,判定式!$R$3:$W$12,6,TRUE))","v":""},{"$f":"IF($H261=\"\",\"\",VLOOKUP($H261,判定式!$S$3:$W$12,5,TRUE))","v":""},{"$f":"IF($I261=\"\",\"\",VLOOKUP($I261,判定式!$V$3:$W$12,2,TRUE))","v":""},{"$f":"IF($J261=\"\",\"\",VLOOKUP($J261,判定式!$Y$3:$Z$12,2,TRUE))","v":""},{"$f":"IF($K261=\"\",\"\",VLOOKUP($K261,判定式!$T$3:$W$12,4,TRUE))","v":""},{"$f":"IF($L261=\"\",\"\",VLOOKUP($L261,判定式!$U$3:$W$12,3,TRUE))","v":""},"",{"$f":"IF(ISNUMBER(D261),\"判定外\",IF(C261=6,VLOOKUP(U261,判定式!$C$15:I$19,7,TRUE),IF(C261=7,VLOOKUP(U261,判定式!$D$15:I$19,6,TRUE),IF(C261=8,VLOOKUP(U261,判定式!$E$15:I$19,5,TRUE),IF(C261=9,VLOOKUP(U261,判定式!$F$15:I$19,4,TRUE),IF(C261=10,VLOOKUP(U261,判定式!$G$15:I$19,3,TRUE),IF(C261=11,VLOOKUP(U261,判定式!$H$15:I$19,2,TRUE))))))))","v":false}]
[113,null,null,"-",null,null,null,null,null,null,null,null,{"$f":"IF($E262=\"\",\"\",VLOOKUP($E262,判定式!$P$3:$W$12,8,TRUE))","v":""},{"$f":"IF($F262=\"\",\"\",VLOOKUP($F262,判定式!$Q$3:$W$12,7,TRUE))","v":""},{"$f":"IF($G262=\"\",\"\",VLOOKUP($G262,判定式!$R$3:$W$12,6,TRUE))","v":""},{"$f":"IF($H262=\"\",\"\",VLOOKUP($H262,判定式!$S$3:$W$12,5,TRUE))","v":""},{"$f":"IF($I262=\"\",\"\",VLOOKUP($I262,判定式!$V$3:$W$12,2,TRUE))","v":""},{"$f":"IF($J262=\"\",\"\",VLOOKUP($J262,判定式!$Y$3:$Z$12,2,TRUE))","v":""},{"$f":"IF($K262=\"\",\"\",VLOOKUP($K262,判定式!$T$3:$W$12,4,TRUE))","v":""},{"$f":"IF($L262=\"\",\"\",VLOOKUP($L262,判定式!$U$3:$W$12,3,TRUE))","v":""},"",{"$f":"IF(ISNUMBER(D262),\"判定外\",IF(C262=6,VLOOKUP(U262,判定式!$C$15:I$19,7,TRUE),IF(C262=7,VLOOKUP(U262,判定式!$D$15:I$19,6,TRUE),IF(C262=8,VLOOKUP(U262,判定式!$E$15:I$19,5,TRUE),IF(C262=9,VLOOKUP(U262,判定式!$F$15:I$19,4,TRUE),IF(C262=10,VLOOKUP(U262,判定式!$G$15:I$19,3,TRUE),IF(C262=11,VLOOKUP(U262,判定式!$H$15:I$19,2,TRUE))))))))","v":false}]
[114,null,null,"-",null,null,null,null,null,null,null,null,{"$f":"IF($E263=\"\",\"\",VLOOKUP($E263,判定式!$P$3:$W$12,8,TRUE))","v":""},{"$f":"IF($F263=\"\",\"\",VLOOKUP($F263,判定式!$Q$3:$W$12,7,TRUE))","v":""},{"$f":"IF($G263=\"\",\"\",VLOOKUP($G263,判定式!$R$3:$W$12,6,TRUE))","v":""},{"$f":"IF($H263=\"\",\"\",VLOOKUP($H263,判定式!$S$3:$W$12,5,TRUE))","v":""},{"$f":"IF($I263=\"\",\"\",VLOOKUP($I263,判定式!$V$3:$W$12,2,TRUE))","v":""},{"$f":"IF($J263=\"\",\"\",VLOOKUP($J263,判定式!$Y$3:$Z$12,2,TRUE))","v":""},{"$f":"IF($K263=\"\",\"\",VLOOKUP($K263,判定式!$T$3:$W$12,4,TRUE))","v":""},{"$f":"IF($L263=\"\",\"\",VLOOKUP($L263,判定式!$U$3:$W$12,3,TRUE))","v":""},"",{"$f":"IF(ISNUMBER(D263),\"判定外\",IF(C263=6,VLOOKUP(U263,判定式!$C$15:I$19,7,TRUE),IF(C263=7,VLOOKUP(U263,判定式!$D$15:I$19,6,TRUE),IF(C263=8,VLOOKUP(U263,判定式!$E$15:I$19,5,TRUE),IF(C263=9,VLOOKUP(U263,判定式!$F$15:I$19,4,TRUE),IF(C263=10,VLOOKUP(U263,判定式!$G$15:I$19,3,TRUE),IF(C263=11,VLOOKUP(U263,判定式!$H$15:I$19,2,TRUE))))))))","v":false}]
[115,null,null,"-",null,null,null,null,null,null,null,null,{"$f":"IF($E264=\"\",\"\",VLOOKUP($E264,判定式!$P$3:$W$12,8,TRUE))","v":""},{"$f":"IF($F264=\"\",\"\",VLOOKUP($F264,判定式!$Q$3:$W$12,7,TRUE))","v":""},{"$f":"IF($G264=\"\",\"\",VLOOKUP($G264,判定式!$R$3:$W$12,6,TRUE))","v":""},{"$f":"IF($H264=\"\",\"\",VLOOKUP($H264,判定式!$S$3:$W$12,5,TRUE))","v":""},{"$f":"IF($I264=\"\",\"\",VLOOKUP($I264,判定式!$V$3:$W$12,2,TRUE))","v":""},{"$f":"IF($J264=\"\",\"\",VLOOKUP($J264,判定式!$Y$3:$Z$12,2,TRUE))","v":""},{"$f":"IF($K264=\"\",\"\",VLOOKUP($K264,判定式!$T$3:$W$12,4,TRUE))","v":""},{"$f":"IF($L264=\"\",\"\",VLOOKUP($L264,判定式!$U$3:$W$12,3,TRUE))","v":""},"",{"$f":"IF(ISNUMBER(D264),\"判定外\",IF(C264=6,VLOOKUP(U264,判定式!$C$15:I$19,7,TRUE),IF(C264=7,VLOOKUP(U264,判定式!$D$15:I$19,6,TRUE),IF(C264=8,VLOOKUP(U264,判定式!$E$15:I$19,5,TRUE),IF(C264=9,VLOOKUP(U264,判定式!$F$15:I$19,4,TRUE),IF(C264=10,VLOOKUP(U264,判定式!$G$15:I$19,3,TRUE),IF(C264=11,VLOOKUP(U264,判定式!$H$15:I$19,2,TRUE))))))))","v":false}]
[116,null,null,"-",null,null,null,null,null,null,null,null,{"$f":"IF($E265=\"\",\"\",VLOOKUP($E265,判定式!$P$3:$W$12,8,TRUE))","v":""},{"$f":"IF($F265=\"\",\"\",VLOOKUP($F265,判定式!$Q$3:$W$12,7,TRUE))","v":""},{"$f":"IF($G265=\"\",\"\",VLOOKUP($G265,判定式!$R$3:$W$12,6,TRUE))","v":""},{"$f":"IF($H265=\"\",\"\",VLOOKUP($H265,判定式!$S$3:$W$12,5,TRUE))","v":""},{"$f":"IF($I265=\"\",\"\",VLOOKUP($I265,判定式!$V$3:$W$12,2,TRUE))","v":""},{"$f":"IF($J265=\"\",\"\",VLOOKUP($J265,判定式!$Y$3:$Z$12,2,TRUE))","v":""},{"$f":"IF($K265=\"\",\"\",VLOOKUP($K265,判定式!$T$3:$W$12,4,TRUE))","v":""},{"$f":"IF($L265=\"\",\"\",VLOOKUP($L265,判定式!$U$3:$W$12,3,TRUE))","v":""},"",{"$f":"IF(ISNUMBER(D265),\"判定外\",IF(C265=6,VLOOKUP(U265,判定式!$C$15:I$19,7,TRUE),IF(C265=7,VLOOKUP(U265,判定式!$D$15:I$19,6,TRUE),IF(C265=8,VLOOKUP(U265,判定式!$E$15:I$19,5,TRUE),IF(C265=9,VLOOKUP(U265,判定式!$F$15:I$19,4,TRUE),IF(C265=10,VLOOKUP(U265,判定式!$G$15:I$19,3,TRUE),IF(C265=11,VLOOKUP(U265,判定式!$H$15:I$19,2,TRUE))))))))","v":false}]
[117,null,null,"-",null,null,null,null,null,null,null,null,{"$f":"IF($E266=\"\",\"\",VLOOKUP($E266,判定式!$P$3:$W$12,8,TRUE))","v":""},{"$f":"IF($F266=\"\",\"\",VLOOKUP($F266,判定式!$Q$3:$W$12,7,TRUE))","v":""},{"$f":"IF($G266=\"\",\"\",VLOOKUP($G266,判定式!$R$3:$W$12,6,TRUE))","v":""},{"$f":"IF($H266=\"\",\"\",VLOOKUP($H266,判定式!$S$3:$W$12,5,TRUE))","v":""},{"$f":"IF($I266=\"\",\"\",VLOOKUP($I266,判定式!$V$3:$W$12,2,TRUE))","v":""},{"$f":"IF($J266=\"\",\"\",VLOOKUP($J266,判定式!$Y$3:$Z$12,2,TRUE))","v":""},{"$f":"IF($K266=\"\",\"\",VLOOKUP($K266,判定式!$T$3:$W$12,4,TRUE))","v":""},{"$f":"IF($L266=\"\",\"\",VLOOKUP($L266,判定式!$U$3:$W$12,3,TRUE))","v":""},"",{"$f":"IF(ISNUMBER(D266),\"判定外\",IF(C266=6,VLOOKUP(U266,判定式!$C$15:I$19,7,TRUE),IF(C266=7,VLOOKUP(U266,判定式!$D$15:I$19,6,TRUE),IF(C266=8,VLOOKUP(U266,判定式!$E$15:I$19,5,TRUE),IF(C266=9,VLOOKUP(U266,判定式!$F$15:I$19,4,TRUE),IF(C266=10,VLOOKUP(U266,判定式!$G$15:I$19,3,TRUE),IF(C266=11,VLOOKUP(U266,判定式!$H$15:I$19,2,TRUE))))))))","v":false}]
[118,null,null,"-",null,null,null,null,null,null,null,null,{"$f":"IF($E267=\"\",\"\",VLOOKUP($E267,判定式!$P$3:$W$12,8,TRUE))","v":""},{"$f":"IF($F267=\"\",\"\",VLOOKUP($F267,判定式!$Q$3:$W$12,7,TRUE))","v":""},{"$f":"IF($G267=\"\",\"\",VLOOKUP($G267,判定式!$R$3:$W$12,6,TRUE))","v":""},{"$f":"IF($H267=\"\",\"\",VLOOKUP($H267,判定式!$S$3:$W$12,5,TRUE))","v":""},{"$f":"IF($I267=\"\",\"\",VLOOKUP($I267,判定式!$V$3:$W$12,2,TRUE))","v":""},{"$f":"IF($J267=\"\",\"\",VLOOKUP($J267,判定式!$Y$3:$Z$12,2,TRUE))","v":""},{"$f":"IF($K267=\"\",\"\",VLOOKUP($K267,判定式!$T$3:$W$12,4,TRUE))","v":""},{"$f":"IF($L267=\"\",\"\",VLOOKUP($L267,判定式!$U$3:$W$12,3,TRUE))","v":""},"",{"$f":"IF(ISNUMBER(D267),\"判定外\",IF(C267=6,VLOOKUP(U267,判定式!$C$15:I$19,7,TRUE),IF(C267=7,VLOOKUP(U267,判定式!$D$15:I$19,6,TRUE),IF(C267=8,VLOOKUP(U267,判定式!$E$15:I$19,5,TRUE),IF(C267=9,VLOOKUP(U267,判定式!$F$15:I$19,4,TRUE),IF(C267=10,VLOOKUP(U267,判定式!$G$15:I$19,3,TRUE),IF(C267=11,VLOOKUP(U267,判定式!$H$15:I$19,2,TRUE))))))))","v":false}]
[119,null,null,"-",null,null,null,null,null,null,null,null,{"$f":"IF($E268=\"\",\"\",VLOOKUP($E268,判定式!$P$3:$W$12,8,TRUE))","v":""},{"$f":"IF($F268=\"\",\"\",VLOOKUP($F268,判定式!$Q$3:$W$12,7,TRUE))","v":""},{"$f":"IF($G268=\"\",\"\",VLOOKUP($G268,判定式!$R$3:$W$12,6,TRUE))","v":""},{"$f":"IF($H268=\"\",\"\",VLOOKUP($H268,判定式!$S$3:$W$12,5,TRUE))","v":""},{"$f":"IF($I268=\"\",\"\",VLOOKUP($I268,判定式!$V$3:$W$12,2,TRUE))","v":""},{"$f":"IF($J268=\"\",\"\",VLOOKUP($J268,判定式!$Y$3:$Z$12,2,TRUE))","v":""},{"$f":"IF($K268=\"\",\"\",VLOOKUP($K268,判定式!$T$3:$W$12,4,TRUE))","v":""},{"$f":"IF($L268=\"\",\"\",VLOOKUP($L268,判定式!$U$3:$W$12,3,TRUE))","v":""},"",{"$f":"IF(ISNUMBER(D268),\"判定外\",IF(C268=6,VLOOKUP(U268,判定式!$C$15:I$19,7,TRUE),IF(C268=7,VLOOKUP(U268,判定式!$D$15:I$19,6,TRUE),IF(C268=8,VLOOKUP(U268,判定式!$E$15:I$19,5,TRUE),IF(C268=9,VLOOKUP(U268,判定式!$F$15:I$19,4,TRUE),IF(C268=10,VLOOKUP(U268,判定式!$G$15:I$19,3,TRUE),IF(C268=11,VLOOKUP(U268,判定式!$H$15:I$19,2,TRUE))))))))","v":false}]
[120,null,null,"-",null,null,null,null,null,null,null,null,{"$f":"IF($E269=\"\",\"\",VLOOKUP($E269,判定式!$P$3:$W$12,8,TRUE))","v":""},{"$f":"IF($F269=\"\",\"\",VLOOKUP($F269,判定式!$Q$3:$W$12,7,TRUE))","v":""},{"$f":"IF($G269=\"\",\"\",VLOOKUP($G269,判定式!$R$3:$W$12,6,TRUE))","v":""},{"$f":"IF($H269=\"\",\"\",VLOOKUP($H269,判定式!$S$3:$W$12,5,TRUE))","v":""},{"$f":"IF($I269=\"\",\"\",VLOOKUP($I269,判定式!$V$3:$W$12,2,TRUE))","v":""},{"$f":"IF($J269=\"\",\"\",VLOOKUP($J269,判定式!$Y$3:$Z$12,2,TRUE))","v":""},{"$f":"IF($K269=\"\",\"\",VLOOKUP($K269,判定式!$T$3:$W$12,4,TRUE))","v":""},{"$f":"IF($L269=\"\",\"\",VLOOKUP($L269,判定式!$U$3:$W$12,3,TRUE))","v":""},"",{"$f":"IF(ISNUMBER(D269),\"判定外\",IF(C269=6,VLOOKUP(U269,判定式!$C$15:I$19,7,TRUE),IF(C269=7,VLOOKUP(U269,判定式!$D$15:I$19,6,TRUE),IF(C269=8,VLOOKUP(U269,判定式!$E$15:I$19,5,TRUE),IF(C269=9,VLOOKUP(U269,判定式!$F$15:I$19,4,TRUE),IF(C269=10,VLOOKUP(U269,判定式!$G$15:I$19,3,TRUE),IF(C269=11,VLOOKUP(U269,判定式!$H$15:I$19,2,TRUE))))))))","v":false}]

{"sheet":"小5","index":5,"n_rows":269,"n_cols":22,"rows_kept":269,"cut":false,"hidden":false,"merged":[[18,19,19,19],[18,15,19,15],[147,14,148,14],[1,2,1,5],[17,4,17,11],[17,12,17,19],[18,16,19,16],[18,17,19,17],[18,18,19,18],[3,13,3,19],[4,2,7,2],[7,14,7,16],[8,2,11,2],[11,14,11,16],[146,12,146,19],[147,19,148,19],[147,15,148,15],[147,16,148,16],[147,17,148,17],[147,18,148,18],[18,14,19,14],[146,3,148,3],[147,12,148,12],[147,13,148,13],[17,3,19,3],[18,12,19,12],[18,13,19,13],[146,4,146,11]]}
[null,{"$f":"IF(入力要領・学校名入力!D2=0,\"\",入力要領・学校名入力!D2)","v":""},"年度","三重県体力・運動能力調査実技種目（新体力テスト）集計表"]
[null,"学校名",{"$f":"IF(入力要領・学校名入力!H2=0,\"\",入力要領・学校名入力!H2)","v":""},null,null,null,"「年度」「学校名」は【入力要領・学校名入力】シートにて行ってください。"]
[]
[null,"集計速報値",null,"種目","握力","上体起こし","長座体前屈","反復横とび","20mシャトルラン","５０ｍ走","立ち幅とび","ｿﾌﾄﾎﾞｰﾙ投げ","体力合計点","総合評価"]
[null,null,"小５\n男子","標本数",{"$f":"COUNT(E21:E140)","v":0},{"$f":"COUNT(F21:F140)","v":0},0,0,0,0,0,0,{"$f":"COUNT(U21:U140)","v":0},"判定","A","B","C","D","E","判定外"]
[null,null,null,"平均",{"$f":"IF(ISERROR(AVERAGE(E21:E140)),\"\",AVERAGE(E21:E140))","v":""},"","","","","","","",{"$f":"IF(ISERROR(AVERAGE(U21:U140)),\"\",AVERAGE(U21:U140))","v":""},"人数",{"$f":"COUNTIF($V21:$V140,\"A\")","v":0},{"$f":"COUNTIF($V21:$V140,\"B\")","v":0},{"$f":"COUNTIF($V21:$V140,\"C\")","v":0},{"$f":"COUNTIF($V21:$V140,\"d\")","v":0},{"$f":"COUNTIF($V21:$V140,\"e\")","v":0},{"$f":"COUNTIF($V21:$V140,\"判定外\")","v":0}]
[null,null,null,"標準偏差",{"$f":"IF(ISERROR(STDEV(E21:E140)),\"\",STDEV(E21:E140))","v":""},"","","","","","","",{"$f":"IF(ISERROR(STDEV(U21:U140)),\"\",STDEV(U21:U140))","v":""},"割合",{"$f":"IFERROR(O6/SUM($O$6:$S$6),0)","v":0},{"$f":"IFERROR(P6/SUM($O$6:$S$6),0)","v":0},0,0,0]
[null,null,null,"目標値",17,19,34,43,52,9.4,152,24,55,"ABC",{"$f":"SUM(O7:Q7)","v":0},null,null,"AB－DE",{"$f":"(+O7+P7)-(R7+S7)","v":0}]
[null,null,"小５\n女子","標本数",{"$f":"COUNT(E150:E269)","v":0},{"$f":"COUNT(F150:F269)","v":0},0,0,0,0,0,0,{"$f":"COUNT(U150:U269)","v":0},"判定","A","B","C","D","E","判定外"]
[null,null,null,"平均",{"$f":"IF(ISERROR(AVERAGE(E150:E269)),\"\",AVERAGE(E150:E269))","v":""},"","","","","","","",{"$f":"IF(ISERROR(AVERAGE(U150:U269)),\"\",AVERAGE(U150:U269))","v":""},"人数",{"$f":"COUNTIF($V150:$V269,\"A\")","v":0},{"$f":"COUNTIF($V150:$V269,\"B\")","v":0},{"$f":"COUNTIF($V150:$V269,\"C\")","v":0},{"$f":"COUNTIF($V150:$V269,\"d\")","v":0},{"$f":"COUNTIF($V150:$V269,\"e\")","v":0},{"$f":"COUNTIF($V150:$V269,\"判定外\")","v":0}]
[null,null,null,"標準偏差",{"$f":"IF(ISERROR(STDEV(E150:E269)),\"\",STDEV(E150:E269))","v":""},"","","","","","","",{"$f":"IF(ISERROR(STDEV(U150:U269)),\"\",STDEV(U150:U269))","v":""},"割合",{"$f":"IFERROR(O10/SUM($O$10:$S$10),0)","v":0},{"$f":"IFERROR(P10/SUM($O$10:$S$10),0)","v":0},0,0,0]
[null,null,null,"目標値",17,18,38,40,40,9.6999999999999993,145,14,56,"ABC",{"$f":"SUM(O11:Q11)","v":0},null,null,"AB－DE",{"$f":"(+O11+P11)-(R11+S11)","v":0}]
[]
[null,"男子入力欄（女子は下段）"]
[]
[null,"提出時、名前記入は任意","年齢は、全員１０",null,null,null,null,"５０m走は、1/100秒を切り上げて、「例：9.72→9.8」のように1/１０秒単位を入力する"]
[null,"小５　男子",10,"自動","整数","整数","整数","整数","整数","小数第１位","整数","整数"]
[null,null,"年齢","未実施\n項目数","調　　査　　項　　目　　記　　録",null,null,null,null,null,null,null,"実技種目得点"]
["Ｎｏ．","名前","半角",null,"握力","上体起こし","長座体前屈","反復横とび","シャトルラン","５０ｍ走","立ち幅とび","ﾎﾞｰﾙ投げ","握力","上体\n起こし","長座\n体前屈","反復\n横跳び","ｼｬﾄﾙ\nﾗﾝ","50ｍ\n走","立ち\n幅とび","ボール\n投げ","体力","総合"]
[null,null,10,null,"（ｋｇ）","（回）","（ｃｍ）","（回）","（回）","（秒）","（ｃｍ）","（ｍ）",null,null,null,null,null,null,null,null,"合計点","評価"]
[1,null,null,{"$f":"IF(COUNTBLANK(E21:L21)=0,\"\",IF(COUNTBLANK(E21:L21)=8,\"-\",COUNTBLANK(E21:L21)))","v":"-"},null,null,null,null,null,null,null,null,{"$f":"IF(E21=\"\",\"\",VLOOKUP(E21,判定式!C$3:$J$12,8,TRUE))","v":""},{"$f":"IF(F21=\"\",\"\",VLOOKUP(F21,判定式!D$3:$J$12,7,TRUE))","v":""},{"$f":"IF(G21=\"\",\"\",VLOOKUP(G21,判定式!E$3:$J$12,6,TRUE))","v":""},{"$f":"IF(H21=\"\",\"\",VLOOKUP(H21,判定式!F$3:$J$12,5,TRUE))","v":""},{"$f":"IF(I21=\"\",\"\",VLOOKUP(I21,判定式!I$3:$J$12,2,TRUE))","v":""},{"$f":"IF(J21=\"\",\"\",VLOOKUP(J21,判定式!L$3:$M$12,2,TRUE))","v":""},{"$f":"IF(K21=\"\",\"\",VLOOKUP(K21,判定式!G$3:$J$12,4,TRUE))","v":""},{"$f":"IF(L21=\"\",\"\",VLOOKUP(L21,判定式!H$3:$J$12,3,TRUE))","v":""},{"$f":"IF(COUNTBLANK(M21:T21)=0,SUM(M21:T21),\"\")","v":""},{"$f":"IF(ISNUMBER(D21),\"判定外\",IF(C21=6,VLOOKUP(U21,判定式!$C$15:I$19,7,TRUE),IF(C21=7,VLOOKUP(U21,判定式!$D$15:I$19,6,TRUE),IF(C21=8,VLOOKUP(U21,判定式!$E$15:I$19,5,TRUE),IF(C21=9,VLOOKUP(U21,判定式!$F$15:I$19,4,TRUE),IF(C21=10,VLOOKUP(U21,判定式!$G$15:I$19,3,TRUE),IF(C21=11,VLOOKUP(U21,判定式!$H$15:I$19,2,TRUE))))))))","v":false}]
[2,null,null,"-",null,null,null,null,null,null,null,null,{"$f":"IF(E22=\"\",\"\",VLOOKUP(E22,判定式!C$3:$J$12,8,TRUE))","v":""},{"$f":"IF(F22=\"\",\"\",VLOOKUP(F22,判定式!D$3:$J$12,7,TRUE))","v":""},{"$f":"IF(G22=\"\",\"\",VLOOKUP(G22,判定式!E$3:$J$12,6,TRUE))","v":""},{"$f":"IF(H22=\"\",\"\",VLOOKUP(H22,判定式!F$3:$J$12,5,TRUE))","v":""},{"$f":"IF(I22=\"\",\"\",VLOOKUP(I22,判定式!I$3:$J$12,2,TRUE))","v":""},{"$f":"IF(J22=\"\",\"\",VLOOKUP(J22,判定式!L$3:$M$12,2,TRUE))","v":""},{"$f":"IF(K22=\"\",\"\",VLOOKUP(K22,判定式!G$3:$J$12,4,TRUE))","v":""},{"$f":"IF(L22=\"\",\"\",VLOOKUP(L22,判定式!H$3:$J$12,3,TRUE))","v":""},{"$f":"IF(COUNTBLANK(M22:T22)=0,SUM(M22:T22),\"\")","v":""},{"$f":"IF(ISNUMBER(D22),\"判定外\",IF(C22=6,VLOOKUP(U22,判定式!$C$15:I$19,7,TRUE),IF(C22=7,VLOOKUP(U22,判定式!$D$15:I$19,6,TRUE),IF(C22=8,VLOOKUP(U22,判定式!$E$15:I$19,5,TRUE),IF(C22=9,VLOOKUP(U22,判定式!$F$15:I$19,4,TRUE),IF(C22=10,VLOOKUP(U22,判定式!$G$15:I$19,3,TRUE),IF(C22=11,VLOOKUP(U22,判定式!$H$15:I$19,2,TRUE))))))))","v":false}]
[3,null,null,"-",null,null,null,null,null,null,null,null,{"$f":"IF(E23=\"\",\"\",VLOOKUP(E23,判定式!C$3:$J$12,8,TRUE))","v":""},{"$f":"IF(F23=\"\",\"\",VLOOKUP(F23,判定式!D$3:$J$12,7,TRUE))","v":""},{"$f":"IF(G23=\"\",\"\",VLOOKUP(G23,判定式!E$3:$J$12,6,TRUE))","v":""},{"$f":"IF(H23=\"\",\"\",VLOOKUP(H23,判定式!F$3:$J$12,5,TRUE))","v":""},{"$f":"IF(I23=\"\",\"\",VLOOKUP(I23,判定式!I$3:$J$12,2,TRUE))","v":""},{"$f":"IF(J23=\"\",\"\",VLOOKUP(J23,判定式!L$3:$M$12,2,TRUE))","v":""},{"$f":"IF(K23=\"\",\"\",VLOOKUP(K23,判定式!G$3:$J$12,4,TRUE))","v":""},{"$f":"IF(L23=\"\",\"\",VLOOKUP(L23,判定式!H$3:$J$12,3,TRUE))","v":""},"",{"$f":"IF(ISNUMBER(D23),\"判定外\",IF(C23=6,VLOOKUP(U23,判定式!$C$15:I$19,7,TRUE),IF(C23=7,VLOOKUP(U23,判定式!$D$15:I$19,6,TRUE),IF(C23=8,VLOOKUP(U23,判定式!$E$15:I$19,5,TRUE),IF(C23=9,VLOOKUP(U23,判定式!$F$15:I$19,4,TRUE),IF(C23=10,VLOOKUP(U23,判定式!$G$15:I$19,3,TRUE),IF(C23=11,VLOOKUP(U23,判定式!$H$15:I$19,2,TRUE))))))))","v":false}]
[4,null,null,"-",null,null,null,null,null,null,null,null,{"$f":"IF(E24=\"\",\"\",VLOOKUP(E24,判定式!C$3:$J$12,8,TRUE))","v":""},{"$f":"IF(F24=\"\",\"\",VLOOKUP(F24,判定式!D$3:$J$12,7,TRUE))","v":""},{"$f":"IF(G24=\"\",\"\",VLOOKUP(G24,判定式!E$3:$J$12,6,TRUE))","v":""},{"$f":"IF(H24=\"\",\"\",VLOOKUP(H24,判定式!F$3:$J$12,5,TRUE))","v":""},{"$f":"IF(I24=\"\",\"\",VLOOKUP(I24,判定式!I$3:$J$12,2,TRUE))","v":""},{"$f":"IF(J24=\"\",\"\",VLOOKUP(J24,判定式!L$3:$M$12,2,TRUE))","v":""},{"$f":"IF(K24=\"\",\"\",VLOOKUP(K24,判定式!G$3:$J$12,4,TRUE))","v":""},{"$f":"IF(L24=\"\",\"\",VLOOKUP(L24,判定式!H$3:$J$12,3,TRUE))","v":""},"",{"$f":"IF(ISNUMBER(D24),\"判定外\",IF(C24=6,VLOOKUP(U24,判定式!$C$15:I$19,7,TRUE),IF(C24=7,VLOOKUP(U24,判定式!$D$15:I$19,6,TRUE),IF(C24=8,VLOOKUP(U24,判定式!$E$15:I$19,5,TRUE),IF(C24=9,VLOOKUP(U24,判定式!$F$15:I$19,4,TRUE),IF(C24=10,VLOOKUP(U24,判定式!$G$15:I$19,3,TRUE),IF(C24=11,VLOOKUP(U24,判定式!$H$15:I$19,2,TRUE))))))))","v":false}]
[5,null,null,"-",null,null,null,null,null,null,null,null,{"$f":"IF(E25=\"\",\"\",VLOOKUP(E25,判定式!C$3:$J$12,8,TRUE))","v":""},{"$f":"IF(F25=\"\",\"\",VLOOKUP(F25,判定式!D$3:$J$12,7,TRUE))","v":""},{"$f":"IF(G25=\"\",\"\",VLOOKUP(G25,判定式!E$3:$J$12,6,TRUE))","v":""},{"$f":"IF(H25=\"\",\"\",VLOOKUP(H25,判定式!F$3:$J$12,5,TRUE))","v":""},{"$f":"IF(I25=\"\",\"\",VLOOKUP(I25,判定式!I$3:$J$12,2,TRUE))","v":""},{"$f":"IF(J25=\"\",\"\",VLOOKUP(J25,判定式!L$3:$M$12,2,TRUE))","v":""},{"$f":"IF(K25=\"\",\"\",VLOOKUP(K25,判定式!G$3:$J$12,4,TRUE))","v":""},{"$f":"IF(L25=\"\",\"\",VLOOKUP(L25,判定式!H$3:$J$12,3,TRUE))","v":""},"",{"$f":"IF(ISNUMBER(D25),\"判定外\",IF(C25=6,VLOOKUP(U25,判定式!$C$15:I$19,7,TRUE),IF(C25=7,VLOOKUP(U25,判定式!$D$15:I$19,6,TRUE),IF(C25=8,VLOOKUP(U25,判定式!$E$15:I$19,5,TRUE),IF(C25=9,VLOOKUP(U25,判定式!$F$15:I$19,4,TRUE),IF(C25=10,VLOOKUP(U25,判定式!$G$15:I$19,3,TRUE),IF(C25=11,VLOOKUP(U25,判定式!$H$15:I$19,2,TRUE))))))))","v":false}]
[6,null,null,"-",null,null,null,null,null,null,null,null,{"$f":"IF(E26=\"\",\"\",VLOOKUP(E26,判定式!C$3:$J$12,8,TRUE))","v":""},{"$f":"IF(F26=\"\",\"\",VLOOKUP(F26,判定式!D$3:$J$12,7,TRUE))","v":""},{"$f":"IF(G26=\"\",\"\",VLOOKUP(G26,判定式!E$3:$J$12,6,TRUE))","v":""},{"$f":"IF(H26=\"\",\"\",VLOOKUP(H26,判定式!F$3:$J$12,5,TRUE))","v":""},{"$f":"IF(I26=\"\",\"\",VLOOKUP(I26,判定式!I$3:$J$12,2,TRUE))","v":""},{"$f":"IF(J26=\"\",\"\",VLOOKUP(J26,判定式!L$3:$M$12,2,TRUE))","v":""},{"$f":"IF(K26=\"\",\"\",VLOOKUP(K26,判定式!G$3:$J$12,4,TRUE))","v":""},{"$f":"IF(L26=\"\",\"\",VLOOKUP(L26,判定式!H$3:$J$12,3,TRUE))","v":""},"",{"$f":"IF(ISNUMBER(D26),\"判定外\",IF(C26=6,VLOOKUP(U26,判定式!$C$15:I$19,7,TRUE),IF(C26=7,VLOOKUP(U26,判定式!$D$15:I$19,6,TRUE),IF(C26=8,VLOOKUP(U26,判定式!$E$15:I$19,5,TRUE),IF(C26=9,VLOOKUP(U26,判定式!$F$15:I$19,4,TRUE),IF(C26=10,VLOOKUP(U26,判定式!$G$15:I$19,3,TRUE),IF(C26=11,VLOOKUP(U26,判定式!$H$15:I$19,2,TRUE))))))))","v":false}]
[7,null,null,"-",null,null,null,null,null,null,null,null,{"$f":"IF(E27=\"\",\"\",VLOOKUP(E27,判定式!C$3:$J$12,8,TRUE))","v":""},{"$f":"IF(F27=\"\",\"\",VLOOKUP(F27,判定式!D$3:$J$12,7,TRUE))","v":""},{"$f":"IF(G27=\"\",\"\",VLOOKUP(G27,判定式!E$3:$J$12,6,TRUE))","v":""},{"$f":"IF(H27=\"\",\"\",VLOOKUP(H27,判定式!F$3:$J$12,5,TRUE))","v":""},{"$f":"IF(I27=\"\",\"\",VLOOKUP(I27,判定式!I$3:$J$12,2,TRUE))","v":""},{"$f":"IF(J27=\"\",\"\",VLOOKUP(J27,判定式!L$3:$M$12,2,TRUE))","v":""},{"$f":"IF(K27=\"\",\"\",VLOOKUP(K27,判定式!G$3:$J$12,4,TRUE))","v":""},{"$f":"IF(L27=\"\",\"\",VLOOKUP(L27,判定式!H$3:$J$12,3,TRUE))","v":""},"",{"$f":"IF(ISNUMBER(D27),\"判定外\",IF(C27=6,VLOOKUP(U27,判定式!$C$15:I$19,7,TRUE),IF(C27=7,VLOOKUP(U27,判定式!$D$15:I$19,6,TRUE),IF(C27=8,VLOOKUP(U27,判定式!$E$15:I$19,5,TRUE),IF(C27=9,VLOOKUP(U27,判定式!$F$15:I$19,4,TRUE),IF(C27=10,VLOOKUP(U27,判定式!$G$15:I$19,3,TRUE),IF(C27=11,VLOOKUP(U27,判定式!$H$15:I$19,2,TRUE))))))))","v":false}]
[8,null,null,"-",null,null,null,null,null,null,null,null,{"$f":"IF(E28=\"\",\"\",VLOOKUP(E28,判定式!C$3:$J$12,8,TRUE))","v":""},{"$f":"IF(F28=\"\",\"\",VLOOKUP(F28,判定式!D$3:$J$12,7,TRUE))","v":""},{"$f":"IF(G28=\"\",\"\",VLOOKUP(G28,判定式!E$3:$J$12,6,TRUE))","v":""},{"$f":"IF(H28=\"\",\"\",VLOOKUP(H28,判定式!F$3:$J$12,5,TRUE))","v":""},{"$f":"IF(I28=\"\",\"\",VLOOKUP(I28,判定式!I$3:$J$12,2,TRUE))","v":""},{"$f":"IF(J28=\"\",\"\",VLOOKUP(J28,判定式!L$3:$M$12,2,TRUE))","v":""},{"$f":"IF(K28=\"\",\"\",VLOOKUP(K28,判定式!G$3:$J$12,4,TRUE))","v":""},{"$f":"IF(L28=\"\",\"\",VLOOKUP(L28,判定式!H$3:$J$12,3,TRUE))","v":""},"",{"$f":"IF(ISNUMBER(D28),\"判定外\",IF(C28=6,VLOOKUP(U28,判定式!$C$15:I$19,7,TRUE),IF(C28=7,VLOOKUP(U28,判定式!$D$15:I$19,6,TRUE),IF(C28=8,VLOOKUP(U28,判定式!$E$15:I$19,5,TRUE),IF(C28=9,VLOOKUP(U28,判定式!$F$15:I$19,4,TRUE),IF(C28=10,VLOOKUP(U28,判定式!$G$15:I$19,3,TRUE),IF(C28=11,VLOOKUP(U28,判定式!$H$15:I$19,2,TRUE))))))))","v":false}]
[9,null,null,"-",null,null,null,null,null,null,null,null,{"$f":"IF(E29=\"\",\"\",VLOOKUP(E29,判定式!C$3:$J$12,8,TRUE))","v":""},{"$f":"IF(F29=\"\",\"\",VLOOKUP(F29,判定式!D$3:$J$12,7,TRUE))","v":""},{"$f":"IF(G29=\"\",\"\",VLOOKUP(G29,判定式!E$3:$J$12,6,TRUE))","v":""},{"$f":"IF(H29=\"\",\"\",VLOOKUP(H29,判定式!F$3:$J$12,5,TRUE))","v":""},{"$f":"IF(I29=\"\",\"\",VLOOKUP(I29,判定式!I$3:$J$12,2,TRUE))","v":""},{"$f":"IF(J29=\"\",\"\",VLOOKUP(J29,判定式!L$3:$M$12,2,TRUE))","v":""},{"$f":"IF(K29=\"\",\"\",VLOOKUP(K29,判定式!G$3:$J$12,4,TRUE))","v":""},{"$f":"IF(L29=\"\",\"\",VLOOKUP(L29,判定式!H$3:$J$12,3,TRUE))","v":""},"",{"$f":"IF(ISNUMBER(D29),\"判定外\",IF(C29=6,VLOOKUP(U29,判定式!$C$15:I$19,7,TRUE),IF(C29=7,VLOOKUP(U29,判定式!$D$15:I$19,6,TRUE),IF(C29=8,VLOOKUP(U29,判定式!$E$15:I$19,5,TRUE),IF(C29=9,VLOOKUP(U29,判定式!$F$15:I$19,4,TRUE),IF(C29=10,VLOOKUP(U29,判定式!$G$15:I$19,3,TRUE),IF(C29=11,VLOOKUP(U29,判定式!$H$15:I$19,2,TRUE))))))))","v":false}]
[10,null,null,"-",null,null,null,null,null,null,null,null,{"$f":"IF(E30=\"\",\"\",VLOOKUP(E30,判定式!C$3:$J$12,8,TRUE))","v":""},{"$f":"IF(F30=\"\",\"\",VLOOKUP(F30,判定式!D$3:$J$12,7,TRUE))","v":""},{"$f":"IF(G30=\"\",\"\",VLOOKUP(G30,判定式!E$3:$J$12,6,TRUE))","v":""},{"$f":"IF(H30=\"\",\"\",VLOOKUP(H30,判定式!F$3:$J$12,5,TRUE))","v":""},{"$f":"IF(I30=\"\",\"\",VLOOKUP(I30,判定式!I$3:$J$12,2,TRUE))","v":""},{"$f":"IF(J30=\"\",\"\",VLOOKUP(J30,判定式!L$3:$M$12,2,TRUE))","v":""},{"$f":"IF(K30=\"\",\"\",VLOOKUP(K30,判定式!G$3:$J$12,4,TRUE))","v":""},{"$f":"IF(L30=\"\",\"\",VLOOKUP(L30,判定式!H$3:$J$12,3,TRUE))","v":""},"",{"$f":"IF(ISNUMBER(D30),\"判定外\",IF(C30=6,VLOOKUP(U30,判定式!$C$15:I$19,7,TRUE),IF(C30=7,VLOOKUP(U30,判定式!$D$15:I$19,6,TRUE),IF(C30=8,VLOOKUP(U30,判定式!$E$15:I$19,5,TRUE),IF(C30=9,VLOOKUP(U30,判定式!$F$15:I$19,4,TRUE),IF(C30=10,VLOOKUP(U30,判定式!$G$15:I$19,3,TRUE),IF(C30=11,VLOOKUP(U30,判定式!$H$15:I$19,2,TRUE))))))))","v":false}]
[11,null,null,"-",null,null,null,null,null,null,null,null,{"$f":"IF(E31=\"\",\"\",VLOOKUP(E31,判定式!C$3:$J$12,8,TRUE))","v":""},{"$f":"IF(F31=\"\",\"\",VLOOKUP(F31,判定式!D$3:$J$12,7,TRUE))","v":""},{"$f":"IF(G31=\"\",\"\",VLOOKUP(G31,判定式!E$3:$J$12,6,TRUE))","v":""},{"$f":"IF(H31=\"\",\"\",VLOOKUP(H31,判定式!F$3:$J$12,5,TRUE))","v":""},{"$f":"IF(I31=\"\",\"\",VLOOKUP(I31,判定式!I$3:$J$12,2,TRUE))","v":""},{"$f":"IF(J31=\"\",\"\",VLOOKUP(J31,判定式!L$3:$M$12,2,TRUE))","v":""},{"$f":"IF(K31=\"\",\"\",VLOOKUP(K31,判定式!G$3:$J$12,4,TRUE))","v":""},{"$f":"IF(L31=\"\",\"\",VLOOKUP(L31,判定式!H$3:$J$12,3,TRUE))","v":""},"",{"$f":"IF(ISNUMBER(D31),\"判定外\",IF(C31=6,VLOOKUP(U31,判定式!$C$15:I$19,7,TRUE),IF(C31=7,VLOOKUP(U31,判定式!$D$15:I$19,6,TRUE),IF(C31=8,VLOOKUP(U31,判定式!$E$15:I$19,5,TRUE),IF(C31=9,VLOOKUP(U31,判定式!$F$15:I$19,4,TRUE),IF(C31=10,VLOOKUP(U31,判定式!$G$15:I$19,3,TRUE),IF(C31=11,VLOOKUP(U31,判定式!$H$15:I$19,2,TRUE))))))))","v":false}]
[12,null,null,"-",null,null,null,null,null,null,null,null,{"$f":"IF(E32=\"\",\"\",VLOOKUP(E32,判定式!C$3:$J$12,8,TRUE))","v":""},{"$f":"IF(F32=\"\",\"\",VLOOKUP(F32,判定式!D$3:$J$12,7,TRUE))","v":""},{"$f":"IF(G32=\"\",\"\",VLOOKUP(G32,判定式!E$3:$J$12,6,TRUE))","v":""},{"$f":"IF(H32=\"\",\"\",VLOOKUP(H32,判定式!F$3:$J$12,5,TRUE))","v":""},{"$f":"IF(I32=\"\",\"\",VLOOKUP(I32,判定式!I$3:$J$12,2,TRUE))","v":""},{"$f":"IF(J32=\"\",\"\",VLOOKUP(J32,判定式!L$3:$M$12,2,TRUE))","v":""},{"$f":"IF(K32=\"\",\"\",VLOOKUP(K32,判定式!G$3:$J$12,4,TRUE))","v":""},{"$f":"IF(L32=\"\",\"\",VLOOKUP(L32,判定式!H$3:$J$12,3,TRUE))","v":""},"",{"$f":"IF(ISNUMBER(D32),\"判定外\",IF(C32=6,VLOOKUP(U32,判定式!$C$15:I$19,7,TRUE),IF(C32=7,VLOOKUP(U32,判定式!$D$15:I$19,6,TRUE),IF(C32=8,VLOOKUP(U32,判定式!$E$15:I$19,5,TRUE),IF(C32=9,VLOOKUP(U32,判定式!$F$15:I$19,4,TRUE),IF(C32=10,VLOOKUP(U32,判定式!$G$15:I$19,3,TRUE),IF(C32=11,VLOOKUP(U32,判定式!$H$15:I$19,2,TRUE))))))))","v":false}]
[13,null,null,"-",null,null,null,null,null,null,null,null,{"$f":"IF(E33=\"\",\"\",VLOOKUP(E33,判定式!C$3:$J$12,8,TRUE))","v":""},{"$f":"IF(F33=\"\",\"\",VLOOKUP(F33,判定式!D$3:$J$12,7,TRUE))","v":""},{"$f":"IF(G33=\"\",\"\",VLOOKUP(G33,判定式!E$3:$J$12,6,TRUE))","v":""},{"$f":"IF(H33=\"\",\"\",VLOOKUP(H33,判定式!F$3:$J$12,5,TRUE))","v":""},{"$f":"IF(I33=\"\",\"\",VLOOKUP(I33,判定式!I$3:$J$12,2,TRUE))","v":""},{"$f":"IF(J33=\"\",\"\",VLOOKUP(J33,判定式!L$3:$M$12,2,TRUE))","v":""},{"$f":"IF(K33=\"\",\"\",VLOOKUP(K33,判定式!G$3:$J$12,4,TRUE))","v":""},{"$f":"IF(L33=\"\",\"\",VLOOKUP(L33,判定式!H$3:$J$12,3,TRUE))","v":""},"",{"$f":"IF(ISNUMBER(D33),\"判定外\",IF(C33=6,VLOOKUP(U33,判定式!$C$15:I$19,7,TRUE),IF(C33=7,VLOOKUP(U33,判定式!$D$15:I$19,6,TRUE),IF(C33=8,VLOOKUP(U33,判定式!$E$15:I$19,5,TRUE),IF(C33=9,VLOOKUP(U33,判定式!$F$15:I$19,4,TRUE),IF(C33=10,VLOOKUP(U33,判定式!$G$15:I$19,3,TRUE),IF(C33=11,VLOOKUP(U33,判定式!$H$15:I$19,2,TRUE))))))))","v":false}]
[14,null,null,"-",null,null,null,null,null,null,null,null,{"$f":"IF(E34=\"\",\"\",VLOOKUP(E34,判定式!C$3:$J$12,8,TRUE))","v":""},{"$f":"IF(F34=\"\",\"\",VLOOKUP(F34,判定式!D$3:$J$12,7,TRUE))","v":""},{"$f":"IF(G34=\"\",\"\",VLOOKUP(G34,判定式!E$3:$J$12,6,TRUE))","v":""},{"$f":"IF(H34=\"\",\"\",VLOOKUP(H34,判定式!F$3:$J$12,5,TRUE))","v":""},{"$f":"IF(I34=\"\",\"\",VLOOKUP(I34,判定式!I$3:$J$12,2,TRUE))","v":""},{"$f":"IF(J34=\"\",\"\",VLOOKUP(J34,判定式!L$3:$M$12,2,TRUE))","v":""},{"$f":"IF(K34=\"\",\"\",VLOOKUP(K34,判定式!G$3:$J$12,4,TRUE))","v":""},{"$f":"IF(L34=\"\",\"\",VLOOKUP(L34,判定式!H$3:$J$12,3,TRUE))","v":""},"",{"$f":"IF(ISNUMBER(D34),\"判定外\",IF(C34=6,VLOOKUP(U34,判定式!$C$15:I$19,7,TRUE),IF(C34=7,VLOOKUP(U34,判定式!$D$15:I$19,6,TRUE),IF(C34=8,VLOOKUP(U34,判定式!$E$15:I$19,5,TRUE),IF(C34=9,VLOOKUP(U34,判定式!$F$15:I$19,4,TRUE),IF(C34=10,VLOOKUP(U34,判定式!$G$15:I$19,3,TRUE),IF(C34=11,VLOOKUP(U34,判定式!$H$15:I$19,2,TRUE))))))))","v":false}]
[15,null,null,"-",null,null,null,null,null,null,null,null,{"$f":"IF(E35=\"\",\"\",VLOOKUP(E35,判定式!C$3:$J$12,8,TRUE))","v":""},{"$f":"IF(F35=\"\",\"\",VLOOKUP(F35,判定式!D$3:$J$12,7,TRUE))","v":""},{"$f":"IF(G35=\"\",\"\",VLOOKUP(G35,判定式!E$3:$J$12,6,TRUE))","v":""},{"$f":"IF(H35=\"\",\"\",VLOOKUP(H35,判定式!F$3:$J$12,5,TRUE))","v":""},{"$f":"IF(I35=\"\",\"\",VLOOKUP(I35,判定式!I$3:$J$12,2,TRUE))","v":""},{"$f":"IF(J35=\"\",\"\",VLOOKUP(J35,判定式!L$3:$M$12,2,TRUE))","v":""},{"$f":"IF(K35=\"\",\"\",VLOOKUP(K35,判定式!G$3:$J$12,4,TRUE))","v":""},{"$f":"IF(L35=\"\",\"\",VLOOKUP(L35,判定式!H$3:$J$12,3,TRUE))","v":""},"",{"$f":"IF(ISNUMBER(D35),\"判定外\",IF(C35=6,VLOOKUP(U35,判定式!$C$15:I$19,7,TRUE),IF(C35=7,VLOOKUP(U35,判定式!$D$15:I$19,6,TRUE),IF(C35=8,VLOOKUP(U35,判定式!$E$15:I$19,5,TRUE),IF(C35=9,VLOOKUP(U35,判定式!$F$15:I$19,4,TRUE),IF(C35=10,VLOOKUP(U35,判定式!$G$15:I$19,3,TRUE),IF(C35=11,VLOOKUP(U35,判定式!$H$15:I$19,2,TRUE))))))))","v":false}]
[16,null,null,"-",null,null,null,null,null,null,null,null,{"$f":"IF(E36=\"\",\"\",VLOOKUP(E36,判定式!C$3:$J$12,8,TRUE))","v":""},{"$f":"IF(F36=\"\",\"\",VLOOKUP(F36,判定式!D$3:$J$12,7,TRUE))","v":""},{"$f":"IF(G36=\"\",\"\",VLOOKUP(G36,判定式!E$3:$J$12,6,TRUE))","v":""},{"$f":"IF(H36=\"\",\"\",VLOOKUP(H36,判定式!F$3:$J$12,5,TRUE))","v":""},{"$f":"IF(I36=\"\",\"\",VLOOKUP(I36,判定式!I$3:$J$12,2,TRUE))","v":""},{"$f":"IF(J36=\"\",\"\",VLOOKUP(J36,判定式!L$3:$M$12,2,TRUE))","v":""},{"$f":"IF(K36=\"\",\"\",VLOOKUP(K36,判定式!G$3:$J$12,4,TRUE))","v":""},{"$f":"IF(L36=\"\",\"\",VLOOKUP(L36,判定式!H$3:$J$12,3,TRUE))","v":""},"",{"$f":"IF(ISNUMBER(D36),\"判定外\",IF(C36=6,VLOOKUP(U36,判定式!$C$15:I$19,7,TRUE),IF(C36=7,VLOOKUP(U36,判定式!$D$15:I$19,6,TRUE),IF(C36=8,VLOOKUP(U36,判定式!$E$15:I$19,5,TRUE),IF(C36=9,VLOOKUP(U36,判定式!$F$15:I$19,4,TRUE),IF(C36=10,VLOOKUP(U36,判定式!$G$15:I$19,3,TRUE),IF(C36=11,VLOOKUP(U36,判定式!$H$15:I$19,2,TRUE))))))))","v":false}]
[17,null,null,"-",null,null,null,null,null,null,null,null,{"$f":"IF(E37=\"\",\"\",VLOOKUP(E37,判定式!C$3:$J$12,8,TRUE))","v":""},{"$f":"IF(F37=\"\",\"\",VLOOKUP(F37,判定式!D$3:$J$12,7,TRUE))","v":""},{"$f":"IF(G37=\"\",\"\",VLOOKUP(G37,判定式!E$3:$J$12,6,TRUE))","v":""},{"$f":"IF(H37=\"\",\"\",VLOOKUP(H37,判定式!F$3:$J$12,5,TRUE))","v":""},{"$f":"IF(I37=\"\",\"\",VLOOKUP(I37,判定式!I$3:$J$12,2,TRUE))","v":""},{"$f":"IF(J37=\"\",\"\",VLOOKUP(J37,判定式!L$3:$M$12,2,TRUE))","v":""},{"$f":"IF(K37=\"\",\"\",VLOOKUP(K37,判定式!G$3:$J$12,4,TRUE))","v":""},{"$f":"IF(L37=\"\",\"\",VLOOKUP(L37,判定式!H$3:$J$12,3,TRUE))","v":""},"",{"$f":"IF(ISNUMBER(D37),\"判定外\",IF(C37=6,VLOOKUP(U37,判定式!$C$15:I$19,7,TRUE),IF(C37=7,VLOOKUP(U37,判定式!$D$15:I$19,6,TRUE),IF(C37=8,VLOOKUP(U37,判定式!$E$15:I$19,5,TRUE),IF(C37=9,VLOOKUP(U37,判定式!$F$15:I$19,4,TRUE),IF(C37=10,VLOOKUP(U37,判定式!$G$15:I$19,3,TRUE),IF(C37=11,VLOOKUP(U37,判定式!$H$15:I$19,2,TRUE))))))))","v":false}]
[18,null,null,"-",null,null,null,null,null,null,null,null,{"$f":"IF(E38=\"\",\"\",VLOOKUP(E38,判定式!C$3:$J$12,8,TRUE))","v":""},{"$f":"IF(F38=\"\",\"\",VLOOKUP(F38,判定式!D$3:$J$12,7,TRUE))","v":""},{"$f":"IF(G38=\"\",\"\",VLOOKUP(G38,判定式!E$3:$J$12,6,TRUE))","v":""},{"$f":"IF(H38=\"\",\"\",VLOOKUP(H38,判定式!F$3:$J$12,5,TRUE))","v":""},{"$f":"IF(I38=\"\",\"\",VLOOKUP(I38,判定式!I$3:$J$12,2,TRUE))","v":""},{"$f":"IF(J38=\"\",\"\",VLOOKUP(J38,判定式!L$3:$M$12,2,TRUE))","v":""},{"$f":"IF(K38=\"\",\"\",VLOOKUP(K38,判定式!G$3:$J$12,4,TRUE))","v":""},{"$f":"IF(L38=\"\",\"\",VLOOKUP(L38,判定式!H$3:$J$12,3,TRUE))","v":""},"",{"$f":"IF(ISNUMBER(D38),\"判定外\",IF(C38=6,VLOOKUP(U38,判定式!$C$15:I$19,7,TRUE),IF(C38=7,VLOOKUP(U38,判定式!$D$15:I$19,6,TRUE),IF(C38=8,VLOOKUP(U38,判定式!$E$15:I$19,5,TRUE),IF(C38=9,VLOOKUP(U38,判定式!$F$15:I$19,4,TRUE),IF(C38=10,VLOOKUP(U38,判定式!$G$15:I$19,3,TRUE),IF(C38=11,VLOOKUP(U38,判定式!$H$15:I$19,2,TRUE))))))))","v":false}]
[19,null,null,"-",null,null,null,null,null,null,null,null,{"$f":"IF(E39=\"\",\"\",VLOOKUP(E39,判定式!C$3:$J$12,8,TRUE))","v":""},{"$f":"IF(F39=\"\",\"\",VLOOKUP(F39,判定式!D$3:$J$12,7,TRUE))","v":""},{"$f":"IF(G39=\"\",\"\",VLOOKUP(G39,判定式!E$3:$J$12,6,TRUE))","v":""},{"$f":"IF(H39=\"\",\"\",VLOOKUP(H39,判定式!F$3:$J$12,5,TRUE))","v":""},{"$f":"IF(I39=\"\",\"\",VLOOKUP(I39,判定式!I$3:$J$12,2,TRUE))","v":""},{"$f":"IF(J39=\"\",\"\",VLOOKUP(J39,判定式!L$3:$M$12,2,TRUE))","v":""},{"$f":"IF(K39=\"\",\"\",VLOOKUP(K39,判定式!G$3:$J$12,4,TRUE))","v":""},{"$f":"IF(L39=\"\",\"\",VLOOKUP(L39,判定式!H$3:$J$12,3,TRUE))","v":""},"",{"$f":"IF(ISNUMBER(D39),\"判定外\",IF(C39=6,VLOOKUP(U39,判定式!$C$15:I$19,7,TRUE),IF(C39=7,VLOOKUP(U39,判定式!$D$15:I$19,6,TRUE),IF(C39=8,VLOOKUP(U39,判定式!$E$15:I$19,5,TRUE),IF(C39=9,VLOOKUP(U39,判定式!$F$15:I$19,4,TRUE),IF(C39=10,VLOOKUP(U39,判定式!$G$15:I$19,3,TRUE),IF(C39=11,VLOOKUP(U39,判定式!$H$15:I$19,2,TRUE))))))))","v":false}]
[20,null,null,"-",null,null,null,null,null,null,null,null,{"$f":"IF(E40=\"\",\"\",VLOOKUP(E40,判定式!C$3:$J$12,8,TRUE))","v":""},{"$f":"IF(F40=\"\",\"\",VLOOKUP(F40,判定式!D$3:$J$12,7,TRUE))","v":""},{"$f":"IF(G40=\"\",\"\",VLOOKUP(G40,判定式!E$3:$J$12,6,TRUE))","v":""},{"$f":"IF(H40=\"\",\"\",VLOOKUP(H40,判定式!F$3:$J$12,5,TRUE))","v":""},{"$f":"IF(I40=\"\",\"\",VLOOKUP(I40,判定式!I$3:$J$12,2,TRUE))","v":""},{"$f":"IF(J40=\"\",\"\",VLOOKUP(J40,判定式!L$3:$M$12,2,TRUE))","v":""},{"$f":"IF(K40=\"\",\"\",VLOOKUP(K40,判定式!G$3:$J$12,4,TRUE))","v":""},{"$f":"IF(L40=\"\",\"\",VLOOKUP(L40,判定式!H$3:$J$12,3,TRUE))","v":""},"",{"$f":"IF(ISNUMBER(D40),\"判定外\",IF(C40=6,VLOOKUP(U40,判定式!$C$15:I$19,7,TRUE),IF(C40=7,VLOOKUP(U40,判定式!$D$15:I$19,6,TRUE),IF(C40=8,VLOOKUP(U40,判定式!$E$15:I$19,5,TRUE),IF(C40=9,VLOOKUP(U40,判定式!$F$15:I$19,4,TRUE),IF(C40=10,VLOOKUP(U40,判定式!$G$15:I$19,3,TRUE),IF(C40=11,VLOOKUP(U40,判定式!$H$15:I$19,2,TRUE))))))))","v":false}]
[21,null,null,"-",null,null,null,null,null,null,null,null,{"$f":"IF(E41=\"\",\"\",VLOOKUP(E41,判定式!C$3:$J$12,8,TRUE))","v":""},{"$f":"IF(F41=\"\",\"\",VLOOKUP(F41,判定式!D$3:$J$12,7,TRUE))","v":""},{"$f":"IF(G41=\"\",\"\",VLOOKUP(G41,判定式!E$3:$J$12,6,TRUE))","v":""},{"$f":"IF(H41=\"\",\"\",VLOOKUP(H41,判定式!F$3:$J$12,5,TRUE))","v":""},{"$f":"IF(I41=\"\",\"\",VLOOKUP(I41,判定式!I$3:$J$12,2,TRUE))","v":""},{"$f":"IF(J41=\"\",\"\",VLOOKUP(J41,判定式!L$3:$M$12,2,TRUE))","v":""},{"$f":"IF(K41=\"\",\"\",VLOOKUP(K41,判定式!G$3:$J$12,4,TRUE))","v":""},{"$f":"IF(L41=\"\",\"\",VLOOKUP(L41,判定式!H$3:$J$12,3,TRUE))","v":""},"",{"$f":"IF(ISNUMBER(D41),\"判定外\",IF(C41=6,VLOOKUP(U41,判定式!$C$15:I$19,7,TRUE),IF(C41=7,VLOOKUP(U41,判定式!$D$15:I$19,6,TRUE),IF(C41=8,VLOOKUP(U41,判定式!$E$15:I$19,5,TRUE),IF(C41=9,VLOOKUP(U41,判定式!$F$15:I$19,4,TRUE),IF(C41=10,VLOOKUP(U41,判定式!$G$15:I$19,3,TRUE),IF(C41=11,VLOOKUP(U41,判定式!$H$15:I$19,2,TRUE))))))))","v":false}]
[22,null,null,"-",null,null,null,null,null,null,null,null,{"$f":"IF(E42=\"\",\"\",VLOOKUP(E42,判定式!C$3:$J$12,8,TRUE))","v":""},{"$f":"IF(F42=\"\",\"\",VLOOKUP(F42,判定式!D$3:$J$12,7,TRUE))","v":""},{"$f":"IF(G42=\"\",\"\",VLOOKUP(G42,判定式!E$3:$J$12,6,TRUE))","v":""},{"$f":"IF(H42=\"\",\"\",VLOOKUP(H42,判定式!F$3:$J$12,5,TRUE))","v":""},{"$f":"IF(I42=\"\",\"\",VLOOKUP(I42,判定式!I$3:$J$12,2,TRUE))","v":""},{"$f":"IF(J42=\"\",\"\",VLOOKUP(J42,判定式!L$3:$M$12,2,TRUE))","v":""},{"$f":"IF(K42=\"\",\"\",VLOOKUP(K42,判定式!G$3:$J$12,4,TRUE))","v":""},{"$f":"IF(L42=\"\",\"\",VLOOKUP(L42,判定式!H$3:$J$12,3,TRUE))","v":""},"",{"$f":"IF(ISNUMBER(D42),\"判定外\",IF(C42=6,VLOOKUP(U42,判定式!$C$15:I$19,7,TRUE),IF(C42=7,VLOOKUP(U42,判定式!$D$15:I$19,6,TRUE),IF(C42=8,VLOOKUP(U42,判定式!$E$15:I$19,5,TRUE),IF(C42=9,VLOOKUP(U42,判定式!$F$15:I$19,4,TRUE),IF(C42=10,VLOOKUP(U42,判定式!$G$15:I$19,3,TRUE),IF(C42=11,VLOOKUP(U42,判定式!$H$15:I$19,2,TRUE))))))))","v":false}]
[23,null,null,"-",null,null,null,null,null,null,null,null,{"$f":"IF(E43=\"\",\"\",VLOOKUP(E43,判定式!C$3:$J$12,8,TRUE))","v":""},{"$f":"IF(F43=\"\",\"\",VLOOKUP(F43,判定式!D$3:$J$12,7,TRUE))","v":""},{"$f":"IF(G43=\"\",\"\",VLOOKUP(G43,判定式!E$3:$J$12,6,TRUE))","v":""},{"$f":"IF(H43=\"\",\"\",VLOOKUP(H43,判定式!F$3:$J$12,5,TRUE))","v":""},{"$f":"IF(I43=\"\",\"\",VLOOKUP(I43,判定式!I$3:$J$12,2,TRUE))","v":""},{"$f":"IF(J43=\"\",\"\",VLOOKUP(J43,判定式!L$3:$M$12,2,TRUE))","v":""},{"$f":"IF(K43=\"\",\"\",VLOOKUP(K43,判定式!G$3:$J$12,4,TRUE))","v":""},{"$f":"IF(L43=\"\",\"\",VLOOKUP(L43,判定式!H$3:$J$12,3,TRUE))","v":""},"",{"$f":"IF(ISNUMBER(D43),\"判定外\",IF(C43=6,VLOOKUP(U43,判定式!$C$15:I$19,7,TRUE),IF(C43=7,VLOOKUP(U43,判定式!$D$15:I$19,6,TRUE),IF(C43=8,VLOOKUP(U43,判定式!$E$15:I$19,5,TRUE),IF(C43=9,VLOOKUP(U43,判定式!$F$15:I$19,4,TRUE),IF(C43=10,VLOOKUP(U43,判定式!$G$15:I$19,3,TRUE),IF(C43=11,VLOOKUP(U43,判定式!$H$15:I$19,2,TRUE))))))))","v":false}]
[24,null,null,"-",null,null,null,null,null,null,null,null,{"$f":"IF(E44=\"\",\"\",VLOOKUP(E44,判定式!C$3:$J$12,8,TRUE))","v":""},{"$f":"IF(F44=\"\",\"\",VLOOKUP(F44,判定式!D$3:$J$12,7,TRUE))","v":""},{"$f":"IF(G44=\"\",\"\",VLOOKUP(G44,判定式!E$3:$J$12,6,TRUE))","v":""},{"$f":"IF(H44=\"\",\"\",VLOOKUP(H44,判定式!F$3:$J$12,5,TRUE))","v":""},{"$f":"IF(I44=\"\",\"\",VLOOKUP(I44,判定式!I$3:$J$12,2,TRUE))","v":""},{"$f":"IF(J44=\"\",\"\",VLOOKUP(J44,判定式!L$3:$M$12,2,TRUE))","v":""},{"$f":"IF(K44=\"\",\"\",VLOOKUP(K44,判定式!G$3:$J$12,4,TRUE))","v":""},{"$f":"IF(L44=\"\",\"\",VLOOKUP(L44,判定式!H$3:$J$12,3,TRUE))","v":""},"",{"$f":"IF(ISNUMBER(D44),\"判定外\",IF(C44=6,VLOOKUP(U44,判定式!$C$15:I$19,7,TRUE),IF(C44=7,VLOOKUP(U44,判定式!$D$15:I$19,6,TRUE),IF(C44=8,VLOOKUP(U44,判定式!$E$15:I$19,5,TRUE),IF(C44=9,VLOOKUP(U44,判定式!$F$15:I$19,4,TRUE),IF(C44=10,VLOOKUP(U44,判定式!$G$15:I$19,3,TRUE),IF(C44=11,VLOOKUP(U44,判定式!$H$15:I$19,2,TRUE))))))))","v":false}]
[25,null,null,"-",null,null,null,null,null,null,null,null,{"$f":"IF(E45=\"\",\"\",VLOOKUP(E45,判定式!C$3:$J$12,8,TRUE))","v":""},{"$f":"IF(F45=\"\",\"\",VLOOKUP(F45,判定式!D$3:$J$12,7,TRUE))","v":""},{"$f":"IF(G45=\"\",\"\",VLOOKUP(G45,判定式!E$3:$J$12,6,TRUE))","v":""},{"$f":"IF(H45=\"\",\"\",VLOOKUP(H45,判定式!F$3:$J$12,5,TRUE))","v":""},{"$f":"IF(I45=\"\",\"\",VLOOKUP(I45,判定式!I$3:$J$12,2,TRUE))","v":""},{"$f":"IF(J45=\"\",\"\",VLOOKUP(J45,判定式!L$3:$M$12,2,TRUE))","v":""},{"$f":"IF(K45=\"\",\"\",VLOOKUP(K45,判定式!G$3:$J$12,4,TRUE))","v":""},{"$f":"IF(L45=\"\",\"\",VLOOKUP(L45,判定式!H$3:$J$12,3,TRUE))","v":""},"",{"$f":"IF(ISNUMBER(D45),\"判定外\",IF(C45=6,VLOOKUP(U45,判定式!$C$15:I$19,7,TRUE),IF(C45=7,VLOOKUP(U45,判定式!$D$15:I$19,6,TRUE),IF(C45=8,VLOOKUP(U45,判定式!$E$15:I$19,5,TRUE),IF(C45=9,VLOOKUP(U45,判定式!$F$15:I$19,4,TRUE),IF(C45=10,VLOOKUP(U45,判定式!$G$15:I$19,3,TRUE),IF(C45=11,VLOOKUP(U45,判定式!$H$15:I$19,2,TRUE))))))))","v":false}]
[26,null,null,"-",null,null,null,null,null,null,null,null,{"$f":"IF(E46=\"\",\"\",VLOOKUP(E46,判定式!C$3:$J$12,8,TRUE))","v":""},{"$f":"IF(F46=\"\",\"\",VLOOKUP(F46,判定式!D$3:$J$12,7,TRUE))","v":""},{"$f":"IF(G46=\"\",\"\",VLOOKUP(G46,判定式!E$3:$J$12,6,TRUE))","v":""},{"$f":"IF(H46=\"\",\"\",VLOOKUP(H46,判定式!F$3:$J$12,5,TRUE))","v":""},{"$f":"IF(I46=\"\",\"\",VLOOKUP(I46,判定式!I$3:$J$12,2,TRUE))","v":""},{"$f":"IF(J46=\"\",\"\",VLOOKUP(J46,判定式!L$3:$M$12,2,TRUE))","v":""},{"$f":"IF(K46=\"\",\"\",VLOOKUP(K46,判定式!G$3:$J$12,4,TRUE))","v":""},{"$f":"IF(L46=\"\",\"\",VLOOKUP(L46,判定式!H$3:$J$12,3,TRUE))","v":""},"",{"$f":"IF(ISNUMBER(D46),\"判定外\",IF(C46=6,VLOOKUP(U46,判定式!$C$15:I$19,7,TRUE),IF(C46=7,VLOOKUP(U46,判定式!$D$15:I$19,6,TRUE),IF(C46=8,VLOOKUP(U46,判定式!$E$15:I$19,5,TRUE),IF(C46=9,VLOOKUP(U46,判定式!$F$15:I$19,4,TRUE),IF(C46=10,VLOOKUP(U46,判定式!$G$15:I$19,3,TRUE),IF(C46=11,VLOOKUP(U46,判定式!$H$15:I$19,2,TRUE))))))))","v":false}]
[27,null,null,"-",null,null,null,null,null,null,null,null,{"$f":"IF(E47=\"\",\"\",VLOOKUP(E47,判定式!C$3:$J$12,8,TRUE))","v":""},{"$f":"IF(F47=\"\",\"\",VLOOKUP(F47,判定式!D$3:$J$12,7,TRUE))","v":""},{"$f":"IF(G47=\"\",\"\",VLOOKUP(G47,判定式!E$3:$J$12,6,TRUE))","v":""},{"$f":"IF(H47=\"\",\"\",VLOOKUP(H47,判定式!F$3:$J$12,5,TRUE))","v":""},{"$f":"IF(I47=\"\",\"\",VLOOKUP(I47,判定式!I$3:$J$12,2,TRUE))","v":""},{"$f":"IF(J47=\"\",\"\",VLOOKUP(J47,判定式!L$3:$M$12,2,TRUE))","v":""},{"$f":"IF(K47=\"\",\"\",VLOOKUP(K47,判定式!G$3:$J$12,4,TRUE))","v":""},{"$f":"IF(L47=\"\",\"\",VLOOKUP(L47,判定式!H$3:$J$12,3,TRUE))","v":""},"",{"$f":"IF(ISNUMBER(D47),\"判定外\",IF(C47=6,VLOOKUP(U47,判定式!$C$15:I$19,7,TRUE),IF(C47=7,VLOOKUP(U47,判定式!$D$15:I$19,6,TRUE),IF(C47=8,VLOOKUP(U47,判定式!$E$15:I$19,5,TRUE),IF(C47=9,VLOOKUP(U47,判定式!$F$15:I$19,4,TRUE),IF(C47=10,VLOOKUP(U47,判定式!$G$15:I$19,3,TRUE),IF(C47=11,VLOOKUP(U47,判定式!$H$15:I$19,2,TRUE))))))))","v":false}]
[28,null,null,"-",null,null,null,null,null,null,null,null,{"$f":"IF(E48=\"\",\"\",VLOOKUP(E48,判定式!C$3:$J$12,8,TRUE))","v":""},{"$f":"IF(F48=\"\",\"\",VLOOKUP(F48,判定式!D$3:$J$12,7,TRUE))","v":""},{"$f":"IF(G48=\"\",\"\",VLOOKUP(G48,判定式!E$3:$J$12,6,TRUE))","v":""},{"$f":"IF(H48=\"\",\"\",VLOOKUP(H48,判定式!F$3:$J$12,5,TRUE))","v":""},{"$f":"IF(I48=\"\",\"\",VLOOKUP(I48,判定式!I$3:$J$12,2,TRUE))","v":""},{"$f":"IF(J48=\"\",\"\",VLOOKUP(J48,判定式!L$3:$M$12,2,TRUE))","v":""},{"$f":"IF(K48=\"\",\"\",VLOOKUP(K48,判定式!G$3:$J$12,4,TRUE))","v":""},{"$f":"IF(L48=\"\",\"\",VLOOKUP(L48,判定式!H$3:$J$12,3,TRUE))","v":""},"",{"$f":"IF(ISNUMBER(D48),\"判定外\",IF(C48=6,VLOOKUP(U48,判定式!$C$15:I$19,7,TRUE),IF(C48=7,VLOOKUP(U48,判定式!$D$15:I$19,6,TRUE),IF(C48=8,VLOOKUP(U48,判定式!$E$15:I$19,5,TRUE),IF(C48=9,VLOOKUP(U48,判定式!$F$15:I$19,4,TRUE),IF(C48=10,VLOOKUP(U48,判定式!$G$15:I$19,3,TRUE),IF(C48=11,VLOOKUP(U48,判定式!$H$15:I$19,2,TRUE))))))))","v":false}]
[29,null,null,"-",null,null,null,null,null,null,null,null,{"$f":"IF(E49=\"\",\"\",VLOOKUP(E49,判定式!C$3:$J$12,8,TRUE))","v":""},{"$f":"IF(F49=\"\",\"\",VLOOKUP(F49,判定式!D$3:$J$12,7,TRUE))","v":""},{"$f":"IF(G49=\"\",\"\",VLOOKUP(G49,判定式!E$3:$J$12,6,TRUE))","v":""},{"$f":"IF(H49=\"\",\"\",VLOOKUP(H49,判定式!F$3:$J$12,5,TRUE))","v":""},{"$f":"IF(I49=\"\",\"\",VLOOKUP(I49,判定式!I$3:$J$12,2,TRUE))","v":""},{"$f":"IF(J49=\"\",\"\",VLOOKUP(J49,判定式!L$3:$M$12,2,TRUE))","v":""},{"$f":"IF(K49=\"\",\"\",VLOOKUP(K49,判定式!G$3:$J$12,4,TRUE))","v":""},{"$f":"IF(L49=\"\",\"\",VLOOKUP(L49,判定式!H$3:$J$12,3,TRUE))","v":""},"",{"$f":"IF(ISNUMBER(D49),\"判定外\",IF(C49=6,VLOOKUP(U49,判定式!$C$15:I$19,7,TRUE),IF(C49=7,VLOOKUP(U49,判定式!$D$15:I$19,6,TRUE),IF(C49=8,VLOOKUP(U49,判定式!$E$15:I$19,5,TRUE),IF(C49=9,VLOOKUP(U49,判定式!$F$15:I$19,4,TRUE),IF(C49=10,VLOOKUP(U49,判定式!$G$15:I$19,3,TRUE),IF(C49=11,VLOOKUP(U49,判定式!$H$15:I$19,2,TRUE))))))))","v":false}]
[30,null,null,"-",null,null,null,null,null,null,null,null,{"$f":"IF(E50=\"\",\"\",VLOOKUP(E50,判定式!C$3:$J$12,8,TRUE))","v":""},{"$f":"IF(F50=\"\",\"\",VLOOKUP(F50,判定式!D$3:$J$12,7,TRUE))","v":""},{"$f":"IF(G50=\"\",\"\",VLOOKUP(G50,判定式!E$3:$J$12,6,TRUE))","v":""},{"$f":"IF(H50=\"\",\"\",VLOOKUP(H50,判定式!F$3:$J$12,5,TRUE))","v":""},{"$f":"IF(I50=\"\",\"\",VLOOKUP(I50,判定式!I$3:$J$12,2,TRUE))","v":""},{"$f":"IF(J50=\"\",\"\",VLOOKUP(J50,判定式!L$3:$M$12,2,TRUE))","v":""},{"$f":"IF(K50=\"\",\"\",VLOOKUP(K50,判定式!G$3:$J$12,4,TRUE))","v":""},{"$f":"IF(L50=\"\",\"\",VLOOKUP(L50,判定式!H$3:$J$12,3,TRUE))","v":""},"",{"$f":"IF(ISNUMBER(D50),\"判定外\",IF(C50=6,VLOOKUP(U50,判定式!$C$15:I$19,7,TRUE),IF(C50=7,VLOOKUP(U50,判定式!$D$15:I$19,6,TRUE),IF(C50=8,VLOOKUP(U50,判定式!$E$15:I$19,5,TRUE),IF(C50=9,VLOOKUP(U50,判定式!$F$15:I$19,4,TRUE),IF(C50=10,VLOOKUP(U50,判定式!$G$15:I$19,3,TRUE),IF(C50=11,VLOOKUP(U50,判定式!$H$15:I$19,2,TRUE))))))))","v":false}]
[31,null,null,"-",null,null,null,null,null,null,null,null,{"$f":"IF(E51=\"\",\"\",VLOOKUP(E51,判定式!C$3:$J$12,8,TRUE))","v":""},{"$f":"IF(F51=\"\",\"\",VLOOKUP(F51,判定式!D$3:$J$12,7,TRUE))","v":""},{"$f":"IF(G51=\"\",\"\",VLOOKUP(G51,判定式!E$3:$J$12,6,TRUE))","v":""},{"$f":"IF(H51=\"\",\"\",VLOOKUP(H51,判定式!F$3:$J$12,5,TRUE))","v":""},{"$f":"IF(I51=\"\",\"\",VLOOKUP(I51,判定式!I$3:$J$12,2,TRUE))","v":""},{"$f":"IF(J51=\"\",\"\",VLOOKUP(J51,判定式!L$3:$M$12,2,TRUE))","v":""},{"$f":"IF(K51=\"\",\"\",VLOOKUP(K51,判定式!G$3:$J$12,4,TRUE))","v":""},{"$f":"IF(L51=\"\",\"\",VLOOKUP(L51,判定式!H$3:$J$12,3,TRUE))","v":""},"",{"$f":"IF(ISNUMBER(D51),\"判定外\",IF(C51=6,VLOOKUP(U51,判定式!$C$15:I$19,7,TRUE),IF(C51=7,VLOOKUP(U51,判定式!$D$15:I$19,6,TRUE),IF(C51=8,VLOOKUP(U51,判定式!$E$15:I$19,5,TRUE),IF(C51=9,VLOOKUP(U51,判定式!$F$15:I$19,4,TRUE),IF(C51=10,VLOOKUP(U51,判定式!$G$15:I$19,3,TRUE),IF(C51=11,VLOOKUP(U51,判定式!$H$15:I$19,2,TRUE))))))))","v":false}]
[32,null,null,"-",null,null,null,null,null,null,null,null,{"$f":"IF(E52=\"\",\"\",VLOOKUP(E52,判定式!C$3:$J$12,8,TRUE))","v":""},{"$f":"IF(F52=\"\",\"\",VLOOKUP(F52,判定式!D$3:$J$12,7,TRUE))","v":""},{"$f":"IF(G52=\"\",\"\",VLOOKUP(G52,判定式!E$3:$J$12,6,TRUE))","v":""},{"$f":"IF(H52=\"\",\"\",VLOOKUP(H52,判定式!F$3:$J$12,5,TRUE))","v":""},{"$f":"IF(I52=\"\",\"\",VLOOKUP(I52,判定式!I$3:$J$12,2,TRUE))","v":""},{"$f":"IF(J52=\"\",\"\",VLOOKUP(J52,判定式!L$3:$M$12,2,TRUE))","v":""},{"$f":"IF(K52=\"\",\"\",VLOOKUP(K52,判定式!G$3:$J$12,4,TRUE))","v":""},{"$f":"IF(L52=\"\",\"\",VLOOKUP(L52,判定式!H$3:$J$12,3,TRUE))","v":""},"",{"$f":"IF(ISNUMBER(D52),\"判定外\",IF(C52=6,VLOOKUP(U52,判定式!$C$15:I$19,7,TRUE),IF(C52=7,VLOOKUP(U52,判定式!$D$15:I$19,6,TRUE),IF(C52=8,VLOOKUP(U52,判定式!$E$15:I$19,5,TRUE),IF(C52=9,VLOOKUP(U52,判定式!$F$15:I$19,4,TRUE),IF(C52=10,VLOOKUP(U52,判定式!$G$15:I$19,3,TRUE),IF(C52=11,VLOOKUP(U52,判定式!$H$15:I$19,2,TRUE))))))))","v":false}]
[33,null,null,{"$f":"IF(COUNTBLANK(E53:L53)=0,\"\",IF(COUNTBLANK(E53:L53)=8,\"-\",COUNTBLANK(E53:L53)))","v":"-"},null,null,null,null,null,null,null,null,{"$f":"IF(E53=\"\",\"\",VLOOKUP(E53,判定式!C$3:$J$12,8,TRUE))","v":""},{"$f":"IF(F53=\"\",\"\",VLOOKUP(F53,判定式!D$3:$J$12,7,TRUE))","v":""},{"$f":"IF(G53=\"\",\"\",VLOOKUP(G53,判定式!E$3:$J$12,6,TRUE))","v":""},{"$f":"IF(H53=\"\",\"\",VLOOKUP(H53,判定式!F$3:$J$12,5,TRUE))","v":""},{"$f":"IF(I53=\"\",\"\",VLOOKUP(I53,判定式!I$3:$J$12,2,TRUE))","v":""},{"$f":"IF(J53=\"\",\"\",VLOOKUP(J53,判定式!L$3:$M$12,2,TRUE))","v":""},{"$f":"IF(K53=\"\",\"\",VLOOKUP(K53,判定式!G$3:$J$12,4,TRUE))","v":""},{"$f":"IF(L53=\"\",\"\",VLOOKUP(L53,判定式!H$3:$J$12,3,TRUE))","v":""},"",{"$f":"IF(ISNUMBER(D53),\"判定外\",IF(C53=6,VLOOKUP(U53,判定式!$C$15:I$19,7,TRUE),IF(C53=7,VLOOKUP(U53,判定式!$D$15:I$19,6,TRUE),IF(C53=8,VLOOKUP(U53,判定式!$E$15:I$19,5,TRUE),IF(C53=9,VLOOKUP(U53,判定式!$F$15:I$19,4,TRUE),IF(C53=10,VLOOKUP(U53,判定式!$G$15:I$19,3,TRUE),IF(C53=11,VLOOKUP(U53,判定式!$H$15:I$19,2,TRUE))))))))","v":false}]
[34,null,null,"-",null,null,null,null,null,null,null,null,{"$f":"IF(E54=\"\",\"\",VLOOKUP(E54,判定式!C$3:$J$12,8,TRUE))","v":""},{"$f":"IF(F54=\"\",\"\",VLOOKUP(F54,判定式!D$3:$J$12,7,TRUE))","v":""},{"$f":"IF(G54=\"\",\"\",VLOOKUP(G54,判定式!E$3:$J$12,6,TRUE))","v":""},{"$f":"IF(H54=\"\",\"\",VLOOKUP(H54,判定式!F$3:$J$12,5,TRUE))","v":""},{"$f":"IF(I54=\"\",\"\",VLOOKUP(I54,判定式!I$3:$J$12,2,TRUE))","v":""},{"$f":"IF(J54=\"\",\"\",VLOOKUP(J54,判定式!L$3:$M$12,2,TRUE))","v":""},{"$f":"IF(K54=\"\",\"\",VLOOKUP(K54,判定式!G$3:$J$12,4,TRUE))","v":""},{"$f":"IF(L54=\"\",\"\",VLOOKUP(L54,判定式!H$3:$J$12,3,TRUE))","v":""},"",{"$f":"IF(ISNUMBER(D54),\"判定外\",IF(C54=6,VLOOKUP(U54,判定式!$C$15:I$19,7,TRUE),IF(C54=7,VLOOKUP(U54,判定式!$D$15:I$19,6,TRUE),IF(C54=8,VLOOKUP(U54,判定式!$E$15:I$19,5,TRUE),IF(C54=9,VLOOKUP(U54,判定式!$F$15:I$19,4,TRUE),IF(C54=10,VLOOKUP(U54,判定式!$G$15:I$19,3,TRUE),IF(C54=11,VLOOKUP(U54,判定式!$H$15:I$19,2,TRUE))))))))","v":false}]
[35,null,null,"-",null,null,null,null,null,null,null,null,{"$f":"IF(E55=\"\",\"\",VLOOKUP(E55,判定式!C$3:$J$12,8,TRUE))","v":""},{"$f":"IF(F55=\"\",\"\",VLOOKUP(F55,判定式!D$3:$J$12,7,TRUE))","v":""},{"$f":"IF(G55=\"\",\"\",VLOOKUP(G55,判定式!E$3:$J$12,6,TRUE))","v":""},{"$f":"IF(H55=\"\",\"\",VLOOKUP(H55,判定式!F$3:$J$12,5,TRUE))","v":""},{"$f":"IF(I55=\"\",\"\",VLOOKUP(I55,判定式!I$3:$J$12,2,TRUE))","v":""},{"$f":"IF(J55=\"\",\"\",VLOOKUP(J55,判定式!L$3:$M$12,2,TRUE))","v":""},{"$f":"IF(K55=\"\",\"\",VLOOKUP(K55,判定式!G$3:$J$12,4,TRUE))","v":""},{"$f":"IF(L55=\"\",\"\",VLOOKUP(L55,判定式!H$3:$J$12,3,TRUE))","v":""},"",{"$f":"IF(ISNUMBER(D55),\"判定外\",IF(C55=6,VLOOKUP(U55,判定式!$C$15:I$19,7,TRUE),IF(C55=7,VLOOKUP(U55,判定式!$D$15:I$19,6,TRUE),IF(C55=8,VLOOKUP(U55,判定式!$E$15:I$19,5,TRUE),IF(C55=9,VLOOKUP(U55,判定式!$F$15:I$19,4,TRUE),IF(C55=10,VLOOKUP(U55,判定式!$G$15:I$19,3,TRUE),IF(C55=11,VLOOKUP(U55,判定式!$H$15:I$19,2,TRUE))))))))","v":false}]
[36,null,null,"-",null,null,null,null,null,null,null,null,{"$f":"IF(E56=\"\",\"\",VLOOKUP(E56,判定式!C$3:$J$12,8,TRUE))","v":""},{"$f":"IF(F56=\"\",\"\",VLOOKUP(F56,判定式!D$3:$J$12,7,TRUE))","v":""},{"$f":"IF(G56=\"\",\"\",VLOOKUP(G56,判定式!E$3:$J$12,6,TRUE))","v":""},{"$f":"IF(H56=\"\",\"\",VLOOKUP(H56,判定式!F$3:$J$12,5,TRUE))","v":""},{"$f":"IF(I56=\"\",\"\",VLOOKUP(I56,判定式!I$3:$J$12,2,TRUE))","v":""},{"$f":"IF(J56=\"\",\"\",VLOOKUP(J56,判定式!L$3:$M$12,2,TRUE))","v":""},{"$f":"IF(K56=\"\",\"\",VLOOKUP(K56,判定式!G$3:$J$12,4,TRUE))","v":""},{"$f":"IF(L56=\"\",\"\",VLOOKUP(L56,判定式!H$3:$J$12,3,TRUE))","v":""},"",{"$f":"IF(ISNUMBER(D56),\"判定外\",IF(C56=6,VLOOKUP(U56,判定式!$C$15:I$19,7,TRUE),IF(C56=7,VLOOKUP(U56,判定式!$D$15:I$19,6,TRUE),IF(C56=8,VLOOKUP(U56,判定式!$E$15:I$19,5,TRUE),IF(C56=9,VLOOKUP(U56,判定式!$F$15:I$19,4,TRUE),IF(C56=10,VLOOKUP(U56,判定式!$G$15:I$19,3,TRUE),IF(C56=11,VLOOKUP(U56,判定式!$H$15:I$19,2,TRUE))))))))","v":false}]
[37,null,null,"-",null,null,null,null,null,null,null,null,{"$f":"IF(E57=\"\",\"\",VLOOKUP(E57,判定式!C$3:$J$12,8,TRUE))","v":""},{"$f":"IF(F57=\"\",\"\",VLOOKUP(F57,判定式!D$3:$J$12,7,TRUE))","v":""},{"$f":"IF(G57=\"\",\"\",VLOOKUP(G57,判定式!E$3:$J$12,6,TRUE))","v":""},{"$f":"IF(H57=\"\",\"\",VLOOKUP(H57,判定式!F$3:$J$12,5,TRUE))","v":""},{"$f":"IF(I57=\"\",\"\",VLOOKUP(I57,判定式!I$3:$J$12,2,TRUE))","v":""},{"$f":"IF(J57=\"\",\"\",VLOOKUP(J57,判定式!L$3:$M$12,2,TRUE))","v":""},{"$f":"IF(K57=\"\",\"\",VLOOKUP(K57,判定式!G$3:$J$12,4,TRUE))","v":""},{"$f":"IF(L57=\"\",\"\",VLOOKUP(L57,判定式!H$3:$J$12,3,TRUE))","v":""},"",{"$f":"IF(ISNUMBER(D57),\"判定外\",IF(C57=6,VLOOKUP(U57,判定式!$C$15:I$19,7,TRUE),IF(C57=7,VLOOKUP(U57,判定式!$D$15:I$19,6,TRUE),IF(C57=8,VLOOKUP(U57,判定式!$E$15:I$19,5,TRUE),IF(C57=9,VLOOKUP(U57,判定式!$F$15:I$19,4,TRUE),IF(C57=10,VLOOKUP(U57,判定式!$G$15:I$19,3,TRUE),IF(C57=11,VLOOKUP(U57,判定式!$H$15:I$19,2,TRUE))))))))","v":false}]
[38,null,null,"-",null,null,null,null,null,null,null,null,{"$f":"IF(E58=\"\",\"\",VLOOKUP(E58,判定式!C$3:$J$12,8,TRUE))","v":""},{"$f":"IF(F58=\"\",\"\",VLOOKUP(F58,判定式!D$3:$J$12,7,TRUE))","v":""},{"$f":"IF(G58=\"\",\"\",VLOOKUP(G58,判定式!E$3:$J$12,6,TRUE))","v":""},{"$f":"IF(H58=\"\",\"\",VLOOKUP(H58,判定式!F$3:$J$12,5,TRUE))","v":""},{"$f":"IF(I58=\"\",\"\",VLOOKUP(I58,判定式!I$3:$J$12,2,TRUE))","v":""},{"$f":"IF(J58=\"\",\"\",VLOOKUP(J58,判定式!L$3:$M$12,2,TRUE))","v":""},{"$f":"IF(K58=\"\",\"\",VLOOKUP(K58,判定式!G$3:$J$12,4,TRUE))","v":""},{"$f":"IF(L58=\"\",\"\",VLOOKUP(L58,判定式!H$3:$J$12,3,TRUE))","v":""},"",{"$f":"IF(ISNUMBER(D58),\"判定外\",IF(C58=6,VLOOKUP(U58,判定式!$C$15:I$19,7,TRUE),IF(C58=7,VLOOKUP(U58,判定式!$D$15:I$19,6,TRUE),IF(C58=8,VLOOKUP(U58,判定式!$E$15:I$19,5,TRUE),IF(C58=9,VLOOKUP(U58,判定式!$F$15:I$19,4,TRUE),IF(C58=10,VLOOKUP(U58,判定式!$G$15:I$19,3,TRUE),IF(C58=11,VLOOKUP(U58,判定式!$H$15:I$19,2,TRUE))))))))","v":false}]
[39,null,null,"-",null,null,null,null,null,null,null,null,{"$f":"IF(E59=\"\",\"\",VLOOKUP(E59,判定式!C$3:$J$12,8,TRUE))","v":""},{"$f":"IF(F59=\"\",\"\",VLOOKUP(F59,判定式!D$3:$J$12,7,TRUE))","v":""},{"$f":"IF(G59=\"\",\"\",VLOOKUP(G59,判定式!E$3:$J$12,6,TRUE))","v":""},{"$f":"IF(H59=\"\",\"\",VLOOKUP(H59,判定式!F$3:$J$12,5,TRUE))","v":""},{"$f":"IF(I59=\"\",\"\",VLOOKUP(I59,判定式!I$3:$J$12,2,TRUE))","v":""},{"$f":"IF(J59=\"\",\"\",VLOOKUP(J59,判定式!L$3:$M$12,2,TRUE))","v":""},{"$f":"IF(K59=\"\",\"\",VLOOKUP(K59,判定式!G$3:$J$12,4,TRUE))","v":""},{"$f":"IF(L59=\"\",\"\",VLOOKUP(L59,判定式!H$3:$J$12,3,TRUE))","v":""},"",{"$f":"IF(ISNUMBER(D59),\"判定外\",IF(C59=6,VLOOKUP(U59,判定式!$C$15:I$19,7,TRUE),IF(C59=7,VLOOKUP(U59,判定式!$D$15:I$19,6,TRUE),IF(C59=8,VLOOKUP(U59,判定式!$E$15:I$19,5,TRUE),IF(C59=9,VLOOKUP(U59,判定式!$F$15:I$19,4,TRUE),IF(C59=10,VLOOKUP(U59,判定式!$G$15:I$19,3,TRUE),IF(C59=11,VLOOKUP(U59,判定式!$H$15:I$19,2,TRUE))))))))","v":false}]
[40,null,null,"-",null,null,null,null,null,null,null,null,{"$f":"IF(E60=\"\",\"\",VLOOKUP(E60,判定式!C$3:$J$12,8,TRUE))","v":""},{"$f":"IF(F60=\"\",\"\",VLOOKUP(F60,判定式!D$3:$J$12,7,TRUE))","v":""},{"$f":"IF(G60=\"\",\"\",VLOOKUP(G60,判定式!E$3:$J$12,6,TRUE))","v":""},{"$f":"IF(H60=\"\",\"\",VLOOKUP(H60,判定式!F$3:$J$12,5,TRUE))","v":""},{"$f":"IF(I60=\"\",\"\",VLOOKUP(I60,判定式!I$3:$J$12,2,TRUE))","v":""},{"$f":"IF(J60=\"\",\"\",VLOOKUP(J60,判定式!L$3:$M$12,2,TRUE))","v":""},{"$f":"IF(K60=\"\",\"\",VLOOKUP(K60,判定式!G$3:$J$12,4,TRUE))","v":""},{"$f":"IF(L60=\"\",\"\",VLOOKUP(L60,判定式!H$3:$J$12,3,TRUE))","v":""},"",{"$f":"IF(ISNUMBER(D60),\"判定外\",IF(C60=6,VLOOKUP(U60,判定式!$C$15:I$19,7,TRUE),IF(C60=7,VLOOKUP(U60,判定式!$D$15:I$19,6,TRUE),IF(C60=8,VLOOKUP(U60,判定式!$E$15:I$19,5,TRUE),IF(C60=9,VLOOKUP(U60,判定式!$F$15:I$19,4,TRUE),IF(C60=10,VLOOKUP(U60,判定式!$G$15:I$19,3,TRUE),IF(C60=11,VLOOKUP(U60,判定式!$H$15:I$19,2,TRUE))))))))","v":false}]
[41,null,null,"-",null,null,null,null,null,null,null,null,{"$f":"IF(E61=\"\",\"\",VLOOKUP(E61,判定式!C$3:$J$12,8,TRUE))","v":""},{"$f":"IF(F61=\"\",\"\",VLOOKUP(F61,判定式!D$3:$J$12,7,TRUE))","v":""},{"$f":"IF(G61=\"\",\"\",VLOOKUP(G61,判定式!E$3:$J$12,6,TRUE))","v":""},{"$f":"IF(H61=\"\",\"\",VLOOKUP(H61,判定式!F$3:$J$12,5,TRUE))","v":""},{"$f":"IF(I61=\"\",\"\",VLOOKUP(I61,判定式!I$3:$J$12,2,TRUE))","v":""},{"$f":"IF(J61=\"\",\"\",VLOOKUP(J61,判定式!L$3:$M$12,2,TRUE))","v":""},{"$f":"IF(K61=\"\",\"\",VLOOKUP(K61,判定式!G$3:$J$12,4,TRUE))","v":""},{"$f":"IF(L61=\"\",\"\",VLOOKUP(L61,判定式!H$3:$J$12,3,TRUE))","v":""},"",{"$f":"IF(ISNUMBER(D61),\"判定外\",IF(C61=6,VLOOKUP(U61,判定式!$C$15:I$19,7,TRUE),IF(C61=7,VLOOKUP(U61,判定式!$D$15:I$19,6,TRUE),IF(C61=8,VLOOKUP(U61,判定式!$E$15:I$19,5,TRUE),IF(C61=9,VLOOKUP(U61,判定式!$F$15:I$19,4,TRUE),IF(C61=10,VLOOKUP(U61,判定式!$G$15:I$19,3,TRUE),IF(C61=11,VLOOKUP(U61,判定式!$H$15:I$19,2,TRUE))))))))","v":false}]
[42,null,null,"-",null,null,null,null,null,null,null,null,{"$f":"IF(E62=\"\",\"\",VLOOKUP(E62,判定式!C$3:$J$12,8,TRUE))","v":""},{"$f":"IF(F62=\"\",\"\",VLOOKUP(F62,判定式!D$3:$J$12,7,TRUE))","v":""},{"$f":"IF(G62=\"\",\"\",VLOOKUP(G62,判定式!E$3:$J$12,6,TRUE))","v":""},{"$f":"IF(H62=\"\",\"\",VLOOKUP(H62,判定式!F$3:$J$12,5,TRUE))","v":""},{"$f":"IF(I62=\"\",\"\",VLOOKUP(I62,判定式!I$3:$J$12,2,TRUE))","v":""},{"$f":"IF(J62=\"\",\"\",VLOOKUP(J62,判定式!L$3:$M$12,2,TRUE))","v":""},{"$f":"IF(K62=\"\",\"\",VLOOKUP(K62,判定式!G$3:$J$12,4,TRUE))","v":""},{"$f":"IF(L62=\"\",\"\",VLOOKUP(L62,判定式!H$3:$J$12,3,TRUE))","v":""},"",{"$f":"IF(ISNUMBER(D62),\"判定外\",IF(C62=6,VLOOKUP(U62,判定式!$C$15:I$19,7,TRUE),IF(C62=7,VLOOKUP(U62,判定式!$D$15:I$19,6,TRUE),IF(C62=8,VLOOKUP(U62,判定式!$E$15:I$19,5,TRUE),IF(C62=9,VLOOKUP(U62,判定式!$F$15:I$19,4,TRUE),IF(C62=10,VLOOKUP(U62,判定式!$G$15:I$19,3,TRUE),IF(C62=11,VLOOKUP(U62,判定式!$H$15:I$19,2,TRUE))))))))","v":false}]
[43,null,null,"-",null,null,null,null,null,null,null,null,{"$f":"IF(E63=\"\",\"\",VLOOKUP(E63,判定式!C$3:$J$12,8,TRUE))","v":""},{"$f":"IF(F63=\"\",\"\",VLOOKUP(F63,判定式!D$3:$J$12,7,TRUE))","v":""},{"$f":"IF(G63=\"\",\"\",VLOOKUP(G63,判定式!E$3:$J$12,6,TRUE))","v":""},{"$f":"IF(H63=\"\",\"\",VLOOKUP(H63,判定式!F$3:$J$12,5,TRUE))","v":""},{"$f":"IF(I63=\"\",\"\",VLOOKUP(I63,判定式!I$3:$J$12,2,TRUE))","v":""},{"$f":"IF(J63=\"\",\"\",VLOOKUP(J63,判定式!L$3:$M$12,2,TRUE))","v":""},{"$f":"IF(K63=\"\",\"\",VLOOKUP(K63,判定式!G$3:$J$12,4,TRUE))","v":""},{"$f":"IF(L63=\"\",\"\",VLOOKUP(L63,判定式!H$3:$J$12,3,TRUE))","v":""},"",{"$f":"IF(ISNUMBER(D63),\"判定外\",IF(C63=6,VLOOKUP(U63,判定式!$C$15:I$19,7,TRUE),IF(C63=7,VLOOKUP(U63,判定式!$D$15:I$19,6,TRUE),IF(C63=8,VLOOKUP(U63,判定式!$E$15:I$19,5,TRUE),IF(C63=9,VLOOKUP(U63,判定式!$F$15:I$19,4,TRUE),IF(C63=10,VLOOKUP(U63,判定式!$G$15:I$19,3,TRUE),IF(C63=11,VLOOKUP(U63,判定式!$H$15:I$19,2,TRUE))))))))","v":false}]
[44,null,null,"-",null,null,null,null,null,null,null,null,{"$f":"IF(E64=\"\",\"\",VLOOKUP(E64,判定式!C$3:$J$12,8,TRUE))","v":""},{"$f":"IF(F64=\"\",\"\",VLOOKUP(F64,判定式!D$3:$J$12,7,TRUE))","v":""},{"$f":"IF(G64=\"\",\"\",VLOOKUP(G64,判定式!E$3:$J$12,6,TRUE))","v":""},{"$f":"IF(H64=\"\",\"\",VLOOKUP(H64,判定式!F$3:$J$12,5,TRUE))","v":""},{"$f":"IF(I64=\"\",\"\",VLOOKUP(I64,判定式!I$3:$J$12,2,TRUE))","v":""},{"$f":"IF(J64=\"\",\"\",VLOOKUP(J64,判定式!L$3:$M$12,2,TRUE))","v":""},{"$f":"IF(K64=\"\",\"\",VLOOKUP(K64,判定式!G$3:$J$12,4,TRUE))","v":""},{"$f":"IF(L64=\"\",\"\",VLOOKUP(L64,判定式!H$3:$J$12,3,TRUE))","v":""},"",{"$f":"IF(ISNUMBER(D64),\"判定外\",IF(C64=6,VLOOKUP(U64,判定式!$C$15:I$19,7,TRUE),IF(C64=7,VLOOKUP(U64,判定式!$D$15:I$19,6,TRUE),IF(C64=8,VLOOKUP(U64,判定式!$E$15:I$19,5,TRUE),IF(C64=9,VLOOKUP(U64,判定式!$F$15:I$19,4,TRUE),IF(C64=10,VLOOKUP(U64,判定式!$G$15:I$19,3,TRUE),IF(C64=11,VLOOKUP(U64,判定式!$H$15:I$19,2,TRUE))))))))","v":false}]
[45,null,null,"-",null,null,null,null,null,null,null,null,{"$f":"IF(E65=\"\",\"\",VLOOKUP(E65,判定式!C$3:$J$12,8,TRUE))","v":""},{"$f":"IF(F65=\"\",\"\",VLOOKUP(F65,判定式!D$3:$J$12,7,TRUE))","v":""},{"$f":"IF(G65=\"\",\"\",VLOOKUP(G65,判定式!E$3:$J$12,6,TRUE))","v":""},{"$f":"IF(H65=\"\",\"\",VLOOKUP(H65,判定式!F$3:$J$12,5,TRUE))","v":""},{"$f":"IF(I65=\"\",\"\",VLOOKUP(I65,判定式!I$3:$J$12,2,TRUE))","v":""},{"$f":"IF(J65=\"\",\"\",VLOOKUP(J65,判定式!L$3:$M$12,2,TRUE))","v":""},{"$f":"IF(K65=\"\",\"\",VLOOKUP(K65,判定式!G$3:$J$12,4,TRUE))","v":""},{"$f":"IF(L65=\"\",\"\",VLOOKUP(L65,判定式!H$3:$J$12,3,TRUE))","v":""},"",{"$f":"IF(ISNUMBER(D65),\"判定外\",IF(C65=6,VLOOKUP(U65,判定式!$C$15:I$19,7,TRUE),IF(C65=7,VLOOKUP(U65,判定式!$D$15:I$19,6,TRUE),IF(C65=8,VLOOKUP(U65,判定式!$E$15:I$19,5,TRUE),IF(C65=9,VLOOKUP(U65,判定式!$F$15:I$19,4,TRUE),IF(C65=10,VLOOKUP(U65,判定式!$G$15:I$19,3,TRUE),IF(C65=11,VLOOKUP(U65,判定式!$H$15:I$19,2,TRUE))))))))","v":false}]
[46,null,null,"-",null,null,null,null,null,null,null,null,{"$f":"IF(E66=\"\",\"\",VLOOKUP(E66,判定式!C$3:$J$12,8,TRUE))","v":""},{"$f":"IF(F66=\"\",\"\",VLOOKUP(F66,判定式!D$3:$J$12,7,TRUE))","v":""},{"$f":"IF(G66=\"\",\"\",VLOOKUP(G66,判定式!E$3:$J$12,6,TRUE))","v":""},{"$f":"IF(H66=\"\",\"\",VLOOKUP(H66,判定式!F$3:$J$12,5,TRUE))","v":""},{"$f":"IF(I66=\"\",\"\",VLOOKUP(I66,判定式!I$3:$J$12,2,TRUE))","v":""},{"$f":"IF(J66=\"\",\"\",VLOOKUP(J66,判定式!L$3:$M$12,2,TRUE))","v":""},{"$f":"IF(K66=\"\",\"\",VLOOKUP(K66,判定式!G$3:$J$12,4,TRUE))","v":""},{"$f":"IF(L66=\"\",\"\",VLOOKUP(L66,判定式!H$3:$J$12,3,TRUE))","v":""},"",{"$f":"IF(ISNUMBER(D66),\"判定外\",IF(C66=6,VLOOKUP(U66,判定式!$C$15:I$19,7,TRUE),IF(C66=7,VLOOKUP(U66,判定式!$D$15:I$19,6,TRUE),IF(C66=8,VLOOKUP(U66,判定式!$E$15:I$19,5,TRUE),IF(C66=9,VLOOKUP(U66,判定式!$F$15:I$19,4,TRUE),IF(C66=10,VLOOKUP(U66,判定式!$G$15:I$19,3,TRUE),IF(C66=11,VLOOKUP(U66,判定式!$H$15:I$19,2,TRUE))))))))","v":false}]
[47,null,null,"-",null,null,null,null,null,null,null,null,{"$f":"IF(E67=\"\",\"\",VLOOKUP(E67,判定式!C$3:$J$12,8,TRUE))","v":""},{"$f":"IF(F67=\"\",\"\",VLOOKUP(F67,判定式!D$3:$J$12,7,TRUE))","v":""},{"$f":"IF(G67=\"\",\"\",VLOOKUP(G67,判定式!E$3:$J$12,6,TRUE))","v":""},{"$f":"IF(H67=\"\",\"\",VLOOKUP(H67,判定式!F$3:$J$12,5,TRUE))","v":""},{"$f":"IF(I67=\"\",\"\",VLOOKUP(I67,判定式!I$3:$J$12,2,TRUE))","v":""},{"$f":"IF(J67=\"\",\"\",VLOOKUP(J67,判定式!L$3:$M$12,2,TRUE))","v":""},{"$f":"IF(K67=\"\",\"\",VLOOKUP(K67,判定式!G$3:$J$12,4,TRUE))","v":""},{"$f":"IF(L67=\"\",\"\",VLOOKUP(L67,判定式!H$3:$J$12,3,TRUE))","v":""},"",{"$f":"IF(ISNUMBER(D67),\"判定外\",IF(C67=6,VLOOKUP(U67,判定式!$C$15:I$19,7,TRUE),IF(C67=7,VLOOKUP(U67,判定式!$D$15:I$19,6,TRUE),IF(C67=8,VLOOKUP(U67,判定式!$E$15:I$19,5,TRUE),IF(C67=9,VLOOKUP(U67,判定式!$F$15:I$19,4,TRUE),IF(C67=10,VLOOKUP(U67,判定式!$G$15:I$19,3,TRUE),IF(C67=11,VLOOKUP(U67,判定式!$H$15:I$19,2,TRUE))))))))","v":false}]
[48,null,null,"-",null,null,null,null,null,null,null,null,{"$f":"IF(E68=\"\",\"\",VLOOKUP(E68,判定式!C$3:$J$12,8,TRUE))","v":""},{"$f":"IF(F68=\"\",\"\",VLOOKUP(F68,判定式!D$3:$J$12,7,TRUE))","v":""},{"$f":"IF(G68=\"\",\"\",VLOOKUP(G68,判定式!E$3:$J$12,6,TRUE))","v":""},{"$f":"IF(H68=\"\",\"\",VLOOKUP(H68,判定式!F$3:$J$12,5,TRUE))","v":""},{"$f":"IF(I68=\"\",\"\",VLOOKUP(I68,判定式!I$3:$J$12,2,TRUE))","v":""},{"$f":"IF(J68=\"\",\"\",VLOOKUP(J68,判定式!L$3:$M$12,2,TRUE))","v":""},{"$f":"IF(K68=\"\",\"\",VLOOKUP(K68,判定式!G$3:$J$12,4,TRUE))","v":""},{"$f":"IF(L68=\"\",\"\",VLOOKUP(L68,判定式!H$3:$J$12,3,TRUE))","v":""},"",{"$f":"IF(ISNUMBER(D68),\"判定外\",IF(C68=6,VLOOKUP(U68,判定式!$C$15:I$19,7,TRUE),IF(C68=7,VLOOKUP(U68,判定式!$D$15:I$19,6,TRUE),IF(C68=8,VLOOKUP(U68,判定式!$E$15:I$19,5,TRUE),IF(C68=9,VLOOKUP(U68,判定式!$F$15:I$19,4,TRUE),IF(C68=10,VLOOKUP(U68,判定式!$G$15:I$19,3,TRUE),IF(C68=11,VLOOKUP(U68,判定式!$H$15:I$19,2,TRUE))))))))","v":false}]
[49,null,null,"-",null,null,null,null,null,null,null,null,{"$f":"IF(E69=\"\",\"\",VLOOKUP(E69,判定式!C$3:$J$12,8,TRUE))","v":""},{"$f":"IF(F69=\"\",\"\",VLOOKUP(F69,判定式!D$3:$J$12,7,TRUE))","v":""},{"$f":"IF(G69=\"\",\"\",VLOOKUP(G69,判定式!E$3:$J$12,6,TRUE))","v":""},{"$f":"IF(H69=\"\",\"\",VLOOKUP(H69,判定式!F$3:$J$12,5,TRUE))","v":""},{"$f":"IF(I69=\"\",\"\",VLOOKUP(I69,判定式!I$3:$J$12,2,TRUE))","v":""},{"$f":"IF(J69=\"\",\"\",VLOOKUP(J69,判定式!L$3:$M$12,2,TRUE))","v":""},{"$f":"IF(K69=\"\",\"\",VLOOKUP(K69,判定式!G$3:$J$12,4,TRUE))","v":""},{"$f":"IF(L69=\"\",\"\",VLOOKUP(L69,判定式!H$3:$J$12,3,TRUE))","v":""},"",{"$f":"IF(ISNUMBER(D69),\"判定外\",IF(C69=6,VLOOKUP(U69,判定式!$C$15:I$19,7,TRUE),IF(C69=7,VLOOKUP(U69,判定式!$D$15:I$19,6,TRUE),IF(C69=8,VLOOKUP(U69,判定式!$E$15:I$19,5,TRUE),IF(C69=9,VLOOKUP(U69,判定式!$F$15:I$19,4,TRUE),IF(C69=10,VLOOKUP(U69,判定式!$G$15:I$19,3,TRUE),IF(C69=11,VLOOKUP(U69,判定式!$H$15:I$19,2,TRUE))))))))","v":false}]
[50,null,null,"-",null,null,null,null,null,null,null,null,{"$f":"IF(E70=\"\",\"\",VLOOKUP(E70,判定式!C$3:$J$12,8,TRUE))","v":""},{"$f":"IF(F70=\"\",\"\",VLOOKUP(F70,判定式!D$3:$J$12,7,TRUE))","v":""},{"$f":"IF(G70=\"\",\"\",VLOOKUP(G70,判定式!E$3:$J$12,6,TRUE))","v":""},{"$f":"IF(H70=\"\",\"\",VLOOKUP(H70,判定式!F$3:$J$12,5,TRUE))","v":""},{"$f":"IF(I70=\"\",\"\",VLOOKUP(I70,判定式!I$3:$J$12,2,TRUE))","v":""},{"$f":"IF(J70=\"\",\"\",VLOOKUP(J70,判定式!L$3:$M$12,2,TRUE))","v":""},{"$f":"IF(K70=\"\",\"\",VLOOKUP(K70,判定式!G$3:$J$12,4,TRUE))","v":""},{"$f":"IF(L70=\"\",\"\",VLOOKUP(L70,判定式!H$3:$J$12,3,TRUE))","v":""},"",{"$f":"IF(ISNUMBER(D70),\"判定外\",IF(C70=6,VLOOKUP(U70,判定式!$C$15:I$19,7,TRUE),IF(C70=7,VLOOKUP(U70,判定式!$D$15:I$19,6,TRUE),IF(C70=8,VLOOKUP(U70,判定式!$E$15:I$19,5,TRUE),IF(C70=9,VLOOKUP(U70,判定式!$F$15:I$19,4,TRUE),IF(C70=10,VLOOKUP(U70,判定式!$G$15:I$19,3,TRUE),IF(C70=11,VLOOKUP(U70,判定式!$H$15:I$19,2,TRUE))))))))","v":false}]
[51,null,null,"-",null,null,null,null,null,null,null,null,{"$f":"IF(E71=\"\",\"\",VLOOKUP(E71,判定式!C$3:$J$12,8,TRUE))","v":""},{"$f":"IF(F71=\"\",\"\",VLOOKUP(F71,判定式!D$3:$J$12,7,TRUE))","v":""},{"$f":"IF(G71=\"\",\"\",VLOOKUP(G71,判定式!E$3:$J$12,6,TRUE))","v":""},{"$f":"IF(H71=\"\",\"\",VLOOKUP(H71,判定式!F$3:$J$12,5,TRUE))","v":""},{"$f":"IF(I71=\"\",\"\",VLOOKUP(I71,判定式!I$3:$J$12,2,TRUE))","v":""},{"$f":"IF(J71=\"\",\"\",VLOOKUP(J71,判定式!L$3:$M$12,2,TRUE))","v":""},{"$f":"IF(K71=\"\",\"\",VLOOKUP(K71,判定式!G$3:$J$12,4,TRUE))","v":""},{"$f":"IF(L71=\"\",\"\",VLOOKUP(L71,判定式!H$3:$J$12,3,TRUE))","v":""},"",{"$f":"IF(ISNUMBER(D71),\"判定外\",IF(C71=6,VLOOKUP(U71,判定式!$C$15:I$19,7,TRUE),IF(C71=7,VLOOKUP(U71,判定式!$D$15:I$19,6,TRUE),IF(C71=8,VLOOKUP(U71,判定式!$E$15:I$19,5,TRUE),IF(C71=9,VLOOKUP(U71,判定式!$F$15:I$19,4,TRUE),IF(C71=10,VLOOKUP(U71,判定式!$G$15:I$19,3,TRUE),IF(C71=11,VLOOKUP(U71,判定式!$H$15:I$19,2,TRUE))))))))","v":false}]
[52,null,null,"-",null,null,null,null,null,null,null,null,{"$f":"IF(E72=\"\",\"\",VLOOKUP(E72,判定式!C$3:$J$12,8,TRUE))","v":""},{"$f":"IF(F72=\"\",\"\",VLOOKUP(F72,判定式!D$3:$J$12,7,TRUE))","v":""},{"$f":"IF(G72=\"\",\"\",VLOOKUP(G72,判定式!E$3:$J$12,6,TRUE))","v":""},{"$f":"IF(H72=\"\",\"\",VLOOKUP(H72,判定式!F$3:$J$12,5,TRUE))","v":""},{"$f":"IF(I72=\"\",\"\",VLOOKUP(I72,判定式!I$3:$J$12,2,TRUE))","v":""},{"$f":"IF(J72=\"\",\"\",VLOOKUP(J72,判定式!L$3:$M$12,2,TRUE))","v":""},{"$f":"IF(K72=\"\",\"\",VLOOKUP(K72,判定式!G$3:$J$12,4,TRUE))","v":""},{"$f":"IF(L72=\"\",\"\",VLOOKUP(L72,判定式!H$3:$J$12,3,TRUE))","v":""},"",{"$f":"IF(ISNUMBER(D72),\"判定外\",IF(C72=6,VLOOKUP(U72,判定式!$C$15:I$19,7,TRUE),IF(C72=7,VLOOKUP(U72,判定式!$D$15:I$19,6,TRUE),IF(C72=8,VLOOKUP(U72,判定式!$E$15:I$19,5,TRUE),IF(C72=9,VLOOKUP(U72,判定式!$F$15:I$19,4,TRUE),IF(C72=10,VLOOKUP(U72,判定式!$G$15:I$19,3,TRUE),IF(C72=11,VLOOKUP(U72,判定式!$H$15:I$19,2,TRUE))))))))","v":false}]
[53,null,null,"-",null,null,null,null,null,null,null,null,{"$f":"IF(E73=\"\",\"\",VLOOKUP(E73,判定式!C$3:$J$12,8,TRUE))","v":""},{"$f":"IF(F73=\"\",\"\",VLOOKUP(F73,判定式!D$3:$J$12,7,TRUE))","v":""},{"$f":"IF(G73=\"\",\"\",VLOOKUP(G73,判定式!E$3:$J$12,6,TRUE))","v":""},{"$f":"IF(H73=\"\",\"\",VLOOKUP(H73,判定式!F$3:$J$12,5,TRUE))","v":""},{"$f":"IF(I73=\"\",\"\",VLOOKUP(I73,判定式!I$3:$J$12,2,TRUE))","v":""},{"$f":"IF(J73=\"\",\"\",VLOOKUP(J73,判定式!L$3:$M$12,2,TRUE))","v":""},{"$f":"IF(K73=\"\",\"\",VLOOKUP(K73,判定式!G$3:$J$12,4,TRUE))","v":""},{"$f":"IF(L73=\"\",\"\",VLOOKUP(L73,判定式!H$3:$J$12,3,TRUE))","v":""},"",{"$f":"IF(ISNUMBER(D73),\"判定外\",IF(C73=6,VLOOKUP(U73,判定式!$C$15:I$19,7,TRUE),IF(C73=7,VLOOKUP(U73,判定式!$D$15:I$19,6,TRUE),IF(C73=8,VLOOKUP(U73,判定式!$E$15:I$19,5,TRUE),IF(C73=9,VLOOKUP(U73,判定式!$F$15:I$19,4,TRUE),IF(C73=10,VLOOKUP(U73,判定式!$G$15:I$19,3,TRUE),IF(C73=11,VLOOKUP(U73,判定式!$H$15:I$19,2,TRUE))))))))","v":false}]
[54,null,null,"-",null,null,null,null,null,null,null,null,{"$f":"IF(E74=\"\",\"\",VLOOKUP(E74,判定式!C$3:$J$12,8,TRUE))","v":""},{"$f":"IF(F74=\"\",\"\",VLOOKUP(F74,判定式!D$3:$J$12,7,TRUE))","v":""},{"$f":"IF(G74=\"\",\"\",VLOOKUP(G74,判定式!E$3:$J$12,6,TRUE))","v":""},{"$f":"IF(H74=\"\",\"\",VLOOKUP(H74,判定式!F$3:$J$12,5,TRUE))","v":""},{"$f":"IF(I74=\"\",\"\",VLOOKUP(I74,判定式!I$3:$J$12,2,TRUE))","v":""},{"$f":"IF(J74=\"\",\"\",VLOOKUP(J74,判定式!L$3:$M$12,2,TRUE))","v":""},{"$f":"IF(K74=\"\",\"\",VLOOKUP(K74,判定式!G$3:$J$12,4,TRUE))","v":""},{"$f":"IF(L74=\"\",\"\",VLOOKUP(L74,判定式!H$3:$J$12,3,TRUE))","v":""},"",{"$f":"IF(ISNUMBER(D74),\"判定外\",IF(C74=6,VLOOKUP(U74,判定式!$C$15:I$19,7,TRUE),IF(C74=7,VLOOKUP(U74,判定式!$D$15:I$19,6,TRUE),IF(C74=8,VLOOKUP(U74,判定式!$E$15:I$19,5,TRUE),IF(C74=9,VLOOKUP(U74,判定式!$F$15:I$19,4,TRUE),IF(C74=10,VLOOKUP(U74,判定式!$G$15:I$19,3,TRUE),IF(C74=11,VLOOKUP(U74,判定式!$H$15:I$19,2,TRUE))))))))","v":false}]
[55,null,null,"-",null,null,null,null,null,null,null,null,{"$f":"IF(E75=\"\",\"\",VLOOKUP(E75,判定式!C$3:$J$12,8,TRUE))","v":""},{"$f":"IF(F75=\"\",\"\",VLOOKUP(F75,判定式!D$3:$J$12,7,TRUE))","v":""},{"$f":"IF(G75=\"\",\"\",VLOOKUP(G75,判定式!E$3:$J$12,6,TRUE))","v":""},{"$f":"IF(H75=\"\",\"\",VLOOKUP(H75,判定式!F$3:$J$12,5,TRUE))","v":""},{"$f":"IF(I75=\"\",\"\",VLOOKUP(I75,判定式!I$3:$J$12,2,TRUE))","v":""},{"$f":"IF(J75=\"\",\"\",VLOOKUP(J75,判定式!L$3:$M$12,2,TRUE))","v":""},{"$f":"IF(K75=\"\",\"\",VLOOKUP(K75,判定式!G$3:$J$12,4,TRUE))","v":""},{"$f":"IF(L75=\"\",\"\",VLOOKUP(L75,判定式!H$3:$J$12,3,TRUE))","v":""},"",{"$f":"IF(ISNUMBER(D75),\"判定外\",IF(C75=6,VLOOKUP(U75,判定式!$C$15:I$19,7,TRUE),IF(C75=7,VLOOKUP(U75,判定式!$D$15:I$19,6,TRUE),IF(C75=8,VLOOKUP(U75,判定式!$E$15:I$19,5,TRUE),IF(C75=9,VLOOKUP(U75,判定式!$F$15:I$19,4,TRUE),IF(C75=10,VLOOKUP(U75,判定式!$G$15:I$19,3,TRUE),IF(C75=11,VLOOKUP(U75,判定式!$H$15:I$19,2,TRUE))))))))","v":false}]
[56,null,null,"-",null,null,null,null,null,null,null,null,{"$f":"IF(E76=\"\",\"\",VLOOKUP(E76,判定式!C$3:$J$12,8,TRUE))","v":""},{"$f":"IF(F76=\"\",\"\",VLOOKUP(F76,判定式!D$3:$J$12,7,TRUE))","v":""},{"$f":"IF(G76=\"\",\"\",VLOOKUP(G76,判定式!E$3:$J$12,6,TRUE))","v":""},{"$f":"IF(H76=\"\",\"\",VLOOKUP(H76,判定式!F$3:$J$12,5,TRUE))","v":""},{"$f":"IF(I76=\"\",\"\",VLOOKUP(I76,判定式!I$3:$J$12,2,TRUE))","v":""},{"$f":"IF(J76=\"\",\"\",VLOOKUP(J76,判定式!L$3:$M$12,2,TRUE))","v":""},{"$f":"IF(K76=\"\",\"\",VLOOKUP(K76,判定式!G$3:$J$12,4,TRUE))","v":""},{"$f":"IF(L76=\"\",\"\",VLOOKUP(L76,判定式!H$3:$J$12,3,TRUE))","v":""},"",{"$f":"IF(ISNUMBER(D76),\"判定外\",IF(C76=6,VLOOKUP(U76,判定式!$C$15:I$19,7,TRUE),IF(C76=7,VLOOKUP(U76,判定式!$D$15:I$19,6,TRUE),IF(C76=8,VLOOKUP(U76,判定式!$E$15:I$19,5,TRUE),IF(C76=9,VLOOKUP(U76,判定式!$F$15:I$19,4,TRUE),IF(C76=10,VLOOKUP(U76,判定式!$G$15:I$19,3,TRUE),IF(C76=11,VLOOKUP(U76,判定式!$H$15:I$19,2,TRUE))))))))","v":false}]
[57,null,null,"-",null,null,null,null,null,null,null,null,{"$f":"IF(E77=\"\",\"\",VLOOKUP(E77,判定式!C$3:$J$12,8,TRUE))","v":""},{"$f":"IF(F77=\"\",\"\",VLOOKUP(F77,判定式!D$3:$J$12,7,TRUE))","v":""},{"$f":"IF(G77=\"\",\"\",VLOOKUP(G77,判定式!E$3:$J$12,6,TRUE))","v":""},{"$f":"IF(H77=\"\",\"\",VLOOKUP(H77,判定式!F$3:$J$12,5,TRUE))","v":""},{"$f":"IF(I77=\"\",\"\",VLOOKUP(I77,判定式!I$3:$J$12,2,TRUE))","v":""},{"$f":"IF(J77=\"\",\"\",VLOOKUP(J77,判定式!L$3:$M$12,2,TRUE))","v":""},{"$f":"IF(K77=\"\",\"\",VLOOKUP(K77,判定式!G$3:$J$12,4,TRUE))","v":""},{"$f":"IF(L77=\"\",\"\",VLOOKUP(L77,判定式!H$3:$J$12,3,TRUE))","v":""},"",{"$f":"IF(ISNUMBER(D77),\"判定外\",IF(C77=6,VLOOKUP(U77,判定式!$C$15:I$19,7,TRUE),IF(C77=7,VLOOKUP(U77,判定式!$D$15:I$19,6,TRUE),IF(C77=8,VLOOKUP(U77,判定式!$E$15:I$19,5,TRUE),IF(C77=9,VLOOKUP(U77,判定式!$F$15:I$19,4,TRUE),IF(C77=10,VLOOKUP(U77,判定式!$G$15:I$19,3,TRUE),IF(C77=11,VLOOKUP(U77,判定式!$H$15:I$19,2,TRUE))))))))","v":false}]
[58,null,null,"-",null,null,null,null,null,null,null,null,{"$f":"IF(E78=\"\",\"\",VLOOKUP(E78,判定式!C$3:$J$12,8,TRUE))","v":""},{"$f":"IF(F78=\"\",\"\",VLOOKUP(F78,判定式!D$3:$J$12,7,TRUE))","v":""},{"$f":"IF(G78=\"\",\"\",VLOOKUP(G78,判定式!E$3:$J$12,6,TRUE))","v":""},{"$f":"IF(H78=\"\",\"\",VLOOKUP(H78,判定式!F$3:$J$12,5,TRUE))","v":""},{"$f":"IF(I78=\"\",\"\",VLOOKUP(I78,判定式!I$3:$J$12,2,TRUE))","v":""},{"$f":"IF(J78=\"\",\"\",VLOOKUP(J78,判定式!L$3:$M$12,2,TRUE))","v":""},{"$f":"IF(K78=\"\",\"\",VLOOKUP(K78,判定式!G$3:$J$12,4,TRUE))","v":""},{"$f":"IF(L78=\"\",\"\",VLOOKUP(L78,判定式!H$3:$J$12,3,TRUE))","v":""},"",{"$f":"IF(ISNUMBER(D78),\"判定外\",IF(C78=6,VLOOKUP(U78,判定式!$C$15:I$19,7,TRUE),IF(C78=7,VLOOKUP(U78,判定式!$D$15:I$19,6,TRUE),IF(C78=8,VLOOKUP(U78,判定式!$E$15:I$19,5,TRUE),IF(C78=9,VLOOKUP(U78,判定式!$F$15:I$19,4,TRUE),IF(C78=10,VLOOKUP(U78,判定式!$G$15:I$19,3,TRUE),IF(C78=11,VLOOKUP(U78,判定式!$H$15:I$19,2,TRUE))))))))","v":false}]
[59,null,null,"-",null,null,null,null,null,null,null,null,{"$f":"IF(E79=\"\",\"\",VLOOKUP(E79,判定式!C$3:$J$12,8,TRUE))","v":""},{"$f":"IF(F79=\"\",\"\",VLOOKUP(F79,判定式!D$3:$J$12,7,TRUE))","v":""},{"$f":"IF(G79=\"\",\"\",VLOOKUP(G79,判定式!E$3:$J$12,6,TRUE))","v":""},{"$f":"IF(H79=\"\",\"\",VLOOKUP(H79,判定式!F$3:$J$12,5,TRUE))","v":""},{"$f":"IF(I79=\"\",\"\",VLOOKUP(I79,判定式!I$3:$J$12,2,TRUE))","v":""},{"$f":"IF(J79=\"\",\"\",VLOOKUP(J79,判定式!L$3:$M$12,2,TRUE))","v":""},{"$f":"IF(K79=\"\",\"\",VLOOKUP(K79,判定式!G$3:$J$12,4,TRUE))","v":""},{"$f":"IF(L79=\"\",\"\",VLOOKUP(L79,判定式!H$3:$J$12,3,TRUE))","v":""},"",{"$f":"IF(ISNUMBER(D79),\"判定外\",IF(C79=6,VLOOKUP(U79,判定式!$C$15:I$19,7,TRUE),IF(C79=7,VLOOKUP(U79,判定式!$D$15:I$19,6,TRUE),IF(C79=8,VLOOKUP(U79,判定式!$E$15:I$19,5,TRUE),IF(C79=9,VLOOKUP(U79,判定式!$F$15:I$19,4,TRUE),IF(C79=10,VLOOKUP(U79,判定式!$G$15:I$19,3,TRUE),IF(C79=11,VLOOKUP(U79,判定式!$H$15:I$19,2,TRUE))))))))","v":false}]
[60,null,null,"-",null,null,null,null,null,null,null,null,{"$f":"IF(E80=\"\",\"\",VLOOKUP(E80,判定式!C$3:$J$12,8,TRUE))","v":""},{"$f":"IF(F80=\"\",\"\",VLOOKUP(F80,判定式!D$3:$J$12,7,TRUE))","v":""},{"$f":"IF(G80=\"\",\"\",VLOOKUP(G80,判定式!E$3:$J$12,6,TRUE))","v":""},{"$f":"IF(H80=\"\",\"\",VLOOKUP(H80,判定式!F$3:$J$12,5,TRUE))","v":""},{"$f":"IF(I80=\"\",\"\",VLOOKUP(I80,判定式!I$3:$J$12,2,TRUE))","v":""},{"$f":"IF(J80=\"\",\"\",VLOOKUP(J80,判定式!L$3:$M$12,2,TRUE))","v":""},{"$f":"IF(K80=\"\",\"\",VLOOKUP(K80,判定式!G$3:$J$12,4,TRUE))","v":""},{"$f":"IF(L80=\"\",\"\",VLOOKUP(L80,判定式!H$3:$J$12,3,TRUE))","v":""},"",{"$f":"IF(ISNUMBER(D80),\"判定外\",IF(C80=6,VLOOKUP(U80,判定式!$C$15:I$19,7,TRUE),IF(C80=7,VLOOKUP(U80,判定式!$D$15:I$19,6,TRUE),IF(C80=8,VLOOKUP(U80,判定式!$E$15:I$19,5,TRUE),IF(C80=9,VLOOKUP(U80,判定式!$F$15:I$19,4,TRUE),IF(C80=10,VLOOKUP(U80,判定式!$G$15:I$19,3,TRUE),IF(C80=11,VLOOKUP(U80,判定式!$H$15:I$19,2,TRUE))))))))","v":false}]
[61,null,null,"-",null,null,null,null,null,null,null,null,{"$f":"IF(E81=\"\",\"\",VLOOKUP(E81,判定式!C$3:$J$12,8,TRUE))","v":""},{"$f":"IF(F81=\"\",\"\",VLOOKUP(F81,判定式!D$3:$J$12,7,TRUE))","v":""},{"$f":"IF(G81=\"\",\"\",VLOOKUP(G81,判定式!E$3:$J$12,6,TRUE))","v":""},{"$f":"IF(H81=\"\",\"\",VLOOKUP(H81,判定式!F$3:$J$12,5,TRUE))","v":""},{"$f":"IF(I81=\"\",\"\",VLOOKUP(I81,判定式!I$3:$J$12,2,TRUE))","v":""},{"$f":"IF(J81=\"\",\"\",VLOOKUP(J81,判定式!L$3:$M$12,2,TRUE))","v":""},{"$f":"IF(K81=\"\",\"\",VLOOKUP(K81,判定式!G$3:$J$12,4,TRUE))","v":""},{"$f":"IF(L81=\"\",\"\",VLOOKUP(L81,判定式!H$3:$J$12,3,TRUE))","v":""},"",{"$f":"IF(ISNUMBER(D81),\"判定外\",IF(C81=6,VLOOKUP(U81,判定式!$C$15:I$19,7,TRUE),IF(C81=7,VLOOKUP(U81,判定式!$D$15:I$19,6,TRUE),IF(C81=8,VLOOKUP(U81,判定式!$E$15:I$19,5,TRUE),IF(C81=9,VLOOKUP(U81,判定式!$F$15:I$19,4,TRUE),IF(C81=10,VLOOKUP(U81,判定式!$G$15:I$19,3,TRUE),IF(C81=11,VLOOKUP(U81,判定式!$H$15:I$19,2,TRUE))))))))","v":false}]
[62,null,null,"-",null,null,null,null,null,null,null,null,{"$f":"IF(E82=\"\",\"\",VLOOKUP(E82,判定式!C$3:$J$12,8,TRUE))","v":""},{"$f":"IF(F82=\"\",\"\",VLOOKUP(F82,判定式!D$3:$J$12,7,TRUE))","v":""},{"$f":"IF(G82=\"\",\"\",VLOOKUP(G82,判定式!E$3:$J$12,6,TRUE))","v":""},{"$f":"IF(H82=\"\",\"\",VLOOKUP(H82,判定式!F$3:$J$12,5,TRUE))","v":""},{"$f":"IF(I82=\"\",\"\",VLOOKUP(I82,判定式!I$3:$J$12,2,TRUE))","v":""},{"$f":"IF(J82=\"\",\"\",VLOOKUP(J82,判定式!L$3:$M$12,2,TRUE))","v":""},{"$f":"IF(K82=\"\",\"\",VLOOKUP(K82,判定式!G$3:$J$12,4,TRUE))","v":""},{"$f":"IF(L82=\"\",\"\",VLOOKUP(L82,判定式!H$3:$J$12,3,TRUE))","v":""},"",{"$f":"IF(ISNUMBER(D82),\"判定外\",IF(C82=6,VLOOKUP(U82,判定式!$C$15:I$19,7,TRUE),IF(C82=7,VLOOKUP(U82,判定式!$D$15:I$19,6,TRUE),IF(C82=8,VLOOKUP(U82,判定式!$E$15:I$19,5,TRUE),IF(C82=9,VLOOKUP(U82,判定式!$F$15:I$19,4,TRUE),IF(C82=10,VLOOKUP(U82,判定式!$G$15:I$19,3,TRUE),IF(C82=11,VLOOKUP(U82,判定式!$H$15:I$19,2,TRUE))))))))","v":false}]
[63,null,null,"-",null,null,null,null,null,null,null,null,{"$f":"IF(E83=\"\",\"\",VLOOKUP(E83,判定式!C$3:$J$12,8,TRUE))","v":""},{"$f":"IF(F83=\"\",\"\",VLOOKUP(F83,判定式!D$3:$J$12,7,TRUE))","v":""},{"$f":"IF(G83=\"\",\"\",VLOOKUP(G83,判定式!E$3:$J$12,6,TRUE))","v":""},{"$f":"IF(H83=\"\",\"\",VLOOKUP(H83,判定式!F$3:$J$12,5,TRUE))","v":""},{"$f":"IF(I83=\"\",\"\",VLOOKUP(I83,判定式!I$3:$J$12,2,TRUE))","v":""},{"$f":"IF(J83=\"\",\"\",VLOOKUP(J83,判定式!L$3:$M$12,2,TRUE))","v":""},{"$f":"IF(K83=\"\",\"\",VLOOKUP(K83,判定式!G$3:$J$12,4,TRUE))","v":""},{"$f":"IF(L83=\"\",\"\",VLOOKUP(L83,判定式!H$3:$J$12,3,TRUE))","v":""},"",{"$f":"IF(ISNUMBER(D83),\"判定外\",IF(C83=6,VLOOKUP(U83,判定式!$C$15:I$19,7,TRUE),IF(C83=7,VLOOKUP(U83,判定式!$D$15:I$19,6,TRUE),IF(C83=8,VLOOKUP(U83,判定式!$E$15:I$19,5,TRUE),IF(C83=9,VLOOKUP(U83,判定式!$F$15:I$19,4,TRUE),IF(C83=10,VLOOKUP(U83,判定式!$G$15:I$19,3,TRUE),IF(C83=11,VLOOKUP(U83,判定式!$H$15:I$19,2,TRUE))))))))","v":false}]
[64,null,null,"-",null,null,null,null,null,null,null,null,{"$f":"IF(E84=\"\",\"\",VLOOKUP(E84,判定式!C$3:$J$12,8,TRUE))","v":""},{"$f":"IF(F84=\"\",\"\",VLOOKUP(F84,判定式!D$3:$J$12,7,TRUE))","v":""},{"$f":"IF(G84=\"\",\"\",VLOOKUP(G84,判定式!E$3:$J$12,6,TRUE))","v":""},{"$f":"IF(H84=\"\",\"\",VLOOKUP(H84,判定式!F$3:$J$12,5,TRUE))","v":""},{"$f":"IF(I84=\"\",\"\",VLOOKUP(I84,判定式!I$3:$J$12,2,TRUE))","v":""},{"$f":"IF(J84=\"\",\"\",VLOOKUP(J84,判定式!L$3:$M$12,2,TRUE))","v":""},{"$f":"IF(K84=\"\",\"\",VLOOKUP(K84,判定式!G$3:$J$12,4,TRUE))","v":""},{"$f":"IF(L84=\"\",\"\",VLOOKUP(L84,判定式!H$3:$J$12,3,TRUE))","v":""},"",{"$f":"IF(ISNUMBER(D84),\"判定外\",IF(C84=6,VLOOKUP(U84,判定式!$C$15:I$19,7,TRUE),IF(C84=7,VLOOKUP(U84,判定式!$D$15:I$19,6,TRUE),IF(C84=8,VLOOKUP(U84,判定式!$E$15:I$19,5,TRUE),IF(C84=9,VLOOKUP(U84,判定式!$F$15:I$19,4,TRUE),IF(C84=10,VLOOKUP(U84,判定式!$G$15:I$19,3,TRUE),IF(C84=11,VLOOKUP(U84,判定式!$H$15:I$19,2,TRUE))))))))","v":false}]
[65,null,null,{"$f":"IF(COUNTBLANK(E85:L85)=0,\"\",IF(COUNTBLANK(E85:L85)=8,\"-\",COUNTBLANK(E85:L85)))","v":"-"},null,null,null,null,null,null,null,null,{"$f":"IF(E85=\"\",\"\",VLOOKUP(E85,判定式!C$3:$J$12,8,TRUE))","v":""},{"$f":"IF(F85=\"\",\"\",VLOOKUP(F85,判定式!D$3:$J$12,7,TRUE))","v":""},{"$f":"IF(G85=\"\",\"\",VLOOKUP(G85,判定式!E$3:$J$12,6,TRUE))","v":""},{"$f":"IF(H85=\"\",\"\",VLOOKUP(H85,判定式!F$3:$J$12,5,TRUE))","v":""},{"$f":"IF(I85=\"\",\"\",VLOOKUP(I85,判定式!I$3:$J$12,2,TRUE))","v":""},{"$f":"IF(J85=\"\",\"\",VLOOKUP(J85,判定式!L$3:$M$12,2,TRUE))","v":""},{"$f":"IF(K85=\"\",\"\",VLOOKUP(K85,判定式!G$3:$J$12,4,TRUE))","v":""},{"$f":"IF(L85=\"\",\"\",VLOOKUP(L85,判定式!H$3:$J$12,3,TRUE))","v":""},"",{"$f":"IF(ISNUMBER(D85),\"判定外\",IF(C85=6,VLOOKUP(U85,判定式!$C$15:I$19,7,TRUE),IF(C85=7,VLOOKUP(U85,判定式!$D$15:I$19,6,TRUE),IF(C85=8,VLOOKUP(U85,判定式!$E$15:I$19,5,TRUE),IF(C85=9,VLOOKUP(U85,判定式!$F$15:I$19,4,TRUE),IF(C85=10,VLOOKUP(U85,判定式!$G$15:I$19,3,TRUE),IF(C85=11,VLOOKUP(U85,判定式!$H$15:I$19,2,TRUE))))))))","v":false}]
[66,null,null,"-",null,null,null,null,null,null,null,null,{"$f":"IF(E86=\"\",\"\",VLOOKUP(E86,判定式!C$3:$J$12,8,TRUE))","v":""},{"$f":"IF(F86=\"\",\"\",VLOOKUP(F86,判定式!D$3:$J$12,7,TRUE))","v":""},{"$f":"IF(G86=\"\",\"\",VLOOKUP(G86,判定式!E$3:$J$12,6,TRUE))","v":""},{"$f":"IF(H86=\"\",\"\",VLOOKUP(H86,判定式!F$3:$J$12,5,TRUE))","v":""},{"$f":"IF(I86=\"\",\"\",VLOOKUP(I86,判定式!I$3:$J$12,2,TRUE))","v":""},{"$f":"IF(J86=\"\",\"\",VLOOKUP(J86,判定式!L$3:$M$12,2,TRUE))","v":""},{"$f":"IF(K86=\"\",\"\",VLOOKUP(K86,判定式!G$3:$J$12,4,TRUE))","v":""},{"$f":"IF(L86=\"\",\"\",VLOOKUP(L86,判定式!H$3:$J$12,3,TRUE))","v":""},{"$f":"IF(COUNTBLANK(M86:T86)=0,SUM(M86:T86),\"\")","v":""},{"$f":"IF(ISNUMBER(D86),\"判定外\",IF(C86=6,VLOOKUP(U86,判定式!$C$15:I$19,7,TRUE),IF(C86=7,VLOOKUP(U86,判定式!$D$15:I$19,6,TRUE),IF(C86=8,VLOOKUP(U86,判定式!$E$15:I$19,5,TRUE),IF(C86=9,VLOOKUP(U86,判定式!$F$15:I$19,4,TRUE),IF(C86=10,VLOOKUP(U86,判定式!$G$15:I$19,3,TRUE),IF(C86=11,VLOOKUP(U86,判定式!$H$15:I$19,2,TRUE))))))))","v":false}]
[67,null,null,"-",null,null,null,null,null,null,null,null,{"$f":"IF(E87=\"\",\"\",VLOOKUP(E87,判定式!C$3:$J$12,8,TRUE))","v":""},{"$f":"IF(F87=\"\",\"\",VLOOKUP(F87,判定式!D$3:$J$12,7,TRUE))","v":""},{"$f":"IF(G87=\"\",\"\",VLOOKUP(G87,判定式!E$3:$J$12,6,TRUE))","v":""},{"$f":"IF(H87=\"\",\"\",VLOOKUP(H87,判定式!F$3:$J$12,5,TRUE))","v":""},{"$f":"IF(I87=\"\",\"\",VLOOKUP(I87,判定式!I$3:$J$12,2,TRUE))","v":""},{"$f":"IF(J87=\"\",\"\",VLOOKUP(J87,判定式!L$3:$M$12,2,TRUE))","v":""},{"$f":"IF(K87=\"\",\"\",VLOOKUP(K87,判定式!G$3:$J$12,4,TRUE))","v":""},{"$f":"IF(L87=\"\",\"\",VLOOKUP(L87,判定式!H$3:$J$12,3,TRUE))","v":""},"",{"$f":"IF(ISNUMBER(D87),\"判定外\",IF(C87=6,VLOOKUP(U87,判定式!$C$15:I$19,7,TRUE),IF(C87=7,VLOOKUP(U87,判定式!$D$15:I$19,6,TRUE),IF(C87=8,VLOOKUP(U87,判定式!$E$15:I$19,5,TRUE),IF(C87=9,VLOOKUP(U87,判定式!$F$15:I$19,4,TRUE),IF(C87=10,VLOOKUP(U87,判定式!$G$15:I$19,3,TRUE),IF(C87=11,VLOOKUP(U87,判定式!$H$15:I$19,2,TRUE))))))))","v":false}]
[68,null,null,"-",null,null,null,null,null,null,null,null,{"$f":"IF(E88=\"\",\"\",VLOOKUP(E88,判定式!C$3:$J$12,8,TRUE))","v":""},{"$f":"IF(F88=\"\",\"\",VLOOKUP(F88,判定式!D$3:$J$12,7,TRUE))","v":""},{"$f":"IF(G88=\"\",\"\",VLOOKUP(G88,判定式!E$3:$J$12,6,TRUE))","v":""},{"$f":"IF(H88=\"\",\"\",VLOOKUP(H88,判定式!F$3:$J$12,5,TRUE))","v":""},{"$f":"IF(I88=\"\",\"\",VLOOKUP(I88,判定式!I$3:$J$12,2,TRUE))","v":""},{"$f":"IF(J88=\"\",\"\",VLOOKUP(J88,判定式!L$3:$M$12,2,TRUE))","v":""},{"$f":"IF(K88=\"\",\"\",VLOOKUP(K88,判定式!G$3:$J$12,4,TRUE))","v":""},{"$f":"IF(L88=\"\",\"\",VLOOKUP(L88,判定式!H$3:$J$12,3,TRUE))","v":""},"",{"$f":"IF(ISNUMBER(D88),\"判定外\",IF(C88=6,VLOOKUP(U88,判定式!$C$15:I$19,7,TRUE),IF(C88=7,VLOOKUP(U88,判定式!$D$15:I$19,6,TRUE),IF(C88=8,VLOOKUP(U88,判定式!$E$15:I$19,5,TRUE),IF(C88=9,VLOOKUP(U88,判定式!$F$15:I$19,4,TRUE),IF(C88=10,VLOOKUP(U88,判定式!$G$15:I$19,3,TRUE),IF(C88=11,VLOOKUP(U88,判定式!$H$15:I$19,2,TRUE))))))))","v":false}]
[69,null,null,"-",null,null,null,null,null,null,null,null,{"$f":"IF(E89=\"\",\"\",VLOOKUP(E89,判定式!C$3:$J$12,8,TRUE))","v":""},{"$f":"IF(F89=\"\",\"\",VLOOKUP(F89,判定式!D$3:$J$12,7,TRUE))","v":""},{"$f":"IF(G89=\"\",\"\",VLOOKUP(G89,判定式!E$3:$J$12,6,TRUE))","v":""},{"$f":"IF(H89=\"\",\"\",VLOOKUP(H89,判定式!F$3:$J$12,5,TRUE))","v":""},{"$f":"IF(I89=\"\",\"\",VLOOKUP(I89,判定式!I$3:$J$12,2,TRUE))","v":""},{"$f":"IF(J89=\"\",\"\",VLOOKUP(J89,判定式!L$3:$M$12,2,TRUE))","v":""},{"$f":"IF(K89=\"\",\"\",VLOOKUP(K89,判定式!G$3:$J$12,4,TRUE))","v":""},{"$f":"IF(L89=\"\",\"\",VLOOKUP(L89,判定式!H$3:$J$12,3,TRUE))","v":""},"",{"$f":"IF(ISNUMBER(D89),\"判定外\",IF(C89=6,VLOOKUP(U89,判定式!$C$15:I$19,7,TRUE),IF(C89=7,VLOOKUP(U89,判定式!$D$15:I$19,6,TRUE),IF(C89=8,VLOOKUP(U89,判定式!$E$15:I$19,5,TRUE),IF(C89=9,VLOOKUP(U89,判定式!$F$15:I$19,4,TRUE),IF(C89=10,VLOOKUP(U89,判定式!$G$15:I$19,3,TRUE),IF(C89=11,VLOOKUP(U89,判定式!$H$15:I$19,2,TRUE))))))))","v":false}]
[70,null,null,"-",null,null,null,null,null,null,null,null,{"$f":"IF(E90=\"\",\"\",VLOOKUP(E90,判定式!C$3:$J$12,8,TRUE))","v":""},{"$f":"IF(F90=\"\",\"\",VLOOKUP(F90,判定式!D$3:$J$12,7,TRUE))","v":""},{"$f":"IF(G90=\"\",\"\",VLOOKUP(G90,判定式!E$3:$J$12,6,TRUE))","v":""},{"$f":"IF(H90=\"\",\"\",VLOOKUP(H90,判定式!F$3:$J$12,5,TRUE))","v":""},{"$f":"IF(I90=\"\",\"\",VLOOKUP(I90,判定式!I$3:$J$12,2,TRUE))","v":""},{"$f":"IF(J90=\"\",\"\",VLOOKUP(J90,判定式!L$3:$M$12,2,TRUE))","v":""},{"$f":"IF(K90=\"\",\"\",VLOOKUP(K90,判定式!G$3:$J$12,4,TRUE))","v":""},{"$f":"IF(L90=\"\",\"\",VLOOKUP(L90,判定式!H$3:$J$12,3,TRUE))","v":""},"",{"$f":"IF(ISNUMBER(D90),\"判定外\",IF(C90=6,VLOOKUP(U90,判定式!$C$15:I$19,7,TRUE),IF(C90=7,VLOOKUP(U90,判定式!$D$15:I$19,6,TRUE),IF(C90=8,VLOOKUP(U90,判定式!$E$15:I$19,5,TRUE),IF(C90=9,VLOOKUP(U90,判定式!$F$15:I$19,4,TRUE),IF(C90=10,VLOOKUP(U90,判定式!$G$15:I$19,3,TRUE),IF(C90=11,VLOOKUP(U90,判定式!$H$15:I$19,2,TRUE))))))))","v":false}]
[71,null,null,"-",null,null,null,null,null,null,null,null,{"$f":"IF(E91=\"\",\"\",VLOOKUP(E91,判定式!C$3:$J$12,8,TRUE))","v":""},{"$f":"IF(F91=\"\",\"\",VLOOKUP(F91,判定式!D$3:$J$12,7,TRUE))","v":""},{"$f":"IF(G91=\"\",\"\",VLOOKUP(G91,判定式!E$3:$J$12,6,TRUE))","v":""},{"$f":"IF(H91=\"\",\"\",VLOOKUP(H91,判定式!F$3:$J$12,5,TRUE))","v":""},{"$f":"IF(I91=\"\",\"\",VLOOKUP(I91,判定式!I$3:$J$12,2,TRUE))","v":""},{"$f":"IF(J91=\"\",\"\",VLOOKUP(J91,判定式!L$3:$M$12,2,TRUE))","v":""},{"$f":"IF(K91=\"\",\"\",VLOOKUP(K91,判定式!G$3:$J$12,4,TRUE))","v":""},{"$f":"IF(L91=\"\",\"\",VLOOKUP(L91,判定式!H$3:$J$12,3,TRUE))","v":""},"",{"$f":"IF(ISNUMBER(D91),\"判定外\",IF(C91=6,VLOOKUP(U91,判定式!$C$15:I$19,7,TRUE),IF(C91=7,VLOOKUP(U91,判定式!$D$15:I$19,6,TRUE),IF(C91=8,VLOOKUP(U91,判定式!$E$15:I$19,5,TRUE),IF(C91=9,VLOOKUP(U91,判定式!$F$15:I$19,4,TRUE),IF(C91=10,VLOOKUP(U91,判定式!$G$15:I$19,3,TRUE),IF(C91=11,VLOOKUP(U91,判定式!$H$15:I$19,2,TRUE))))))))","v":false}]
[72,null,null,"-",null,null,null,null,null,null,null,null,{"$f":"IF(E92=\"\",\"\",VLOOKUP(E92,判定式!C$3:$J$12,8,TRUE))","v":""},{"$f":"IF(F92=\"\",\"\",VLOOKUP(F92,判定式!D$3:$J$12,7,TRUE))","v":""},{"$f":"IF(G92=\"\",\"\",VLOOKUP(G92,判定式!E$3:$J$12,6,TRUE))","v":""},{"$f":"IF(H92=\"\",\"\",VLOOKUP(H92,判定式!F$3:$J$12,5,TRUE))","v":""},{"$f":"IF(I92=\"\",\"\",VLOOKUP(I92,判定式!I$3:$J$12,2,TRUE))","v":""},{"$f":"IF(J92=\"\",\"\",VLOOKUP(J92,判定式!L$3:$M$12,2,TRUE))","v":""},{"$f":"IF(K92=\"\",\"\",VLOOKUP(K92,判定式!G$3:$J$12,4,TRUE))","v":""},{"$f":"IF(L92=\"\",\"\",VLOOKUP(L92,判定式!H$3:$J$12,3,TRUE))","v":""},"",{"$f":"IF(ISNUMBER(D92),\"判定外\",IF(C92=6,VLOOKUP(U92,判定式!$C$15:I$19,7,TRUE),IF(C92=7,VLOOKUP(U92,判定式!$D$15:I$19,6,TRUE),IF(C92=8,VLOOKUP(U92,判定式!$E$15:I$19,5,TRUE),IF(C92=9,VLOOKUP(U92,判定式!$F$15:I$19,4,TRUE),IF(C92=10,VLOOKUP(U92,判定式!$G$15:I$19,3,TRUE),IF(C92=11,VLOOKUP(U92,判定式!$H$15:I$19,2,TRUE))))))))","v":false}]
[73,null,null,"-",null,null,null,null,null,null,null,null,{"$f":"IF(E93=\"\",\"\",VLOOKUP(E93,判定式!C$3:$J$12,8,TRUE))","v":""},{"$f":"IF(F93=\"\",\"\",VLOOKUP(F93,判定式!D$3:$J$12,7,TRUE))","v":""},{"$f":"IF(G93=\"\",\"\",VLOOKUP(G93,判定式!E$3:$J$12,6,TRUE))","v":""},{"$f":"IF(H93=\"\",\"\",VLOOKUP(H93,判定式!F$3:$J$12,5,TRUE))","v":""},{"$f":"IF(I93=\"\",\"\",VLOOKUP(I93,判定式!I$3:$J$12,2,TRUE))","v":""},{"$f":"IF(J93=\"\",\"\",VLOOKUP(J93,判定式!L$3:$M$12,2,TRUE))","v":""},{"$f":"IF(K93=\"\",\"\",VLOOKUP(K93,判定式!G$3:$J$12,4,TRUE))","v":""},{"$f":"IF(L93=\"\",\"\",VLOOKUP(L93,判定式!H$3:$J$12,3,TRUE))","v":""},"",{"$f":"IF(ISNUMBER(D93),\"判定外\",IF(C93=6,VLOOKUP(U93,判定式!$C$15:I$19,7,TRUE),IF(C93=7,VLOOKUP(U93,判定式!$D$15:I$19,6,TRUE),IF(C93=8,VLOOKUP(U93,判定式!$E$15:I$19,5,TRUE),IF(C93=9,VLOOKUP(U93,判定式!$F$15:I$19,4,TRUE),IF(C93=10,VLOOKUP(U93,判定式!$G$15:I$19,3,TRUE),IF(C93=11,VLOOKUP(U93,判定式!$H$15:I$19,2,TRUE))))))))","v":false}]
[74,null,null,"-",null,null,null,null,null,null,null,null,{"$f":"IF(E94=\"\",\"\",VLOOKUP(E94,判定式!C$3:$J$12,8,TRUE))","v":""},{"$f":"IF(F94=\"\",\"\",VLOOKUP(F94,判定式!D$3:$J$12,7,TRUE))","v":""},{"$f":"IF(G94=\"\",\"\",VLOOKUP(G94,判定式!E$3:$J$12,6,TRUE))","v":""},{"$f":"IF(H94=\"\",\"\",VLOOKUP(H94,判定式!F$3:$J$12,5,TRUE))","v":""},{"$f":"IF(I94=\"\",\"\",VLOOKUP(I94,判定式!I$3:$J$12,2,TRUE))","v":""},{"$f":"IF(J94=\"\",\"\",VLOOKUP(J94,判定式!L$3:$M$12,2,TRUE))","v":""},{"$f":"IF(K94=\"\",\"\",VLOOKUP(K94,判定式!G$3:$J$12,4,TRUE))","v":""},{"$f":"IF(L94=\"\",\"\",VLOOKUP(L94,判定式!H$3:$J$12,3,TRUE))","v":""},"",{"$f":"IF(ISNUMBER(D94),\"判定外\",IF(C94=6,VLOOKUP(U94,判定式!$C$15:I$19,7,TRUE),IF(C94=7,VLOOKUP(U94,判定式!$D$15:I$19,6,TRUE),IF(C94=8,VLOOKUP(U94,判定式!$E$15:I$19,5,TRUE),IF(C94=9,VLOOKUP(U94,判定式!$F$15:I$19,4,TRUE),IF(C94=10,VLOOKUP(U94,判定式!$G$15:I$19,3,TRUE),IF(C94=11,VLOOKUP(U94,判定式!$H$15:I$19,2,TRUE))))))))","v":false}]
[75,null,null,"-",null,null,null,null,null,null,null,null,{"$f":"IF(E95=\"\",\"\",VLOOKUP(E95,判定式!C$3:$J$12,8,TRUE))","v":""},{"$f":"IF(F95=\"\",\"\",VLOOKUP(F95,判定式!D$3:$J$12,7,TRUE))","v":""},{"$f":"IF(G95=\"\",\"\",VLOOKUP(G95,判定式!E$3:$J$12,6,TRUE))","v":""},{"$f":"IF(H95=\"\",\"\",VLOOKUP(H95,判定式!F$3:$J$12,5,TRUE))","v":""},{"$f":"IF(I95=\"\",\"\",VLOOKUP(I95,判定式!I$3:$J$12,2,TRUE))","v":""},{"$f":"IF(J95=\"\",\"\",VLOOKUP(J95,判定式!L$3:$M$12,2,TRUE))","v":""},{"$f":"IF(K95=\"\",\"\",VLOOKUP(K95,判定式!G$3:$J$12,4,TRUE))","v":""},{"$f":"IF(L95=\"\",\"\",VLOOKUP(L95,判定式!H$3:$J$12,3,TRUE))","v":""},"",{"$f":"IF(ISNUMBER(D95),\"判定外\",IF(C95=6,VLOOKUP(U95,判定式!$C$15:I$19,7,TRUE),IF(C95=7,VLOOKUP(U95,判定式!$D$15:I$19,6,TRUE),IF(C95=8,VLOOKUP(U95,判定式!$E$15:I$19,5,TRUE),IF(C95=9,VLOOKUP(U95,判定式!$F$15:I$19,4,TRUE),IF(C95=10,VLOOKUP(U95,判定式!$G$15:I$19,3,TRUE),IF(C95=11,VLOOKUP(U95,判定式!$H$15:I$19,2,TRUE))))))))","v":false}]
[76,null,null,"-",null,null,null,null,null,null,null,null,{"$f":"IF(E96=\"\",\"\",VLOOKUP(E96,判定式!C$3:$J$12,8,TRUE))","v":""},{"$f":"IF(F96=\"\",\"\",VLOOKUP(F96,判定式!D$3:$J$12,7,TRUE))","v":""},{"$f":"IF(G96=\"\",\"\",VLOOKUP(G96,判定式!E$3:$J$12,6,TRUE))","v":""},{"$f":"IF(H96=\"\",\"\",VLOOKUP(H96,判定式!F$3:$J$12,5,TRUE))","v":""},{"$f":"IF(I96=\"\",\"\",VLOOKUP(I96,判定式!I$3:$J$12,2,TRUE))","v":""},{"$f":"IF(J96=\"\",\"\",VLOOKUP(J96,判定式!L$3:$M$12,2,TRUE))","v":""},{"$f":"IF(K96=\"\",\"\",VLOOKUP(K96,判定式!G$3:$J$12,4,TRUE))","v":""},{"$f":"IF(L96=\"\",\"\",VLOOKUP(L96,判定式!H$3:$J$12,3,TRUE))","v":""},"",{"$f":"IF(ISNUMBER(D96),\"判定外\",IF(C96=6,VLOOKUP(U96,判定式!$C$15:I$19,7,TRUE),IF(C96=7,VLOOKUP(U96,判定式!$D$15:I$19,6,TRUE),IF(C96=8,VLOOKUP(U96,判定式!$E$15:I$19,5,TRUE),IF(C96=9,VLOOKUP(U96,判定式!$F$15:I$19,4,TRUE),IF(C96=10,VLOOKUP(U96,判定式!$G$15:I$19,3,TRUE),IF(C96=11,VLOOKUP(U96,判定式!$H$15:I$19,2,TRUE))))))))","v":false}]
[77,null,null,"-",null,null,null,null,null,null,null,null,{"$f":"IF(E97=\"\",\"\",VLOOKUP(E97,判定式!C$3:$J$12,8,TRUE))","v":""},{"$f":"IF(F97=\"\",\"\",VLOOKUP(F97,判定式!D$3:$J$12,7,TRUE))","v":""},{"$f":"IF(G97=\"\",\"\",VLOOKUP(G97,判定式!E$3:$J$12,6,TRUE))","v":""},{"$f":"IF(H97=\"\",\"\",VLOOKUP(H97,判定式!F$3:$J$12,5,TRUE))","v":""},{"$f":"IF(I97=\"\",\"\",VLOOKUP(I97,判定式!I$3:$J$12,2,TRUE))","v":""},{"$f":"IF(J97=\"\",\"\",VLOOKUP(J97,判定式!L$3:$M$12,2,TRUE))","v":""},{"$f":"IF(K97=\"\",\"\",VLOOKUP(K97,判定式!G$3:$J$12,4,TRUE))","v":""},{"$f":"IF(L97=\"\",\"\",VLOOKUP(L97,判定式!H$3:$J$12,3,TRUE))","v":""},"",{"$f":"IF(ISNUMBER(D97),\"判定外\",IF(C97=6,VLOOKUP(U97,判定式!$C$15:I$19,7,TRUE),IF(C97=7,VLOOKUP(U97,判定式!$D$15:I$19,6,TRUE),IF(C97=8,VLOOKUP(U97,判定式!$E$15:I$19,5,TRUE),IF(C97=9,VLOOKUP(U97,判定式!$F$15:I$19,4,TRUE),IF(C97=10,VLOOKUP(U97,判定式!$G$15:I$19,3,TRUE),IF(C97=11,VLOOKUP(U97,判定式!$H$15:I$19,2,TRUE))))))))","v":false}]
[78,null,null,"-",null,null,null,null,null,null,null,null,{"$f":"IF(E98=\"\",\"\",VLOOKUP(E98,判定式!C$3:$J$12,8,TRUE))","v":""},{"$f":"IF(F98=\"\",\"\",VLOOKUP(F98,判定式!D$3:$J$12,7,TRUE))","v":""},{"$f":"IF(G98=\"\",\"\",VLOOKUP(G98,判定式!E$3:$J$12,6,TRUE))","v":""},{"$f":"IF(H98=\"\",\"\",VLOOKUP(H98,判定式!F$3:$J$12,5,TRUE))","v":""},{"$f":"IF(I98=\"\",\"\",VLOOKUP(I98,判定式!I$3:$J$12,2,TRUE))","v":""},{"$f":"IF(J98=\"\",\"\",VLOOKUP(J98,判定式!L$3:$M$12,2,TRUE))","v":""},{"$f":"IF(K98=\"\",\"\",VLOOKUP(K98,判定式!G$3:$J$12,4,TRUE))","v":""},{"$f":"IF(L98=\"\",\"\",VLOOKUP(L98,判定式!H$3:$J$12,3,TRUE))","v":""},"",{"$f":"IF(ISNUMBER(D98),\"判定外\",IF(C98=6,VLOOKUP(U98,判定式!$C$15:I$19,7,TRUE),IF(C98=7,VLOOKUP(U98,判定式!$D$15:I$19,6,TRUE),IF(C98=8,VLOOKUP(U98,判定式!$E$15:I$19,5,TRUE),IF(C98=9,VLOOKUP(U98,判定式!$F$15:I$19,4,TRUE),IF(C98=10,VLOOKUP(U98,判定式!$G$15:I$19,3,TRUE),IF(C98=11,VLOOKUP(U98,判定式!$H$15:I$19,2,TRUE))))))))","v":false}]
[79,null,null,"-",null,null,null,null,null,null,null,null,{"$f":"IF(E99=\"\",\"\",VLOOKUP(E99,判定式!C$3:$J$12,8,TRUE))","v":""},{"$f":"IF(F99=\"\",\"\",VLOOKUP(F99,判定式!D$3:$J$12,7,TRUE))","v":""},{"$f":"IF(G99=\"\",\"\",VLOOKUP(G99,判定式!E$3:$J$12,6,TRUE))","v":""},{"$f":"IF(H99=\"\",\"\",VLOOKUP(H99,判定式!F$3:$J$12,5,TRUE))","v":""},{"$f":"IF(I99=\"\",\"\",VLOOKUP(I99,判定式!I$3:$J$12,2,TRUE))","v":""},{"$f":"IF(J99=\"\",\"\",VLOOKUP(J99,判定式!L$3:$M$12,2,TRUE))","v":""},{"$f":"IF(K99=\"\",\"\",VLOOKUP(K99,判定式!G$3:$J$12,4,TRUE))","v":""},{"$f":"IF(L99=\"\",\"\",VLOOKUP(L99,判定式!H$3:$J$12,3,TRUE))","v":""},"",{"$f":"IF(ISNUMBER(D99),\"判定外\",IF(C99=6,VLOOKUP(U99,判定式!$C$15:I$19,7,TRUE),IF(C99=7,VLOOKUP(U99,判定式!$D$15:I$19,6,TRUE),IF(C99=8,VLOOKUP(U99,判定式!$E$15:I$19,5,TRUE),IF(C99=9,VLOOKUP(U99,判定式!$F$15:I$19,4,TRUE),IF(C99=10,VLOOKUP(U99,判定式!$G$15:I$19,3,TRUE),IF(C99=11,VLOOKUP(U99,判定式!$H$15:I$19,2,TRUE))))))))","v":false}]
[80,null,null,"-",null,null,null,null,null,null,null,null,{"$f":"IF(E100=\"\",\"\",VLOOKUP(E100,判定式!C$3:$J$12,8,TRUE))","v":""},{"$f":"IF(F100=\"\",\"\",VLOOKUP(F100,判定式!D$3:$J$12,7,TRUE))","v":""},{"$f":"IF(G100=\"\",\"\",VLOOKUP(G100,判定式!E$3:$J$12,6,TRUE))","v":""},{"$f":"IF(H100=\"\",\"\",VLOOKUP(H100,判定式!F$3:$J$12,5,TRUE))","v":""},{"$f":"IF(I100=\"\",\"\",VLOOKUP(I100,判定式!I$3:$J$12,2,TRUE))","v":""},{"$f":"IF(J100=\"\",\"\",VLOOKUP(J100,判定式!L$3:$M$12,2,TRUE))","v":""},{"$f":"IF(K100=\"\",\"\",VLOOKUP(K100,判定式!G$3:$J$12,4,TRUE))","v":""},{"$f":"IF(L100=\"\",\"\",VLOOKUP(L100,判定式!H$3:$J$12,3,TRUE))","v":""},"",{"$f":"IF(ISNUMBER(D100),\"判定外\",IF(C100=6,VLOOKUP(U100,判定式!$C$15:I$19,7,TRUE),IF(C100=7,VLOOKUP(U100,判定式!$D$15:I$19,6,TRUE),IF(C100=8,VLOOKUP(U100,判定式!$E$15:I$19,5,TRUE),IF(C100=9,VLOOKUP(U100,判定式!$F$15:I$19,4,TRUE),IF(C100=10,VLOOKUP(U100,判定式!$G$15:I$19,3,TRUE),IF(C100=11,VLOOKUP(U100,判定式!$H$15:I$19,2,TRUE))))))))","v":false}]
[81,null,null,"-",null,null,null,null,null,null,null,null,{"$f":"IF(E101=\"\",\"\",VLOOKUP(E101,判定式!C$3:$J$12,8,TRUE))","v":""},{"$f":"IF(F101=\"\",\"\",VLOOKUP(F101,判定式!D$3:$J$12,7,TRUE))","v":""},{"$f":"IF(G101=\"\",\"\",VLOOKUP(G101,判定式!E$3:$J$12,6,TRUE))","v":""},{"$f":"IF(H101=\"\",\"\",VLOOKUP(H101,判定式!F$3:$J$12,5,TRUE))","v":""},{"$f":"IF(I101=\"\",\"\",VLOOKUP(I101,判定式!I$3:$J$12,2,TRUE))","v":""},{"$f":"IF(J101=\"\",\"\",VLOOKUP(J101,判定式!L$3:$M$12,2,TRUE))","v":""},{"$f":"IF(K101=\"\",\"\",VLOOKUP(K101,判定式!G$3:$J$12,4,TRUE))","v":""},{"$f":"IF(L101=\"\",\"\",VLOOKUP(L101,判定式!H$3:$J$12,3,TRUE))","v":""},"",{"$f":"IF(ISNUMBER(D101),\"判定外\",IF(C101=6,VLOOKUP(U101,判定式!$C$15:I$19,7,TRUE),IF(C101=7,VLOOKUP(U101,判定式!$D$15:I$19,6,TRUE),IF(C101=8,VLOOKUP(U101,判定式!$E$15:I$19,5,TRUE),IF(C101=9,VLOOKUP(U101,判定式!$F$15:I$19,4,TRUE),IF(C101=10,VLOOKUP(U101,判定式!$G$15:I$19,3,TRUE),IF(C101=11,VLOOKUP(U101,判定式!$H$15:I$19,2,TRUE))))))))","v":false}]
[82,null,null,"-",null,null,null,null,null,null,null,null,{"$f":"IF(E102=\"\",\"\",VLOOKUP(E102,判定式!C$3:$J$12,8,TRUE))","v":""},{"$f":"IF(F102=\"\",\"\",VLOOKUP(F102,判定式!D$3:$J$12,7,TRUE))","v":""},{"$f":"IF(G102=\"\",\"\",VLOOKUP(G102,判定式!E$3:$J$12,6,TRUE))","v":""},{"$f":"IF(H102=\"\",\"\",VLOOKUP(H102,判定式!F$3:$J$12,5,TRUE))","v":""},{"$f":"IF(I102=\"\",\"\",VLOOKUP(I102,判定式!I$3:$J$12,2,TRUE))","v":""},{"$f":"IF(J102=\"\",\"\",VLOOKUP(J102,判定式!L$3:$M$12,2,TRUE))","v":""},{"$f":"IF(K102=\"\",\"\",VLOOKUP(K102,判定式!G$3:$J$12,4,TRUE))","v":""},{"$f":"IF(L102=\"\",\"\",VLOOKUP(L102,判定式!H$3:$J$12,3,TRUE))","v":""},"",{"$f":"IF(ISNUMBER(D102),\"判定外\",IF(C102=6,VLOOKUP(U102,判定式!$C$15:I$19,7,TRUE),IF(C102=7,VLOOKUP(U102,判定式!$D$15:I$19,6,TRUE),IF(C102=8,VLOOKUP(U102,判定式!$E$15:I$19,5,TRUE),IF(C102=9,VLOOKUP(U102,判定式!$F$15:I$19,4,TRUE),IF(C102=10,VLOOKUP(U102,判定式!$G$15:I$19,3,TRUE),IF(C102=11,VLOOKUP(U102,判定式!$H$15:I$19,2,TRUE))))))))","v":false}]
[83,null,null,"-",null,null,null,null,null,null,null,null,{"$f":"IF(E103=\"\",\"\",VLOOKUP(E103,判定式!C$3:$J$12,8,TRUE))","v":""},{"$f":"IF(F103=\"\",\"\",VLOOKUP(F103,判定式!D$3:$J$12,7,TRUE))","v":""},{"$f":"IF(G103=\"\",\"\",VLOOKUP(G103,判定式!E$3:$J$12,6,TRUE))","v":""},{"$f":"IF(H103=\"\",\"\",VLOOKUP(H103,判定式!F$3:$J$12,5,TRUE))","v":""},{"$f":"IF(I103=\"\",\"\",VLOOKUP(I103,判定式!I$3:$J$12,2,TRUE))","v":""},{"$f":"IF(J103=\"\",\"\",VLOOKUP(J103,判定式!L$3:$M$12,2,TRUE))","v":""},{"$f":"IF(K103=\"\",\"\",VLOOKUP(K103,判定式!G$3:$J$12,4,TRUE))","v":""},{"$f":"IF(L103=\"\",\"\",VLOOKUP(L103,判定式!H$3:$J$12,3,TRUE))","v":""},"",{"$f":"IF(ISNUMBER(D103),\"判定外\",IF(C103=6,VLOOKUP(U103,判定式!$C$15:I$19,7,TRUE),IF(C103=7,VLOOKUP(U103,判定式!$D$15:I$19,6,TRUE),IF(C103=8,VLOOKUP(U103,判定式!$E$15:I$19,5,TRUE),IF(C103=9,VLOOKUP(U103,判定式!$F$15:I$19,4,TRUE),IF(C103=10,VLOOKUP(U103,判定式!$G$15:I$19,3,TRUE),IF(C103=11,VLOOKUP(U103,判定式!$H$15:I$19,2,TRUE))))))))","v":false}]
[84,null,null,"-",null,null,null,null,null,null,null,null,{"$f":"IF(E104=\"\",\"\",VLOOKUP(E104,判定式!C$3:$J$12,8,TRUE))","v":""},{"$f":"IF(F104=\"\",\"\",VLOOKUP(F104,判定式!D$3:$J$12,7,TRUE))","v":""},{"$f":"IF(G104=\"\",\"\",VLOOKUP(G104,判定式!E$3:$J$12,6,TRUE))","v":""},{"$f":"IF(H104=\"\",\"\",VLOOKUP(H104,判定式!F$3:$J$12,5,TRUE))","v":""},{"$f":"IF(I104=\"\",\"\",VLOOKUP(I104,判定式!I$3:$J$12,2,TRUE))","v":""},{"$f":"IF(J104=\"\",\"\",VLOOKUP(J104,判定式!L$3:$M$12,2,TRUE))","v":""},{"$f":"IF(K104=\"\",\"\",VLOOKUP(K104,判定式!G$3:$J$12,4,TRUE))","v":""},{"$f":"IF(L104=\"\",\"\",VLOOKUP(L104,判定式!H$3:$J$12,3,TRUE))","v":""},"",{"$f":"IF(ISNUMBER(D104),\"判定外\",IF(C104=6,VLOOKUP(U104,判定式!$C$15:I$19,7,TRUE),IF(C104=7,VLOOKUP(U104,判定式!$D$15:I$19,6,TRUE),IF(C104=8,VLOOKUP(U104,判定式!$E$15:I$19,5,TRUE),IF(C104=9,VLOOKUP(U104,判定式!$F$15:I$19,4,TRUE),IF(C104=10,VLOOKUP(U104,判定式!$G$15:I$19,3,TRUE),IF(C104=11,VLOOKUP(U104,判定式!$H$15:I$19,2,TRUE))))))))","v":false}]
[85,null,null,"-",null,null,null,null,null,null,null,null,{"$f":"IF(E105=\"\",\"\",VLOOKUP(E105,判定式!C$3:$J$12,8,TRUE))","v":""},{"$f":"IF(F105=\"\",\"\",VLOOKUP(F105,判定式!D$3:$J$12,7,TRUE))","v":""},{"$f":"IF(G105=\"\",\"\",VLOOKUP(G105,判定式!E$3:$J$12,6,TRUE))","v":""},{"$f":"IF(H105=\"\",\"\",VLOOKUP(H105,判定式!F$3:$J$12,5,TRUE))","v":""},{"$f":"IF(I105=\"\",\"\",VLOOKUP(I105,判定式!I$3:$J$12,2,TRUE))","v":""},{"$f":"IF(J105=\"\",\"\",VLOOKUP(J105,判定式!L$3:$M$12,2,TRUE))","v":""},{"$f":"IF(K105=\"\",\"\",VLOOKUP(K105,判定式!G$3:$J$12,4,TRUE))","v":""},{"$f":"IF(L105=\"\",\"\",VLOOKUP(L105,判定式!H$3:$J$12,3,TRUE))","v":""},"",{"$f":"IF(ISNUMBER(D105),\"判定外\",IF(C105=6,VLOOKUP(U105,判定式!$C$15:I$19,7,TRUE),IF(C105=7,VLOOKUP(U105,判定式!$D$15:I$19,6,TRUE),IF(C105=8,VLOOKUP(U105,判定式!$E$15:I$19,5,TRUE),IF(C105=9,VLOOKUP(U105,判定式!$F$15:I$19,4,TRUE),IF(C105=10,VLOOKUP(U105,判定式!$G$15:I$19,3,TRUE),IF(C105=11,VLOOKUP(U105,判定式!$H$15:I$19,2,TRUE))))))))","v":false}]
[86,null,null,"-",null,null,null,null,null,null,null,null,{"$f":"IF(E106=\"\",\"\",VLOOKUP(E106,判定式!C$3:$J$12,8,TRUE))","v":""},{"$f":"IF(F106=\"\",\"\",VLOOKUP(F106,判定式!D$3:$J$12,7,TRUE))","v":""},{"$f":"IF(G106=\"\",\"\",VLOOKUP(G106,判定式!E$3:$J$12,6,TRUE))","v":""},{"$f":"IF(H106=\"\",\"\",VLOOKUP(H106,判定式!F$3:$J$12,5,TRUE))","v":""},{"$f":"IF(I106=\"\",\"\",VLOOKUP(I106,判定式!I$3:$J$12,2,TRUE))","v":""},{"$f":"IF(J106=\"\",\"\",VLOOKUP(J106,判定式!L$3:$M$12,2,TRUE))","v":""},{"$f":"IF(K106=\"\",\"\",VLOOKUP(K106,判定式!G$3:$J$12,4,TRUE))","v":""},{"$f":"IF(L106=\"\",\"\",VLOOKUP(L106,判定式!H$3:$J$12,3,TRUE))","v":""},"",{"$f":"IF(ISNUMBER(D106),\"判定外\",IF(C106=6,VLOOKUP(U106,判定式!$C$15:I$19,7,TRUE),IF(C106=7,VLOOKUP(U106,判定式!$D$15:I$19,6,TRUE),IF(C106=8,VLOOKUP(U106,判定式!$E$15:I$19,5,TRUE),IF(C106=9,VLOOKUP(U106,判定式!$F$15:I$19,4,TRUE),IF(C106=10,VLOOKUP(U106,判定式!$G$15:I$19,3,TRUE),IF(C106=11,VLOOKUP(U106,判定式!$H$15:I$19,2,TRUE))))))))","v":false}]
[87,null,null,"-",null,null,null,null,null,null,null,null,{"$f":"IF(E107=\"\",\"\",VLOOKUP(E107,判定式!C$3:$J$12,8,TRUE))","v":""},{"$f":"IF(F107=\"\",\"\",VLOOKUP(F107,判定式!D$3:$J$12,7,TRUE))","v":""},{"$f":"IF(G107=\"\",\"\",VLOOKUP(G107,判定式!E$3:$J$12,6,TRUE))","v":""},{"$f":"IF(H107=\"\",\"\",VLOOKUP(H107,判定式!F$3:$J$12,5,TRUE))","v":""},{"$f":"IF(I107=\"\",\"\",VLOOKUP(I107,判定式!I$3:$J$12,2,TRUE))","v":""},{"$f":"IF(J107=\"\",\"\",VLOOKUP(J107,判定式!L$3:$M$12,2,TRUE))","v":""},{"$f":"IF(K107=\"\",\"\",VLOOKUP(K107,判定式!G$3:$J$12,4,TRUE))","v":""},{"$f":"IF(L107=\"\",\"\",VLOOKUP(L107,判定式!H$3:$J$12,3,TRUE))","v":""},"",{"$f":"IF(ISNUMBER(D107),\"判定外\",IF(C107=6,VLOOKUP(U107,判定式!$C$15:I$19,7,TRUE),IF(C107=7,VLOOKUP(U107,判定式!$D$15:I$19,6,TRUE),IF(C107=8,VLOOKUP(U107,判定式!$E$15:I$19,5,TRUE),IF(C107=9,VLOOKUP(U107,判定式!$F$15:I$19,4,TRUE),IF(C107=10,VLOOKUP(U107,判定式!$G$15:I$19,3,TRUE),IF(C107=11,VLOOKUP(U107,判定式!$H$15:I$19,2,TRUE))))))))","v":false}]
[88,null,null,"-",null,null,null,null,null,null,null,null,{"$f":"IF(E108=\"\",\"\",VLOOKUP(E108,判定式!C$3:$J$12,8,TRUE))","v":""},{"$f":"IF(F108=\"\",\"\",VLOOKUP(F108,判定式!D$3:$J$12,7,TRUE))","v":""},{"$f":"IF(G108=\"\",\"\",VLOOKUP(G108,判定式!E$3:$J$12,6,TRUE))","v":""},{"$f":"IF(H108=\"\",\"\",VLOOKUP(H108,判定式!F$3:$J$12,5,TRUE))","v":""},{"$f":"IF(I108=\"\",\"\",VLOOKUP(I108,判定式!I$3:$J$12,2,TRUE))","v":""},{"$f":"IF(J108=\"\",\"\",VLOOKUP(J108,判定式!L$3:$M$12,2,TRUE))","v":""},{"$f":"IF(K108=\"\",\"\",VLOOKUP(K108,判定式!G$3:$J$12,4,TRUE))","v":""},{"$f":"IF(L108=\"\",\"\",VLOOKUP(L108,判定式!H$3:$J$12,3,TRUE))","v":""},"",{"$f":"IF(ISNUMBER(D108),\"判定外\",IF(C108=6,VLOOKUP(U108,判定式!$C$15:I$19,7,TRUE),IF(C108=7,VLOOKUP(U108,判定式!$D$15:I$19,6,TRUE),IF(C108=8,VLOOKUP(U108,判定式!$E$15:I$19,5,TRUE),IF(C108=9,VLOOKUP(U108,判定式!$F$15:I$19,4,TRUE),IF(C108=10,VLOOKUP(U108,判定式!$G$15:I$19,3,TRUE),IF(C108=11,VLOOKUP(U108,判定式!$H$15:I$19,2,TRUE))))))))","v":false}]
[89,null,null,"-",null,null,null,null,null,null,null,null,{"$f":"IF(E109=\"\",\"\",VLOOKUP(E109,判定式!C$3:$J$12,8,TRUE))","v":""},{"$f":"IF(F109=\"\",\"\",VLOOKUP(F109,判定式!D$3:$J$12,7,TRUE))","v":""},{"$f":"IF(G109=\"\",\"\",VLOOKUP(G109,判定式!E$3:$J$12,6,TRUE))","v":""},{"$f":"IF(H109=\"\",\"\",VLOOKUP(H109,判定式!F$3:$J$12,5,TRUE))","v":""},{"$f":"IF(I109=\"\",\"\",VLOOKUP(I109,判定式!I$3:$J$12,2,TRUE))","v":""},{"$f":"IF(J109=\"\",\"\",VLOOKUP(J109,判定式!L$3:$M$12,2,TRUE))","v":""},{"$f":"IF(K109=\"\",\"\",VLOOKUP(K109,判定式!G$3:$J$12,4,TRUE))","v":""},{"$f":"IF(L109=\"\",\"\",VLOOKUP(L109,判定式!H$3:$J$12,3,TRUE))","v":""},"",{"$f":"IF(ISNUMBER(D109),\"判定外\",IF(C109=6,VLOOKUP(U109,判定式!$C$15:I$19,7,TRUE),IF(C109=7,VLOOKUP(U109,判定式!$D$15:I$19,6,TRUE),IF(C109=8,VLOOKUP(U109,判定式!$E$15:I$19,5,TRUE),IF(C109=9,VLOOKUP(U109,判定式!$F$15:I$19,4,TRUE),IF(C109=10,VLOOKUP(U109,判定式!$G$15:I$19,3,TRUE),IF(C109=11,VLOOKUP(U109,判定式!$H$15:I$19,2,TRUE))))))))","v":false}]
[90,null,null,"-",null,null,null,null,null,null,null,null,{"$f":"IF(E110=\"\",\"\",VLOOKUP(E110,判定式!C$3:$J$12,8,TRUE))","v":""},{"$f":"IF(F110=\"\",\"\",VLOOKUP(F110,判定式!D$3:$J$12,7,TRUE))","v":""},{"$f":"IF(G110=\"\",\"\",VLOOKUP(G110,判定式!E$3:$J$12,6,TRUE))","v":""},{"$f":"IF(H110=\"\",\"\",VLOOKUP(H110,判定式!F$3:$J$12,5,TRUE))","v":""},{"$f":"IF(I110=\"\",\"\",VLOOKUP(I110,判定式!I$3:$J$12,2,TRUE))","v":""},{"$f":"IF(J110=\"\",\"\",VLOOKUP(J110,判定式!L$3:$M$12,2,TRUE))","v":""},{"$f":"IF(K110=\"\",\"\",VLOOKUP(K110,判定式!G$3:$J$12,4,TRUE))","v":""},{"$f":"IF(L110=\"\",\"\",VLOOKUP(L110,判定式!H$3:$J$12,3,TRUE))","v":""},"",{"$f":"IF(ISNUMBER(D110),\"判定外\",IF(C110=6,VLOOKUP(U110,判定式!$C$15:I$19,7,TRUE),IF(C110=7,VLOOKUP(U110,判定式!$D$15:I$19,6,TRUE),IF(C110=8,VLOOKUP(U110,判定式!$E$15:I$19,5,TRUE),IF(C110=9,VLOOKUP(U110,判定式!$F$15:I$19,4,TRUE),IF(C110=10,VLOOKUP(U110,判定式!$G$15:I$19,3,TRUE),IF(C110=11,VLOOKUP(U110,判定式!$H$15:I$19,2,TRUE))))))))","v":false}]
[91,null,null,"-",null,null,null,null,null,null,null,null,{"$f":"IF(E111=\"\",\"\",VLOOKUP(E111,判定式!C$3:$J$12,8,TRUE))","v":""},{"$f":"IF(F111=\"\",\"\",VLOOKUP(F111,判定式!D$3:$J$12,7,TRUE))","v":""},{"$f":"IF(G111=\"\",\"\",VLOOKUP(G111,判定式!E$3:$J$12,6,TRUE))","v":""},{"$f":"IF(H111=\"\",\"\",VLOOKUP(H111,判定式!F$3:$J$12,5,TRUE))","v":""},{"$f":"IF(I111=\"\",\"\",VLOOKUP(I111,判定式!I$3:$J$12,2,TRUE))","v":""},{"$f":"IF(J111=\"\",\"\",VLOOKUP(J111,判定式!L$3:$M$12,2,TRUE))","v":""},{"$f":"IF(K111=\"\",\"\",VLOOKUP(K111,判定式!G$3:$J$12,4,TRUE))","v":""},{"$f":"IF(L111=\"\",\"\",VLOOKUP(L111,判定式!H$3:$J$12,3,TRUE))","v":""},"",{"$f":"IF(ISNUMBER(D111),\"判定外\",IF(C111=6,VLOOKUP(U111,判定式!$C$15:I$19,7,TRUE),IF(C111=7,VLOOKUP(U111,判定式!$D$15:I$19,6,TRUE),IF(C111=8,VLOOKUP(U111,判定式!$E$15:I$19,5,TRUE),IF(C111=9,VLOOKUP(U111,判定式!$F$15:I$19,4,TRUE),IF(C111=10,VLOOKUP(U111,判定式!$G$15:I$19,3,TRUE),IF(C111=11,VLOOKUP(U111,判定式!$H$15:I$19,2,TRUE))))))))","v":false}]
[92,null,null,"-",null,null,null,null,null,null,null,null,{"$f":"IF(E112=\"\",\"\",VLOOKUP(E112,判定式!C$3:$J$12,8,TRUE))","v":""},{"$f":"IF(F112=\"\",\"\",VLOOKUP(F112,判定式!D$3:$J$12,7,TRUE))","v":""},{"$f":"IF(G112=\"\",\"\",VLOOKUP(G112,判定式!E$3:$J$12,6,TRUE))","v":""},{"$f":"IF(H112=\"\",\"\",VLOOKUP(H112,判定式!F$3:$J$12,5,TRUE))","v":""},{"$f":"IF(I112=\"\",\"\",VLOOKUP(I112,判定式!I$3:$J$12,2,TRUE))","v":""},{"$f":"IF(J112=\"\",\"\",VLOOKUP(J112,判定式!L$3:$M$12,2,TRUE))","v":""},{"$f":"IF(K112=\"\",\"\",VLOOKUP(K112,判定式!G$3:$J$12,4,TRUE))","v":""},{"$f":"IF(L112=\"\",\"\",VLOOKUP(L112,判定式!H$3:$J$12,3,TRUE))","v":""},"",{"$f":"IF(ISNUMBER(D112),\"判定外\",IF(C112=6,VLOOKUP(U112,判定式!$C$15:I$19,7,TRUE),IF(C112=7,VLOOKUP(U112,判定式!$D$15:I$19,6,TRUE),IF(C112=8,VLOOKUP(U112,判定式!$E$15:I$19,5,TRUE),IF(C112=9,VLOOKUP(U112,判定式!$F$15:I$19,4,TRUE),IF(C112=10,VLOOKUP(U112,判定式!$G$15:I$19,3,TRUE),IF(C112=11,VLOOKUP(U112,判定式!$H$15:I$19,2,TRUE))))))))","v":false}]
[93,null,null,"-",null,null,null,null,null,null,null,null,{"$f":"IF(E113=\"\",\"\",VLOOKUP(E113,判定式!C$3:$J$12,8,TRUE))","v":""},{"$f":"IF(F113=\"\",\"\",VLOOKUP(F113,判定式!D$3:$J$12,7,TRUE))","v":""},{"$f":"IF(G113=\"\",\"\",VLOOKUP(G113,判定式!E$3:$J$12,6,TRUE))","v":""},{"$f":"IF(H113=\"\",\"\",VLOOKUP(H113,判定式!F$3:$J$12,5,TRUE))","v":""},{"$f":"IF(I113=\"\",\"\",VLOOKUP(I113,判定式!I$3:$J$12,2,TRUE))","v":""},{"$f":"IF(J113=\"\",\"\",VLOOKUP(J113,判定式!L$3:$M$12,2,TRUE))","v":""},{"$f":"IF(K113=\"\",\"\",VLOOKUP(K113,判定式!G$3:$J$12,4,TRUE))","v":""},{"$f":"IF(L113=\"\",\"\",VLOOKUP(L113,判定式!H$3:$J$12,3,TRUE))","v":""},"",{"$f":"IF(ISNUMBER(D113),\"判定外\",IF(C113=6,VLOOKUP(U113,判定式!$C$15:I$19,7,TRUE),IF(C113=7,VLOOKUP(U113,判定式!$D$15:I$19,6,TRUE),IF(C113=8,VLOOKUP(U113,判定式!$E$15:I$19,5,TRUE),IF(C113=9,VLOOKUP(U113,判定式!$F$15:I$19,4,TRUE),IF(C113=10,VLOOKUP(U113,判定式!$G$15:I$19,3,TRUE),IF(C113=11,VLOOKUP(U113,判定式!$H$15:I$19,2,TRUE))))))))","v":false}]
[94,null,null,"-",null,null,null,null,null,null,null,null,{"$f":"IF(E114=\"\",\"\",VLOOKUP(E114,判定式!C$3:$J$12,8,TRUE))","v":""},{"$f":"IF(F114=\"\",\"\",VLOOKUP(F114,判定式!D$3:$J$12,7,TRUE))","v":""},{"$f":"IF(G114=\"\",\"\",VLOOKUP(G114,判定式!E$3:$J$12,6,TRUE))","v":""},{"$f":"IF(H114=\"\",\"\",VLOOKUP(H114,判定式!F$3:$J$12,5,TRUE))","v":""},{"$f":"IF(I114=\"\",\"\",VLOOKUP(I114,判定式!I$3:$J$12,2,TRUE))","v":""},{"$f":"IF(J114=\"\",\"\",VLOOKUP(J114,判定式!L$3:$M$12,2,TRUE))","v":""},{"$f":"IF(K114=\"\",\"\",VLOOKUP(K114,判定式!G$3:$J$12,4,TRUE))","v":""},{"$f":"IF(L114=\"\",\"\",VLOOKUP(L114,判定式!H$3:$J$12,3,TRUE))","v":""},"",{"$f":"IF(ISNUMBER(D114),\"判定外\",IF(C114=6,VLOOKUP(U114,判定式!$C$15:I$19,7,TRUE),IF(C114=7,VLOOKUP(U114,判定式!$D$15:I$19,6,TRUE),IF(C114=8,VLOOKUP(U114,判定式!$E$15:I$19,5,TRUE),IF(C114=9,VLOOKUP(U114,判定式!$F$15:I$19,4,TRUE),IF(C114=10,VLOOKUP(U114,判定式!$G$15:I$19,3,TRUE),IF(C114=11,VLOOKUP(U114,判定式!$H$15:I$19,2,TRUE))))))))","v":false}]
[95,null,null,"-",null,null,null,null,null,null,null,null,{"$f":"IF(E115=\"\",\"\",VLOOKUP(E115,判定式!C$3:$J$12,8,TRUE))","v":""},{"$f":"IF(F115=\"\",\"\",VLOOKUP(F115,判定式!D$3:$J$12,7,TRUE))","v":""},{"$f":"IF(G115=\"\",\"\",VLOOKUP(G115,判定式!E$3:$J$12,6,TRUE))","v":""},{"$f":"IF(H115=\"\",\"\",VLOOKUP(H115,判定式!F$3:$J$12,5,TRUE))","v":""},{"$f":"IF(I115=\"\",\"\",VLOOKUP(I115,判定式!I$3:$J$12,2,TRUE))","v":""},{"$f":"IF(J115=\"\",\"\",VLOOKUP(J115,判定式!L$3:$M$12,2,TRUE))","v":""},{"$f":"IF(K115=\"\",\"\",VLOOKUP(K115,判定式!G$3:$J$12,4,TRUE))","v":""},{"$f":"IF(L115=\"\",\"\",VLOOKUP(L115,判定式!H$3:$J$12,3,TRUE))","v":""},"",{"$f":"IF(ISNUMBER(D115),\"判定外\",IF(C115=6,VLOOKUP(U115,判定式!$C$15:I$19,7,TRUE),IF(C115=7,VLOOKUP(U115,判定式!$D$15:I$19,6,TRUE),IF(C115=8,VLOOKUP(U115,判定式!$E$15:I$19,5,TRUE),IF(C115=9,VLOOKUP(U115,判定式!$F$15:I$19,4,TRUE),IF(C115=10,VLOOKUP(U115,判定式!$G$15:I$19,3,TRUE),IF(C115=11,VLOOKUP(U115,判定式!$H$15:I$19,2,TRUE))))))))","v":false}]
[96,null,null,"-",null,null,null,null,null,null,null,null,{"$f":"IF(E116=\"\",\"\",VLOOKUP(E116,判定式!C$3:$J$12,8,TRUE))","v":""},{"$f":"IF(F116=\"\",\"\",VLOOKUP(F116,判定式!D$3:$J$12,7,TRUE))","v":""},{"$f":"IF(G116=\"\",\"\",VLOOKUP(G116,判定式!E$3:$J$12,6,TRUE))","v":""},{"$f":"IF(H116=\"\",\"\",VLOOKUP(H116,判定式!F$3:$J$12,5,TRUE))","v":""},{"$f":"IF(I116=\"\",\"\",VLOOKUP(I116,判定式!I$3:$J$12,2,TRUE))","v":""},{"$f":"IF(J116=\"\",\"\",VLOOKUP(J116,判定式!L$3:$M$12,2,TRUE))","v":""},{"$f":"IF(K116=\"\",\"\",VLOOKUP(K116,判定式!G$3:$J$12,4,TRUE))","v":""},{"$f":"IF(L116=\"\",\"\",VLOOKUP(L116,判定式!H$3:$J$12,3,TRUE))","v":""},"",{"$f":"IF(ISNUMBER(D116),\"判定外\",IF(C116=6,VLOOKUP(U116,判定式!$C$15:I$19,7,TRUE),IF(C116=7,VLOOKUP(U116,判定式!$D$15:I$19,6,TRUE),IF(C116=8,VLOOKUP(U116,判定式!$E$15:I$19,5,TRUE),IF(C116=9,VLOOKUP(U116,判定式!$F$15:I$19,4,TRUE),IF(C116=10,VLOOKUP(U116,判定式!$G$15:I$19,3,TRUE),IF(C116=11,VLOOKUP(U116,判定式!$H$15:I$19,2,TRUE))))))))","v":false}]
[97,null,null,{"$f":"IF(COUNTBLANK(E117:L117)=0,\"\",IF(COUNTBLANK(E117:L117)=8,\"-\",COUNTBLANK(E117:L117)))","v":"-"},null,null,null,null,null,null,null,null,{"$f":"IF(E117=\"\",\"\",VLOOKUP(E117,判定式!C$3:$J$12,8,TRUE))","v":""},{"$f":"IF(F117=\"\",\"\",VLOOKUP(F117,判定式!D$3:$J$12,7,TRUE))","v":""},{"$f":"IF(G117=\"\",\"\",VLOOKUP(G117,判定式!E$3:$J$12,6,TRUE))","v":""},{"$f":"IF(H117=\"\",\"\",VLOOKUP(H117,判定式!F$3:$J$12,5,TRUE))","v":""},{"$f":"IF(I117=\"\",\"\",VLOOKUP(I117,判定式!I$3:$J$12,2,TRUE))","v":""},{"$f":"IF(J117=\"\",\"\",VLOOKUP(J117,判定式!L$3:$M$12,2,TRUE))","v":""},{"$f":"IF(K117=\"\",\"\",VLOOKUP(K117,判定式!G$3:$J$12,4,TRUE))","v":""},{"$f":"IF(L117=\"\",\"\",VLOOKUP(L117,判定式!H$3:$J$12,3,TRUE))","v":""},"",{"$f":"IF(ISNUMBER(D117),\"判定外\",IF(C117=6,VLOOKUP(U117,判定式!$C$15:I$19,7,TRUE),IF(C117=7,VLOOKUP(U117,判定式!$D$15:I$19,6,TRUE),IF(C117=8,VLOOKUP(U117,判定式!$E$15:I$19,5,TRUE),IF(C117=9,VLOOKUP(U117,判定式!$F$15:I$19,4,TRUE),IF(C117=10,VLOOKUP(U117,判定式!$G$15:I$19,3,TRUE),IF(C117=11,VLOOKUP(U117,判定式!$H$15:I$19,2,TRUE))))))))","v":false}]
[98,null,null,"-",null,null,null,null,null,null,null,null,{"$f":"IF(E118=\"\",\"\",VLOOKUP(E118,判定式!C$3:$J$12,8,TRUE))","v":""},{"$f":"IF(F118=\"\",\"\",VLOOKUP(F118,判定式!D$3:$J$12,7,TRUE))","v":""},{"$f":"IF(G118=\"\",\"\",VLOOKUP(G118,判定式!E$3:$J$12,6,TRUE))","v":""},{"$f":"IF(H118=\"\",\"\",VLOOKUP(H118,判定式!F$3:$J$12,5,TRUE))","v":""},{"$f":"IF(I118=\"\",\"\",VLOOKUP(I118,判定式!I$3:$J$12,2,TRUE))","v":""},{"$f":"IF(J118=\"\",\"\",VLOOKUP(J118,判定式!L$3:$M$12,2,TRUE))","v":""},{"$f":"IF(K118=\"\",\"\",VLOOKUP(K118,判定式!G$3:$J$12,4,TRUE))","v":""},{"$f":"IF(L118=\"\",\"\",VLOOKUP(L118,判定式!H$3:$J$12,3,TRUE))","v":""},"",{"$f":"IF(ISNUMBER(D118),\"判定外\",IF(C118=6,VLOOKUP(U118,判定式!$C$15:I$19,7,TRUE),IF(C118=7,VLOOKUP(U118,判定式!$D$15:I$19,6,TRUE),IF(C118=8,VLOOKUP(U118,判定式!$E$15:I$19,5,TRUE),IF(C118=9,VLOOKUP(U118,判定式!$F$15:I$19,4,TRUE),IF(C118=10,VLOOKUP(U118,判定式!$G$15:I$19,3,TRUE),IF(C118=11,VLOOKUP(U118,判定式!$H$15:I$19,2,TRUE))))))))","v":false}]
[99,null,null,"-",null,null,null,null,null,null,null,null,{"$f":"IF(E119=\"\",\"\",VLOOKUP(E119,判定式!C$3:$J$12,8,TRUE))","v":""},{"$f":"IF(F119=\"\",\"\",VLOOKUP(F119,判定式!D$3:$J$12,7,TRUE))","v":""},{"$f":"IF(G119=\"\",\"\",VLOOKUP(G119,判定式!E$3:$J$12,6,TRUE))","v":""},{"$f":"IF(H119=\"\",\"\",VLOOKUP(H119,判定式!F$3:$J$12,5,TRUE))","v":""},{"$f":"IF(I119=\"\",\"\",VLOOKUP(I119,判定式!I$3:$J$12,2,TRUE))","v":""},{"$f":"IF(J119=\"\",\"\",VLOOKUP(J119,判定式!L$3:$M$12,2,TRUE))","v":""},{"$f":"IF(K119=\"\",\"\",VLOOKUP(K119,判定式!G$3:$J$12,4,TRUE))","v":""},{"$f":"IF(L119=\"\",\"\",VLOOKUP(L119,判定式!H$3:$J$12,3,TRUE))","v":""},"",{"$f":"IF(ISNUMBER(D119),\"判定外\",IF(C119=6,VLOOKUP(U119,判定式!$C$15:I$19,7,TRUE),IF(C119=7,VLOOKUP(U119,判定式!$D$15:I$19,6,TRUE),IF(C119=8,VLOOKUP(U119,判定式!$E$15:I$19,5,TRUE),IF(C119=9,VLOOKUP(U119,判定式!$F$15:I$19,4,TRUE),IF(C119=10,VLOOKUP(U119,判定式!$G$15:I$19,3,TRUE),IF(C119=11,VLOOKUP(U119,判定式!$H$15:I$19,2,TRUE))))))))","v":false}]
[100,null,null,"-",null,null,null,null,null,null,null,null,{"$f":"IF(E120=\"\",\"\",VLOOKUP(E120,判定式!C$3:$J$12,8,TRUE))","v":""},{"$f":"IF(F120=\"\",\"\",VLOOKUP(F120,判定式!D$3:$J$12,7,TRUE))","v":""},{"$f":"IF(G120=\"\",\"\",VLOOKUP(G120,判定式!E$3:$J$12,6,TRUE))","v":""},{"$f":"IF(H120=\"\",\"\",VLOOKUP(H120,判定式!F$3:$J$12,5,TRUE))","v":""},{"$f":"IF(I120=\"\",\"\",VLOOKUP(I120,判定式!I$3:$J$12,2,TRUE))","v":""},{"$f":"IF(J120=\"\",\"\",VLOOKUP(J120,判定式!L$3:$M$12,2,TRUE))","v":""},{"$f":"IF(K120=\"\",\"\",VLOOKUP(K120,判定式!G$3:$J$12,4,TRUE))","v":""},{"$f":"IF(L120=\"\",\"\",VLOOKUP(L120,判定式!H$3:$J$12,3,TRUE))","v":""},"",{"$f":"IF(ISNUMBER(D120),\"判定外\",IF(C120=6,VLOOKUP(U120,判定式!$C$15:I$19,7,TRUE),IF(C120=7,VLOOKUP(U120,判定式!$D$15:I$19,6,TRUE),IF(C120=8,VLOOKUP(U120,判定式!$E$15:I$19,5,TRUE),IF(C120=9,VLOOKUP(U120,判定式!$F$15:I$19,4,TRUE),IF(C120=10,VLOOKUP(U120,判定式!$G$15:I$19,3,TRUE),IF(C120=11,VLOOKUP(U120,判定式!$H$15:I$19,2,TRUE))))))))","v":false}]
[101,null,null,"-",null,null,null,null,null,null,null,null,{"$f":"IF(E121=\"\",\"\",VLOOKUP(E121,判定式!C$3:$J$12,8,TRUE))","v":""},{"$f":"IF(F121=\"\",\"\",VLOOKUP(F121,判定式!D$3:$J$12,7,TRUE))","v":""},{"$f":"IF(G121=\"\",\"\",VLOOKUP(G121,判定式!E$3:$J$12,6,TRUE))","v":""},{"$f":"IF(H121=\"\",\"\",VLOOKUP(H121,判定式!F$3:$J$12,5,TRUE))","v":""},{"$f":"IF(I121=\"\",\"\",VLOOKUP(I121,判定式!I$3:$J$12,2,TRUE))","v":""},{"$f":"IF(J121=\"\",\"\",VLOOKUP(J121,判定式!L$3:$M$12,2,TRUE))","v":""},{"$f":"IF(K121=\"\",\"\",VLOOKUP(K121,判定式!G$3:$J$12,4,TRUE))","v":""},{"$f":"IF(L121=\"\",\"\",VLOOKUP(L121,判定式!H$3:$J$12,3,TRUE))","v":""},"",{"$f":"IF(ISNUMBER(D121),\"判定外\",IF(C121=6,VLOOKUP(U121,判定式!$C$15:I$19,7,TRUE),IF(C121=7,VLOOKUP(U121,判定式!$D$15:I$19,6,TRUE),IF(C121=8,VLOOKUP(U121,判定式!$E$15:I$19,5,TRUE),IF(C121=9,VLOOKUP(U121,判定式!$F$15:I$19,4,TRUE),IF(C121=10,VLOOKUP(U121,判定式!$G$15:I$19,3,TRUE),IF(C121=11,VLOOKUP(U121,判定式!$H$15:I$19,2,TRUE))))))))","v":false}]
[102,null,null,"-",null,null,null,null,null,null,null,null,{"$f":"IF(E122=\"\",\"\",VLOOKUP(E122,判定式!C$3:$J$12,8,TRUE))","v":""},{"$f":"IF(F122=\"\",\"\",VLOOKUP(F122,判定式!D$3:$J$12,7,TRUE))","v":""},{"$f":"IF(G122=\"\",\"\",VLOOKUP(G122,判定式!E$3:$J$12,6,TRUE))","v":""},{"$f":"IF(H122=\"\",\"\",VLOOKUP(H122,判定式!F$3:$J$12,5,TRUE))","v":""},{"$f":"IF(I122=\"\",\"\",VLOOKUP(I122,判定式!I$3:$J$12,2,TRUE))","v":""},{"$f":"IF(J122=\"\",\"\",VLOOKUP(J122,判定式!L$3:$M$12,2,TRUE))","v":""},{"$f":"IF(K122=\"\",\"\",VLOOKUP(K122,判定式!G$3:$J$12,4,TRUE))","v":""},{"$f":"IF(L122=\"\",\"\",VLOOKUP(L122,判定式!H$3:$J$12,3,TRUE))","v":""},"",{"$f":"IF(ISNUMBER(D122),\"判定外\",IF(C122=6,VLOOKUP(U122,判定式!$C$15:I$19,7,TRUE),IF(C122=7,VLOOKUP(U122,判定式!$D$15:I$19,6,TRUE),IF(C122=8,VLOOKUP(U122,判定式!$E$15:I$19,5,TRUE),IF(C122=9,VLOOKUP(U122,判定式!$F$15:I$19,4,TRUE),IF(C122=10,VLOOKUP(U122,判定式!$G$15:I$19,3,TRUE),IF(C122=11,VLOOKUP(U122,判定式!$H$15:I$19,2,TRUE))))))))","v":false}]
[103,null,null,"-",null,null,null,null,null,null,null,null,{"$f":"IF(E123=\"\",\"\",VLOOKUP(E123,判定式!C$3:$J$12,8,TRUE))","v":""},{"$f":"IF(F123=\"\",\"\",VLOOKUP(F123,判定式!D$3:$J$12,7,TRUE))","v":""},{"$f":"IF(G123=\"\",\"\",VLOOKUP(G123,判定式!E$3:$J$12,6,TRUE))","v":""},{"$f":"IF(H123=\"\",\"\",VLOOKUP(H123,判定式!F$3:$J$12,5,TRUE))","v":""},{"$f":"IF(I123=\"\",\"\",VLOOKUP(I123,判定式!I$3:$J$12,2,TRUE))","v":""},{"$f":"IF(J123=\"\",\"\",VLOOKUP(J123,判定式!L$3:$M$12,2,TRUE))","v":""},{"$f":"IF(K123=\"\",\"\",VLOOKUP(K123,判定式!G$3:$J$12,4,TRUE))","v":""},{"$f":"IF(L123=\"\",\"\",VLOOKUP(L123,判定式!H$3:$J$12,3,TRUE))","v":""},"",{"$f":"IF(ISNUMBER(D123),\"判定外\",IF(C123=6,VLOOKUP(U123,判定式!$C$15:I$19,7,TRUE),IF(C123=7,VLOOKUP(U123,判定式!$D$15:I$19,6,TRUE),IF(C123=8,VLOOKUP(U123,判定式!$E$15:I$19,5,TRUE),IF(C123=9,VLOOKUP(U123,判定式!$F$15:I$19,4,TRUE),IF(C123=10,VLOOKUP(U123,判定式!$G$15:I$19,3,TRUE),IF(C123=11,VLOOKUP(U123,判定式!$H$15:I$19,2,TRUE))))))))","v":false}]
[104,null,null,"-",null,null,null,null,null,null,null,null,{"$f":"IF(E124=\"\",\"\",VLOOKUP(E124,判定式!C$3:$J$12,8,TRUE))","v":""},{"$f":"IF(F124=\"\",\"\",VLOOKUP(F124,判定式!D$3:$J$12,7,TRUE))","v":""},{"$f":"IF(G124=\"\",\"\",VLOOKUP(G124,判定式!E$3:$J$12,6,TRUE))","v":""},{"$f":"IF(H124=\"\",\"\",VLOOKUP(H124,判定式!F$3:$J$12,5,TRUE))","v":""},{"$f":"IF(I124=\"\",\"\",VLOOKUP(I124,判定式!I$3:$J$12,2,TRUE))","v":""},{"$f":"IF(J124=\"\",\"\",VLOOKUP(J124,判定式!L$3:$M$12,2,TRUE))","v":""},{"$f":"IF(K124=\"\",\"\",VLOOKUP(K124,判定式!G$3:$J$12,4,TRUE))","v":""},{"$f":"IF(L124=\"\",\"\",VLOOKUP(L124,判定式!H$3:$J$12,3,TRUE))","v":""},"",{"$f":"IF(ISNUMBER(D124),\"判定外\",IF(C124=6,VLOOKUP(U124,判定式!$C$15:I$19,7,TRUE),IF(C124=7,VLOOKUP(U124,判定式!$D$15:I$19,6,TRUE),IF(C124=8,VLOOKUP(U124,判定式!$E$15:I$19,5,TRUE),IF(C124=9,VLOOKUP(U124,判定式!$F$15:I$19,4,TRUE),IF(C124=10,VLOOKUP(U124,判定式!$G$15:I$19,3,TRUE),IF(C124=11,VLOOKUP(U124,判定式!$H$15:I$19,2,TRUE))))))))","v":false}]
[105,null,null,"-",null,null,null,null,null,null,null,null,{"$f":"IF(E125=\"\",\"\",VLOOKUP(E125,判定式!C$3:$J$12,8,TRUE))","v":""},{"$f":"IF(F125=\"\",\"\",VLOOKUP(F125,判定式!D$3:$J$12,7,TRUE))","v":""},{"$f":"IF(G125=\"\",\"\",VLOOKUP(G125,判定式!E$3:$J$12,6,TRUE))","v":""},{"$f":"IF(H125=\"\",\"\",VLOOKUP(H125,判定式!F$3:$J$12,5,TRUE))","v":""},{"$f":"IF(I125=\"\",\"\",VLOOKUP(I125,判定式!I$3:$J$12,2,TRUE))","v":""},{"$f":"IF(J125=\"\",\"\",VLOOKUP(J125,判定式!L$3:$M$12,2,TRUE))","v":""},{"$f":"IF(K125=\"\",\"\",VLOOKUP(K125,判定式!G$3:$J$12,4,TRUE))","v":""},{"$f":"IF(L125=\"\",\"\",VLOOKUP(L125,判定式!H$3:$J$12,3,TRUE))","v":""},"",{"$f":"IF(ISNUMBER(D125),\"判定外\",IF(C125=6,VLOOKUP(U125,判定式!$C$15:I$19,7,TRUE),IF(C125=7,VLOOKUP(U125,判定式!$D$15:I$19,6,TRUE),IF(C125=8,VLOOKUP(U125,判定式!$E$15:I$19,5,TRUE),IF(C125=9,VLOOKUP(U125,判定式!$F$15:I$19,4,TRUE),IF(C125=10,VLOOKUP(U125,判定式!$G$15:I$19,3,TRUE),IF(C125=11,VLOOKUP(U125,判定式!$H$15:I$19,2,TRUE))))))))","v":false}]
[106,null,null,"-",null,null,null,null,null,null,null,null,{"$f":"IF(E126=\"\",\"\",VLOOKUP(E126,判定式!C$3:$J$12,8,TRUE))","v":""},{"$f":"IF(F126=\"\",\"\",VLOOKUP(F126,判定式!D$3:$J$12,7,TRUE))","v":""},{"$f":"IF(G126=\"\",\"\",VLOOKUP(G126,判定式!E$3:$J$12,6,TRUE))","v":""},{"$f":"IF(H126=\"\",\"\",VLOOKUP(H126,判定式!F$3:$J$12,5,TRUE))","v":""},{"$f":"IF(I126=\"\",\"\",VLOOKUP(I126,判定式!I$3:$J$12,2,TRUE))","v":""},{"$f":"IF(J126=\"\",\"\",VLOOKUP(J126,判定式!L$3:$M$12,2,TRUE))","v":""},{"$f":"IF(K126=\"\",\"\",VLOOKUP(K126,判定式!G$3:$J$12,4,TRUE))","v":""},{"$f":"IF(L126=\"\",\"\",VLOOKUP(L126,判定式!H$3:$J$12,3,TRUE))","v":""},"",{"$f":"IF(ISNUMBER(D126),\"判定外\",IF(C126=6,VLOOKUP(U126,判定式!$C$15:I$19,7,TRUE),IF(C126=7,VLOOKUP(U126,判定式!$D$15:I$19,6,TRUE),IF(C126=8,VLOOKUP(U126,判定式!$E$15:I$19,5,TRUE),IF(C126=9,VLOOKUP(U126,判定式!$F$15:I$19,4,TRUE),IF(C126=10,VLOOKUP(U126,判定式!$G$15:I$19,3,TRUE),IF(C126=11,VLOOKUP(U126,判定式!$H$15:I$19,2,TRUE))))))))","v":false}]
[107,null,null,"-",null,null,null,null,null,null,null,null,{"$f":"IF(E127=\"\",\"\",VLOOKUP(E127,判定式!C$3:$J$12,8,TRUE))","v":""},{"$f":"IF(F127=\"\",\"\",VLOOKUP(F127,判定式!D$3:$J$12,7,TRUE))","v":""},{"$f":"IF(G127=\"\",\"\",VLOOKUP(G127,判定式!E$3:$J$12,6,TRUE))","v":""},{"$f":"IF(H127=\"\",\"\",VLOOKUP(H127,判定式!F$3:$J$12,5,TRUE))","v":""},{"$f":"IF(I127=\"\",\"\",VLOOKUP(I127,判定式!I$3:$J$12,2,TRUE))","v":""},{"$f":"IF(J127=\"\",\"\",VLOOKUP(J127,判定式!L$3:$M$12,2,TRUE))","v":""},{"$f":"IF(K127=\"\",\"\",VLOOKUP(K127,判定式!G$3:$J$12,4,TRUE))","v":""},{"$f":"IF(L127=\"\",\"\",VLOOKUP(L127,判定式!H$3:$J$12,3,TRUE))","v":""},"",{"$f":"IF(ISNUMBER(D127),\"判定外\",IF(C127=6,VLOOKUP(U127,判定式!$C$15:I$19,7,TRUE),IF(C127=7,VLOOKUP(U127,判定式!$D$15:I$19,6,TRUE),IF(C127=8,VLOOKUP(U127,判定式!$E$15:I$19,5,TRUE),IF(C127=9,VLOOKUP(U127,判定式!$F$15:I$19,4,TRUE),IF(C127=10,VLOOKUP(U127,判定式!$G$15:I$19,3,TRUE),IF(C127=11,VLOOKUP(U127,判定式!$H$15:I$19,2,TRUE))))))))","v":false}]
[108,null,null,"-",null,null,null,null,null,null,null,null,{"$f":"IF(E128=\"\",\"\",VLOOKUP(E128,判定式!C$3:$J$12,8,TRUE))","v":""},{"$f":"IF(F128=\"\",\"\",VLOOKUP(F128,判定式!D$3:$J$12,7,TRUE))","v":""},{"$f":"IF(G128=\"\",\"\",VLOOKUP(G128,判定式!E$3:$J$12,6,TRUE))","v":""},{"$f":"IF(H128=\"\",\"\",VLOOKUP(H128,判定式!F$3:$J$12,5,TRUE))","v":""},{"$f":"IF(I128=\"\",\"\",VLOOKUP(I128,判定式!I$3:$J$12,2,TRUE))","v":""},{"$f":"IF(J128=\"\",\"\",VLOOKUP(J128,判定式!L$3:$M$12,2,TRUE))","v":""},{"$f":"IF(K128=\"\",\"\",VLOOKUP(K128,判定式!G$3:$J$12,4,TRUE))","v":""},{"$f":"IF(L128=\"\",\"\",VLOOKUP(L128,判定式!H$3:$J$12,3,TRUE))","v":""},"",{"$f":"IF(ISNUMBER(D128),\"判定外\",IF(C128=6,VLOOKUP(U128,判定式!$C$15:I$19,7,TRUE),IF(C128=7,VLOOKUP(U128,判定式!$D$15:I$19,6,TRUE),IF(C128=8,VLOOKUP(U128,判定式!$E$15:I$19,5,TRUE),IF(C128=9,VLOOKUP(U128,判定式!$F$15:I$19,4,TRUE),IF(C128=10,VLOOKUP(U128,判定式!$G$15:I$19,3,TRUE),IF(C128=11,VLOOKUP(U128,判定式!$H$15:I$19,2,TRUE))))))))","v":false}]
[109,null,null,"-",null,null,null,null,null,null,null,null,{"$f":"IF(E129=\"\",\"\",VLOOKUP(E129,判定式!C$3:$J$12,8,TRUE))","v":""},{"$f":"IF(F129=\"\",\"\",VLOOKUP(F129,判定式!D$3:$J$12,7,TRUE))","v":""},{"$f":"IF(G129=\"\",\"\",VLOOKUP(G129,判定式!E$3:$J$12,6,TRUE))","v":""},{"$f":"IF(H129=\"\",\"\",VLOOKUP(H129,判定式!F$3:$J$12,5,TRUE))","v":""},{"$f":"IF(I129=\"\",\"\",VLOOKUP(I129,判定式!I$3:$J$12,2,TRUE))","v":""},{"$f":"IF(J129=\"\",\"\",VLOOKUP(J129,判定式!L$3:$M$12,2,TRUE))","v":""},{"$f":"IF(K129=\"\",\"\",VLOOKUP(K129,判定式!G$3:$J$12,4,TRUE))","v":""},{"$f":"IF(L129=\"\",\"\",VLOOKUP(L129,判定式!H$3:$J$12,3,TRUE))","v":""},"",{"$f":"IF(ISNUMBER(D129),\"判定外\",IF(C129=6,VLOOKUP(U129,判定式!$C$15:I$19,7,TRUE),IF(C129=7,VLOOKUP(U129,判定式!$D$15:I$19,6,TRUE),IF(C129=8,VLOOKUP(U129,判定式!$E$15:I$19,5,TRUE),IF(C129=9,VLOOKUP(U129,判定式!$F$15:I$19,4,TRUE),IF(C129=10,VLOOKUP(U129,判定式!$G$15:I$19,3,TRUE),IF(C129=11,VLOOKUP(U129,判定式!$H$15:I$19,2,TRUE))))))))","v":false}]
[110,null,null,"-",null,null,null,null,null,null,null,null,{"$f":"IF(E130=\"\",\"\",VLOOKUP(E130,判定式!C$3:$J$12,8,TRUE))","v":""},{"$f":"IF(F130=\"\",\"\",VLOOKUP(F130,判定式!D$3:$J$12,7,TRUE))","v":""},{"$f":"IF(G130=\"\",\"\",VLOOKUP(G130,判定式!E$3:$J$12,6,TRUE))","v":""},{"$f":"IF(H130=\"\",\"\",VLOOKUP(H130,判定式!F$3:$J$12,5,TRUE))","v":""},{"$f":"IF(I130=\"\",\"\",VLOOKUP(I130,判定式!I$3:$J$12,2,TRUE))","v":""},{"$f":"IF(J130=\"\",\"\",VLOOKUP(J130,判定式!L$3:$M$12,2,TRUE))","v":""},{"$f":"IF(K130=\"\",\"\",VLOOKUP(K130,判定式!G$3:$J$12,4,TRUE))","v":""},{"$f":"IF(L130=\"\",\"\",VLOOKUP(L130,判定式!H$3:$J$12,3,TRUE))","v":""},"",{"$f":"IF(ISNUMBER(D130),\"判定外\",IF(C130=6,VLOOKUP(U130,判定式!$C$15:I$19,7,TRUE),IF(C130=7,VLOOKUP(U130,判定式!$D$15:I$19,6,TRUE),IF(C130=8,VLOOKUP(U130,判定式!$E$15:I$19,5,TRUE),IF(C130=9,VLOOKUP(U130,判定式!$F$15:I$19,4,TRUE),IF(C130=10,VLOOKUP(U130,判定式!$G$15:I$19,3,TRUE),IF(C130=11,VLOOKUP(U130,判定式!$H$15:I$19,2,TRUE))))))))","v":false}]
[111,null,null,"-",null,null,null,null,null,null,null,null,{"$f":"IF(E131=\"\",\"\",VLOOKUP(E131,判定式!C$3:$J$12,8,TRUE))","v":""},{"$f":"IF(F131=\"\",\"\",VLOOKUP(F131,判定式!D$3:$J$12,7,TRUE))","v":""},{"$f":"IF(G131=\"\",\"\",VLOOKUP(G131,判定式!E$3:$J$12,6,TRUE))","v":""},{"$f":"IF(H131=\"\",\"\",VLOOKUP(H131,判定式!F$3:$J$12,5,TRUE))","v":""},{"$f":"IF(I131=\"\",\"\",VLOOKUP(I131,判定式!I$3:$J$12,2,TRUE))","v":""},{"$f":"IF(J131=\"\",\"\",VLOOKUP(J131,判定式!L$3:$M$12,2,TRUE))","v":""},{"$f":"IF(K131=\"\",\"\",VLOOKUP(K131,判定式!G$3:$J$12,4,TRUE))","v":""},{"$f":"IF(L131=\"\",\"\",VLOOKUP(L131,判定式!H$3:$J$12,3,TRUE))","v":""},"",{"$f":"IF(ISNUMBER(D131),\"判定外\",IF(C131=6,VLOOKUP(U131,判定式!$C$15:I$19,7,TRUE),IF(C131=7,VLOOKUP(U131,判定式!$D$15:I$19,6,TRUE),IF(C131=8,VLOOKUP(U131,判定式!$E$15:I$19,5,TRUE),IF(C131=9,VLOOKUP(U131,判定式!$F$15:I$19,4,TRUE),IF(C131=10,VLOOKUP(U131,判定式!$G$15:I$19,3,TRUE),IF(C131=11,VLOOKUP(U131,判定式!$H$15:I$19,2,TRUE))))))))","v":false}]
[112,null,null,"-",null,null,null,null,null,null,null,null,{"$f":"IF(E132=\"\",\"\",VLOOKUP(E132,判定式!C$3:$J$12,8,TRUE))","v":""},{"$f":"IF(F132=\"\",\"\",VLOOKUP(F132,判定式!D$3:$J$12,7,TRUE))","v":""},{"$f":"IF(G132=\"\",\"\",VLOOKUP(G132,判定式!E$3:$J$12,6,TRUE))","v":""},{"$f":"IF(H132=\"\",\"\",VLOOKUP(H132,判定式!F$3:$J$12,5,TRUE))","v":""},{"$f":"IF(I132=\"\",\"\",VLOOKUP(I132,判定式!I$3:$J$12,2,TRUE))","v":""},{"$f":"IF(J132=\"\",\"\",VLOOKUP(J132,判定式!L$3:$M$12,2,TRUE))","v":""},{"$f":"IF(K132=\"\",\"\",VLOOKUP(K132,判定式!G$3:$J$12,4,TRUE))","v":""},{"$f":"IF(L132=\"\",\"\",VLOOKUP(L132,判定式!H$3:$J$12,3,TRUE))","v":""},"",{"$f":"IF(ISNUMBER(D132),\"判定外\",IF(C132=6,VLOOKUP(U132,判定式!$C$15:I$19,7,TRUE),IF(C132=7,VLOOKUP(U132,判定式!$D$15:I$19,6,TRUE),IF(C132=8,VLOOKUP(U132,判定式!$E$15:I$19,5,TRUE),IF(C132=9,VLOOKUP(U132,判定式!$F$15:I$19,4,TRUE),IF(C132=10,VLOOKUP(U132,判定式!$G$15:I$19,3,TRUE),IF(C132=11,VLOOKUP(U132,判定式!$H$15:I$19,2,TRUE))))))))","v":false}]
[113,null,null,"-",null,null,null,null,null,null,null,null,{"$f":"IF(E133=\"\",\"\",VLOOKUP(E133,判定式!C$3:$J$12,8,TRUE))","v":""},{"$f":"IF(F133=\"\",\"\",VLOOKUP(F133,判定式!D$3:$J$12,7,TRUE))","v":""},{"$f":"IF(G133=\"\",\"\",VLOOKUP(G133,判定式!E$3:$J$12,6,TRUE))","v":""},{"$f":"IF(H133=\"\",\"\",VLOOKUP(H133,判定式!F$3:$J$12,5,TRUE))","v":""},{"$f":"IF(I133=\"\",\"\",VLOOKUP(I133,判定式!I$3:$J$12,2,TRUE))","v":""},{"$f":"IF(J133=\"\",\"\",VLOOKUP(J133,判定式!L$3:$M$12,2,TRUE))","v":""},{"$f":"IF(K133=\"\",\"\",VLOOKUP(K133,判定式!G$3:$J$12,4,TRUE))","v":""},{"$f":"IF(L133=\"\",\"\",VLOOKUP(L133,判定式!H$3:$J$12,3,TRUE))","v":""},"",{"$f":"IF(ISNUMBER(D133),\"判定外\",IF(C133=6,VLOOKUP(U133,判定式!$C$15:I$19,7,TRUE),IF(C133=7,VLOOKUP(U133,判定式!$D$15:I$19,6,TRUE),IF(C133=8,VLOOKUP(U133,判定式!$E$15:I$19,5,TRUE),IF(C133=9,VLOOKUP(U133,判定式!$F$15:I$19,4,TRUE),IF(C133=10,VLOOKUP(U133,判定式!$G$15:I$19,3,TRUE),IF(C133=11,VLOOKUP(U133,判定式!$H$15:I$19,2,TRUE))))))))","v":false}]
[114,null,null,"-",null,null,null,null,null,null,null,null,{"$f":"IF(E134=\"\",\"\",VLOOKUP(E134,判定式!C$3:$J$12,8,TRUE))","v":""},{"$f":"IF(F134=\"\",\"\",VLOOKUP(F134,判定式!D$3:$J$12,7,TRUE))","v":""},{"$f":"IF(G134=\"\",\"\",VLOOKUP(G134,判定式!E$3:$J$12,6,TRUE))","v":""},{"$f":"IF(H134=\"\",\"\",VLOOKUP(H134,判定式!F$3:$J$12,5,TRUE))","v":""},{"$f":"IF(I134=\"\",\"\",VLOOKUP(I134,判定式!I$3:$J$12,2,TRUE))","v":""},{"$f":"IF(J134=\"\",\"\",VLOOKUP(J134,判定式!L$3:$M$12,2,TRUE))","v":""},{"$f":"IF(K134=\"\",\"\",VLOOKUP(K134,判定式!G$3:$J$12,4,TRUE))","v":""},{"$f":"IF(L134=\"\",\"\",VLOOKUP(L134,判定式!H$3:$J$12,3,TRUE))","v":""},"",{"$f":"IF(ISNUMBER(D134),\"判定外\",IF(C134=6,VLOOKUP(U134,判定式!$C$15:I$19,7,TRUE),IF(C134=7,VLOOKUP(U134,判定式!$D$15:I$19,6,TRUE),IF(C134=8,VLOOKUP(U134,判定式!$E$15:I$19,5,TRUE),IF(C134=9,VLOOKUP(U134,判定式!$F$15:I$19,4,TRUE),IF(C134=10,VLOOKUP(U134,判定式!$G$15:I$19,3,TRUE),IF(C134=11,VLOOKUP(U134,判定式!$H$15:I$19,2,TRUE))))))))","v":false}]
[115,null,null,"-",null,null,null,null,null,null,null,null,{"$f":"IF(E135=\"\",\"\",VLOOKUP(E135,判定式!C$3:$J$12,8,TRUE))","v":""},{"$f":"IF(F135=\"\",\"\",VLOOKUP(F135,判定式!D$3:$J$12,7,TRUE))","v":""},{"$f":"IF(G135=\"\",\"\",VLOOKUP(G135,判定式!E$3:$J$12,6,TRUE))","v":""},{"$f":"IF(H135=\"\",\"\",VLOOKUP(H135,判定式!F$3:$J$12,5,TRUE))","v":""},{"$f":"IF(I135=\"\",\"\",VLOOKUP(I135,判定式!I$3:$J$12,2,TRUE))","v":""},{"$f":"IF(J135=\"\",\"\",VLOOKUP(J135,判定式!L$3:$M$12,2,TRUE))","v":""},{"$f":"IF(K135=\"\",\"\",VLOOKUP(K135,判定式!G$3:$J$12,4,TRUE))","v":""},{"$f":"IF(L135=\"\",\"\",VLOOKUP(L135,判定式!H$3:$J$12,3,TRUE))","v":""},"",{"$f":"IF(ISNUMBER(D135),\"判定外\",IF(C135=6,VLOOKUP(U135,判定式!$C$15:I$19,7,TRUE),IF(C135=7,VLOOKUP(U135,判定式!$D$15:I$19,6,TRUE),IF(C135=8,VLOOKUP(U135,判定式!$E$15:I$19,5,TRUE),IF(C135=9,VLOOKUP(U135,判定式!$F$15:I$19,4,TRUE),IF(C135=10,VLOOKUP(U135,判定式!$G$15:I$19,3,TRUE),IF(C135=11,VLOOKUP(U135,判定式!$H$15:I$19,2,TRUE))))))))","v":false}]
[116,null,null,"-",null,null,null,null,null,null,null,null,{"$f":"IF(E136=\"\",\"\",VLOOKUP(E136,判定式!C$3:$J$12,8,TRUE))","v":""},{"$f":"IF(F136=\"\",\"\",VLOOKUP(F136,判定式!D$3:$J$12,7,TRUE))","v":""},{"$f":"IF(G136=\"\",\"\",VLOOKUP(G136,判定式!E$3:$J$12,6,TRUE))","v":""},{"$f":"IF(H136=\"\",\"\",VLOOKUP(H136,判定式!F$3:$J$12,5,TRUE))","v":""},{"$f":"IF(I136=\"\",\"\",VLOOKUP(I136,判定式!I$3:$J$12,2,TRUE))","v":""},{"$f":"IF(J136=\"\",\"\",VLOOKUP(J136,判定式!L$3:$M$12,2,TRUE))","v":""},{"$f":"IF(K136=\"\",\"\",VLOOKUP(K136,判定式!G$3:$J$12,4,TRUE))","v":""},{"$f":"IF(L136=\"\",\"\",VLOOKUP(L136,判定式!H$3:$J$12,3,TRUE))","v":""},"",{"$f":"IF(ISNUMBER(D136),\"判定外\",IF(C136=6,VLOOKUP(U136,判定式!$C$15:I$19,7,TRUE),IF(C136=7,VLOOKUP(U136,判定式!$D$15:I$19,6,TRUE),IF(C136=8,VLOOKUP(U136,判定式!$E$15:I$19,5,TRUE),IF(C136=9,VLOOKUP(U136,判定式!$F$15:I$19,4,TRUE),IF(C136=10,VLOOKUP(U136,判定式!$G$15:I$19,3,TRUE),IF(C136=11,VLOOKUP(U136,判定式!$H$15:I$19,2,TRUE))))))))","v":false}]
[117,null,null,"-",null,null,null,null,null,null,null,null,{"$f":"IF(E137=\"\",\"\",VLOOKUP(E137,判定式!C$3:$J$12,8,TRUE))","v":""},{"$f":"IF(F137=\"\",\"\",VLOOKUP(F137,判定式!D$3:$J$12,7,TRUE))","v":""},{"$f":"IF(G137=\"\",\"\",VLOOKUP(G137,判定式!E$3:$J$12,6,TRUE))","v":""},{"$f":"IF(H137=\"\",\"\",VLOOKUP(H137,判定式!F$3:$J$12,5,TRUE))","v":""},{"$f":"IF(I137=\"\",\"\",VLOOKUP(I137,判定式!I$3:$J$12,2,TRUE))","v":""},{"$f":"IF(J137=\"\",\"\",VLOOKUP(J137,判定式!L$3:$M$12,2,TRUE))","v":""},{"$f":"IF(K137=\"\",\"\",VLOOKUP(K137,判定式!G$3:$J$12,4,TRUE))","v":""},{"$f":"IF(L137=\"\",\"\",VLOOKUP(L137,判定式!H$3:$J$12,3,TRUE))","v":""},"",{"$f":"IF(ISNUMBER(D137),\"判定外\",IF(C137=6,VLOOKUP(U137,判定式!$C$15:I$19,7,TRUE),IF(C137=7,VLOOKUP(U137,判定式!$D$15:I$19,6,TRUE),IF(C137=8,VLOOKUP(U137,判定式!$E$15:I$19,5,TRUE),IF(C137=9,VLOOKUP(U137,判定式!$F$15:I$19,4,TRUE),IF(C137=10,VLOOKUP(U137,判定式!$G$15:I$19,3,TRUE),IF(C137=11,VLOOKUP(U137,判定式!$H$15:I$19,2,TRUE))))))))","v":false}]
[118,null,null,"-",null,null,null,null,null,null,null,null,{"$f":"IF(E138=\"\",\"\",VLOOKUP(E138,判定式!C$3:$J$12,8,TRUE))","v":""},{"$f":"IF(F138=\"\",\"\",VLOOKUP(F138,判定式!D$3:$J$12,7,TRUE))","v":""},{"$f":"IF(G138=\"\",\"\",VLOOKUP(G138,判定式!E$3:$J$12,6,TRUE))","v":""},{"$f":"IF(H138=\"\",\"\",VLOOKUP(H138,判定式!F$3:$J$12,5,TRUE))","v":""},{"$f":"IF(I138=\"\",\"\",VLOOKUP(I138,判定式!I$3:$J$12,2,TRUE))","v":""},{"$f":"IF(J138=\"\",\"\",VLOOKUP(J138,判定式!L$3:$M$12,2,TRUE))","v":""},{"$f":"IF(K138=\"\",\"\",VLOOKUP(K138,判定式!G$3:$J$12,4,TRUE))","v":""},{"$f":"IF(L138=\"\",\"\",VLOOKUP(L138,判定式!H$3:$J$12,3,TRUE))","v":""},"",{"$f":"IF(ISNUMBER(D138),\"判定外\",IF(C138=6,VLOOKUP(U138,判定式!$C$15:I$19,7,TRUE),IF(C138=7,VLOOKUP(U138,判定式!$D$15:I$19,6,TRUE),IF(C138=8,VLOOKUP(U138,判定式!$E$15:I$19,5,TRUE),IF(C138=9,VLOOKUP(U138,判定式!$F$15:I$19,4,TRUE),IF(C138=10,VLOOKUP(U138,判定式!$G$15:I$19,3,TRUE),IF(C138=11,VLOOKUP(U138,判定式!$H$15:I$19,2,TRUE))))))))","v":false}]
[119,null,null,"-",null,null,null,null,null,null,null,null,{"$f":"IF(E139=\"\",\"\",VLOOKUP(E139,判定式!C$3:$J$12,8,TRUE))","v":""},{"$f":"IF(F139=\"\",\"\",VLOOKUP(F139,判定式!D$3:$J$12,7,TRUE))","v":""},{"$f":"IF(G139=\"\",\"\",VLOOKUP(G139,判定式!E$3:$J$12,6,TRUE))","v":""},{"$f":"IF(H139=\"\",\"\",VLOOKUP(H139,判定式!F$3:$J$12,5,TRUE))","v":""},{"$f":"IF(I139=\"\",\"\",VLOOKUP(I139,判定式!I$3:$J$12,2,TRUE))","v":""},{"$f":"IF(J139=\"\",\"\",VLOOKUP(J139,判定式!L$3:$M$12,2,TRUE))","v":""},{"$f":"IF(K139=\"\",\"\",VLOOKUP(K139,判定式!G$3:$J$12,4,TRUE))","v":""},{"$f":"IF(L139=\"\",\"\",VLOOKUP(L139,判定式!H$3:$J$12,3,TRUE))","v":""},"",{"$f":"IF(ISNUMBER(D139),\"判定外\",IF(C139=6,VLOOKUP(U139,判定式!$C$15:I$19,7,TRUE),IF(C139=7,VLOOKUP(U139,判定式!$D$15:I$19,6,TRUE),IF(C139=8,VLOOKUP(U139,判定式!$E$15:I$19,5,TRUE),IF(C139=9,VLOOKUP(U139,判定式!$F$15:I$19,4,TRUE),IF(C139=10,VLOOKUP(U139,判定式!$G$15:I$19,3,TRUE),IF(C139=11,VLOOKUP(U139,判定式!$H$15:I$19,2,TRUE))))))))","v":false}]
[120,null,null,"-",null,null,null,null,null,null,null,null,{"$f":"IF(E140=\"\",\"\",VLOOKUP(E140,判定式!C$3:$J$12,8,TRUE))","v":""},{"$f":"IF(F140=\"\",\"\",VLOOKUP(F140,判定式!D$3:$J$12,7,TRUE))","v":""},{"$f":"IF(G140=\"\",\"\",VLOOKUP(G140,判定式!E$3:$J$12,6,TRUE))","v":""},{"$f":"IF(H140=\"\",\"\",VLOOKUP(H140,判定式!F$3:$J$12,5,TRUE))","v":""},{"$f":"IF(I140=\"\",\"\",VLOOKUP(I140,判定式!I$3:$J$12,2,TRUE))","v":""},{"$f":"IF(J140=\"\",\"\",VLOOKUP(J140,判定式!L$3:$M$12,2,TRUE))","v":""},{"$f":"IF(K140=\"\",\"\",VLOOKUP(K140,判定式!G$3:$J$12,4,TRUE))","v":""},{"$f":"IF(L140=\"\",\"\",VLOOKUP(L140,判定式!H$3:$J$12,3,TRUE))","v":""},"",{"$f":"IF(ISNUMBER(D140),\"判定外\",IF(C140=6,VLOOKUP(U140,判定式!$C$15:I$19,7,TRUE),IF(C140=7,VLOOKUP(U140,判定式!$D$15:I$19,6,TRUE),IF(C140=8,VLOOKUP(U140,判定式!$E$15:I$19,5,TRUE),IF(C140=9,VLOOKUP(U140,判定式!$F$15:I$19,4,TRUE),IF(C140=10,VLOOKUP(U140,判定式!$G$15:I$19,3,TRUE),IF(C140=11,VLOOKUP(U140,判定式!$H$15:I$19,2,TRUE))))))))","v":false}]
[]
[]
[null,"女子入力欄（男子は上段）"]
[]
[null,"提出時、名前記入は任意","年齢は、全員１０",null,null,null,null,"５０m走は、1/100秒を切り上げて、「例：9.72→9.8」のように1/１０秒単位を入力する"]
[null,"小５　女子",10,"自動","整数","整数","整数","整数","整数","小数第１位","整数","整数"]
[null,null,"年齢","未実施\n項目数","調　　査　　項　　目　　記　　録",null,null,null,null,null,null,null,"実技種目得点"]
["Ｎｏ．","名前","半角",null,"握力","上体起こし","長座体前屈","反復横とび","シャトルラン","５０ｍ走","立ち幅とび","ﾎﾞｰﾙ投げ","握力","上体\n起こし","長座\n体前屈","反復\n横跳び","ｼｬﾄﾙ\nﾗﾝ","50ｍ\n走","立ち\n幅とび","ボール\n投げ","得点","総合"]
[null,null,10,null,"（ｋｇ）","（回）","（ｃｍ）","（回）","（回）","（秒）","（ｃｍ）","（ｍ）",null,null,null,null,null,null,null,null,"合計","評価"]
[1,null,null,{"$f":"IF(COUNTBLANK(E150:L150)=0,\"\",IF(COUNTBLANK(E150:L150)=8,\"-\",COUNTBLANK(E150:L150)))","v":"-"},null,null,null,null,null,null,null,null,{"$f":"IF($E150=\"\",\"\",VLOOKUP($E150,判定式!$P$3:$W$12,8,TRUE))","v":""},{"$f":"IF($F150=\"\",\"\",VLOOKUP($F150,判定式!$Q$3:$W$12,7,TRUE))","v":""},{"$f":"IF($G150=\"\",\"\",VLOOKUP($G150,判定式!$R$3:$W$12,6,TRUE))","v":""},{"$f":"IF($H150=\"\",\"\",VLOOKUP($H150,判定式!$S$3:$W$12,5,TRUE))","v":""},{"$f":"IF($I150=\"\",\"\",VLOOKUP($I150,判定式!$V$3:$W$12,2,TRUE))","v":""},{"$f":"IF($J150=\"\",\"\",VLOOKUP($J150,判定式!$Y$3:$Z$12,2,TRUE))","v":""},{"$f":"IF($K150=\"\",\"\",VLOOKUP($K150,判定式!$T$3:$W$12,4,TRUE))","v":""},{"$f":"IF($L150=\"\",\"\",VLOOKUP($L150,判定式!$U$3:$W$12,3,TRUE))","v":""},{"$f":"IF(COUNTBLANK(M150:T150)=0,SUM(M150:T150),\"\")","v":""},{"$f":"IF(ISNUMBER(D150),\"判定外\",IF(C150=6,VLOOKUP(U150,判定式!$C$15:I$19,7,TRUE),IF(C150=7,VLOOKUP(U150,判定式!$D$15:I$19,6,TRUE),IF(C150=8,VLOOKUP(U150,判定式!$E$15:I$19,5,TRUE),IF(C150=9,VLOOKUP(U150,判定式!$F$15:I$19,4,TRUE),IF(C150=10,VLOOKUP(U150,判定式!$G$15:I$19,3,TRUE),IF(C150=11,VLOOKUP(U150,判定式!$H$15:I$19,2,TRUE))))))))","v":false}]
[2,null,null,"-",null,null,null,null,null,null,null,null,{"$f":"IF($E151=\"\",\"\",VLOOKUP($E151,判定式!$P$3:$W$12,8,TRUE))","v":""},{"$f":"IF($F151=\"\",\"\",VLOOKUP($F151,判定式!$Q$3:$W$12,7,TRUE))","v":""},{"$f":"IF($G151=\"\",\"\",VLOOKUP($G151,判定式!$R$3:$W$12,6,TRUE))","v":""},{"$f":"IF($H151=\"\",\"\",VLOOKUP($H151,判定式!$S$3:$W$12,5,TRUE))","v":""},{"$f":"IF($I151=\"\",\"\",VLOOKUP($I151,判定式!$V$3:$W$12,2,TRUE))","v":""},{"$f":"IF($J151=\"\",\"\",VLOOKUP($J151,判定式!$Y$3:$Z$12,2,TRUE))","v":""},{"$f":"IF($K151=\"\",\"\",VLOOKUP($K151,判定式!$T$3:$W$12,4,TRUE))","v":""},{"$f":"IF($L151=\"\",\"\",VLOOKUP($L151,判定式!$U$3:$W$12,3,TRUE))","v":""},{"$f":"IF(COUNTBLANK(M151:T151)=0,SUM(M151:T151),\"\")","v":""},{"$f":"IF(ISNUMBER(D151),\"判定外\",IF(C151=6,VLOOKUP(U151,判定式!$C$15:I$19,7,TRUE),IF(C151=7,VLOOKUP(U151,判定式!$D$15:I$19,6,TRUE),IF(C151=8,VLOOKUP(U151,判定式!$E$15:I$19,5,TRUE),IF(C151=9,VLOOKUP(U151,判定式!$F$15:I$19,4,TRUE),IF(C151=10,VLOOKUP(U151,判定式!$G$15:I$19,3,TRUE),IF(C151=11,VLOOKUP(U151,判定式!$H$15:I$19,2,TRUE))))))))","v":false}]
[3,null,null,"-",null,null,null,null,null,null,null,null,{"$f":"IF($E152=\"\",\"\",VLOOKUP($E152,判定式!$P$3:$W$12,8,TRUE))","v":""},{"$f":"IF($F152=\"\",\"\",VLOOKUP($F152,判定式!$Q$3:$W$12,7,TRUE))","v":""},{"$f":"IF($G152=\"\",\"\",VLOOKUP($G152,判定式!$R$3:$W$12,6,TRUE))","v":""},{"$f":"IF($H152=\"\",\"\",VLOOKUP($H152,判定式!$S$3:$W$12,5,TRUE))","v":""},{"$f":"IF($I152=\"\",\"\",VLOOKUP($I152,判定式!$V$3:$W$12,2,TRUE))","v":""},{"$f":"IF($J152=\"\",\"\",VLOOKUP($J152,判定式!$Y$3:$Z$12,2,TRUE))","v":""},{"$f":"IF($K152=\"\",\"\",VLOOKUP($K152,判定式!$T$3:$W$12,4,TRUE))","v":""},{"$f":"IF($L152=\"\",\"\",VLOOKUP($L152,判定式!$U$3:$W$12,3,TRUE))","v":""},"",{"$f":"IF(ISNUMBER(D152),\"判定外\",IF(C152=6,VLOOKUP(U152,判定式!$C$15:I$19,7,TRUE),IF(C152=7,VLOOKUP(U152,判定式!$D$15:I$19,6,TRUE),IF(C152=8,VLOOKUP(U152,判定式!$E$15:I$19,5,TRUE),IF(C152=9,VLOOKUP(U152,判定式!$F$15:I$19,4,TRUE),IF(C152=10,VLOOKUP(U152,判定式!$G$15:I$19,3,TRUE),IF(C152=11,VLOOKUP(U152,判定式!$H$15:I$19,2,TRUE))))))))","v":false}]
[4,null,null,"-",null,null,null,null,null,null,null,null,{"$f":"IF($E153=\"\",\"\",VLOOKUP($E153,判定式!$P$3:$W$12,8,TRUE))","v":""},{"$f":"IF($F153=\"\",\"\",VLOOKUP($F153,判定式!$Q$3:$W$12,7,TRUE))","v":""},{"$f":"IF($G153=\"\",\"\",VLOOKUP($G153,判定式!$R$3:$W$12,6,TRUE))","v":""},{"$f":"IF($H153=\"\",\"\",VLOOKUP($H153,判定式!$S$3:$W$12,5,TRUE))","v":""},{"$f":"IF($I153=\"\",\"\",VLOOKUP($I153,判定式!$V$3:$W$12,2,TRUE))","v":""},{"$f":"IF($J153=\"\",\"\",VLOOKUP($J153,判定式!$Y$3:$Z$12,2,TRUE))","v":""},{"$f":"IF($K153=\"\",\"\",VLOOKUP($K153,判定式!$T$3:$W$12,4,TRUE))","v":""},{"$f":"IF($L153=\"\",\"\",VLOOKUP($L153,判定式!$U$3:$W$12,3,TRUE))","v":""},"",{"$f":"IF(ISNUMBER(D153),\"判定外\",IF(C153=6,VLOOKUP(U153,判定式!$C$15:I$19,7,TRUE),IF(C153=7,VLOOKUP(U153,判定式!$D$15:I$19,6,TRUE),IF(C153=8,VLOOKUP(U153,判定式!$E$15:I$19,5,TRUE),IF(C153=9,VLOOKUP(U153,判定式!$F$15:I$19,4,TRUE),IF(C153=10,VLOOKUP(U153,判定式!$G$15:I$19,3,TRUE),IF(C153=11,VLOOKUP(U153,判定式!$H$15:I$19,2,TRUE))))))))","v":false}]
[5,null,null,"-",null,null,null,null,null,null,null,null,{"$f":"IF($E154=\"\",\"\",VLOOKUP($E154,判定式!$P$3:$W$12,8,TRUE))","v":""},{"$f":"IF($F154=\"\",\"\",VLOOKUP($F154,判定式!$Q$3:$W$12,7,TRUE))","v":""},{"$f":"IF($G154=\"\",\"\",VLOOKUP($G154,判定式!$R$3:$W$12,6,TRUE))","v":""},{"$f":"IF($H154=\"\",\"\",VLOOKUP($H154,判定式!$S$3:$W$12,5,TRUE))","v":""},{"$f":"IF($I154=\"\",\"\",VLOOKUP($I154,判定式!$V$3:$W$12,2,TRUE))","v":""},{"$f":"IF($J154=\"\",\"\",VLOOKUP($J154,判定式!$Y$3:$Z$12,2,TRUE))","v":""},{"$f":"IF($K154=\"\",\"\",VLOOKUP($K154,判定式!$T$3:$W$12,4,TRUE))","v":""},{"$f":"IF($L154=\"\",\"\",VLOOKUP($L154,判定式!$U$3:$W$12,3,TRUE))","v":""},"",{"$f":"IF(ISNUMBER(D154),\"判定外\",IF(C154=6,VLOOKUP(U154,判定式!$C$15:I$19,7,TRUE),IF(C154=7,VLOOKUP(U154,判定式!$D$15:I$19,6,TRUE),IF(C154=8,VLOOKUP(U154,判定式!$E$15:I$19,5,TRUE),IF(C154=9,VLOOKUP(U154,判定式!$F$15:I$19,4,TRUE),IF(C154=10,VLOOKUP(U154,判定式!$G$15:I$19,3,TRUE),IF(C154=11,VLOOKUP(U154,判定式!$H$15:I$19,2,TRUE))))))))","v":false}]
[6,null,null,"-",null,null,null,null,null,null,null,null,{"$f":"IF($E155=\"\",\"\",VLOOKUP($E155,判定式!$P$3:$W$12,8,TRUE))","v":""},{"$f":"IF($F155=\"\",\"\",VLOOKUP($F155,判定式!$Q$3:$W$12,7,TRUE))","v":""},{"$f":"IF($G155=\"\",\"\",VLOOKUP($G155,判定式!$R$3:$W$12,6,TRUE))","v":""},{"$f":"IF($H155=\"\",\"\",VLOOKUP($H155,判定式!$S$3:$W$12,5,TRUE))","v":""},{"$f":"IF($I155=\"\",\"\",VLOOKUP($I155,判定式!$V$3:$W$12,2,TRUE))","v":""},{"$f":"IF($J155=\"\",\"\",VLOOKUP($J155,判定式!$Y$3:$Z$12,2,TRUE))","v":""},{"$f":"IF($K155=\"\",\"\",VLOOKUP($K155,判定式!$T$3:$W$12,4,TRUE))","v":""},{"$f":"IF($L155=\"\",\"\",VLOOKUP($L155,判定式!$U$3:$W$12,3,TRUE))","v":""},"",{"$f":"IF(ISNUMBER(D155),\"判定外\",IF(C155=6,VLOOKUP(U155,判定式!$C$15:I$19,7,TRUE),IF(C155=7,VLOOKUP(U155,判定式!$D$15:I$19,6,TRUE),IF(C155=8,VLOOKUP(U155,判定式!$E$15:I$19,5,TRUE),IF(C155=9,VLOOKUP(U155,判定式!$F$15:I$19,4,TRUE),IF(C155=10,VLOOKUP(U155,判定式!$G$15:I$19,3,TRUE),IF(C155=11,VLOOKUP(U155,判定式!$H$15:I$19,2,TRUE))))))))","v":false}]
[7,null,null,"-",null,null,null,null,null,null,null,null,{"$f":"IF($E156=\"\",\"\",VLOOKUP($E156,判定式!$P$3:$W$12,8,TRUE))","v":""},{"$f":"IF($F156=\"\",\"\",VLOOKUP($F156,判定式!$Q$3:$W$12,7,TRUE))","v":""},{"$f":"IF($G156=\"\",\"\",VLOOKUP($G156,判定式!$R$3:$W$12,6,TRUE))","v":""},{"$f":"IF($H156=\"\",\"\",VLOOKUP($H156,判定式!$S$3:$W$12,5,TRUE))","v":""},{"$f":"IF($I156=\"\",\"\",VLOOKUP($I156,判定式!$V$3:$W$12,2,TRUE))","v":""},{"$f":"IF($J156=\"\",\"\",VLOOKUP($J156,判定式!$Y$3:$Z$12,2,TRUE))","v":""},{"$f":"IF($K156=\"\",\"\",VLOOKUP($K156,判定式!$T$3:$W$12,4,TRUE))","v":""},{"$f":"IF($L156=\"\",\"\",VLOOKUP($L156,判定式!$U$3:$W$12,3,TRUE))","v":""},"",{"$f":"IF(ISNUMBER(D156),\"判定外\",IF(C156=6,VLOOKUP(U156,判定式!$C$15:I$19,7,TRUE),IF(C156=7,VLOOKUP(U156,判定式!$D$15:I$19,6,TRUE),IF(C156=8,VLOOKUP(U156,判定式!$E$15:I$19,5,TRUE),IF(C156=9,VLOOKUP(U156,判定式!$F$15:I$19,4,TRUE),IF(C156=10,VLOOKUP(U156,判定式!$G$15:I$19,3,TRUE),IF(C156=11,VLOOKUP(U156,判定式!$H$15:I$19,2,TRUE))))))))","v":false}]
[8,null,null,"-",null,null,null,null,null,null,null,null,{"$f":"IF($E157=\"\",\"\",VLOOKUP($E157,判定式!$P$3:$W$12,8,TRUE))","v":""},{"$f":"IF($F157=\"\",\"\",VLOOKUP($F157,判定式!$Q$3:$W$12,7,TRUE))","v":""},{"$f":"IF($G157=\"\",\"\",VLOOKUP($G157,判定式!$R$3:$W$12,6,TRUE))","v":""},{"$f":"IF($H157=\"\",\"\",VLOOKUP($H157,判定式!$S$3:$W$12,5,TRUE))","v":""},{"$f":"IF($I157=\"\",\"\",VLOOKUP($I157,判定式!$V$3:$W$12,2,TRUE))","v":""},{"$f":"IF($J157=\"\",\"\",VLOOKUP($J157,判定式!$Y$3:$Z$12,2,TRUE))","v":""},{"$f":"IF($K157=\"\",\"\",VLOOKUP($K157,判定式!$T$3:$W$12,4,TRUE))","v":""},{"$f":"IF($L157=\"\",\"\",VLOOKUP($L157,判定式!$U$3:$W$12,3,TRUE))","v":""},"",{"$f":"IF(ISNUMBER(D157),\"判定外\",IF(C157=6,VLOOKUP(U157,判定式!$C$15:I$19,7,TRUE),IF(C157=7,VLOOKUP(U157,判定式!$D$15:I$19,6,TRUE),IF(C157=8,VLOOKUP(U157,判定式!$E$15:I$19,5,TRUE),IF(C157=9,VLOOKUP(U157,判定式!$F$15:I$19,4,TRUE),IF(C157=10,VLOOKUP(U157,判定式!$G$15:I$19,3,TRUE),IF(C157=11,VLOOKUP(U157,判定式!$H$15:I$19,2,TRUE))))))))","v":false}]
[9,null,null,"-",null,null,null,null,null,null,null,null,{"$f":"IF($E158=\"\",\"\",VLOOKUP($E158,判定式!$P$3:$W$12,8,TRUE))","v":""},{"$f":"IF($F158=\"\",\"\",VLOOKUP($F158,判定式!$Q$3:$W$12,7,TRUE))","v":""},{"$f":"IF($G158=\"\",\"\",VLOOKUP($G158,判定式!$R$3:$W$12,6,TRUE))","v":""},{"$f":"IF($H158=\"\",\"\",VLOOKUP($H158,判定式!$S$3:$W$12,5,TRUE))","v":""},{"$f":"IF($I158=\"\",\"\",VLOOKUP($I158,判定式!$V$3:$W$12,2,TRUE))","v":""},{"$f":"IF($J158=\"\",\"\",VLOOKUP($J158,判定式!$Y$3:$Z$12,2,TRUE))","v":""},{"$f":"IF($K158=\"\",\"\",VLOOKUP($K158,判定式!$T$3:$W$12,4,TRUE))","v":""},{"$f":"IF($L158=\"\",\"\",VLOOKUP($L158,判定式!$U$3:$W$12,3,TRUE))","v":""},"",{"$f":"IF(ISNUMBER(D158),\"判定外\",IF(C158=6,VLOOKUP(U158,判定式!$C$15:I$19,7,TRUE),IF(C158=7,VLOOKUP(U158,判定式!$D$15:I$19,6,TRUE),IF(C158=8,VLOOKUP(U158,判定式!$E$15:I$19,5,TRUE),IF(C158=9,VLOOKUP(U158,判定式!$F$15:I$19,4,TRUE),IF(C158=10,VLOOKUP(U158,判定式!$G$15:I$19,3,TRUE),IF(C158=11,VLOOKUP(U158,判定式!$H$15:I$19,2,TRUE))))))))","v":false}]
[10,null,null,"-",null,null,null,null,null,null,null,null,{"$f":"IF($E159=\"\",\"\",VLOOKUP($E159,判定式!$P$3:$W$12,8,TRUE))","v":""},{"$f":"IF($F159=\"\",\"\",VLOOKUP($F159,判定式!$Q$3:$W$12,7,TRUE))","v":""},{"$f":"IF($G159=\"\",\"\",VLOOKUP($G159,判定式!$R$3:$W$12,6,TRUE))","v":""},{"$f":"IF($H159=\"\",\"\",VLOOKUP($H159,判定式!$S$3:$W$12,5,TRUE))","v":""},{"$f":"IF($I159=\"\",\"\",VLOOKUP($I159,判定式!$V$3:$W$12,2,TRUE))","v":""},{"$f":"IF($J159=\"\",\"\",VLOOKUP($J159,判定式!$Y$3:$Z$12,2,TRUE))","v":""},{"$f":"IF($K159=\"\",\"\",VLOOKUP($K159,判定式!$T$3:$W$12,4,TRUE))","v":""},{"$f":"IF($L159=\"\",\"\",VLOOKUP($L159,判定式!$U$3:$W$12,3,TRUE))","v":""},"",{"$f":"IF(ISNUMBER(D159),\"判定外\",IF(C159=6,VLOOKUP(U159,判定式!$C$15:I$19,7,TRUE),IF(C159=7,VLOOKUP(U159,判定式!$D$15:I$19,6,TRUE),IF(C159=8,VLOOKUP(U159,判定式!$E$15:I$19,5,TRUE),IF(C159=9,VLOOKUP(U159,判定式!$F$15:I$19,4,TRUE),IF(C159=10,VLOOKUP(U159,判定式!$G$15:I$19,3,TRUE),IF(C159=11,VLOOKUP(U159,判定式!$H$15:I$19,2,TRUE))))))))","v":false}]
[11,null,null,"-",null,null,null,null,null,null,null,null,{"$f":"IF($E160=\"\",\"\",VLOOKUP($E160,判定式!$P$3:$W$12,8,TRUE))","v":""},{"$f":"IF($F160=\"\",\"\",VLOOKUP($F160,判定式!$Q$3:$W$12,7,TRUE))","v":""},{"$f":"IF($G160=\"\",\"\",VLOOKUP($G160,判定式!$R$3:$W$12,6,TRUE))","v":""},{"$f":"IF($H160=\"\",\"\",VLOOKUP($H160,判定式!$S$3:$W$12,5,TRUE))","v":""},{"$f":"IF($I160=\"\",\"\",VLOOKUP($I160,判定式!$V$3:$W$12,2,TRUE))","v":""},{"$f":"IF($J160=\"\",\"\",VLOOKUP($J160,判定式!$Y$3:$Z$12,2,TRUE))","v":""},{"$f":"IF($K160=\"\",\"\",VLOOKUP($K160,判定式!$T$3:$W$12,4,TRUE))","v":""},{"$f":"IF($L160=\"\",\"\",VLOOKUP($L160,判定式!$U$3:$W$12,3,TRUE))","v":""},"",{"$f":"IF(ISNUMBER(D160),\"判定外\",IF(C160=6,VLOOKUP(U160,判定式!$C$15:I$19,7,TRUE),IF(C160=7,VLOOKUP(U160,判定式!$D$15:I$19,6,TRUE),IF(C160=8,VLOOKUP(U160,判定式!$E$15:I$19,5,TRUE),IF(C160=9,VLOOKUP(U160,判定式!$F$15:I$19,4,TRUE),IF(C160=10,VLOOKUP(U160,判定式!$G$15:I$19,3,TRUE),IF(C160=11,VLOOKUP(U160,判定式!$H$15:I$19,2,TRUE))))))))","v":false}]
[12,null,null,"-",null,null,null,null,null,null,null,null,{"$f":"IF($E161=\"\",\"\",VLOOKUP($E161,判定式!$P$3:$W$12,8,TRUE))","v":""},{"$f":"IF($F161=\"\",\"\",VLOOKUP($F161,判定式!$Q$3:$W$12,7,TRUE))","v":""},{"$f":"IF($G161=\"\",\"\",VLOOKUP($G161,判定式!$R$3:$W$12,6,TRUE))","v":""},{"$f":"IF($H161=\"\",\"\",VLOOKUP($H161,判定式!$S$3:$W$12,5,TRUE))","v":""},{"$f":"IF($I161=\"\",\"\",VLOOKUP($I161,判定式!$V$3:$W$12,2,TRUE))","v":""},{"$f":"IF($J161=\"\",\"\",VLOOKUP($J161,判定式!$Y$3:$Z$12,2,TRUE))","v":""},{"$f":"IF($K161=\"\",\"\",VLOOKUP($K161,判定式!$T$3:$W$12,4,TRUE))","v":""},{"$f":"IF($L161=\"\",\"\",VLOOKUP($L161,判定式!$U$3:$W$12,3,TRUE))","v":""},"",{"$f":"IF(ISNUMBER(D161),\"判定外\",IF(C161=6,VLOOKUP(U161,判定式!$C$15:I$19,7,TRUE),IF(C161=7,VLOOKUP(U161,判定式!$D$15:I$19,6,TRUE),IF(C161=8,VLOOKUP(U161,判定式!$E$15:I$19,5,TRUE),IF(C161=9,VLOOKUP(U161,判定式!$F$15:I$19,4,TRUE),IF(C161=10,VLOOKUP(U161,判定式!$G$15:I$19,3,TRUE),IF(C161=11,VLOOKUP(U161,判定式!$H$15:I$19,2,TRUE))))))))","v":false}]
[13,null,null,"-",null,null,null,null,null,null,null,null,{"$f":"IF($E162=\"\",\"\",VLOOKUP($E162,判定式!$P$3:$W$12,8,TRUE))","v":""},{"$f":"IF($F162=\"\",\"\",VLOOKUP($F162,判定式!$Q$3:$W$12,7,TRUE))","v":""},{"$f":"IF($G162=\"\",\"\",VLOOKUP($G162,判定式!$R$3:$W$12,6,TRUE))","v":""},{"$f":"IF($H162=\"\",\"\",VLOOKUP($H162,判定式!$S$3:$W$12,5,TRUE))","v":""},{"$f":"IF($I162=\"\",\"\",VLOOKUP($I162,判定式!$V$3:$W$12,2,TRUE))","v":""},{"$f":"IF($J162=\"\",\"\",VLOOKUP($J162,判定式!$Y$3:$Z$12,2,TRUE))","v":""},{"$f":"IF($K162=\"\",\"\",VLOOKUP($K162,判定式!$T$3:$W$12,4,TRUE))","v":""},{"$f":"IF($L162=\"\",\"\",VLOOKUP($L162,判定式!$U$3:$W$12,3,TRUE))","v":""},"",{"$f":"IF(ISNUMBER(D162),\"判定外\",IF(C162=6,VLOOKUP(U162,判定式!$C$15:I$19,7,TRUE),IF(C162=7,VLOOKUP(U162,判定式!$D$15:I$19,6,TRUE),IF(C162=8,VLOOKUP(U162,判定式!$E$15:I$19,5,TRUE),IF(C162=9,VLOOKUP(U162,判定式!$F$15:I$19,4,TRUE),IF(C162=10,VLOOKUP(U162,判定式!$G$15:I$19,3,TRUE),IF(C162=11,VLOOKUP(U162,判定式!$H$15:I$19,2,TRUE))))))))","v":false}]
[14,null,null,"-",null,null,null,null,null,null,null,null,{"$f":"IF($E163=\"\",\"\",VLOOKUP($E163,判定式!$P$3:$W$12,8,TRUE))","v":""},{"$f":"IF($F163=\"\",\"\",VLOOKUP($F163,判定式!$Q$3:$W$12,7,TRUE))","v":""},{"$f":"IF($G163=\"\",\"\",VLOOKUP($G163,判定式!$R$3:$W$12,6,TRUE))","v":""},{"$f":"IF($H163=\"\",\"\",VLOOKUP($H163,判定式!$S$3:$W$12,5,TRUE))","v":""},{"$f":"IF($I163=\"\",\"\",VLOOKUP($I163,判定式!$V$3:$W$12,2,TRUE))","v":""},{"$f":"IF($J163=\"\",\"\",VLOOKUP($J163,判定式!$Y$3:$Z$12,2,TRUE))","v":""},{"$f":"IF($K163=\"\",\"\",VLOOKUP($K163,判定式!$T$3:$W$12,4,TRUE))","v":""},{"$f":"IF($L163=\"\",\"\",VLOOKUP($L163,判定式!$U$3:$W$12,3,TRUE))","v":""},"",{"$f":"IF(ISNUMBER(D163),\"判定外\",IF(C163=6,VLOOKUP(U163,判定式!$C$15:I$19,7,TRUE),IF(C163=7,VLOOKUP(U163,判定式!$D$15:I$19,6,TRUE),IF(C163=8,VLOOKUP(U163,判定式!$E$15:I$19,5,TRUE),IF(C163=9,VLOOKUP(U163,判定式!$F$15:I$19,4,TRUE),IF(C163=10,VLOOKUP(U163,判定式!$G$15:I$19,3,TRUE),IF(C163=11,VLOOKUP(U163,判定式!$H$15:I$19,2,TRUE))))))))","v":false}]
[15,null,null,"-",null,null,null,null,null,null,null,null,{"$f":"IF($E164=\"\",\"\",VLOOKUP($E164,判定式!$P$3:$W$12,8,TRUE))","v":""},{"$f":"IF($F164=\"\",\"\",VLOOKUP($F164,判定式!$Q$3:$W$12,7,TRUE))","v":""},{"$f":"IF($G164=\"\",\"\",VLOOKUP($G164,判定式!$R$3:$W$12,6,TRUE))","v":""},{"$f":"IF($H164=\"\",\"\",VLOOKUP($H164,判定式!$S$3:$W$12,5,TRUE))","v":""},{"$f":"IF($I164=\"\",\"\",VLOOKUP($I164,判定式!$V$3:$W$12,2,TRUE))","v":""},{"$f":"IF($J164=\"\",\"\",VLOOKUP($J164,判定式!$Y$3:$Z$12,2,TRUE))","v":""},{"$f":"IF($K164=\"\",\"\",VLOOKUP($K164,判定式!$T$3:$W$12,4,TRUE))","v":""},{"$f":"IF($L164=\"\",\"\",VLOOKUP($L164,判定式!$U$3:$W$12,3,TRUE))","v":""},"",{"$f":"IF(ISNUMBER(D164),\"判定外\",IF(C164=6,VLOOKUP(U164,判定式!$C$15:I$19,7,TRUE),IF(C164=7,VLOOKUP(U164,判定式!$D$15:I$19,6,TRUE),IF(C164=8,VLOOKUP(U164,判定式!$E$15:I$19,5,TRUE),IF(C164=9,VLOOKUP(U164,判定式!$F$15:I$19,4,TRUE),IF(C164=10,VLOOKUP(U164,判定式!$G$15:I$19,3,TRUE),IF(C164=11,VLOOKUP(U164,判定式!$H$15:I$19,2,TRUE))))))))","v":false}]
[16,null,null,"-",null,null,null,null,null,null,null,null,{"$f":"IF($E165=\"\",\"\",VLOOKUP($E165,判定式!$P$3:$W$12,8,TRUE))","v":""},{"$f":"IF($F165=\"\",\"\",VLOOKUP($F165,判定式!$Q$3:$W$12,7,TRUE))","v":""},{"$f":"IF($G165=\"\",\"\",VLOOKUP($G165,判定式!$R$3:$W$12,6,TRUE))","v":""},{"$f":"IF($H165=\"\",\"\",VLOOKUP($H165,判定式!$S$3:$W$12,5,TRUE))","v":""},{"$f":"IF($I165=\"\",\"\",VLOOKUP($I165,判定式!$V$3:$W$12,2,TRUE))","v":""},{"$f":"IF($J165=\"\",\"\",VLOOKUP($J165,判定式!$Y$3:$Z$12,2,TRUE))","v":""},{"$f":"IF($K165=\"\",\"\",VLOOKUP($K165,判定式!$T$3:$W$12,4,TRUE))","v":""},{"$f":"IF($L165=\"\",\"\",VLOOKUP($L165,判定式!$U$3:$W$12,3,TRUE))","v":""},"",{"$f":"IF(ISNUMBER(D165),\"判定外\",IF(C165=6,VLOOKUP(U165,判定式!$C$15:I$19,7,TRUE),IF(C165=7,VLOOKUP(U165,判定式!$D$15:I$19,6,TRUE),IF(C165=8,VLOOKUP(U165,判定式!$E$15:I$19,5,TRUE),IF(C165=9,VLOOKUP(U165,判定式!$F$15:I$19,4,TRUE),IF(C165=10,VLOOKUP(U165,判定式!$G$15:I$19,3,TRUE),IF(C165=11,VLOOKUP(U165,判定式!$H$15:I$19,2,TRUE))))))))","v":false}]
[17,null,null,"-",null,null,null,null,null,null,null,null,{"$f":"IF($E166=\"\",\"\",VLOOKUP($E166,判定式!$P$3:$W$12,8,TRUE))","v":""},{"$f":"IF($F166=\"\",\"\",VLOOKUP($F166,判定式!$Q$3:$W$12,7,TRUE))","v":""},{"$f":"IF($G166=\"\",\"\",VLOOKUP($G166,判定式!$R$3:$W$12,6,TRUE))","v":""},{"$f":"IF($H166=\"\",\"\",VLOOKUP($H166,判定式!$S$3:$W$12,5,TRUE))","v":""},{"$f":"IF($I166=\"\",\"\",VLOOKUP($I166,判定式!$V$3:$W$12,2,TRUE))","v":""},{"$f":"IF($J166=\"\",\"\",VLOOKUP($J166,判定式!$Y$3:$Z$12,2,TRUE))","v":""},{"$f":"IF($K166=\"\",\"\",VLOOKUP($K166,判定式!$T$3:$W$12,4,TRUE))","v":""},{"$f":"IF($L166=\"\",\"\",VLOOKUP($L166,判定式!$U$3:$W$12,3,TRUE))","v":""},"",{"$f":"IF(ISNUMBER(D166),\"判定外\",IF(C166=6,VLOOKUP(U166,判定式!$C$15:I$19,7,TRUE),IF(C166=7,VLOOKUP(U166,判定式!$D$15:I$19,6,TRUE),IF(C166=8,VLOOKUP(U166,判定式!$E$15:I$19,5,TRUE),IF(C166=9,VLOOKUP(U166,判定式!$F$15:I$19,4,TRUE),IF(C166=10,VLOOKUP(U166,判定式!$G$15:I$19,3,TRUE),IF(C166=11,VLOOKUP(U166,判定式!$H$15:I$19,2,TRUE))))))))","v":false}]
[18,null,null,"-",null,null,null,null,null,null,null,null,{"$f":"IF($E167=\"\",\"\",VLOOKUP($E167,判定式!$P$3:$W$12,8,TRUE))","v":""},{"$f":"IF($F167=\"\",\"\",VLOOKUP($F167,判定式!$Q$3:$W$12,7,TRUE))","v":""},{"$f":"IF($G167=\"\",\"\",VLOOKUP($G167,判定式!$R$3:$W$12,6,TRUE))","v":""},{"$f":"IF($H167=\"\",\"\",VLOOKUP($H167,判定式!$S$3:$W$12,5,TRUE))","v":""},{"$f":"IF($I167=\"\",\"\",VLOOKUP($I167,判定式!$V$3:$W$12,2,TRUE))","v":""},{"$f":"IF($J167=\"\",\"\",VLOOKUP($J167,判定式!$Y$3:$Z$12,2,TRUE))","v":""},{"$f":"IF($K167=\"\",\"\",VLOOKUP($K167,判定式!$T$3:$W$12,4,TRUE))","v":""},{"$f":"IF($L167=\"\",\"\",VLOOKUP($L167,判定式!$U$3:$W$12,3,TRUE))","v":""},"",{"$f":"IF(ISNUMBER(D167),\"判定外\",IF(C167=6,VLOOKUP(U167,判定式!$C$15:I$19,7,TRUE),IF(C167=7,VLOOKUP(U167,判定式!$D$15:I$19,6,TRUE),IF(C167=8,VLOOKUP(U167,判定式!$E$15:I$19,5,TRUE),IF(C167=9,VLOOKUP(U167,判定式!$F$15:I$19,4,TRUE),IF(C167=10,VLOOKUP(U167,判定式!$G$15:I$19,3,TRUE),IF(C167=11,VLOOKUP(U167,判定式!$H$15:I$19,2,TRUE))))))))","v":false}]
[19,null,null,"-",null,null,null,null,null,null,null,null,{"$f":"IF($E168=\"\",\"\",VLOOKUP($E168,判定式!$P$3:$W$12,8,TRUE))","v":""},{"$f":"IF($F168=\"\",\"\",VLOOKUP($F168,判定式!$Q$3:$W$12,7,TRUE))","v":""},{"$f":"IF($G168=\"\",\"\",VLOOKUP($G168,判定式!$R$3:$W$12,6,TRUE))","v":""},{"$f":"IF($H168=\"\",\"\",VLOOKUP($H168,判定式!$S$3:$W$12,5,TRUE))","v":""},{"$f":"IF($I168=\"\",\"\",VLOOKUP($I168,判定式!$V$3:$W$12,2,TRUE))","v":""},{"$f":"IF($J168=\"\",\"\",VLOOKUP($J168,判定式!$Y$3:$Z$12,2,TRUE))","v":""},{"$f":"IF($K168=\"\",\"\",VLOOKUP($K168,判定式!$T$3:$W$12,4,TRUE))","v":""},{"$f":"IF($L168=\"\",\"\",VLOOKUP($L168,判定式!$U$3:$W$12,3,TRUE))","v":""},"",{"$f":"IF(ISNUMBER(D168),\"判定外\",IF(C168=6,VLOOKUP(U168,判定式!$C$15:I$19,7,TRUE),IF(C168=7,VLOOKUP(U168,判定式!$D$15:I$19,6,TRUE),IF(C168=8,VLOOKUP(U168,判定式!$E$15:I$19,5,TRUE),IF(C168=9,VLOOKUP(U168,判定式!$F$15:I$19,4,TRUE),IF(C168=10,VLOOKUP(U168,判定式!$G$15:I$19,3,TRUE),IF(C168=11,VLOOKUP(U168,判定式!$H$15:I$19,2,TRUE))))))))","v":false}]
[20,null,null,"-",null,null,null,null,null,null,null,null,{"$f":"IF($E169=\"\",\"\",VLOOKUP($E169,判定式!$P$3:$W$12,8,TRUE))","v":""},{"$f":"IF($F169=\"\",\"\",VLOOKUP($F169,判定式!$Q$3:$W$12,7,TRUE))","v":""},{"$f":"IF($G169=\"\",\"\",VLOOKUP($G169,判定式!$R$3:$W$12,6,TRUE))","v":""},{"$f":"IF($H169=\"\",\"\",VLOOKUP($H169,判定式!$S$3:$W$12,5,TRUE))","v":""},{"$f":"IF($I169=\"\",\"\",VLOOKUP($I169,判定式!$V$3:$W$12,2,TRUE))","v":""},{"$f":"IF($J169=\"\",\"\",VLOOKUP($J169,判定式!$Y$3:$Z$12,2,TRUE))","v":""},{"$f":"IF($K169=\"\",\"\",VLOOKUP($K169,判定式!$T$3:$W$12,4,TRUE))","v":""},{"$f":"IF($L169=\"\",\"\",VLOOKUP($L169,判定式!$U$3:$W$12,3,TRUE))","v":""},"",{"$f":"IF(ISNUMBER(D169),\"判定外\",IF(C169=6,VLOOKUP(U169,判定式!$C$15:I$19,7,TRUE),IF(C169=7,VLOOKUP(U169,判定式!$D$15:I$19,6,TRUE),IF(C169=8,VLOOKUP(U169,判定式!$E$15:I$19,5,TRUE),IF(C169=9,VLOOKUP(U169,判定式!$F$15:I$19,4,TRUE),IF(C169=10,VLOOKUP(U169,判定式!$G$15:I$19,3,TRUE),IF(C169=11,VLOOKUP(U169,判定式!$H$15:I$19,2,TRUE))))))))","v":false}]
[21,null,null,"-",null,null,null,null,null,null,null,null,{"$f":"IF($E170=\"\",\"\",VLOOKUP($E170,判定式!$P$3:$W$12,8,TRUE))","v":""},{"$f":"IF($F170=\"\",\"\",VLOOKUP($F170,判定式!$Q$3:$W$12,7,TRUE))","v":""},{"$f":"IF($G170=\"\",\"\",VLOOKUP($G170,判定式!$R$3:$W$12,6,TRUE))","v":""},{"$f":"IF($H170=\"\",\"\",VLOOKUP($H170,判定式!$S$3:$W$12,5,TRUE))","v":""},{"$f":"IF($I170=\"\",\"\",VLOOKUP($I170,判定式!$V$3:$W$12,2,TRUE))","v":""},{"$f":"IF($J170=\"\",\"\",VLOOKUP($J170,判定式!$Y$3:$Z$12,2,TRUE))","v":""},{"$f":"IF($K170=\"\",\"\",VLOOKUP($K170,判定式!$T$3:$W$12,4,TRUE))","v":""},{"$f":"IF($L170=\"\",\"\",VLOOKUP($L170,判定式!$U$3:$W$12,3,TRUE))","v":""},"",{"$f":"IF(ISNUMBER(D170),\"判定外\",IF(C170=6,VLOOKUP(U170,判定式!$C$15:I$19,7,TRUE),IF(C170=7,VLOOKUP(U170,判定式!$D$15:I$19,6,TRUE),IF(C170=8,VLOOKUP(U170,判定式!$E$15:I$19,5,TRUE),IF(C170=9,VLOOKUP(U170,判定式!$F$15:I$19,4,TRUE),IF(C170=10,VLOOKUP(U170,判定式!$G$15:I$19,3,TRUE),IF(C170=11,VLOOKUP(U170,判定式!$H$15:I$19,2,TRUE))))))))","v":false}]
[22,null,null,"-",null,null,null,null,null,null,null,null,{"$f":"IF($E171=\"\",\"\",VLOOKUP($E171,判定式!$P$3:$W$12,8,TRUE))","v":""},{"$f":"IF($F171=\"\",\"\",VLOOKUP($F171,判定式!$Q$3:$W$12,7,TRUE))","v":""},{"$f":"IF($G171=\"\",\"\",VLOOKUP($G171,判定式!$R$3:$W$12,6,TRUE))","v":""},{"$f":"IF($H171=\"\",\"\",VLOOKUP($H171,判定式!$S$3:$W$12,5,TRUE))","v":""},{"$f":"IF($I171=\"\",\"\",VLOOKUP($I171,判定式!$V$3:$W$12,2,TRUE))","v":""},{"$f":"IF($J171=\"\",\"\",VLOOKUP($J171,判定式!$Y$3:$Z$12,2,TRUE))","v":""},{"$f":"IF($K171=\"\",\"\",VLOOKUP($K171,判定式!$T$3:$W$12,4,TRUE))","v":""},{"$f":"IF($L171=\"\",\"\",VLOOKUP($L171,判定式!$U$3:$W$12,3,TRUE))","v":""},"",{"$f":"IF(ISNUMBER(D171),\"判定外\",IF(C171=6,VLOOKUP(U171,判定式!$C$15:I$19,7,TRUE),IF(C171=7,VLOOKUP(U171,判定式!$D$15:I$19,6,TRUE),IF(C171=8,VLOOKUP(U171,判定式!$E$15:I$19,5,TRUE),IF(C171=9,VLOOKUP(U171,判定式!$F$15:I$19,4,TRUE),IF(C171=10,VLOOKUP(U171,判定式!$G$15:I$19,3,TRUE),IF(C171=11,VLOOKUP(U171,判定式!$H$15:I$19,2,TRUE))))))))","v":false}]
[23,null,null,"-",null,null,null,null,null,null,null,null,{"$f":"IF($E172=\"\",\"\",VLOOKUP($E172,判定式!$P$3:$W$12,8,TRUE))","v":""},{"$f":"IF($F172=\"\",\"\",VLOOKUP($F172,判定式!$Q$3:$W$12,7,TRUE))","v":""},{"$f":"IF($G172=\"\",\"\",VLOOKUP($G172,判定式!$R$3:$W$12,6,TRUE))","v":""},{"$f":"IF($H172=\"\",\"\",VLOOKUP($H172,判定式!$S$3:$W$12,5,TRUE))","v":""},{"$f":"IF($I172=\"\",\"\",VLOOKUP($I172,判定式!$V$3:$W$12,2,TRUE))","v":""},{"$f":"IF($J172=\"\",\"\",VLOOKUP($J172,判定式!$Y$3:$Z$12,2,TRUE))","v":""},{"$f":"IF($K172=\"\",\"\",VLOOKUP($K172,判定式!$T$3:$W$12,4,TRUE))","v":""},{"$f":"IF($L172=\"\",\"\",VLOOKUP($L172,判定式!$U$3:$W$12,3,TRUE))","v":""},"",{"$f":"IF(ISNUMBER(D172),\"判定外\",IF(C172=6,VLOOKUP(U172,判定式!$C$15:I$19,7,TRUE),IF(C172=7,VLOOKUP(U172,判定式!$D$15:I$19,6,TRUE),IF(C172=8,VLOOKUP(U172,判定式!$E$15:I$19,5,TRUE),IF(C172=9,VLOOKUP(U172,判定式!$F$15:I$19,4,TRUE),IF(C172=10,VLOOKUP(U172,判定式!$G$15:I$19,3,TRUE),IF(C172=11,VLOOKUP(U172,判定式!$H$15:I$19,2,TRUE))))))))","v":false}]
[24,null,null,"-",null,null,null,null,null,null,null,null,{"$f":"IF($E173=\"\",\"\",VLOOKUP($E173,判定式!$P$3:$W$12,8,TRUE))","v":""},{"$f":"IF($F173=\"\",\"\",VLOOKUP($F173,判定式!$Q$3:$W$12,7,TRUE))","v":""},{"$f":"IF($G173=\"\",\"\",VLOOKUP($G173,判定式!$R$3:$W$12,6,TRUE))","v":""},{"$f":"IF($H173=\"\",\"\",VLOOKUP($H173,判定式!$S$3:$W$12,5,TRUE))","v":""},{"$f":"IF($I173=\"\",\"\",VLOOKUP($I173,判定式!$V$3:$W$12,2,TRUE))","v":""},{"$f":"IF($J173=\"\",\"\",VLOOKUP($J173,判定式!$Y$3:$Z$12,2,TRUE))","v":""},{"$f":"IF($K173=\"\",\"\",VLOOKUP($K173,判定式!$T$3:$W$12,4,TRUE))","v":""},{"$f":"IF($L173=\"\",\"\",VLOOKUP($L173,判定式!$U$3:$W$12,3,TRUE))","v":""},"",{"$f":"IF(ISNUMBER(D173),\"判定外\",IF(C173=6,VLOOKUP(U173,判定式!$C$15:I$19,7,TRUE),IF(C173=7,VLOOKUP(U173,判定式!$D$15:I$19,6,TRUE),IF(C173=8,VLOOKUP(U173,判定式!$E$15:I$19,5,TRUE),IF(C173=9,VLOOKUP(U173,判定式!$F$15:I$19,4,TRUE),IF(C173=10,VLOOKUP(U173,判定式!$G$15:I$19,3,TRUE),IF(C173=11,VLOOKUP(U173,判定式!$H$15:I$19,2,TRUE))))))))","v":false}]
[25,null,null,"-",null,null,null,null,null,null,null,null,{"$f":"IF($E174=\"\",\"\",VLOOKUP($E174,判定式!$P$3:$W$12,8,TRUE))","v":""},{"$f":"IF($F174=\"\",\"\",VLOOKUP($F174,判定式!$Q$3:$W$12,7,TRUE))","v":""},{"$f":"IF($G174=\"\",\"\",VLOOKUP($G174,判定式!$R$3:$W$12,6,TRUE))","v":""},{"$f":"IF($H174=\"\",\"\",VLOOKUP($H174,判定式!$S$3:$W$12,5,TRUE))","v":""},{"$f":"IF($I174=\"\",\"\",VLOOKUP($I174,判定式!$V$3:$W$12,2,TRUE))","v":""},{"$f":"IF($J174=\"\",\"\",VLOOKUP($J174,判定式!$Y$3:$Z$12,2,TRUE))","v":""},{"$f":"IF($K174=\"\",\"\",VLOOKUP($K174,判定式!$T$3:$W$12,4,TRUE))","v":""},{"$f":"IF($L174=\"\",\"\",VLOOKUP($L174,判定式!$U$3:$W$12,3,TRUE))","v":""},"",{"$f":"IF(ISNUMBER(D174),\"判定外\",IF(C174=6,VLOOKUP(U174,判定式!$C$15:I$19,7,TRUE),IF(C174=7,VLOOKUP(U174,判定式!$D$15:I$19,6,TRUE),IF(C174=8,VLOOKUP(U174,判定式!$E$15:I$19,5,TRUE),IF(C174=9,VLOOKUP(U174,判定式!$F$15:I$19,4,TRUE),IF(C174=10,VLOOKUP(U174,判定式!$G$15:I$19,3,TRUE),IF(C174=11,VLOOKUP(U174,判定式!$H$15:I$19,2,TRUE))))))))","v":false}]
[26,null,null,"-",null,null,null,null,null,null,null,null,{"$f":"IF($E175=\"\",\"\",VLOOKUP($E175,判定式!$P$3:$W$12,8,TRUE))","v":""},{"$f":"IF($F175=\"\",\"\",VLOOKUP($F175,判定式!$Q$3:$W$12,7,TRUE))","v":""},{"$f":"IF($G175=\"\",\"\",VLOOKUP($G175,判定式!$R$3:$W$12,6,TRUE))","v":""},{"$f":"IF($H175=\"\",\"\",VLOOKUP($H175,判定式!$S$3:$W$12,5,TRUE))","v":""},{"$f":"IF($I175=\"\",\"\",VLOOKUP($I175,判定式!$V$3:$W$12,2,TRUE))","v":""},{"$f":"IF($J175=\"\",\"\",VLOOKUP($J175,判定式!$Y$3:$Z$12,2,TRUE))","v":""},{"$f":"IF($K175=\"\",\"\",VLOOKUP($K175,判定式!$T$3:$W$12,4,TRUE))","v":""},{"$f":"IF($L175=\"\",\"\",VLOOKUP($L175,判定式!$U$3:$W$12,3,TRUE))","v":""},"",{"$f":"IF(ISNUMBER(D175),\"判定外\",IF(C175=6,VLOOKUP(U175,判定式!$C$15:I$19,7,TRUE),IF(C175=7,VLOOKUP(U175,判定式!$D$15:I$19,6,TRUE),IF(C175=8,VLOOKUP(U175,判定式!$E$15:I$19,5,TRUE),IF(C175=9,VLOOKUP(U175,判定式!$F$15:I$19,4,TRUE),IF(C175=10,VLOOKUP(U175,判定式!$G$15:I$19,3,TRUE),IF(C175=11,VLOOKUP(U175,判定式!$H$15:I$19,2,TRUE))))))))","v":false}]
[27,null,null,"-",null,null,null,null,null,null,null,null,{"$f":"IF($E176=\"\",\"\",VLOOKUP($E176,判定式!$P$3:$W$12,8,TRUE))","v":""},{"$f":"IF($F176=\"\",\"\",VLOOKUP($F176,判定式!$Q$3:$W$12,7,TRUE))","v":""},{"$f":"IF($G176=\"\",\"\",VLOOKUP($G176,判定式!$R$3:$W$12,6,TRUE))","v":""},{"$f":"IF($H176=\"\",\"\",VLOOKUP($H176,判定式!$S$3:$W$12,5,TRUE))","v":""},{"$f":"IF($I176=\"\",\"\",VLOOKUP($I176,判定式!$V$3:$W$12,2,TRUE))","v":""},{"$f":"IF($J176=\"\",\"\",VLOOKUP($J176,判定式!$Y$3:$Z$12,2,TRUE))","v":""},{"$f":"IF($K176=\"\",\"\",VLOOKUP($K176,判定式!$T$3:$W$12,4,TRUE))","v":""},{"$f":"IF($L176=\"\",\"\",VLOOKUP($L176,判定式!$U$3:$W$12,3,TRUE))","v":""},"",{"$f":"IF(ISNUMBER(D176),\"判定外\",IF(C176=6,VLOOKUP(U176,判定式!$C$15:I$19,7,TRUE),IF(C176=7,VLOOKUP(U176,判定式!$D$15:I$19,6,TRUE),IF(C176=8,VLOOKUP(U176,判定式!$E$15:I$19,5,TRUE),IF(C176=9,VLOOKUP(U176,判定式!$F$15:I$19,4,TRUE),IF(C176=10,VLOOKUP(U176,判定式!$G$15:I$19,3,TRUE),IF(C176=11,VLOOKUP(U176,判定式!$H$15:I$19,2,TRUE))))))))","v":false}]
[28,null,null,"-",null,null,null,null,null,null,null,null,{"$f":"IF($E177=\"\",\"\",VLOOKUP($E177,判定式!$P$3:$W$12,8,TRUE))","v":""},{"$f":"IF($F177=\"\",\"\",VLOOKUP($F177,判定式!$Q$3:$W$12,7,TRUE))","v":""},{"$f":"IF($G177=\"\",\"\",VLOOKUP($G177,判定式!$R$3:$W$12,6,TRUE))","v":""},{"$f":"IF($H177=\"\",\"\",VLOOKUP($H177,判定式!$S$3:$W$12,5,TRUE))","v":""},{"$f":"IF($I177=\"\",\"\",VLOOKUP($I177,判定式!$V$3:$W$12,2,TRUE))","v":""},{"$f":"IF($J177=\"\",\"\",VLOOKUP($J177,判定式!$Y$3:$Z$12,2,TRUE))","v":""},{"$f":"IF($K177=\"\",\"\",VLOOKUP($K177,判定式!$T$3:$W$12,4,TRUE))","v":""},{"$f":"IF($L177=\"\",\"\",VLOOKUP($L177,判定式!$U$3:$W$12,3,TRUE))","v":""},"",{"$f":"IF(ISNUMBER(D177),\"判定外\",IF(C177=6,VLOOKUP(U177,判定式!$C$15:I$19,7,TRUE),IF(C177=7,VLOOKUP(U177,判定式!$D$15:I$19,6,TRUE),IF(C177=8,VLOOKUP(U177,判定式!$E$15:I$19,5,TRUE),IF(C177=9,VLOOKUP(U177,判定式!$F$15:I$19,4,TRUE),IF(C177=10,VLOOKUP(U177,判定式!$G$15:I$19,3,TRUE),IF(C177=11,VLOOKUP(U177,判定式!$H$15:I$19,2,TRUE))))))))","v":false}]
[29,null,null,"-",null,null,null,null,null,null,null,null,{"$f":"IF($E178=\"\",\"\",VLOOKUP($E178,判定式!$P$3:$W$12,8,TRUE))","v":""},{"$f":"IF($F178=\"\",\"\",VLOOKUP($F178,判定式!$Q$3:$W$12,7,TRUE))","v":""},{"$f":"IF($G178=\"\",\"\",VLOOKUP($G178,判定式!$R$3:$W$12,6,TRUE))","v":""},{"$f":"IF($H178=\"\",\"\",VLOOKUP($H178,判定式!$S$3:$W$12,5,TRUE))","v":""},{"$f":"IF($I178=\"\",\"\",VLOOKUP($I178,判定式!$V$3:$W$12,2,TRUE))","v":""},{"$f":"IF($J178=\"\",\"\",VLOOKUP($J178,判定式!$Y$3:$Z$12,2,TRUE))","v":""},{"$f":"IF($K178=\"\",\"\",VLOOKUP($K178,判定式!$T$3:$W$12,4,TRUE))","v":""},{"$f":"IF($L178=\"\",\"\",VLOOKUP($L178,判定式!$U$3:$W$12,3,TRUE))","v":""},"",{"$f":"IF(ISNUMBER(D178),\"判定外\",IF(C178=6,VLOOKUP(U178,判定式!$C$15:I$19,7,TRUE),IF(C178=7,VLOOKUP(U178,判定式!$D$15:I$19,6,TRUE),IF(C178=8,VLOOKUP(U178,判定式!$E$15:I$19,5,TRUE),IF(C178=9,VLOOKUP(U178,判定式!$F$15:I$19,4,TRUE),IF(C178=10,VLOOKUP(U178,判定式!$G$15:I$19,3,TRUE),IF(C178=11,VLOOKUP(U178,判定式!$H$15:I$19,2,TRUE))))))))","v":false}]
[30,null,null,"-",null,null,null,null,null,null,null,null,{"$f":"IF($E179=\"\",\"\",VLOOKUP($E179,判定式!$P$3:$W$12,8,TRUE))","v":""},{"$f":"IF($F179=\"\",\"\",VLOOKUP($F179,判定式!$Q$3:$W$12,7,TRUE))","v":""},{"$f":"IF($G179=\"\",\"\",VLOOKUP($G179,判定式!$R$3:$W$12,6,TRUE))","v":""},{"$f":"IF($H179=\"\",\"\",VLOOKUP($H179,判定式!$S$3:$W$12,5,TRUE))","v":""},{"$f":"IF($I179=\"\",\"\",VLOOKUP($I179,判定式!$V$3:$W$12,2,TRUE))","v":""},{"$f":"IF($J179=\"\",\"\",VLOOKUP($J179,判定式!$Y$3:$Z$12,2,TRUE))","v":""},{"$f":"IF($K179=\"\",\"\",VLOOKUP($K179,判定式!$T$3:$W$12,4,TRUE))","v":""},{"$f":"IF($L179=\"\",\"\",VLOOKUP($L179,判定式!$U$3:$W$12,3,TRUE))","v":""},"",{"$f":"IF(ISNUMBER(D179),\"判定外\",IF(C179=6,VLOOKUP(U179,判定式!$C$15:I$19,7,TRUE),IF(C179=7,VLOOKUP(U179,判定式!$D$15:I$19,6,TRUE),IF(C179=8,VLOOKUP(U179,判定式!$E$15:I$19,5,TRUE),IF(C179=9,VLOOKUP(U179,判定式!$F$15:I$19,4,TRUE),IF(C179=10,VLOOKUP(U179,判定式!$G$15:I$19,3,TRUE),IF(C179=11,VLOOKUP(U179,判定式!$H$15:I$19,2,TRUE))))))))","v":false}]
[31,null,null,"-",null,null,null,null,null,null,null,null,{"$f":"IF($E180=\"\",\"\",VLOOKUP($E180,判定式!$P$3:$W$12,8,TRUE))","v":""},{"$f":"IF($F180=\"\",\"\",VLOOKUP($F180,判定式!$Q$3:$W$12,7,TRUE))","v":""},{"$f":"IF($G180=\"\",\"\",VLOOKUP($G180,判定式!$R$3:$W$12,6,TRUE))","v":""},{"$f":"IF($H180=\"\",\"\",VLOOKUP($H180,判定式!$S$3:$W$12,5,TRUE))","v":""},{"$f":"IF($I180=\"\",\"\",VLOOKUP($I180,判定式!$V$3:$W$12,2,TRUE))","v":""},{"$f":"IF($J180=\"\",\"\",VLOOKUP($J180,判定式!$Y$3:$Z$12,2,TRUE))","v":""},{"$f":"IF($K180=\"\",\"\",VLOOKUP($K180,判定式!$T$3:$W$12,4,TRUE))","v":""},{"$f":"IF($L180=\"\",\"\",VLOOKUP($L180,判定式!$U$3:$W$12,3,TRUE))","v":""},"",{"$f":"IF(ISNUMBER(D180),\"判定外\",IF(C180=6,VLOOKUP(U180,判定式!$C$15:I$19,7,TRUE),IF(C180=7,VLOOKUP(U180,判定式!$D$15:I$19,6,TRUE),IF(C180=8,VLOOKUP(U180,判定式!$E$15:I$19,5,TRUE),IF(C180=9,VLOOKUP(U180,判定式!$F$15:I$19,4,TRUE),IF(C180=10,VLOOKUP(U180,判定式!$G$15:I$19,3,TRUE),IF(C180=11,VLOOKUP(U180,判定式!$H$15:I$19,2,TRUE))))))))","v":false}]
[32,null,null,"-",null,null,null,null,null,null,null,null,{"$f":"IF($E181=\"\",\"\",VLOOKUP($E181,判定式!$P$3:$W$12,8,TRUE))","v":""},{"$f":"IF($F181=\"\",\"\",VLOOKUP($F181,判定式!$Q$3:$W$12,7,TRUE))","v":""},{"$f":"IF($G181=\"\",\"\",VLOOKUP($G181,判定式!$R$3:$W$12,6,TRUE))","v":""},{"$f":"IF($H181=\"\",\"\",VLOOKUP($H181,判定式!$S$3:$W$12,5,TRUE))","v":""},{"$f":"IF($I181=\"\",\"\",VLOOKUP($I181,判定式!$V$3:$W$12,2,TRUE))","v":""},{"$f":"IF($J181=\"\",\"\",VLOOKUP($J181,判定式!$Y$3:$Z$12,2,TRUE))","v":""},{"$f":"IF($K181=\"\",\"\",VLOOKUP($K181,判定式!$T$3:$W$12,4,TRUE))","v":""},{"$f":"IF($L181=\"\",\"\",VLOOKUP($L181,判定式!$U$3:$W$12,3,TRUE))","v":""},"",{"$f":"IF(ISNUMBER(D181),\"判定外\",IF(C181=6,VLOOKUP(U181,判定式!$C$15:I$19,7,TRUE),IF(C181=7,VLOOKUP(U181,判定式!$D$15:I$19,6,TRUE),IF(C181=8,VLOOKUP(U181,判定式!$E$15:I$19,5,TRUE),IF(C181=9,VLOOKUP(U181,判定式!$F$15:I$19,4,TRUE),IF(C181=10,VLOOKUP(U181,判定式!$G$15:I$19,3,TRUE),IF(C181=11,VLOOKUP(U181,判定式!$H$15:I$19,2,TRUE))))))))","v":false}]
[33,null,null,{"$f":"IF(COUNTBLANK(E182:L182)=0,\"\",IF(COUNTBLANK(E182:L182)=8,\"-\",COUNTBLANK(E182:L182)))","v":"-"},null,null,null,null,null,null,null,null,{"$f":"IF($E182=\"\",\"\",VLOOKUP($E182,判定式!$P$3:$W$12,8,TRUE))","v":""},{"$f":"IF($F182=\"\",\"\",VLOOKUP($F182,判定式!$Q$3:$W$12,7,TRUE))","v":""},{"$f":"IF($G182=\"\",\"\",VLOOKUP($G182,判定式!$R$3:$W$12,6,TRUE))","v":""},{"$f":"IF($H182=\"\",\"\",VLOOKUP($H182,判定式!$S$3:$W$12,5,TRUE))","v":""},{"$f":"IF($I182=\"\",\"\",VLOOKUP($I182,判定式!$V$3:$W$12,2,TRUE))","v":""},{"$f":"IF($J182=\"\",\"\",VLOOKUP($J182,判定式!$Y$3:$Z$12,2,TRUE))","v":""},{"$f":"IF($K182=\"\",\"\",VLOOKUP($K182,判定式!$T$3:$W$12,4,TRUE))","v":""},{"$f":"IF($L182=\"\",\"\",VLOOKUP($L182,判定式!$U$3:$W$12,3,TRUE))","v":""},"",{"$f":"IF(ISNUMBER(D182),\"判定外\",IF(C182=6,VLOOKUP(U182,判定式!$C$15:I$19,7,TRUE),IF(C182=7,VLOOKUP(U182,判定式!$D$15:I$19,6,TRUE),IF(C182=8,VLOOKUP(U182,判定式!$E$15:I$19,5,TRUE),IF(C182=9,VLOOKUP(U182,判定式!$F$15:I$19,4,TRUE),IF(C182=10,VLOOKUP(U182,判定式!$G$15:I$19,3,TRUE),IF(C182=11,VLOOKUP(U182,判定式!$H$15:I$19,2,TRUE))))))))","v":false}]
[34,null,null,"-",null,null,null,null,null,null,null,null,{"$f":"IF($E183=\"\",\"\",VLOOKUP($E183,判定式!$P$3:$W$12,8,TRUE))","v":""},{"$f":"IF($F183=\"\",\"\",VLOOKUP($F183,判定式!$Q$3:$W$12,7,TRUE))","v":""},{"$f":"IF($G183=\"\",\"\",VLOOKUP($G183,判定式!$R$3:$W$12,6,TRUE))","v":""},{"$f":"IF($H183=\"\",\"\",VLOOKUP($H183,判定式!$S$3:$W$12,5,TRUE))","v":""},{"$f":"IF($I183=\"\",\"\",VLOOKUP($I183,判定式!$V$3:$W$12,2,TRUE))","v":""},{"$f":"IF($J183=\"\",\"\",VLOOKUP($J183,判定式!$Y$3:$Z$12,2,TRUE))","v":""},{"$f":"IF($K183=\"\",\"\",VLOOKUP($K183,判定式!$T$3:$W$12,4,TRUE))","v":""},{"$f":"IF($L183=\"\",\"\",VLOOKUP($L183,判定式!$U$3:$W$12,3,TRUE))","v":""},"",{"$f":"IF(ISNUMBER(D183),\"判定外\",IF(C183=6,VLOOKUP(U183,判定式!$C$15:I$19,7,TRUE),IF(C183=7,VLOOKUP(U183,判定式!$D$15:I$19,6,TRUE),IF(C183=8,VLOOKUP(U183,判定式!$E$15:I$19,5,TRUE),IF(C183=9,VLOOKUP(U183,判定式!$F$15:I$19,4,TRUE),IF(C183=10,VLOOKUP(U183,判定式!$G$15:I$19,3,TRUE),IF(C183=11,VLOOKUP(U183,判定式!$H$15:I$19,2,TRUE))))))))","v":false}]
[35,null,null,"-",null,null,null,null,null,null,null,null,{"$f":"IF($E184=\"\",\"\",VLOOKUP($E184,判定式!$P$3:$W$12,8,TRUE))","v":""},{"$f":"IF($F184=\"\",\"\",VLOOKUP($F184,判定式!$Q$3:$W$12,7,TRUE))","v":""},{"$f":"IF($G184=\"\",\"\",VLOOKUP($G184,判定式!$R$3:$W$12,6,TRUE))","v":""},{"$f":"IF($H184=\"\",\"\",VLOOKUP($H184,判定式!$S$3:$W$12,5,TRUE))","v":""},{"$f":"IF($I184=\"\",\"\",VLOOKUP($I184,判定式!$V$3:$W$12,2,TRUE))","v":""},{"$f":"IF($J184=\"\",\"\",VLOOKUP($J184,判定式!$Y$3:$Z$12,2,TRUE))","v":""},{"$f":"IF($K184=\"\",\"\",VLOOKUP($K184,判定式!$T$3:$W$12,4,TRUE))","v":""},{"$f":"IF($L184=\"\",\"\",VLOOKUP($L184,判定式!$U$3:$W$12,3,TRUE))","v":""},"",{"$f":"IF(ISNUMBER(D184),\"判定外\",IF(C184=6,VLOOKUP(U184,判定式!$C$15:I$19,7,TRUE),IF(C184=7,VLOOKUP(U184,判定式!$D$15:I$19,6,TRUE),IF(C184=8,VLOOKUP(U184,判定式!$E$15:I$19,5,TRUE),IF(C184=9,VLOOKUP(U184,判定式!$F$15:I$19,4,TRUE),IF(C184=10,VLOOKUP(U184,判定式!$G$15:I$19,3,TRUE),IF(C184=11,VLOOKUP(U184,判定式!$H$15:I$19,2,TRUE))))))))","v":false}]
[36,null,null,"-",null,null,null,null,null,null,null,null,{"$f":"IF($E185=\"\",\"\",VLOOKUP($E185,判定式!$P$3:$W$12,8,TRUE))","v":""},{"$f":"IF($F185=\"\",\"\",VLOOKUP($F185,判定式!$Q$3:$W$12,7,TRUE))","v":""},{"$f":"IF($G185=\"\",\"\",VLOOKUP($G185,判定式!$R$3:$W$12,6,TRUE))","v":""},{"$f":"IF($H185=\"\",\"\",VLOOKUP($H185,判定式!$S$3:$W$12,5,TRUE))","v":""},{"$f":"IF($I185=\"\",\"\",VLOOKUP($I185,判定式!$V$3:$W$12,2,TRUE))","v":""},{"$f":"IF($J185=\"\",\"\",VLOOKUP($J185,判定式!$Y$3:$Z$12,2,TRUE))","v":""},{"$f":"IF($K185=\"\",\"\",VLOOKUP($K185,判定式!$T$3:$W$12,4,TRUE))","v":""},{"$f":"IF($L185=\"\",\"\",VLOOKUP($L185,判定式!$U$3:$W$12,3,TRUE))","v":""},"",{"$f":"IF(ISNUMBER(D185),\"判定外\",IF(C185=6,VLOOKUP(U185,判定式!$C$15:I$19,7,TRUE),IF(C185=7,VLOOKUP(U185,判定式!$D$15:I$19,6,TRUE),IF(C185=8,VLOOKUP(U185,判定式!$E$15:I$19,5,TRUE),IF(C185=9,VLOOKUP(U185,判定式!$F$15:I$19,4,TRUE),IF(C185=10,VLOOKUP(U185,判定式!$G$15:I$19,3,TRUE),IF(C185=11,VLOOKUP(U185,判定式!$H$15:I$19,2,TRUE))))))))","v":false}]
[37,null,null,"-",null,null,null,null,null,null,null,null,{"$f":"IF($E186=\"\",\"\",VLOOKUP($E186,判定式!$P$3:$W$12,8,TRUE))","v":""},{"$f":"IF($F186=\"\",\"\",VLOOKUP($F186,判定式!$Q$3:$W$12,7,TRUE))","v":""},{"$f":"IF($G186=\"\",\"\",VLOOKUP($G186,判定式!$R$3:$W$12,6,TRUE))","v":""},{"$f":"IF($H186=\"\",\"\",VLOOKUP($H186,判定式!$S$3:$W$12,5,TRUE))","v":""},{"$f":"IF($I186=\"\",\"\",VLOOKUP($I186,判定式!$V$3:$W$12,2,TRUE))","v":""},{"$f":"IF($J186=\"\",\"\",VLOOKUP($J186,判定式!$Y$3:$Z$12,2,TRUE))","v":""},{"$f":"IF($K186=\"\",\"\",VLOOKUP($K186,判定式!$T$3:$W$12,4,TRUE))","v":""},{"$f":"IF($L186=\"\",\"\",VLOOKUP($L186,判定式!$U$3:$W$12,3,TRUE))","v":""},"",{"$f":"IF(ISNUMBER(D186),\"判定外\",IF(C186=6,VLOOKUP(U186,判定式!$C$15:I$19,7,TRUE),IF(C186=7,VLOOKUP(U186,判定式!$D$15:I$19,6,TRUE),IF(C186=8,VLOOKUP(U186,判定式!$E$15:I$19,5,TRUE),IF(C186=9,VLOOKUP(U186,判定式!$F$15:I$19,4,TRUE),IF(C186=10,VLOOKUP(U186,判定式!$G$15:I$19,3,TRUE),IF(C186=11,VLOOKUP(U186,判定式!$H$15:I$19,2,TRUE))))))))","v":false}]
[38,null,null,"-",null,null,null,null,null,null,null,null,{"$f":"IF($E187=\"\",\"\",VLOOKUP($E187,判定式!$P$3:$W$12,8,TRUE))","v":""},{"$f":"IF($F187=\"\",\"\",VLOOKUP($F187,判定式!$Q$3:$W$12,7,TRUE))","v":""},{"$f":"IF($G187=\"\",\"\",VLOOKUP($G187,判定式!$R$3:$W$12,6,TRUE))","v":""},{"$f":"IF($H187=\"\",\"\",VLOOKUP($H187,判定式!$S$3:$W$12,5,TRUE))","v":""},{"$f":"IF($I187=\"\",\"\",VLOOKUP($I187,判定式!$V$3:$W$12,2,TRUE))","v":""},{"$f":"IF($J187=\"\",\"\",VLOOKUP($J187,判定式!$Y$3:$Z$12,2,TRUE))","v":""},{"$f":"IF($K187=\"\",\"\",VLOOKUP($K187,判定式!$T$3:$W$12,4,TRUE))","v":""},{"$f":"IF($L187=\"\",\"\",VLOOKUP($L187,判定式!$U$3:$W$12,3,TRUE))","v":""},"",{"$f":"IF(ISNUMBER(D187),\"判定外\",IF(C187=6,VLOOKUP(U187,判定式!$C$15:I$19,7,TRUE),IF(C187=7,VLOOKUP(U187,判定式!$D$15:I$19,6,TRUE),IF(C187=8,VLOOKUP(U187,判定式!$E$15:I$19,5,TRUE),IF(C187=9,VLOOKUP(U187,判定式!$F$15:I$19,4,TRUE),IF(C187=10,VLOOKUP(U187,判定式!$G$15:I$19,3,TRUE),IF(C187=11,VLOOKUP(U187,判定式!$H$15:I$19,2,TRUE))))))))","v":false}]
[39,null,null,"-",null,null,null,null,null,null,null,null,{"$f":"IF($E188=\"\",\"\",VLOOKUP($E188,判定式!$P$3:$W$12,8,TRUE))","v":""},{"$f":"IF($F188=\"\",\"\",VLOOKUP($F188,判定式!$Q$3:$W$12,7,TRUE))","v":""},{"$f":"IF($G188=\"\",\"\",VLOOKUP($G188,判定式!$R$3:$W$12,6,TRUE))","v":""},{"$f":"IF($H188=\"\",\"\",VLOOKUP($H188,判定式!$S$3:$W$12,5,TRUE))","v":""},{"$f":"IF($I188=\"\",\"\",VLOOKUP($I188,判定式!$V$3:$W$12,2,TRUE))","v":""},{"$f":"IF($J188=\"\",\"\",VLOOKUP($J188,判定式!$Y$3:$Z$12,2,TRUE))","v":""},{"$f":"IF($K188=\"\",\"\",VLOOKUP($K188,判定式!$T$3:$W$12,4,TRUE))","v":""},{"$f":"IF($L188=\"\",\"\",VLOOKUP($L188,判定式!$U$3:$W$12,3,TRUE))","v":""},"",{"$f":"IF(ISNUMBER(D188),\"判定外\",IF(C188=6,VLOOKUP(U188,判定式!$C$15:I$19,7,TRUE),IF(C188=7,VLOOKUP(U188,判定式!$D$15:I$19,6,TRUE),IF(C188=8,VLOOKUP(U188,判定式!$E$15:I$19,5,TRUE),IF(C188=9,VLOOKUP(U188,判定式!$F$15:I$19,4,TRUE),IF(C188=10,VLOOKUP(U188,判定式!$G$15:I$19,3,TRUE),IF(C188=11,VLOOKUP(U188,判定式!$H$15:I$19,2,TRUE))))))))","v":false}]
[40,null,null,"-",null,null,null,null,null,null,null,null,{"$f":"IF($E189=\"\",\"\",VLOOKUP($E189,判定式!$P$3:$W$12,8,TRUE))","v":""},{"$f":"IF($F189=\"\",\"\",VLOOKUP($F189,判定式!$Q$3:$W$12,7,TRUE))","v":""},{"$f":"IF($G189=\"\",\"\",VLOOKUP($G189,判定式!$R$3:$W$12,6,TRUE))","v":""},{"$f":"IF($H189=\"\",\"\",VLOOKUP($H189,判定式!$S$3:$W$12,5,TRUE))","v":""},{"$f":"IF($I189=\"\",\"\",VLOOKUP($I189,判定式!$V$3:$W$12,2,TRUE))","v":""},{"$f":"IF($J189=\"\",\"\",VLOOKUP($J189,判定式!$Y$3:$Z$12,2,TRUE))","v":""},{"$f":"IF($K189=\"\",\"\",VLOOKUP($K189,判定式!$T$3:$W$12,4,TRUE))","v":""},{"$f":"IF($L189=\"\",\"\",VLOOKUP($L189,判定式!$U$3:$W$12,3,TRUE))","v":""},"",{"$f":"IF(ISNUMBER(D189),\"判定外\",IF(C189=6,VLOOKUP(U189,判定式!$C$15:I$19,7,TRUE),IF(C189=7,VLOOKUP(U189,判定式!$D$15:I$19,6,TRUE),IF(C189=8,VLOOKUP(U189,判定式!$E$15:I$19,5,TRUE),IF(C189=9,VLOOKUP(U189,判定式!$F$15:I$19,4,TRUE),IF(C189=10,VLOOKUP(U189,判定式!$G$15:I$19,3,TRUE),IF(C189=11,VLOOKUP(U189,判定式!$H$15:I$19,2,TRUE))))))))","v":false}]
[41,null,null,"-",null,null,null,null,null,null,null,null,{"$f":"IF($E190=\"\",\"\",VLOOKUP($E190,判定式!$P$3:$W$12,8,TRUE))","v":""},{"$f":"IF($F190=\"\",\"\",VLOOKUP($F190,判定式!$Q$3:$W$12,7,TRUE))","v":""},{"$f":"IF($G190=\"\",\"\",VLOOKUP($G190,判定式!$R$3:$W$12,6,TRUE))","v":""},{"$f":"IF($H190=\"\",\"\",VLOOKUP($H190,判定式!$S$3:$W$12,5,TRUE))","v":""},{"$f":"IF($I190=\"\",\"\",VLOOKUP($I190,判定式!$V$3:$W$12,2,TRUE))","v":""},{"$f":"IF($J190=\"\",\"\",VLOOKUP($J190,判定式!$Y$3:$Z$12,2,TRUE))","v":""},{"$f":"IF($K190=\"\",\"\",VLOOKUP($K190,判定式!$T$3:$W$12,4,TRUE))","v":""},{"$f":"IF($L190=\"\",\"\",VLOOKUP($L190,判定式!$U$3:$W$12,3,TRUE))","v":""},"",{"$f":"IF(ISNUMBER(D190),\"判定外\",IF(C190=6,VLOOKUP(U190,判定式!$C$15:I$19,7,TRUE),IF(C190=7,VLOOKUP(U190,判定式!$D$15:I$19,6,TRUE),IF(C190=8,VLOOKUP(U190,判定式!$E$15:I$19,5,TRUE),IF(C190=9,VLOOKUP(U190,判定式!$F$15:I$19,4,TRUE),IF(C190=10,VLOOKUP(U190,判定式!$G$15:I$19,3,TRUE),IF(C190=11,VLOOKUP(U190,判定式!$H$15:I$19,2,TRUE))))))))","v":false}]
[42,null,null,"-",null,null,null,null,null,null,null,null,{"$f":"IF($E191=\"\",\"\",VLOOKUP($E191,判定式!$P$3:$W$12,8,TRUE))","v":""},{"$f":"IF($F191=\"\",\"\",VLOOKUP($F191,判定式!$Q$3:$W$12,7,TRUE))","v":""},{"$f":"IF($G191=\"\",\"\",VLOOKUP($G191,判定式!$R$3:$W$12,6,TRUE))","v":""},{"$f":"IF($H191=\"\",\"\",VLOOKUP($H191,判定式!$S$3:$W$12,5,TRUE))","v":""},{"$f":"IF($I191=\"\",\"\",VLOOKUP($I191,判定式!$V$3:$W$12,2,TRUE))","v":""},{"$f":"IF($J191=\"\",\"\",VLOOKUP($J191,判定式!$Y$3:$Z$12,2,TRUE))","v":""},{"$f":"IF($K191=\"\",\"\",VLOOKUP($K191,判定式!$T$3:$W$12,4,TRUE))","v":""},{"$f":"IF($L191=\"\",\"\",VLOOKUP($L191,判定式!$U$3:$W$12,3,TRUE))","v":""},"",{"$f":"IF(ISNUMBER(D191),\"判定外\",IF(C191=6,VLOOKUP(U191,判定式!$C$15:I$19,7,TRUE),IF(C191=7,VLOOKUP(U191,判定式!$D$15:I$19,6,TRUE),IF(C191=8,VLOOKUP(U191,判定式!$E$15:I$19,5,TRUE),IF(C191=9,VLOOKUP(U191,判定式!$F$15:I$19,4,TRUE),IF(C191=10,VLOOKUP(U191,判定式!$G$15:I$19,3,TRUE),IF(C191=11,VLOOKUP(U191,判定式!$H$15:I$19,2,TRUE))))))))","v":false}]
[43,null,null,"-",null,null,null,null,null,null,null,null,{"$f":"IF($E192=\"\",\"\",VLOOKUP($E192,判定式!$P$3:$W$12,8,TRUE))","v":""},{"$f":"IF($F192=\"\",\"\",VLOOKUP($F192,判定式!$Q$3:$W$12,7,TRUE))","v":""},{"$f":"IF($G192=\"\",\"\",VLOOKUP($G192,判定式!$R$3:$W$12,6,TRUE))","v":""},{"$f":"IF($H192=\"\",\"\",VLOOKUP($H192,判定式!$S$3:$W$12,5,TRUE))","v":""},{"$f":"IF($I192=\"\",\"\",VLOOKUP($I192,判定式!$V$3:$W$12,2,TRUE))","v":""},{"$f":"IF($J192=\"\",\"\",VLOOKUP($J192,判定式!$Y$3:$Z$12,2,TRUE))","v":""},{"$f":"IF($K192=\"\",\"\",VLOOKUP($K192,判定式!$T$3:$W$12,4,TRUE))","v":""},{"$f":"IF($L192=\"\",\"\",VLOOKUP($L192,判定式!$U$3:$W$12,3,TRUE))","v":""},"",{"$f":"IF(ISNUMBER(D192),\"判定外\",IF(C192=6,VLOOKUP(U192,判定式!$C$15:I$19,7,TRUE),IF(C192=7,VLOOKUP(U192,判定式!$D$15:I$19,6,TRUE),IF(C192=8,VLOOKUP(U192,判定式!$E$15:I$19,5,TRUE),IF(C192=9,VLOOKUP(U192,判定式!$F$15:I$19,4,TRUE),IF(C192=10,VLOOKUP(U192,判定式!$G$15:I$19,3,TRUE),IF(C192=11,VLOOKUP(U192,判定式!$H$15:I$19,2,TRUE))))))))","v":false}]
[44,null,null,"-",null,null,null,null,null,null,null,null,{"$f":"IF($E193=\"\",\"\",VLOOKUP($E193,判定式!$P$3:$W$12,8,TRUE))","v":""},{"$f":"IF($F193=\"\",\"\",VLOOKUP($F193,判定式!$Q$3:$W$12,7,TRUE))","v":""},{"$f":"IF($G193=\"\",\"\",VLOOKUP($G193,判定式!$R$3:$W$12,6,TRUE))","v":""},{"$f":"IF($H193=\"\",\"\",VLOOKUP($H193,判定式!$S$3:$W$12,5,TRUE))","v":""},{"$f":"IF($I193=\"\",\"\",VLOOKUP($I193,判定式!$V$3:$W$12,2,TRUE))","v":""},{"$f":"IF($J193=\"\",\"\",VLOOKUP($J193,判定式!$Y$3:$Z$12,2,TRUE))","v":""},{"$f":"IF($K193=\"\",\"\",VLOOKUP($K193,判定式!$T$3:$W$12,4,TRUE))","v":""},{"$f":"IF($L193=\"\",\"\",VLOOKUP($L193,判定式!$U$3:$W$12,3,TRUE))","v":""},"",{"$f":"IF(ISNUMBER(D193),\"判定外\",IF(C193=6,VLOOKUP(U193,判定式!$C$15:I$19,7,TRUE),IF(C193=7,VLOOKUP(U193,判定式!$D$15:I$19,6,TRUE),IF(C193=8,VLOOKUP(U193,判定式!$E$15:I$19,5,TRUE),IF(C193=9,VLOOKUP(U193,判定式!$F$15:I$19,4,TRUE),IF(C193=10,VLOOKUP(U193,判定式!$G$15:I$19,3,TRUE),IF(C193=11,VLOOKUP(U193,判定式!$H$15:I$19,2,TRUE))))))))","v":false}]
[45,null,null,"-",null,null,null,null,null,null,null,null,{"$f":"IF($E194=\"\",\"\",VLOOKUP($E194,判定式!$P$3:$W$12,8,TRUE))","v":""},{"$f":"IF($F194=\"\",\"\",VLOOKUP($F194,判定式!$Q$3:$W$12,7,TRUE))","v":""},{"$f":"IF($G194=\"\",\"\",VLOOKUP($G194,判定式!$R$3:$W$12,6,TRUE))","v":""},{"$f":"IF($H194=\"\",\"\",VLOOKUP($H194,判定式!$S$3:$W$12,5,TRUE))","v":""},{"$f":"IF($I194=\"\",\"\",VLOOKUP($I194,判定式!$V$3:$W$12,2,TRUE))","v":""},{"$f":"IF($J194=\"\",\"\",VLOOKUP($J194,判定式!$Y$3:$Z$12,2,TRUE))","v":""},{"$f":"IF($K194=\"\",\"\",VLOOKUP($K194,判定式!$T$3:$W$12,4,TRUE))","v":""},{"$f":"IF($L194=\"\",\"\",VLOOKUP($L194,判定式!$U$3:$W$12,3,TRUE))","v":""},"",{"$f":"IF(ISNUMBER(D194),\"判定外\",IF(C194=6,VLOOKUP(U194,判定式!$C$15:I$19,7,TRUE),IF(C194=7,VLOOKUP(U194,判定式!$D$15:I$19,6,TRUE),IF(C194=8,VLOOKUP(U194,判定式!$E$15:I$19,5,TRUE),IF(C194=9,VLOOKUP(U194,判定式!$F$15:I$19,4,TRUE),IF(C194=10,VLOOKUP(U194,判定式!$G$15:I$19,3,TRUE),IF(C194=11,VLOOKUP(U194,判定式!$H$15:I$19,2,TRUE))))))))","v":false}]
[46,null,null,"-",null,null,null,null,null,null,null,null,{"$f":"IF($E195=\"\",\"\",VLOOKUP($E195,判定式!$P$3:$W$12,8,TRUE))","v":""},{"$f":"IF($F195=\"\",\"\",VLOOKUP($F195,判定式!$Q$3:$W$12,7,TRUE))","v":""},{"$f":"IF($G195=\"\",\"\",VLOOKUP($G195,判定式!$R$3:$W$12,6,TRUE))","v":""},{"$f":"IF($H195=\"\",\"\",VLOOKUP($H195,判定式!$S$3:$W$12,5,TRUE))","v":""},{"$f":"IF($I195=\"\",\"\",VLOOKUP($I195,判定式!$V$3:$W$12,2,TRUE))","v":""},{"$f":"IF($J195=\"\",\"\",VLOOKUP($J195,判定式!$Y$3:$Z$12,2,TRUE))","v":""},{"$f":"IF($K195=\"\",\"\",VLOOKUP($K195,判定式!$T$3:$W$12,4,TRUE))","v":""},{"$f":"IF($L195=\"\",\"\",VLOOKUP($L195,判定式!$U$3:$W$12,3,TRUE))","v":""},"",{"$f":"IF(ISNUMBER(D195),\"判定外\",IF(C195=6,VLOOKUP(U195,判定式!$C$15:I$19,7,TRUE),IF(C195=7,VLOOKUP(U195,判定式!$D$15:I$19,6,TRUE),IF(C195=8,VLOOKUP(U195,判定式!$E$15:I$19,5,TRUE),IF(C195=9,VLOOKUP(U195,判定式!$F$15:I$19,4,TRUE),IF(C195=10,VLOOKUP(U195,判定式!$G$15:I$19,3,TRUE),IF(C195=11,VLOOKUP(U195,判定式!$H$15:I$19,2,TRUE))))))))","v":false}]
[47,null,null,"-",null,null,null,null,null,null,null,null,{"$f":"IF($E196=\"\",\"\",VLOOKUP($E196,判定式!$P$3:$W$12,8,TRUE))","v":""},{"$f":"IF($F196=\"\",\"\",VLOOKUP($F196,判定式!$Q$3:$W$12,7,TRUE))","v":""},{"$f":"IF($G196=\"\",\"\",VLOOKUP($G196,判定式!$R$3:$W$12,6,TRUE))","v":""},{"$f":"IF($H196=\"\",\"\",VLOOKUP($H196,判定式!$S$3:$W$12,5,TRUE))","v":""},{"$f":"IF($I196=\"\",\"\",VLOOKUP($I196,判定式!$V$3:$W$12,2,TRUE))","v":""},{"$f":"IF($J196=\"\",\"\",VLOOKUP($J196,判定式!$Y$3:$Z$12,2,TRUE))","v":""},{"$f":"IF($K196=\"\",\"\",VLOOKUP($K196,判定式!$T$3:$W$12,4,TRUE))","v":""},{"$f":"IF($L196=\"\",\"\",VLOOKUP($L196,判定式!$U$3:$W$12,3,TRUE))","v":""},"",{"$f":"IF(ISNUMBER(D196),\"判定外\",IF(C196=6,VLOOKUP(U196,判定式!$C$15:I$19,7,TRUE),IF(C196=7,VLOOKUP(U196,判定式!$D$15:I$19,6,TRUE),IF(C196=8,VLOOKUP(U196,判定式!$E$15:I$19,5,TRUE),IF(C196=9,VLOOKUP(U196,判定式!$F$15:I$19,4,TRUE),IF(C196=10,VLOOKUP(U196,判定式!$G$15:I$19,3,TRUE),IF(C196=11,VLOOKUP(U196,判定式!$H$15:I$19,2,TRUE))))))))","v":false}]
[48,null,null,"-",null,null,null,null,null,null,null,null,{"$f":"IF($E197=\"\",\"\",VLOOKUP($E197,判定式!$P$3:$W$12,8,TRUE))","v":""},{"$f":"IF($F197=\"\",\"\",VLOOKUP($F197,判定式!$Q$3:$W$12,7,TRUE))","v":""},{"$f":"IF($G197=\"\",\"\",VLOOKUP($G197,判定式!$R$3:$W$12,6,TRUE))","v":""},{"$f":"IF($H197=\"\",\"\",VLOOKUP($H197,判定式!$S$3:$W$12,5,TRUE))","v":""},{"$f":"IF($I197=\"\",\"\",VLOOKUP($I197,判定式!$V$3:$W$12,2,TRUE))","v":""},{"$f":"IF($J197=\"\",\"\",VLOOKUP($J197,判定式!$Y$3:$Z$12,2,TRUE))","v":""},{"$f":"IF($K197=\"\",\"\",VLOOKUP($K197,判定式!$T$3:$W$12,4,TRUE))","v":""},{"$f":"IF($L197=\"\",\"\",VLOOKUP($L197,判定式!$U$3:$W$12,3,TRUE))","v":""},"",{"$f":"IF(ISNUMBER(D197),\"判定外\",IF(C197=6,VLOOKUP(U197,判定式!$C$15:I$19,7,TRUE),IF(C197=7,VLOOKUP(U197,判定式!$D$15:I$19,6,TRUE),IF(C197=8,VLOOKUP(U197,判定式!$E$15:I$19,5,TRUE),IF(C197=9,VLOOKUP(U197,判定式!$F$15:I$19,4,TRUE),IF(C197=10,VLOOKUP(U197,判定式!$G$15:I$19,3,TRUE),IF(C197=11,VLOOKUP(U197,判定式!$H$15:I$19,2,TRUE))))))))","v":false}]
[49,null,null,"-",null,null,null,null,null,null,null,null,{"$f":"IF($E198=\"\",\"\",VLOOKUP($E198,判定式!$P$3:$W$12,8,TRUE))","v":""},{"$f":"IF($F198=\"\",\"\",VLOOKUP($F198,判定式!$Q$3:$W$12,7,TRUE))","v":""},{"$f":"IF($G198=\"\",\"\",VLOOKUP($G198,判定式!$R$3:$W$12,6,TRUE))","v":""},{"$f":"IF($H198=\"\",\"\",VLOOKUP($H198,判定式!$S$3:$W$12,5,TRUE))","v":""},{"$f":"IF($I198=\"\",\"\",VLOOKUP($I198,判定式!$V$3:$W$12,2,TRUE))","v":""},{"$f":"IF($J198=\"\",\"\",VLOOKUP($J198,判定式!$Y$3:$Z$12,2,TRUE))","v":""},{"$f":"IF($K198=\"\",\"\",VLOOKUP($K198,判定式!$T$3:$W$12,4,TRUE))","v":""},{"$f":"IF($L198=\"\",\"\",VLOOKUP($L198,判定式!$U$3:$W$12,3,TRUE))","v":""},"",{"$f":"IF(ISNUMBER(D198),\"判定外\",IF(C198=6,VLOOKUP(U198,判定式!$C$15:I$19,7,TRUE),IF(C198=7,VLOOKUP(U198,判定式!$D$15:I$19,6,TRUE),IF(C198=8,VLOOKUP(U198,判定式!$E$15:I$19,5,TRUE),IF(C198=9,VLOOKUP(U198,判定式!$F$15:I$19,4,TRUE),IF(C198=10,VLOOKUP(U198,判定式!$G$15:I$19,3,TRUE),IF(C198=11,VLOOKUP(U198,判定式!$H$15:I$19,2,TRUE))))))))","v":false}]
[50,null,null,"-",null,null,null,null,null,null,null,null,{"$f":"IF($E199=\"\",\"\",VLOOKUP($E199,判定式!$P$3:$W$12,8,TRUE))","v":""},{"$f":"IF($F199=\"\",\"\",VLOOKUP($F199,判定式!$Q$3:$W$12,7,TRUE))","v":""},{"$f":"IF($G199=\"\",\"\",VLOOKUP($G199,判定式!$R$3:$W$12,6,TRUE))","v":""},{"$f":"IF($H199=\"\",\"\",VLOOKUP($H199,判定式!$S$3:$W$12,5,TRUE))","v":""},{"$f":"IF($I199=\"\",\"\",VLOOKUP($I199,判定式!$V$3:$W$12,2,TRUE))","v":""},{"$f":"IF($J199=\"\",\"\",VLOOKUP($J199,判定式!$Y$3:$Z$12,2,TRUE))","v":""},{"$f":"IF($K199=\"\",\"\",VLOOKUP($K199,判定式!$T$3:$W$12,4,TRUE))","v":""},{"$f":"IF($L199=\"\",\"\",VLOOKUP($L199,判定式!$U$3:$W$12,3,TRUE))","v":""},"",{"$f":"IF(ISNUMBER(D199),\"判定外\",IF(C199=6,VLOOKUP(U199,判定式!$C$15:I$19,7,TRUE),IF(C199=7,VLOOKUP(U199,判定式!$D$15:I$19,6,TRUE),IF(C199=8,VLOOKUP(U199,判定式!$E$15:I$19,5,TRUE),IF(C199=9,VLOOKUP(U199,判定式!$F$15:I$19,4,TRUE),IF(C199=10,VLOOKUP(U199,判定式!$G$15:I$19,3,TRUE),IF(C199=11,VLOOKUP(U199,判定式!$H$15:I$19,2,TRUE))))))))","v":false}]
[51,null,null,"-",null,null,null,null,null,null,null,null,{"$f":"IF($E200=\"\",\"\",VLOOKUP($E200,判定式!$P$3:$W$12,8,TRUE))","v":""},{"$f":"IF($F200=\"\",\"\",VLOOKUP($F200,判定式!$Q$3:$W$12,7,TRUE))","v":""},{"$f":"IF($G200=\"\",\"\",VLOOKUP($G200,判定式!$R$3:$W$12,6,TRUE))","v":""},{"$f":"IF($H200=\"\",\"\",VLOOKUP($H200,判定式!$S$3:$W$12,5,TRUE))","v":""},{"$f":"IF($I200=\"\",\"\",VLOOKUP($I200,判定式!$V$3:$W$12,2,TRUE))","v":""},{"$f":"IF($J200=\"\",\"\",VLOOKUP($J200,判定式!$Y$3:$Z$12,2,TRUE))","v":""},{"$f":"IF($K200=\"\",\"\",VLOOKUP($K200,判定式!$T$3:$W$12,4,TRUE))","v":""},{"$f":"IF($L200=\"\",\"\",VLOOKUP($L200,判定式!$U$3:$W$12,3,TRUE))","v":""},"",{"$f":"IF(ISNUMBER(D200),\"判定外\",IF(C200=6,VLOOKUP(U200,判定式!$C$15:I$19,7,TRUE),IF(C200=7,VLOOKUP(U200,判定式!$D$15:I$19,6,TRUE),IF(C200=8,VLOOKUP(U200,判定式!$E$15:I$19,5,TRUE),IF(C200=9,VLOOKUP(U200,判定式!$F$15:I$19,4,TRUE),IF(C200=10,VLOOKUP(U200,判定式!$G$15:I$19,3,TRUE),IF(C200=11,VLOOKUP(U200,判定式!$H$15:I$19,2,TRUE))))))))","v":false}]
[52,null,null,"-",null,null,null,null,null,null,null,null,{"$f":"IF($E201=\"\",\"\",VLOOKUP($E201,判定式!$P$3:$W$12,8,TRUE))","v":""},{"$f":"IF($F201=\"\",\"\",VLOOKUP($F201,判定式!$Q$3:$W$12,7,TRUE))","v":""},{"$f":"IF($G201=\"\",\"\",VLOOKUP($G201,判定式!$R$3:$W$12,6,TRUE))","v":""},{"$f":"IF($H201=\"\",\"\",VLOOKUP($H201,判定式!$S$3:$W$12,5,TRUE))","v":""},{"$f":"IF($I201=\"\",\"\",VLOOKUP($I201,判定式!$V$3:$W$12,2,TRUE))","v":""},{"$f":"IF($J201=\"\",\"\",VLOOKUP($J201,判定式!$Y$3:$Z$12,2,TRUE))","v":""},{"$f":"IF($K201=\"\",\"\",VLOOKUP($K201,判定式!$T$3:$W$12,4,TRUE))","v":""},{"$f":"IF($L201=\"\",\"\",VLOOKUP($L201,判定式!$U$3:$W$12,3,TRUE))","v":""},"",{"$f":"IF(ISNUMBER(D201),\"判定外\",IF(C201=6,VLOOKUP(U201,判定式!$C$15:I$19,7,TRUE),IF(C201=7,VLOOKUP(U201,判定式!$D$15:I$19,6,TRUE),IF(C201=8,VLOOKUP(U201,判定式!$E$15:I$19,5,TRUE),IF(C201=9,VLOOKUP(U201,判定式!$F$15:I$19,4,TRUE),IF(C201=10,VLOOKUP(U201,判定式!$G$15:I$19,3,TRUE),IF(C201=11,VLOOKUP(U201,判定式!$H$15:I$19,2,TRUE))))))))","v":false}]
[53,null,null,"-",null,null,null,null,null,null,null,null,{"$f":"IF($E202=\"\",\"\",VLOOKUP($E202,判定式!$P$3:$W$12,8,TRUE))","v":""},{"$f":"IF($F202=\"\",\"\",VLOOKUP($F202,判定式!$Q$3:$W$12,7,TRUE))","v":""},{"$f":"IF($G202=\"\",\"\",VLOOKUP($G202,判定式!$R$3:$W$12,6,TRUE))","v":""},{"$f":"IF($H202=\"\",\"\",VLOOKUP($H202,判定式!$S$3:$W$12,5,TRUE))","v":""},{"$f":"IF($I202=\"\",\"\",VLOOKUP($I202,判定式!$V$3:$W$12,2,TRUE))","v":""},{"$f":"IF($J202=\"\",\"\",VLOOKUP($J202,判定式!$Y$3:$Z$12,2,TRUE))","v":""},{"$f":"IF($K202=\"\",\"\",VLOOKUP($K202,判定式!$T$3:$W$12,4,TRUE))","v":""},{"$f":"IF($L202=\"\",\"\",VLOOKUP($L202,判定式!$U$3:$W$12,3,TRUE))","v":""},"",{"$f":"IF(ISNUMBER(D202),\"判定外\",IF(C202=6,VLOOKUP(U202,判定式!$C$15:I$19,7,TRUE),IF(C202=7,VLOOKUP(U202,判定式!$D$15:I$19,6,TRUE),IF(C202=8,VLOOKUP(U202,判定式!$E$15:I$19,5,TRUE),IF(C202=9,VLOOKUP(U202,判定式!$F$15:I$19,4,TRUE),IF(C202=10,VLOOKUP(U202,判定式!$G$15:I$19,3,TRUE),IF(C202=11,VLOOKUP(U202,判定式!$H$15:I$19,2,TRUE))))))))","v":false}]
[54,null,null,"-",null,null,null,null,null,null,null,null,{"$f":"IF($E203=\"\",\"\",VLOOKUP($E203,判定式!$P$3:$W$12,8,TRUE))","v":""},{"$f":"IF($F203=\"\",\"\",VLOOKUP($F203,判定式!$Q$3:$W$12,7,TRUE))","v":""},{"$f":"IF($G203=\"\",\"\",VLOOKUP($G203,判定式!$R$3:$W$12,6,TRUE))","v":""},{"$f":"IF($H203=\"\",\"\",VLOOKUP($H203,判定式!$S$3:$W$12,5,TRUE))","v":""},{"$f":"IF($I203=\"\",\"\",VLOOKUP($I203,判定式!$V$3:$W$12,2,TRUE))","v":""},{"$f":"IF($J203=\"\",\"\",VLOOKUP($J203,判定式!$Y$3:$Z$12,2,TRUE))","v":""},{"$f":"IF($K203=\"\",\"\",VLOOKUP($K203,判定式!$T$3:$W$12,4,TRUE))","v":""},{"$f":"IF($L203=\"\",\"\",VLOOKUP($L203,判定式!$U$3:$W$12,3,TRUE))","v":""},"",{"$f":"IF(ISNUMBER(D203),\"判定外\",IF(C203=6,VLOOKUP(U203,判定式!$C$15:I$19,7,TRUE),IF(C203=7,VLOOKUP(U203,判定式!$D$15:I$19,6,TRUE),IF(C203=8,VLOOKUP(U203,判定式!$E$15:I$19,5,TRUE),IF(C203=9,VLOOKUP(U203,判定式!$F$15:I$19,4,TRUE),IF(C203=10,VLOOKUP(U203,判定式!$G$15:I$19,3,TRUE),IF(C203=11,VLOOKUP(U203,判定式!$H$15:I$19,2,TRUE))))))))","v":false}]
[55,null,null,"-",null,null,null,null,null,null,null,null,{"$f":"IF($E204=\"\",\"\",VLOOKUP($E204,判定式!$P$3:$W$12,8,TRUE))","v":""},{"$f":"IF($F204=\"\",\"\",VLOOKUP($F204,判定式!$Q$3:$W$12,7,TRUE))","v":""},{"$f":"IF($G204=\"\",\"\",VLOOKUP($G204,判定式!$R$3:$W$12,6,TRUE))","v":""},{"$f":"IF($H204=\"\",\"\",VLOOKUP($H204,判定式!$S$3:$W$12,5,TRUE))","v":""},{"$f":"IF($I204=\"\",\"\",VLOOKUP($I204,判定式!$V$3:$W$12,2,TRUE))","v":""},{"$f":"IF($J204=\"\",\"\",VLOOKUP($J204,判定式!$Y$3:$Z$12,2,TRUE))","v":""},{"$f":"IF($K204=\"\",\"\",VLOOKUP($K204,判定式!$T$3:$W$12,4,TRUE))","v":""},{"$f":"IF($L204=\"\",\"\",VLOOKUP($L204,判定式!$U$3:$W$12,3,TRUE))","v":""},"",{"$f":"IF(ISNUMBER(D204),\"判定外\",IF(C204=6,VLOOKUP(U204,判定式!$C$15:I$19,7,TRUE),IF(C204=7,VLOOKUP(U204,判定式!$D$15:I$19,6,TRUE),IF(C204=8,VLOOKUP(U204,判定式!$E$15:I$19,5,TRUE),IF(C204=9,VLOOKUP(U204,判定式!$F$15:I$19,4,TRUE),IF(C204=10,VLOOKUP(U204,判定式!$G$15:I$19,3,TRUE),IF(C204=11,VLOOKUP(U204,判定式!$H$15:I$19,2,TRUE))))))))","v":false}]
[56,null,null,"-",null,null,null,null,null,null,null,null,{"$f":"IF($E205=\"\",\"\",VLOOKUP($E205,判定式!$P$3:$W$12,8,TRUE))","v":""},{"$f":"IF($F205=\"\",\"\",VLOOKUP($F205,判定式!$Q$3:$W$12,7,TRUE))","v":""},{"$f":"IF($G205=\"\",\"\",VLOOKUP($G205,判定式!$R$3:$W$12,6,TRUE))","v":""},{"$f":"IF($H205=\"\",\"\",VLOOKUP($H205,判定式!$S$3:$W$12,5,TRUE))","v":""},{"$f":"IF($I205=\"\",\"\",VLOOKUP($I205,判定式!$V$3:$W$12,2,TRUE))","v":""},{"$f":"IF($J205=\"\",\"\",VLOOKUP($J205,判定式!$Y$3:$Z$12,2,TRUE))","v":""},{"$f":"IF($K205=\"\",\"\",VLOOKUP($K205,判定式!$T$3:$W$12,4,TRUE))","v":""},{"$f":"IF($L205=\"\",\"\",VLOOKUP($L205,判定式!$U$3:$W$12,3,TRUE))","v":""},"",{"$f":"IF(ISNUMBER(D205),\"判定外\",IF(C205=6,VLOOKUP(U205,判定式!$C$15:I$19,7,TRUE),IF(C205=7,VLOOKUP(U205,判定式!$D$15:I$19,6,TRUE),IF(C205=8,VLOOKUP(U205,判定式!$E$15:I$19,5,TRUE),IF(C205=9,VLOOKUP(U205,判定式!$F$15:I$19,4,TRUE),IF(C205=10,VLOOKUP(U205,判定式!$G$15:I$19,3,TRUE),IF(C205=11,VLOOKUP(U205,判定式!$H$15:I$19,2,TRUE))))))))","v":false}]
[57,null,null,"-",null,null,null,null,null,null,null,null,{"$f":"IF($E206=\"\",\"\",VLOOKUP($E206,判定式!$P$3:$W$12,8,TRUE))","v":""},{"$f":"IF($F206=\"\",\"\",VLOOKUP($F206,判定式!$Q$3:$W$12,7,TRUE))","v":""},{"$f":"IF($G206=\"\",\"\",VLOOKUP($G206,判定式!$R$3:$W$12,6,TRUE))","v":""},{"$f":"IF($H206=\"\",\"\",VLOOKUP($H206,判定式!$S$3:$W$12,5,TRUE))","v":""},{"$f":"IF($I206=\"\",\"\",VLOOKUP($I206,判定式!$V$3:$W$12,2,TRUE))","v":""},{"$f":"IF($J206=\"\",\"\",VLOOKUP($J206,判定式!$Y$3:$Z$12,2,TRUE))","v":""},{"$f":"IF($K206=\"\",\"\",VLOOKUP($K206,判定式!$T$3:$W$12,4,TRUE))","v":""},{"$f":"IF($L206=\"\",\"\",VLOOKUP($L206,判定式!$U$3:$W$12,3,TRUE))","v":""},"",{"$f":"IF(ISNUMBER(D206),\"判定外\",IF(C206=6,VLOOKUP(U206,判定式!$C$15:I$19,7,TRUE),IF(C206=7,VLOOKUP(U206,判定式!$D$15:I$19,6,TRUE),IF(C206=8,VLOOKUP(U206,判定式!$E$15:I$19,5,TRUE),IF(C206=9,VLOOKUP(U206,判定式!$F$15:I$19,4,TRUE),IF(C206=10,VLOOKUP(U206,判定式!$G$15:I$19,3,TRUE),IF(C206=11,VLOOKUP(U206,判定式!$H$15:I$19,2,TRUE))))))))","v":false}]
[58,null,null,"-",null,null,null,null,null,null,null,null,{"$f":"IF($E207=\"\",\"\",VLOOKUP($E207,判定式!$P$3:$W$12,8,TRUE))","v":""},{"$f":"IF($F207=\"\",\"\",VLOOKUP($F207,判定式!$Q$3:$W$12,7,TRUE))","v":""},{"$f":"IF($G207=\"\",\"\",VLOOKUP($G207,判定式!$R$3:$W$12,6,TRUE))","v":""},{"$f":"IF($H207=\"\",\"\",VLOOKUP($H207,判定式!$S$3:$W$12,5,TRUE))","v":""},{"$f":"IF($I207=\"\",\"\",VLOOKUP($I207,判定式!$V$3:$W$12,2,TRUE))","v":""},{"$f":"IF($J207=\"\",\"\",VLOOKUP($J207,判定式!$Y$3:$Z$12,2,TRUE))","v":""},{"$f":"IF($K207=\"\",\"\",VLOOKUP($K207,判定式!$T$3:$W$12,4,TRUE))","v":""},{"$f":"IF($L207=\"\",\"\",VLOOKUP($L207,判定式!$U$3:$W$12,3,TRUE))","v":""},"",{"$f":"IF(ISNUMBER(D207),\"判定外\",IF(C207=6,VLOOKUP(U207,判定式!$C$15:I$19,7,TRUE),IF(C207=7,VLOOKUP(U207,判定式!$D$15:I$19,6,TRUE),IF(C207=8,VLOOKUP(U207,判定式!$E$15:I$19,5,TRUE),IF(C207=9,VLOOKUP(U207,判定式!$F$15:I$19,4,TRUE),IF(C207=10,VLOOKUP(U207,判定式!$G$15:I$19,3,TRUE),IF(C207=11,VLOOKUP(U207,判定式!$H$15:I$19,2,TRUE))))))))","v":false}]
[59,null,null,"-",null,null,null,null,null,null,null,null,{"$f":"IF($E208=\"\",\"\",VLOOKUP($E208,判定式!$P$3:$W$12,8,TRUE))","v":""},{"$f":"IF($F208=\"\",\"\",VLOOKUP($F208,判定式!$Q$3:$W$12,7,TRUE))","v":""},{"$f":"IF($G208=\"\",\"\",VLOOKUP($G208,判定式!$R$3:$W$12,6,TRUE))","v":""},{"$f":"IF($H208=\"\",\"\",VLOOKUP($H208,判定式!$S$3:$W$12,5,TRUE))","v":""},{"$f":"IF($I208=\"\",\"\",VLOOKUP($I208,判定式!$V$3:$W$12,2,TRUE))","v":""},{"$f":"IF($J208=\"\",\"\",VLOOKUP($J208,判定式!$Y$3:$Z$12,2,TRUE))","v":""},{"$f":"IF($K208=\"\",\"\",VLOOKUP($K208,判定式!$T$3:$W$12,4,TRUE))","v":""},{"$f":"IF($L208=\"\",\"\",VLOOKUP($L208,判定式!$U$3:$W$12,3,TRUE))","v":""},"",{"$f":"IF(ISNUMBER(D208),\"判定外\",IF(C208=6,VLOOKUP(U208,判定式!$C$15:I$19,7,TRUE),IF(C208=7,VLOOKUP(U208,判定式!$D$15:I$19,6,TRUE),IF(C208=8,VLOOKUP(U208,判定式!$E$15:I$19,5,TRUE),IF(C208=9,VLOOKUP(U208,判定式!$F$15:I$19,4,TRUE),IF(C208=10,VLOOKUP(U208,判定式!$G$15:I$19,3,TRUE),IF(C208=11,VLOOKUP(U208,判定式!$H$15:I$19,2,TRUE))))))))","v":false}]
[60,null,null,"-",null,null,null,null,null,null,null,null,{"$f":"IF($E209=\"\",\"\",VLOOKUP($E209,判定式!$P$3:$W$12,8,TRUE))","v":""},{"$f":"IF($F209=\"\",\"\",VLOOKUP($F209,判定式!$Q$3:$W$12,7,TRUE))","v":""},{"$f":"IF($G209=\"\",\"\",VLOOKUP($G209,判定式!$R$3:$W$12,6,TRUE))","v":""},{"$f":"IF($H209=\"\",\"\",VLOOKUP($H209,判定式!$S$3:$W$12,5,TRUE))","v":""},{"$f":"IF($I209=\"\",\"\",VLOOKUP($I209,判定式!$V$3:$W$12,2,TRUE))","v":""},{"$f":"IF($J209=\"\",\"\",VLOOKUP($J209,判定式!$Y$3:$Z$12,2,TRUE))","v":""},{"$f":"IF($K209=\"\",\"\",VLOOKUP($K209,判定式!$T$3:$W$12,4,TRUE))","v":""},{"$f":"IF($L209=\"\",\"\",VLOOKUP($L209,判定式!$U$3:$W$12,3,TRUE))","v":""},"",{"$f":"IF(ISNUMBER(D209),\"判定外\",IF(C209=6,VLOOKUP(U209,判定式!$C$15:I$19,7,TRUE),IF(C209=7,VLOOKUP(U209,判定式!$D$15:I$19,6,TRUE),IF(C209=8,VLOOKUP(U209,判定式!$E$15:I$19,5,TRUE),IF(C209=9,VLOOKUP(U209,判定式!$F$15:I$19,4,TRUE),IF(C209=10,VLOOKUP(U209,判定式!$G$15:I$19,3,TRUE),IF(C209=11,VLOOKUP(U209,判定式!$H$15:I$19,2,TRUE))))))))","v":false}]
[61,null,null,"-",null,null,null,null,null,null,null,null,{"$f":"IF($E210=\"\",\"\",VLOOKUP($E210,判定式!$P$3:$W$12,8,TRUE))","v":""},{"$f":"IF($F210=\"\",\"\",VLOOKUP($F210,判定式!$Q$3:$W$12,7,TRUE))","v":""},{"$f":"IF($G210=\"\",\"\",VLOOKUP($G210,判定式!$R$3:$W$12,6,TRUE))","v":""},{"$f":"IF($H210=\"\",\"\",VLOOKUP($H210,判定式!$S$3:$W$12,5,TRUE))","v":""},{"$f":"IF($I210=\"\",\"\",VLOOKUP($I210,判定式!$V$3:$W$12,2,TRUE))","v":""},{"$f":"IF($J210=\"\",\"\",VLOOKUP($J210,判定式!$Y$3:$Z$12,2,TRUE))","v":""},{"$f":"IF($K210=\"\",\"\",VLOOKUP($K210,判定式!$T$3:$W$12,4,TRUE))","v":""},{"$f":"IF($L210=\"\",\"\",VLOOKUP($L210,判定式!$U$3:$W$12,3,TRUE))","v":""},"",{"$f":"IF(ISNUMBER(D210),\"判定外\",IF(C210=6,VLOOKUP(U210,判定式!$C$15:I$19,7,TRUE),IF(C210=7,VLOOKUP(U210,判定式!$D$15:I$19,6,TRUE),IF(C210=8,VLOOKUP(U210,判定式!$E$15:I$19,5,TRUE),IF(C210=9,VLOOKUP(U210,判定式!$F$15:I$19,4,TRUE),IF(C210=10,VLOOKUP(U210,判定式!$G$15:I$19,3,TRUE),IF(C210=11,VLOOKUP(U210,判定式!$H$15:I$19,2,TRUE))))))))","v":false}]
[62,null,null,"-",null,null,null,null,null,null,null,null,{"$f":"IF($E211=\"\",\"\",VLOOKUP($E211,判定式!$P$3:$W$12,8,TRUE))","v":""},{"$f":"IF($F211=\"\",\"\",VLOOKUP($F211,判定式!$Q$3:$W$12,7,TRUE))","v":""},{"$f":"IF($G211=\"\",\"\",VLOOKUP($G211,判定式!$R$3:$W$12,6,TRUE))","v":""},{"$f":"IF($H211=\"\",\"\",VLOOKUP($H211,判定式!$S$3:$W$12,5,TRUE))","v":""},{"$f":"IF($I211=\"\",\"\",VLOOKUP($I211,判定式!$V$3:$W$12,2,TRUE))","v":""},{"$f":"IF($J211=\"\",\"\",VLOOKUP($J211,判定式!$Y$3:$Z$12,2,TRUE))","v":""},{"$f":"IF($K211=\"\",\"\",VLOOKUP($K211,判定式!$T$3:$W$12,4,TRUE))","v":""},{"$f":"IF($L211=\"\",\"\",VLOOKUP($L211,判定式!$U$3:$W$12,3,TRUE))","v":""},"",{"$f":"IF(ISNUMBER(D211),\"判定外\",IF(C211=6,VLOOKUP(U211,判定式!$C$15:I$19,7,TRUE),IF(C211=7,VLOOKUP(U211,判定式!$D$15:I$19,6,TRUE),IF(C211=8,VLOOKUP(U211,判定式!$E$15:I$19,5,TRUE),IF(C211=9,VLOOKUP(U211,判定式!$F$15:I$19,4,TRUE),IF(C211=10,VLOOKUP(U211,判定式!$G$15:I$19,3,TRUE),IF(C211=11,VLOOKUP(U211,判定式!$H$15:I$19,2,TRUE))))))))","v":false}]
[63,null,null,"-",null,null,null,null,null,null,null,null,{"$f":"IF($E212=\"\",\"\",VLOOKUP($E212,判定式!$P$3:$W$12,8,TRUE))","v":""},{"$f":"IF($F212=\"\",\"\",VLOOKUP($F212,判定式!$Q$3:$W$12,7,TRUE))","v":""},{"$f":"IF($G212=\"\",\"\",VLOOKUP($G212,判定式!$R$3:$W$12,6,TRUE))","v":""},{"$f":"IF($H212=\"\",\"\",VLOOKUP($H212,判定式!$S$3:$W$12,5,TRUE))","v":""},{"$f":"IF($I212=\"\",\"\",VLOOKUP($I212,判定式!$V$3:$W$12,2,TRUE))","v":""},{"$f":"IF($J212=\"\",\"\",VLOOKUP($J212,判定式!$Y$3:$Z$12,2,TRUE))","v":""},{"$f":"IF($K212=\"\",\"\",VLOOKUP($K212,判定式!$T$3:$W$12,4,TRUE))","v":""},{"$f":"IF($L212=\"\",\"\",VLOOKUP($L212,判定式!$U$3:$W$12,3,TRUE))","v":""},"",{"$f":"IF(ISNUMBER(D212),\"判定外\",IF(C212=6,VLOOKUP(U212,判定式!$C$15:I$19,7,TRUE),IF(C212=7,VLOOKUP(U212,判定式!$D$15:I$19,6,TRUE),IF(C212=8,VLOOKUP(U212,判定式!$E$15:I$19,5,TRUE),IF(C212=9,VLOOKUP(U212,判定式!$F$15:I$19,4,TRUE),IF(C212=10,VLOOKUP(U212,判定式!$G$15:I$19,3,TRUE),IF(C212=11,VLOOKUP(U212,判定式!$H$15:I$19,2,TRUE))))))))","v":false}]
[64,null,null,"-",null,null,null,null,null,null,null,null,{"$f":"IF($E213=\"\",\"\",VLOOKUP($E213,判定式!$P$3:$W$12,8,TRUE))","v":""},{"$f":"IF($F213=\"\",\"\",VLOOKUP($F213,判定式!$Q$3:$W$12,7,TRUE))","v":""},{"$f":"IF($G213=\"\",\"\",VLOOKUP($G213,判定式!$R$3:$W$12,6,TRUE))","v":""},{"$f":"IF($H213=\"\",\"\",VLOOKUP($H213,判定式!$S$3:$W$12,5,TRUE))","v":""},{"$f":"IF($I213=\"\",\"\",VLOOKUP($I213,判定式!$V$3:$W$12,2,TRUE))","v":""},{"$f":"IF($J213=\"\",\"\",VLOOKUP($J213,判定式!$Y$3:$Z$12,2,TRUE))","v":""},{"$f":"IF($K213=\"\",\"\",VLOOKUP($K213,判定式!$T$3:$W$12,4,TRUE))","v":""},{"$f":"IF($L213=\"\",\"\",VLOOKUP($L213,判定式!$U$3:$W$12,3,TRUE))","v":""},"",{"$f":"IF(ISNUMBER(D213),\"判定外\",IF(C213=6,VLOOKUP(U213,判定式!$C$15:I$19,7,TRUE),IF(C213=7,VLOOKUP(U213,判定式!$D$15:I$19,6,TRUE),IF(C213=8,VLOOKUP(U213,判定式!$E$15:I$19,5,TRUE),IF(C213=9,VLOOKUP(U213,判定式!$F$15:I$19,4,TRUE),IF(C213=10,VLOOKUP(U213,判定式!$G$15:I$19,3,TRUE),IF(C213=11,VLOOKUP(U213,判定式!$H$15:I$19,2,TRUE))))))))","v":false}]
[65,null,null,{"$f":"IF(COUNTBLANK(E214:L214)=0,\"\",IF(COUNTBLANK(E214:L214)=8,\"-\",COUNTBLANK(E214:L214)))","v":"-"},null,null,null,null,null,null,null,null,{"$f":"IF($E214=\"\",\"\",VLOOKUP($E214,判定式!$P$3:$W$12,8,TRUE))","v":""},{"$f":"IF($F214=\"\",\"\",VLOOKUP($F214,判定式!$Q$3:$W$12,7,TRUE))","v":""},{"$f":"IF($G214=\"\",\"\",VLOOKUP($G214,判定式!$R$3:$W$12,6,TRUE))","v":""},{"$f":"IF($H214=\"\",\"\",VLOOKUP($H214,判定式!$S$3:$W$12,5,TRUE))","v":""},{"$f":"IF($I214=\"\",\"\",VLOOKUP($I214,判定式!$V$3:$W$12,2,TRUE))","v":""},{"$f":"IF($J214=\"\",\"\",VLOOKUP($J214,判定式!$Y$3:$Z$12,2,TRUE))","v":""},{"$f":"IF($K214=\"\",\"\",VLOOKUP($K214,判定式!$T$3:$W$12,4,TRUE))","v":""},{"$f":"IF($L214=\"\",\"\",VLOOKUP($L214,判定式!$U$3:$W$12,3,TRUE))","v":""},"",{"$f":"IF(ISNUMBER(D214),\"判定外\",IF(C214=6,VLOOKUP(U214,判定式!$C$15:I$19,7,TRUE),IF(C214=7,VLOOKUP(U214,判定式!$D$15:I$19,6,TRUE),IF(C214=8,VLOOKUP(U214,判定式!$E$15:I$19,5,TRUE),IF(C214=9,VLOOKUP(U214,判定式!$F$15:I$19,4,TRUE),IF(C214=10,VLOOKUP(U214,判定式!$G$15:I$19,3,TRUE),IF(C214=11,VLOOKUP(U214,判定式!$H$15:I$19,2,TRUE))))))))","v":false}]
[66,null,null,"-",null,null,null,null,null,null,null,null,{"$f":"IF($E215=\"\",\"\",VLOOKUP($E215,判定式!$P$3:$W$12,8,TRUE))","v":""},{"$f":"IF($F215=\"\",\"\",VLOOKUP($F215,判定式!$Q$3:$W$12,7,TRUE))","v":""},{"$f":"IF($G215=\"\",\"\",VLOOKUP($G215,判定式!$R$3:$W$12,6,TRUE))","v":""},{"$f":"IF($H215=\"\",\"\",VLOOKUP($H215,判定式!$S$3:$W$12,5,TRUE))","v":""},{"$f":"IF($I215=\"\",\"\",VLOOKUP($I215,判定式!$V$3:$W$12,2,TRUE))","v":""},{"$f":"IF($J215=\"\",\"\",VLOOKUP($J215,判定式!$Y$3:$Z$12,2,TRUE))","v":""},{"$f":"IF($K215=\"\",\"\",VLOOKUP($K215,判定式!$T$3:$W$12,4,TRUE))","v":""},{"$f":"IF($L215=\"\",\"\",VLOOKUP($L215,判定式!$U$3:$W$12,3,TRUE))","v":""},{"$f":"IF(COUNTBLANK(M215:T215)=0,SUM(M215:T215),\"\")","v":""},{"$f":"IF(ISNUMBER(D215),\"判定外\",IF(C215=6,VLOOKUP(U215,判定式!$C$15:I$19,7,TRUE),IF(C215=7,VLOOKUP(U215,判定式!$D$15:I$19,6,TRUE),IF(C215=8,VLOOKUP(U215,判定式!$E$15:I$19,5,TRUE),IF(C215=9,VLOOKUP(U215,判定式!$F$15:I$19,4,TRUE),IF(C215=10,VLOOKUP(U215,判定式!$G$15:I$19,3,TRUE),IF(C215=11,VLOOKUP(U215,判定式!$H$15:I$19,2,TRUE))))))))","v":false}]
[67,null,null,"-",null,null,null,null,null,null,null,null,{"$f":"IF($E216=\"\",\"\",VLOOKUP($E216,判定式!$P$3:$W$12,8,TRUE))","v":""},{"$f":"IF($F216=\"\",\"\",VLOOKUP($F216,判定式!$Q$3:$W$12,7,TRUE))","v":""},{"$f":"IF($G216=\"\",\"\",VLOOKUP($G216,判定式!$R$3:$W$12,6,TRUE))","v":""},{"$f":"IF($H216=\"\",\"\",VLOOKUP($H216,判定式!$S$3:$W$12,5,TRUE))","v":""},{"$f":"IF($I216=\"\",\"\",VLOOKUP($I216,判定式!$V$3:$W$12,2,TRUE))","v":""},{"$f":"IF($J216=\"\",\"\",VLOOKUP($J216,判定式!$Y$3:$Z$12,2,TRUE))","v":""},{"$f":"IF($K216=\"\",\"\",VLOOKUP($K216,判定式!$T$3:$W$12,4,TRUE))","v":""},{"$f":"IF($L216=\"\",\"\",VLOOKUP($L216,判定式!$U$3:$W$12,3,TRUE))","v":""},"",{"$f":"IF(ISNUMBER(D216),\"判定外\",IF(C216=6,VLOOKUP(U216,判定式!$C$15:I$19,7,TRUE),IF(C216=7,VLOOKUP(U216,判定式!$D$15:I$19,6,TRUE),IF(C216=8,VLOOKUP(U216,判定式!$E$15:I$19,5,TRUE),IF(C216=9,VLOOKUP(U216,判定式!$F$15:I$19,4,TRUE),IF(C216=10,VLOOKUP(U216,判定式!$G$15:I$19,3,TRUE),IF(C216=11,VLOOKUP(U216,判定式!$H$15:I$19,2,TRUE))))))))","v":false}]
[68,null,null,"-",null,null,null,null,null,null,null,null,{"$f":"IF($E217=\"\",\"\",VLOOKUP($E217,判定式!$P$3:$W$12,8,TRUE))","v":""},{"$f":"IF($F217=\"\",\"\",VLOOKUP($F217,判定式!$Q$3:$W$12,7,TRUE))","v":""},{"$f":"IF($G217=\"\",\"\",VLOOKUP($G217,判定式!$R$3:$W$12,6,TRUE))","v":""},{"$f":"IF($H217=\"\",\"\",VLOOKUP($H217,判定式!$S$3:$W$12,5,TRUE))","v":""},{"$f":"IF($I217=\"\",\"\",VLOOKUP($I217,判定式!$V$3:$W$12,2,TRUE))","v":""},{"$f":"IF($J217=\"\",\"\",VLOOKUP($J217,判定式!$Y$3:$Z$12,2,TRUE))","v":""},{"$f":"IF($K217=\"\",\"\",VLOOKUP($K217,判定式!$T$3:$W$12,4,TRUE))","v":""},{"$f":"IF($L217=\"\",\"\",VLOOKUP($L217,判定式!$U$3:$W$12,3,TRUE))","v":""},"",{"$f":"IF(ISNUMBER(D217),\"判定外\",IF(C217=6,VLOOKUP(U217,判定式!$C$15:I$19,7,TRUE),IF(C217=7,VLOOKUP(U217,判定式!$D$15:I$19,6,TRUE),IF(C217=8,VLOOKUP(U217,判定式!$E$15:I$19,5,TRUE),IF(C217=9,VLOOKUP(U217,判定式!$F$15:I$19,4,TRUE),IF(C217=10,VLOOKUP(U217,判定式!$G$15:I$19,3,TRUE),IF(C217=11,VLOOKUP(U217,判定式!$H$15:I$19,2,TRUE))))))))","v":false}]
[69,null,null,"-",null,null,null,null,null,null,null,null,{"$f":"IF($E218=\"\",\"\",VLOOKUP($E218,判定式!$P$3:$W$12,8,TRUE))","v":""},{"$f":"IF($F218=\"\",\"\",VLOOKUP($F218,判定式!$Q$3:$W$12,7,TRUE))","v":""},{"$f":"IF($G218=\"\",\"\",VLOOKUP($G218,判定式!$R$3:$W$12,6,TRUE))","v":""},{"$f":"IF($H218=\"\",\"\",VLOOKUP($H218,判定式!$S$3:$W$12,5,TRUE))","v":""},{"$f":"IF($I218=\"\",\"\",VLOOKUP($I218,判定式!$V$3:$W$12,2,TRUE))","v":""},{"$f":"IF($J218=\"\",\"\",VLOOKUP($J218,判定式!$Y$3:$Z$12,2,TRUE))","v":""},{"$f":"IF($K218=\"\",\"\",VLOOKUP($K218,判定式!$T$3:$W$12,4,TRUE))","v":""},{"$f":"IF($L218=\"\",\"\",VLOOKUP($L218,判定式!$U$3:$W$12,3,TRUE))","v":""},"",{"$f":"IF(ISNUMBER(D218),\"判定外\",IF(C218=6,VLOOKUP(U218,判定式!$C$15:I$19,7,TRUE),IF(C218=7,VLOOKUP(U218,判定式!$D$15:I$19,6,TRUE),IF(C218=8,VLOOKUP(U218,判定式!$E$15:I$19,5,TRUE),IF(C218=9,VLOOKUP(U218,判定式!$F$15:I$19,4,TRUE),IF(C218=10,VLOOKUP(U218,判定式!$G$15:I$19,3,TRUE),IF(C218=11,VLOOKUP(U218,判定式!$H$15:I$19,2,TRUE))))))))","v":false}]
[70,null,null,"-",null,null,null,null,null,null,null,null,{"$f":"IF($E219=\"\",\"\",VLOOKUP($E219,判定式!$P$3:$W$12,8,TRUE))","v":""},{"$f":"IF($F219=\"\",\"\",VLOOKUP($F219,判定式!$Q$3:$W$12,7,TRUE))","v":""},{"$f":"IF($G219=\"\",\"\",VLOOKUP($G219,判定式!$R$3:$W$12,6,TRUE))","v":""},{"$f":"IF($H219=\"\",\"\",VLOOKUP($H219,判定式!$S$3:$W$12,5,TRUE))","v":""},{"$f":"IF($I219=\"\",\"\",VLOOKUP($I219,判定式!$V$3:$W$12,2,TRUE))","v":""},{"$f":"IF($J219=\"\",\"\",VLOOKUP($J219,判定式!$Y$3:$Z$12,2,TRUE))","v":""},{"$f":"IF($K219=\"\",\"\",VLOOKUP($K219,判定式!$T$3:$W$12,4,TRUE))","v":""},{"$f":"IF($L219=\"\",\"\",VLOOKUP($L219,判定式!$U$3:$W$12,3,TRUE))","v":""},"",{"$f":"IF(ISNUMBER(D219),\"判定外\",IF(C219=6,VLOOKUP(U219,判定式!$C$15:I$19,7,TRUE),IF(C219=7,VLOOKUP(U219,判定式!$D$15:I$19,6,TRUE),IF(C219=8,VLOOKUP(U219,判定式!$E$15:I$19,5,TRUE),IF(C219=9,VLOOKUP(U219,判定式!$F$15:I$19,4,TRUE),IF(C219=10,VLOOKUP(U219,判定式!$G$15:I$19,3,TRUE),IF(C219=11,VLOOKUP(U219,判定式!$H$15:I$19,2,TRUE))))))))","v":false}]
[71,null,null,"-",null,null,null,null,null,null,null,null,{"$f":"IF($E220=\"\",\"\",VLOOKUP($E220,判定式!$P$3:$W$12,8,TRUE))","v":""},{"$f":"IF($F220=\"\",\"\",VLOOKUP($F220,判定式!$Q$3:$W$12,7,TRUE))","v":""},{"$f":"IF($G220=\"\",\"\",VLOOKUP($G220,判定式!$R$3:$W$12,6,TRUE))","v":""},{"$f":"IF($H220=\"\",\"\",VLOOKUP($H220,判定式!$S$3:$W$12,5,TRUE))","v":""},{"$f":"IF($I220=\"\",\"\",VLOOKUP($I220,判定式!$V$3:$W$12,2,TRUE))","v":""},{"$f":"IF($J220=\"\",\"\",VLOOKUP($J220,判定式!$Y$3:$Z$12,2,TRUE))","v":""},{"$f":"IF($K220=\"\",\"\",VLOOKUP($K220,判定式!$T$3:$W$12,4,TRUE))","v":""},{"$f":"IF($L220=\"\",\"\",VLOOKUP($L220,判定式!$U$3:$W$12,3,TRUE))","v":""},"",{"$f":"IF(ISNUMBER(D220),\"判定外\",IF(C220=6,VLOOKUP(U220,判定式!$C$15:I$19,7,TRUE),IF(C220=7,VLOOKUP(U220,判定式!$D$15:I$19,6,TRUE),IF(C220=8,VLOOKUP(U220,判定式!$E$15:I$19,5,TRUE),IF(C220=9,VLOOKUP(U220,判定式!$F$15:I$19,4,TRUE),IF(C220=10,VLOOKUP(U220,判定式!$G$15:I$19,3,TRUE),IF(C220=11,VLOOKUP(U220,判定式!$H$15:I$19,2,TRUE))))))))","v":false}]
[72,null,null,"-",null,null,null,null,null,null,null,null,{"$f":"IF($E221=\"\",\"\",VLOOKUP($E221,判定式!$P$3:$W$12,8,TRUE))","v":""},{"$f":"IF($F221=\"\",\"\",VLOOKUP($F221,判定式!$Q$3:$W$12,7,TRUE))","v":""},{"$f":"IF($G221=\"\",\"\",VLOOKUP($G221,判定式!$R$3:$W$12,6,TRUE))","v":""},{"$f":"IF($H221=\"\",\"\",VLOOKUP($H221,判定式!$S$3:$W$12,5,TRUE))","v":""},{"$f":"IF($I221=\"\",\"\",VLOOKUP($I221,判定式!$V$3:$W$12,2,TRUE))","v":""},{"$f":"IF($J221=\"\",\"\",VLOOKUP($J221,判定式!$Y$3:$Z$12,2,TRUE))","v":""},{"$f":"IF($K221=\"\",\"\",VLOOKUP($K221,判定式!$T$3:$W$12,4,TRUE))","v":""},{"$f":"IF($L221=\"\",\"\",VLOOKUP($L221,判定式!$U$3:$W$12,3,TRUE))","v":""},"",{"$f":"IF(ISNUMBER(D221),\"判定外\",IF(C221=6,VLOOKUP(U221,判定式!$C$15:I$19,7,TRUE),IF(C221=7,VLOOKUP(U221,判定式!$D$15:I$19,6,TRUE),IF(C221=8,VLOOKUP(U221,判定式!$E$15:I$19,5,TRUE),IF(C221=9,VLOOKUP(U221,判定式!$F$15:I$19,4,TRUE),IF(C221=10,VLOOKUP(U221,判定式!$G$15:I$19,3,TRUE),IF(C221=11,VLOOKUP(U221,判定式!$H$15:I$19,2,TRUE))))))))","v":false}]
[73,null,null,"-",null,null,null,null,null,null,null,null,{"$f":"IF($E222=\"\",\"\",VLOOKUP($E222,判定式!$P$3:$W$12,8,TRUE))","v":""},{"$f":"IF($F222=\"\",\"\",VLOOKUP($F222,判定式!$Q$3:$W$12,7,TRUE))","v":""},{"$f":"IF($G222=\"\",\"\",VLOOKUP($G222,判定式!$R$3:$W$12,6,TRUE))","v":""},{"$f":"IF($H222=\"\",\"\",VLOOKUP($H222,判定式!$S$3:$W$12,5,TRUE))","v":""},{"$f":"IF($I222=\"\",\"\",VLOOKUP($I222,判定式!$V$3:$W$12,2,TRUE))","v":""},{"$f":"IF($J222=\"\",\"\",VLOOKUP($J222,判定式!$Y$3:$Z$12,2,TRUE))","v":""},{"$f":"IF($K222=\"\",\"\",VLOOKUP($K222,判定式!$T$3:$W$12,4,TRUE))","v":""},{"$f":"IF($L222=\"\",\"\",VLOOKUP($L222,判定式!$U$3:$W$12,3,TRUE))","v":""},"",{"$f":"IF(ISNUMBER(D222),\"判定外\",IF(C222=6,VLOOKUP(U222,判定式!$C$15:I$19,7,TRUE),IF(C222=7,VLOOKUP(U222,判定式!$D$15:I$19,6,TRUE),IF(C222=8,VLOOKUP(U222,判定式!$E$15:I$19,5,TRUE),IF(C222=9,VLOOKUP(U222,判定式!$F$15:I$19,4,TRUE),IF(C222=10,VLOOKUP(U222,判定式!$G$15:I$19,3,TRUE),IF(C222=11,VLOOKUP(U222,判定式!$H$15:I$19,2,TRUE))))))))","v":false}]
[74,null,null,"-",null,null,null,null,null,null,null,null,{"$f":"IF($E223=\"\",\"\",VLOOKUP($E223,判定式!$P$3:$W$12,8,TRUE))","v":""},{"$f":"IF($F223=\"\",\"\",VLOOKUP($F223,判定式!$Q$3:$W$12,7,TRUE))","v":""},{"$f":"IF($G223=\"\",\"\",VLOOKUP($G223,判定式!$R$3:$W$12,6,TRUE))","v":""},{"$f":"IF($H223=\"\",\"\",VLOOKUP($H223,判定式!$S$3:$W$12,5,TRUE))","v":""},{"$f":"IF($I223=\"\",\"\",VLOOKUP($I223,判定式!$V$3:$W$12,2,TRUE))","v":""},{"$f":"IF($J223=\"\",\"\",VLOOKUP($J223,判定式!$Y$3:$Z$12,2,TRUE))","v":""},{"$f":"IF($K223=\"\",\"\",VLOOKUP($K223,判定式!$T$3:$W$12,4,TRUE))","v":""},{"$f":"IF($L223=\"\",\"\",VLOOKUP($L223,判定式!$U$3:$W$12,3,TRUE))","v":""},"",{"$f":"IF(ISNUMBER(D223),\"判定外\",IF(C223=6,VLOOKUP(U223,判定式!$C$15:I$19,7,TRUE),IF(C223=7,VLOOKUP(U223,判定式!$D$15:I$19,6,TRUE),IF(C223=8,VLOOKUP(U223,判定式!$E$15:I$19,5,TRUE),IF(C223=9,VLOOKUP(U223,判定式!$F$15:I$19,4,TRUE),IF(C223=10,VLOOKUP(U223,判定式!$G$15:I$19,3,TRUE),IF(C223=11,VLOOKUP(U223,判定式!$H$15:I$19,2,TRUE))))))))","v":false}]
[75,null,null,"-",null,null,null,null,null,null,null,null,{"$f":"IF($E224=\"\",\"\",VLOOKUP($E224,判定式!$P$3:$W$12,8,TRUE))","v":""},{"$f":"IF($F224=\"\",\"\",VLOOKUP($F224,判定式!$Q$3:$W$12,7,TRUE))","v":""},{"$f":"IF($G224=\"\",\"\",VLOOKUP($G224,判定式!$R$3:$W$12,6,TRUE))","v":""},{"$f":"IF($H224=\"\",\"\",VLOOKUP($H224,判定式!$S$3:$W$12,5,TRUE))","v":""},{"$f":"IF($I224=\"\",\"\",VLOOKUP($I224,判定式!$V$3:$W$12,2,TRUE))","v":""},{"$f":"IF($J224=\"\",\"\",VLOOKUP($J224,判定式!$Y$3:$Z$12,2,TRUE))","v":""},{"$f":"IF($K224=\"\",\"\",VLOOKUP($K224,判定式!$T$3:$W$12,4,TRUE))","v":""},{"$f":"IF($L224=\"\",\"\",VLOOKUP($L224,判定式!$U$3:$W$12,3,TRUE))","v":""},"",{"$f":"IF(ISNUMBER(D224),\"判定外\",IF(C224=6,VLOOKUP(U224,判定式!$C$15:I$19,7,TRUE),IF(C224=7,VLOOKUP(U224,判定式!$D$15:I$19,6,TRUE),IF(C224=8,VLOOKUP(U224,判定式!$E$15:I$19,5,TRUE),IF(C224=9,VLOOKUP(U224,判定式!$F$15:I$19,4,TRUE),IF(C224=10,VLOOKUP(U224,判定式!$G$15:I$19,3,TRUE),IF(C224=11,VLOOKUP(U224,判定式!$H$15:I$19,2,TRUE))))))))","v":false}]
[76,null,null,"-",null,null,null,null,null,null,null,null,{"$f":"IF($E225=\"\",\"\",VLOOKUP($E225,判定式!$P$3:$W$12,8,TRUE))","v":""},{"$f":"IF($F225=\"\",\"\",VLOOKUP($F225,判定式!$Q$3:$W$12,7,TRUE))","v":""},{"$f":"IF($G225=\"\",\"\",VLOOKUP($G225,判定式!$R$3:$W$12,6,TRUE))","v":""},{"$f":"IF($H225=\"\",\"\",VLOOKUP($H225,判定式!$S$3:$W$12,5,TRUE))","v":""},{"$f":"IF($I225=\"\",\"\",VLOOKUP($I225,判定式!$V$3:$W$12,2,TRUE))","v":""},{"$f":"IF($J225=\"\",\"\",VLOOKUP($J225,判定式!$Y$3:$Z$12,2,TRUE))","v":""},{"$f":"IF($K225=\"\",\"\",VLOOKUP($K225,判定式!$T$3:$W$12,4,TRUE))","v":""},{"$f":"IF($L225=\"\",\"\",VLOOKUP($L225,判定式!$U$3:$W$12,3,TRUE))","v":""},"",{"$f":"IF(ISNUMBER(D225),\"判定外\",IF(C225=6,VLOOKUP(U225,判定式!$C$15:I$19,7,TRUE),IF(C225=7,VLOOKUP(U225,判定式!$D$15:I$19,6,TRUE),IF(C225=8,VLOOKUP(U225,判定式!$E$15:I$19,5,TRUE),IF(C225=9,VLOOKUP(U225,判定式!$F$15:I$19,4,TRUE),IF(C225=10,VLOOKUP(U225,判定式!$G$15:I$19,3,TRUE),IF(C225=11,VLOOKUP(U225,判定式!$H$15:I$19,2,TRUE))))))))","v":false}]
[77,null,null,"-",null,null,null,null,null,null,null,null,{"$f":"IF($E226=\"\",\"\",VLOOKUP($E226,判定式!$P$3:$W$12,8,TRUE))","v":""},{"$f":"IF($F226=\"\",\"\",VLOOKUP($F226,判定式!$Q$3:$W$12,7,TRUE))","v":""},{"$f":"IF($G226=\"\",\"\",VLOOKUP($G226,判定式!$R$3:$W$12,6,TRUE))","v":""},{"$f":"IF($H226=\"\",\"\",VLOOKUP($H226,判定式!$S$3:$W$12,5,TRUE))","v":""},{"$f":"IF($I226=\"\",\"\",VLOOKUP($I226,判定式!$V$3:$W$12,2,TRUE))","v":""},{"$f":"IF($J226=\"\",\"\",VLOOKUP($J226,判定式!$Y$3:$Z$12,2,TRUE))","v":""},{"$f":"IF($K226=\"\",\"\",VLOOKUP($K226,判定式!$T$3:$W$12,4,TRUE))","v":""},{"$f":"IF($L226=\"\",\"\",VLOOKUP($L226,判定式!$U$3:$W$12,3,TRUE))","v":""},"",{"$f":"IF(ISNUMBER(D226),\"判定外\",IF(C226=6,VLOOKUP(U226,判定式!$C$15:I$19,7,TRUE),IF(C226=7,VLOOKUP(U226,判定式!$D$15:I$19,6,TRUE),IF(C226=8,VLOOKUP(U226,判定式!$E$15:I$19,5,TRUE),IF(C226=9,VLOOKUP(U226,判定式!$F$15:I$19,4,TRUE),IF(C226=10,VLOOKUP(U226,判定式!$G$15:I$19,3,TRUE),IF(C226=11,VLOOKUP(U226,判定式!$H$15:I$19,2,TRUE))))))))","v":false}]
[78,null,null,"-",null,null,null,null,null,null,null,null,{"$f":"IF($E227=\"\",\"\",VLOOKUP($E227,判定式!$P$3:$W$12,8,TRUE))","v":""},{"$f":"IF($F227=\"\",\"\",VLOOKUP($F227,判定式!$Q$3:$W$12,7,TRUE))","v":""},{"$f":"IF($G227=\"\",\"\",VLOOKUP($G227,判定式!$R$3:$W$12,6,TRUE))","v":""},{"$f":"IF($H227=\"\",\"\",VLOOKUP($H227,判定式!$S$3:$W$12,5,TRUE))","v":""},{"$f":"IF($I227=\"\",\"\",VLOOKUP($I227,判定式!$V$3:$W$12,2,TRUE))","v":""},{"$f":"IF($J227=\"\",\"\",VLOOKUP($J227,判定式!$Y$3:$Z$12,2,TRUE))","v":""},{"$f":"IF($K227=\"\",\"\",VLOOKUP($K227,判定式!$T$3:$W$12,4,TRUE))","v":""},{"$f":"IF($L227=\"\",\"\",VLOOKUP($L227,判定式!$U$3:$W$12,3,TRUE))","v":""},"",{"$f":"IF(ISNUMBER(D227),\"判定外\",IF(C227=6,VLOOKUP(U227,判定式!$C$15:I$19,7,TRUE),IF(C227=7,VLOOKUP(U227,判定式!$D$15:I$19,6,TRUE),IF(C227=8,VLOOKUP(U227,判定式!$E$15:I$19,5,TRUE),IF(C227=9,VLOOKUP(U227,判定式!$F$15:I$19,4,TRUE),IF(C227=10,VLOOKUP(U227,判定式!$G$15:I$19,3,TRUE),IF(C227=11,VLOOKUP(U227,判定式!$H$15:I$19,2,TRUE))))))))","v":false}]
[79,null,null,"-",null,null,null,null,null,null,null,null,{"$f":"IF($E228=\"\",\"\",VLOOKUP($E228,判定式!$P$3:$W$12,8,TRUE))","v":""},{"$f":"IF($F228=\"\",\"\",VLOOKUP($F228,判定式!$Q$3:$W$12,7,TRUE))","v":""},{"$f":"IF($G228=\"\",\"\",VLOOKUP($G228,判定式!$R$3:$W$12,6,TRUE))","v":""},{"$f":"IF($H228=\"\",\"\",VLOOKUP($H228,判定式!$S$3:$W$12,5,TRUE))","v":""},{"$f":"IF($I228=\"\",\"\",VLOOKUP($I228,判定式!$V$3:$W$12,2,TRUE))","v":""},{"$f":"IF($J228=\"\",\"\",VLOOKUP($J228,判定式!$Y$3:$Z$12,2,TRUE))","v":""},{"$f":"IF($K228=\"\",\"\",VLOOKUP($K228,判定式!$T$3:$W$12,4,TRUE))","v":""},{"$f":"IF($L228=\"\",\"\",VLOOKUP($L228,判定式!$U$3:$W$12,3,TRUE))","v":""},"",{"$f":"IF(ISNUMBER(D228),\"判定外\",IF(C228=6,VLOOKUP(U228,判定式!$C$15:I$19,7,TRUE),IF(C228=7,VLOOKUP(U228,判定式!$D$15:I$19,6,TRUE),IF(C228=8,VLOOKUP(U228,判定式!$E$15:I$19,5,TRUE),IF(C228=9,VLOOKUP(U228,判定式!$F$15:I$19,4,TRUE),IF(C228=10,VLOOKUP(U228,判定式!$G$15:I$19,3,TRUE),IF(C228=11,VLOOKUP(U228,判定式!$H$15:I$19,2,TRUE))))))))","v":false}]
[80,null,null,"-",null,null,null,null,null,null,null,null,{"$f":"IF($E229=\"\",\"\",VLOOKUP($E229,判定式!$P$3:$W$12,8,TRUE))","v":""},{"$f":"IF($F229=\"\",\"\",VLOOKUP($F229,判定式!$Q$3:$W$12,7,TRUE))","v":""},{"$f":"IF($G229=\"\",\"\",VLOOKUP($G229,判定式!$R$3:$W$12,6,TRUE))","v":""},{"$f":"IF($H229=\"\",\"\",VLOOKUP($H229,判定式!$S$3:$W$12,5,TRUE))","v":""},{"$f":"IF($I229=\"\",\"\",VLOOKUP($I229,判定式!$V$3:$W$12,2,TRUE))","v":""},{"$f":"IF($J229=\"\",\"\",VLOOKUP($J229,判定式!$Y$3:$Z$12,2,TRUE))","v":""},{"$f":"IF($K229=\"\",\"\",VLOOKUP($K229,判定式!$T$3:$W$12,4,TRUE))","v":""},{"$f":"IF($L229=\"\",\"\",VLOOKUP($L229,判定式!$U$3:$W$12,3,TRUE))","v":""},"",{"$f":"IF(ISNUMBER(D229),\"判定外\",IF(C229=6,VLOOKUP(U229,判定式!$C$15:I$19,7,TRUE),IF(C229=7,VLOOKUP(U229,判定式!$D$15:I$19,6,TRUE),IF(C229=8,VLOOKUP(U229,判定式!$E$15:I$19,5,TRUE),IF(C229=9,VLOOKUP(U229,判定式!$F$15:I$19,4,TRUE),IF(C229=10,VLOOKUP(U229,判定式!$G$15:I$19,3,TRUE),IF(C229=11,VLOOKUP(U229,判定式!$H$15:I$19,2,TRUE))))))))","v":false}]
[81,null,null,"-",null,null,null,null,null,null,null,null,{"$f":"IF($E230=\"\",\"\",VLOOKUP($E230,判定式!$P$3:$W$12,8,TRUE))","v":""},{"$f":"IF($F230=\"\",\"\",VLOOKUP($F230,判定式!$Q$3:$W$12,7,TRUE))","v":""},{"$f":"IF($G230=\"\",\"\",VLOOKUP($G230,判定式!$R$3:$W$12,6,TRUE))","v":""},{"$f":"IF($H230=\"\",\"\",VLOOKUP($H230,判定式!$S$3:$W$12,5,TRUE))","v":""},{"$f":"IF($I230=\"\",\"\",VLOOKUP($I230,判定式!$V$3:$W$12,2,TRUE))","v":""},{"$f":"IF($J230=\"\",\"\",VLOOKUP($J230,判定式!$Y$3:$Z$12,2,TRUE))","v":""},{"$f":"IF($K230=\"\",\"\",VLOOKUP($K230,判定式!$T$3:$W$12,4,TRUE))","v":""},{"$f":"IF($L230=\"\",\"\",VLOOKUP($L230,判定式!$U$3:$W$12,3,TRUE))","v":""},"",{"$f":"IF(ISNUMBER(D230),\"判定外\",IF(C230=6,VLOOKUP(U230,判定式!$C$15:I$19,7,TRUE),IF(C230=7,VLOOKUP(U230,判定式!$D$15:I$19,6,TRUE),IF(C230=8,VLOOKUP(U230,判定式!$E$15:I$19,5,TRUE),IF(C230=9,VLOOKUP(U230,判定式!$F$15:I$19,4,TRUE),IF(C230=10,VLOOKUP(U230,判定式!$G$15:I$19,3,TRUE),IF(C230=11,VLOOKUP(U230,判定式!$H$15:I$19,2,TRUE))))))))","v":false}]
[82,null,null,"-",null,null,null,null,null,null,null,null,{"$f":"IF($E231=\"\",\"\",VLOOKUP($E231,判定式!$P$3:$W$12,8,TRUE))","v":""},{"$f":"IF($F231=\"\",\"\",VLOOKUP($F231,判定式!$Q$3:$W$12,7,TRUE))","v":""},{"$f":"IF($G231=\"\",\"\",VLOOKUP($G231,判定式!$R$3:$W$12,6,TRUE))","v":""},{"$f":"IF($H231=\"\",\"\",VLOOKUP($H231,判定式!$S$3:$W$12,5,TRUE))","v":""},{"$f":"IF($I231=\"\",\"\",VLOOKUP($I231,判定式!$V$3:$W$12,2,TRUE))","v":""},{"$f":"IF($J231=\"\",\"\",VLOOKUP($J231,判定式!$Y$3:$Z$12,2,TRUE))","v":""},{"$f":"IF($K231=\"\",\"\",VLOOKUP($K231,判定式!$T$3:$W$12,4,TRUE))","v":""},{"$f":"IF($L231=\"\",\"\",VLOOKUP($L231,判定式!$U$3:$W$12,3,TRUE))","v":""},"",{"$f":"IF(ISNUMBER(D231),\"判定外\",IF(C231=6,VLOOKUP(U231,判定式!$C$15:I$19,7,TRUE),IF(C231=7,VLOOKUP(U231,判定式!$D$15:I$19,6,TRUE),IF(C231=8,VLOOKUP(U231,判定式!$E$15:I$19,5,TRUE),IF(C231=9,VLOOKUP(U231,判定式!$F$15:I$19,4,TRUE),IF(C231=10,VLOOKUP(U231,判定式!$G$15:I$19,3,TRUE),IF(C231=11,VLOOKUP(U231,判定式!$H$15:I$19,2,TRUE))))))))","v":false}]
[83,null,null,"-",null,null,null,null,null,null,null,null,{"$f":"IF($E232=\"\",\"\",VLOOKUP($E232,判定式!$P$3:$W$12,8,TRUE))","v":""},{"$f":"IF($F232=\"\",\"\",VLOOKUP($F232,判定式!$Q$3:$W$12,7,TRUE))","v":""},{"$f":"IF($G232=\"\",\"\",VLOOKUP($G232,判定式!$R$3:$W$12,6,TRUE))","v":""},{"$f":"IF($H232=\"\",\"\",VLOOKUP($H232,判定式!$S$3:$W$12,5,TRUE))","v":""},{"$f":"IF($I232=\"\",\"\",VLOOKUP($I232,判定式!$V$3:$W$12,2,TRUE))","v":""},{"$f":"IF($J232=\"\",\"\",VLOOKUP($J232,判定式!$Y$3:$Z$12,2,TRUE))","v":""},{"$f":"IF($K232=\"\",\"\",VLOOKUP($K232,判定式!$T$3:$W$12,4,TRUE))","v":""},{"$f":"IF($L232=\"\",\"\",VLOOKUP($L232,判定式!$U$3:$W$12,3,TRUE))","v":""},"",{"$f":"IF(ISNUMBER(D232),\"判定外\",IF(C232=6,VLOOKUP(U232,判定式!$C$15:I$19,7,TRUE),IF(C232=7,VLOOKUP(U232,判定式!$D$15:I$19,6,TRUE),IF(C232=8,VLOOKUP(U232,判定式!$E$15:I$19,5,TRUE),IF(C232=9,VLOOKUP(U232,判定式!$F$15:I$19,4,TRUE),IF(C232=10,VLOOKUP(U232,判定式!$G$15:I$19,3,TRUE),IF(C232=11,VLOOKUP(U232,判定式!$H$15:I$19,2,TRUE))))))))","v":false}]
[84,null,null,"-",null,null,null,null,null,null,null,null,{"$f":"IF($E233=\"\",\"\",VLOOKUP($E233,判定式!$P$3:$W$12,8,TRUE))","v":""},{"$f":"IF($F233=\"\",\"\",VLOOKUP($F233,判定式!$Q$3:$W$12,7,TRUE))","v":""},{"$f":"IF($G233=\"\",\"\",VLOOKUP($G233,判定式!$R$3:$W$12,6,TRUE))","v":""},{"$f":"IF($H233=\"\",\"\",VLOOKUP($H233,判定式!$S$3:$W$12,5,TRUE))","v":""},{"$f":"IF($I233=\"\",\"\",VLOOKUP($I233,判定式!$V$3:$W$12,2,TRUE))","v":""},{"$f":"IF($J233=\"\",\"\",VLOOKUP($J233,判定式!$Y$3:$Z$12,2,TRUE))","v":""},{"$f":"IF($K233=\"\",\"\",VLOOKUP($K233,判定式!$T$3:$W$12,4,TRUE))","v":""},{"$f":"IF($L233=\"\",\"\",VLOOKUP($L233,判定式!$U$3:$W$12,3,TRUE))","v":""},"",{"$f":"IF(ISNUMBER(D233),\"判定外\",IF(C233=6,VLOOKUP(U233,判定式!$C$15:I$19,7,TRUE),IF(C233=7,VLOOKUP(U233,判定式!$D$15:I$19,6,TRUE),IF(C233=8,VLOOKUP(U233,判定式!$E$15:I$19,5,TRUE),IF(C233=9,VLOOKUP(U233,判定式!$F$15:I$19,4,TRUE),IF(C233=10,VLOOKUP(U233,判定式!$G$15:I$19,3,TRUE),IF(C233=11,VLOOKUP(U233,判定式!$H$15:I$19,2,TRUE))))))))","v":false}]
[85,null,null,"-",null,null,null,null,null,null,null,null,{"$f":"IF($E234=\"\",\"\",VLOOKUP($E234,判定式!$P$3:$W$12,8,TRUE))","v":""},{"$f":"IF($F234=\"\",\"\",VLOOKUP($F234,判定式!$Q$3:$W$12,7,TRUE))","v":""},{"$f":"IF($G234=\"\",\"\",VLOOKUP($G234,判定式!$R$3:$W$12,6,TRUE))","v":""},{"$f":"IF($H234=\"\",\"\",VLOOKUP($H234,判定式!$S$3:$W$12,5,TRUE))","v":""},{"$f":"IF($I234=\"\",\"\",VLOOKUP($I234,判定式!$V$3:$W$12,2,TRUE))","v":""},{"$f":"IF($J234=\"\",\"\",VLOOKUP($J234,判定式!$Y$3:$Z$12,2,TRUE))","v":""},{"$f":"IF($K234=\"\",\"\",VLOOKUP($K234,判定式!$T$3:$W$12,4,TRUE))","v":""},{"$f":"IF($L234=\"\",\"\",VLOOKUP($L234,判定式!$U$3:$W$12,3,TRUE))","v":""},"",{"$f":"IF(ISNUMBER(D234),\"判定外\",IF(C234=6,VLOOKUP(U234,判定式!$C$15:I$19,7,TRUE),IF(C234=7,VLOOKUP(U234,判定式!$D$15:I$19,6,TRUE),IF(C234=8,VLOOKUP(U234,判定式!$E$15:I$19,5,TRUE),IF(C234=9,VLOOKUP(U234,判定式!$F$15:I$19,4,TRUE),IF(C234=10,VLOOKUP(U234,判定式!$G$15:I$19,3,TRUE),IF(C234=11,VLOOKUP(U234,判定式!$H$15:I$19,2,TRUE))))))))","v":false}]
[86,null,null,"-",null,null,null,null,null,null,null,null,{"$f":"IF($E235=\"\",\"\",VLOOKUP($E235,判定式!$P$3:$W$12,8,TRUE))","v":""},{"$f":"IF($F235=\"\",\"\",VLOOKUP($F235,判定式!$Q$3:$W$12,7,TRUE))","v":""},{"$f":"IF($G235=\"\",\"\",VLOOKUP($G235,判定式!$R$3:$W$12,6,TRUE))","v":""},{"$f":"IF($H235=\"\",\"\",VLOOKUP($H235,判定式!$S$3:$W$12,5,TRUE))","v":""},{"$f":"IF($I235=\"\",\"\",VLOOKUP($I235,判定式!$V$3:$W$12,2,TRUE))","v":""},{"$f":"IF($J235=\"\",\"\",VLOOKUP($J235,判定式!$Y$3:$Z$12,2,TRUE))","v":""},{"$f":"IF($K235=\"\",\"\",VLOOKUP($K235,判定式!$T$3:$W$12,4,TRUE))","v":""},{"$f":"IF($L235=\"\",\"\",VLOOKUP($L235,判定式!$U$3:$W$12,3,TRUE))","v":""},"",{"$f":"IF(ISNUMBER(D235),\"判定外\",IF(C235=6,VLOOKUP(U235,判定式!$C$15:I$19,7,TRUE),IF(C235=7,VLOOKUP(U235,判定式!$D$15:I$19,6,TRUE),IF(C235=8,VLOOKUP(U235,判定式!$E$15:I$19,5,TRUE),IF(C235=9,VLOOKUP(U235,判定式!$F$15:I$19,4,TRUE),IF(C235=10,VLOOKUP(U235,判定式!$G$15:I$19,3,TRUE),IF(C235=11,VLOOKUP(U235,判定式!$H$15:I$19,2,TRUE))))))))","v":false}]
[87,null,null,"-",null,null,null,null,null,null,null,null,{"$f":"IF($E236=\"\",\"\",VLOOKUP($E236,判定式!$P$3:$W$12,8,TRUE))","v":""},{"$f":"IF($F236=\"\",\"\",VLOOKUP($F236,判定式!$Q$3:$W$12,7,TRUE))","v":""},{"$f":"IF($G236=\"\",\"\",VLOOKUP($G236,判定式!$R$3:$W$12,6,TRUE))","v":""},{"$f":"IF($H236=\"\",\"\",VLOOKUP($H236,判定式!$S$3:$W$12,5,TRUE))","v":""},{"$f":"IF($I236=\"\",\"\",VLOOKUP($I236,判定式!$V$3:$W$12,2,TRUE))","v":""},{"$f":"IF($J236=\"\",\"\",VLOOKUP($J236,判定式!$Y$3:$Z$12,2,TRUE))","v":""},{"$f":"IF($K236=\"\",\"\",VLOOKUP($K236,判定式!$T$3:$W$12,4,TRUE))","v":""},{"$f":"IF($L236=\"\",\"\",VLOOKUP($L236,判定式!$U$3:$W$12,3,TRUE))","v":""},"",{"$f":"IF(ISNUMBER(D236),\"判定外\",IF(C236=6,VLOOKUP(U236,判定式!$C$15:I$19,7,TRUE),IF(C236=7,VLOOKUP(U236,判定式!$D$15:I$19,6,TRUE),IF(C236=8,VLOOKUP(U236,判定式!$E$15:I$19,5,TRUE),IF(C236=9,VLOOKUP(U236,判定式!$F$15:I$19,4,TRUE),IF(C236=10,VLOOKUP(U236,判定式!$G$15:I$19,3,TRUE),IF(C236=11,VLOOKUP(U236,判定式!$H$15:I$19,2,TRUE))))))))","v":false}]
[88,null,null,"-",null,null,null,null,null,null,null,null,{"$f":"IF($E237=\"\",\"\",VLOOKUP($E237,判定式!$P$3:$W$12,8,TRUE))","v":""},{"$f":"IF($F237=\"\",\"\",VLOOKUP($F237,判定式!$Q$3:$W$12,7,TRUE))","v":""},{"$f":"IF($G237=\"\",\"\",VLOOKUP($G237,判定式!$R$3:$W$12,6,TRUE))","v":""},{"$f":"IF($H237=\"\",\"\",VLOOKUP($H237,判定式!$S$3:$W$12,5,TRUE))","v":""},{"$f":"IF($I237=\"\",\"\",VLOOKUP($I237,判定式!$V$3:$W$12,2,TRUE))","v":""},{"$f":"IF($J237=\"\",\"\",VLOOKUP($J237,判定式!$Y$3:$Z$12,2,TRUE))","v":""},{"$f":"IF($K237=\"\",\"\",VLOOKUP($K237,判定式!$T$3:$W$12,4,TRUE))","v":""},{"$f":"IF($L237=\"\",\"\",VLOOKUP($L237,判定式!$U$3:$W$12,3,TRUE))","v":""},"",{"$f":"IF(ISNUMBER(D237),\"判定外\",IF(C237=6,VLOOKUP(U237,判定式!$C$15:I$19,7,TRUE),IF(C237=7,VLOOKUP(U237,判定式!$D$15:I$19,6,TRUE),IF(C237=8,VLOOKUP(U237,判定式!$E$15:I$19,5,TRUE),IF(C237=9,VLOOKUP(U237,判定式!$F$15:I$19,4,TRUE),IF(C237=10,VLOOKUP(U237,判定式!$G$15:I$19,3,TRUE),IF(C237=11,VLOOKUP(U237,判定式!$H$15:I$19,2,TRUE))))))))","v":false}]
[89,null,null,"-",null,null,null,null,null,null,null,null,{"$f":"IF($E238=\"\",\"\",VLOOKUP($E238,判定式!$P$3:$W$12,8,TRUE))","v":""},{"$f":"IF($F238=\"\",\"\",VLOOKUP($F238,判定式!$Q$3:$W$12,7,TRUE))","v":""},{"$f":"IF($G238=\"\",\"\",VLOOKUP($G238,判定式!$R$3:$W$12,6,TRUE))","v":""},{"$f":"IF($H238=\"\",\"\",VLOOKUP($H238,判定式!$S$3:$W$12,5,TRUE))","v":""},{"$f":"IF($I238=\"\",\"\",VLOOKUP($I238,判定式!$V$3:$W$12,2,TRUE))","v":""},{"$f":"IF($J238=\"\",\"\",VLOOKUP($J238,判定式!$Y$3:$Z$12,2,TRUE))","v":""},{"$f":"IF($K238=\"\",\"\",VLOOKUP($K238,判定式!$T$3:$W$12,4,TRUE))","v":""},{"$f":"IF($L238=\"\",\"\",VLOOKUP($L238,判定式!$U$3:$W$12,3,TRUE))","v":""},"",{"$f":"IF(ISNUMBER(D238),\"判定外\",IF(C238=6,VLOOKUP(U238,判定式!$C$15:I$19,7,TRUE),IF(C238=7,VLOOKUP(U238,判定式!$D$15:I$19,6,TRUE),IF(C238=8,VLOOKUP(U238,判定式!$E$15:I$19,5,TRUE),IF(C238=9,VLOOKUP(U238,判定式!$F$15:I$19,4,TRUE),IF(C238=10,VLOOKUP(U238,判定式!$G$15:I$19,3,TRUE),IF(C238=11,VLOOKUP(U238,判定式!$H$15:I$19,2,TRUE))))))))","v":false}]
[90,null,null,"-",null,null,null,null,null,null,null,null,{"$f":"IF($E239=\"\",\"\",VLOOKUP($E239,判定式!$P$3:$W$12,8,TRUE))","v":""},{"$f":"IF($F239=\"\",\"\",VLOOKUP($F239,判定式!$Q$3:$W$12,7,TRUE))","v":""},{"$f":"IF($G239=\"\",\"\",VLOOKUP($G239,判定式!$R$3:$W$12,6,TRUE))","v":""},{"$f":"IF($H239=\"\",\"\",VLOOKUP($H239,判定式!$S$3:$W$12,5,TRUE))","v":""},{"$f":"IF($I239=\"\",\"\",VLOOKUP($I239,判定式!$V$3:$W$12,2,TRUE))","v":""},{"$f":"IF($J239=\"\",\"\",VLOOKUP($J239,判定式!$Y$3:$Z$12,2,TRUE))","v":""},{"$f":"IF($K239=\"\",\"\",VLOOKUP($K239,判定式!$T$3:$W$12,4,TRUE))","v":""},{"$f":"IF($L239=\"\",\"\",VLOOKUP($L239,判定式!$U$3:$W$12,3,TRUE))","v":""},"",{"$f":"IF(ISNUMBER(D239),\"判定外\",IF(C239=6,VLOOKUP(U239,判定式!$C$15:I$19,7,TRUE),IF(C239=7,VLOOKUP(U239,判定式!$D$15:I$19,6,TRUE),IF(C239=8,VLOOKUP(U239,判定式!$E$15:I$19,5,TRUE),IF(C239=9,VLOOKUP(U239,判定式!$F$15:I$19,4,TRUE),IF(C239=10,VLOOKUP(U239,判定式!$G$15:I$19,3,TRUE),IF(C239=11,VLOOKUP(U239,判定式!$H$15:I$19,2,TRUE))))))))","v":false}]
[91,null,null,"-",null,null,null,null,null,null,null,null,{"$f":"IF($E240=\"\",\"\",VLOOKUP($E240,判定式!$P$3:$W$12,8,TRUE))","v":""},{"$f":"IF($F240=\"\",\"\",VLOOKUP($F240,判定式!$Q$3:$W$12,7,TRUE))","v":""},{"$f":"IF($G240=\"\",\"\",VLOOKUP($G240,判定式!$R$3:$W$12,6,TRUE))","v":""},{"$f":"IF($H240=\"\",\"\",VLOOKUP($H240,判定式!$S$3:$W$12,5,TRUE))","v":""},{"$f":"IF($I240=\"\",\"\",VLOOKUP($I240,判定式!$V$3:$W$12,2,TRUE))","v":""},{"$f":"IF($J240=\"\",\"\",VLOOKUP($J240,判定式!$Y$3:$Z$12,2,TRUE))","v":""},{"$f":"IF($K240=\"\",\"\",VLOOKUP($K240,判定式!$T$3:$W$12,4,TRUE))","v":""},{"$f":"IF($L240=\"\",\"\",VLOOKUP($L240,判定式!$U$3:$W$12,3,TRUE))","v":""},"",{"$f":"IF(ISNUMBER(D240),\"判定外\",IF(C240=6,VLOOKUP(U240,判定式!$C$15:I$19,7,TRUE),IF(C240=7,VLOOKUP(U240,判定式!$D$15:I$19,6,TRUE),IF(C240=8,VLOOKUP(U240,判定式!$E$15:I$19,5,TRUE),IF(C240=9,VLOOKUP(U240,判定式!$F$15:I$19,4,TRUE),IF(C240=10,VLOOKUP(U240,判定式!$G$15:I$19,3,TRUE),IF(C240=11,VLOOKUP(U240,判定式!$H$15:I$19,2,TRUE))))))))","v":false}]
[92,null,null,"-",null,null,null,null,null,null,null,null,{"$f":"IF($E241=\"\",\"\",VLOOKUP($E241,判定式!$P$3:$W$12,8,TRUE))","v":""},{"$f":"IF($F241=\"\",\"\",VLOOKUP($F241,判定式!$Q$3:$W$12,7,TRUE))","v":""},{"$f":"IF($G241=\"\",\"\",VLOOKUP($G241,判定式!$R$3:$W$12,6,TRUE))","v":""},{"$f":"IF($H241=\"\",\"\",VLOOKUP($H241,判定式!$S$3:$W$12,5,TRUE))","v":""},{"$f":"IF($I241=\"\",\"\",VLOOKUP($I241,判定式!$V$3:$W$12,2,TRUE))","v":""},{"$f":"IF($J241=\"\",\"\",VLOOKUP($J241,判定式!$Y$3:$Z$12,2,TRUE))","v":""},{"$f":"IF($K241=\"\",\"\",VLOOKUP($K241,判定式!$T$3:$W$12,4,TRUE))","v":""},{"$f":"IF($L241=\"\",\"\",VLOOKUP($L241,判定式!$U$3:$W$12,3,TRUE))","v":""},"",{"$f":"IF(ISNUMBER(D241),\"判定外\",IF(C241=6,VLOOKUP(U241,判定式!$C$15:I$19,7,TRUE),IF(C241=7,VLOOKUP(U241,判定式!$D$15:I$19,6,TRUE),IF(C241=8,VLOOKUP(U241,判定式!$E$15:I$19,5,TRUE),IF(C241=9,VLOOKUP(U241,判定式!$F$15:I$19,4,TRUE),IF(C241=10,VLOOKUP(U241,判定式!$G$15:I$19,3,TRUE),IF(C241=11,VLOOKUP(U241,判定式!$H$15:I$19,2,TRUE))))))))","v":false}]
[93,null,null,"-",null,null,null,null,null,null,null,null,{"$f":"IF($E242=\"\",\"\",VLOOKUP($E242,判定式!$P$3:$W$12,8,TRUE))","v":""},{"$f":"IF($F242=\"\",\"\",VLOOKUP($F242,判定式!$Q$3:$W$12,7,TRUE))","v":""},{"$f":"IF($G242=\"\",\"\",VLOOKUP($G242,判定式!$R$3:$W$12,6,TRUE))","v":""},{"$f":"IF($H242=\"\",\"\",VLOOKUP($H242,判定式!$S$3:$W$12,5,TRUE))","v":""},{"$f":"IF($I242=\"\",\"\",VLOOKUP($I242,判定式!$V$3:$W$12,2,TRUE))","v":""},{"$f":"IF($J242=\"\",\"\",VLOOKUP($J242,判定式!$Y$3:$Z$12,2,TRUE))","v":""},{"$f":"IF($K242=\"\",\"\",VLOOKUP($K242,判定式!$T$3:$W$12,4,TRUE))","v":""},{"$f":"IF($L242=\"\",\"\",VLOOKUP($L242,判定式!$U$3:$W$12,3,TRUE))","v":""},"",{"$f":"IF(ISNUMBER(D242),\"判定外\",IF(C242=6,VLOOKUP(U242,判定式!$C$15:I$19,7,TRUE),IF(C242=7,VLOOKUP(U242,判定式!$D$15:I$19,6,TRUE),IF(C242=8,VLOOKUP(U242,判定式!$E$15:I$19,5,TRUE),IF(C242=9,VLOOKUP(U242,判定式!$F$15:I$19,4,TRUE),IF(C242=10,VLOOKUP(U242,判定式!$G$15:I$19,3,TRUE),IF(C242=11,VLOOKUP(U242,判定式!$H$15:I$19,2,TRUE))))))))","v":false}]
[94,null,null,"-",null,null,null,null,null,null,null,null,{"$f":"IF($E243=\"\",\"\",VLOOKUP($E243,判定式!$P$3:$W$12,8,TRUE))","v":""},{"$f":"IF($F243=\"\",\"\",VLOOKUP($F243,判定式!$Q$3:$W$12,7,TRUE))","v":""},{"$f":"IF($G243=\"\",\"\",VLOOKUP($G243,判定式!$R$3:$W$12,6,TRUE))","v":""},{"$f":"IF($H243=\"\",\"\",VLOOKUP($H243,判定式!$S$3:$W$12,5,TRUE))","v":""},{"$f":"IF($I243=\"\",\"\",VLOOKUP($I243,判定式!$V$3:$W$12,2,TRUE))","v":""},{"$f":"IF($J243=\"\",\"\",VLOOKUP($J243,判定式!$Y$3:$Z$12,2,TRUE))","v":""},{"$f":"IF($K243=\"\",\"\",VLOOKUP($K243,判定式!$T$3:$W$12,4,TRUE))","v":""},{"$f":"IF($L243=\"\",\"\",VLOOKUP($L243,判定式!$U$3:$W$12,3,TRUE))","v":""},"",{"$f":"IF(ISNUMBER(D243),\"判定外\",IF(C243=6,VLOOKUP(U243,判定式!$C$15:I$19,7,TRUE),IF(C243=7,VLOOKUP(U243,判定式!$D$15:I$19,6,TRUE),IF(C243=8,VLOOKUP(U243,判定式!$E$15:I$19,5,TRUE),IF(C243=9,VLOOKUP(U243,判定式!$F$15:I$19,4,TRUE),IF(C243=10,VLOOKUP(U243,判定式!$G$15:I$19,3,TRUE),IF(C243=11,VLOOKUP(U243,判定式!$H$15:I$19,2,TRUE))))))))","v":false}]
[95,null,null,"-",null,null,null,null,null,null,null,null,{"$f":"IF($E244=\"\",\"\",VLOOKUP($E244,判定式!$P$3:$W$12,8,TRUE))","v":""},{"$f":"IF($F244=\"\",\"\",VLOOKUP($F244,判定式!$Q$3:$W$12,7,TRUE))","v":""},{"$f":"IF($G244=\"\",\"\",VLOOKUP($G244,判定式!$R$3:$W$12,6,TRUE))","v":""},{"$f":"IF($H244=\"\",\"\",VLOOKUP($H244,判定式!$S$3:$W$12,5,TRUE))","v":""},{"$f":"IF($I244=\"\",\"\",VLOOKUP($I244,判定式!$V$3:$W$12,2,TRUE))","v":""},{"$f":"IF($J244=\"\",\"\",VLOOKUP($J244,判定式!$Y$3:$Z$12,2,TRUE))","v":""},{"$f":"IF($K244=\"\",\"\",VLOOKUP($K244,判定式!$T$3:$W$12,4,TRUE))","v":""},{"$f":"IF($L244=\"\",\"\",VLOOKUP($L244,判定式!$U$3:$W$12,3,TRUE))","v":""},"",{"$f":"IF(ISNUMBER(D244),\"判定外\",IF(C244=6,VLOOKUP(U244,判定式!$C$15:I$19,7,TRUE),IF(C244=7,VLOOKUP(U244,判定式!$D$15:I$19,6,TRUE),IF(C244=8,VLOOKUP(U244,判定式!$E$15:I$19,5,TRUE),IF(C244=9,VLOOKUP(U244,判定式!$F$15:I$19,4,TRUE),IF(C244=10,VLOOKUP(U244,判定式!$G$15:I$19,3,TRUE),IF(C244=11,VLOOKUP(U244,判定式!$H$15:I$19,2,TRUE))))))))","v":false}]
[96,null,null,"-",null,null,null,null,null,null,null,null,{"$f":"IF($E245=\"\",\"\",VLOOKUP($E245,判定式!$P$3:$W$12,8,TRUE))","v":""},{"$f":"IF($F245=\"\",\"\",VLOOKUP($F245,判定式!$Q$3:$W$12,7,TRUE))","v":""},{"$f":"IF($G245=\"\",\"\",VLOOKUP($G245,判定式!$R$3:$W$12,6,TRUE))","v":""},{"$f":"IF($H245=\"\",\"\",VLOOKUP($H245,判定式!$S$3:$W$12,5,TRUE))","v":""},{"$f":"IF($I245=\"\",\"\",VLOOKUP($I245,判定式!$V$3:$W$12,2,TRUE))","v":""},{"$f":"IF($J245=\"\",\"\",VLOOKUP($J245,判定式!$Y$3:$Z$12,2,TRUE))","v":""},{"$f":"IF($K245=\"\",\"\",VLOOKUP($K245,判定式!$T$3:$W$12,4,TRUE))","v":""},{"$f":"IF($L245=\"\",\"\",VLOOKUP($L245,判定式!$U$3:$W$12,3,TRUE))","v":""},"",{"$f":"IF(ISNUMBER(D245),\"判定外\",IF(C245=6,VLOOKUP(U245,判定式!$C$15:I$19,7,TRUE),IF(C245=7,VLOOKUP(U245,判定式!$D$15:I$19,6,TRUE),IF(C245=8,VLOOKUP(U245,判定式!$E$15:I$19,5,TRUE),IF(C245=9,VLOOKUP(U245,判定式!$F$15:I$19,4,TRUE),IF(C245=10,VLOOKUP(U245,判定式!$G$15:I$19,3,TRUE),IF(C245=11,VLOOKUP(U245,判定式!$H$15:I$19,2,TRUE))))))))","v":false}]
[97,null,null,{"$f":"IF(COUNTBLANK(E246:L246)=0,\"\",IF(COUNTBLANK(E246:L246)=8,\"-\",COUNTBLANK(E246:L246)))","v":"-"},null,null,null,null,null,null,null,null,{"$f":"IF($E246=\"\",\"\",VLOOKUP($E246,判定式!$P$3:$W$12,8,TRUE))","v":""},{"$f":"IF($F246=\"\",\"\",VLOOKUP($F246,判定式!$Q$3:$W$12,7,TRUE))","v":""},{"$f":"IF($G246=\"\",\"\",VLOOKUP($G246,判定式!$R$3:$W$12,6,TRUE))","v":""},{"$f":"IF($H246=\"\",\"\",VLOOKUP($H246,判定式!$S$3:$W$12,5,TRUE))","v":""},{"$f":"IF($I246=\"\",\"\",VLOOKUP($I246,判定式!$V$3:$W$12,2,TRUE))","v":""},{"$f":"IF($J246=\"\",\"\",VLOOKUP($J246,判定式!$Y$3:$Z$12,2,TRUE))","v":""},{"$f":"IF($K246=\"\",\"\",VLOOKUP($K246,判定式!$T$3:$W$12,4,TRUE))","v":""},{"$f":"IF($L246=\"\",\"\",VLOOKUP($L246,判定式!$U$3:$W$12,3,TRUE))","v":""},"",{"$f":"IF(ISNUMBER(D246),\"判定外\",IF(C246=6,VLOOKUP(U246,判定式!$C$15:I$19,7,TRUE),IF(C246=7,VLOOKUP(U246,判定式!$D$15:I$19,6,TRUE),IF(C246=8,VLOOKUP(U246,判定式!$E$15:I$19,5,TRUE),IF(C246=9,VLOOKUP(U246,判定式!$F$15:I$19,4,TRUE),IF(C246=10,VLOOKUP(U246,判定式!$G$15:I$19,3,TRUE),IF(C246=11,VLOOKUP(U246,判定式!$H$15:I$19,2,TRUE))))))))","v":false}]
[98,null,null,"-",null,null,null,null,null,null,null,null,{"$f":"IF($E247=\"\",\"\",VLOOKUP($E247,判定式!$P$3:$W$12,8,TRUE))","v":""},{"$f":"IF($F247=\"\",\"\",VLOOKUP($F247,判定式!$Q$3:$W$12,7,TRUE))","v":""},{"$f":"IF($G247=\"\",\"\",VLOOKUP($G247,判定式!$R$3:$W$12,6,TRUE))","v":""},{"$f":"IF($H247=\"\",\"\",VLOOKUP($H247,判定式!$S$3:$W$12,5,TRUE))","v":""},{"$f":"IF($I247=\"\",\"\",VLOOKUP($I247,判定式!$V$3:$W$12,2,TRUE))","v":""},{"$f":"IF($J247=\"\",\"\",VLOOKUP($J247,判定式!$Y$3:$Z$12,2,TRUE))","v":""},{"$f":"IF($K247=\"\",\"\",VLOOKUP($K247,判定式!$T$3:$W$12,4,TRUE))","v":""},{"$f":"IF($L247=\"\",\"\",VLOOKUP($L247,判定式!$U$3:$W$12,3,TRUE))","v":""},"",{"$f":"IF(ISNUMBER(D247),\"判定外\",IF(C247=6,VLOOKUP(U247,判定式!$C$15:I$19,7,TRUE),IF(C247=7,VLOOKUP(U247,判定式!$D$15:I$19,6,TRUE),IF(C247=8,VLOOKUP(U247,判定式!$E$15:I$19,5,TRUE),IF(C247=9,VLOOKUP(U247,判定式!$F$15:I$19,4,TRUE),IF(C247=10,VLOOKUP(U247,判定式!$G$15:I$19,3,TRUE),IF(C247=11,VLOOKUP(U247,判定式!$H$15:I$19,2,TRUE))))))))","v":false}]
[99,null,null,"-",null,null,null,null,null,null,null,null,{"$f":"IF($E248=\"\",\"\",VLOOKUP($E248,判定式!$P$3:$W$12,8,TRUE))","v":""},{"$f":"IF($F248=\"\",\"\",VLOOKUP($F248,判定式!$Q$3:$W$12,7,TRUE))","v":""},{"$f":"IF($G248=\"\",\"\",VLOOKUP($G248,判定式!$R$3:$W$12,6,TRUE))","v":""},{"$f":"IF($H248=\"\",\"\",VLOOKUP($H248,判定式!$S$3:$W$12,5,TRUE))","v":""},{"$f":"IF($I248=\"\",\"\",VLOOKUP($I248,判定式!$V$3:$W$12,2,TRUE))","v":""},{"$f":"IF($J248=\"\",\"\",VLOOKUP($J248,判定式!$Y$3:$Z$12,2,TRUE))","v":""},{"$f":"IF($K248=\"\",\"\",VLOOKUP($K248,判定式!$T$3:$W$12,4,TRUE))","v":""},{"$f":"IF($L248=\"\",\"\",VLOOKUP($L248,判定式!$U$3:$W$12,3,TRUE))","v":""},"",{"$f":"IF(ISNUMBER(D248),\"判定外\",IF(C248=6,VLOOKUP(U248,判定式!$C$15:I$19,7,TRUE),IF(C248=7,VLOOKUP(U248,判定式!$D$15:I$19,6,TRUE),IF(C248=8,VLOOKUP(U248,判定式!$E$15:I$19,5,TRUE),IF(C248=9,VLOOKUP(U248,判定式!$F$15:I$19,4,TRUE),IF(C248=10,VLOOKUP(U248,判定式!$G$15:I$19,3,TRUE),IF(C248=11,VLOOKUP(U248,判定式!$H$15:I$19,2,TRUE))))))))","v":false}]
[100,null,null,"-",null,null,null,null,null,null,null,null,{"$f":"IF($E249=\"\",\"\",VLOOKUP($E249,判定式!$P$3:$W$12,8,TRUE))","v":""},{"$f":"IF($F249=\"\",\"\",VLOOKUP($F249,判定式!$Q$3:$W$12,7,TRUE))","v":""},{"$f":"IF($G249=\"\",\"\",VLOOKUP($G249,判定式!$R$3:$W$12,6,TRUE))","v":""},{"$f":"IF($H249=\"\",\"\",VLOOKUP($H249,判定式!$S$3:$W$12,5,TRUE))","v":""},{"$f":"IF($I249=\"\",\"\",VLOOKUP($I249,判定式!$V$3:$W$12,2,TRUE))","v":""},{"$f":"IF($J249=\"\",\"\",VLOOKUP($J249,判定式!$Y$3:$Z$12,2,TRUE))","v":""},{"$f":"IF($K249=\"\",\"\",VLOOKUP($K249,判定式!$T$3:$W$12,4,TRUE))","v":""},{"$f":"IF($L249=\"\",\"\",VLOOKUP($L249,判定式!$U$3:$W$12,3,TRUE))","v":""},"",{"$f":"IF(ISNUMBER(D249),\"判定外\",IF(C249=6,VLOOKUP(U249,判定式!$C$15:I$19,7,TRUE),IF(C249=7,VLOOKUP(U249,判定式!$D$15:I$19,6,TRUE),IF(C249=8,VLOOKUP(U249,判定式!$E$15:I$19,5,TRUE),IF(C249=9,VLOOKUP(U249,判定式!$F$15:I$19,4,TRUE),IF(C249=10,VLOOKUP(U249,判定式!$G$15:I$19,3,TRUE),IF(C249=11,VLOOKUP(U249,判定式!$H$15:I$19,2,TRUE))))))))","v":false}]
[101,null,null,"-",null,null,null,null,null,null,null,null,{"$f":"IF($E250=\"\",\"\",VLOOKUP($E250,判定式!$P$3:$W$12,8,TRUE))","v":""},{"$f":"IF($F250=\"\",\"\",VLOOKUP($F250,判定式!$Q$3:$W$12,7,TRUE))","v":""},{"$f":"IF($G250=\"\",\"\",VLOOKUP($G250,判定式!$R$3:$W$12,6,TRUE))","v":""},{"$f":"IF($H250=\"\",\"\",VLOOKUP($H250,判定式!$S$3:$W$12,5,TRUE))","v":""},{"$f":"IF($I250=\"\",\"\",VLOOKUP($I250,判定式!$V$3:$W$12,2,TRUE))","v":""},{"$f":"IF($J250=\"\",\"\",VLOOKUP($J250,判定式!$Y$3:$Z$12,2,TRUE))","v":""},{"$f":"IF($K250=\"\",\"\",VLOOKUP($K250,判定式!$T$3:$W$12,4,TRUE))","v":""},{"$f":"IF($L250=\"\",\"\",VLOOKUP($L250,判定式!$U$3:$W$12,3,TRUE))","v":""},"",{"$f":"IF(ISNUMBER(D250),\"判定外\",IF(C250=6,VLOOKUP(U250,判定式!$C$15:I$19,7,TRUE),IF(C250=7,VLOOKUP(U250,判定式!$D$15:I$19,6,TRUE),IF(C250=8,VLOOKUP(U250,判定式!$E$15:I$19,5,TRUE),IF(C250=9,VLOOKUP(U250,判定式!$F$15:I$19,4,TRUE),IF(C250=10,VLOOKUP(U250,判定式!$G$15:I$19,3,TRUE),IF(C250=11,VLOOKUP(U250,判定式!$H$15:I$19,2,TRUE))))))))","v":false}]
[102,null,null,"-",null,null,null,null,null,null,null,null,{"$f":"IF($E251=\"\",\"\",VLOOKUP($E251,判定式!$P$3:$W$12,8,TRUE))","v":""},{"$f":"IF($F251=\"\",\"\",VLOOKUP($F251,判定式!$Q$3:$W$12,7,TRUE))","v":""},{"$f":"IF($G251=\"\",\"\",VLOOKUP($G251,判定式!$R$3:$W$12,6,TRUE))","v":""},{"$f":"IF($H251=\"\",\"\",VLOOKUP($H251,判定式!$S$3:$W$12,5,TRUE))","v":""},{"$f":"IF($I251=\"\",\"\",VLOOKUP($I251,判定式!$V$3:$W$12,2,TRUE))","v":""},{"$f":"IF($J251=\"\",\"\",VLOOKUP($J251,判定式!$Y$3:$Z$12,2,TRUE))","v":""},{"$f":"IF($K251=\"\",\"\",VLOOKUP($K251,判定式!$T$3:$W$12,4,TRUE))","v":""},{"$f":"IF($L251=\"\",\"\",VLOOKUP($L251,判定式!$U$3:$W$12,3,TRUE))","v":""},"",{"$f":"IF(ISNUMBER(D251),\"判定外\",IF(C251=6,VLOOKUP(U251,判定式!$C$15:I$19,7,TRUE),IF(C251=7,VLOOKUP(U251,判定式!$D$15:I$19,6,TRUE),IF(C251=8,VLOOKUP(U251,判定式!$E$15:I$19,5,TRUE),IF(C251=9,VLOOKUP(U251,判定式!$F$15:I$19,4,TRUE),IF(C251=10,VLOOKUP(U251,判定式!$G$15:I$19,3,TRUE),IF(C251=11,VLOOKUP(U251,判定式!$H$15:I$19,2,TRUE))))))))","v":false}]
[103,null,null,"-",null,null,null,null,null,null,null,null,{"$f":"IF($E252=\"\",\"\",VLOOKUP($E252,判定式!$P$3:$W$12,8,TRUE))","v":""},{"$f":"IF($F252=\"\",\"\",VLOOKUP($F252,判定式!$Q$3:$W$12,7,TRUE))","v":""},{"$f":"IF($G252=\"\",\"\",VLOOKUP($G252,判定式!$R$3:$W$12,6,TRUE))","v":""},{"$f":"IF($H252=\"\",\"\",VLOOKUP($H252,判定式!$S$3:$W$12,5,TRUE))","v":""},{"$f":"IF($I252=\"\",\"\",VLOOKUP($I252,判定式!$V$3:$W$12,2,TRUE))","v":""},{"$f":"IF($J252=\"\",\"\",VLOOKUP($J252,判定式!$Y$3:$Z$12,2,TRUE))","v":""},{"$f":"IF($K252=\"\",\"\",VLOOKUP($K252,判定式!$T$3:$W$12,4,TRUE))","v":""},{"$f":"IF($L252=\"\",\"\",VLOOKUP($L252,判定式!$U$3:$W$12,3,TRUE))","v":""},"",{"$f":"IF(ISNUMBER(D252),\"判定外\",IF(C252=6,VLOOKUP(U252,判定式!$C$15:I$19,7,TRUE),IF(C252=7,VLOOKUP(U252,判定式!$D$15:I$19,6,TRUE),IF(C252=8,VLOOKUP(U252,判定式!$E$15:I$19,5,TRUE),IF(C252=9,VLOOKUP(U252,判定式!$F$15:I$19,4,TRUE),IF(C252=10,VLOOKUP(U252,判定式!$G$15:I$19,3,TRUE),IF(C252=11,VLOOKUP(U252,判定式!$H$15:I$19,2,TRUE))))))))","v":false}]
[104,null,null,"-",null,null,null,null,null,null,null,null,{"$f":"IF($E253=\"\",\"\",VLOOKUP($E253,判定式!$P$3:$W$12,8,TRUE))","v":""},{"$f":"IF($F253=\"\",\"\",VLOOKUP($F253,判定式!$Q$3:$W$12,7,TRUE))","v":""},{"$f":"IF($G253=\"\",\"\",VLOOKUP($G253,判定式!$R$3:$W$12,6,TRUE))","v":""},{"$f":"IF($H253=\"\",\"\",VLOOKUP($H253,判定式!$S$3:$W$12,5,TRUE))","v":""},{"$f":"IF($I253=\"\",\"\",VLOOKUP($I253,判定式!$V$3:$W$12,2,TRUE))","v":""},{"$f":"IF($J253=\"\",\"\",VLOOKUP($J253,判定式!$Y$3:$Z$12,2,TRUE))","v":""},{"$f":"IF($K253=\"\",\"\",VLOOKUP($K253,判定式!$T$3:$W$12,4,TRUE))","v":""},{"$f":"IF($L253=\"\",\"\",VLOOKUP($L253,判定式!$U$3:$W$12,3,TRUE))","v":""},"",{"$f":"IF(ISNUMBER(D253),\"判定外\",IF(C253=6,VLOOKUP(U253,判定式!$C$15:I$19,7,TRUE),IF(C253=7,VLOOKUP(U253,判定式!$D$15:I$19,6,TRUE),IF(C253=8,VLOOKUP(U253,判定式!$E$15:I$19,5,TRUE),IF(C253=9,VLOOKUP(U253,判定式!$F$15:I$19,4,TRUE),IF(C253=10,VLOOKUP(U253,判定式!$G$15:I$19,3,TRUE),IF(C253=11,VLOOKUP(U253,判定式!$H$15:I$19,2,TRUE))))))))","v":false}]
[105,null,null,"-",null,null,null,null,null,null,null,null,{"$f":"IF($E254=\"\",\"\",VLOOKUP($E254,判定式!$P$3:$W$12,8,TRUE))","v":""},{"$f":"IF($F254=\"\",\"\",VLOOKUP($F254,判定式!$Q$3:$W$12,7,TRUE))","v":""},{"$f":"IF($G254=\"\",\"\",VLOOKUP($G254,判定式!$R$3:$W$12,6,TRUE))","v":""},{"$f":"IF($H254=\"\",\"\",VLOOKUP($H254,判定式!$S$3:$W$12,5,TRUE))","v":""},{"$f":"IF($I254=\"\",\"\",VLOOKUP($I254,判定式!$V$3:$W$12,2,TRUE))","v":""},{"$f":"IF($J254=\"\",\"\",VLOOKUP($J254,判定式!$Y$3:$Z$12,2,TRUE))","v":""},{"$f":"IF($K254=\"\",\"\",VLOOKUP($K254,判定式!$T$3:$W$12,4,TRUE))","v":""},{"$f":"IF($L254=\"\",\"\",VLOOKUP($L254,判定式!$U$3:$W$12,3,TRUE))","v":""},"",{"$f":"IF(ISNUMBER(D254),\"判定外\",IF(C254=6,VLOOKUP(U254,判定式!$C$15:I$19,7,TRUE),IF(C254=7,VLOOKUP(U254,判定式!$D$15:I$19,6,TRUE),IF(C254=8,VLOOKUP(U254,判定式!$E$15:I$19,5,TRUE),IF(C254=9,VLOOKUP(U254,判定式!$F$15:I$19,4,TRUE),IF(C254=10,VLOOKUP(U254,判定式!$G$15:I$19,3,TRUE),IF(C254=11,VLOOKUP(U254,判定式!$H$15:I$19,2,TRUE))))))))","v":false}]
[106,null,null,"-",null,null,null,null,null,null,null,null,{"$f":"IF($E255=\"\",\"\",VLOOKUP($E255,判定式!$P$3:$W$12,8,TRUE))","v":""},{"$f":"IF($F255=\"\",\"\",VLOOKUP($F255,判定式!$Q$3:$W$12,7,TRUE))","v":""},{"$f":"IF($G255=\"\",\"\",VLOOKUP($G255,判定式!$R$3:$W$12,6,TRUE))","v":""},{"$f":"IF($H255=\"\",\"\",VLOOKUP($H255,判定式!$S$3:$W$12,5,TRUE))","v":""},{"$f":"IF($I255=\"\",\"\",VLOOKUP($I255,判定式!$V$3:$W$12,2,TRUE))","v":""},{"$f":"IF($J255=\"\",\"\",VLOOKUP($J255,判定式!$Y$3:$Z$12,2,TRUE))","v":""},{"$f":"IF($K255=\"\",\"\",VLOOKUP($K255,判定式!$T$3:$W$12,4,TRUE))","v":""},{"$f":"IF($L255=\"\",\"\",VLOOKUP($L255,判定式!$U$3:$W$12,3,TRUE))","v":""},"",{"$f":"IF(ISNUMBER(D255),\"判定外\",IF(C255=6,VLOOKUP(U255,判定式!$C$15:I$19,7,TRUE),IF(C255=7,VLOOKUP(U255,判定式!$D$15:I$19,6,TRUE),IF(C255=8,VLOOKUP(U255,判定式!$E$15:I$19,5,TRUE),IF(C255=9,VLOOKUP(U255,判定式!$F$15:I$19,4,TRUE),IF(C255=10,VLOOKUP(U255,判定式!$G$15:I$19,3,TRUE),IF(C255=11,VLOOKUP(U255,判定式!$H$15:I$19,2,TRUE))))))))","v":false}]
[107,null,null,"-",null,null,null,null,null,null,null,null,{"$f":"IF($E256=\"\",\"\",VLOOKUP($E256,判定式!$P$3:$W$12,8,TRUE))","v":""},{"$f":"IF($F256=\"\",\"\",VLOOKUP($F256,判定式!$Q$3:$W$12,7,TRUE))","v":""},{"$f":"IF($G256=\"\",\"\",VLOOKUP($G256,判定式!$R$3:$W$12,6,TRUE))","v":""},{"$f":"IF($H256=\"\",\"\",VLOOKUP($H256,判定式!$S$3:$W$12,5,TRUE))","v":""},{"$f":"IF($I256=\"\",\"\",VLOOKUP($I256,判定式!$V$3:$W$12,2,TRUE))","v":""},{"$f":"IF($J256=\"\",\"\",VLOOKUP($J256,判定式!$Y$3:$Z$12,2,TRUE))","v":""},{"$f":"IF($K256=\"\",\"\",VLOOKUP($K256,判定式!$T$3:$W$12,4,TRUE))","v":""},{"$f":"IF($L256=\"\",\"\",VLOOKUP($L256,判定式!$U$3:$W$12,3,TRUE))","v":""},"",{"$f":"IF(ISNUMBER(D256),\"判定外\",IF(C256=6,VLOOKUP(U256,判定式!$C$15:I$19,7,TRUE),IF(C256=7,VLOOKUP(U256,判定式!$D$15:I$19,6,TRUE),IF(C256=8,VLOOKUP(U256,判定式!$E$15:I$19,5,TRUE),IF(C256=9,VLOOKUP(U256,判定式!$F$15:I$19,4,TRUE),IF(C256=10,VLOOKUP(U256,判定式!$G$15:I$19,3,TRUE),IF(C256=11,VLOOKUP(U256,判定式!$H$15:I$19,2,TRUE))))))))","v":false}]
[108,null,null,"-",null,null,null,null,null,null,null,null,{"$f":"IF($E257=\"\",\"\",VLOOKUP($E257,判定式!$P$3:$W$12,8,TRUE))","v":""},{"$f":"IF($F257=\"\",\"\",VLOOKUP($F257,判定式!$Q$3:$W$12,7,TRUE))","v":""},{"$f":"IF($G257=\"\",\"\",VLOOKUP($G257,判定式!$R$3:$W$12,6,TRUE))","v":""},{"$f":"IF($H257=\"\",\"\",VLOOKUP($H257,判定式!$S$3:$W$12,5,TRUE))","v":""},{"$f":"IF($I257=\"\",\"\",VLOOKUP($I257,判定式!$V$3:$W$12,2,TRUE))","v":""},{"$f":"IF($J257=\"\",\"\",VLOOKUP($J257,判定式!$Y$3:$Z$12,2,TRUE))","v":""},{"$f":"IF($K257=\"\",\"\",VLOOKUP($K257,判定式!$T$3:$W$12,4,TRUE))","v":""},{"$f":"IF($L257=\"\",\"\",VLOOKUP($L257,判定式!$U$3:$W$12,3,TRUE))","v":""},"",{"$f":"IF(ISNUMBER(D257),\"判定外\",IF(C257=6,VLOOKUP(U257,判定式!$C$15:I$19,7,TRUE),IF(C257=7,VLOOKUP(U257,判定式!$D$15:I$19,6,TRUE),IF(C257=8,VLOOKUP(U257,判定式!$E$15:I$19,5,TRUE),IF(C257=9,VLOOKUP(U257,判定式!$F$15:I$19,4,TRUE),IF(C257=10,VLOOKUP(U257,判定式!$G$15:I$19,3,TRUE),IF(C257=11,VLOOKUP(U257,判定式!$H$15:I$19,2,TRUE))))))))","v":false}]
[109,null,null,"-",null,null,null,null,null,null,null,null,{"$f":"IF($E258=\"\",\"\",VLOOKUP($E258,判定式!$P$3:$W$12,8,TRUE))","v":""},{"$f":"IF($F258=\"\",\"\",VLOOKUP($F258,判定式!$Q$3:$W$12,7,TRUE))","v":""},{"$f":"IF($G258=\"\",\"\",VLOOKUP($G258,判定式!$R$3:$W$12,6,TRUE))","v":""},{"$f":"IF($H258=\"\",\"\",VLOOKUP($H258,判定式!$S$3:$W$12,5,TRUE))","v":""},{"$f":"IF($I258=\"\",\"\",VLOOKUP($I258,判定式!$V$3:$W$12,2,TRUE))","v":""},{"$f":"IF($J258=\"\",\"\",VLOOKUP($J258,判定式!$Y$3:$Z$12,2,TRUE))","v":""},{"$f":"IF($K258=\"\",\"\",VLOOKUP($K258,判定式!$T$3:$W$12,4,TRUE))","v":""},{"$f":"IF($L258=\"\",\"\",VLOOKUP($L258,判定式!$U$3:$W$12,3,TRUE))","v":""},"",{"$f":"IF(ISNUMBER(D258),\"判定外\",IF(C258=6,VLOOKUP(U258,判定式!$C$15:I$19,7,TRUE),IF(C258=7,VLOOKUP(U258,判定式!$D$15:I$19,6,TRUE),IF(C258=8,VLOOKUP(U258,判定式!$E$15:I$19,5,TRUE),IF(C258=9,VLOOKUP(U258,判定式!$F$15:I$19,4,TRUE),IF(C258=10,VLOOKUP(U258,判定式!$G$15:I$19,3,TRUE),IF(C258=11,VLOOKUP(U258,判定式!$H$15:I$19,2,TRUE))))))))","v":false}]
[110,null,null,"-",null,null,null,null,null,null,null,null,{"$f":"IF($E259=\"\",\"\",VLOOKUP($E259,判定式!$P$3:$W$12,8,TRUE))","v":""},{"$f":"IF($F259=\"\",\"\",VLOOKUP($F259,判定式!$Q$3:$W$12,7,TRUE))","v":""},{"$f":"IF($G259=\"\",\"\",VLOOKUP($G259,判定式!$R$3:$W$12,6,TRUE))","v":""},{"$f":"IF($H259=\"\",\"\",VLOOKUP($H259,判定式!$S$3:$W$12,5,TRUE))","v":""},{"$f":"IF($I259=\"\",\"\",VLOOKUP($I259,判定式!$V$3:$W$12,2,TRUE))","v":""},{"$f":"IF($J259=\"\",\"\",VLOOKUP($J259,判定式!$Y$3:$Z$12,2,TRUE))","v":""},{"$f":"IF($K259=\"\",\"\",VLOOKUP($K259,判定式!$T$3:$W$12,4,TRUE))","v":""},{"$f":"IF($L259=\"\",\"\",VLOOKUP($L259,判定式!$U$3:$W$12,3,TRUE))","v":""},"",{"$f":"IF(ISNUMBER(D259),\"判定外\",IF(C259=6,VLOOKUP(U259,判定式!$C$15:I$19,7,TRUE),IF(C259=7,VLOOKUP(U259,判定式!$D$15:I$19,6,TRUE),IF(C259=8,VLOOKUP(U259,判定式!$E$15:I$19,5,TRUE),IF(C259=9,VLOOKUP(U259,判定式!$F$15:I$19,4,TRUE),IF(C259=10,VLOOKUP(U259,判定式!$G$15:I$19,3,TRUE),IF(C259=11,VLOOKUP(U259,判定式!$H$15:I$19,2,TRUE))))))))","v":false}]
[111,null,null,"-",null,null,null,null,null,null,null,null,{"$f":"IF($E260=\"\",\"\",VLOOKUP($E260,判定式!$P$3:$W$12,8,TRUE))","v":""},{"$f":"IF($F260=\"\",\"\",VLOOKUP($F260,判定式!$Q$3:$W$12,7,TRUE))","v":""},{"$f":"IF($G260=\"\",\"\",VLOOKUP($G260,判定式!$R$3:$W$12,6,TRUE))","v":""},{"$f":"IF($H260=\"\",\"\",VLOOKUP($H260,判定式!$S$3:$W$12,5,TRUE))","v":""},{"$f":"IF($I260=\"\",\"\",VLOOKUP($I260,判定式!$V$3:$W$12,2,TRUE))","v":""},{"$f":"IF($J260=\"\",\"\",VLOOKUP($J260,判定式!$Y$3:$Z$12,2,TRUE))","v":""},{"$f":"IF($K260=\"\",\"\",VLOOKUP($K260,判定式!$T$3:$W$12,4,TRUE))","v":""},{"$f":"IF($L260=\"\",\"\",VLOOKUP($L260,判定式!$U$3:$W$12,3,TRUE))","v":""},"",{"$f":"IF(ISNUMBER(D260),\"判定外\",IF(C260=6,VLOOKUP(U260,判定式!$C$15:I$19,7,TRUE),IF(C260=7,VLOOKUP(U260,判定式!$D$15:I$19,6,TRUE),IF(C260=8,VLOOKUP(U260,判定式!$E$15:I$19,5,TRUE),IF(C260=9,VLOOKUP(U260,判定式!$F$15:I$19,4,TRUE),IF(C260=10,VLOOKUP(U260,判定式!$G$15:I$19,3,TRUE),IF(C260=11,VLOOKUP(U260,判定式!$H$15:I$19,2,TRUE))))))))","v":false}]
[112,null,null,"-",null,null,null,null,null,null,null,null,{"$f":"IF($E261=\"\",\"\",VLOOKUP($E261,判定式!$P$3:$W$12,8,TRUE))","v":""},{"$f":"IF($F261=\"\",\"\",VLOOKUP($F261,判定式!$Q$3:$W$12,7,TRUE))","v":""},{"$f":"IF($G261=\"\",\"\",VLOOKUP($G261,判定式!$R$3:$W$12,6,TRUE))","v":""},{"$f":"IF($H261=\"\",\"\",VLOOKUP($H261,判定式!$S$3:$W$12,5,TRUE))","v":""},{"$f":"IF($I261=\"\",\"\",VLOOKUP($I261,判定式!$V$3:$W$12,2,TRUE))","v":""},{"$f":"IF($J261=\"\",\"\",VLOOKUP($J261,判定式!$Y$3:$Z$12,2,TRUE))","v":""},{"$f":"IF($K261=\"\",\"\",VLOOKUP($K261,判定式!$T$3:$W$12,4,TRUE))","v":""},{"$f":"IF($L261=\"\",\"\",VLOOKUP($L261,判定式!$U$3:$W$12,3,TRUE))","v":""},"",{"$f":"IF(ISNUMBER(D261),\"判定外\",IF(C261=6,VLOOKUP(U261,判定式!$C$15:I$19,7,TRUE),IF(C261=7,VLOOKUP(U261,判定式!$D$15:I$19,6,TRUE),IF(C261=8,VLOOKUP(U261,判定式!$E$15:I$19,5,TRUE),IF(C261=9,VLOOKUP(U261,判定式!$F$15:I$19,4,TRUE),IF(C261=10,VLOOKUP(U261,判定式!$G$15:I$19,3,TRUE),IF(C261=11,VLOOKUP(U261,判定式!$H$15:I$19,2,TRUE))))))))","v":false}]
[113,null,null,"-",null,null,null,null,null,null,null,null,{"$f":"IF($E262=\"\",\"\",VLOOKUP($E262,判定式!$P$3:$W$12,8,TRUE))","v":""},{"$f":"IF($F262=\"\",\"\",VLOOKUP($F262,判定式!$Q$3:$W$12,7,TRUE))","v":""},{"$f":"IF($G262=\"\",\"\",VLOOKUP($G262,判定式!$R$3:$W$12,6,TRUE))","v":""},{"$f":"IF($H262=\"\",\"\",VLOOKUP($H262,判定式!$S$3:$W$12,5,TRUE))","v":""},{"$f":"IF($I262=\"\",\"\",VLOOKUP($I262,判定式!$V$3:$W$12,2,TRUE))","v":""},{"$f":"IF($J262=\"\",\"\",VLOOKUP($J262,判定式!$Y$3:$Z$12,2,TRUE))","v":""},{"$f":"IF($K262=\"\",\"\",VLOOKUP($K262,判定式!$T$3:$W$12,4,TRUE))","v":""},{"$f":"IF($L262=\"\",\"\",VLOOKUP($L262,判定式!$U$3:$W$12,3,TRUE))","v":""},"",{"$f":"IF(ISNUMBER(D262),\"判定外\",IF(C262=6,VLOOKUP(U262,判定式!$C$15:I$19,7,TRUE),IF(C262=7,VLOOKUP(U262,判定式!$D$15:I$19,6,TRUE),IF(C262=8,VLOOKUP(U262,判定式!$E$15:I$19,5,TRUE),IF(C262=9,VLOOKUP(U262,判定式!$F$15:I$19,4,TRUE),IF(C262=10,VLOOKUP(U262,判定式!$G$15:I$19,3,TRUE),IF(C262=11,VLOOKUP(U262,判定式!$H$15:I$19,2,TRUE))))))))","v":false}]
[114,null,null,"-",null,null,null,null,null,null,null,null,{"$f":"IF($E263=\"\",\"\",VLOOKUP($E263,判定式!$P$3:$W$12,8,TRUE))","v":""},{"$f":"IF($F263=\"\",\"\",VLOOKUP($F263,判定式!$Q$3:$W$12,7,TRUE))","v":""},{"$f":"IF($G263=\"\",\"\",VLOOKUP($G263,判定式!$R$3:$W$12,6,TRUE))","v":""},{"$f":"IF($H263=\"\",\"\",VLOOKUP($H263,判定式!$S$3:$W$12,5,TRUE))","v":""},{"$f":"IF($I263=\"\",\"\",VLOOKUP($I263,判定式!$V$3:$W$12,2,TRUE))","v":""},{"$f":"IF($J263=\"\",\"\",VLOOKUP($J263,判定式!$Y$3:$Z$12,2,TRUE))","v":""},{"$f":"IF($K263=\"\",\"\",VLOOKUP($K263,判定式!$T$3:$W$12,4,TRUE))","v":""},{"$f":"IF($L263=\"\",\"\",VLOOKUP($L263,判定式!$U$3:$W$12,3,TRUE))","v":""},"",{"$f":"IF(ISNUMBER(D263),\"判定外\",IF(C263=6,VLOOKUP(U263,判定式!$C$15:I$19,7,TRUE),IF(C263=7,VLOOKUP(U263,判定式!$D$15:I$19,6,TRUE),IF(C263=8,VLOOKUP(U263,判定式!$E$15:I$19,5,TRUE),IF(C263=9,VLOOKUP(U263,判定式!$F$15:I$19,4,TRUE),IF(C263=10,VLOOKUP(U263,判定式!$G$15:I$19,3,TRUE),IF(C263=11,VLOOKUP(U263,判定式!$H$15:I$19,2,TRUE))))))))","v":false}]
[115,null,null,"-",null,null,null,null,null,null,null,null,{"$f":"IF($E264=\"\",\"\",VLOOKUP($E264,判定式!$P$3:$W$12,8,TRUE))","v":""},{"$f":"IF($F264=\"\",\"\",VLOOKUP($F264,判定式!$Q$3:$W$12,7,TRUE))","v":""},{"$f":"IF($G264=\"\",\"\",VLOOKUP($G264,判定式!$R$3:$W$12,6,TRUE))","v":""},{"$f":"IF($H264=\"\",\"\",VLOOKUP($H264,判定式!$S$3:$W$12,5,TRUE))","v":""},{"$f":"IF($I264=\"\",\"\",VLOOKUP($I264,判定式!$V$3:$W$12,2,TRUE))","v":""},{"$f":"IF($J264=\"\",\"\",VLOOKUP($J264,判定式!$Y$3:$Z$12,2,TRUE))","v":""},{"$f":"IF($K264=\"\",\"\",VLOOKUP($K264,判定式!$T$3:$W$12,4,TRUE))","v":""},{"$f":"IF($L264=\"\",\"\",VLOOKUP($L264,判定式!$U$3:$W$12,3,TRUE))","v":""},"",{"$f":"IF(ISNUMBER(D264),\"判定外\",IF(C264=6,VLOOKUP(U264,判定式!$C$15:I$19,7,TRUE),IF(C264=7,VLOOKUP(U264,判定式!$D$15:I$19,6,TRUE),IF(C264=8,VLOOKUP(U264,判定式!$E$15:I$19,5,TRUE),IF(C264=9,VLOOKUP(U264,判定式!$F$15:I$19,4,TRUE),IF(C264=10,VLOOKUP(U264,判定式!$G$15:I$19,3,TRUE),IF(C264=11,VLOOKUP(U264,判定式!$H$15:I$19,2,TRUE))))))))","v":false}]
[116,null,null,"-",null,null,null,null,null,null,null,null,{"$f":"IF($E265=\"\",\"\",VLOOKUP($E265,判定式!$P$3:$W$12,8,TRUE))","v":""},{"$f":"IF($F265=\"\",\"\",VLOOKUP($F265,判定式!$Q$3:$W$12,7,TRUE))","v":""},{"$f":"IF($G265=\"\",\"\",VLOOKUP($G265,判定式!$R$3:$W$12,6,TRUE))","v":""},{"$f":"IF($H265=\"\",\"\",VLOOKUP($H265,判定式!$S$3:$W$12,5,TRUE))","v":""},{"$f":"IF($I265=\"\",\"\",VLOOKUP($I265,判定式!$V$3:$W$12,2,TRUE))","v":""},{"$f":"IF($J265=\"\",\"\",VLOOKUP($J265,判定式!$Y$3:$Z$12,2,TRUE))","v":""},{"$f":"IF($K265=\"\",\"\",VLOOKUP($K265,判定式!$T$3:$W$12,4,TRUE))","v":""},{"$f":"IF($L265=\"\",\"\",VLOOKUP($L265,判定式!$U$3:$W$12,3,TRUE))","v":""},"",{"$f":"IF(ISNUMBER(D265),\"判定外\",IF(C265=6,VLOOKUP(U265,判定式!$C$15:I$19,7,TRUE),IF(C265=7,VLOOKUP(U265,判定式!$D$15:I$19,6,TRUE),IF(C265=8,VLOOKUP(U265,判定式!$E$15:I$19,5,TRUE),IF(C265=9,VLOOKUP(U265,判定式!$F$15:I$19,4,TRUE),IF(C265=10,VLOOKUP(U265,判定式!$G$15:I$19,3,TRUE),IF(C265=11,VLOOKUP(U265,判定式!$H$15:I$19,2,TRUE))))))))","v":false}]
[117,null,null,"-",null,null,null,null,null,null,null,null,{"$f":"IF($E266=\"\",\"\",VLOOKUP($E266,判定式!$P$3:$W$12,8,TRUE))","v":""},{"$f":"IF($F266=\"\",\"\",VLOOKUP($F266,判定式!$Q$3:$W$12,7,TRUE))","v":""},{"$f":"IF($G266=\"\",\"\",VLOOKUP($G266,判定式!$R$3:$W$12,6,TRUE))","v":""},{"$f":"IF($H266=\"\",\"\",VLOOKUP($H266,判定式!$S$3:$W$12,5,TRUE))","v":""},{"$f":"IF($I266=\"\",\"\",VLOOKUP($I266,判定式!$V$3:$W$12,2,TRUE))","v":""},{"$f":"IF($J266=\"\",\"\",VLOOKUP($J266,判定式!$Y$3:$Z$12,2,TRUE))","v":""},{"$f":"IF($K266=\"\",\"\",VLOOKUP($K266,判定式!$T$3:$W$12,4,TRUE))","v":""},{"$f":"IF($L266=\"\",\"\",VLOOKUP($L266,判定式!$U$3:$W$12,3,TRUE))","v":""},"",{"$f":"IF(ISNUMBER(D266),\"判定外\",IF(C266=6,VLOOKUP(U266,判定式!$C$15:I$19,7,TRUE),IF(C266=7,VLOOKUP(U266,判定式!$D$15:I$19,6,TRUE),IF(C266=8,VLOOKUP(U266,判定式!$E$15:I$19,5,TRUE),IF(C266=9,VLOOKUP(U266,判定式!$F$15:I$19,4,TRUE),IF(C266=10,VLOOKUP(U266,判定式!$G$15:I$19,3,TRUE),IF(C266=11,VLOOKUP(U266,判定式!$H$15:I$19,2,TRUE))))))))","v":false}]
[118,null,null,"-",null,null,null,null,null,null,null,null,{"$f":"IF($E267=\"\",\"\",VLOOKUP($E267,判定式!$P$3:$W$12,8,TRUE))","v":""},{"$f":"IF($F267=\"\",\"\",VLOOKUP($F267,判定式!$Q$3:$W$12,7,TRUE))","v":""},{"$f":"IF($G267=\"\",\"\",VLOOKUP($G267,判定式!$R$3:$W$12,6,TRUE))","v":""},{"$f":"IF($H267=\"\",\"\",VLOOKUP($H267,判定式!$S$3:$W$12,5,TRUE))","v":""},{"$f":"IF($I267=\"\",\"\",VLOOKUP($I267,判定式!$V$3:$W$12,2,TRUE))","v":""},{"$f":"IF($J267=\"\",\"\",VLOOKUP($J267,判定式!$Y$3:$Z$12,2,TRUE))","v":""},{"$f":"IF($K267=\"\",\"\",VLOOKUP($K267,判定式!$T$3:$W$12,4,TRUE))","v":""},{"$f":"IF($L267=\"\",\"\",VLOOKUP($L267,判定式!$U$3:$W$12,3,TRUE))","v":""},"",{"$f":"IF(ISNUMBER(D267),\"判定外\",IF(C267=6,VLOOKUP(U267,判定式!$C$15:I$19,7,TRUE),IF(C267=7,VLOOKUP(U267,判定式!$D$15:I$19,6,TRUE),IF(C267=8,VLOOKUP(U267,判定式!$E$15:I$19,5,TRUE),IF(C267=9,VLOOKUP(U267,判定式!$F$15:I$19,4,TRUE),IF(C267=10,VLOOKUP(U267,判定式!$G$15:I$19,3,TRUE),IF(C267=11,VLOOKUP(U267,判定式!$H$15:I$19,2,TRUE))))))))","v":false}]
[119,null,null,"-",null,null,null,null,null,null,null,null,{"$f":"IF($E268=\"\",\"\",VLOOKUP($E268,判定式!$P$3:$W$12,8,TRUE))","v":""},{"$f":"IF($F268=\"\",\"\",VLOOKUP($F268,判定式!$Q$3:$W$12,7,TRUE))","v":""},{"$f":"IF($G268=\"\",\"\",VLOOKUP($G268,判定式!$R$3:$W$12,6,TRUE))","v":""},{"$f":"IF($H268=\"\",\"\",VLOOKUP($H268,判定式!$S$3:$W$12,5,TRUE))","v":""},{"$f":"IF($I268=\"\",\"\",VLOOKUP($I268,判定式!$V$3:$W$12,2,TRUE))","v":""},{"$f":"IF($J268=\"\",\"\",VLOOKUP($J268,判定式!$Y$3:$Z$12,2,TRUE))","v":""},{"$f":"IF($K268=\"\",\"\",VLOOKUP($K268,判定式!$T$3:$W$12,4,TRUE))","v":""},{"$f":"IF($L268=\"\",\"\",VLOOKUP($L268,判定式!$U$3:$W$12,3,TRUE))","v":""},"",{"$f":"IF(ISNUMBER(D268),\"判定外\",IF(C268=6,VLOOKUP(U268,判定式!$C$15:I$19,7,TRUE),IF(C268=7,VLOOKUP(U268,判定式!$D$15:I$19,6,TRUE),IF(C268=8,VLOOKUP(U268,判定式!$E$15:I$19,5,TRUE),IF(C268=9,VLOOKUP(U268,判定式!$F$15:I$19,4,TRUE),IF(C268=10,VLOOKUP(U268,判定式!$G$15:I$19,3,TRUE),IF(C268=11,VLOOKUP(U268,判定式!$H$15:I$19,2,TRUE))))))))","v":false}]
[120,null,null,"-",null,null,null,null,null,null,null,null,{"$f":"IF($E269=\"\",\"\",VLOOKUP($E269,判定式!$P$3:$W$12,8,TRUE))","v":""},{"$f":"IF($F269=\"\",\"\",VLOOKUP($F269,判定式!$Q$3:$W$12,7,TRUE))","v":""},{"$f":"IF($G269=\"\",\"\",VLOOKUP($G269,判定式!$R$3:$W$12,6,TRUE))","v":""},{"$f":"IF($H269=\"\",\"\",VLOOKUP($H269,判定式!$S$3:$W$12,5,TRUE))","v":""},{"$f":"IF($I269=\"\",\"\",VLOOKUP($I269,判定式!$V$3:$W$12,2,TRUE))","v":""},{"$f":"IF($J269=\"\",\"\",VLOOKUP($J269,判定式!$Y$3:$Z$12,2,TRUE))","v":""},{"$f":"IF($K269=\"\",\"\",VLOOKUP($K269,判定式!$T$3:$W$12,4,TRUE))","v":""},{"$f":"IF($L269=\"\",\"\",VLOOKUP($L269,判定式!$U$3:$W$12,3,TRUE))","v":""},"",{"$f":"IF(ISNUMBER(D269),\"判定外\",IF(C269=6,VLOOKUP(U269,判定式!$C$15:I$19,7,TRUE),IF(C269=7,VLOOKUP(U269,判定式!$D$15:I$19,6,TRUE),IF(C269=8,VLOOKUP(U269,判定式!$E$15:I$19,5,TRUE),IF(C269=9,VLOOKUP(U269,判定式!$F$15:I$19,4,TRUE),IF(C269=10,VLOOKUP(U269,判定式!$G$15:I$19,3,TRUE),IF(C269=11,VLOOKUP(U269,判定式!$H$15:I$19,2,TRUE))))))))","v":false}]

{"sheet":"小6","index":6,"n_rows":269,"n_cols":28,"rows_kept":269,"cut":false,"hidden":false,"merged":[[3,13,3,19],[147,12,148,12],[147,13,148,13],[147,14,148,14],[147,15,148,15],[147,16,148,16],[147,17,148,17],[7,14,7,16],[18,16,19,16],[18,17,19,17],[17,12,17,17],[11,14,11,16],[18,12,19,12],[18,13,19,13],[18,14,19,14],[18,15,19,15],[18,21,19,21],[147,24,148,24],[17,3,19,3],[18,18,19,18],[18,19,19,19],[18,20,19,20],[146,4,146,11],[147,23,148,23],[146,18,146,25],[146,12,146,17],[1,2,1,5],[17,4,17,11],[17,18,17,25],[146,3,148,3],[147,18,148,18],[4,2,7,2],[8,2,11,2],[147,19,148,19],[147,20,148,20],[18,25,19,25],[18,22,19,22],[18,23,19,23],[18,24,19,24],[147,25,148,25],[147,21,148,21],[147,22,148,22]]}
[null,{"$f":"IF(入力要領・学校名入力!D2=0,\"\",入力要領・学校名入力!D2)","v":""},"年度","三重県体力・運動能力調査実技種目（新体力テスト）集計表"]
[null,"学校名",{"$f":"IF(入力要領・学校名入力!H2=0,\"\",入力要領・学校名入力!H2)","v":""},null,null,null,"「年度」「学校名」は【入力要領・学校名入力】シートにて行ってください。"]
[]
[null,"集計速報値",null,"種目","握力","上体起こし","長座体前屈","反復横とび","20mシャトルラン","５０ｍ走","立ち幅とび","ｿﾌﾄﾎﾞｰﾙ投げ","体力合計点","総合評価"]
[null,null,"小６\n男子","標本数",{"$f":"COUNT(E21:E140)","v":0},0,0,0,0,0,0,0,{"$f":"COUNT(AA21:AA140)","v":0},"判定","A","B","C","D","E","判定外"]
[null,null,null,"平均",{"$f":"IF(ISERROR(AVERAGE(E21:E140)),\"\",AVERAGE(E21:E140))","v":""},"","","","","","","",{"$f":"IF(ISERROR(AVERAGE(AA21:AA140)),\"\",AVERAGE(AA21:AA140))","v":""},"人数",{"$f":"COUNTIF($AB21:$AB140,\"A\")","v":0},{"$f":"COUNTIF($AB21:$AB140,\"B\")","v":0},{"$f":"COUNTIF($AB21:$AB140,\"C\")","v":0},{"$f":"COUNTIF($AB21:$AB140,\"d\")","v":0},{"$f":"COUNTIF($AB21:$AB140,\"e\")","v":0},{"$f":"COUNTIF($AB21:$AB140,\"判定外\")","v":0}]
[null,null,null,"標準偏差",{"$f":"IF(ISERROR(STDEV(E21:E140)),\"\",STDEV(E21:E140))","v":""},"","","","","","","",{"$f":"IF(ISERROR(STDEV(AA21:AA140)),\"\",STDEV(AA21:AA140))","v":""},"割合",{"$f":"IFERROR(O6/SUM($O$6:$S$6),0)","v":0},{"$f":"IFERROR(P6/SUM($O$6:$S$6),0)","v":0},0,0,0]
[null,null,null,"目標値",20,21,36,46,60,9,162,28,61,"ABC",{"$f":"SUM(O7:Q7)","v":0},null,null,"AB－DE",{"$f":"(+O7+P7)-(R7+S7)","v":0}]
[null,null,"小６\n女子","標本数",{"$f":"COUNT(E150:E269)","v":0},{"$f":"COUNT(F150:F269)","v":0},0,0,0,0,0,0,{"$f":"COUNT(AA150:AA269)","v":0},"判定","A","B","C","D","E","判定外"]
[null,null,null,"平均",{"$f":"IF(ISERROR(AVERAGE(E150:E269)),\"\",AVERAGE(E150:E269))","v":""},"","","","","","","",{"$f":"IF(ISERROR(AVERAGE(AA150:AA269)),\"\",AVERAGE(AA150:AA269))","v":""},"人数",{"$f":"COUNTIF($AB150:$AB269,\"A\")","v":0},{"$f":"COUNTIF($AB150:$AB269,\"B\")","v":0},{"$f":"COUNTIF($AB150:$AB269,\"C\")","v":0},{"$f":"COUNTIF($AB150:$AB269,\"d\")","v":0},{"$f":"COUNTIF($AB150:$AB269,\"e\")","v":0},{"$f":"COUNTIF($AB150:$AB269,\"判定外\")","v":0}]
[null,null,null,"標準偏差",{"$f":"IF(ISERROR(STDEV(E150:E269)),\"\",STDEV(E150:E269))","v":""},"","","","","","","",{"$f":"IF(ISERROR(STDEV(AA150:AA269)),\"\",STDEV(AA150:AA269))","v":""},"割合",{"$f":"IFERROR(O10/SUM($O$10:$S$10),0)","v":0},{"$f":"IFERROR(P10/SUM($O$10:$S$10),0)","v":0},0,0,0]
[null,null,null,"目標値",19,19,41,43,45,9.3000000000000007,155,16,62,"ABC",{"$f":"SUM(O11:Q11)","v":0},null,null,"AB－DE",{"$f":"(+O11+P11)-(R11+S11)","v":0}]
[]
[null,"男子入力欄（女子は下段）生活アンケート⇒⇒⇒⇒⇒⇒⇒⇒⇒⇒⇒⇒⇒⇒⇒⇒⇒⇒⇒⇒⇒⇒⇒⇒⇒⇒⇒⇒⇒⇒⇒↓↓↓"]
[]
[null,"提出時、名前記入は任意","年齢は、全員１１",null,null,null,null,"５０m走は、1/100秒を切り上げて、「例：9.72→9.8」のように1/１０秒単位を入力する"]
[null,"小６　男子",11,"自動","整数","整数","整数","整数","整数","小数第１位","整数","整数",12,1234,1234,123,123,1234]
[null,null,"年齢","未実施\n項目数","調　　査　　項　　目　　記　　録",null,null,null,null,null,null,null,"６年　生活アンケート",null,null,null,null,null,"実技種目得点"]
["Ｎｏ．","名前","半角",null,"握力","上体起こし","長座体前屈","反復横とび","シャトルラン","５０ｍ走","立ち幅とび","ﾎﾞｰﾙ投げ","運動\nクラブ","運動\n頻度","運動\n時間","朝食","睡眠","テレビ","握力","上体\n起こし","長座\n体前屈","反復\n横跳び","ｼｬﾄﾙ\nﾗﾝ","50ｍ\n走","立ち\n幅とび","ボール\n投げ","体力","総合"]
[null,null,11,null,"（ｋｇ）","（回）","（ｃｍ）","（回）","（回）","（秒）","（ｃｍ）","（ｍ）",null,null,null,null,null,null,null,null,null,null,null,null,null,null,"合計点","評価"]
[1,null,null,{"$f":"IF(COUNTBLANK(E21:L21)=0,\"\",IF(COUNTBLANK(E21:L21)=8,\"-\",COUNTBLANK(E21:L21)))","v":"-"},null,null,null,null,null,null,null,null,null,null,null,null,null,null,{"$f":"IF(E21=\"\",\"\",VLOOKUP(E21,判定式!C$3:$J$12,8,TRUE))","v":""},{"$f":"IF(F21=\"\",\"\",VLOOKUP(F21,判定式!D$3:$J$12,7,TRUE))","v":""},{"$f":"IF(G21=\"\",\"\",VLOOKUP(G21,判定式!E$3:$J$12,6,TRUE))","v":""},{"$f":"IF(H21=\"\",\"\",VLOOKUP(H21,判定式!F$3:$J$12,5,TRUE))","v":""},{"$f":"IF(I21=\"\",\"\",VLOOKUP(I21,判定式!I$3:$J$12,2,TRUE))","v":""},{"$f":"IF(J21=\"\",\"\",VLOOKUP(J21,判定式!L$3:$M$12,2,TRUE))","v":""},{"$f":"IF(K21=\"\",\"\",VLOOKUP(K21,判定式!G$3:$J$12,4,TRUE))","v":""},{"$f":"IF(L21=\"\",\"\",VLOOKUP(L21,判定式!H$3:$J$12,3,TRUE))","v":""},{"$f":"IF(COUNTBLANK(S21:Z21)=0,SUM(S21:Z21),\"\")","v":""},{"$f":"IF(ISNUMBER(D21),\"判定外\",IF(C21=6,VLOOKUP(AA21,判定式!$C$15:I$19,7,TRUE),IF(C21=7,VLOOKUP(AA21,判定式!$D$15:I$19,6,TRUE),IF(C21=8,VLOOKUP(AA21,判定式!$E$15:I$19,5,TRUE),IF(C21=9,VLOOKUP(AA21,判定式!$F$15:I$19,4,TRUE),IF(C21=10,VLOOKUP(AA21,判定式!$G$15:I$19,3,TRUE),IF(C21=11,VLOOKUP(AA21,判定式!$H$15:I$19,2,TRUE))))))))","v":false}]
[2,null,null,{"$f":"IF(COUNTBLANK(E22:L22)=0,\"\",IF(COUNTBLANK(E22:L22)=8,\"-\",COUNTBLANK(E22:L22)))","v":"-"},null,null,null,null,null,null,null,null,null,null,null,null,null,null,{"$f":"IF(E22=\"\",\"\",VLOOKUP(E22,判定式!C$3:$J$12,8,TRUE))","v":""},{"$f":"IF(F22=\"\",\"\",VLOOKUP(F22,判定式!D$3:$J$12,7,TRUE))","v":""},{"$f":"IF(G22=\"\",\"\",VLOOKUP(G22,判定式!E$3:$J$12,6,TRUE))","v":""},{"$f":"IF(H22=\"\",\"\",VLOOKUP(H22,判定式!F$3:$J$12,5,TRUE))","v":""},{"$f":"IF(I22=\"\",\"\",VLOOKUP(I22,判定式!I$3:$J$12,2,TRUE))","v":""},{"$f":"IF(J22=\"\",\"\",VLOOKUP(J22,判定式!L$3:$M$12,2,TRUE))","v":""},{"$f":"IF(K22=\"\",\"\",VLOOKUP(K22,判定式!G$3:$J$12,4,TRUE))","v":""},{"$f":"IF(L22=\"\",\"\",VLOOKUP(L22,判定式!H$3:$J$12,3,TRUE))","v":""},{"$f":"IF(COUNTBLANK(S22:Z22)=0,SUM(S22:Z22),\"\")","v":""},{"$f":"IF(ISNUMBER(D22),\"判定外\",IF(C22=6,VLOOKUP(AA22,判定式!$C$15:I$19,7,TRUE),IF(C22=7,VLOOKUP(AA22,判定式!$D$15:I$19,6,TRUE),IF(C22=8,VLOOKUP(AA22,判定式!$E$15:I$19,5,TRUE),IF(C22=9,VLOOKUP(AA22,判定式!$F$15:I$19,4,TRUE),IF(C22=10,VLOOKUP(AA22,判定式!$G$15:I$19,3,TRUE),IF(C22=11,VLOOKUP(AA22,判定式!$H$15:I$19,2,TRUE))))))))","v":false}]
[3,null,null,"-",null,null,null,null,null,null,null,null,null,null,null,null,null,null,{"$f":"IF(E23=\"\",\"\",VLOOKUP(E23,判定式!C$3:$J$12,8,TRUE))","v":""},{"$f":"IF(F23=\"\",\"\",VLOOKUP(F23,判定式!D$3:$J$12,7,TRUE))","v":""},{"$f":"IF(G23=\"\",\"\",VLOOKUP(G23,判定式!E$3:$J$12,6,TRUE))","v":""},{"$f":"IF(H23=\"\",\"\",VLOOKUP(H23,判定式!F$3:$J$12,5,TRUE))","v":""},{"$f":"IF(I23=\"\",\"\",VLOOKUP(I23,判定式!I$3:$J$12,2,TRUE))","v":""},{"$f":"IF(J23=\"\",\"\",VLOOKUP(J23,判定式!L$3:$M$12,2,TRUE))","v":""},{"$f":"IF(K23=\"\",\"\",VLOOKUP(K23,判定式!G$3:$J$12,4,TRUE))","v":""},{"$f":"IF(L23=\"\",\"\",VLOOKUP(L23,判定式!H$3:$J$12,3,TRUE))","v":""},"",{"$f":"IF(ISNUMBER(D23),\"判定外\",IF(C23=6,VLOOKUP(AA23,判定式!$C$15:I$19,7,TRUE),IF(C23=7,VLOOKUP(AA23,判定式!$D$15:I$19,6,TRUE),IF(C23=8,VLOOKUP(AA23,判定式!$E$15:I$19,5,TRUE),IF(C23=9,VLOOKUP(AA23,判定式!$F$15:I$19,4,TRUE),IF(C23=10,VLOOKUP(AA23,判定式!$G$15:I$19,3,TRUE),IF(C23=11,VLOOKUP(AA23,判定式!$H$15:I$19,2,TRUE))))))))","v":false}]
[4,null,null,"-",null,null,null,null,null,null,null,null,null,null,null,null,null,null,{"$f":"IF(E24=\"\",\"\",VLOOKUP(E24,判定式!C$3:$J$12,8,TRUE))","v":""},{"$f":"IF(F24=\"\",\"\",VLOOKUP(F24,判定式!D$3:$J$12,7,TRUE))","v":""},{"$f":"IF(G24=\"\",\"\",VLOOKUP(G24,判定式!E$3:$J$12,6,TRUE))","v":""},{"$f":"IF(H24=\"\",\"\",VLOOKUP(H24,判定式!F$3:$J$12,5,TRUE))","v":""},{"$f":"IF(I24=\"\",\"\",VLOOKUP(I24,判定式!I$3:$J$12,2,TRUE))","v":""},{"$f":"IF(J24=\"\",\"\",VLOOKUP(J24,判定式!L$3:$M$12,2,TRUE))","v":""},{"$f":"IF(K24=\"\",\"\",VLOOKUP(K24,判定式!G$3:$J$12,4,TRUE))","v":""},{"$f":"IF(L24=\"\",\"\",VLOOKUP(L24,判定式!H$3:$J$12,3,TRUE))","v":""},"",{"$f":"IF(ISNUMBER(D24),\"判定外\",IF(C24=6,VLOOKUP(AA24,判定式!$C$15:I$19,7,TRUE),IF(C24=7,VLOOKUP(AA24,判定式!$D$15:I$19,6,TRUE),IF(C24=8,VLOOKUP(AA24,判定式!$E$15:I$19,5,TRUE),IF(C24=9,VLOOKUP(AA24,判定式!$F$15:I$19,4,TRUE),IF(C24=10,VLOOKUP(AA24,判定式!$G$15:I$19,3,TRUE),IF(C24=11,VLOOKUP(AA24,判定式!$H$15:I$19,2,TRUE))))))))","v":false}]
[5,null,null,"-",null,null,null,null,null,null,null,null,null,null,null,null,null,null,{"$f":"IF(E25=\"\",\"\",VLOOKUP(E25,判定式!C$3:$J$12,8,TRUE))","v":""},{"$f":"IF(F25=\"\",\"\",VLOOKUP(F25,判定式!D$3:$J$12,7,TRUE))","v":""},{"$f":"IF(G25=\"\",\"\",VLOOKUP(G25,判定式!E$3:$J$12,6,TRUE))","v":""},{"$f":"IF(H25=\"\",\"\",VLOOKUP(H25,判定式!F$3:$J$12,5,TRUE))","v":""},{"$f":"IF(I25=\"\",\"\",VLOOKUP(I25,判定式!I$3:$J$12,2,TRUE))","v":""},{"$f":"IF(J25=\"\",\"\",VLOOKUP(J25,判定式!L$3:$M$12,2,TRUE))","v":""},{"$f":"IF(K25=\"\",\"\",VLOOKUP(K25,判定式!G$3:$J$12,4,TRUE))","v":""},{"$f":"IF(L25=\"\",\"\",VLOOKUP(L25,判定式!H$3:$J$12,3,TRUE))","v":""},"",{"$f":"IF(ISNUMBER(D25),\"判定外\",IF(C25=6,VLOOKUP(AA25,判定式!$C$15:I$19,7,TRUE),IF(C25=7,VLOOKUP(AA25,判定式!$D$15:I$19,6,TRUE),IF(C25=8,VLOOKUP(AA25,判定式!$E$15:I$19,5,TRUE),IF(C25=9,VLOOKUP(AA25,判定式!$F$15:I$19,4,TRUE),IF(C25=10,VLOOKUP(AA25,判定式!$G$15:I$19,3,TRUE),IF(C25=11,VLOOKUP(AA25,判定式!$H$15:I$19,2,TRUE))))))))","v":false}]
[6,null,null,"-",null,null,null,null,null,null,null,null,null,null,null,null,null,null,{"$f":"IF(E26=\"\",\"\",VLOOKUP(E26,判定式!C$3:$J$12,8,TRUE))","v":""},{"$f":"IF(F26=\"\",\"\",VLOOKUP(F26,判定式!D$3:$J$12,7,TRUE))","v":""},{"$f":"IF(G26=\"\",\"\",VLOOKUP(G26,判定式!E$3:$J$12,6,TRUE))","v":""},{"$f":"IF(H26=\"\",\"\",VLOOKUP(H26,判定式!F$3:$J$12,5,TRUE))","v":""},{"$f":"IF(I26=\"\",\"\",VLOOKUP(I26,判定式!I$3:$J$12,2,TRUE))","v":""},{"$f":"IF(J26=\"\",\"\",VLOOKUP(J26,判定式!L$3:$M$12,2,TRUE))","v":""},{"$f":"IF(K26=\"\",\"\",VLOOKUP(K26,判定式!G$3:$J$12,4,TRUE))","v":""},{"$f":"IF(L26=\"\",\"\",VLOOKUP(L26,判定式!H$3:$J$12,3,TRUE))","v":""},"",{"$f":"IF(ISNUMBER(D26),\"判定外\",IF(C26=6,VLOOKUP(AA26,判定式!$C$15:I$19,7,TRUE),IF(C26=7,VLOOKUP(AA26,判定式!$D$15:I$19,6,TRUE),IF(C26=8,VLOOKUP(AA26,判定式!$E$15:I$19,5,TRUE),IF(C26=9,VLOOKUP(AA26,判定式!$F$15:I$19,4,TRUE),IF(C26=10,VLOOKUP(AA26,判定式!$G$15:I$19,3,TRUE),IF(C26=11,VLOOKUP(AA26,判定式!$H$15:I$19,2,TRUE))))))))","v":false}]
[7,null,null,"-",null,null,null,null,null,null,null,null,null,null,null,null,null,null,{"$f":"IF(E27=\"\",\"\",VLOOKUP(E27,判定式!C$3:$J$12,8,TRUE))","v":""},{"$f":"IF(F27=\"\",\"\",VLOOKUP(F27,判定式!D$3:$J$12,7,TRUE))","v":""},{"$f":"IF(G27=\"\",\"\",VLOOKUP(G27,判定式!E$3:$J$12,6,TRUE))","v":""},{"$f":"IF(H27=\"\",\"\",VLOOKUP(H27,判定式!F$3:$J$12,5,TRUE))","v":""},{"$f":"IF(I27=\"\",\"\",VLOOKUP(I27,判定式!I$3:$J$12,2,TRUE))","v":""},{"$f":"IF(J27=\"\",\"\",VLOOKUP(J27,判定式!L$3:$M$12,2,TRUE))","v":""},{"$f":"IF(K27=\"\",\"\",VLOOKUP(K27,判定式!G$3:$J$12,4,TRUE))","v":""},{"$f":"IF(L27=\"\",\"\",VLOOKUP(L27,判定式!H$3:$J$12,3,TRUE))","v":""},"",{"$f":"IF(ISNUMBER(D27),\"判定外\",IF(C27=6,VLOOKUP(AA27,判定式!$C$15:I$19,7,TRUE),IF(C27=7,VLOOKUP(AA27,判定式!$D$15:I$19,6,TRUE),IF(C27=8,VLOOKUP(AA27,判定式!$E$15:I$19,5,TRUE),IF(C27=9,VLOOKUP(AA27,判定式!$F$15:I$19,4,TRUE),IF(C27=10,VLOOKUP(AA27,判定式!$G$15:I$19,3,TRUE),IF(C27=11,VLOOKUP(AA27,判定式!$H$15:I$19,2,TRUE))))))))","v":false}]
[8,null,null,"-",null,null,null,null,null,null,null,null,null,null,null,null,null,null,{"$f":"IF(E28=\"\",\"\",VLOOKUP(E28,判定式!C$3:$J$12,8,TRUE))","v":""},{"$f":"IF(F28=\"\",\"\",VLOOKUP(F28,判定式!D$3:$J$12,7,TRUE))","v":""},{"$f":"IF(G28=\"\",\"\",VLOOKUP(G28,判定式!E$3:$J$12,6,TRUE))","v":""},{"$f":"IF(H28=\"\",\"\",VLOOKUP(H28,判定式!F$3:$J$12,5,TRUE))","v":""},{"$f":"IF(I28=\"\",\"\",VLOOKUP(I28,判定式!I$3:$J$12,2,TRUE))","v":""},{"$f":"IF(J28=\"\",\"\",VLOOKUP(J28,判定式!L$3:$M$12,2,TRUE))","v":""},{"$f":"IF(K28=\"\",\"\",VLOOKUP(K28,判定式!G$3:$J$12,4,TRUE))","v":""},{"$f":"IF(L28=\"\",\"\",VLOOKUP(L28,判定式!H$3:$J$12,3,TRUE))","v":""},"",{"$f":"IF(ISNUMBER(D28),\"判定外\",IF(C28=6,VLOOKUP(AA28,判定式!$C$15:I$19,7,TRUE),IF(C28=7,VLOOKUP(AA28,判定式!$D$15:I$19,6,TRUE),IF(C28=8,VLOOKUP(AA28,判定式!$E$15:I$19,5,TRUE),IF(C28=9,VLOOKUP(AA28,判定式!$F$15:I$19,4,TRUE),IF(C28=10,VLOOKUP(AA28,判定式!$G$15:I$19,3,TRUE),IF(C28=11,VLOOKUP(AA28,判定式!$H$15:I$19,2,TRUE))))))))","v":false}]
[9,null,null,"-",null,null,null,null,null,null,null,null,null,null,null,null,null,null,{"$f":"IF(E29=\"\",\"\",VLOOKUP(E29,判定式!C$3:$J$12,8,TRUE))","v":""},{"$f":"IF(F29=\"\",\"\",VLOOKUP(F29,判定式!D$3:$J$12,7,TRUE))","v":""},{"$f":"IF(G29=\"\",\"\",VLOOKUP(G29,判定式!E$3:$J$12,6,TRUE))","v":""},{"$f":"IF(H29=\"\",\"\",VLOOKUP(H29,判定式!F$3:$J$12,5,TRUE))","v":""},{"$f":"IF(I29=\"\",\"\",VLOOKUP(I29,判定式!I$3:$J$12,2,TRUE))","v":""},{"$f":"IF(J29=\"\",\"\",VLOOKUP(J29,判定式!L$3:$M$12,2,TRUE))","v":""},{"$f":"IF(K29=\"\",\"\",VLOOKUP(K29,判定式!G$3:$J$12,4,TRUE))","v":""},{"$f":"IF(L29=\"\",\"\",VLOOKUP(L29,判定式!H$3:$J$12,3,TRUE))","v":""},"",{"$f":"IF(ISNUMBER(D29),\"判定外\",IF(C29=6,VLOOKUP(AA29,判定式!$C$15:I$19,7,TRUE),IF(C29=7,VLOOKUP(AA29,判定式!$D$15:I$19,6,TRUE),IF(C29=8,VLOOKUP(AA29,判定式!$E$15:I$19,5,TRUE),IF(C29=9,VLOOKUP(AA29,判定式!$F$15:I$19,4,TRUE),IF(C29=10,VLOOKUP(AA29,判定式!$G$15:I$19,3,TRUE),IF(C29=11,VLOOKUP(AA29,判定式!$H$15:I$19,2,TRUE))))))))","v":false}]
[10,null,null,"-",null,null,null,null,null,null,null,null,null,null,null,null,null,null,{"$f":"IF(E30=\"\",\"\",VLOOKUP(E30,判定式!C$3:$J$12,8,TRUE))","v":""},{"$f":"IF(F30=\"\",\"\",VLOOKUP(F30,判定式!D$3:$J$12,7,TRUE))","v":""},{"$f":"IF(G30=\"\",\"\",VLOOKUP(G30,判定式!E$3:$J$12,6,TRUE))","v":""},{"$f":"IF(H30=\"\",\"\",VLOOKUP(H30,判定式!F$3:$J$12,5,TRUE))","v":""},{"$f":"IF(I30=\"\",\"\",VLOOKUP(I30,判定式!I$3:$J$12,2,TRUE))","v":""},{"$f":"IF(J30=\"\",\"\",VLOOKUP(J30,判定式!L$3:$M$12,2,TRUE))","v":""},{"$f":"IF(K30=\"\",\"\",VLOOKUP(K30,判定式!G$3:$J$12,4,TRUE))","v":""},{"$f":"IF(L30=\"\",\"\",VLOOKUP(L30,判定式!H$3:$J$12,3,TRUE))","v":""},"",{"$f":"IF(ISNUMBER(D30),\"判定外\",IF(C30=6,VLOOKUP(AA30,判定式!$C$15:I$19,7,TRUE),IF(C30=7,VLOOKUP(AA30,判定式!$D$15:I$19,6,TRUE),IF(C30=8,VLOOKUP(AA30,判定式!$E$15:I$19,5,TRUE),IF(C30=9,VLOOKUP(AA30,判定式!$F$15:I$19,4,TRUE),IF(C30=10,VLOOKUP(AA30,判定式!$G$15:I$19,3,TRUE),IF(C30=11,VLOOKUP(AA30,判定式!$H$15:I$19,2,TRUE))))))))","v":false}]
[11,null,null,"-",null,null,null,null,null,null,null,null,null,null,null,null,null,null,{"$f":"IF(E31=\"\",\"\",VLOOKUP(E31,判定式!C$3:$J$12,8,TRUE))","v":""},{"$f":"IF(F31=\"\",\"\",VLOOKUP(F31,判定式!D$3:$J$12,7,TRUE))","v":""},{"$f":"IF(G31=\"\",\"\",VLOOKUP(G31,判定式!E$3:$J$12,6,TRUE))","v":""},{"$f":"IF(H31=\"\",\"\",VLOOKUP(H31,判定式!F$3:$J$12,5,TRUE))","v":""},{"$f":"IF(I31=\"\",\"\",VLOOKUP(I31,判定式!I$3:$J$12,2,TRUE))","v":""},{"$f":"IF(J31=\"\",\"\",VLOOKUP(J31,判定式!L$3:$M$12,2,TRUE))","v":""},{"$f":"IF(K31=\"\",\"\",VLOOKUP(K31,判定式!G$3:$J$12,4,TRUE))","v":""},{"$f":"IF(L31=\"\",\"\",VLOOKUP(L31,判定式!H$3:$J$12,3,TRUE))","v":""},"",{"$f":"IF(ISNUMBER(D31),\"判定外\",IF(C31=6,VLOOKUP(AA31,判定式!$C$15:I$19,7,TRUE),IF(C31=7,VLOOKUP(AA31,判定式!$D$15:I$19,6,TRUE),IF(C31=8,VLOOKUP(AA31,判定式!$E$15:I$19,5,TRUE),IF(C31=9,VLOOKUP(AA31,判定式!$F$15:I$19,4,TRUE),IF(C31=10,VLOOKUP(AA31,判定式!$G$15:I$19,3,TRUE),IF(C31=11,VLOOKUP(AA31,判定式!$H$15:I$19,2,TRUE))))))))","v":false}]
[12,null,null,"-",null,null,null,null,null,null,null,null,null,null,null,null,null,null,{"$f":"IF(E32=\"\",\"\",VLOOKUP(E32,判定式!C$3:$J$12,8,TRUE))","v":""},{"$f":"IF(F32=\"\",\"\",VLOOKUP(F32,判定式!D$3:$J$12,7,TRUE))","v":""},{"$f":"IF(G32=\"\",\"\",VLOOKUP(G32,判定式!E$3:$J$12,6,TRUE))","v":""},{"$f":"IF(H32=\"\",\"\",VLOOKUP(H32,判定式!F$3:$J$12,5,TRUE))","v":""},{"$f":"IF(I32=\"\",\"\",VLOOKUP(I32,判定式!I$3:$J$12,2,TRUE))","v":""},{"$f":"IF(J32=\"\",\"\",VLOOKUP(J32,判定式!L$3:$M$12,2,TRUE))","v":""},{"$f":"IF(K32=\"\",\"\",VLOOKUP(K32,判定式!G$3:$J$12,4,TRUE))","v":""},{"$f":"IF(L32=\"\",\"\",VLOOKUP(L32,判定式!H$3:$J$12,3,TRUE))","v":""},"",{"$f":"IF(ISNUMBER(D32),\"判定外\",IF(C32=6,VLOOKUP(AA32,判定式!$C$15:I$19,7,TRUE),IF(C32=7,VLOOKUP(AA32,判定式!$D$15:I$19,6,TRUE),IF(C32=8,VLOOKUP(AA32,判定式!$E$15:I$19,5,TRUE),IF(C32=9,VLOOKUP(AA32,判定式!$F$15:I$19,4,TRUE),IF(C32=10,VLOOKUP(AA32,判定式!$G$15:I$19,3,TRUE),IF(C32=11,VLOOKUP(AA32,判定式!$H$15:I$19,2,TRUE))))))))","v":false}]
[13,null,null,"-",null,null,null,null,null,null,null,null,null,null,null,null,null,null,{"$f":"IF(E33=\"\",\"\",VLOOKUP(E33,判定式!C$3:$J$12,8,TRUE))","v":""},{"$f":"IF(F33=\"\",\"\",VLOOKUP(F33,判定式!D$3:$J$12,7,TRUE))","v":""},{"$f":"IF(G33=\"\",\"\",VLOOKUP(G33,判定式!E$3:$J$12,6,TRUE))","v":""},{"$f":"IF(H33=\"\",\"\",VLOOKUP(H33,判定式!F$3:$J$12,5,TRUE))","v":""},{"$f":"IF(I33=\"\",\"\",VLOOKUP(I33,判定式!I$3:$J$12,2,TRUE))","v":""},{"$f":"IF(J33=\"\",\"\",VLOOKUP(J33,判定式!L$3:$M$12,2,TRUE))","v":""},{"$f":"IF(K33=\"\",\"\",VLOOKUP(K33,判定式!G$3:$J$12,4,TRUE))","v":""},{"$f":"IF(L33=\"\",\"\",VLOOKUP(L33,判定式!H$3:$J$12,3,TRUE))","v":""},"",{"$f":"IF(ISNUMBER(D33),\"判定外\",IF(C33=6,VLOOKUP(AA33,判定式!$C$15:I$19,7,TRUE),IF(C33=7,VLOOKUP(AA33,判定式!$D$15:I$19,6,TRUE),IF(C33=8,VLOOKUP(AA33,判定式!$E$15:I$19,5,TRUE),IF(C33=9,VLOOKUP(AA33,判定式!$F$15:I$19,4,TRUE),IF(C33=10,VLOOKUP(AA33,判定式!$G$15:I$19,3,TRUE),IF(C33=11,VLOOKUP(AA33,判定式!$H$15:I$19,2,TRUE))))))))","v":false}]
[14,null,null,"-",null,null,null,null,null,null,null,null,null,null,null,null,null,null,{"$f":"IF(E34=\"\",\"\",VLOOKUP(E34,判定式!C$3:$J$12,8,TRUE))","v":""},{"$f":"IF(F34=\"\",\"\",VLOOKUP(F34,判定式!D$3:$J$12,7,TRUE))","v":""},{"$f":"IF(G34=\"\",\"\",VLOOKUP(G34,判定式!E$3:$J$12,6,TRUE))","v":""},{"$f":"IF(H34=\"\",\"\",VLOOKUP(H34,判定式!F$3:$J$12,5,TRUE))","v":""},{"$f":"IF(I34=\"\",\"\",VLOOKUP(I34,判定式!I$3:$J$12,2,TRUE))","v":""},{"$f":"IF(J34=\"\",\"\",VLOOKUP(J34,判定式!L$3:$M$12,2,TRUE))","v":""},{"$f":"IF(K34=\"\",\"\",VLOOKUP(K34,判定式!G$3:$J$12,4,TRUE))","v":""},{"$f":"IF(L34=\"\",\"\",VLOOKUP(L34,判定式!H$3:$J$12,3,TRUE))","v":""},"",{"$f":"IF(ISNUMBER(D34),\"判定外\",IF(C34=6,VLOOKUP(AA34,判定式!$C$15:I$19,7,TRUE),IF(C34=7,VLOOKUP(AA34,判定式!$D$15:I$19,6,TRUE),IF(C34=8,VLOOKUP(AA34,判定式!$E$15:I$19,5,TRUE),IF(C34=9,VLOOKUP(AA34,判定式!$F$15:I$19,4,TRUE),IF(C34=10,VLOOKUP(AA34,判定式!$G$15:I$19,3,TRUE),IF(C34=11,VLOOKUP(AA34,判定式!$H$15:I$19,2,TRUE))))))))","v":false}]
[15,null,null,"-",null,null,null,null,null,null,null,null,null,null,null,null,null,null,{"$f":"IF(E35=\"\",\"\",VLOOKUP(E35,判定式!C$3:$J$12,8,TRUE))","v":""},{"$f":"IF(F35=\"\",\"\",VLOOKUP(F35,判定式!D$3:$J$12,7,TRUE))","v":""},{"$f":"IF(G35=\"\",\"\",VLOOKUP(G35,判定式!E$3:$J$12,6,TRUE))","v":""},{"$f":"IF(H35=\"\",\"\",VLOOKUP(H35,判定式!F$3:$J$12,5,TRUE))","v":""},{"$f":"IF(I35=\"\",\"\",VLOOKUP(I35,判定式!I$3:$J$12,2,TRUE))","v":""},{"$f":"IF(J35=\"\",\"\",VLOOKUP(J35,判定式!L$3:$M$12,2,TRUE))","v":""},{"$f":"IF(K35=\"\",\"\",VLOOKUP(K35,判定式!G$3:$J$12,4,TRUE))","v":""},{"$f":"IF(L35=\"\",\"\",VLOOKUP(L35,判定式!H$3:$J$12,3,TRUE))","v":""},"",{"$f":"IF(ISNUMBER(D35),\"判定外\",IF(C35=6,VLOOKUP(AA35,判定式!$C$15:I$19,7,TRUE),IF(C35=7,VLOOKUP(AA35,判定式!$D$15:I$19,6,TRUE),IF(C35=8,VLOOKUP(AA35,判定式!$E$15:I$19,5,TRUE),IF(C35=9,VLOOKUP(AA35,判定式!$F$15:I$19,4,TRUE),IF(C35=10,VLOOKUP(AA35,判定式!$G$15:I$19,3,TRUE),IF(C35=11,VLOOKUP(AA35,判定式!$H$15:I$19,2,TRUE))))))))","v":false}]
[16,null,null,"-",null,null,null,null,null,null,null,null,null,null,null,null,null,null,{"$f":"IF(E36=\"\",\"\",VLOOKUP(E36,判定式!C$3:$J$12,8,TRUE))","v":""},{"$f":"IF(F36=\"\",\"\",VLOOKUP(F36,判定式!D$3:$J$12,7,TRUE))","v":""},{"$f":"IF(G36=\"\",\"\",VLOOKUP(G36,判定式!E$3:$J$12,6,TRUE))","v":""},{"$f":"IF(H36=\"\",\"\",VLOOKUP(H36,判定式!F$3:$J$12,5,TRUE))","v":""},{"$f":"IF(I36=\"\",\"\",VLOOKUP(I36,判定式!I$3:$J$12,2,TRUE))","v":""},{"$f":"IF(J36=\"\",\"\",VLOOKUP(J36,判定式!L$3:$M$12,2,TRUE))","v":""},{"$f":"IF(K36=\"\",\"\",VLOOKUP(K36,判定式!G$3:$J$12,4,TRUE))","v":""},{"$f":"IF(L36=\"\",\"\",VLOOKUP(L36,判定式!H$3:$J$12,3,TRUE))","v":""},"",{"$f":"IF(ISNUMBER(D36),\"判定外\",IF(C36=6,VLOOKUP(AA36,判定式!$C$15:I$19,7,TRUE),IF(C36=7,VLOOKUP(AA36,判定式!$D$15:I$19,6,TRUE),IF(C36=8,VLOOKUP(AA36,判定式!$E$15:I$19,5,TRUE),IF(C36=9,VLOOKUP(AA36,判定式!$F$15:I$19,4,TRUE),IF(C36=10,VLOOKUP(AA36,判定式!$G$15:I$19,3,TRUE),IF(C36=11,VLOOKUP(AA36,判定式!$H$15:I$19,2,TRUE))))))))","v":false}]
[17,null,null,"-",null,null,null,null,null,null,null,null,null,null,null,null,null,null,{"$f":"IF(E37=\"\",\"\",VLOOKUP(E37,判定式!C$3:$J$12,8,TRUE))","v":""},{"$f":"IF(F37=\"\",\"\",VLOOKUP(F37,判定式!D$3:$J$12,7,TRUE))","v":""},{"$f":"IF(G37=\"\",\"\",VLOOKUP(G37,判定式!E$3:$J$12,6,TRUE))","v":""},{"$f":"IF(H37=\"\",\"\",VLOOKUP(H37,判定式!F$3:$J$12,5,TRUE))","v":""},{"$f":"IF(I37=\"\",\"\",VLOOKUP(I37,判定式!I$3:$J$12,2,TRUE))","v":""},{"$f":"IF(J37=\"\",\"\",VLOOKUP(J37,判定式!L$3:$M$12,2,TRUE))","v":""},{"$f":"IF(K37=\"\",\"\",VLOOKUP(K37,判定式!G$3:$J$12,4,TRUE))","v":""},{"$f":"IF(L37=\"\",\"\",VLOOKUP(L37,判定式!H$3:$J$12,3,TRUE))","v":""},"",{"$f":"IF(ISNUMBER(D37),\"判定外\",IF(C37=6,VLOOKUP(AA37,判定式!$C$15:I$19,7,TRUE),IF(C37=7,VLOOKUP(AA37,判定式!$D$15:I$19,6,TRUE),IF(C37=8,VLOOKUP(AA37,判定式!$E$15:I$19,5,TRUE),IF(C37=9,VLOOKUP(AA37,判定式!$F$15:I$19,4,TRUE),IF(C37=10,VLOOKUP(AA37,判定式!$G$15:I$19,3,TRUE),IF(C37=11,VLOOKUP(AA37,判定式!$H$15:I$19,2,TRUE))))))))","v":false}]
[18,null,null,"-",null,null,null,null,null,null,null,null,null,null,null,null,null,null,{"$f":"IF(E38=\"\",\"\",VLOOKUP(E38,判定式!C$3:$J$12,8,TRUE))","v":""},{"$f":"IF(F38=\"\",\"\",VLOOKUP(F38,判定式!D$3:$J$12,7,TRUE))","v":""},{"$f":"IF(G38=\"\",\"\",VLOOKUP(G38,判定式!E$3:$J$12,6,TRUE))","v":""},{"$f":"IF(H38=\"\",\"\",VLOOKUP(H38,判定式!F$3:$J$12,5,TRUE))","v":""},{"$f":"IF(I38=\"\",\"\",VLOOKUP(I38,判定式!I$3:$J$12,2,TRUE))","v":""},{"$f":"IF(J38=\"\",\"\",VLOOKUP(J38,判定式!L$3:$M$12,2,TRUE))","v":""},{"$f":"IF(K38=\"\",\"\",VLOOKUP(K38,判定式!G$3:$J$12,4,TRUE))","v":""},{"$f":"IF(L38=\"\",\"\",VLOOKUP(L38,判定式!H$3:$J$12,3,TRUE))","v":""},"",{"$f":"IF(ISNUMBER(D38),\"判定外\",IF(C38=6,VLOOKUP(AA38,判定式!$C$15:I$19,7,TRUE),IF(C38=7,VLOOKUP(AA38,判定式!$D$15:I$19,6,TRUE),IF(C38=8,VLOOKUP(AA38,判定式!$E$15:I$19,5,TRUE),IF(C38=9,VLOOKUP(AA38,判定式!$F$15:I$19,4,TRUE),IF(C38=10,VLOOKUP(AA38,判定式!$G$15:I$19,3,TRUE),IF(C38=11,VLOOKUP(AA38,判定式!$H$15:I$19,2,TRUE))))))))","v":false}]
[19,null,null,"-",null,null,null,null,null,null,null,null,null,null,null,null,null,null,{"$f":"IF(E39=\"\",\"\",VLOOKUP(E39,判定式!C$3:$J$12,8,TRUE))","v":""},{"$f":"IF(F39=\"\",\"\",VLOOKUP(F39,判定式!D$3:$J$12,7,TRUE))","v":""},{"$f":"IF(G39=\"\",\"\",VLOOKUP(G39,判定式!E$3:$J$12,6,TRUE))","v":""},{"$f":"IF(H39=\"\",\"\",VLOOKUP(H39,判定式!F$3:$J$12,5,TRUE))","v":""},{"$f":"IF(I39=\"\",\"\",VLOOKUP(I39,判定式!I$3:$J$12,2,TRUE))","v":""},{"$f":"IF(J39=\"\",\"\",VLOOKUP(J39,判定式!L$3:$M$12,2,TRUE))","v":""},{"$f":"IF(K39=\"\",\"\",VLOOKUP(K39,判定式!G$3:$J$12,4,TRUE))","v":""},{"$f":"IF(L39=\"\",\"\",VLOOKUP(L39,判定式!H$3:$J$12,3,TRUE))","v":""},"",{"$f":"IF(ISNUMBER(D39),\"判定外\",IF(C39=6,VLOOKUP(AA39,判定式!$C$15:I$19,7,TRUE),IF(C39=7,VLOOKUP(AA39,判定式!$D$15:I$19,6,TRUE),IF(C39=8,VLOOKUP(AA39,判定式!$E$15:I$19,5,TRUE),IF(C39=9,VLOOKUP(AA39,判定式!$F$15:I$19,4,TRUE),IF(C39=10,VLOOKUP(AA39,判定式!$G$15:I$19,3,TRUE),IF(C39=11,VLOOKUP(AA39,判定式!$H$15:I$19,2,TRUE))))))))","v":false}]
[20,null,null,"-",null,null,null,null,null,null,null,null,null,null,null,null,null,null,{"$f":"IF(E40=\"\",\"\",VLOOKUP(E40,判定式!C$3:$J$12,8,TRUE))","v":""},{"$f":"IF(F40=\"\",\"\",VLOOKUP(F40,判定式!D$3:$J$12,7,TRUE))","v":""},{"$f":"IF(G40=\"\",\"\",VLOOKUP(G40,判定式!E$3:$J$12,6,TRUE))","v":""},{"$f":"IF(H40=\"\",\"\",VLOOKUP(H40,判定式!F$3:$J$12,5,TRUE))","v":""},{"$f":"IF(I40=\"\",\"\",VLOOKUP(I40,判定式!I$3:$J$12,2,TRUE))","v":""},{"$f":"IF(J40=\"\",\"\",VLOOKUP(J40,判定式!L$3:$M$12,2,TRUE))","v":""},{"$f":"IF(K40=\"\",\"\",VLOOKUP(K40,判定式!G$3:$J$12,4,TRUE))","v":""},{"$f":"IF(L40=\"\",\"\",VLOOKUP(L40,判定式!H$3:$J$12,3,TRUE))","v":""},"",{"$f":"IF(ISNUMBER(D40),\"判定外\",IF(C40=6,VLOOKUP(AA40,判定式!$C$15:I$19,7,TRUE),IF(C40=7,VLOOKUP(AA40,判定式!$D$15:I$19,6,TRUE),IF(C40=8,VLOOKUP(AA40,判定式!$E$15:I$19,5,TRUE),IF(C40=9,VLOOKUP(AA40,判定式!$F$15:I$19,4,TRUE),IF(C40=10,VLOOKUP(AA40,判定式!$G$15:I$19,3,TRUE),IF(C40=11,VLOOKUP(AA40,判定式!$H$15:I$19,2,TRUE))))))))","v":false}]
[21,null,null,"-",null,null,null,null,null,null,null,null,null,null,null,null,null,null,{"$f":"IF(E41=\"\",\"\",VLOOKUP(E41,判定式!C$3:$J$12,8,TRUE))","v":""},{"$f":"IF(F41=\"\",\"\",VLOOKUP(F41,判定式!D$3:$J$12,7,TRUE))","v":""},{"$f":"IF(G41=\"\",\"\",VLOOKUP(G41,判定式!E$3:$J$12,6,TRUE))","v":""},{"$f":"IF(H41=\"\",\"\",VLOOKUP(H41,判定式!F$3:$J$12,5,TRUE))","v":""},{"$f":"IF(I41=\"\",\"\",VLOOKUP(I41,判定式!I$3:$J$12,2,TRUE))","v":""},{"$f":"IF(J41=\"\",\"\",VLOOKUP(J41,判定式!L$3:$M$12,2,TRUE))","v":""},{"$f":"IF(K41=\"\",\"\",VLOOKUP(K41,判定式!G$3:$J$12,4,TRUE))","v":""},{"$f":"IF(L41=\"\",\"\",VLOOKUP(L41,判定式!H$3:$J$12,3,TRUE))","v":""},"",{"$f":"IF(ISNUMBER(D41),\"判定外\",IF(C41=6,VLOOKUP(AA41,判定式!$C$15:I$19,7,TRUE),IF(C41=7,VLOOKUP(AA41,判定式!$D$15:I$19,6,TRUE),IF(C41=8,VLOOKUP(AA41,判定式!$E$15:I$19,5,TRUE),IF(C41=9,VLOOKUP(AA41,判定式!$F$15:I$19,4,TRUE),IF(C41=10,VLOOKUP(AA41,判定式!$G$15:I$19,3,TRUE),IF(C41=11,VLOOKUP(AA41,判定式!$H$15:I$19,2,TRUE))))))))","v":false}]
[22,null,null,"-",null,null,null,null,null,null,null,null,null,null,null,null,null,null,{"$f":"IF(E42=\"\",\"\",VLOOKUP(E42,判定式!C$3:$J$12,8,TRUE))","v":""},{"$f":"IF(F42=\"\",\"\",VLOOKUP(F42,判定式!D$3:$J$12,7,TRUE))","v":""},{"$f":"IF(G42=\"\",\"\",VLOOKUP(G42,判定式!E$3:$J$12,6,TRUE))","v":""},{"$f":"IF(H42=\"\",\"\",VLOOKUP(H42,判定式!F$3:$J$12,5,TRUE))","v":""},{"$f":"IF(I42=\"\",\"\",VLOOKUP(I42,判定式!I$3:$J$12,2,TRUE))","v":""},{"$f":"IF(J42=\"\",\"\",VLOOKUP(J42,判定式!L$3:$M$12,2,TRUE))","v":""},{"$f":"IF(K42=\"\",\"\",VLOOKUP(K42,判定式!G$3:$J$12,4,TRUE))","v":""},{"$f":"IF(L42=\"\",\"\",VLOOKUP(L42,判定式!H$3:$J$12,3,TRUE))","v":""},"",{"$f":"IF(ISNUMBER(D42),\"判定外\",IF(C42=6,VLOOKUP(AA42,判定式!$C$15:I$19,7,TRUE),IF(C42=7,VLOOKUP(AA42,判定式!$D$15:I$19,6,TRUE),IF(C42=8,VLOOKUP(AA42,判定式!$E$15:I$19,5,TRUE),IF(C42=9,VLOOKUP(AA42,判定式!$F$15:I$19,4,TRUE),IF(C42=10,VLOOKUP(AA42,判定式!$G$15:I$19,3,TRUE),IF(C42=11,VLOOKUP(AA42,判定式!$H$15:I$19,2,TRUE))))))))","v":false}]
[23,null,null,"-",null,null,null,null,null,null,null,null,null,null,null,null,null,null,{"$f":"IF(E43=\"\",\"\",VLOOKUP(E43,判定式!C$3:$J$12,8,TRUE))","v":""},{"$f":"IF(F43=\"\",\"\",VLOOKUP(F43,判定式!D$3:$J$12,7,TRUE))","v":""},{"$f":"IF(G43=\"\",\"\",VLOOKUP(G43,判定式!E$3:$J$12,6,TRUE))","v":""},{"$f":"IF(H43=\"\",\"\",VLOOKUP(H43,判定式!F$3:$J$12,5,TRUE))","v":""},{"$f":"IF(I43=\"\",\"\",VLOOKUP(I43,判定式!I$3:$J$12,2,TRUE))","v":""},{"$f":"IF(J43=\"\",\"\",VLOOKUP(J43,判定式!L$3:$M$12,2,TRUE))","v":""},{"$f":"IF(K43=\"\",\"\",VLOOKUP(K43,判定式!G$3:$J$12,4,TRUE))","v":""},{"$f":"IF(L43=\"\",\"\",VLOOKUP(L43,判定式!H$3:$J$12,3,TRUE))","v":""},"",{"$f":"IF(ISNUMBER(D43),\"判定外\",IF(C43=6,VLOOKUP(AA43,判定式!$C$15:I$19,7,TRUE),IF(C43=7,VLOOKUP(AA43,判定式!$D$15:I$19,6,TRUE),IF(C43=8,VLOOKUP(AA43,判定式!$E$15:I$19,5,TRUE),IF(C43=9,VLOOKUP(AA43,判定式!$F$15:I$19,4,TRUE),IF(C43=10,VLOOKUP(AA43,判定式!$G$15:I$19,3,TRUE),IF(C43=11,VLOOKUP(AA43,判定式!$H$15:I$19,2,TRUE))))))))","v":false}]
[24,null,null,"-",null,null,null,null,null,null,null,null,null,null,null,null,null,null,{"$f":"IF(E44=\"\",\"\",VLOOKUP(E44,判定式!C$3:$J$12,8,TRUE))","v":""},{"$f":"IF(F44=\"\",\"\",VLOOKUP(F44,判定式!D$3:$J$12,7,TRUE))","v":""},{"$f":"IF(G44=\"\",\"\",VLOOKUP(G44,判定式!E$3:$J$12,6,TRUE))","v":""},{"$f":"IF(H44=\"\",\"\",VLOOKUP(H44,判定式!F$3:$J$12,5,TRUE))","v":""},{"$f":"IF(I44=\"\",\"\",VLOOKUP(I44,判定式!I$3:$J$12,2,TRUE))","v":""},{"$f":"IF(J44=\"\",\"\",VLOOKUP(J44,判定式!L$3:$M$12,2,TRUE))","v":""},{"$f":"IF(K44=\"\",\"\",VLOOKUP(K44,判定式!G$3:$J$12,4,TRUE))","v":""},{"$f":"IF(L44=\"\",\"\",VLOOKUP(L44,判定式!H$3:$J$12,3,TRUE))","v":""},"",{"$f":"IF(ISNUMBER(D44),\"判定外\",IF(C44=6,VLOOKUP(AA44,判定式!$C$15:I$19,7,TRUE),IF(C44=7,VLOOKUP(AA44,判定式!$D$15:I$19,6,TRUE),IF(C44=8,VLOOKUP(AA44,判定式!$E$15:I$19,5,TRUE),IF(C44=9,VLOOKUP(AA44,判定式!$F$15:I$19,4,TRUE),IF(C44=10,VLOOKUP(AA44,判定式!$G$15:I$19,3,TRUE),IF(C44=11,VLOOKUP(AA44,判定式!$H$15:I$19,2,TRUE))))))))","v":false}]
[25,null,null,"-",null,null,null,null,null,null,null,null,null,null,null,null,null,null,{"$f":"IF(E45=\"\",\"\",VLOOKUP(E45,判定式!C$3:$J$12,8,TRUE))","v":""},{"$f":"IF(F45=\"\",\"\",VLOOKUP(F45,判定式!D$3:$J$12,7,TRUE))","v":""},{"$f":"IF(G45=\"\",\"\",VLOOKUP(G45,判定式!E$3:$J$12,6,TRUE))","v":""},{"$f":"IF(H45=\"\",\"\",VLOOKUP(H45,判定式!F$3:$J$12,5,TRUE))","v":""},{"$f":"IF(I45=\"\",\"\",VLOOKUP(I45,判定式!I$3:$J$12,2,TRUE))","v":""},{"$f":"IF(J45=\"\",\"\",VLOOKUP(J45,判定式!L$3:$M$12,2,TRUE))","v":""},{"$f":"IF(K45=\"\",\"\",VLOOKUP(K45,判定式!G$3:$J$12,4,TRUE))","v":""},{"$f":"IF(L45=\"\",\"\",VLOOKUP(L45,判定式!H$3:$J$12,3,TRUE))","v":""},"",{"$f":"IF(ISNUMBER(D45),\"判定外\",IF(C45=6,VLOOKUP(AA45,判定式!$C$15:I$19,7,TRUE),IF(C45=7,VLOOKUP(AA45,判定式!$D$15:I$19,6,TRUE),IF(C45=8,VLOOKUP(AA45,判定式!$E$15:I$19,5,TRUE),IF(C45=9,VLOOKUP(AA45,判定式!$F$15:I$19,4,TRUE),IF(C45=10,VLOOKUP(AA45,判定式!$G$15:I$19,3,TRUE),IF(C45=11,VLOOKUP(AA45,判定式!$H$15:I$19,2,TRUE))))))))","v":false}]
[26,null,null,"-",null,null,null,null,null,null,null,null,null,null,null,null,null,null,{"$f":"IF(E46=\"\",\"\",VLOOKUP(E46,判定式!C$3:$J$12,8,TRUE))","v":""},{"$f":"IF(F46=\"\",\"\",VLOOKUP(F46,判定式!D$3:$J$12,7,TRUE))","v":""},{"$f":"IF(G46=\"\",\"\",VLOOKUP(G46,判定式!E$3:$J$12,6,TRUE))","v":""},{"$f":"IF(H46=\"\",\"\",VLOOKUP(H46,判定式!F$3:$J$12,5,TRUE))","v":""},{"$f":"IF(I46=\"\",\"\",VLOOKUP(I46,判定式!I$3:$J$12,2,TRUE))","v":""},{"$f":"IF(J46=\"\",\"\",VLOOKUP(J46,判定式!L$3:$M$12,2,TRUE))","v":""},{"$f":"IF(K46=\"\",\"\",VLOOKUP(K46,判定式!G$3:$J$12,4,TRUE))","v":""},{"$f":"IF(L46=\"\",\"\",VLOOKUP(L46,判定式!H$3:$J$12,3,TRUE))","v":""},"",{"$f":"IF(ISNUMBER(D46),\"判定外\",IF(C46=6,VLOOKUP(AA46,判定式!$C$15:I$19,7,TRUE),IF(C46=7,VLOOKUP(AA46,判定式!$D$15:I$19,6,TRUE),IF(C46=8,VLOOKUP(AA46,判定式!$E$15:I$19,5,TRUE),IF(C46=9,VLOOKUP(AA46,判定式!$F$15:I$19,4,TRUE),IF(C46=10,VLOOKUP(AA46,判定式!$G$15:I$19,3,TRUE),IF(C46=11,VLOOKUP(AA46,判定式!$H$15:I$19,2,TRUE))))))))","v":false}]
[27,null,null,"-",null,null,null,null,null,null,null,null,null,null,null,null,null,null,{"$f":"IF(E47=\"\",\"\",VLOOKUP(E47,判定式!C$3:$J$12,8,TRUE))","v":""},{"$f":"IF(F47=\"\",\"\",VLOOKUP(F47,判定式!D$3:$J$12,7,TRUE))","v":""},{"$f":"IF(G47=\"\",\"\",VLOOKUP(G47,判定式!E$3:$J$12,6,TRUE))","v":""},{"$f":"IF(H47=\"\",\"\",VLOOKUP(H47,判定式!F$3:$J$12,5,TRUE))","v":""},{"$f":"IF(I47=\"\",\"\",VLOOKUP(I47,判定式!I$3:$J$12,2,TRUE))","v":""},{"$f":"IF(J47=\"\",\"\",VLOOKUP(J47,判定式!L$3:$M$12,2,TRUE))","v":""},{"$f":"IF(K47=\"\",\"\",VLOOKUP(K47,判定式!G$3:$J$12,4,TRUE))","v":""},{"$f":"IF(L47=\"\",\"\",VLOOKUP(L47,判定式!H$3:$J$12,3,TRUE))","v":""},"",{"$f":"IF(ISNUMBER(D47),\"判定外\",IF(C47=6,VLOOKUP(AA47,判定式!$C$15:I$19,7,TRUE),IF(C47=7,VLOOKUP(AA47,判定式!$D$15:I$19,6,TRUE),IF(C47=8,VLOOKUP(AA47,判定式!$E$15:I$19,5,TRUE),IF(C47=9,VLOOKUP(AA47,判定式!$F$15:I$19,4,TRUE),IF(C47=10,VLOOKUP(AA47,判定式!$G$15:I$19,3,TRUE),IF(C47=11,VLOOKUP(AA47,判定式!$H$15:I$19,2,TRUE))))))))","v":false}]
[28,null,null,"-",null,null,null,null,null,null,null,null,null,null,null,null,null,null,{"$f":"IF(E48=\"\",\"\",VLOOKUP(E48,判定式!C$3:$J$12,8,TRUE))","v":""},{"$f":"IF(F48=\"\",\"\",VLOOKUP(F48,判定式!D$3:$J$12,7,TRUE))","v":""},{"$f":"IF(G48=\"\",\"\",VLOOKUP(G48,判定式!E$3:$J$12,6,TRUE))","v":""},{"$f":"IF(H48=\"\",\"\",VLOOKUP(H48,判定式!F$3:$J$12,5,TRUE))","v":""},{"$f":"IF(I48=\"\",\"\",VLOOKUP(I48,判定式!I$3:$J$12,2,TRUE))","v":""},{"$f":"IF(J48=\"\",\"\",VLOOKUP(J48,判定式!L$3:$M$12,2,TRUE))","v":""},{"$f":"IF(K48=\"\",\"\",VLOOKUP(K48,判定式!G$3:$J$12,4,TRUE))","v":""},{"$f":"IF(L48=\"\",\"\",VLOOKUP(L48,判定式!H$3:$J$12,3,TRUE))","v":""},"",{"$f":"IF(ISNUMBER(D48),\"判定外\",IF(C48=6,VLOOKUP(AA48,判定式!$C$15:I$19,7,TRUE),IF(C48=7,VLOOKUP(AA48,判定式!$D$15:I$19,6,TRUE),IF(C48=8,VLOOKUP(AA48,判定式!$E$15:I$19,5,TRUE),IF(C48=9,VLOOKUP(AA48,判定式!$F$15:I$19,4,TRUE),IF(C48=10,VLOOKUP(AA48,判定式!$G$15:I$19,3,TRUE),IF(C48=11,VLOOKUP(AA48,判定式!$H$15:I$19,2,TRUE))))))))","v":false}]
[29,null,null,"-",null,null,null,null,null,null,null,null,null,null,null,null,null,null,{"$f":"IF(E49=\"\",\"\",VLOOKUP(E49,判定式!C$3:$J$12,8,TRUE))","v":""},{"$f":"IF(F49=\"\",\"\",VLOOKUP(F49,判定式!D$3:$J$12,7,TRUE))","v":""},{"$f":"IF(G49=\"\",\"\",VLOOKUP(G49,判定式!E$3:$J$12,6,TRUE))","v":""},{"$f":"IF(H49=\"\",\"\",VLOOKUP(H49,判定式!F$3:$J$12,5,TRUE))","v":""},{"$f":"IF(I49=\"\",\"\",VLOOKUP(I49,判定式!I$3:$J$12,2,TRUE))","v":""},{"$f":"IF(J49=\"\",\"\",VLOOKUP(J49,判定式!L$3:$M$12,2,TRUE))","v":""},{"$f":"IF(K49=\"\",\"\",VLOOKUP(K49,判定式!G$3:$J$12,4,TRUE))","v":""},{"$f":"IF(L49=\"\",\"\",VLOOKUP(L49,判定式!H$3:$J$12,3,TRUE))","v":""},"",{"$f":"IF(ISNUMBER(D49),\"判定外\",IF(C49=6,VLOOKUP(AA49,判定式!$C$15:I$19,7,TRUE),IF(C49=7,VLOOKUP(AA49,判定式!$D$15:I$19,6,TRUE),IF(C49=8,VLOOKUP(AA49,判定式!$E$15:I$19,5,TRUE),IF(C49=9,VLOOKUP(AA49,判定式!$F$15:I$19,4,TRUE),IF(C49=10,VLOOKUP(AA49,判定式!$G$15:I$19,3,TRUE),IF(C49=11,VLOOKUP(AA49,判定式!$H$15:I$19,2,TRUE))))))))","v":false}]
[30,null,null,"-",null,null,null,null,null,null,null,null,null,null,null,null,null,null,{"$f":"IF(E50=\"\",\"\",VLOOKUP(E50,判定式!C$3:$J$12,8,TRUE))","v":""},{"$f":"IF(F50=\"\",\"\",VLOOKUP(F50,判定式!D$3:$J$12,7,TRUE))","v":""},{"$f":"IF(G50=\"\",\"\",VLOOKUP(G50,判定式!E$3:$J$12,6,TRUE))","v":""},{"$f":"IF(H50=\"\",\"\",VLOOKUP(H50,判定式!F$3:$J$12,5,TRUE))","v":""},{"$f":"IF(I50=\"\",\"\",VLOOKUP(I50,判定式!I$3:$J$12,2,TRUE))","v":""},{"$f":"IF(J50=\"\",\"\",VLOOKUP(J50,判定式!L$3:$M$12,2,TRUE))","v":""},{"$f":"IF(K50=\"\",\"\",VLOOKUP(K50,判定式!G$3:$J$12,4,TRUE))","v":""},{"$f":"IF(L50=\"\",\"\",VLOOKUP(L50,判定式!H$3:$J$12,3,TRUE))","v":""},"",{"$f":"IF(ISNUMBER(D50),\"判定外\",IF(C50=6,VLOOKUP(AA50,判定式!$C$15:I$19,7,TRUE),IF(C50=7,VLOOKUP(AA50,判定式!$D$15:I$19,6,TRUE),IF(C50=8,VLOOKUP(AA50,判定式!$E$15:I$19,5,TRUE),IF(C50=9,VLOOKUP(AA50,判定式!$F$15:I$19,4,TRUE),IF(C50=10,VLOOKUP(AA50,判定式!$G$15:I$19,3,TRUE),IF(C50=11,VLOOKUP(AA50,判定式!$H$15:I$19,2,TRUE))))))))","v":false}]
[31,null,null,"-",null,null,null,null,null,null,null,null,null,null,null,null,null,null,{"$f":"IF(E51=\"\",\"\",VLOOKUP(E51,判定式!C$3:$J$12,8,TRUE))","v":""},{"$f":"IF(F51=\"\",\"\",VLOOKUP(F51,判定式!D$3:$J$12,7,TRUE))","v":""},{"$f":"IF(G51=\"\",\"\",VLOOKUP(G51,判定式!E$3:$J$12,6,TRUE))","v":""},{"$f":"IF(H51=\"\",\"\",VLOOKUP(H51,判定式!F$3:$J$12,5,TRUE))","v":""},{"$f":"IF(I51=\"\",\"\",VLOOKUP(I51,判定式!I$3:$J$12,2,TRUE))","v":""},{"$f":"IF(J51=\"\",\"\",VLOOKUP(J51,判定式!L$3:$M$12,2,TRUE))","v":""},{"$f":"IF(K51=\"\",\"\",VLOOKUP(K51,判定式!G$3:$J$12,4,TRUE))","v":""},{"$f":"IF(L51=\"\",\"\",VLOOKUP(L51,判定式!H$3:$J$12,3,TRUE))","v":""},"",{"$f":"IF(ISNUMBER(D51),\"判定外\",IF(C51=6,VLOOKUP(AA51,判定式!$C$15:I$19,7,TRUE),IF(C51=7,VLOOKUP(AA51,判定式!$D$15:I$19,6,TRUE),IF(C51=8,VLOOKUP(AA51,判定式!$E$15:I$19,5,TRUE),IF(C51=9,VLOOKUP(AA51,判定式!$F$15:I$19,4,TRUE),IF(C51=10,VLOOKUP(AA51,判定式!$G$15:I$19,3,TRUE),IF(C51=11,VLOOKUP(AA51,判定式!$H$15:I$19,2,TRUE))))))))","v":false}]
[32,null,null,"-",null,null,null,null,null,null,null,null,null,null,null,null,null,null,{"$f":"IF(E52=\"\",\"\",VLOOKUP(E52,判定式!C$3:$J$12,8,TRUE))","v":""},{"$f":"IF(F52=\"\",\"\",VLOOKUP(F52,判定式!D$3:$J$12,7,TRUE))","v":""},{"$f":"IF(G52=\"\",\"\",VLOOKUP(G52,判定式!E$3:$J$12,6,TRUE))","v":""},{"$f":"IF(H52=\"\",\"\",VLOOKUP(H52,判定式!F$3:$J$12,5,TRUE))","v":""},{"$f":"IF(I52=\"\",\"\",VLOOKUP(I52,判定式!I$3:$J$12,2,TRUE))","v":""},{"$f":"IF(J52=\"\",\"\",VLOOKUP(J52,判定式!L$3:$M$12,2,TRUE))","v":""},{"$f":"IF(K52=\"\",\"\",VLOOKUP(K52,判定式!G$3:$J$12,4,TRUE))","v":""},{"$f":"IF(L52=\"\",\"\",VLOOKUP(L52,判定式!H$3:$J$12,3,TRUE))","v":""},"",{"$f":"IF(ISNUMBER(D52),\"判定外\",IF(C52=6,VLOOKUP(AA52,判定式!$C$15:I$19,7,TRUE),IF(C52=7,VLOOKUP(AA52,判定式!$D$15:I$19,6,TRUE),IF(C52=8,VLOOKUP(AA52,判定式!$E$15:I$19,5,TRUE),IF(C52=9,VLOOKUP(AA52,判定式!$F$15:I$19,4,TRUE),IF(C52=10,VLOOKUP(AA52,判定式!$G$15:I$19,3,TRUE),IF(C52=11,VLOOKUP(AA52,判定式!$H$15:I$19,2,TRUE))))))))","v":false}]
[33,null,null,"-",null,null,null,null,null,null,null,null,null,null,null,null,null,null,{"$f":"IF(E53=\"\",\"\",VLOOKUP(E53,判定式!C$3:$J$12,8,TRUE))","v":""},{"$f":"IF(F53=\"\",\"\",VLOOKUP(F53,判定式!D$3:$J$12,7,TRUE))","v":""},{"$f":"IF(G53=\"\",\"\",VLOOKUP(G53,判定式!E$3:$J$12,6,TRUE))","v":""},{"$f":"IF(H53=\"\",\"\",VLOOKUP(H53,判定式!F$3:$J$12,5,TRUE))","v":""},{"$f":"IF(I53=\"\",\"\",VLOOKUP(I53,判定式!I$3:$J$12,2,TRUE))","v":""},{"$f":"IF(J53=\"\",\"\",VLOOKUP(J53,判定式!L$3:$M$12,2,TRUE))","v":""},{"$f":"IF(K53=\"\",\"\",VLOOKUP(K53,判定式!G$3:$J$12,4,TRUE))","v":""},{"$f":"IF(L53=\"\",\"\",VLOOKUP(L53,判定式!H$3:$J$12,3,TRUE))","v":""},"",{"$f":"IF(ISNUMBER(D53),\"判定外\",IF(C53=6,VLOOKUP(AA53,判定式!$C$15:I$19,7,TRUE),IF(C53=7,VLOOKUP(AA53,判定式!$D$15:I$19,6,TRUE),IF(C53=8,VLOOKUP(AA53,判定式!$E$15:I$19,5,TRUE),IF(C53=9,VLOOKUP(AA53,判定式!$F$15:I$19,4,TRUE),IF(C53=10,VLOOKUP(AA53,判定式!$G$15:I$19,3,TRUE),IF(C53=11,VLOOKUP(AA53,判定式!$H$15:I$19,2,TRUE))))))))","v":false}]
[34,null,null,"-",null,null,null,null,null,null,null,null,null,null,null,null,null,null,{"$f":"IF(E54=\"\",\"\",VLOOKUP(E54,判定式!C$3:$J$12,8,TRUE))","v":""},{"$f":"IF(F54=\"\",\"\",VLOOKUP(F54,判定式!D$3:$J$12,7,TRUE))","v":""},{"$f":"IF(G54=\"\",\"\",VLOOKUP(G54,判定式!E$3:$J$12,6,TRUE))","v":""},{"$f":"IF(H54=\"\",\"\",VLOOKUP(H54,判定式!F$3:$J$12,5,TRUE))","v":""},{"$f":"IF(I54=\"\",\"\",VLOOKUP(I54,判定式!I$3:$J$12,2,TRUE))","v":""},{"$f":"IF(J54=\"\",\"\",VLOOKUP(J54,判定式!L$3:$M$12,2,TRUE))","v":""},{"$f":"IF(K54=\"\",\"\",VLOOKUP(K54,判定式!G$3:$J$12,4,TRUE))","v":""},{"$f":"IF(L54=\"\",\"\",VLOOKUP(L54,判定式!H$3:$J$12,3,TRUE))","v":""},"",{"$f":"IF(ISNUMBER(D54),\"判定外\",IF(C54=6,VLOOKUP(AA54,判定式!$C$15:I$19,7,TRUE),IF(C54=7,VLOOKUP(AA54,判定式!$D$15:I$19,6,TRUE),IF(C54=8,VLOOKUP(AA54,判定式!$E$15:I$19,5,TRUE),IF(C54=9,VLOOKUP(AA54,判定式!$F$15:I$19,4,TRUE),IF(C54=10,VLOOKUP(AA54,判定式!$G$15:I$19,3,TRUE),IF(C54=11,VLOOKUP(AA54,判定式!$H$15:I$19,2,TRUE))))))))","v":false}]
[35,null,null,"-",null,null,null,null,null,null,null,null,null,null,null,null,null,null,{"$f":"IF(E55=\"\",\"\",VLOOKUP(E55,判定式!C$3:$J$12,8,TRUE))","v":""},{"$f":"IF(F55=\"\",\"\",VLOOKUP(F55,判定式!D$3:$J$12,7,TRUE))","v":""},{"$f":"IF(G55=\"\",\"\",VLOOKUP(G55,判定式!E$3:$J$12,6,TRUE))","v":""},{"$f":"IF(H55=\"\",\"\",VLOOKUP(H55,判定式!F$3:$J$12,5,TRUE))","v":""},{"$f":"IF(I55=\"\",\"\",VLOOKUP(I55,判定式!I$3:$J$12,2,TRUE))","v":""},{"$f":"IF(J55=\"\",\"\",VLOOKUP(J55,判定式!L$3:$M$12,2,TRUE))","v":""},{"$f":"IF(K55=\"\",\"\",VLOOKUP(K55,判定式!G$3:$J$12,4,TRUE))","v":""},{"$f":"IF(L55=\"\",\"\",VLOOKUP(L55,判定式!H$3:$J$12,3,TRUE))","v":""},"",{"$f":"IF(ISNUMBER(D55),\"判定外\",IF(C55=6,VLOOKUP(AA55,判定式!$C$15:I$19,7,TRUE),IF(C55=7,VLOOKUP(AA55,判定式!$D$15:I$19,6,TRUE),IF(C55=8,VLOOKUP(AA55,判定式!$E$15:I$19,5,TRUE),IF(C55=9,VLOOKUP(AA55,判定式!$F$15:I$19,4,TRUE),IF(C55=10,VLOOKUP(AA55,判定式!$G$15:I$19,3,TRUE),IF(C55=11,VLOOKUP(AA55,判定式!$H$15:I$19,2,TRUE))))))))","v":false}]
[36,null,null,"-",null,null,null,null,null,null,null,null,null,null,null,null,null,null,{"$f":"IF(E56=\"\",\"\",VLOOKUP(E56,判定式!C$3:$J$12,8,TRUE))","v":""},{"$f":"IF(F56=\"\",\"\",VLOOKUP(F56,判定式!D$3:$J$12,7,TRUE))","v":""},{"$f":"IF(G56=\"\",\"\",VLOOKUP(G56,判定式!E$3:$J$12,6,TRUE))","v":""},{"$f":"IF(H56=\"\",\"\",VLOOKUP(H56,判定式!F$3:$J$12,5,TRUE))","v":""},{"$f":"IF(I56=\"\",\"\",VLOOKUP(I56,判定式!I$3:$J$12,2,TRUE))","v":""},{"$f":"IF(J56=\"\",\"\",VLOOKUP(J56,判定式!L$3:$M$12,2,TRUE))","v":""},{"$f":"IF(K56=\"\",\"\",VLOOKUP(K56,判定式!G$3:$J$12,4,TRUE))","v":""},{"$f":"IF(L56=\"\",\"\",VLOOKUP(L56,判定式!H$3:$J$12,3,TRUE))","v":""},"",{"$f":"IF(ISNUMBER(D56),\"判定外\",IF(C56=6,VLOOKUP(AA56,判定式!$C$15:I$19,7,TRUE),IF(C56=7,VLOOKUP(AA56,判定式!$D$15:I$19,6,TRUE),IF(C56=8,VLOOKUP(AA56,判定式!$E$15:I$19,5,TRUE),IF(C56=9,VLOOKUP(AA56,判定式!$F$15:I$19,4,TRUE),IF(C56=10,VLOOKUP(AA56,判定式!$G$15:I$19,3,TRUE),IF(C56=11,VLOOKUP(AA56,判定式!$H$15:I$19,2,TRUE))))))))","v":false}]
[37,null,null,"-",null,null,null,null,null,null,null,null,null,null,null,null,null,null,{"$f":"IF(E57=\"\",\"\",VLOOKUP(E57,判定式!C$3:$J$12,8,TRUE))","v":""},{"$f":"IF(F57=\"\",\"\",VLOOKUP(F57,判定式!D$3:$J$12,7,TRUE))","v":""},{"$f":"IF(G57=\"\",\"\",VLOOKUP(G57,判定式!E$3:$J$12,6,TRUE))","v":""},{"$f":"IF(H57=\"\",\"\",VLOOKUP(H57,判定式!F$3:$J$12,5,TRUE))","v":""},{"$f":"IF(I57=\"\",\"\",VLOOKUP(I57,判定式!I$3:$J$12,2,TRUE))","v":""},{"$f":"IF(J57=\"\",\"\",VLOOKUP(J57,判定式!L$3:$M$12,2,TRUE))","v":""},{"$f":"IF(K57=\"\",\"\",VLOOKUP(K57,判定式!G$3:$J$12,4,TRUE))","v":""},{"$f":"IF(L57=\"\",\"\",VLOOKUP(L57,判定式!H$3:$J$12,3,TRUE))","v":""},"",{"$f":"IF(ISNUMBER(D57),\"判定外\",IF(C57=6,VLOOKUP(AA57,判定式!$C$15:I$19,7,TRUE),IF(C57=7,VLOOKUP(AA57,判定式!$D$15:I$19,6,TRUE),IF(C57=8,VLOOKUP(AA57,判定式!$E$15:I$19,5,TRUE),IF(C57=9,VLOOKUP(AA57,判定式!$F$15:I$19,4,TRUE),IF(C57=10,VLOOKUP(AA57,判定式!$G$15:I$19,3,TRUE),IF(C57=11,VLOOKUP(AA57,判定式!$H$15:I$19,2,TRUE))))))))","v":false}]
[38,null,null,"-",null,null,null,null,null,null,null,null,null,null,null,null,null,null,{"$f":"IF(E58=\"\",\"\",VLOOKUP(E58,判定式!C$3:$J$12,8,TRUE))","v":""},{"$f":"IF(F58=\"\",\"\",VLOOKUP(F58,判定式!D$3:$J$12,7,TRUE))","v":""},{"$f":"IF(G58=\"\",\"\",VLOOKUP(G58,判定式!E$3:$J$12,6,TRUE))","v":""},{"$f":"IF(H58=\"\",\"\",VLOOKUP(H58,判定式!F$3:$J$12,5,TRUE))","v":""},{"$f":"IF(I58=\"\",\"\",VLOOKUP(I58,判定式!I$3:$J$12,2,TRUE))","v":""},{"$f":"IF(J58=\"\",\"\",VLOOKUP(J58,判定式!L$3:$M$12,2,TRUE))","v":""},{"$f":"IF(K58=\"\",\"\",VLOOKUP(K58,判定式!G$3:$J$12,4,TRUE))","v":""},{"$f":"IF(L58=\"\",\"\",VLOOKUP(L58,判定式!H$3:$J$12,3,TRUE))","v":""},"",{"$f":"IF(ISNUMBER(D58),\"判定外\",IF(C58=6,VLOOKUP(AA58,判定式!$C$15:I$19,7,TRUE),IF(C58=7,VLOOKUP(AA58,判定式!$D$15:I$19,6,TRUE),IF(C58=8,VLOOKUP(AA58,判定式!$E$15:I$19,5,TRUE),IF(C58=9,VLOOKUP(AA58,判定式!$F$15:I$19,4,TRUE),IF(C58=10,VLOOKUP(AA58,判定式!$G$15:I$19,3,TRUE),IF(C58=11,VLOOKUP(AA58,判定式!$H$15:I$19,2,TRUE))))))))","v":false}]
[39,null,null,"-",null,null,null,null,null,null,null,null,null,null,null,null,null,null,{"$f":"IF(E59=\"\",\"\",VLOOKUP(E59,判定式!C$3:$J$12,8,TRUE))","v":""},{"$f":"IF(F59=\"\",\"\",VLOOKUP(F59,判定式!D$3:$J$12,7,TRUE))","v":""},{"$f":"IF(G59=\"\",\"\",VLOOKUP(G59,判定式!E$3:$J$12,6,TRUE))","v":""},{"$f":"IF(H59=\"\",\"\",VLOOKUP(H59,判定式!F$3:$J$12,5,TRUE))","v":""},{"$f":"IF(I59=\"\",\"\",VLOOKUP(I59,判定式!I$3:$J$12,2,TRUE))","v":""},{"$f":"IF(J59=\"\",\"\",VLOOKUP(J59,判定式!L$3:$M$12,2,TRUE))","v":""},{"$f":"IF(K59=\"\",\"\",VLOOKUP(K59,判定式!G$3:$J$12,4,TRUE))","v":""},{"$f":"IF(L59=\"\",\"\",VLOOKUP(L59,判定式!H$3:$J$12,3,TRUE))","v":""},"",{"$f":"IF(ISNUMBER(D59),\"判定外\",IF(C59=6,VLOOKUP(AA59,判定式!$C$15:I$19,7,TRUE),IF(C59=7,VLOOKUP(AA59,判定式!$D$15:I$19,6,TRUE),IF(C59=8,VLOOKUP(AA59,判定式!$E$15:I$19,5,TRUE),IF(C59=9,VLOOKUP(AA59,判定式!$F$15:I$19,4,TRUE),IF(C59=10,VLOOKUP(AA59,判定式!$G$15:I$19,3,TRUE),IF(C59=11,VLOOKUP(AA59,判定式!$H$15:I$19,2,TRUE))))))))","v":false}]
[40,null,null,"-",null,null,null,null,null,null,null,null,null,null,null,null,null,null,{"$f":"IF(E60=\"\",\"\",VLOOKUP(E60,判定式!C$3:$J$12,8,TRUE))","v":""},{"$f":"IF(F60=\"\",\"\",VLOOKUP(F60,判定式!D$3:$J$12,7,TRUE))","v":""},{"$f":"IF(G60=\"\",\"\",VLOOKUP(G60,判定式!E$3:$J$12,6,TRUE))","v":""},{"$f":"IF(H60=\"\",\"\",VLOOKUP(H60,判定式!F$3:$J$12,5,TRUE))","v":""},{"$f":"IF(I60=\"\",\"\",VLOOKUP(I60,判定式!I$3:$J$12,2,TRUE))","v":""},{"$f":"IF(J60=\"\",\"\",VLOOKUP(J60,判定式!L$3:$M$12,2,TRUE))","v":""},{"$f":"IF(K60=\"\",\"\",VLOOKUP(K60,判定式!G$3:$J$12,4,TRUE))","v":""},{"$f":"IF(L60=\"\",\"\",VLOOKUP(L60,判定式!H$3:$J$12,3,TRUE))","v":""},"",{"$f":"IF(ISNUMBER(D60),\"判定外\",IF(C60=6,VLOOKUP(AA60,判定式!$C$15:I$19,7,TRUE),IF(C60=7,VLOOKUP(AA60,判定式!$D$15:I$19,6,TRUE),IF(C60=8,VLOOKUP(AA60,判定式!$E$15:I$19,5,TRUE),IF(C60=9,VLOOKUP(AA60,判定式!$F$15:I$19,4,TRUE),IF(C60=10,VLOOKUP(AA60,判定式!$G$15:I$19,3,TRUE),IF(C60=11,VLOOKUP(AA60,判定式!$H$15:I$19,2,TRUE))))))))","v":false}]
[41,null,null,"-",null,null,null,null,null,null,null,null,null,null,null,null,null,null,{"$f":"IF(E61=\"\",\"\",VLOOKUP(E61,判定式!C$3:$J$12,8,TRUE))","v":""},{"$f":"IF(F61=\"\",\"\",VLOOKUP(F61,判定式!D$3:$J$12,7,TRUE))","v":""},{"$f":"IF(G61=\"\",\"\",VLOOKUP(G61,判定式!E$3:$J$12,6,TRUE))","v":""},{"$f":"IF(H61=\"\",\"\",VLOOKUP(H61,判定式!F$3:$J$12,5,TRUE))","v":""},{"$f":"IF(I61=\"\",\"\",VLOOKUP(I61,判定式!I$3:$J$12,2,TRUE))","v":""},{"$f":"IF(J61=\"\",\"\",VLOOKUP(J61,判定式!L$3:$M$12,2,TRUE))","v":""},{"$f":"IF(K61=\"\",\"\",VLOOKUP(K61,判定式!G$3:$J$12,4,TRUE))","v":""},{"$f":"IF(L61=\"\",\"\",VLOOKUP(L61,判定式!H$3:$J$12,3,TRUE))","v":""},"",{"$f":"IF(ISNUMBER(D61),\"判定外\",IF(C61=6,VLOOKUP(AA61,判定式!$C$15:I$19,7,TRUE),IF(C61=7,VLOOKUP(AA61,判定式!$D$15:I$19,6,TRUE),IF(C61=8,VLOOKUP(AA61,判定式!$E$15:I$19,5,TRUE),IF(C61=9,VLOOKUP(AA61,判定式!$F$15:I$19,4,TRUE),IF(C61=10,VLOOKUP(AA61,判定式!$G$15:I$19,3,TRUE),IF(C61=11,VLOOKUP(AA61,判定式!$H$15:I$19,2,TRUE))))))))","v":false}]
[42,null,null,"-",null,null,null,null,null,null,null,null,null,null,null,null,null,null,{"$f":"IF(E62=\"\",\"\",VLOOKUP(E62,判定式!C$3:$J$12,8,TRUE))","v":""},{"$f":"IF(F62=\"\",\"\",VLOOKUP(F62,判定式!D$3:$J$12,7,TRUE))","v":""},{"$f":"IF(G62=\"\",\"\",VLOOKUP(G62,判定式!E$3:$J$12,6,TRUE))","v":""},{"$f":"IF(H62=\"\",\"\",VLOOKUP(H62,判定式!F$3:$J$12,5,TRUE))","v":""},{"$f":"IF(I62=\"\",\"\",VLOOKUP(I62,判定式!I$3:$J$12,2,TRUE))","v":""},{"$f":"IF(J62=\"\",\"\",VLOOKUP(J62,判定式!L$3:$M$12,2,TRUE))","v":""},{"$f":"IF(K62=\"\",\"\",VLOOKUP(K62,判定式!G$3:$J$12,4,TRUE))","v":""},{"$f":"IF(L62=\"\",\"\",VLOOKUP(L62,判定式!H$3:$J$12,3,TRUE))","v":""},"",{"$f":"IF(ISNUMBER(D62),\"判定外\",IF(C62=6,VLOOKUP(AA62,判定式!$C$15:I$19,7,TRUE),IF(C62=7,VLOOKUP(AA62,判定式!$D$15:I$19,6,TRUE),IF(C62=8,VLOOKUP(AA62,判定式!$E$15:I$19,5,TRUE),IF(C62=9,VLOOKUP(AA62,判定式!$F$15:I$19,4,TRUE),IF(C62=10,VLOOKUP(AA62,判定式!$G$15:I$19,3,TRUE),IF(C62=11,VLOOKUP(AA62,判定式!$H$15:I$19,2,TRUE))))))))","v":false}]
[43,null,null,"-",null,null,null,null,null,null,null,null,null,null,null,null,null,null,{"$f":"IF(E63=\"\",\"\",VLOOKUP(E63,判定式!C$3:$J$12,8,TRUE))","v":""},{"$f":"IF(F63=\"\",\"\",VLOOKUP(F63,判定式!D$3:$J$12,7,TRUE))","v":""},{"$f":"IF(G63=\"\",\"\",VLOOKUP(G63,判定式!E$3:$J$12,6,TRUE))","v":""},{"$f":"IF(H63=\"\",\"\",VLOOKUP(H63,判定式!F$3:$J$12,5,TRUE))","v":""},{"$f":"IF(I63=\"\",\"\",VLOOKUP(I63,判定式!I$3:$J$12,2,TRUE))","v":""},{"$f":"IF(J63=\"\",\"\",VLOOKUP(J63,判定式!L$3:$M$12,2,TRUE))","v":""},{"$f":"IF(K63=\"\",\"\",VLOOKUP(K63,判定式!G$3:$J$12,4,TRUE))","v":""},{"$f":"IF(L63=\"\",\"\",VLOOKUP(L63,判定式!H$3:$J$12,3,TRUE))","v":""},"",{"$f":"IF(ISNUMBER(D63),\"判定外\",IF(C63=6,VLOOKUP(AA63,判定式!$C$15:I$19,7,TRUE),IF(C63=7,VLOOKUP(AA63,判定式!$D$15:I$19,6,TRUE),IF(C63=8,VLOOKUP(AA63,判定式!$E$15:I$19,5,TRUE),IF(C63=9,VLOOKUP(AA63,判定式!$F$15:I$19,4,TRUE),IF(C63=10,VLOOKUP(AA63,判定式!$G$15:I$19,3,TRUE),IF(C63=11,VLOOKUP(AA63,判定式!$H$15:I$19,2,TRUE))))))))","v":false}]
[44,null,null,"-",null,null,null,null,null,null,null,null,null,null,null,null,null,null,{"$f":"IF(E64=\"\",\"\",VLOOKUP(E64,判定式!C$3:$J$12,8,TRUE))","v":""},{"$f":"IF(F64=\"\",\"\",VLOOKUP(F64,判定式!D$3:$J$12,7,TRUE))","v":""},{"$f":"IF(G64=\"\",\"\",VLOOKUP(G64,判定式!E$3:$J$12,6,TRUE))","v":""},{"$f":"IF(H64=\"\",\"\",VLOOKUP(H64,判定式!F$3:$J$12,5,TRUE))","v":""},{"$f":"IF(I64=\"\",\"\",VLOOKUP(I64,判定式!I$3:$J$12,2,TRUE))","v":""},{"$f":"IF(J64=\"\",\"\",VLOOKUP(J64,判定式!L$3:$M$12,2,TRUE))","v":""},{"$f":"IF(K64=\"\",\"\",VLOOKUP(K64,判定式!G$3:$J$12,4,TRUE))","v":""},{"$f":"IF(L64=\"\",\"\",VLOOKUP(L64,判定式!H$3:$J$12,3,TRUE))","v":""},"",{"$f":"IF(ISNUMBER(D64),\"判定外\",IF(C64=6,VLOOKUP(AA64,判定式!$C$15:I$19,7,TRUE),IF(C64=7,VLOOKUP(AA64,判定式!$D$15:I$19,6,TRUE),IF(C64=8,VLOOKUP(AA64,判定式!$E$15:I$19,5,TRUE),IF(C64=9,VLOOKUP(AA64,判定式!$F$15:I$19,4,TRUE),IF(C64=10,VLOOKUP(AA64,判定式!$G$15:I$19,3,TRUE),IF(C64=11,VLOOKUP(AA64,判定式!$H$15:I$19,2,TRUE))))))))","v":false}]
[45,null,null,"-",null,null,null,null,null,null,null,null,null,null,null,null,null,null,{"$f":"IF(E65=\"\",\"\",VLOOKUP(E65,判定式!C$3:$J$12,8,TRUE))","v":""},{"$f":"IF(F65=\"\",\"\",VLOOKUP(F65,判定式!D$3:$J$12,7,TRUE))","v":""},{"$f":"IF(G65=\"\",\"\",VLOOKUP(G65,判定式!E$3:$J$12,6,TRUE))","v":""},{"$f":"IF(H65=\"\",\"\",VLOOKUP(H65,判定式!F$3:$J$12,5,TRUE))","v":""},{"$f":"IF(I65=\"\",\"\",VLOOKUP(I65,判定式!I$3:$J$12,2,TRUE))","v":""},{"$f":"IF(J65=\"\",\"\",VLOOKUP(J65,判定式!L$3:$M$12,2,TRUE))","v":""},{"$f":"IF(K65=\"\",\"\",VLOOKUP(K65,判定式!G$3:$J$12,4,TRUE))","v":""},{"$f":"IF(L65=\"\",\"\",VLOOKUP(L65,判定式!H$3:$J$12,3,TRUE))","v":""},"",{"$f":"IF(ISNUMBER(D65),\"判定外\",IF(C65=6,VLOOKUP(AA65,判定式!$C$15:I$19,7,TRUE),IF(C65=7,VLOOKUP(AA65,判定式!$D$15:I$19,6,TRUE),IF(C65=8,VLOOKUP(AA65,判定式!$E$15:I$19,5,TRUE),IF(C65=9,VLOOKUP(AA65,判定式!$F$15:I$19,4,TRUE),IF(C65=10,VLOOKUP(AA65,判定式!$G$15:I$19,3,TRUE),IF(C65=11,VLOOKUP(AA65,判定式!$H$15:I$19,2,TRUE))))))))","v":false}]
[46,null,null,"-",null,null,null,null,null,null,null,null,null,null,null,null,null,null,{"$f":"IF(E66=\"\",\"\",VLOOKUP(E66,判定式!C$3:$J$12,8,TRUE))","v":""},{"$f":"IF(F66=\"\",\"\",VLOOKUP(F66,判定式!D$3:$J$12,7,TRUE))","v":""},{"$f":"IF(G66=\"\",\"\",VLOOKUP(G66,判定式!E$3:$J$12,6,TRUE))","v":""},{"$f":"IF(H66=\"\",\"\",VLOOKUP(H66,判定式!F$3:$J$12,5,TRUE))","v":""},{"$f":"IF(I66=\"\",\"\",VLOOKUP(I66,判定式!I$3:$J$12,2,TRUE))","v":""},{"$f":"IF(J66=\"\",\"\",VLOOKUP(J66,判定式!L$3:$M$12,2,TRUE))","v":""},{"$f":"IF(K66=\"\",\"\",VLOOKUP(K66,判定式!G$3:$J$12,4,TRUE))","v":""},{"$f":"IF(L66=\"\",\"\",VLOOKUP(L66,判定式!H$3:$J$12,3,TRUE))","v":""},"",{"$f":"IF(ISNUMBER(D66),\"判定外\",IF(C66=6,VLOOKUP(AA66,判定式!$C$15:I$19,7,TRUE),IF(C66=7,VLOOKUP(AA66,判定式!$D$15:I$19,6,TRUE),IF(C66=8,VLOOKUP(AA66,判定式!$E$15:I$19,5,TRUE),IF(C66=9,VLOOKUP(AA66,判定式!$F$15:I$19,4,TRUE),IF(C66=10,VLOOKUP(AA66,判定式!$G$15:I$19,3,TRUE),IF(C66=11,VLOOKUP(AA66,判定式!$H$15:I$19,2,TRUE))))))))","v":false}]
[47,null,null,"-",null,null,null,null,null,null,null,null,null,null,null,null,null,null,{"$f":"IF(E67=\"\",\"\",VLOOKUP(E67,判定式!C$3:$J$12,8,TRUE))","v":""},{"$f":"IF(F67=\"\",\"\",VLOOKUP(F67,判定式!D$3:$J$12,7,TRUE))","v":""},{"$f":"IF(G67=\"\",\"\",VLOOKUP(G67,判定式!E$3:$J$12,6,TRUE))","v":""},{"$f":"IF(H67=\"\",\"\",VLOOKUP(H67,判定式!F$3:$J$12,5,TRUE))","v":""},{"$f":"IF(I67=\"\",\"\",VLOOKUP(I67,判定式!I$3:$J$12,2,TRUE))","v":""},{"$f":"IF(J67=\"\",\"\",VLOOKUP(J67,判定式!L$3:$M$12,2,TRUE))","v":""},{"$f":"IF(K67=\"\",\"\",VLOOKUP(K67,判定式!G$3:$J$12,4,TRUE))","v":""},{"$f":"IF(L67=\"\",\"\",VLOOKUP(L67,判定式!H$3:$J$12,3,TRUE))","v":""},"",{"$f":"IF(ISNUMBER(D67),\"判定外\",IF(C67=6,VLOOKUP(AA67,判定式!$C$15:I$19,7,TRUE),IF(C67=7,VLOOKUP(AA67,判定式!$D$15:I$19,6,TRUE),IF(C67=8,VLOOKUP(AA67,判定式!$E$15:I$19,5,TRUE),IF(C67=9,VLOOKUP(AA67,判定式!$F$15:I$19,4,TRUE),IF(C67=10,VLOOKUP(AA67,判定式!$G$15:I$19,3,TRUE),IF(C67=11,VLOOKUP(AA67,判定式!$H$15:I$19,2,TRUE))))))))","v":false}]
[48,null,null,"-",null,null,null,null,null,null,null,null,null,null,null,null,null,null,{"$f":"IF(E68=\"\",\"\",VLOOKUP(E68,判定式!C$3:$J$12,8,TRUE))","v":""},{"$f":"IF(F68=\"\",\"\",VLOOKUP(F68,判定式!D$3:$J$12,7,TRUE))","v":""},{"$f":"IF(G68=\"\",\"\",VLOOKUP(G68,判定式!E$3:$J$12,6,TRUE))","v":""},{"$f":"IF(H68=\"\",\"\",VLOOKUP(H68,判定式!F$3:$J$12,5,TRUE))","v":""},{"$f":"IF(I68=\"\",\"\",VLOOKUP(I68,判定式!I$3:$J$12,2,TRUE))","v":""},{"$f":"IF(J68=\"\",\"\",VLOOKUP(J68,判定式!L$3:$M$12,2,TRUE))","v":""},{"$f":"IF(K68=\"\",\"\",VLOOKUP(K68,判定式!G$3:$J$12,4,TRUE))","v":""},{"$f":"IF(L68=\"\",\"\",VLOOKUP(L68,判定式!H$3:$J$12,3,TRUE))","v":""},"",{"$f":"IF(ISNUMBER(D68),\"判定外\",IF(C68=6,VLOOKUP(AA68,判定式!$C$15:I$19,7,TRUE),IF(C68=7,VLOOKUP(AA68,判定式!$D$15:I$19,6,TRUE),IF(C68=8,VLOOKUP(AA68,判定式!$E$15:I$19,5,TRUE),IF(C68=9,VLOOKUP(AA68,判定式!$F$15:I$19,4,TRUE),IF(C68=10,VLOOKUP(AA68,判定式!$G$15:I$19,3,TRUE),IF(C68=11,VLOOKUP(AA68,判定式!$H$15:I$19,2,TRUE))))))))","v":false}]
[49,null,null,"-",null,null,null,null,null,null,null,null,null,null,null,null,null,null,{"$f":"IF(E69=\"\",\"\",VLOOKUP(E69,判定式!C$3:$J$12,8,TRUE))","v":""},{"$f":"IF(F69=\"\",\"\",VLOOKUP(F69,判定式!D$3:$J$12,7,TRUE))","v":""},{"$f":"IF(G69=\"\",\"\",VLOOKUP(G69,判定式!E$3:$J$12,6,TRUE))","v":""},{"$f":"IF(H69=\"\",\"\",VLOOKUP(H69,判定式!F$3:$J$12,5,TRUE))","v":""},{"$f":"IF(I69=\"\",\"\",VLOOKUP(I69,判定式!I$3:$J$12,2,TRUE))","v":""},{"$f":"IF(J69=\"\",\"\",VLOOKUP(J69,判定式!L$3:$M$12,2,TRUE))","v":""},{"$f":"IF(K69=\"\",\"\",VLOOKUP(K69,判定式!G$3:$J$12,4,TRUE))","v":""},{"$f":"IF(L69=\"\",\"\",VLOOKUP(L69,判定式!H$3:$J$12,3,TRUE))","v":""},"",{"$f":"IF(ISNUMBER(D69),\"判定外\",IF(C69=6,VLOOKUP(AA69,判定式!$C$15:I$19,7,TRUE),IF(C69=7,VLOOKUP(AA69,判定式!$D$15:I$19,6,TRUE),IF(C69=8,VLOOKUP(AA69,判定式!$E$15:I$19,5,TRUE),IF(C69=9,VLOOKUP(AA69,判定式!$F$15:I$19,4,TRUE),IF(C69=10,VLOOKUP(AA69,判定式!$G$15:I$19,3,TRUE),IF(C69=11,VLOOKUP(AA69,判定式!$H$15:I$19,2,TRUE))))))))","v":false}]
[50,null,null,"-",null,null,null,null,null,null,null,null,null,null,null,null,null,null,{"$f":"IF(E70=\"\",\"\",VLOOKUP(E70,判定式!C$3:$J$12,8,TRUE))","v":""},{"$f":"IF(F70=\"\",\"\",VLOOKUP(F70,判定式!D$3:$J$12,7,TRUE))","v":""},{"$f":"IF(G70=\"\",\"\",VLOOKUP(G70,判定式!E$3:$J$12,6,TRUE))","v":""},{"$f":"IF(H70=\"\",\"\",VLOOKUP(H70,判定式!F$3:$J$12,5,TRUE))","v":""},{"$f":"IF(I70=\"\",\"\",VLOOKUP(I70,判定式!I$3:$J$12,2,TRUE))","v":""},{"$f":"IF(J70=\"\",\"\",VLOOKUP(J70,判定式!L$3:$M$12,2,TRUE))","v":""},{"$f":"IF(K70=\"\",\"\",VLOOKUP(K70,判定式!G$3:$J$12,4,TRUE))","v":""},{"$f":"IF(L70=\"\",\"\",VLOOKUP(L70,判定式!H$3:$J$12,3,TRUE))","v":""},"",{"$f":"IF(ISNUMBER(D70),\"判定外\",IF(C70=6,VLOOKUP(AA70,判定式!$C$15:I$19,7,TRUE),IF(C70=7,VLOOKUP(AA70,判定式!$D$15:I$19,6,TRUE),IF(C70=8,VLOOKUP(AA70,判定式!$E$15:I$19,5,TRUE),IF(C70=9,VLOOKUP(AA70,判定式!$F$15:I$19,4,TRUE),IF(C70=10,VLOOKUP(AA70,判定式!$G$15:I$19,3,TRUE),IF(C70=11,VLOOKUP(AA70,判定式!$H$15:I$19,2,TRUE))))))))","v":false}]
[51,null,null,"-",null,null,null,null,null,null,null,null,null,null,null,null,null,null,{"$f":"IF(E71=\"\",\"\",VLOOKUP(E71,判定式!C$3:$J$12,8,TRUE))","v":""},{"$f":"IF(F71=\"\",\"\",VLOOKUP(F71,判定式!D$3:$J$12,7,TRUE))","v":""},{"$f":"IF(G71=\"\",\"\",VLOOKUP(G71,判定式!E$3:$J$12,6,TRUE))","v":""},{"$f":"IF(H71=\"\",\"\",VLOOKUP(H71,判定式!F$3:$J$12,5,TRUE))","v":""},{"$f":"IF(I71=\"\",\"\",VLOOKUP(I71,判定式!I$3:$J$12,2,TRUE))","v":""},{"$f":"IF(J71=\"\",\"\",VLOOKUP(J71,判定式!L$3:$M$12,2,TRUE))","v":""},{"$f":"IF(K71=\"\",\"\",VLOOKUP(K71,判定式!G$3:$J$12,4,TRUE))","v":""},{"$f":"IF(L71=\"\",\"\",VLOOKUP(L71,判定式!H$3:$J$12,3,TRUE))","v":""},"",{"$f":"IF(ISNUMBER(D71),\"判定外\",IF(C71=6,VLOOKUP(AA71,判定式!$C$15:I$19,7,TRUE),IF(C71=7,VLOOKUP(AA71,判定式!$D$15:I$19,6,TRUE),IF(C71=8,VLOOKUP(AA71,判定式!$E$15:I$19,5,TRUE),IF(C71=9,VLOOKUP(AA71,判定式!$F$15:I$19,4,TRUE),IF(C71=10,VLOOKUP(AA71,判定式!$G$15:I$19,3,TRUE),IF(C71=11,VLOOKUP(AA71,判定式!$H$15:I$19,2,TRUE))))))))","v":false}]
[52,null,null,"-",null,null,null,null,null,null,null,null,null,null,null,null,null,null,{"$f":"IF(E72=\"\",\"\",VLOOKUP(E72,判定式!C$3:$J$12,8,TRUE))","v":""},{"$f":"IF(F72=\"\",\"\",VLOOKUP(F72,判定式!D$3:$J$12,7,TRUE))","v":""},{"$f":"IF(G72=\"\",\"\",VLOOKUP(G72,判定式!E$3:$J$12,6,TRUE))","v":""},{"$f":"IF(H72=\"\",\"\",VLOOKUP(H72,判定式!F$3:$J$12,5,TRUE))","v":""},{"$f":"IF(I72=\"\",\"\",VLOOKUP(I72,判定式!I$3:$J$12,2,TRUE))","v":""},{"$f":"IF(J72=\"\",\"\",VLOOKUP(J72,判定式!L$3:$M$12,2,TRUE))","v":""},{"$f":"IF(K72=\"\",\"\",VLOOKUP(K72,判定式!G$3:$J$12,4,TRUE))","v":""},{"$f":"IF(L72=\"\",\"\",VLOOKUP(L72,判定式!H$3:$J$12,3,TRUE))","v":""},"",{"$f":"IF(ISNUMBER(D72),\"判定外\",IF(C72=6,VLOOKUP(AA72,判定式!$C$15:I$19,7,TRUE),IF(C72=7,VLOOKUP(AA72,判定式!$D$15:I$19,6,TRUE),IF(C72=8,VLOOKUP(AA72,判定式!$E$15:I$19,5,TRUE),IF(C72=9,VLOOKUP(AA72,判定式!$F$15:I$19,4,TRUE),IF(C72=10,VLOOKUP(AA72,判定式!$G$15:I$19,3,TRUE),IF(C72=11,VLOOKUP(AA72,判定式!$H$15:I$19,2,TRUE))))))))","v":false}]
[53,null,null,"-",null,null,null,null,null,null,null,null,null,null,null,null,null,null,{"$f":"IF(E73=\"\",\"\",VLOOKUP(E73,判定式!C$3:$J$12,8,TRUE))","v":""},{"$f":"IF(F73=\"\",\"\",VLOOKUP(F73,判定式!D$3:$J$12,7,TRUE))","v":""},{"$f":"IF(G73=\"\",\"\",VLOOKUP(G73,判定式!E$3:$J$12,6,TRUE))","v":""},{"$f":"IF(H73=\"\",\"\",VLOOKUP(H73,判定式!F$3:$J$12,5,TRUE))","v":""},{"$f":"IF(I73=\"\",\"\",VLOOKUP(I73,判定式!I$3:$J$12,2,TRUE))","v":""},{"$f":"IF(J73=\"\",\"\",VLOOKUP(J73,判定式!L$3:$M$12,2,TRUE))","v":""},{"$f":"IF(K73=\"\",\"\",VLOOKUP(K73,判定式!G$3:$J$12,4,TRUE))","v":""},{"$f":"IF(L73=\"\",\"\",VLOOKUP(L73,判定式!H$3:$J$12,3,TRUE))","v":""},"",{"$f":"IF(ISNUMBER(D73),\"判定外\",IF(C73=6,VLOOKUP(AA73,判定式!$C$15:I$19,7,TRUE),IF(C73=7,VLOOKUP(AA73,判定式!$D$15:I$19,6,TRUE),IF(C73=8,VLOOKUP(AA73,判定式!$E$15:I$19,5,TRUE),IF(C73=9,VLOOKUP(AA73,判定式!$F$15:I$19,4,TRUE),IF(C73=10,VLOOKUP(AA73,判定式!$G$15:I$19,3,TRUE),IF(C73=11,VLOOKUP(AA73,判定式!$H$15:I$19,2,TRUE))))))))","v":false}]
[54,null,null,"-",null,null,null,null,null,null,null,null,null,null,null,null,null,null,{"$f":"IF(E74=\"\",\"\",VLOOKUP(E74,判定式!C$3:$J$12,8,TRUE))","v":""},{"$f":"IF(F74=\"\",\"\",VLOOKUP(F74,判定式!D$3:$J$12,7,TRUE))","v":""},{"$f":"IF(G74=\"\",\"\",VLOOKUP(G74,判定式!E$3:$J$12,6,TRUE))","v":""},{"$f":"IF(H74=\"\",\"\",VLOOKUP(H74,判定式!F$3:$J$12,5,TRUE))","v":""},{"$f":"IF(I74=\"\",\"\",VLOOKUP(I74,判定式!I$3:$J$12,2,TRUE))","v":""},{"$f":"IF(J74=\"\",\"\",VLOOKUP(J74,判定式!L$3:$M$12,2,TRUE))","v":""},{"$f":"IF(K74=\"\",\"\",VLOOKUP(K74,判定式!G$3:$J$12,4,TRUE))","v":""},{"$f":"IF(L74=\"\",\"\",VLOOKUP(L74,判定式!H$3:$J$12,3,TRUE))","v":""},"",{"$f":"IF(ISNUMBER(D74),\"判定外\",IF(C74=6,VLOOKUP(AA74,判定式!$C$15:I$19,7,TRUE),IF(C74=7,VLOOKUP(AA74,判定式!$D$15:I$19,6,TRUE),IF(C74=8,VLOOKUP(AA74,判定式!$E$15:I$19,5,TRUE),IF(C74=9,VLOOKUP(AA74,判定式!$F$15:I$19,4,TRUE),IF(C74=10,VLOOKUP(AA74,判定式!$G$15:I$19,3,TRUE),IF(C74=11,VLOOKUP(AA74,判定式!$H$15:I$19,2,TRUE))))))))","v":false}]
[55,null,null,"-",null,null,null,null,null,null,null,null,null,null,null,null,null,null,{"$f":"IF(E75=\"\",\"\",VLOOKUP(E75,判定式!C$3:$J$12,8,TRUE))","v":""},{"$f":"IF(F75=\"\",\"\",VLOOKUP(F75,判定式!D$3:$J$12,7,TRUE))","v":""},{"$f":"IF(G75=\"\",\"\",VLOOKUP(G75,判定式!E$3:$J$12,6,TRUE))","v":""},{"$f":"IF(H75=\"\",\"\",VLOOKUP(H75,判定式!F$3:$J$12,5,TRUE))","v":""},{"$f":"IF(I75=\"\",\"\",VLOOKUP(I75,判定式!I$3:$J$12,2,TRUE))","v":""},{"$f":"IF(J75=\"\",\"\",VLOOKUP(J75,判定式!L$3:$M$12,2,TRUE))","v":""},{"$f":"IF(K75=\"\",\"\",VLOOKUP(K75,判定式!G$3:$J$12,4,TRUE))","v":""},{"$f":"IF(L75=\"\",\"\",VLOOKUP(L75,判定式!H$3:$J$12,3,TRUE))","v":""},"",{"$f":"IF(ISNUMBER(D75),\"判定外\",IF(C75=6,VLOOKUP(AA75,判定式!$C$15:I$19,7,TRUE),IF(C75=7,VLOOKUP(AA75,判定式!$D$15:I$19,6,TRUE),IF(C75=8,VLOOKUP(AA75,判定式!$E$15:I$19,5,TRUE),IF(C75=9,VLOOKUP(AA75,判定式!$F$15:I$19,4,TRUE),IF(C75=10,VLOOKUP(AA75,判定式!$G$15:I$19,3,TRUE),IF(C75=11,VLOOKUP(AA75,判定式!$H$15:I$19,2,TRUE))))))))","v":false}]
[56,null,null,"-",null,null,null,null,null,null,null,null,null,null,null,null,null,null,{"$f":"IF(E76=\"\",\"\",VLOOKUP(E76,判定式!C$3:$J$12,8,TRUE))","v":""},{"$f":"IF(F76=\"\",\"\",VLOOKUP(F76,判定式!D$3:$J$12,7,TRUE))","v":""},{"$f":"IF(G76=\"\",\"\",VLOOKUP(G76,判定式!E$3:$J$12,6,TRUE))","v":""},{"$f":"IF(H76=\"\",\"\",VLOOKUP(H76,判定式!F$3:$J$12,5,TRUE))","v":""},{"$f":"IF(I76=\"\",\"\",VLOOKUP(I76,判定式!I$3:$J$12,2,TRUE))","v":""},{"$f":"IF(J76=\"\",\"\",VLOOKUP(J76,判定式!L$3:$M$12,2,TRUE))","v":""},{"$f":"IF(K76=\"\",\"\",VLOOKUP(K76,判定式!G$3:$J$12,4,TRUE))","v":""},{"$f":"IF(L76=\"\",\"\",VLOOKUP(L76,判定式!H$3:$J$12,3,TRUE))","v":""},"",{"$f":"IF(ISNUMBER(D76),\"判定外\",IF(C76=6,VLOOKUP(AA76,判定式!$C$15:I$19,7,TRUE),IF(C76=7,VLOOKUP(AA76,判定式!$D$15:I$19,6,TRUE),IF(C76=8,VLOOKUP(AA76,判定式!$E$15:I$19,5,TRUE),IF(C76=9,VLOOKUP(AA76,判定式!$F$15:I$19,4,TRUE),IF(C76=10,VLOOKUP(AA76,判定式!$G$15:I$19,3,TRUE),IF(C76=11,VLOOKUP(AA76,判定式!$H$15:I$19,2,TRUE))))))))","v":false}]
[57,null,null,"-",null,null,null,null,null,null,null,null,null,null,null,null,null,null,{"$f":"IF(E77=\"\",\"\",VLOOKUP(E77,判定式!C$3:$J$12,8,TRUE))","v":""},{"$f":"IF(F77=\"\",\"\",VLOOKUP(F77,判定式!D$3:$J$12,7,TRUE))","v":""},{"$f":"IF(G77=\"\",\"\",VLOOKUP(G77,判定式!E$3:$J$12,6,TRUE))","v":""},{"$f":"IF(H77=\"\",\"\",VLOOKUP(H77,判定式!F$3:$J$12,5,TRUE))","v":""},{"$f":"IF(I77=\"\",\"\",VLOOKUP(I77,判定式!I$3:$J$12,2,TRUE))","v":""},{"$f":"IF(J77=\"\",\"\",VLOOKUP(J77,判定式!L$3:$M$12,2,TRUE))","v":""},{"$f":"IF(K77=\"\",\"\",VLOOKUP(K77,判定式!G$3:$J$12,4,TRUE))","v":""},{"$f":"IF(L77=\"\",\"\",VLOOKUP(L77,判定式!H$3:$J$12,3,TRUE))","v":""},"",{"$f":"IF(ISNUMBER(D77),\"判定外\",IF(C77=6,VLOOKUP(AA77,判定式!$C$15:I$19,7,TRUE),IF(C77=7,VLOOKUP(AA77,判定式!$D$15:I$19,6,TRUE),IF(C77=8,VLOOKUP(AA77,判定式!$E$15:I$19,5,TRUE),IF(C77=9,VLOOKUP(AA77,判定式!$F$15:I$19,4,TRUE),IF(C77=10,VLOOKUP(AA77,判定式!$G$15:I$19,3,TRUE),IF(C77=11,VLOOKUP(AA77,判定式!$H$15:I$19,2,TRUE))))))))","v":false}]
[58,null,null,"-",null,null,null,null,null,null,null,null,null,null,null,null,null,null,{"$f":"IF(E78=\"\",\"\",VLOOKUP(E78,判定式!C$3:$J$12,8,TRUE))","v":""},{"$f":"IF(F78=\"\",\"\",VLOOKUP(F78,判定式!D$3:$J$12,7,TRUE))","v":""},{"$f":"IF(G78=\"\",\"\",VLOOKUP(G78,判定式!E$3:$J$12,6,TRUE))","v":""},{"$f":"IF(H78=\"\",\"\",VLOOKUP(H78,判定式!F$3:$J$12,5,TRUE))","v":""},{"$f":"IF(I78=\"\",\"\",VLOOKUP(I78,判定式!I$3:$J$12,2,TRUE))","v":""},{"$f":"IF(J78=\"\",\"\",VLOOKUP(J78,判定式!L$3:$M$12,2,TRUE))","v":""},{"$f":"IF(K78=\"\",\"\",VLOOKUP(K78,判定式!G$3:$J$12,4,TRUE))","v":""},{"$f":"IF(L78=\"\",\"\",VLOOKUP(L78,判定式!H$3:$J$12,3,TRUE))","v":""},"",{"$f":"IF(ISNUMBER(D78),\"判定外\",IF(C78=6,VLOOKUP(AA78,判定式!$C$15:I$19,7,TRUE),IF(C78=7,VLOOKUP(AA78,判定式!$D$15:I$19,6,TRUE),IF(C78=8,VLOOKUP(AA78,判定式!$E$15:I$19,5,TRUE),IF(C78=9,VLOOKUP(AA78,判定式!$F$15:I$19,4,TRUE),IF(C78=10,VLOOKUP(AA78,判定式!$G$15:I$19,3,TRUE),IF(C78=11,VLOOKUP(AA78,判定式!$H$15:I$19,2,TRUE))))))))","v":false}]
[59,null,null,"-",null,null,null,null,null,null,null,null,null,null,null,null,null,null,{"$f":"IF(E79=\"\",\"\",VLOOKUP(E79,判定式!C$3:$J$12,8,TRUE))","v":""},{"$f":"IF(F79=\"\",\"\",VLOOKUP(F79,判定式!D$3:$J$12,7,TRUE))","v":""},{"$f":"IF(G79=\"\",\"\",VLOOKUP(G79,判定式!E$3:$J$12,6,TRUE))","v":""},{"$f":"IF(H79=\"\",\"\",VLOOKUP(H79,判定式!F$3:$J$12,5,TRUE))","v":""},{"$f":"IF(I79=\"\",\"\",VLOOKUP(I79,判定式!I$3:$J$12,2,TRUE))","v":""},{"$f":"IF(J79=\"\",\"\",VLOOKUP(J79,判定式!L$3:$M$12,2,TRUE))","v":""},{"$f":"IF(K79=\"\",\"\",VLOOKUP(K79,判定式!G$3:$J$12,4,TRUE))","v":""},{"$f":"IF(L79=\"\",\"\",VLOOKUP(L79,判定式!H$3:$J$12,3,TRUE))","v":""},"",{"$f":"IF(ISNUMBER(D79),\"判定外\",IF(C79=6,VLOOKUP(AA79,判定式!$C$15:I$19,7,TRUE),IF(C79=7,VLOOKUP(AA79,判定式!$D$15:I$19,6,TRUE),IF(C79=8,VLOOKUP(AA79,判定式!$E$15:I$19,5,TRUE),IF(C79=9,VLOOKUP(AA79,判定式!$F$15:I$19,4,TRUE),IF(C79=10,VLOOKUP(AA79,判定式!$G$15:I$19,3,TRUE),IF(C79=11,VLOOKUP(AA79,判定式!$H$15:I$19,2,TRUE))))))))","v":false}]
[60,null,null,"-",null,null,null,null,null,null,null,null,null,null,null,null,null,null,{"$f":"IF(E80=\"\",\"\",VLOOKUP(E80,判定式!C$3:$J$12,8,TRUE))","v":""},{"$f":"IF(F80=\"\",\"\",VLOOKUP(F80,判定式!D$3:$J$12,7,TRUE))","v":""},{"$f":"IF(G80=\"\",\"\",VLOOKUP(G80,判定式!E$3:$J$12,6,TRUE))","v":""},{"$f":"IF(H80=\"\",\"\",VLOOKUP(H80,判定式!F$3:$J$12,5,TRUE))","v":""},{"$f":"IF(I80=\"\",\"\",VLOOKUP(I80,判定式!I$3:$J$12,2,TRUE))","v":""},{"$f":"IF(J80=\"\",\"\",VLOOKUP(J80,判定式!L$3:$M$12,2,TRUE))","v":""},{"$f":"IF(K80=\"\",\"\",VLOOKUP(K80,判定式!G$3:$J$12,4,TRUE))","v":""},{"$f":"IF(L80=\"\",\"\",VLOOKUP(L80,判定式!H$3:$J$12,3,TRUE))","v":""},"",{"$f":"IF(ISNUMBER(D80),\"判定外\",IF(C80=6,VLOOKUP(AA80,判定式!$C$15:I$19,7,TRUE),IF(C80=7,VLOOKUP(AA80,判定式!$D$15:I$19,6,TRUE),IF(C80=8,VLOOKUP(AA80,判定式!$E$15:I$19,5,TRUE),IF(C80=9,VLOOKUP(AA80,判定式!$F$15:I$19,4,TRUE),IF(C80=10,VLOOKUP(AA80,判定式!$G$15:I$19,3,TRUE),IF(C80=11,VLOOKUP(AA80,判定式!$H$15:I$19,2,TRUE))))))))","v":false}]
[61,null,null,"-",null,null,null,null,null,null,null,null,null,null,null,null,null,null,{"$f":"IF(E81=\"\",\"\",VLOOKUP(E81,判定式!C$3:$J$12,8,TRUE))","v":""},{"$f":"IF(F81=\"\",\"\",VLOOKUP(F81,判定式!D$3:$J$12,7,TRUE))","v":""},{"$f":"IF(G81=\"\",\"\",VLOOKUP(G81,判定式!E$3:$J$12,6,TRUE))","v":""},{"$f":"IF(H81=\"\",\"\",VLOOKUP(H81,判定式!F$3:$J$12,5,TRUE))","v":""},{"$f":"IF(I81=\"\",\"\",VLOOKUP(I81,判定式!I$3:$J$12,2,TRUE))","v":""},{"$f":"IF(J81=\"\",\"\",VLOOKUP(J81,判定式!L$3:$M$12,2,TRUE))","v":""},{"$f":"IF(K81=\"\",\"\",VLOOKUP(K81,判定式!G$3:$J$12,4,TRUE))","v":""},{"$f":"IF(L81=\"\",\"\",VLOOKUP(L81,判定式!H$3:$J$12,3,TRUE))","v":""},"",{"$f":"IF(ISNUMBER(D81),\"判定外\",IF(C81=6,VLOOKUP(AA81,判定式!$C$15:I$19,7,TRUE),IF(C81=7,VLOOKUP(AA81,判定式!$D$15:I$19,6,TRUE),IF(C81=8,VLOOKUP(AA81,判定式!$E$15:I$19,5,TRUE),IF(C81=9,VLOOKUP(AA81,判定式!$F$15:I$19,4,TRUE),IF(C81=10,VLOOKUP(AA81,判定式!$G$15:I$19,3,TRUE),IF(C81=11,VLOOKUP(AA81,判定式!$H$15:I$19,2,TRUE))))))))","v":false}]
[62,null,null,"-",null,null,null,null,null,null,null,null,null,null,null,null,null,null,{"$f":"IF(E82=\"\",\"\",VLOOKUP(E82,判定式!C$3:$J$12,8,TRUE))","v":""},{"$f":"IF(F82=\"\",\"\",VLOOKUP(F82,判定式!D$3:$J$12,7,TRUE))","v":""},{"$f":"IF(G82=\"\",\"\",VLOOKUP(G82,判定式!E$3:$J$12,6,TRUE))","v":""},{"$f":"IF(H82=\"\",\"\",VLOOKUP(H82,判定式!F$3:$J$12,5,TRUE))","v":""},{"$f":"IF(I82=\"\",\"\",VLOOKUP(I82,判定式!I$3:$J$12,2,TRUE))","v":""},{"$f":"IF(J82=\"\",\"\",VLOOKUP(J82,判定式!L$3:$M$12,2,TRUE))","v":""},{"$f":"IF(K82=\"\",\"\",VLOOKUP(K82,判定式!G$3:$J$12,4,TRUE))","v":""},{"$f":"IF(L82=\"\",\"\",VLOOKUP(L82,判定式!H$3:$J$12,3,TRUE))","v":""},"",{"$f":"IF(ISNUMBER(D82),\"判定外\",IF(C82=6,VLOOKUP(AA82,判定式!$C$15:I$19,7,TRUE),IF(C82=7,VLOOKUP(AA82,判定式!$D$15:I$19,6,TRUE),IF(C82=8,VLOOKUP(AA82,判定式!$E$15:I$19,5,TRUE),IF(C82=9,VLOOKUP(AA82,判定式!$F$15:I$19,4,TRUE),IF(C82=10,VLOOKUP(AA82,判定式!$G$15:I$19,3,TRUE),IF(C82=11,VLOOKUP(AA82,判定式!$H$15:I$19,2,TRUE))))))))","v":false}]
[63,null,null,"-",null,null,null,null,null,null,null,null,null,null,null,null,null,null,{"$f":"IF(E83=\"\",\"\",VLOOKUP(E83,判定式!C$3:$J$12,8,TRUE))","v":""},{"$f":"IF(F83=\"\",\"\",VLOOKUP(F83,判定式!D$3:$J$12,7,TRUE))","v":""},{"$f":"IF(G83=\"\",\"\",VLOOKUP(G83,判定式!E$3:$J$12,6,TRUE))","v":""},{"$f":"IF(H83=\"\",\"\",VLOOKUP(H83,判定式!F$3:$J$12,5,TRUE))","v":""},{"$f":"IF(I83=\"\",\"\",VLOOKUP(I83,判定式!I$3:$J$12,2,TRUE))","v":""},{"$f":"IF(J83=\"\",\"\",VLOOKUP(J83,判定式!L$3:$M$12,2,TRUE))","v":""},{"$f":"IF(K83=\"\",\"\",VLOOKUP(K83,判定式!G$3:$J$12,4,TRUE))","v":""},{"$f":"IF(L83=\"\",\"\",VLOOKUP(L83,判定式!H$3:$J$12,3,TRUE))","v":""},"",{"$f":"IF(ISNUMBER(D83),\"判定外\",IF(C83=6,VLOOKUP(AA83,判定式!$C$15:I$19,7,TRUE),IF(C83=7,VLOOKUP(AA83,判定式!$D$15:I$19,6,TRUE),IF(C83=8,VLOOKUP(AA83,判定式!$E$15:I$19,5,TRUE),IF(C83=9,VLOOKUP(AA83,判定式!$F$15:I$19,4,TRUE),IF(C83=10,VLOOKUP(AA83,判定式!$G$15:I$19,3,TRUE),IF(C83=11,VLOOKUP(AA83,判定式!$H$15:I$19,2,TRUE))))))))","v":false}]
[64,null,null,"-",null,null,null,null,null,null,null,null,null,null,null,null,null,null,{"$f":"IF(E84=\"\",\"\",VLOOKUP(E84,判定式!C$3:$J$12,8,TRUE))","v":""},{"$f":"IF(F84=\"\",\"\",VLOOKUP(F84,判定式!D$3:$J$12,7,TRUE))","v":""},{"$f":"IF(G84=\"\",\"\",VLOOKUP(G84,判定式!E$3:$J$12,6,TRUE))","v":""},{"$f":"IF(H84=\"\",\"\",VLOOKUP(H84,判定式!F$3:$J$12,5,TRUE))","v":""},{"$f":"IF(I84=\"\",\"\",VLOOKUP(I84,判定式!I$3:$J$12,2,TRUE))","v":""},{"$f":"IF(J84=\"\",\"\",VLOOKUP(J84,判定式!L$3:$M$12,2,TRUE))","v":""},{"$f":"IF(K84=\"\",\"\",VLOOKUP(K84,判定式!G$3:$J$12,4,TRUE))","v":""},{"$f":"IF(L84=\"\",\"\",VLOOKUP(L84,判定式!H$3:$J$12,3,TRUE))","v":""},"",{"$f":"IF(ISNUMBER(D84),\"判定外\",IF(C84=6,VLOOKUP(AA84,判定式!$C$15:I$19,7,TRUE),IF(C84=7,VLOOKUP(AA84,判定式!$D$15:I$19,6,TRUE),IF(C84=8,VLOOKUP(AA84,判定式!$E$15:I$19,5,TRUE),IF(C84=9,VLOOKUP(AA84,判定式!$F$15:I$19,4,TRUE),IF(C84=10,VLOOKUP(AA84,判定式!$G$15:I$19,3,TRUE),IF(C84=11,VLOOKUP(AA84,判定式!$H$15:I$19,2,TRUE))))))))","v":false}]
[65,null,null,"-",null,null,null,null,null,null,null,null,null,null,null,null,null,null,{"$f":"IF(E85=\"\",\"\",VLOOKUP(E85,判定式!C$3:$J$12,8,TRUE))","v":""},{"$f":"IF(F85=\"\",\"\",VLOOKUP(F85,判定式!D$3:$J$12,7,TRUE))","v":""},{"$f":"IF(G85=\"\",\"\",VLOOKUP(G85,判定式!E$3:$J$12,6,TRUE))","v":""},{"$f":"IF(H85=\"\",\"\",VLOOKUP(H85,判定式!F$3:$J$12,5,TRUE))","v":""},{"$f":"IF(I85=\"\",\"\",VLOOKUP(I85,判定式!I$3:$J$12,2,TRUE))","v":""},{"$f":"IF(J85=\"\",\"\",VLOOKUP(J85,判定式!L$3:$M$12,2,TRUE))","v":""},{"$f":"IF(K85=\"\",\"\",VLOOKUP(K85,判定式!G$3:$J$12,4,TRUE))","v":""},{"$f":"IF(L85=\"\",\"\",VLOOKUP(L85,判定式!H$3:$J$12,3,TRUE))","v":""},"",{"$f":"IF(ISNUMBER(D85),\"判定外\",IF(C85=6,VLOOKUP(AA85,判定式!$C$15:I$19,7,TRUE),IF(C85=7,VLOOKUP(AA85,判定式!$D$15:I$19,6,TRUE),IF(C85=8,VLOOKUP(AA85,判定式!$E$15:I$19,5,TRUE),IF(C85=9,VLOOKUP(AA85,判定式!$F$15:I$19,4,TRUE),IF(C85=10,VLOOKUP(AA85,判定式!$G$15:I$19,3,TRUE),IF(C85=11,VLOOKUP(AA85,判定式!$H$15:I$19,2,TRUE))))))))","v":false}]
[66,null,null,{"$f":"IF(COUNTBLANK(E86:L86)=0,\"\",IF(COUNTBLANK(E86:L86)=8,\"-\",COUNTBLANK(E86:L86)))","v":"-"},null,null,null,null,null,null,null,null,null,null,null,null,null,null,{"$f":"IF(E86=\"\",\"\",VLOOKUP(E86,判定式!C$3:$J$12,8,TRUE))","v":""},{"$f":"IF(F86=\"\",\"\",VLOOKUP(F86,判定式!D$3:$J$12,7,TRUE))","v":""},{"$f":"IF(G86=\"\",\"\",VLOOKUP(G86,判定式!E$3:$J$12,6,TRUE))","v":""},{"$f":"IF(H86=\"\",\"\",VLOOKUP(H86,判定式!F$3:$J$12,5,TRUE))","v":""},{"$f":"IF(I86=\"\",\"\",VLOOKUP(I86,判定式!I$3:$J$12,2,TRUE))","v":""},{"$f":"IF(J86=\"\",\"\",VLOOKUP(J86,判定式!L$3:$M$12,2,TRUE))","v":""},{"$f":"IF(K86=\"\",\"\",VLOOKUP(K86,判定式!G$3:$J$12,4,TRUE))","v":""},{"$f":"IF(L86=\"\",\"\",VLOOKUP(L86,判定式!H$3:$J$12,3,TRUE))","v":""},{"$f":"IF(COUNTBLANK(S86:Z86)=0,SUM(S86:Z86),\"\")","v":""},{"$f":"IF(ISNUMBER(D86),\"判定外\",IF(C86=6,VLOOKUP(AA86,判定式!$C$15:I$19,7,TRUE),IF(C86=7,VLOOKUP(AA86,判定式!$D$15:I$19,6,TRUE),IF(C86=8,VLOOKUP(AA86,判定式!$E$15:I$19,5,TRUE),IF(C86=9,VLOOKUP(AA86,判定式!$F$15:I$19,4,TRUE),IF(C86=10,VLOOKUP(AA86,判定式!$G$15:I$19,3,TRUE),IF(C86=11,VLOOKUP(AA86,判定式!$H$15:I$19,2,TRUE))))))))","v":false}]
[67,null,null,"-",null,null,null,null,null,null,null,null,null,null,null,null,null,null,{"$f":"IF(E87=\"\",\"\",VLOOKUP(E87,判定式!C$3:$J$12,8,TRUE))","v":""},{"$f":"IF(F87=\"\",\"\",VLOOKUP(F87,判定式!D$3:$J$12,7,TRUE))","v":""},{"$f":"IF(G87=\"\",\"\",VLOOKUP(G87,判定式!E$3:$J$12,6,TRUE))","v":""},{"$f":"IF(H87=\"\",\"\",VLOOKUP(H87,判定式!F$3:$J$12,5,TRUE))","v":""},{"$f":"IF(I87=\"\",\"\",VLOOKUP(I87,判定式!I$3:$J$12,2,TRUE))","v":""},{"$f":"IF(J87=\"\",\"\",VLOOKUP(J87,判定式!L$3:$M$12,2,TRUE))","v":""},{"$f":"IF(K87=\"\",\"\",VLOOKUP(K87,判定式!G$3:$J$12,4,TRUE))","v":""},{"$f":"IF(L87=\"\",\"\",VLOOKUP(L87,判定式!H$3:$J$12,3,TRUE))","v":""},"",{"$f":"IF(ISNUMBER(D87),\"判定外\",IF(C87=6,VLOOKUP(AA87,判定式!$C$15:I$19,7,TRUE),IF(C87=7,VLOOKUP(AA87,判定式!$D$15:I$19,6,TRUE),IF(C87=8,VLOOKUP(AA87,判定式!$E$15:I$19,5,TRUE),IF(C87=9,VLOOKUP(AA87,判定式!$F$15:I$19,4,TRUE),IF(C87=10,VLOOKUP(AA87,判定式!$G$15:I$19,3,TRUE),IF(C87=11,VLOOKUP(AA87,判定式!$H$15:I$19,2,TRUE))))))))","v":false}]
[68,null,null,"-",null,null,null,null,null,null,null,null,null,null,null,null,null,null,{"$f":"IF(E88=\"\",\"\",VLOOKUP(E88,判定式!C$3:$J$12,8,TRUE))","v":""},{"$f":"IF(F88=\"\",\"\",VLOOKUP(F88,判定式!D$3:$J$12,7,TRUE))","v":""},{"$f":"IF(G88=\"\",\"\",VLOOKUP(G88,判定式!E$3:$J$12,6,TRUE))","v":""},{"$f":"IF(H88=\"\",\"\",VLOOKUP(H88,判定式!F$3:$J$12,5,TRUE))","v":""},{"$f":"IF(I88=\"\",\"\",VLOOKUP(I88,判定式!I$3:$J$12,2,TRUE))","v":""},{"$f":"IF(J88=\"\",\"\",VLOOKUP(J88,判定式!L$3:$M$12,2,TRUE))","v":""},{"$f":"IF(K88=\"\",\"\",VLOOKUP(K88,判定式!G$3:$J$12,4,TRUE))","v":""},{"$f":"IF(L88=\"\",\"\",VLOOKUP(L88,判定式!H$3:$J$12,3,TRUE))","v":""},"",{"$f":"IF(ISNUMBER(D88),\"判定外\",IF(C88=6,VLOOKUP(AA88,判定式!$C$15:I$19,7,TRUE),IF(C88=7,VLOOKUP(AA88,判定式!$D$15:I$19,6,TRUE),IF(C88=8,VLOOKUP(AA88,判定式!$E$15:I$19,5,TRUE),IF(C88=9,VLOOKUP(AA88,判定式!$F$15:I$19,4,TRUE),IF(C88=10,VLOOKUP(AA88,判定式!$G$15:I$19,3,TRUE),IF(C88=11,VLOOKUP(AA88,判定式!$H$15:I$19,2,TRUE))))))))","v":false}]
[69,null,null,"-",null,null,null,null,null,null,null,null,null,null,null,null,null,null,{"$f":"IF(E89=\"\",\"\",VLOOKUP(E89,判定式!C$3:$J$12,8,TRUE))","v":""},{"$f":"IF(F89=\"\",\"\",VLOOKUP(F89,判定式!D$3:$J$12,7,TRUE))","v":""},{"$f":"IF(G89=\"\",\"\",VLOOKUP(G89,判定式!E$3:$J$12,6,TRUE))","v":""},{"$f":"IF(H89=\"\",\"\",VLOOKUP(H89,判定式!F$3:$J$12,5,TRUE))","v":""},{"$f":"IF(I89=\"\",\"\",VLOOKUP(I89,判定式!I$3:$J$12,2,TRUE))","v":""},{"$f":"IF(J89=\"\",\"\",VLOOKUP(J89,判定式!L$3:$M$12,2,TRUE))","v":""},{"$f":"IF(K89=\"\",\"\",VLOOKUP(K89,判定式!G$3:$J$12,4,TRUE))","v":""},{"$f":"IF(L89=\"\",\"\",VLOOKUP(L89,判定式!H$3:$J$12,3,TRUE))","v":""},"",{"$f":"IF(ISNUMBER(D89),\"判定外\",IF(C89=6,VLOOKUP(AA89,判定式!$C$15:I$19,7,TRUE),IF(C89=7,VLOOKUP(AA89,判定式!$D$15:I$19,6,TRUE),IF(C89=8,VLOOKUP(AA89,判定式!$E$15:I$19,5,TRUE),IF(C89=9,VLOOKUP(AA89,判定式!$F$15:I$19,4,TRUE),IF(C89=10,VLOOKUP(AA89,判定式!$G$15:I$19,3,TRUE),IF(C89=11,VLOOKUP(AA89,判定式!$H$15:I$19,2,TRUE))))))))","v":false}]
[70,null,null,"-",null,null,null,null,null,null,null,null,null,null,null,null,null,null,{"$f":"IF(E90=\"\",\"\",VLOOKUP(E90,判定式!C$3:$J$12,8,TRUE))","v":""},{"$f":"IF(F90=\"\",\"\",VLOOKUP(F90,判定式!D$3:$J$12,7,TRUE))","v":""},{"$f":"IF(G90=\"\",\"\",VLOOKUP(G90,判定式!E$3:$J$12,6,TRUE))","v":""},{"$f":"IF(H90=\"\",\"\",VLOOKUP(H90,判定式!F$3:$J$12,5,TRUE))","v":""},{"$f":"IF(I90=\"\",\"\",VLOOKUP(I90,判定式!I$3:$J$12,2,TRUE))","v":""},{"$f":"IF(J90=\"\",\"\",VLOOKUP(J90,判定式!L$3:$M$12,2,TRUE))","v":""},{"$f":"IF(K90=\"\",\"\",VLOOKUP(K90,判定式!G$3:$J$12,4,TRUE))","v":""},{"$f":"IF(L90=\"\",\"\",VLOOKUP(L90,判定式!H$3:$J$12,3,TRUE))","v":""},"",{"$f":"IF(ISNUMBER(D90),\"判定外\",IF(C90=6,VLOOKUP(AA90,判定式!$C$15:I$19,7,TRUE),IF(C90=7,VLOOKUP(AA90,判定式!$D$15:I$19,6,TRUE),IF(C90=8,VLOOKUP(AA90,判定式!$E$15:I$19,5,TRUE),IF(C90=9,VLOOKUP(AA90,判定式!$F$15:I$19,4,TRUE),IF(C90=10,VLOOKUP(AA90,判定式!$G$15:I$19,3,TRUE),IF(C90=11,VLOOKUP(AA90,判定式!$H$15:I$19,2,TRUE))))))))","v":false}]
[71,null,null,"-",null,null,null,null,null,null,null,null,null,null,null,null,null,null,{"$f":"IF(E91=\"\",\"\",VLOOKUP(E91,判定式!C$3:$J$12,8,TRUE))","v":""},{"$f":"IF(F91=\"\",\"\",VLOOKUP(F91,判定式!D$3:$J$12,7,TRUE))","v":""},{"$f":"IF(G91=\"\",\"\",VLOOKUP(G91,判定式!E$3:$J$12,6,TRUE))","v":""},{"$f":"IF(H91=\"\",\"\",VLOOKUP(H91,判定式!F$3:$J$12,5,TRUE))","v":""},{"$f":"IF(I91=\"\",\"\",VLOOKUP(I91,判定式!I$3:$J$12,2,TRUE))","v":""},{"$f":"IF(J91=\"\",\"\",VLOOKUP(J91,判定式!L$3:$M$12,2,TRUE))","v":""},{"$f":"IF(K91=\"\",\"\",VLOOKUP(K91,判定式!G$3:$J$12,4,TRUE))","v":""},{"$f":"IF(L91=\"\",\"\",VLOOKUP(L91,判定式!H$3:$J$12,3,TRUE))","v":""},"",{"$f":"IF(ISNUMBER(D91),\"判定外\",IF(C91=6,VLOOKUP(AA91,判定式!$C$15:I$19,7,TRUE),IF(C91=7,VLOOKUP(AA91,判定式!$D$15:I$19,6,TRUE),IF(C91=8,VLOOKUP(AA91,判定式!$E$15:I$19,5,TRUE),IF(C91=9,VLOOKUP(AA91,判定式!$F$15:I$19,4,TRUE),IF(C91=10,VLOOKUP(AA91,判定式!$G$15:I$19,3,TRUE),IF(C91=11,VLOOKUP(AA91,判定式!$H$15:I$19,2,TRUE))))))))","v":false}]
[72,null,null,"-",null,null,null,null,null,null,null,null,null,null,null,null,null,null,{"$f":"IF(E92=\"\",\"\",VLOOKUP(E92,判定式!C$3:$J$12,8,TRUE))","v":""},{"$f":"IF(F92=\"\",\"\",VLOOKUP(F92,判定式!D$3:$J$12,7,TRUE))","v":""},{"$f":"IF(G92=\"\",\"\",VLOOKUP(G92,判定式!E$3:$J$12,6,TRUE))","v":""},{"$f":"IF(H92=\"\",\"\",VLOOKUP(H92,判定式!F$3:$J$12,5,TRUE))","v":""},{"$f":"IF(I92=\"\",\"\",VLOOKUP(I92,判定式!I$3:$J$12,2,TRUE))","v":""},{"$f":"IF(J92=\"\",\"\",VLOOKUP(J92,判定式!L$3:$M$12,2,TRUE))","v":""},{"$f":"IF(K92=\"\",\"\",VLOOKUP(K92,判定式!G$3:$J$12,4,TRUE))","v":""},{"$f":"IF(L92=\"\",\"\",VLOOKUP(L92,判定式!H$3:$J$12,3,TRUE))","v":""},"",{"$f":"IF(ISNUMBER(D92),\"判定外\",IF(C92=6,VLOOKUP(AA92,判定式!$C$15:I$19,7,TRUE),IF(C92=7,VLOOKUP(AA92,判定式!$D$15:I$19,6,TRUE),IF(C92=8,VLOOKUP(AA92,判定式!$E$15:I$19,5,TRUE),IF(C92=9,VLOOKUP(AA92,判定式!$F$15:I$19,4,TRUE),IF(C92=10,VLOOKUP(AA92,判定式!$G$15:I$19,3,TRUE),IF(C92=11,VLOOKUP(AA92,判定式!$H$15:I$19,2,TRUE))))))))","v":false}]
[73,null,null,"-",null,null,null,null,null,null,null,null,null,null,null,null,null,null,{"$f":"IF(E93=\"\",\"\",VLOOKUP(E93,判定式!C$3:$J$12,8,TRUE))","v":""},{"$f":"IF(F93=\"\",\"\",VLOOKUP(F93,判定式!D$3:$J$12,7,TRUE))","v":""},{"$f":"IF(G93=\"\",\"\",VLOOKUP(G93,判定式!E$3:$J$12,6,TRUE))","v":""},{"$f":"IF(H93=\"\",\"\",VLOOKUP(H93,判定式!F$3:$J$12,5,TRUE))","v":""},{"$f":"IF(I93=\"\",\"\",VLOOKUP(I93,判定式!I$3:$J$12,2,TRUE))","v":""},{"$f":"IF(J93=\"\",\"\",VLOOKUP(J93,判定式!L$3:$M$12,2,TRUE))","v":""},{"$f":"IF(K93=\"\",\"\",VLOOKUP(K93,判定式!G$3:$J$12,4,TRUE))","v":""},{"$f":"IF(L93=\"\",\"\",VLOOKUP(L93,判定式!H$3:$J$12,3,TRUE))","v":""},"",{"$f":"IF(ISNUMBER(D93),\"判定外\",IF(C93=6,VLOOKUP(AA93,判定式!$C$15:I$19,7,TRUE),IF(C93=7,VLOOKUP(AA93,判定式!$D$15:I$19,6,TRUE),IF(C93=8,VLOOKUP(AA93,判定式!$E$15:I$19,5,TRUE),IF(C93=9,VLOOKUP(AA93,判定式!$F$15:I$19,4,TRUE),IF(C93=10,VLOOKUP(AA93,判定式!$G$15:I$19,3,TRUE),IF(C93=11,VLOOKUP(AA93,判定式!$H$15:I$19,2,TRUE))))))))","v":false}]
[74,null,null,"-",null,null,null,null,null,null,null,null,null,null,null,null,null,null,{"$f":"IF(E94=\"\",\"\",VLOOKUP(E94,判定式!C$3:$J$12,8,TRUE))","v":""},{"$f":"IF(F94=\"\",\"\",VLOOKUP(F94,判定式!D$3:$J$12,7,TRUE))","v":""},{"$f":"IF(G94=\"\",\"\",VLOOKUP(G94,判定式!E$3:$J$12,6,TRUE))","v":""},{"$f":"IF(H94=\"\",\"\",VLOOKUP(H94,判定式!F$3:$J$12,5,TRUE))","v":""},{"$f":"IF(I94=\"\",\"\",VLOOKUP(I94,判定式!I$3:$J$12,2,TRUE))","v":""},{"$f":"IF(J94=\"\",\"\",VLOOKUP(J94,判定式!L$3:$M$12,2,TRUE))","v":""},{"$f":"IF(K94=\"\",\"\",VLOOKUP(K94,判定式!G$3:$J$12,4,TRUE))","v":""},{"$f":"IF(L94=\"\",\"\",VLOOKUP(L94,判定式!H$3:$J$12,3,TRUE))","v":""},"",{"$f":"IF(ISNUMBER(D94),\"判定外\",IF(C94=6,VLOOKUP(AA94,判定式!$C$15:I$19,7,TRUE),IF(C94=7,VLOOKUP(AA94,判定式!$D$15:I$19,6,TRUE),IF(C94=8,VLOOKUP(AA94,判定式!$E$15:I$19,5,TRUE),IF(C94=9,VLOOKUP(AA94,判定式!$F$15:I$19,4,TRUE),IF(C94=10,VLOOKUP(AA94,判定式!$G$15:I$19,3,TRUE),IF(C94=11,VLOOKUP(AA94,判定式!$H$15:I$19,2,TRUE))))))))","v":false}]
[75,null,null,"-",null,null,null,null,null,null,null,null,null,null,null,null,null,null,{"$f":"IF(E95=\"\",\"\",VLOOKUP(E95,判定式!C$3:$J$12,8,TRUE))","v":""},{"$f":"IF(F95=\"\",\"\",VLOOKUP(F95,判定式!D$3:$J$12,7,TRUE))","v":""},{"$f":"IF(G95=\"\",\"\",VLOOKUP(G95,判定式!E$3:$J$12,6,TRUE))","v":""},{"$f":"IF(H95=\"\",\"\",VLOOKUP(H95,判定式!F$3:$J$12,5,TRUE))","v":""},{"$f":"IF(I95=\"\",\"\",VLOOKUP(I95,判定式!I$3:$J$12,2,TRUE))","v":""},{"$f":"IF(J95=\"\",\"\",VLOOKUP(J95,判定式!L$3:$M$12,2,TRUE))","v":""},{"$f":"IF(K95=\"\",\"\",VLOOKUP(K95,判定式!G$3:$J$12,4,TRUE))","v":""},{"$f":"IF(L95=\"\",\"\",VLOOKUP(L95,判定式!H$3:$J$12,3,TRUE))","v":""},"",{"$f":"IF(ISNUMBER(D95),\"判定外\",IF(C95=6,VLOOKUP(AA95,判定式!$C$15:I$19,7,TRUE),IF(C95=7,VLOOKUP(AA95,判定式!$D$15:I$19,6,TRUE),IF(C95=8,VLOOKUP(AA95,判定式!$E$15:I$19,5,TRUE),IF(C95=9,VLOOKUP(AA95,判定式!$F$15:I$19,4,TRUE),IF(C95=10,VLOOKUP(AA95,判定式!$G$15:I$19,3,TRUE),IF(C95=11,VLOOKUP(AA95,判定式!$H$15:I$19,2,TRUE))))))))","v":false}]
[76,null,null,"-",null,null,null,null,null,null,null,null,null,null,null,null,null,null,{"$f":"IF(E96=\"\",\"\",VLOOKUP(E96,判定式!C$3:$J$12,8,TRUE))","v":""},{"$f":"IF(F96=\"\",\"\",VLOOKUP(F96,判定式!D$3:$J$12,7,TRUE))","v":""},{"$f":"IF(G96=\"\",\"\",VLOOKUP(G96,判定式!E$3:$J$12,6,TRUE))","v":""},{"$f":"IF(H96=\"\",\"\",VLOOKUP(H96,判定式!F$3:$J$12,5,TRUE))","v":""},{"$f":"IF(I96=\"\",\"\",VLOOKUP(I96,判定式!I$3:$J$12,2,TRUE))","v":""},{"$f":"IF(J96=\"\",\"\",VLOOKUP(J96,判定式!L$3:$M$12,2,TRUE))","v":""},{"$f":"IF(K96=\"\",\"\",VLOOKUP(K96,判定式!G$3:$J$12,4,TRUE))","v":""},{"$f":"IF(L96=\"\",\"\",VLOOKUP(L96,判定式!H$3:$J$12,3,TRUE))","v":""},"",{"$f":"IF(ISNUMBER(D96),\"判定外\",IF(C96=6,VLOOKUP(AA96,判定式!$C$15:I$19,7,TRUE),IF(C96=7,VLOOKUP(AA96,判定式!$D$15:I$19,6,TRUE),IF(C96=8,VLOOKUP(AA96,判定式!$E$15:I$19,5,TRUE),IF(C96=9,VLOOKUP(AA96,判定式!$F$15:I$19,4,TRUE),IF(C96=10,VLOOKUP(AA96,判定式!$G$15:I$19,3,TRUE),IF(C96=11,VLOOKUP(AA96,判定式!$H$15:I$19,2,TRUE))))))))","v":false}]
[77,null,null,"-",null,null,null,null,null,null,null,null,null,null,null,null,null,null,{"$f":"IF(E97=\"\",\"\",VLOOKUP(E97,判定式!C$3:$J$12,8,TRUE))","v":""},{"$f":"IF(F97=\"\",\"\",VLOOKUP(F97,判定式!D$3:$J$12,7,TRUE))","v":""},{"$f":"IF(G97=\"\",\"\",VLOOKUP(G97,判定式!E$3:$J$12,6,TRUE))","v":""},{"$f":"IF(H97=\"\",\"\",VLOOKUP(H97,判定式!F$3:$J$12,5,TRUE))","v":""},{"$f":"IF(I97=\"\",\"\",VLOOKUP(I97,判定式!I$3:$J$12,2,TRUE))","v":""},{"$f":"IF(J97=\"\",\"\",VLOOKUP(J97,判定式!L$3:$M$12,2,TRUE))","v":""},{"$f":"IF(K97=\"\",\"\",VLOOKUP(K97,判定式!G$3:$J$12,4,TRUE))","v":""},{"$f":"IF(L97=\"\",\"\",VLOOKUP(L97,判定式!H$3:$J$12,3,TRUE))","v":""},"",{"$f":"IF(ISNUMBER(D97),\"判定外\",IF(C97=6,VLOOKUP(AA97,判定式!$C$15:I$19,7,TRUE),IF(C97=7,VLOOKUP(AA97,判定式!$D$15:I$19,6,TRUE),IF(C97=8,VLOOKUP(AA97,判定式!$E$15:I$19,5,TRUE),IF(C97=9,VLOOKUP(AA97,判定式!$F$15:I$19,4,TRUE),IF(C97=10,VLOOKUP(AA97,判定式!$G$15:I$19,3,TRUE),IF(C97=11,VLOOKUP(AA97,判定式!$H$15:I$19,2,TRUE))))))))","v":false}]
[78,null,null,"-",null,null,null,null,null,null,null,null,null,null,null,null,null,null,{"$f":"IF(E98=\"\",\"\",VLOOKUP(E98,判定式!C$3:$J$12,8,TRUE))","v":""},{"$f":"IF(F98=\"\",\"\",VLOOKUP(F98,判定式!D$3:$J$12,7,TRUE))","v":""},{"$f":"IF(G98=\"\",\"\",VLOOKUP(G98,判定式!E$3:$J$12,6,TRUE))","v":""},{"$f":"IF(H98=\"\",\"\",VLOOKUP(H98,判定式!F$3:$J$12,5,TRUE))","v":""},{"$f":"IF(I98=\"\",\"\",VLOOKUP(I98,判定式!I$3:$J$12,2,TRUE))","v":""},{"$f":"IF(J98=\"\",\"\",VLOOKUP(J98,判定式!L$3:$M$12,2,TRUE))","v":""},{"$f":"IF(K98=\"\",\"\",VLOOKUP(K98,判定式!G$3:$J$12,4,TRUE))","v":""},{"$f":"IF(L98=\"\",\"\",VLOOKUP(L98,判定式!H$3:$J$12,3,TRUE))","v":""},"",{"$f":"IF(ISNUMBER(D98),\"判定外\",IF(C98=6,VLOOKUP(AA98,判定式!$C$15:I$19,7,TRUE),IF(C98=7,VLOOKUP(AA98,判定式!$D$15:I$19,6,TRUE),IF(C98=8,VLOOKUP(AA98,判定式!$E$15:I$19,5,TRUE),IF(C98=9,VLOOKUP(AA98,判定式!$F$15:I$19,4,TRUE),IF(C98=10,VLOOKUP(AA98,判定式!$G$15:I$19,3,TRUE),IF(C98=11,VLOOKUP(AA98,判定式!$H$15:I$19,2,TRUE))))))))","v":false}]
[79,null,null,"-",null,null,null,null,null,null,null,null,null,null,null,null,null,null,{"$f":"IF(E99=\"\",\"\",VLOOKUP(E99,判定式!C$3:$J$12,8,TRUE))","v":""},{"$f":"IF(F99=\"\",\"\",VLOOKUP(F99,判定式!D$3:$J$12,7,TRUE))","v":""},{"$f":"IF(G99=\"\",\"\",VLOOKUP(G99,判定式!E$3:$J$12,6,TRUE))","v":""},{"$f":"IF(H99=\"\",\"\",VLOOKUP(H99,判定式!F$3:$J$12,5,TRUE))","v":""},{"$f":"IF(I99=\"\",\"\",VLOOKUP(I99,判定式!I$3:$J$12,2,TRUE))","v":""},{"$f":"IF(J99=\"\",\"\",VLOOKUP(J99,判定式!L$3:$M$12,2,TRUE))","v":""},{"$f":"IF(K99=\"\",\"\",VLOOKUP(K99,判定式!G$3:$J$12,4,TRUE))","v":""},{"$f":"IF(L99=\"\",\"\",VLOOKUP(L99,判定式!H$3:$J$12,3,TRUE))","v":""},"",{"$f":"IF(ISNUMBER(D99),\"判定外\",IF(C99=6,VLOOKUP(AA99,判定式!$C$15:I$19,7,TRUE),IF(C99=7,VLOOKUP(AA99,判定式!$D$15:I$19,6,TRUE),IF(C99=8,VLOOKUP(AA99,判定式!$E$15:I$19,5,TRUE),IF(C99=9,VLOOKUP(AA99,判定式!$F$15:I$19,4,TRUE),IF(C99=10,VLOOKUP(AA99,判定式!$G$15:I$19,3,TRUE),IF(C99=11,VLOOKUP(AA99,判定式!$H$15:I$19,2,TRUE))))))))","v":false}]
[80,null,null,"-",null,null,null,null,null,null,null,null,null,null,null,null,null,null,{"$f":"IF(E100=\"\",\"\",VLOOKUP(E100,判定式!C$3:$J$12,8,TRUE))","v":""},{"$f":"IF(F100=\"\",\"\",VLOOKUP(F100,判定式!D$3:$J$12,7,TRUE))","v":""},{"$f":"IF(G100=\"\",\"\",VLOOKUP(G100,判定式!E$3:$J$12,6,TRUE))","v":""},{"$f":"IF(H100=\"\",\"\",VLOOKUP(H100,判定式!F$3:$J$12,5,TRUE))","v":""},{"$f":"IF(I100=\"\",\"\",VLOOKUP(I100,判定式!I$3:$J$12,2,TRUE))","v":""},{"$f":"IF(J100=\"\",\"\",VLOOKUP(J100,判定式!L$3:$M$12,2,TRUE))","v":""},{"$f":"IF(K100=\"\",\"\",VLOOKUP(K100,判定式!G$3:$J$12,4,TRUE))","v":""},{"$f":"IF(L100=\"\",\"\",VLOOKUP(L100,判定式!H$3:$J$12,3,TRUE))","v":""},"",{"$f":"IF(ISNUMBER(D100),\"判定外\",IF(C100=6,VLOOKUP(AA100,判定式!$C$15:I$19,7,TRUE),IF(C100=7,VLOOKUP(AA100,判定式!$D$15:I$19,6,TRUE),IF(C100=8,VLOOKUP(AA100,判定式!$E$15:I$19,5,TRUE),IF(C100=9,VLOOKUP(AA100,判定式!$F$15:I$19,4,TRUE),IF(C100=10,VLOOKUP(AA100,判定式!$G$15:I$19,3,TRUE),IF(C100=11,VLOOKUP(AA100,判定式!$H$15:I$19,2,TRUE))))))))","v":false}]
[81,null,null,"-",null,null,null,null,null,null,null,null,null,null,null,null,null,null,{"$f":"IF(E101=\"\",\"\",VLOOKUP(E101,判定式!C$3:$J$12,8,TRUE))","v":""},{"$f":"IF(F101=\"\",\"\",VLOOKUP(F101,判定式!D$3:$J$12,7,TRUE))","v":""},{"$f":"IF(G101=\"\",\"\",VLOOKUP(G101,判定式!E$3:$J$12,6,TRUE))","v":""},{"$f":"IF(H101=\"\",\"\",VLOOKUP(H101,判定式!F$3:$J$12,5,TRUE))","v":""},{"$f":"IF(I101=\"\",\"\",VLOOKUP(I101,判定式!I$3:$J$12,2,TRUE))","v":""},{"$f":"IF(J101=\"\",\"\",VLOOKUP(J101,判定式!L$3:$M$12,2,TRUE))","v":""},{"$f":"IF(K101=\"\",\"\",VLOOKUP(K101,判定式!G$3:$J$12,4,TRUE))","v":""},{"$f":"IF(L101=\"\",\"\",VLOOKUP(L101,判定式!H$3:$J$12,3,TRUE))","v":""},"",{"$f":"IF(ISNUMBER(D101),\"判定外\",IF(C101=6,VLOOKUP(AA101,判定式!$C$15:I$19,7,TRUE),IF(C101=7,VLOOKUP(AA101,判定式!$D$15:I$19,6,TRUE),IF(C101=8,VLOOKUP(AA101,判定式!$E$15:I$19,5,TRUE),IF(C101=9,VLOOKUP(AA101,判定式!$F$15:I$19,4,TRUE),IF(C101=10,VLOOKUP(AA101,判定式!$G$15:I$19,3,TRUE),IF(C101=11,VLOOKUP(AA101,判定式!$H$15:I$19,2,TRUE))))))))","v":false}]
[82,null,null,"-",null,null,null,null,null,null,null,null,null,null,null,null,null,null,{"$f":"IF(E102=\"\",\"\",VLOOKUP(E102,判定式!C$3:$J$12,8,TRUE))","v":""},{"$f":"IF(F102=\"\",\"\",VLOOKUP(F102,判定式!D$3:$J$12,7,TRUE))","v":""},{"$f":"IF(G102=\"\",\"\",VLOOKUP(G102,判定式!E$3:$J$12,6,TRUE))","v":""},{"$f":"IF(H102=\"\",\"\",VLOOKUP(H102,判定式!F$3:$J$12,5,TRUE))","v":""},{"$f":"IF(I102=\"\",\"\",VLOOKUP(I102,判定式!I$3:$J$12,2,TRUE))","v":""},{"$f":"IF(J102=\"\",\"\",VLOOKUP(J102,判定式!L$3:$M$12,2,TRUE))","v":""},{"$f":"IF(K102=\"\",\"\",VLOOKUP(K102,判定式!G$3:$J$12,4,TRUE))","v":""},{"$f":"IF(L102=\"\",\"\",VLOOKUP(L102,判定式!H$3:$J$12,3,TRUE))","v":""},"",{"$f":"IF(ISNUMBER(D102),\"判定外\",IF(C102=6,VLOOKUP(AA102,判定式!$C$15:I$19,7,TRUE),IF(C102=7,VLOOKUP(AA102,判定式!$D$15:I$19,6,TRUE),IF(C102=8,VLOOKUP(AA102,判定式!$E$15:I$19,5,TRUE),IF(C102=9,VLOOKUP(AA102,判定式!$F$15:I$19,4,TRUE),IF(C102=10,VLOOKUP(AA102,判定式!$G$15:I$19,3,TRUE),IF(C102=11,VLOOKUP(AA102,判定式!$H$15:I$19,2,TRUE))))))))","v":false}]
[83,null,null,"-",null,null,null,null,null,null,null,null,null,null,null,null,null,null,{"$f":"IF(E103=\"\",\"\",VLOOKUP(E103,判定式!C$3:$J$12,8,TRUE))","v":""},{"$f":"IF(F103=\"\",\"\",VLOOKUP(F103,判定式!D$3:$J$12,7,TRUE))","v":""},{"$f":"IF(G103=\"\",\"\",VLOOKUP(G103,判定式!E$3:$J$12,6,TRUE))","v":""},{"$f":"IF(H103=\"\",\"\",VLOOKUP(H103,判定式!F$3:$J$12,5,TRUE))","v":""},{"$f":"IF(I103=\"\",\"\",VLOOKUP(I103,判定式!I$3:$J$12,2,TRUE))","v":""},{"$f":"IF(J103=\"\",\"\",VLOOKUP(J103,判定式!L$3:$M$12,2,TRUE))","v":""},{"$f":"IF(K103=\"\",\"\",VLOOKUP(K103,判定式!G$3:$J$12,4,TRUE))","v":""},{"$f":"IF(L103=\"\",\"\",VLOOKUP(L103,判定式!H$3:$J$12,3,TRUE))","v":""},"",{"$f":"IF(ISNUMBER(D103),\"判定外\",IF(C103=6,VLOOKUP(AA103,判定式!$C$15:I$19,7,TRUE),IF(C103=7,VLOOKUP(AA103,判定式!$D$15:I$19,6,TRUE),IF(C103=8,VLOOKUP(AA103,判定式!$E$15:I$19,5,TRUE),IF(C103=9,VLOOKUP(AA103,判定式!$F$15:I$19,4,TRUE),IF(C103=10,VLOOKUP(AA103,判定式!$G$15:I$19,3,TRUE),IF(C103=11,VLOOKUP(AA103,判定式!$H$15:I$19,2,TRUE))))))))","v":false}]
[84,null,null,"-",null,null,null,null,null,null,null,null,null,null,null,null,null,null,{"$f":"IF(E104=\"\",\"\",VLOOKUP(E104,判定式!C$3:$J$12,8,TRUE))","v":""},{"$f":"IF(F104=\"\",\"\",VLOOKUP(F104,判定式!D$3:$J$12,7,TRUE))","v":""},{"$f":"IF(G104=\"\",\"\",VLOOKUP(G104,判定式!E$3:$J$12,6,TRUE))","v":""},{"$f":"IF(H104=\"\",\"\",VLOOKUP(H104,判定式!F$3:$J$12,5,TRUE))","v":""},{"$f":"IF(I104=\"\",\"\",VLOOKUP(I104,判定式!I$3:$J$12,2,TRUE))","v":""},{"$f":"IF(J104=\"\",\"\",VLOOKUP(J104,判定式!L$3:$M$12,2,TRUE))","v":""},{"$f":"IF(K104=\"\",\"\",VLOOKUP(K104,判定式!G$3:$J$12,4,TRUE))","v":""},{"$f":"IF(L104=\"\",\"\",VLOOKUP(L104,判定式!H$3:$J$12,3,TRUE))","v":""},"",{"$f":"IF(ISNUMBER(D104),\"判定外\",IF(C104=6,VLOOKUP(AA104,判定式!$C$15:I$19,7,TRUE),IF(C104=7,VLOOKUP(AA104,判定式!$D$15:I$19,6,TRUE),IF(C104=8,VLOOKUP(AA104,判定式!$E$15:I$19,5,TRUE),IF(C104=9,VLOOKUP(AA104,判定式!$F$15:I$19,4,TRUE),IF(C104=10,VLOOKUP(AA104,判定式!$G$15:I$19,3,TRUE),IF(C104=11,VLOOKUP(AA104,判定式!$H$15:I$19,2,TRUE))))))))","v":false}]
[85,null,null,"-",null,null,null,null,null,null,null,null,null,null,null,null,null,null,{"$f":"IF(E105=\"\",\"\",VLOOKUP(E105,判定式!C$3:$J$12,8,TRUE))","v":""},{"$f":"IF(F105=\"\",\"\",VLOOKUP(F105,判定式!D$3:$J$12,7,TRUE))","v":""},{"$f":"IF(G105=\"\",\"\",VLOOKUP(G105,判定式!E$3:$J$12,6,TRUE))","v":""},{"$f":"IF(H105=\"\",\"\",VLOOKUP(H105,判定式!F$3:$J$12,5,TRUE))","v":""},{"$f":"IF(I105=\"\",\"\",VLOOKUP(I105,判定式!I$3:$J$12,2,TRUE))","v":""},{"$f":"IF(J105=\"\",\"\",VLOOKUP(J105,判定式!L$3:$M$12,2,TRUE))","v":""},{"$f":"IF(K105=\"\",\"\",VLOOKUP(K105,判定式!G$3:$J$12,4,TRUE))","v":""},{"$f":"IF(L105=\"\",\"\",VLOOKUP(L105,判定式!H$3:$J$12,3,TRUE))","v":""},"",{"$f":"IF(ISNUMBER(D105),\"判定外\",IF(C105=6,VLOOKUP(AA105,判定式!$C$15:I$19,7,TRUE),IF(C105=7,VLOOKUP(AA105,判定式!$D$15:I$19,6,TRUE),IF(C105=8,VLOOKUP(AA105,判定式!$E$15:I$19,5,TRUE),IF(C105=9,VLOOKUP(AA105,判定式!$F$15:I$19,4,TRUE),IF(C105=10,VLOOKUP(AA105,判定式!$G$15:I$19,3,TRUE),IF(C105=11,VLOOKUP(AA105,判定式!$H$15:I$19,2,TRUE))))))))","v":false}]
[86,null,null,"-",null,null,null,null,null,null,null,null,null,null,null,null,null,null,{"$f":"IF(E106=\"\",\"\",VLOOKUP(E106,判定式!C$3:$J$12,8,TRUE))","v":""},{"$f":"IF(F106=\"\",\"\",VLOOKUP(F106,判定式!D$3:$J$12,7,TRUE))","v":""},{"$f":"IF(G106=\"\",\"\",VLOOKUP(G106,判定式!E$3:$J$12,6,TRUE))","v":""},{"$f":"IF(H106=\"\",\"\",VLOOKUP(H106,判定式!F$3:$J$12,5,TRUE))","v":""},{"$f":"IF(I106=\"\",\"\",VLOOKUP(I106,判定式!I$3:$J$12,2,TRUE))","v":""},{"$f":"IF(J106=\"\",\"\",VLOOKUP(J106,判定式!L$3:$M$12,2,TRUE))","v":""},{"$f":"IF(K106=\"\",\"\",VLOOKUP(K106,判定式!G$3:$J$12,4,TRUE))","v":""},{"$f":"IF(L106=\"\",\"\",VLOOKUP(L106,判定式!H$3:$J$12,3,TRUE))","v":""},"",{"$f":"IF(ISNUMBER(D106),\"判定外\",IF(C106=6,VLOOKUP(AA106,判定式!$C$15:I$19,7,TRUE),IF(C106=7,VLOOKUP(AA106,判定式!$D$15:I$19,6,TRUE),IF(C106=8,VLOOKUP(AA106,判定式!$E$15:I$19,5,TRUE),IF(C106=9,VLOOKUP(AA106,判定式!$F$15:I$19,4,TRUE),IF(C106=10,VLOOKUP(AA106,判定式!$G$15:I$19,3,TRUE),IF(C106=11,VLOOKUP(AA106,判定式!$H$15:I$19,2,TRUE))))))))","v":false}]
[87,null,null,"-",null,null,null,null,null,null,null,null,null,null,null,null,null,null,{"$f":"IF(E107=\"\",\"\",VLOOKUP(E107,判定式!C$3:$J$12,8,TRUE))","v":""},{"$f":"IF(F107=\"\",\"\",VLOOKUP(F107,判定式!D$3:$J$12,7,TRUE))","v":""},{"$f":"IF(G107=\"\",\"\",VLOOKUP(G107,判定式!E$3:$J$12,6,TRUE))","v":""},{"$f":"IF(H107=\"\",\"\",VLOOKUP(H107,判定式!F$3:$J$12,5,TRUE))","v":""},{"$f":"IF(I107=\"\",\"\",VLOOKUP(I107,判定式!I$3:$J$12,2,TRUE))","v":""},{"$f":"IF(J107=\"\",\"\",VLOOKUP(J107,判定式!L$3:$M$12,2,TRUE))","v":""},{"$f":"IF(K107=\"\",\"\",VLOOKUP(K107,判定式!G$3:$J$12,4,TRUE))","v":""},{"$f":"IF(L107=\"\",\"\",VLOOKUP(L107,判定式!H$3:$J$12,3,TRUE))","v":""},"",{"$f":"IF(ISNUMBER(D107),\"判定外\",IF(C107=6,VLOOKUP(AA107,判定式!$C$15:I$19,7,TRUE),IF(C107=7,VLOOKUP(AA107,判定式!$D$15:I$19,6,TRUE),IF(C107=8,VLOOKUP(AA107,判定式!$E$15:I$19,5,TRUE),IF(C107=9,VLOOKUP(AA107,判定式!$F$15:I$19,4,TRUE),IF(C107=10,VLOOKUP(AA107,判定式!$G$15:I$19,3,TRUE),IF(C107=11,VLOOKUP(AA107,判定式!$H$15:I$19,2,TRUE))))))))","v":false}]
[88,null,null,"-",null,null,null,null,null,null,null,null,null,null,null,null,null,null,{"$f":"IF(E108=\"\",\"\",VLOOKUP(E108,判定式!C$3:$J$12,8,TRUE))","v":""},{"$f":"IF(F108=\"\",\"\",VLOOKUP(F108,判定式!D$3:$J$12,7,TRUE))","v":""},{"$f":"IF(G108=\"\",\"\",VLOOKUP(G108,判定式!E$3:$J$12,6,TRUE))","v":""},{"$f":"IF(H108=\"\",\"\",VLOOKUP(H108,判定式!F$3:$J$12,5,TRUE))","v":""},{"$f":"IF(I108=\"\",\"\",VLOOKUP(I108,判定式!I$3:$J$12,2,TRUE))","v":""},{"$f":"IF(J108=\"\",\"\",VLOOKUP(J108,判定式!L$3:$M$12,2,TRUE))","v":""},{"$f":"IF(K108=\"\",\"\",VLOOKUP(K108,判定式!G$3:$J$12,4,TRUE))","v":""},{"$f":"IF(L108=\"\",\"\",VLOOKUP(L108,判定式!H$3:$J$12,3,TRUE))","v":""},"",{"$f":"IF(ISNUMBER(D108),\"判定外\",IF(C108=6,VLOOKUP(AA108,判定式!$C$15:I$19,7,TRUE),IF(C108=7,VLOOKUP(AA108,判定式!$D$15:I$19,6,TRUE),IF(C108=8,VLOOKUP(AA108,判定式!$E$15:I$19,5,TRUE),IF(C108=9,VLOOKUP(AA108,判定式!$F$15:I$19,4,TRUE),IF(C108=10,VLOOKUP(AA108,判定式!$G$15:I$19,3,TRUE),IF(C108=11,VLOOKUP(AA108,判定式!$H$15:I$19,2,TRUE))))))))","v":false}]
[89,null,null,"-",null,null,null,null,null,null,null,null,null,null,null,null,null,null,{"$f":"IF(E109=\"\",\"\",VLOOKUP(E109,判定式!C$3:$J$12,8,TRUE))","v":""},{"$f":"IF(F109=\"\",\"\",VLOOKUP(F109,判定式!D$3:$J$12,7,TRUE))","v":""},{"$f":"IF(G109=\"\",\"\",VLOOKUP(G109,判定式!E$3:$J$12,6,TRUE))","v":""},{"$f":"IF(H109=\"\",\"\",VLOOKUP(H109,判定式!F$3:$J$12,5,TRUE))","v":""},{"$f":"IF(I109=\"\",\"\",VLOOKUP(I109,判定式!I$3:$J$12,2,TRUE))","v":""},{"$f":"IF(J109=\"\",\"\",VLOOKUP(J109,判定式!L$3:$M$12,2,TRUE))","v":""},{"$f":"IF(K109=\"\",\"\",VLOOKUP(K109,判定式!G$3:$J$12,4,TRUE))","v":""},{"$f":"IF(L109=\"\",\"\",VLOOKUP(L109,判定式!H$3:$J$12,3,TRUE))","v":""},"",{"$f":"IF(ISNUMBER(D109),\"判定外\",IF(C109=6,VLOOKUP(AA109,判定式!$C$15:I$19,7,TRUE),IF(C109=7,VLOOKUP(AA109,判定式!$D$15:I$19,6,TRUE),IF(C109=8,VLOOKUP(AA109,判定式!$E$15:I$19,5,TRUE),IF(C109=9,VLOOKUP(AA109,判定式!$F$15:I$19,4,TRUE),IF(C109=10,VLOOKUP(AA109,判定式!$G$15:I$19,3,TRUE),IF(C109=11,VLOOKUP(AA109,判定式!$H$15:I$19,2,TRUE))))))))","v":false}]
[90,null,null,"-",null,null,null,null,null,null,null,null,null,null,null,null,null,null,{"$f":"IF(E110=\"\",\"\",VLOOKUP(E110,判定式!C$3:$J$12,8,TRUE))","v":""},{"$f":"IF(F110=\"\",\"\",VLOOKUP(F110,判定式!D$3:$J$12,7,TRUE))","v":""},{"$f":"IF(G110=\"\",\"\",VLOOKUP(G110,判定式!E$3:$J$12,6,TRUE))","v":""},{"$f":"IF(H110=\"\",\"\",VLOOKUP(H110,判定式!F$3:$J$12,5,TRUE))","v":""},{"$f":"IF(I110=\"\",\"\",VLOOKUP(I110,判定式!I$3:$J$12,2,TRUE))","v":""},{"$f":"IF(J110=\"\",\"\",VLOOKUP(J110,判定式!L$3:$M$12,2,TRUE))","v":""},{"$f":"IF(K110=\"\",\"\",VLOOKUP(K110,判定式!G$3:$J$12,4,TRUE))","v":""},{"$f":"IF(L110=\"\",\"\",VLOOKUP(L110,判定式!H$3:$J$12,3,TRUE))","v":""},"",{"$f":"IF(ISNUMBER(D110),\"判定外\",IF(C110=6,VLOOKUP(AA110,判定式!$C$15:I$19,7,TRUE),IF(C110=7,VLOOKUP(AA110,判定式!$D$15:I$19,6,TRUE),IF(C110=8,VLOOKUP(AA110,判定式!$E$15:I$19,5,TRUE),IF(C110=9,VLOOKUP(AA110,判定式!$F$15:I$19,4,TRUE),IF(C110=10,VLOOKUP(AA110,判定式!$G$15:I$19,3,TRUE),IF(C110=11,VLOOKUP(AA110,判定式!$H$15:I$19,2,TRUE))))))))","v":false}]
[91,null,null,"-",null,null,null,null,null,null,null,null,null,null,null,null,null,null,{"$f":"IF(E111=\"\",\"\",VLOOKUP(E111,判定式!C$3:$J$12,8,TRUE))","v":""},{"$f":"IF(F111=\"\",\"\",VLOOKUP(F111,判定式!D$3:$J$12,7,TRUE))","v":""},{"$f":"IF(G111=\"\",\"\",VLOOKUP(G111,判定式!E$3:$J$12,6,TRUE))","v":""},{"$f":"IF(H111=\"\",\"\",VLOOKUP(H111,判定式!F$3:$J$12,5,TRUE))","v":""},{"$f":"IF(I111=\"\",\"\",VLOOKUP(I111,判定式!I$3:$J$12,2,TRUE))","v":""},{"$f":"IF(J111=\"\",\"\",VLOOKUP(J111,判定式!L$3:$M$12,2,TRUE))","v":""},{"$f":"IF(K111=\"\",\"\",VLOOKUP(K111,判定式!G$3:$J$12,4,TRUE))","v":""},{"$f":"IF(L111=\"\",\"\",VLOOKUP(L111,判定式!H$3:$J$12,3,TRUE))","v":""},"",{"$f":"IF(ISNUMBER(D111),\"判定外\",IF(C111=6,VLOOKUP(AA111,判定式!$C$15:I$19,7,TRUE),IF(C111=7,VLOOKUP(AA111,判定式!$D$15:I$19,6,TRUE),IF(C111=8,VLOOKUP(AA111,判定式!$E$15:I$19,5,TRUE),IF(C111=9,VLOOKUP(AA111,判定式!$F$15:I$19,4,TRUE),IF(C111=10,VLOOKUP(AA111,判定式!$G$15:I$19,3,TRUE),IF(C111=11,VLOOKUP(AA111,判定式!$H$15:I$19,2,TRUE))))))))","v":false}]
[92,null,null,"-",null,null,null,null,null,null,null,null,null,null,null,null,null,null,{"$f":"IF(E112=\"\",\"\",VLOOKUP(E112,判定式!C$3:$J$12,8,TRUE))","v":""},{"$f":"IF(F112=\"\",\"\",VLOOKUP(F112,判定式!D$3:$J$12,7,TRUE))","v":""},{"$f":"IF(G112=\"\",\"\",VLOOKUP(G112,判定式!E$3:$J$12,6,TRUE))","v":""},{"$f":"IF(H112=\"\",\"\",VLOOKUP(H112,判定式!F$3:$J$12,5,TRUE))","v":""},{"$f":"IF(I112=\"\",\"\",VLOOKUP(I112,判定式!I$3:$J$12,2,TRUE))","v":""},{"$f":"IF(J112=\"\",\"\",VLOOKUP(J112,判定式!L$3:$M$12,2,TRUE))","v":""},{"$f":"IF(K112=\"\",\"\",VLOOKUP(K112,判定式!G$3:$J$12,4,TRUE))","v":""},{"$f":"IF(L112=\"\",\"\",VLOOKUP(L112,判定式!H$3:$J$12,3,TRUE))","v":""},"",{"$f":"IF(ISNUMBER(D112),\"判定外\",IF(C112=6,VLOOKUP(AA112,判定式!$C$15:I$19,7,TRUE),IF(C112=7,VLOOKUP(AA112,判定式!$D$15:I$19,6,TRUE),IF(C112=8,VLOOKUP(AA112,判定式!$E$15:I$19,5,TRUE),IF(C112=9,VLOOKUP(AA112,判定式!$F$15:I$19,4,TRUE),IF(C112=10,VLOOKUP(AA112,判定式!$G$15:I$19,3,TRUE),IF(C112=11,VLOOKUP(AA112,判定式!$H$15:I$19,2,TRUE))))))))","v":false}]
[93,null,null,"-",null,null,null,null,null,null,null,null,null,null,null,null,null,null,{"$f":"IF(E113=\"\",\"\",VLOOKUP(E113,判定式!C$3:$J$12,8,TRUE))","v":""},{"$f":"IF(F113=\"\",\"\",VLOOKUP(F113,判定式!D$3:$J$12,7,TRUE))","v":""},{"$f":"IF(G113=\"\",\"\",VLOOKUP(G113,判定式!E$3:$J$12,6,TRUE))","v":""},{"$f":"IF(H113=\"\",\"\",VLOOKUP(H113,判定式!F$3:$J$12,5,TRUE))","v":""},{"$f":"IF(I113=\"\",\"\",VLOOKUP(I113,判定式!I$3:$J$12,2,TRUE))","v":""},{"$f":"IF(J113=\"\",\"\",VLOOKUP(J113,判定式!L$3:$M$12,2,TRUE))","v":""},{"$f":"IF(K113=\"\",\"\",VLOOKUP(K113,判定式!G$3:$J$12,4,TRUE))","v":""},{"$f":"IF(L113=\"\",\"\",VLOOKUP(L113,判定式!H$3:$J$12,3,TRUE))","v":""},"",{"$f":"IF(ISNUMBER(D113),\"判定外\",IF(C113=6,VLOOKUP(AA113,判定式!$C$15:I$19,7,TRUE),IF(C113=7,VLOOKUP(AA113,判定式!$D$15:I$19,6,TRUE),IF(C113=8,VLOOKUP(AA113,判定式!$E$15:I$19,5,TRUE),IF(C113=9,VLOOKUP(AA113,判定式!$F$15:I$19,4,TRUE),IF(C113=10,VLOOKUP(AA113,判定式!$G$15:I$19,3,TRUE),IF(C113=11,VLOOKUP(AA113,判定式!$H$15:I$19,2,TRUE))))))))","v":false}]
[94,null,null,"-",null,null,null,null,null,null,null,null,null,null,null,null,null,null,{"$f":"IF(E114=\"\",\"\",VLOOKUP(E114,判定式!C$3:$J$12,8,TRUE))","v":""},{"$f":"IF(F114=\"\",\"\",VLOOKUP(F114,判定式!D$3:$J$12,7,TRUE))","v":""},{"$f":"IF(G114=\"\",\"\",VLOOKUP(G114,判定式!E$3:$J$12,6,TRUE))","v":""},{"$f":"IF(H114=\"\",\"\",VLOOKUP(H114,判定式!F$3:$J$12,5,TRUE))","v":""},{"$f":"IF(I114=\"\",\"\",VLOOKUP(I114,判定式!I$3:$J$12,2,TRUE))","v":""},{"$f":"IF(J114=\"\",\"\",VLOOKUP(J114,判定式!L$3:$M$12,2,TRUE))","v":""},{"$f":"IF(K114=\"\",\"\",VLOOKUP(K114,判定式!G$3:$J$12,4,TRUE))","v":""},{"$f":"IF(L114=\"\",\"\",VLOOKUP(L114,判定式!H$3:$J$12,3,TRUE))","v":""},"",{"$f":"IF(ISNUMBER(D114),\"判定外\",IF(C114=6,VLOOKUP(AA114,判定式!$C$15:I$19,7,TRUE),IF(C114=7,VLOOKUP(AA114,判定式!$D$15:I$19,6,TRUE),IF(C114=8,VLOOKUP(AA114,判定式!$E$15:I$19,5,TRUE),IF(C114=9,VLOOKUP(AA114,判定式!$F$15:I$19,4,TRUE),IF(C114=10,VLOOKUP(AA114,判定式!$G$15:I$19,3,TRUE),IF(C114=11,VLOOKUP(AA114,判定式!$H$15:I$19,2,TRUE))))))))","v":false}]
[95,null,null,"-",null,null,null,null,null,null,null,null,null,null,null,null,null,null,{"$f":"IF(E115=\"\",\"\",VLOOKUP(E115,判定式!C$3:$J$12,8,TRUE))","v":""},{"$f":"IF(F115=\"\",\"\",VLOOKUP(F115,判定式!D$3:$J$12,7,TRUE))","v":""},{"$f":"IF(G115=\"\",\"\",VLOOKUP(G115,判定式!E$3:$J$12,6,TRUE))","v":""},{"$f":"IF(H115=\"\",\"\",VLOOKUP(H115,判定式!F$3:$J$12,5,TRUE))","v":""},{"$f":"IF(I115=\"\",\"\",VLOOKUP(I115,判定式!I$3:$J$12,2,TRUE))","v":""},{"$f":"IF(J115=\"\",\"\",VLOOKUP(J115,判定式!L$3:$M$12,2,TRUE))","v":""},{"$f":"IF(K115=\"\",\"\",VLOOKUP(K115,判定式!G$3:$J$12,4,TRUE))","v":""},{"$f":"IF(L115=\"\",\"\",VLOOKUP(L115,判定式!H$3:$J$12,3,TRUE))","v":""},"",{"$f":"IF(ISNUMBER(D115),\"判定外\",IF(C115=6,VLOOKUP(AA115,判定式!$C$15:I$19,7,TRUE),IF(C115=7,VLOOKUP(AA115,判定式!$D$15:I$19,6,TRUE),IF(C115=8,VLOOKUP(AA115,判定式!$E$15:I$19,5,TRUE),IF(C115=9,VLOOKUP(AA115,判定式!$F$15:I$19,4,TRUE),IF(C115=10,VLOOKUP(AA115,判定式!$G$15:I$19,3,TRUE),IF(C115=11,VLOOKUP(AA115,判定式!$H$15:I$19,2,TRUE))))))))","v":false}]
[96,null,null,"-",null,null,null,null,null,null,null,null,null,null,null,null,null,null,{"$f":"IF(E116=\"\",\"\",VLOOKUP(E116,判定式!C$3:$J$12,8,TRUE))","v":""},{"$f":"IF(F116=\"\",\"\",VLOOKUP(F116,判定式!D$3:$J$12,7,TRUE))","v":""},{"$f":"IF(G116=\"\",\"\",VLOOKUP(G116,判定式!E$3:$J$12,6,TRUE))","v":""},{"$f":"IF(H116=\"\",\"\",VLOOKUP(H116,判定式!F$3:$J$12,5,TRUE))","v":""},{"$f":"IF(I116=\"\",\"\",VLOOKUP(I116,判定式!I$3:$J$12,2,TRUE))","v":""},{"$f":"IF(J116=\"\",\"\",VLOOKUP(J116,判定式!L$3:$M$12,2,TRUE))","v":""},{"$f":"IF(K116=\"\",\"\",VLOOKUP(K116,判定式!G$3:$J$12,4,TRUE))","v":""},{"$f":"IF(L116=\"\",\"\",VLOOKUP(L116,判定式!H$3:$J$12,3,TRUE))","v":""},"",{"$f":"IF(ISNUMBER(D116),\"判定外\",IF(C116=6,VLOOKUP(AA116,判定式!$C$15:I$19,7,TRUE),IF(C116=7,VLOOKUP(AA116,判定式!$D$15:I$19,6,TRUE),IF(C116=8,VLOOKUP(AA116,判定式!$E$15:I$19,5,TRUE),IF(C116=9,VLOOKUP(AA116,判定式!$F$15:I$19,4,TRUE),IF(C116=10,VLOOKUP(AA116,判定式!$G$15:I$19,3,TRUE),IF(C116=11,VLOOKUP(AA116,判定式!$H$15:I$19,2,TRUE))))))))","v":false}]
[97,null,null,"-",null,null,null,null,null,null,null,null,null,null,null,null,null,null,{"$f":"IF(E117=\"\",\"\",VLOOKUP(E117,判定式!C$3:$J$12,8,TRUE))","v":""},{"$f":"IF(F117=\"\",\"\",VLOOKUP(F117,判定式!D$3:$J$12,7,TRUE))","v":""},{"$f":"IF(G117=\"\",\"\",VLOOKUP(G117,判定式!E$3:$J$12,6,TRUE))","v":""},{"$f":"IF(H117=\"\",\"\",VLOOKUP(H117,判定式!F$3:$J$12,5,TRUE))","v":""},{"$f":"IF(I117=\"\",\"\",VLOOKUP(I117,判定式!I$3:$J$12,2,TRUE))","v":""},{"$f":"IF(J117=\"\",\"\",VLOOKUP(J117,判定式!L$3:$M$12,2,TRUE))","v":""},{"$f":"IF(K117=\"\",\"\",VLOOKUP(K117,判定式!G$3:$J$12,4,TRUE))","v":""},{"$f":"IF(L117=\"\",\"\",VLOOKUP(L117,判定式!H$3:$J$12,3,TRUE))","v":""},"",{"$f":"IF(ISNUMBER(D117),\"判定外\",IF(C117=6,VLOOKUP(AA117,判定式!$C$15:I$19,7,TRUE),IF(C117=7,VLOOKUP(AA117,判定式!$D$15:I$19,6,TRUE),IF(C117=8,VLOOKUP(AA117,判定式!$E$15:I$19,5,TRUE),IF(C117=9,VLOOKUP(AA117,判定式!$F$15:I$19,4,TRUE),IF(C117=10,VLOOKUP(AA117,判定式!$G$15:I$19,3,TRUE),IF(C117=11,VLOOKUP(AA117,判定式!$H$15:I$19,2,TRUE))))))))","v":false}]
[98,null,null,"-",null,null,null,null,null,null,null,null,null,null,null,null,null,null,{"$f":"IF(E118=\"\",\"\",VLOOKUP(E118,判定式!C$3:$J$12,8,TRUE))","v":""},{"$f":"IF(F118=\"\",\"\",VLOOKUP(F118,判定式!D$3:$J$12,7,TRUE))","v":""},{"$f":"IF(G118=\"\",\"\",VLOOKUP(G118,判定式!E$3:$J$12,6,TRUE))","v":""},{"$f":"IF(H118=\"\",\"\",VLOOKUP(H118,判定式!F$3:$J$12,5,TRUE))","v":""},{"$f":"IF(I118=\"\",\"\",VLOOKUP(I118,判定式!I$3:$J$12,2,TRUE))","v":""},{"$f":"IF(J118=\"\",\"\",VLOOKUP(J118,判定式!L$3:$M$12,2,TRUE))","v":""},{"$f":"IF(K118=\"\",\"\",VLOOKUP(K118,判定式!G$3:$J$12,4,TRUE))","v":""},{"$f":"IF(L118=\"\",\"\",VLOOKUP(L118,判定式!H$3:$J$12,3,TRUE))","v":""},"",{"$f":"IF(ISNUMBER(D118),\"判定外\",IF(C118=6,VLOOKUP(AA118,判定式!$C$15:I$19,7,TRUE),IF(C118=7,VLOOKUP(AA118,判定式!$D$15:I$19,6,TRUE),IF(C118=8,VLOOKUP(AA118,判定式!$E$15:I$19,5,TRUE),IF(C118=9,VLOOKUP(AA118,判定式!$F$15:I$19,4,TRUE),IF(C118=10,VLOOKUP(AA118,判定式!$G$15:I$19,3,TRUE),IF(C118=11,VLOOKUP(AA118,判定式!$H$15:I$19,2,TRUE))))))))","v":false}]
[99,null,null,"-",null,null,null,null,null,null,null,null,null,null,null,null,null,null,{"$f":"IF(E119=\"\",\"\",VLOOKUP(E119,判定式!C$3:$J$12,8,TRUE))","v":""},{"$f":"IF(F119=\"\",\"\",VLOOKUP(F119,判定式!D$3:$J$12,7,TRUE))","v":""},{"$f":"IF(G119=\"\",\"\",VLOOKUP(G119,判定式!E$3:$J$12,6,TRUE))","v":""},{"$f":"IF(H119=\"\",\"\",VLOOKUP(H119,判定式!F$3:$J$12,5,TRUE))","v":""},{"$f":"IF(I119=\"\",\"\",VLOOKUP(I119,判定式!I$3:$J$12,2,TRUE))","v":""},{"$f":"IF(J119=\"\",\"\",VLOOKUP(J119,判定式!L$3:$M$12,2,TRUE))","v":""},{"$f":"IF(K119=\"\",\"\",VLOOKUP(K119,判定式!G$3:$J$12,4,TRUE))","v":""},{"$f":"IF(L119=\"\",\"\",VLOOKUP(L119,判定式!H$3:$J$12,3,TRUE))","v":""},"",{"$f":"IF(ISNUMBER(D119),\"判定外\",IF(C119=6,VLOOKUP(AA119,判定式!$C$15:I$19,7,TRUE),IF(C119=7,VLOOKUP(AA119,判定式!$D$15:I$19,6,TRUE),IF(C119=8,VLOOKUP(AA119,判定式!$E$15:I$19,5,TRUE),IF(C119=9,VLOOKUP(AA119,判定式!$F$15:I$19,4,TRUE),IF(C119=10,VLOOKUP(AA119,判定式!$G$15:I$19,3,TRUE),IF(C119=11,VLOOKUP(AA119,判定式!$H$15:I$19,2,TRUE))))))))","v":false}]
[100,null,null,"-",null,null,null,null,null,null,null,null,null,null,null,null,null,null,{"$f":"IF(E120=\"\",\"\",VLOOKUP(E120,判定式!C$3:$J$12,8,TRUE))","v":""},{"$f":"IF(F120=\"\",\"\",VLOOKUP(F120,判定式!D$3:$J$12,7,TRUE))","v":""},{"$f":"IF(G120=\"\",\"\",VLOOKUP(G120,判定式!E$3:$J$12,6,TRUE))","v":""},{"$f":"IF(H120=\"\",\"\",VLOOKUP(H120,判定式!F$3:$J$12,5,TRUE))","v":""},{"$f":"IF(I120=\"\",\"\",VLOOKUP(I120,判定式!I$3:$J$12,2,TRUE))","v":""},{"$f":"IF(J120=\"\",\"\",VLOOKUP(J120,判定式!L$3:$M$12,2,TRUE))","v":""},{"$f":"IF(K120=\"\",\"\",VLOOKUP(K120,判定式!G$3:$J$12,4,TRUE))","v":""},{"$f":"IF(L120=\"\",\"\",VLOOKUP(L120,判定式!H$3:$J$12,3,TRUE))","v":""},"",{"$f":"IF(ISNUMBER(D120),\"判定外\",IF(C120=6,VLOOKUP(AA120,判定式!$C$15:I$19,7,TRUE),IF(C120=7,VLOOKUP(AA120,判定式!$D$15:I$19,6,TRUE),IF(C120=8,VLOOKUP(AA120,判定式!$E$15:I$19,5,TRUE),IF(C120=9,VLOOKUP(AA120,判定式!$F$15:I$19,4,TRUE),IF(C120=10,VLOOKUP(AA120,判定式!$G$15:I$19,3,TRUE),IF(C120=11,VLOOKUP(AA120,判定式!$H$15:I$19,2,TRUE))))))))","v":false}]
[101,null,null,"-",null,null,null,null,null,null,null,null,null,null,null,null,null,null,{"$f":"IF(E121=\"\",\"\",VLOOKUP(E121,判定式!C$3:$J$12,8,TRUE))","v":""},{"$f":"IF(F121=\"\",\"\",VLOOKUP(F121,判定式!D$3:$J$12,7,TRUE))","v":""},{"$f":"IF(G121=\"\",\"\",VLOOKUP(G121,判定式!E$3:$J$12,6,TRUE))","v":""},{"$f":"IF(H121=\"\",\"\",VLOOKUP(H121,判定式!F$3:$J$12,5,TRUE))","v":""},{"$f":"IF(I121=\"\",\"\",VLOOKUP(I121,判定式!I$3:$J$12,2,TRUE))","v":""},{"$f":"IF(J121=\"\",\"\",VLOOKUP(J121,判定式!L$3:$M$12,2,TRUE))","v":""},{"$f":"IF(K121=\"\",\"\",VLOOKUP(K121,判定式!G$3:$J$12,4,TRUE))","v":""},{"$f":"IF(L121=\"\",\"\",VLOOKUP(L121,判定式!H$3:$J$12,3,TRUE))","v":""},"",{"$f":"IF(ISNUMBER(D121),\"判定外\",IF(C121=6,VLOOKUP(AA121,判定式!$C$15:I$19,7,TRUE),IF(C121=7,VLOOKUP(AA121,判定式!$D$15:I$19,6,TRUE),IF(C121=8,VLOOKUP(AA121,判定式!$E$15:I$19,5,TRUE),IF(C121=9,VLOOKUP(AA121,判定式!$F$15:I$19,4,TRUE),IF(C121=10,VLOOKUP(AA121,判定式!$G$15:I$19,3,TRUE),IF(C121=11,VLOOKUP(AA121,判定式!$H$15:I$19,2,TRUE))))))))","v":false}]
[102,null,null,"-",null,null,null,null,null,null,null,null,null,null,null,null,null,null,{"$f":"IF(E122=\"\",\"\",VLOOKUP(E122,判定式!C$3:$J$12,8,TRUE))","v":""},{"$f":"IF(F122=\"\",\"\",VLOOKUP(F122,判定式!D$3:$J$12,7,TRUE))","v":""},{"$f":"IF(G122=\"\",\"\",VLOOKUP(G122,判定式!E$3:$J$12,6,TRUE))","v":""},{"$f":"IF(H122=\"\",\"\",VLOOKUP(H122,判定式!F$3:$J$12,5,TRUE))","v":""},{"$f":"IF(I122=\"\",\"\",VLOOKUP(I122,判定式!I$3:$J$12,2,TRUE))","v":""},{"$f":"IF(J122=\"\",\"\",VLOOKUP(J122,判定式!L$3:$M$12,2,TRUE))","v":""},{"$f":"IF(K122=\"\",\"\",VLOOKUP(K122,判定式!G$3:$J$12,4,TRUE))","v":""},{"$f":"IF(L122=\"\",\"\",VLOOKUP(L122,判定式!H$3:$J$12,3,TRUE))","v":""},"",{"$f":"IF(ISNUMBER(D122),\"判定外\",IF(C122=6,VLOOKUP(AA122,判定式!$C$15:I$19,7,TRUE),IF(C122=7,VLOOKUP(AA122,判定式!$D$15:I$19,6,TRUE),IF(C122=8,VLOOKUP(AA122,判定式!$E$15:I$19,5,TRUE),IF(C122=9,VLOOKUP(AA122,判定式!$F$15:I$19,4,TRUE),IF(C122=10,VLOOKUP(AA122,判定式!$G$15:I$19,3,TRUE),IF(C122=11,VLOOKUP(AA122,判定式!$H$15:I$19,2,TRUE))))))))","v":false}]
[103,null,null,"-",null,null,null,null,null,null,null,null,null,null,null,null,null,null,{"$f":"IF(E123=\"\",\"\",VLOOKUP(E123,判定式!C$3:$J$12,8,TRUE))","v":""},{"$f":"IF(F123=\"\",\"\",VLOOKUP(F123,判定式!D$3:$J$12,7,TRUE))","v":""},{"$f":"IF(G123=\"\",\"\",VLOOKUP(G123,判定式!E$3:$J$12,6,TRUE))","v":""},{"$f":"IF(H123=\"\",\"\",VLOOKUP(H123,判定式!F$3:$J$12,5,TRUE))","v":""},{"$f":"IF(I123=\"\",\"\",VLOOKUP(I123,判定式!I$3:$J$12,2,TRUE))","v":""},{"$f":"IF(J123=\"\",\"\",VLOOKUP(J123,判定式!L$3:$M$12,2,TRUE))","v":""},{"$f":"IF(K123=\"\",\"\",VLOOKUP(K123,判定式!G$3:$J$12,4,TRUE))","v":""},{"$f":"IF(L123=\"\",\"\",VLOOKUP(L123,判定式!H$3:$J$12,3,TRUE))","v":""},"",{"$f":"IF(ISNUMBER(D123),\"判定外\",IF(C123=6,VLOOKUP(AA123,判定式!$C$15:I$19,7,TRUE),IF(C123=7,VLOOKUP(AA123,判定式!$D$15:I$19,6,TRUE),IF(C123=8,VLOOKUP(AA123,判定式!$E$15:I$19,5,TRUE),IF(C123=9,VLOOKUP(AA123,判定式!$F$15:I$19,4,TRUE),IF(C123=10,VLOOKUP(AA123,判定式!$G$15:I$19,3,TRUE),IF(C123=11,VLOOKUP(AA123,判定式!$H$15:I$19,2,TRUE))))))))","v":false}]
[104,null,null,"-",null,null,null,null,null,null,null,null,null,null,null,null,null,null,{"$f":"IF(E124=\"\",\"\",VLOOKUP(E124,判定式!C$3:$J$12,8,TRUE))","v":""},{"$f":"IF(F124=\"\",\"\",VLOOKUP(F124,判定式!D$3:$J$12,7,TRUE))","v":""},{"$f":"IF(G124=\"\",\"\",VLOOKUP(G124,判定式!E$3:$J$12,6,TRUE))","v":""},{"$f":"IF(H124=\"\",\"\",VLOOKUP(H124,判定式!F$3:$J$12,5,TRUE))","v":""},{"$f":"IF(I124=\"\",\"\",VLOOKUP(I124,判定式!I$3:$J$12,2,TRUE))","v":""},{"$f":"IF(J124=\"\",\"\",VLOOKUP(J124,判定式!L$3:$M$12,2,TRUE))","v":""},{"$f":"IF(K124=\"\",\"\",VLOOKUP(K124,判定式!G$3:$J$12,4,TRUE))","v":""},{"$f":"IF(L124=\"\",\"\",VLOOKUP(L124,判定式!H$3:$J$12,3,TRUE))","v":""},"",{"$f":"IF(ISNUMBER(D124),\"判定外\",IF(C124=6,VLOOKUP(AA124,判定式!$C$15:I$19,7,TRUE),IF(C124=7,VLOOKUP(AA124,判定式!$D$15:I$19,6,TRUE),IF(C124=8,VLOOKUP(AA124,判定式!$E$15:I$19,5,TRUE),IF(C124=9,VLOOKUP(AA124,判定式!$F$15:I$19,4,TRUE),IF(C124=10,VLOOKUP(AA124,判定式!$G$15:I$19,3,TRUE),IF(C124=11,VLOOKUP(AA124,判定式!$H$15:I$19,2,TRUE))))))))","v":false}]
[105,null,null,"-",null,null,null,null,null,null,null,null,null,null,null,null,null,null,{"$f":"IF(E125=\"\",\"\",VLOOKUP(E125,判定式!C$3:$J$12,8,TRUE))","v":""},{"$f":"IF(F125=\"\",\"\",VLOOKUP(F125,判定式!D$3:$J$12,7,TRUE))","v":""},{"$f":"IF(G125=\"\",\"\",VLOOKUP(G125,判定式!E$3:$J$12,6,TRUE))","v":""},{"$f":"IF(H125=\"\",\"\",VLOOKUP(H125,判定式!F$3:$J$12,5,TRUE))","v":""},{"$f":"IF(I125=\"\",\"\",VLOOKUP(I125,判定式!I$3:$J$12,2,TRUE))","v":""},{"$f":"IF(J125=\"\",\"\",VLOOKUP(J125,判定式!L$3:$M$12,2,TRUE))","v":""},{"$f":"IF(K125=\"\",\"\",VLOOKUP(K125,判定式!G$3:$J$12,4,TRUE))","v":""},{"$f":"IF(L125=\"\",\"\",VLOOKUP(L125,判定式!H$3:$J$12,3,TRUE))","v":""},"",{"$f":"IF(ISNUMBER(D125),\"判定外\",IF(C125=6,VLOOKUP(AA125,判定式!$C$15:I$19,7,TRUE),IF(C125=7,VLOOKUP(AA125,判定式!$D$15:I$19,6,TRUE),IF(C125=8,VLOOKUP(AA125,判定式!$E$15:I$19,5,TRUE),IF(C125=9,VLOOKUP(AA125,判定式!$F$15:I$19,4,TRUE),IF(C125=10,VLOOKUP(AA125,判定式!$G$15:I$19,3,TRUE),IF(C125=11,VLOOKUP(AA125,判定式!$H$15:I$19,2,TRUE))))))))","v":false}]
[106,null,null,"-",null,null,null,null,null,null,null,null,null,null,null,null,null,null,{"$f":"IF(E126=\"\",\"\",VLOOKUP(E126,判定式!C$3:$J$12,8,TRUE))","v":""},{"$f":"IF(F126=\"\",\"\",VLOOKUP(F126,判定式!D$3:$J$12,7,TRUE))","v":""},{"$f":"IF(G126=\"\",\"\",VLOOKUP(G126,判定式!E$3:$J$12,6,TRUE))","v":""},{"$f":"IF(H126=\"\",\"\",VLOOKUP(H126,判定式!F$3:$J$12,5,TRUE))","v":""},{"$f":"IF(I126=\"\",\"\",VLOOKUP(I126,判定式!I$3:$J$12,2,TRUE))","v":""},{"$f":"IF(J126=\"\",\"\",VLOOKUP(J126,判定式!L$3:$M$12,2,TRUE))","v":""},{"$f":"IF(K126=\"\",\"\",VLOOKUP(K126,判定式!G$3:$J$12,4,TRUE))","v":""},{"$f":"IF(L126=\"\",\"\",VLOOKUP(L126,判定式!H$3:$J$12,3,TRUE))","v":""},"",{"$f":"IF(ISNUMBER(D126),\"判定外\",IF(C126=6,VLOOKUP(AA126,判定式!$C$15:I$19,7,TRUE),IF(C126=7,VLOOKUP(AA126,判定式!$D$15:I$19,6,TRUE),IF(C126=8,VLOOKUP(AA126,判定式!$E$15:I$19,5,TRUE),IF(C126=9,VLOOKUP(AA126,判定式!$F$15:I$19,4,TRUE),IF(C126=10,VLOOKUP(AA126,判定式!$G$15:I$19,3,TRUE),IF(C126=11,VLOOKUP(AA126,判定式!$H$15:I$19,2,TRUE))))))))","v":false}]
[107,null,null,"-",null,null,null,null,null,null,null,null,null,null,null,null,null,null,{"$f":"IF(E127=\"\",\"\",VLOOKUP(E127,判定式!C$3:$J$12,8,TRUE))","v":""},{"$f":"IF(F127=\"\",\"\",VLOOKUP(F127,判定式!D$3:$J$12,7,TRUE))","v":""},{"$f":"IF(G127=\"\",\"\",VLOOKUP(G127,判定式!E$3:$J$12,6,TRUE))","v":""},{"$f":"IF(H127=\"\",\"\",VLOOKUP(H127,判定式!F$3:$J$12,5,TRUE))","v":""},{"$f":"IF(I127=\"\",\"\",VLOOKUP(I127,判定式!I$3:$J$12,2,TRUE))","v":""},{"$f":"IF(J127=\"\",\"\",VLOOKUP(J127,判定式!L$3:$M$12,2,TRUE))","v":""},{"$f":"IF(K127=\"\",\"\",VLOOKUP(K127,判定式!G$3:$J$12,4,TRUE))","v":""},{"$f":"IF(L127=\"\",\"\",VLOOKUP(L127,判定式!H$3:$J$12,3,TRUE))","v":""},"",{"$f":"IF(ISNUMBER(D127),\"判定外\",IF(C127=6,VLOOKUP(AA127,判定式!$C$15:I$19,7,TRUE),IF(C127=7,VLOOKUP(AA127,判定式!$D$15:I$19,6,TRUE),IF(C127=8,VLOOKUP(AA127,判定式!$E$15:I$19,5,TRUE),IF(C127=9,VLOOKUP(AA127,判定式!$F$15:I$19,4,TRUE),IF(C127=10,VLOOKUP(AA127,判定式!$G$15:I$19,3,TRUE),IF(C127=11,VLOOKUP(AA127,判定式!$H$15:I$19,2,TRUE))))))))","v":false}]
[108,null,null,"-",null,null,null,null,null,null,null,null,null,null,null,null,null,null,{"$f":"IF(E128=\"\",\"\",VLOOKUP(E128,判定式!C$3:$J$12,8,TRUE))","v":""},{"$f":"IF(F128=\"\",\"\",VLOOKUP(F128,判定式!D$3:$J$12,7,TRUE))","v":""},{"$f":"IF(G128=\"\",\"\",VLOOKUP(G128,判定式!E$3:$J$12,6,TRUE))","v":""},{"$f":"IF(H128=\"\",\"\",VLOOKUP(H128,判定式!F$3:$J$12,5,TRUE))","v":""},{"$f":"IF(I128=\"\",\"\",VLOOKUP(I128,判定式!I$3:$J$12,2,TRUE))","v":""},{"$f":"IF(J128=\"\",\"\",VLOOKUP(J128,判定式!L$3:$M$12,2,TRUE))","v":""},{"$f":"IF(K128=\"\",\"\",VLOOKUP(K128,判定式!G$3:$J$12,4,TRUE))","v":""},{"$f":"IF(L128=\"\",\"\",VLOOKUP(L128,判定式!H$3:$J$12,3,TRUE))","v":""},"",{"$f":"IF(ISNUMBER(D128),\"判定外\",IF(C128=6,VLOOKUP(AA128,判定式!$C$15:I$19,7,TRUE),IF(C128=7,VLOOKUP(AA128,判定式!$D$15:I$19,6,TRUE),IF(C128=8,VLOOKUP(AA128,判定式!$E$15:I$19,5,TRUE),IF(C128=9,VLOOKUP(AA128,判定式!$F$15:I$19,4,TRUE),IF(C128=10,VLOOKUP(AA128,判定式!$G$15:I$19,3,TRUE),IF(C128=11,VLOOKUP(AA128,判定式!$H$15:I$19,2,TRUE))))))))","v":false}]
[109,null,null,"-",null,null,null,null,null,null,null,null,null,null,null,null,null,null,{"$f":"IF(E129=\"\",\"\",VLOOKUP(E129,判定式!C$3:$J$12,8,TRUE))","v":""},{"$f":"IF(F129=\"\",\"\",VLOOKUP(F129,判定式!D$3:$J$12,7,TRUE))","v":""},{"$f":"IF(G129=\"\",\"\",VLOOKUP(G129,判定式!E$3:$J$12,6,TRUE))","v":""},{"$f":"IF(H129=\"\",\"\",VLOOKUP(H129,判定式!F$3:$J$12,5,TRUE))","v":""},{"$f":"IF(I129=\"\",\"\",VLOOKUP(I129,判定式!I$3:$J$12,2,TRUE))","v":""},{"$f":"IF(J129=\"\",\"\",VLOOKUP(J129,判定式!L$3:$M$12,2,TRUE))","v":""},{"$f":"IF(K129=\"\",\"\",VLOOKUP(K129,判定式!G$3:$J$12,4,TRUE))","v":""},{"$f":"IF(L129=\"\",\"\",VLOOKUP(L129,判定式!H$3:$J$12,3,TRUE))","v":""},"",{"$f":"IF(ISNUMBER(D129),\"判定外\",IF(C129=6,VLOOKUP(AA129,判定式!$C$15:I$19,7,TRUE),IF(C129=7,VLOOKUP(AA129,判定式!$D$15:I$19,6,TRUE),IF(C129=8,VLOOKUP(AA129,判定式!$E$15:I$19,5,TRUE),IF(C129=9,VLOOKUP(AA129,判定式!$F$15:I$19,4,TRUE),IF(C129=10,VLOOKUP(AA129,判定式!$G$15:I$19,3,TRUE),IF(C129=11,VLOOKUP(AA129,判定式!$H$15:I$19,2,TRUE))))))))","v":false}]
[110,null,null,"-",null,null,null,null,null,null,null,null,null,null,null,null,null,null,{"$f":"IF(E130=\"\",\"\",VLOOKUP(E130,判定式!C$3:$J$12,8,TRUE))","v":""},{"$f":"IF(F130=\"\",\"\",VLOOKUP(F130,判定式!D$3:$J$12,7,TRUE))","v":""},{"$f":"IF(G130=\"\",\"\",VLOOKUP(G130,判定式!E$3:$J$12,6,TRUE))","v":""},{"$f":"IF(H130=\"\",\"\",VLOOKUP(H130,判定式!F$3:$J$12,5,TRUE))","v":""},{"$f":"IF(I130=\"\",\"\",VLOOKUP(I130,判定式!I$3:$J$12,2,TRUE))","v":""},{"$f":"IF(J130=\"\",\"\",VLOOKUP(J130,判定式!L$3:$M$12,2,TRUE))","v":""},{"$f":"IF(K130=\"\",\"\",VLOOKUP(K130,判定式!G$3:$J$12,4,TRUE))","v":""},{"$f":"IF(L130=\"\",\"\",VLOOKUP(L130,判定式!H$3:$J$12,3,TRUE))","v":""},"",{"$f":"IF(ISNUMBER(D130),\"判定外\",IF(C130=6,VLOOKUP(AA130,判定式!$C$15:I$19,7,TRUE),IF(C130=7,VLOOKUP(AA130,判定式!$D$15:I$19,6,TRUE),IF(C130=8,VLOOKUP(AA130,判定式!$E$15:I$19,5,TRUE),IF(C130=9,VLOOKUP(AA130,判定式!$F$15:I$19,4,TRUE),IF(C130=10,VLOOKUP(AA130,判定式!$G$15:I$19,3,TRUE),IF(C130=11,VLOOKUP(AA130,判定式!$H$15:I$19,2,TRUE))))))))","v":false}]
[111,null,null,"-",null,null,null,null,null,null,null,null,null,null,null,null,null,null,{"$f":"IF(E131=\"\",\"\",VLOOKUP(E131,判定式!C$3:$J$12,8,TRUE))","v":""},{"$f":"IF(F131=\"\",\"\",VLOOKUP(F131,判定式!D$3:$J$12,7,TRUE))","v":""},{"$f":"IF(G131=\"\",\"\",VLOOKUP(G131,判定式!E$3:$J$12,6,TRUE))","v":""},{"$f":"IF(H131=\"\",\"\",VLOOKUP(H131,判定式!F$3:$J$12,5,TRUE))","v":""},{"$f":"IF(I131=\"\",\"\",VLOOKUP(I131,判定式!I$3:$J$12,2,TRUE))","v":""},{"$f":"IF(J131=\"\",\"\",VLOOKUP(J131,判定式!L$3:$M$12,2,TRUE))","v":""},{"$f":"IF(K131=\"\",\"\",VLOOKUP(K131,判定式!G$3:$J$12,4,TRUE))","v":""},{"$f":"IF(L131=\"\",\"\",VLOOKUP(L131,判定式!H$3:$J$12,3,TRUE))","v":""},"",{"$f":"IF(ISNUMBER(D131),\"判定外\",IF(C131=6,VLOOKUP(AA131,判定式!$C$15:I$19,7,TRUE),IF(C131=7,VLOOKUP(AA131,判定式!$D$15:I$19,6,TRUE),IF(C131=8,VLOOKUP(AA131,判定式!$E$15:I$19,5,TRUE),IF(C131=9,VLOOKUP(AA131,判定式!$F$15:I$19,4,TRUE),IF(C131=10,VLOOKUP(AA131,判定式!$G$15:I$19,3,TRUE),IF(C131=11,VLOOKUP(AA131,判定式!$H$15:I$19,2,TRUE))))))))","v":false}]
[112,null,null,"-",null,null,null,null,null,null,null,null,null,null,null,null,null,null,{"$f":"IF(E132=\"\",\"\",VLOOKUP(E132,判定式!C$3:$J$12,8,TRUE))","v":""},{"$f":"IF(F132=\"\",\"\",VLOOKUP(F132,判定式!D$3:$J$12,7,TRUE))","v":""},{"$f":"IF(G132=\"\",\"\",VLOOKUP(G132,判定式!E$3:$J$12,6,TRUE))","v":""},{"$f":"IF(H132=\"\",\"\",VLOOKUP(H132,判定式!F$3:$J$12,5,TRUE))","v":""},{"$f":"IF(I132=\"\",\"\",VLOOKUP(I132,判定式!I$3:$J$12,2,TRUE))","v":""},{"$f":"IF(J132=\"\",\"\",VLOOKUP(J132,判定式!L$3:$M$12,2,TRUE))","v":""},{"$f":"IF(K132=\"\",\"\",VLOOKUP(K132,判定式!G$3:$J$12,4,TRUE))","v":""},{"$f":"IF(L132=\"\",\"\",VLOOKUP(L132,判定式!H$3:$J$12,3,TRUE))","v":""},"",{"$f":"IF(ISNUMBER(D132),\"判定外\",IF(C132=6,VLOOKUP(AA132,判定式!$C$15:I$19,7,TRUE),IF(C132=7,VLOOKUP(AA132,判定式!$D$15:I$19,6,TRUE),IF(C132=8,VLOOKUP(AA132,判定式!$E$15:I$19,5,TRUE),IF(C132=9,VLOOKUP(AA132,判定式!$F$15:I$19,4,TRUE),IF(C132=10,VLOOKUP(AA132,判定式!$G$15:I$19,3,TRUE),IF(C132=11,VLOOKUP(AA132,判定式!$H$15:I$19,2,TRUE))))))))","v":false}]
[113,null,null,"-",null,null,null,null,null,null,null,null,null,null,null,null,null,null,{"$f":"IF(E133=\"\",\"\",VLOOKUP(E133,判定式!C$3:$J$12,8,TRUE))","v":""},{"$f":"IF(F133=\"\",\"\",VLOOKUP(F133,判定式!D$3:$J$12,7,TRUE))","v":""},{"$f":"IF(G133=\"\",\"\",VLOOKUP(G133,判定式!E$3:$J$12,6,TRUE))","v":""},{"$f":"IF(H133=\"\",\"\",VLOOKUP(H133,判定式!F$3:$J$12,5,TRUE))","v":""},{"$f":"IF(I133=\"\",\"\",VLOOKUP(I133,判定式!I$3:$J$12,2,TRUE))","v":""},{"$f":"IF(J133=\"\",\"\",VLOOKUP(J133,判定式!L$3:$M$12,2,TRUE))","v":""},{"$f":"IF(K133=\"\",\"\",VLOOKUP(K133,判定式!G$3:$J$12,4,TRUE))","v":""},{"$f":"IF(L133=\"\",\"\",VLOOKUP(L133,判定式!H$3:$J$12,3,TRUE))","v":""},"",{"$f":"IF(ISNUMBER(D133),\"判定外\",IF(C133=6,VLOOKUP(AA133,判定式!$C$15:I$19,7,TRUE),IF(C133=7,VLOOKUP(AA133,判定式!$D$15:I$19,6,TRUE),IF(C133=8,VLOOKUP(AA133,判定式!$E$15:I$19,5,TRUE),IF(C133=9,VLOOKUP(AA133,判定式!$F$15:I$19,4,TRUE),IF(C133=10,VLOOKUP(AA133,判定式!$G$15:I$19,3,TRUE),IF(C133=11,VLOOKUP(AA133,判定式!$H$15:I$19,2,TRUE))))))))","v":false}]
[114,null,null,"-",null,null,null,null,null,null,null,null,null,null,null,null,null,null,{"$f":"IF(E134=\"\",\"\",VLOOKUP(E134,判定式!C$3:$J$12,8,TRUE))","v":""},{"$f":"IF(F134=\"\",\"\",VLOOKUP(F134,判定式!D$3:$J$12,7,TRUE))","v":""},{"$f":"IF(G134=\"\",\"\",VLOOKUP(G134,判定式!E$3:$J$12,6,TRUE))","v":""},{"$f":"IF(H134=\"\",\"\",VLOOKUP(H134,判定式!F$3:$J$12,5,TRUE))","v":""},{"$f":"IF(I134=\"\",\"\",VLOOKUP(I134,判定式!I$3:$J$12,2,TRUE))","v":""},{"$f":"IF(J134=\"\",\"\",VLOOKUP(J134,判定式!L$3:$M$12,2,TRUE))","v":""},{"$f":"IF(K134=\"\",\"\",VLOOKUP(K134,判定式!G$3:$J$12,4,TRUE))","v":""},{"$f":"IF(L134=\"\",\"\",VLOOKUP(L134,判定式!H$3:$J$12,3,TRUE))","v":""},"",{"$f":"IF(ISNUMBER(D134),\"判定外\",IF(C134=6,VLOOKUP(AA134,判定式!$C$15:I$19,7,TRUE),IF(C134=7,VLOOKUP(AA134,判定式!$D$15:I$19,6,TRUE),IF(C134=8,VLOOKUP(AA134,判定式!$E$15:I$19,5,TRUE),IF(C134=9,VLOOKUP(AA134,判定式!$F$15:I$19,4,TRUE),IF(C134=10,VLOOKUP(AA134,判定式!$G$15:I$19,3,TRUE),IF(C134=11,VLOOKUP(AA134,判定式!$H$15:I$19,2,TRUE))))))))","v":false}]
[115,null,null,"-",null,null,null,null,null,null,null,null,null,null,null,null,null,null,{"$f":"IF(E135=\"\",\"\",VLOOKUP(E135,判定式!C$3:$J$12,8,TRUE))","v":""},{"$f":"IF(F135=\"\",\"\",VLOOKUP(F135,判定式!D$3:$J$12,7,TRUE))","v":""},{"$f":"IF(G135=\"\",\"\",VLOOKUP(G135,判定式!E$3:$J$12,6,TRUE))","v":""},{"$f":"IF(H135=\"\",\"\",VLOOKUP(H135,判定式!F$3:$J$12,5,TRUE))","v":""},{"$f":"IF(I135=\"\",\"\",VLOOKUP(I135,判定式!I$3:$J$12,2,TRUE))","v":""},{"$f":"IF(J135=\"\",\"\",VLOOKUP(J135,判定式!L$3:$M$12,2,TRUE))","v":""},{"$f":"IF(K135=\"\",\"\",VLOOKUP(K135,判定式!G$3:$J$12,4,TRUE))","v":""},{"$f":"IF(L135=\"\",\"\",VLOOKUP(L135,判定式!H$3:$J$12,3,TRUE))","v":""},"",{"$f":"IF(ISNUMBER(D135),\"判定外\",IF(C135=6,VLOOKUP(AA135,判定式!$C$15:I$19,7,TRUE),IF(C135=7,VLOOKUP(AA135,判定式!$D$15:I$19,6,TRUE),IF(C135=8,VLOOKUP(AA135,判定式!$E$15:I$19,5,TRUE),IF(C135=9,VLOOKUP(AA135,判定式!$F$15:I$19,4,TRUE),IF(C135=10,VLOOKUP(AA135,判定式!$G$15:I$19,3,TRUE),IF(C135=11,VLOOKUP(AA135,判定式!$H$15:I$19,2,TRUE))))))))","v":false}]
[116,null,null,"-",null,null,null,null,null,null,null,null,null,null,null,null,null,null,{"$f":"IF(E136=\"\",\"\",VLOOKUP(E136,判定式!C$3:$J$12,8,TRUE))","v":""},{"$f":"IF(F136=\"\",\"\",VLOOKUP(F136,判定式!D$3:$J$12,7,TRUE))","v":""},{"$f":"IF(G136=\"\",\"\",VLOOKUP(G136,判定式!E$3:$J$12,6,TRUE))","v":""},{"$f":"IF(H136=\"\",\"\",VLOOKUP(H136,判定式!F$3:$J$12,5,TRUE))","v":""},{"$f":"IF(I136=\"\",\"\",VLOOKUP(I136,判定式!I$3:$J$12,2,TRUE))","v":""},{"$f":"IF(J136=\"\",\"\",VLOOKUP(J136,判定式!L$3:$M$12,2,TRUE))","v":""},{"$f":"IF(K136=\"\",\"\",VLOOKUP(K136,判定式!G$3:$J$12,4,TRUE))","v":""},{"$f":"IF(L136=\"\",\"\",VLOOKUP(L136,判定式!H$3:$J$12,3,TRUE))","v":""},"",{"$f":"IF(ISNUMBER(D136),\"判定外\",IF(C136=6,VLOOKUP(AA136,判定式!$C$15:I$19,7,TRUE),IF(C136=7,VLOOKUP(AA136,判定式!$D$15:I$19,6,TRUE),IF(C136=8,VLOOKUP(AA136,判定式!$E$15:I$19,5,TRUE),IF(C136=9,VLOOKUP(AA136,判定式!$F$15:I$19,4,TRUE),IF(C136=10,VLOOKUP(AA136,判定式!$G$15:I$19,3,TRUE),IF(C136=11,VLOOKUP(AA136,判定式!$H$15:I$19,2,TRUE))))))))","v":false}]
[117,null,null,"-",null,null,null,null,null,null,null,null,null,null,null,null,null,null,{"$f":"IF(E137=\"\",\"\",VLOOKUP(E137,判定式!C$3:$J$12,8,TRUE))","v":""},{"$f":"IF(F137=\"\",\"\",VLOOKUP(F137,判定式!D$3:$J$12,7,TRUE))","v":""},{"$f":"IF(G137=\"\",\"\",VLOOKUP(G137,判定式!E$3:$J$12,6,TRUE))","v":""},{"$f":"IF(H137=\"\",\"\",VLOOKUP(H137,判定式!F$3:$J$12,5,TRUE))","v":""},{"$f":"IF(I137=\"\",\"\",VLOOKUP(I137,判定式!I$3:$J$12,2,TRUE))","v":""},{"$f":"IF(J137=\"\",\"\",VLOOKUP(J137,判定式!L$3:$M$12,2,TRUE))","v":""},{"$f":"IF(K137=\"\",\"\",VLOOKUP(K137,判定式!G$3:$J$12,4,TRUE))","v":""},{"$f":"IF(L137=\"\",\"\",VLOOKUP(L137,判定式!H$3:$J$12,3,TRUE))","v":""},"",{"$f":"IF(ISNUMBER(D137),\"判定外\",IF(C137=6,VLOOKUP(AA137,判定式!$C$15:I$19,7,TRUE),IF(C137=7,VLOOKUP(AA137,判定式!$D$15:I$19,6,TRUE),IF(C137=8,VLOOKUP(AA137,判定式!$E$15:I$19,5,TRUE),IF(C137=9,VLOOKUP(AA137,判定式!$F$15:I$19,4,TRUE),IF(C137=10,VLOOKUP(AA137,判定式!$G$15:I$19,3,TRUE),IF(C137=11,VLOOKUP(AA137,判定式!$H$15:I$19,2,TRUE))))))))","v":false}]
[118,null,null,"-",null,null,null,null,null,null,null,null,null,null,null,null,null,null,{"$f":"IF(E138=\"\",\"\",VLOOKUP(E138,判定式!C$3:$J$12,8,TRUE))","v":""},{"$f":"IF(F138=\"\",\"\",VLOOKUP(F138,判定式!D$3:$J$12,7,TRUE))","v":""},{"$f":"IF(G138=\"\",\"\",VLOOKUP(G138,判定式!E$3:$J$12,6,TRUE))","v":""},{"$f":"IF(H138=\"\",\"\",VLOOKUP(H138,判定式!F$3:$J$12,5,TRUE))","v":""},{"$f":"IF(I138=\"\",\"\",VLOOKUP(I138,判定式!I$3:$J$12,2,TRUE))","v":""},{"$f":"IF(J138=\"\",\"\",VLOOKUP(J138,判定式!L$3:$M$12,2,TRUE))","v":""},{"$f":"IF(K138=\"\",\"\",VLOOKUP(K138,判定式!G$3:$J$12,4,TRUE))","v":""},{"$f":"IF(L138=\"\",\"\",VLOOKUP(L138,判定式!H$3:$J$12,3,TRUE))","v":""},"",{"$f":"IF(ISNUMBER(D138),\"判定外\",IF(C138=6,VLOOKUP(AA138,判定式!$C$15:I$19,7,TRUE),IF(C138=7,VLOOKUP(AA138,判定式!$D$15:I$19,6,TRUE),IF(C138=8,VLOOKUP(AA138,判定式!$E$15:I$19,5,TRUE),IF(C138=9,VLOOKUP(AA138,判定式!$F$15:I$19,4,TRUE),IF(C138=10,VLOOKUP(AA138,判定式!$G$15:I$19,3,TRUE),IF(C138=11,VLOOKUP(AA138,判定式!$H$15:I$19,2,TRUE))))))))","v":false}]
[119,null,null,"-",null,null,null,null,null,null,null,null,null,null,null,null,null,null,{"$f":"IF(E139=\"\",\"\",VLOOKUP(E139,判定式!C$3:$J$12,8,TRUE))","v":""},{"$f":"IF(F139=\"\",\"\",VLOOKUP(F139,判定式!D$3:$J$12,7,TRUE))","v":""},{"$f":"IF(G139=\"\",\"\",VLOOKUP(G139,判定式!E$3:$J$12,6,TRUE))","v":""},{"$f":"IF(H139=\"\",\"\",VLOOKUP(H139,判定式!F$3:$J$12,5,TRUE))","v":""},{"$f":"IF(I139=\"\",\"\",VLOOKUP(I139,判定式!I$3:$J$12,2,TRUE))","v":""},{"$f":"IF(J139=\"\",\"\",VLOOKUP(J139,判定式!L$3:$M$12,2,TRUE))","v":""},{"$f":"IF(K139=\"\",\"\",VLOOKUP(K139,判定式!G$3:$J$12,4,TRUE))","v":""},{"$f":"IF(L139=\"\",\"\",VLOOKUP(L139,判定式!H$3:$J$12,3,TRUE))","v":""},"",{"$f":"IF(ISNUMBER(D139),\"判定外\",IF(C139=6,VLOOKUP(AA139,判定式!$C$15:I$19,7,TRUE),IF(C139=7,VLOOKUP(AA139,判定式!$D$15:I$19,6,TRUE),IF(C139=8,VLOOKUP(AA139,判定式!$E$15:I$19,5,TRUE),IF(C139=9,VLOOKUP(AA139,判定式!$F$15:I$19,4,TRUE),IF(C139=10,VLOOKUP(AA139,判定式!$G$15:I$19,3,TRUE),IF(C139=11,VLOOKUP(AA139,判定式!$H$15:I$19,2,TRUE))))))))","v":false}]
[120,null,null,"-",null,null,null,null,null,null,null,null,null,null,null,null,null,null,{"$f":"IF(E140=\"\",\"\",VLOOKUP(E140,判定式!C$3:$J$12,8,TRUE))","v":""},{"$f":"IF(F140=\"\",\"\",VLOOKUP(F140,判定式!D$3:$J$12,7,TRUE))","v":""},{"$f":"IF(G140=\"\",\"\",VLOOKUP(G140,判定式!E$3:$J$12,6,TRUE))","v":""},{"$f":"IF(H140=\"\",\"\",VLOOKUP(H140,判定式!F$3:$J$12,5,TRUE))","v":""},{"$f":"IF(I140=\"\",\"\",VLOOKUP(I140,判定式!I$3:$J$12,2,TRUE))","v":""},{"$f":"IF(J140=\"\",\"\",VLOOKUP(J140,判定式!L$3:$M$12,2,TRUE))","v":""},{"$f":"IF(K140=\"\",\"\",VLOOKUP(K140,判定式!G$3:$J$12,4,TRUE))","v":""},{"$f":"IF(L140=\"\",\"\",VLOOKUP(L140,判定式!H$3:$J$12,3,TRUE))","v":""},"",{"$f":"IF(ISNUMBER(D140),\"判定外\",IF(C140=6,VLOOKUP(AA140,判定式!$C$15:I$19,7,TRUE),IF(C140=7,VLOOKUP(AA140,判定式!$D$15:I$19,6,TRUE),IF(C140=8,VLOOKUP(AA140,判定式!$E$15:I$19,5,TRUE),IF(C140=9,VLOOKUP(AA140,判定式!$F$15:I$19,4,TRUE),IF(C140=10,VLOOKUP(AA140,判定式!$G$15:I$19,3,TRUE),IF(C140=11,VLOOKUP(AA140,判定式!$H$15:I$19,2,TRUE))))))))","v":false}]
[]
[]
[null,"女子入力欄（男子は上段）生活アンケート⇒⇒⇒⇒⇒⇒⇒⇒⇒⇒⇒⇒⇒⇒⇒⇒⇒⇒⇒⇒⇒⇒⇒⇒⇒⇒⇒⇒⇒⇒⇒↓↓↓"]
[]
[null,"提出時、名前記入は任意","年齢は、全員１１",null,null,null,null,"５０m走は、1/100秒を切り上げて、「例：9.72→9.8」のように1/１０秒単位を入力する"]
[null,"小６　女子",11,"自動","整数","整数","整数","整数","整数","小数第１位","整数","整数",12,1234,1234,123,123,1234]
[null,null,"年齢","未実施\n項目数","調　　査　　項　　目　　記　　録",null,null,null,null,null,null,null,"６年　生活アンケート",null,null,null,null,null,"実技種目得点"]
["Ｎｏ．","名前","半角",null,"握力","上体起こし","長座体前屈","反復横とび","シャトルラン","５０ｍ走","立ち幅とび","ﾎﾞｰﾙ投げ","運動\nクラブ","運動\n頻度","運動\n時間","朝食","睡眠","テレビ","握力","上体\n起こし","長座\n体前屈","反復\n横跳び","ｼｬﾄﾙ\nﾗﾝ","50ｍ\n走","立ち\n幅とび","ボール\n投げ","体力","総合"]
[null,null,11,null,"（ｋｇ）","（回）","（ｃｍ）","（回）","（回）","（秒）","（ｃｍ）","（ｍ）",null,null,null,null,null,null,null,null,null,null,null,null,null,null,"合計点","評価"]
[1,null,null,{"$f":"IF(COUNTBLANK(E150:L150)=0,\"\",IF(COUNTBLANK(E150:L150)=8,\"-\",COUNTBLANK(E150:L150)))","v":"-"},null,null,null,null,null,null,null,null,null,null,null,null,null,null,{"$f":"IF($E150=\"\",\"\",VLOOKUP($E150,判定式!$P$3:$W$12,8,TRUE))","v":""},{"$f":"IF($F150=\"\",\"\",VLOOKUP($F150,判定式!$Q$3:$W$12,7,TRUE))","v":""},{"$f":"IF($G150=\"\",\"\",VLOOKUP($G150,判定式!$R$3:$W$12,6,TRUE))","v":""},{"$f":"IF($H150=\"\",\"\",VLOOKUP($H150,判定式!$S$3:$W$12,5,TRUE))","v":""},{"$f":"IF($I150=\"\",\"\",VLOOKUP($I150,判定式!$V$3:$W$12,2,TRUE))","v":""},{"$f":"IF($J150=\"\",\"\",VLOOKUP($J150,判定式!$Y$3:$Z$12,2,TRUE))","v":""},{"$f":"IF($K150=\"\",\"\",VLOOKUP($K150,判定式!$T$3:$W$12,4,TRUE))","v":""},{"$f":"IF($L150=\"\",\"\",VLOOKUP($L150,判定式!$U$3:$W$12,3,TRUE))","v":""},{"$f":"IF(COUNTBLANK(S150:Z150)=0,SUM(S150:Z150),\"\")","v":""},{"$f":"IF(ISNUMBER(D150),\"判定外\",IF(C150=6,VLOOKUP(AA150,判定式!$C$15:I$19,7,TRUE),IF(C150=7,VLOOKUP(AA150,判定式!$D$15:I$19,6,TRUE),IF(C150=8,VLOOKUP(AA150,判定式!$E$15:I$19,5,TRUE),IF(C150=9,VLOOKUP(AA150,判定式!$F$15:I$19,4,TRUE),IF(C150=10,VLOOKUP(AA150,判定式!$G$15:I$19,3,TRUE),IF(C150=11,VLOOKUP(AA150,判定式!$H$15:I$19,2,TRUE))))))))","v":false}]
[2,null,null,{"$f":"IF(COUNTBLANK(E151:L151)=0,\"\",IF(COUNTBLANK(E151:L151)=8,\"-\",COUNTBLANK(E151:L151)))","v":"-"},null,null,null,null,null,null,null,null,null,null,null,null,null,null,{"$f":"IF($E151=\"\",\"\",VLOOKUP($E151,判定式!$P$3:$W$12,8,TRUE))","v":""},{"$f":"IF($F151=\"\",\"\",VLOOKUP($F151,判定式!$Q$3:$W$12,7,TRUE))","v":""},{"$f":"IF($G151=\"\",\"\",VLOOKUP($G151,判定式!$R$3:$W$12,6,TRUE))","v":""},{"$f":"IF($H151=\"\",\"\",VLOOKUP($H151,判定式!$S$3:$W$12,5,TRUE))","v":""},{"$f":"IF($I151=\"\",\"\",VLOOKUP($I151,判定式!$V$3:$W$12,2,TRUE))","v":""},{"$f":"IF($J151=\"\",\"\",VLOOKUP($J151,判定式!$Y$3:$Z$12,2,TRUE))","v":""},{"$f":"IF($K151=\"\",\"\",VLOOKUP($K151,判定式!$T$3:$W$12,4,TRUE))","v":""},{"$f":"IF($L151=\"\",\"\",VLOOKUP($L151,判定式!$U$3:$W$12,3,TRUE))","v":""},{"$f":"IF(COUNTBLANK(S151:Z151)=0,SUM(S151:Z151),\"\")","v":""},{"$f":"IF(ISNUMBER(D151),\"判定外\",IF(C151=6,VLOOKUP(AA151,判定式!$C$15:I$19,7,TRUE),IF(C151=7,VLOOKUP(AA151,判定式!$D$15:I$19,6,TRUE),IF(C151=8,VLOOKUP(AA151,判定式!$E$15:I$19,5,TRUE),IF(C151=9,VLOOKUP(AA151,判定式!$F$15:I$19,4,TRUE),IF(C151=10,VLOOKUP(AA151,判定式!$G$15:I$19,3,TRUE),IF(C151=11,VLOOKUP(AA151,判定式!$H$15:I$19,2,TRUE))))))))","v":false}]
[3,null,null,"-",null,null,null,null,null,null,null,null,null,null,null,null,null,null,{"$f":"IF($E152=\"\",\"\",VLOOKUP($E152,判定式!$P$3:$W$12,8,TRUE))","v":""},{"$f":"IF($F152=\"\",\"\",VLOOKUP($F152,判定式!$Q$3:$W$12,7,TRUE))","v":""},{"$f":"IF($G152=\"\",\"\",VLOOKUP($G152,判定式!$R$3:$W$12,6,TRUE))","v":""},{"$f":"IF($H152=\"\",\"\",VLOOKUP($H152,判定式!$S$3:$W$12,5,TRUE))","v":""},{"$f":"IF($I152=\"\",\"\",VLOOKUP($I152,判定式!$V$3:$W$12,2,TRUE))","v":""},{"$f":"IF($J152=\"\",\"\",VLOOKUP($J152,判定式!$Y$3:$Z$12,2,TRUE))","v":""},{"$f":"IF($K152=\"\",\"\",VLOOKUP($K152,判定式!$T$3:$W$12,4,TRUE))","v":""},{"$f":"IF($L152=\"\",\"\",VLOOKUP($L152,判定式!$U$3:$W$12,3,TRUE))","v":""},"",{"$f":"IF(ISNUMBER(D152),\"判定外\",IF(C152=6,VLOOKUP(AA152,判定式!$C$15:I$19,7,TRUE),IF(C152=7,VLOOKUP(AA152,判定式!$D$15:I$19,6,TRUE),IF(C152=8,VLOOKUP(AA152,判定式!$E$15:I$19,5,TRUE),IF(C152=9,VLOOKUP(AA152,判定式!$F$15:I$19,4,TRUE),IF(C152=10,VLOOKUP(AA152,判定式!$G$15:I$19,3,TRUE),IF(C152=11,VLOOKUP(AA152,判定式!$H$15:I$19,2,TRUE))))))))","v":false}]
[4,null,null,"-",null,null,null,null,null,null,null,null,null,null,null,null,null,null,{"$f":"IF($E153=\"\",\"\",VLOOKUP($E153,判定式!$P$3:$W$12,8,TRUE))","v":""},{"$f":"IF($F153=\"\",\"\",VLOOKUP($F153,判定式!$Q$3:$W$12,7,TRUE))","v":""},{"$f":"IF($G153=\"\",\"\",VLOOKUP($G153,判定式!$R$3:$W$12,6,TRUE))","v":""},{"$f":"IF($H153=\"\",\"\",VLOOKUP($H153,判定式!$S$3:$W$12,5,TRUE))","v":""},{"$f":"IF($I153=\"\",\"\",VLOOKUP($I153,判定式!$V$3:$W$12,2,TRUE))","v":""},{"$f":"IF($J153=\"\",\"\",VLOOKUP($J153,判定式!$Y$3:$Z$12,2,TRUE))","v":""},{"$f":"IF($K153=\"\",\"\",VLOOKUP($K153,判定式!$T$3:$W$12,4,TRUE))","v":""},{"$f":"IF($L153=\"\",\"\",VLOOKUP($L153,判定式!$U$3:$W$12,3,TRUE))","v":""},"",{"$f":"IF(ISNUMBER(D153),\"判定外\",IF(C153=6,VLOOKUP(AA153,判定式!$C$15:I$19,7,TRUE),IF(C153=7,VLOOKUP(AA153,判定式!$D$15:I$19,6,TRUE),IF(C153=8,VLOOKUP(AA153,判定式!$E$15:I$19,5,TRUE),IF(C153=9,VLOOKUP(AA153,判定式!$F$15:I$19,4,TRUE),IF(C153=10,VLOOKUP(AA153,判定式!$G$15:I$19,3,TRUE),IF(C153=11,VLOOKUP(AA153,判定式!$H$15:I$19,2,TRUE))))))))","v":false}]
[5,null,null,"-",null,null,null,null,null,null,null,null,null,null,null,null,null,null,{"$f":"IF($E154=\"\",\"\",VLOOKUP($E154,判定式!$P$3:$W$12,8,TRUE))","v":""},{"$f":"IF($F154=\"\",\"\",VLOOKUP($F154,判定式!$Q$3:$W$12,7,TRUE))","v":""},{"$f":"IF($G154=\"\",\"\",VLOOKUP($G154,判定式!$R$3:$W$12,6,TRUE))","v":""},{"$f":"IF($H154=\"\",\"\",VLOOKUP($H154,判定式!$S$3:$W$12,5,TRUE))","v":""},{"$f":"IF($I154=\"\",\"\",VLOOKUP($I154,判定式!$V$3:$W$12,2,TRUE))","v":""},{"$f":"IF($J154=\"\",\"\",VLOOKUP($J154,判定式!$Y$3:$Z$12,2,TRUE))","v":""},{"$f":"IF($K154=\"\",\"\",VLOOKUP($K154,判定式!$T$3:$W$12,4,TRUE))","v":""},{"$f":"IF($L154=\"\",\"\",VLOOKUP($L154,判定式!$U$3:$W$12,3,TRUE))","v":""},"",{"$f":"IF(ISNUMBER(D154),\"判定外\",IF(C154=6,VLOOKUP(AA154,判定式!$C$15:I$19,7,TRUE),IF(C154=7,VLOOKUP(AA154,判定式!$D$15:I$19,6,TRUE),IF(C154=8,VLOOKUP(AA154,判定式!$E$15:I$19,5,TRUE),IF(C154=9,VLOOKUP(AA154,判定式!$F$15:I$19,4,TRUE),IF(C154=10,VLOOKUP(AA154,判定式!$G$15:I$19,3,TRUE),IF(C154=11,VLOOKUP(AA154,判定式!$H$15:I$19,2,TRUE))))))))","v":false}]
[6,null,null,"-",null,null,null,null,null,null,null,null,null,null,null,null,null,null,{"$f":"IF($E155=\"\",\"\",VLOOKUP($E155,判定式!$P$3:$W$12,8,TRUE))","v":""},{"$f":"IF($F155=\"\",\"\",VLOOKUP($F155,判定式!$Q$3:$W$12,7,TRUE))","v":""},{"$f":"IF($G155=\"\",\"\",VLOOKUP($G155,判定式!$R$3:$W$12,6,TRUE))","v":""},{"$f":"IF($H155=\"\",\"\",VLOOKUP($H155,判定式!$S$3:$W$12,5,TRUE))","v":""},{"$f":"IF($I155=\"\",\"\",VLOOKUP($I155,判定式!$V$3:$W$12,2,TRUE))","v":""},{"$f":"IF($J155=\"\",\"\",VLOOKUP($J155,判定式!$Y$3:$Z$12,2,TRUE))","v":""},{"$f":"IF($K155=\"\",\"\",VLOOKUP($K155,判定式!$T$3:$W$12,4,TRUE))","v":""},{"$f":"IF($L155=\"\",\"\",VLOOKUP($L155,判定式!$U$3:$W$12,3,TRUE))","v":""},"",{"$f":"IF(ISNUMBER(D155),\"判定外\",IF(C155=6,VLOOKUP(AA155,判定式!$C$15:I$19,7,TRUE),IF(C155=7,VLOOKUP(AA155,判定式!$D$15:I$19,6,TRUE),IF(C155=8,VLOOKUP(AA155,判定式!$E$15:I$19,5,TRUE),IF(C155=9,VLOOKUP(AA155,判定式!$F$15:I$19,4,TRUE),IF(C155=10,VLOOKUP(AA155,判定式!$G$15:I$19,3,TRUE),IF(C155=11,VLOOKUP(AA155,判定式!$H$15:I$19,2,TRUE))))))))","v":false}]
[7,null,null,"-",null,null,null,null,null,null,null,null,null,null,null,null,null,null,{"$f":"IF($E156=\"\",\"\",VLOOKUP($E156,判定式!$P$3:$W$12,8,TRUE))","v":""},{"$f":"IF($F156=\"\",\"\",VLOOKUP($F156,判定式!$Q$3:$W$12,7,TRUE))","v":""},{"$f":"IF($G156=\"\",\"\",VLOOKUP($G156,判定式!$R$3:$W$12,6,TRUE))","v":""},{"$f":"IF($H156=\"\",\"\",VLOOKUP($H156,判定式!$S$3:$W$12,5,TRUE))","v":""},{"$f":"IF($I156=\"\",\"\",VLOOKUP($I156,判定式!$V$3:$W$12,2,TRUE))","v":""},{"$f":"IF($J156=\"\",\"\",VLOOKUP($J156,判定式!$Y$3:$Z$12,2,TRUE))","v":""},{"$f":"IF($K156=\"\",\"\",VLOOKUP($K156,判定式!$T$3:$W$12,4,TRUE))","v":""},{"$f":"IF($L156=\"\",\"\",VLOOKUP($L156,判定式!$U$3:$W$12,3,TRUE))","v":""},"",{"$f":"IF(ISNUMBER(D156),\"判定外\",IF(C156=6,VLOOKUP(AA156,判定式!$C$15:I$19,7,TRUE),IF(C156=7,VLOOKUP(AA156,判定式!$D$15:I$19,6,TRUE),IF(C156=8,VLOOKUP(AA156,判定式!$E$15:I$19,5,TRUE),IF(C156=9,VLOOKUP(AA156,判定式!$F$15:I$19,4,TRUE),IF(C156=10,VLOOKUP(AA156,判定式!$G$15:I$19,3,TRUE),IF(C156=11,VLOOKUP(AA156,判定式!$H$15:I$19,2,TRUE))))))))","v":false}]
[8,null,null,"-",null,null,null,null,null,null,null,null,null,null,null,null,null,null,{"$f":"IF($E157=\"\",\"\",VLOOKUP($E157,判定式!$P$3:$W$12,8,TRUE))","v":""},{"$f":"IF($F157=\"\",\"\",VLOOKUP($F157,判定式!$Q$3:$W$12,7,TRUE))","v":""},{"$f":"IF($G157=\"\",\"\",VLOOKUP($G157,判定式!$R$3:$W$12,6,TRUE))","v":""},{"$f":"IF($H157=\"\",\"\",VLOOKUP($H157,判定式!$S$3:$W$12,5,TRUE))","v":""},{"$f":"IF($I157=\"\",\"\",VLOOKUP($I157,判定式!$V$3:$W$12,2,TRUE))","v":""},{"$f":"IF($J157=\"\",\"\",VLOOKUP($J157,判定式!$Y$3:$Z$12,2,TRUE))","v":""},{"$f":"IF($K157=\"\",\"\",VLOOKUP($K157,判定式!$T$3:$W$12,4,TRUE))","v":""},{"$f":"IF($L157=\"\",\"\",VLOOKUP($L157,判定式!$U$3:$W$12,3,TRUE))","v":""},"",{"$f":"IF(ISNUMBER(D157),\"判定外\",IF(C157=6,VLOOKUP(AA157,判定式!$C$15:I$19,7,TRUE),IF(C157=7,VLOOKUP(AA157,判定式!$D$15:I$19,6,TRUE),IF(C157=8,VLOOKUP(AA157,判定式!$E$15:I$19,5,TRUE),IF(C157=9,VLOOKUP(AA157,判定式!$F$15:I$19,4,TRUE),IF(C157=10,VLOOKUP(AA157,判定式!$G$15:I$19,3,TRUE),IF(C157=11,VLOOKUP(AA157,判定式!$H$15:I$19,2,TRUE))))))))","v":false}]
[9,null,null,"-",null,null,null,null,null,null,null,null,null,null,null,null,null,null,{"$f":"IF($E158=\"\",\"\",VLOOKUP($E158,判定式!$P$3:$W$12,8,TRUE))","v":""},{"$f":"IF($F158=\"\",\"\",VLOOKUP($F158,判定式!$Q$3:$W$12,7,TRUE))","v":""},{"$f":"IF($G158=\"\",\"\",VLOOKUP($G158,判定式!$R$3:$W$12,6,TRUE))","v":""},{"$f":"IF($H158=\"\",\"\",VLOOKUP($H158,判定式!$S$3:$W$12,5,TRUE))","v":""},{"$f":"IF($I158=\"\",\"\",VLOOKUP($I158,判定式!$V$3:$W$12,2,TRUE))","v":""},{"$f":"IF($J158=\"\",\"\",VLOOKUP($J158,判定式!$Y$3:$Z$12,2,TRUE))","v":""},{"$f":"IF($K158=\"\",\"\",VLOOKUP($K158,判定式!$T$3:$W$12,4,TRUE))","v":""},{"$f":"IF($L158=\"\",\"\",VLOOKUP($L158,判定式!$U$3:$W$12,3,TRUE))","v":""},"",{"$f":"IF(ISNUMBER(D158),\"判定外\",IF(C158=6,VLOOKUP(AA158,判定式!$C$15:I$19,7,TRUE),IF(C158=7,VLOOKUP(AA158,判定式!$D$15:I$19,6,TRUE),IF(C158=8,VLOOKUP(AA158,判定式!$E$15:I$19,5,TRUE),IF(C158=9,VLOOKUP(AA158,判定式!$F$15:I$19,4,TRUE),IF(C158=10,VLOOKUP(AA158,判定式!$G$15:I$19,3,TRUE),IF(C158=11,VLOOKUP(AA158,判定式!$H$15:I$19,2,TRUE))))))))","v":false}]
[10,null,null,"-",null,null,null,null,null,null,null,null,null,null,null,null,null,null,{"$f":"IF($E159=\"\",\"\",VLOOKUP($E159,判定式!$P$3:$W$12,8,TRUE))","v":""},{"$f":"IF($F159=\"\",\"\",VLOOKUP($F159,判定式!$Q$3:$W$12,7,TRUE))","v":""},{"$f":"IF($G159=\"\",\"\",VLOOKUP($G159,判定式!$R$3:$W$12,6,TRUE))","v":""},{"$f":"IF($H159=\"\",\"\",VLOOKUP($H159,判定式!$S$3:$W$12,5,TRUE))","v":""},{"$f":"IF($I159=\"\",\"\",VLOOKUP($I159,判定式!$V$3:$W$12,2,TRUE))","v":""},{"$f":"IF($J159=\"\",\"\",VLOOKUP($J159,判定式!$Y$3:$Z$12,2,TRUE))","v":""},{"$f":"IF($K159=\"\",\"\",VLOOKUP($K159,判定式!$T$3:$W$12,4,TRUE))","v":""},{"$f":"IF($L159=\"\",\"\",VLOOKUP($L159,判定式!$U$3:$W$12,3,TRUE))","v":""},"",{"$f":"IF(ISNUMBER(D159),\"判定外\",IF(C159=6,VLOOKUP(AA159,判定式!$C$15:I$19,7,TRUE),IF(C159=7,VLOOKUP(AA159,判定式!$D$15:I$19,6,TRUE),IF(C159=8,VLOOKUP(AA159,判定式!$E$15:I$19,5,TRUE),IF(C159=9,VLOOKUP(AA159,判定式!$F$15:I$19,4,TRUE),IF(C159=10,VLOOKUP(AA159,判定式!$G$15:I$19,3,TRUE),IF(C159=11,VLOOKUP(AA159,判定式!$H$15:I$19,2,TRUE))))))))","v":false}]
[11,null,null,"-",null,null,null,null,null,null,null,null,null,null,null,null,null,null,{"$f":"IF($E160=\"\",\"\",VLOOKUP($E160,判定式!$P$3:$W$12,8,TRUE))","v":""},{"$f":"IF($F160=\"\",\"\",VLOOKUP($F160,判定式!$Q$3:$W$12,7,TRUE))","v":""},{"$f":"IF($G160=\"\",\"\",VLOOKUP($G160,判定式!$R$3:$W$12,6,TRUE))","v":""},{"$f":"IF($H160=\"\",\"\",VLOOKUP($H160,判定式!$S$3:$W$12,5,TRUE))","v":""},{"$f":"IF($I160=\"\",\"\",VLOOKUP($I160,判定式!$V$3:$W$12,2,TRUE))","v":""},{"$f":"IF($J160=\"\",\"\",VLOOKUP($J160,判定式!$Y$3:$Z$12,2,TRUE))","v":""},{"$f":"IF($K160=\"\",\"\",VLOOKUP($K160,判定式!$T$3:$W$12,4,TRUE))","v":""},{"$f":"IF($L160=\"\",\"\",VLOOKUP($L160,判定式!$U$3:$W$12,3,TRUE))","v":""},"",{"$f":"IF(ISNUMBER(D160),\"判定外\",IF(C160=6,VLOOKUP(AA160,判定式!$C$15:I$19,7,TRUE),IF(C160=7,VLOOKUP(AA160,判定式!$D$15:I$19,6,TRUE),IF(C160=8,VLOOKUP(AA160,判定式!$E$15:I$19,5,TRUE),IF(C160=9,VLOOKUP(AA160,判定式!$F$15:I$19,4,TRUE),IF(C160=10,VLOOKUP(AA160,判定式!$G$15:I$19,3,TRUE),IF(C160=11,VLOOKUP(AA160,判定式!$H$15:I$19,2,TRUE))))))))","v":false}]
[12,null,null,"-",null,null,null,null,null,null,null,null,null,null,null,null,null,null,{"$f":"IF($E161=\"\",\"\",VLOOKUP($E161,判定式!$P$3:$W$12,8,TRUE))","v":""},{"$f":"IF($F161=\"\",\"\",VLOOKUP($F161,判定式!$Q$3:$W$12,7,TRUE))","v":""},{"$f":"IF($G161=\"\",\"\",VLOOKUP($G161,判定式!$R$3:$W$12,6,TRUE))","v":""},{"$f":"IF($H161=\"\",\"\",VLOOKUP($H161,判定式!$S$3:$W$12,5,TRUE))","v":""},{"$f":"IF($I161=\"\",\"\",VLOOKUP($I161,判定式!$V$3:$W$12,2,TRUE))","v":""},{"$f":"IF($J161=\"\",\"\",VLOOKUP($J161,判定式!$Y$3:$Z$12,2,TRUE))","v":""},{"$f":"IF($K161=\"\",\"\",VLOOKUP($K161,判定式!$T$3:$W$12,4,TRUE))","v":""},{"$f":"IF($L161=\"\",\"\",VLOOKUP($L161,判定式!$U$3:$W$12,3,TRUE))","v":""},"",{"$f":"IF(ISNUMBER(D161),\"判定外\",IF(C161=6,VLOOKUP(AA161,判定式!$C$15:I$19,7,TRUE),IF(C161=7,VLOOKUP(AA161,判定式!$D$15:I$19,6,TRUE),IF(C161=8,VLOOKUP(AA161,判定式!$E$15:I$19,5,TRUE),IF(C161=9,VLOOKUP(AA161,判定式!$F$15:I$19,4,TRUE),IF(C161=10,VLOOKUP(AA161,判定式!$G$15:I$19,3,TRUE),IF(C161=11,VLOOKUP(AA161,判定式!$H$15:I$19,2,TRUE))))))))","v":false}]
[13,null,null,"-",null,null,null,null,null,null,null,null,null,null,null,null,null,null,{"$f":"IF($E162=\"\",\"\",VLOOKUP($E162,判定式!$P$3:$W$12,8,TRUE))","v":""},{"$f":"IF($F162=\"\",\"\",VLOOKUP($F162,判定式!$Q$3:$W$12,7,TRUE))","v":""},{"$f":"IF($G162=\"\",\"\",VLOOKUP($G162,判定式!$R$3:$W$12,6,TRUE))","v":""},{"$f":"IF($H162=\"\",\"\",VLOOKUP($H162,判定式!$S$3:$W$12,5,TRUE))","v":""},{"$f":"IF($I162=\"\",\"\",VLOOKUP($I162,判定式!$V$3:$W$12,2,TRUE))","v":""},{"$f":"IF($J162=\"\",\"\",VLOOKUP($J162,判定式!$Y$3:$Z$12,2,TRUE))","v":""},{"$f":"IF($K162=\"\",\"\",VLOOKUP($K162,判定式!$T$3:$W$12,4,TRUE))","v":""},{"$f":"IF($L162=\"\",\"\",VLOOKUP($L162,判定式!$U$3:$W$12,3,TRUE))","v":""},"",{"$f":"IF(ISNUMBER(D162),\"判定外\",IF(C162=6,VLOOKUP(AA162,判定式!$C$15:I$19,7,TRUE),IF(C162=7,VLOOKUP(AA162,判定式!$D$15:I$19,6,TRUE),IF(C162=8,VLOOKUP(AA162,判定式!$E$15:I$19,5,TRUE),IF(C162=9,VLOOKUP(AA162,判定式!$F$15:I$19,4,TRUE),IF(C162=10,VLOOKUP(AA162,判定式!$G$15:I$19,3,TRUE),IF(C162=11,VLOOKUP(AA162,判定式!$H$15:I$19,2,TRUE))))))))","v":false}]
[14,null,null,"-",null,null,null,null,null,null,null,null,null,null,null,null,null,null,{"$f":"IF($E163=\"\",\"\",VLOOKUP($E163,判定式!$P$3:$W$12,8,TRUE))","v":""},{"$f":"IF($F163=\"\",\"\",VLOOKUP($F163,判定式!$Q$3:$W$12,7,TRUE))","v":""},{"$f":"IF($G163=\"\",\"\",VLOOKUP($G163,判定式!$R$3:$W$12,6,TRUE))","v":""},{"$f":"IF($H163=\"\",\"\",VLOOKUP($H163,判定式!$S$3:$W$12,5,TRUE))","v":""},{"$f":"IF($I163=\"\",\"\",VLOOKUP($I163,判定式!$V$3:$W$12,2,TRUE))","v":""},{"$f":"IF($J163=\"\",\"\",VLOOKUP($J163,判定式!$Y$3:$Z$12,2,TRUE))","v":""},{"$f":"IF($K163=\"\",\"\",VLOOKUP($K163,判定式!$T$3:$W$12,4,TRUE))","v":""},{"$f":"IF($L163=\"\",\"\",VLOOKUP($L163,判定式!$U$3:$W$12,3,TRUE))","v":""},"",{"$f":"IF(ISNUMBER(D163),\"判定外\",IF(C163=6,VLOOKUP(AA163,判定式!$C$15:I$19,7,TRUE),IF(C163=7,VLOOKUP(AA163,判定式!$D$15:I$19,6,TRUE),IF(C163=8,VLOOKUP(AA163,判定式!$E$15:I$19,5,TRUE),IF(C163=9,VLOOKUP(AA163,判定式!$F$15:I$19,4,TRUE),IF(C163=10,VLOOKUP(AA163,判定式!$G$15:I$19,3,TRUE),IF(C163=11,VLOOKUP(AA163,判定式!$H$15:I$19,2,TRUE))))))))","v":false}]
[15,null,null,"-",null,null,null,null,null,null,null,null,null,null,null,null,null,null,{"$f":"IF($E164=\"\",\"\",VLOOKUP($E164,判定式!$P$3:$W$12,8,TRUE))","v":""},{"$f":"IF($F164=\"\",\"\",VLOOKUP($F164,判定式!$Q$3:$W$12,7,TRUE))","v":""},{"$f":"IF($G164=\"\",\"\",VLOOKUP($G164,判定式!$R$3:$W$12,6,TRUE))","v":""},{"$f":"IF($H164=\"\",\"\",VLOOKUP($H164,判定式!$S$3:$W$12,5,TRUE))","v":""},{"$f":"IF($I164=\"\",\"\",VLOOKUP($I164,判定式!$V$3:$W$12,2,TRUE))","v":""},{"$f":"IF($J164=\"\",\"\",VLOOKUP($J164,判定式!$Y$3:$Z$12,2,TRUE))","v":""},{"$f":"IF($K164=\"\",\"\",VLOOKUP($K164,判定式!$T$3:$W$12,4,TRUE))","v":""},{"$f":"IF($L164=\"\",\"\",VLOOKUP($L164,判定式!$U$3:$W$12,3,TRUE))","v":""},"",{"$f":"IF(ISNUMBER(D164),\"判定外\",IF(C164=6,VLOOKUP(AA164,判定式!$C$15:I$19,7,TRUE),IF(C164=7,VLOOKUP(AA164,判定式!$D$15:I$19,6,TRUE),IF(C164=8,VLOOKUP(AA164,判定式!$E$15:I$19,5,TRUE),IF(C164=9,VLOOKUP(AA164,判定式!$F$15:I$19,4,TRUE),IF(C164=10,VLOOKUP(AA164,判定式!$G$15:I$19,3,TRUE),IF(C164=11,VLOOKUP(AA164,判定式!$H$15:I$19,2,TRUE))))))))","v":false}]
[16,null,null,"-",null,null,null,null,null,null,null,null,null,null,null,null,null,null,{"$f":"IF($E165=\"\",\"\",VLOOKUP($E165,判定式!$P$3:$W$12,8,TRUE))","v":""},{"$f":"IF($F165=\"\",\"\",VLOOKUP($F165,判定式!$Q$3:$W$12,7,TRUE))","v":""},{"$f":"IF($G165=\"\",\"\",VLOOKUP($G165,判定式!$R$3:$W$12,6,TRUE))","v":""},{"$f":"IF($H165=\"\",\"\",VLOOKUP($H165,判定式!$S$3:$W$12,5,TRUE))","v":""},{"$f":"IF($I165=\"\",\"\",VLOOKUP($I165,判定式!$V$3:$W$12,2,TRUE))","v":""},{"$f":"IF($J165=\"\",\"\",VLOOKUP($J165,判定式!$Y$3:$Z$12,2,TRUE))","v":""},{"$f":"IF($K165=\"\",\"\",VLOOKUP($K165,判定式!$T$3:$W$12,4,TRUE))","v":""},{"$f":"IF($L165=\"\",\"\",VLOOKUP($L165,判定式!$U$3:$W$12,3,TRUE))","v":""},"",{"$f":"IF(ISNUMBER(D165),\"判定外\",IF(C165=6,VLOOKUP(AA165,判定式!$C$15:I$19,7,TRUE),IF(C165=7,VLOOKUP(AA165,判定式!$D$15:I$19,6,TRUE),IF(C165=8,VLOOKUP(AA165,判定式!$E$15:I$19,5,TRUE),IF(C165=9,VLOOKUP(AA165,判定式!$F$15:I$19,4,TRUE),IF(C165=10,VLOOKUP(AA165,判定式!$G$15:I$19,3,TRUE),IF(C165=11,VLOOKUP(AA165,判定式!$H$15:I$19,2,TRUE))))))))","v":false}]
[17,null,null,"-",null,null,null,null,null,null,null,null,null,null,null,null,null,null,{"$f":"IF($E166=\"\",\"\",VLOOKUP($E166,判定式!$P$3:$W$12,8,TRUE))","v":""},{"$f":"IF($F166=\"\",\"\",VLOOKUP($F166,判定式!$Q$3:$W$12,7,TRUE))","v":""},{"$f":"IF($G166=\"\",\"\",VLOOKUP($G166,判定式!$R$3:$W$12,6,TRUE))","v":""},{"$f":"IF($H166=\"\",\"\",VLOOKUP($H166,判定式!$S$3:$W$12,5,TRUE))","v":""},{"$f":"IF($I166=\"\",\"\",VLOOKUP($I166,判定式!$V$3:$W$12,2,TRUE))","v":""},{"$f":"IF($J166=\"\",\"\",VLOOKUP($J166,判定式!$Y$3:$Z$12,2,TRUE))","v":""},{"$f":"IF($K166=\"\",\"\",VLOOKUP($K166,判定式!$T$3:$W$12,4,TRUE))","v":""},{"$f":"IF($L166=\"\",\"\",VLOOKUP($L166,判定式!$U$3:$W$12,3,TRUE))","v":""},"",{"$f":"IF(ISNUMBER(D166),\"判定外\",IF(C166=6,VLOOKUP(AA166,判定式!$C$15:I$19,7,TRUE),IF(C166=7,VLOOKUP(AA166,判定式!$D$15:I$19,6,TRUE),IF(C166=8,VLOOKUP(AA166,判定式!$E$15:I$19,5,TRUE),IF(C166=9,VLOOKUP(AA166,判定式!$F$15:I$19,4,TRUE),IF(C166=10,VLOOKUP(AA166,判定式!$G$15:I$19,3,TRUE),IF(C166=11,VLOOKUP(AA166,判定式!$H$15:I$19,2,TRUE))))))))","v":false}]
[18,null,null,"-",null,null,null,null,null,null,null,null,null,null,null,null,null,null,{"$f":"IF($E167=\"\",\"\",VLOOKUP($E167,判定式!$P$3:$W$12,8,TRUE))","v":""},{"$f":"IF($F167=\"\",\"\",VLOOKUP($F167,判定式!$Q$3:$W$12,7,TRUE))","v":""},{"$f":"IF($G167=\"\",\"\",VLOOKUP($G167,判定式!$R$3:$W$12,6,TRUE))","v":""},{"$f":"IF($H167=\"\",\"\",VLOOKUP($H167,判定式!$S$3:$W$12,5,TRUE))","v":""},{"$f":"IF($I167=\"\",\"\",VLOOKUP($I167,判定式!$V$3:$W$12,2,TRUE))","v":""},{"$f":"IF($J167=\"\",\"\",VLOOKUP($J167,判定式!$Y$3:$Z$12,2,TRUE))","v":""},{"$f":"IF($K167=\"\",\"\",VLOOKUP($K167,判定式!$T$3:$W$12,4,TRUE))","v":""},{"$f":"IF($L167=\"\",\"\",VLOOKUP($L167,判定式!$U$3:$W$12,3,TRUE))","v":""},"",{"$f":"IF(ISNUMBER(D167),\"判定外\",IF(C167=6,VLOOKUP(AA167,判定式!$C$15:I$19,7,TRUE),IF(C167=7,VLOOKUP(AA167,判定式!$D$15:I$19,6,TRUE),IF(C167=8,VLOOKUP(AA167,判定式!$E$15:I$19,5,TRUE),IF(C167=9,VLOOKUP(AA167,判定式!$F$15:I$19,4,TRUE),IF(C167=10,VLOOKUP(AA167,判定式!$G$15:I$19,3,TRUE),IF(C167=11,VLOOKUP(AA167,判定式!$H$15:I$19,2,TRUE))))))))","v":false}]
[19,null,null,"-",null,null,null,null,null,null,null,null,null,null,null,null,null,null,{"$f":"IF($E168=\"\",\"\",VLOOKUP($E168,判定式!$P$3:$W$12,8,TRUE))","v":""},{"$f":"IF($F168=\"\",\"\",VLOOKUP($F168,判定式!$Q$3:$W$12,7,TRUE))","v":""},{"$f":"IF($G168=\"\",\"\",VLOOKUP($G168,判定式!$R$3:$W$12,6,TRUE))","v":""},{"$f":"IF($H168=\"\",\"\",VLOOKUP($H168,判定式!$S$3:$W$12,5,TRUE))","v":""},{"$f":"IF($I168=\"\",\"\",VLOOKUP($I168,判定式!$V$3:$W$12,2,TRUE))","v":""},{"$f":"IF($J168=\"\",\"\",VLOOKUP($J168,判定式!$Y$3:$Z$12,2,TRUE))","v":""},{"$f":"IF($K168=\"\",\"\",VLOOKUP($K168,判定式!$T$3:$W$12,4,TRUE))","v":""},{"$f":"IF($L168=\"\",\"\",VLOOKUP($L168,判定式!$U$3:$W$12,3,TRUE))","v":""},"",{"$f":"IF(ISNUMBER(D168),\"判定外\",IF(C168=6,VLOOKUP(AA168,判定式!$C$15:I$19,7,TRUE),IF(C168=7,VLOOKUP(AA168,判定式!$D$15:I$19,6,TRUE),IF(C168=8,VLOOKUP(AA168,判定式!$E$15:I$19,5,TRUE),IF(C168=9,VLOOKUP(AA168,判定式!$F$15:I$19,4,TRUE),IF(C168=10,VLOOKUP(AA168,判定式!$G$15:I$19,3,TRUE),IF(C168=11,VLOOKUP(AA168,判定式!$H$15:I$19,2,TRUE))))))))","v":false}]
[20,null,null,"-",null,null,null,null,null,null,null,null,null,null,null,null,null,null,{"$f":"IF($E169=\"\",\"\",VLOOKUP($E169,判定式!$P$3:$W$12,8,TRUE))","v":""},{"$f":"IF($F169=\"\",\"\",VLOOKUP($F169,判定式!$Q$3:$W$12,7,TRUE))","v":""},{"$f":"IF($G169=\"\",\"\",VLOOKUP($G169,判定式!$R$3:$W$12,6,TRUE))","v":""},{"$f":"IF($H169=\"\",\"\",VLOOKUP($H169,判定式!$S$3:$W$12,5,TRUE))","v":""},{"$f":"IF($I169=\"\",\"\",VLOOKUP($I169,判定式!$V$3:$W$12,2,TRUE))","v":""},{"$f":"IF($J169=\"\",\"\",VLOOKUP($J169,判定式!$Y$3:$Z$12,2,TRUE))","v":""},{"$f":"IF($K169=\"\",\"\",VLOOKUP($K169,判定式!$T$3:$W$12,4,TRUE))","v":""},{"$f":"IF($L169=\"\",\"\",VLOOKUP($L169,判定式!$U$3:$W$12,3,TRUE))","v":""},"",{"$f":"IF(ISNUMBER(D169),\"判定外\",IF(C169=6,VLOOKUP(AA169,判定式!$C$15:I$19,7,TRUE),IF(C169=7,VLOOKUP(AA169,判定式!$D$15:I$19,6,TRUE),IF(C169=8,VLOOKUP(AA169,判定式!$E$15:I$19,5,TRUE),IF(C169=9,VLOOKUP(AA169,判定式!$F$15:I$19,4,TRUE),IF(C169=10,VLOOKUP(AA169,判定式!$G$15:I$19,3,TRUE),IF(C169=11,VLOOKUP(AA169,判定式!$H$15:I$19,2,TRUE))))))))","v":false}]
[21,null,null,"-",null,null,null,null,null,null,null,null,null,null,null,null,null,null,{"$f":"IF($E170=\"\",\"\",VLOOKUP($E170,判定式!$P$3:$W$12,8,TRUE))","v":""},{"$f":"IF($F170=\"\",\"\",VLOOKUP($F170,判定式!$Q$3:$W$12,7,TRUE))","v":""},{"$f":"IF($G170=\"\",\"\",VLOOKUP($G170,判定式!$R$3:$W$12,6,TRUE))","v":""},{"$f":"IF($H170=\"\",\"\",VLOOKUP($H170,判定式!$S$3:$W$12,5,TRUE))","v":""},{"$f":"IF($I170=\"\",\"\",VLOOKUP($I170,判定式!$V$3:$W$12,2,TRUE))","v":""},{"$f":"IF($J170=\"\",\"\",VLOOKUP($J170,判定式!$Y$3:$Z$12,2,TRUE))","v":""},{"$f":"IF($K170=\"\",\"\",VLOOKUP($K170,判定式!$T$3:$W$12,4,TRUE))","v":""},{"$f":"IF($L170=\"\",\"\",VLOOKUP($L170,判定式!$U$3:$W$12,3,TRUE))","v":""},"",{"$f":"IF(ISNUMBER(D170),\"判定外\",IF(C170=6,VLOOKUP(AA170,判定式!$C$15:I$19,7,TRUE),IF(C170=7,VLOOKUP(AA170,判定式!$D$15:I$19,6,TRUE),IF(C170=8,VLOOKUP(AA170,判定式!$E$15:I$19,5,TRUE),IF(C170=9,VLOOKUP(AA170,判定式!$F$15:I$19,4,TRUE),IF(C170=10,VLOOKUP(AA170,判定式!$G$15:I$19,3,TRUE),IF(C170=11,VLOOKUP(AA170,判定式!$H$15:I$19,2,TRUE))))))))","v":false}]
[22,null,null,"-",null,null,null,null,null,null,null,null,null,null,null,null,null,null,{"$f":"IF($E171=\"\",\"\",VLOOKUP($E171,判定式!$P$3:$W$12,8,TRUE))","v":""},{"$f":"IF($F171=\"\",\"\",VLOOKUP($F171,判定式!$Q$3:$W$12,7,TRUE))","v":""},{"$f":"IF($G171=\"\",\"\",VLOOKUP($G171,判定式!$R$3:$W$12,6,TRUE))","v":""},{"$f":"IF($H171=\"\",\"\",VLOOKUP($H171,判定式!$S$3:$W$12,5,TRUE))","v":""},{"$f":"IF($I171=\"\",\"\",VLOOKUP($I171,判定式!$V$3:$W$12,2,TRUE))","v":""},{"$f":"IF($J171=\"\",\"\",VLOOKUP($J171,判定式!$Y$3:$Z$12,2,TRUE))","v":""},{"$f":"IF($K171=\"\",\"\",VLOOKUP($K171,判定式!$T$3:$W$12,4,TRUE))","v":""},{"$f":"IF($L171=\"\",\"\",VLOOKUP($L171,判定式!$U$3:$W$12,3,TRUE))","v":""},"",{"$f":"IF(ISNUMBER(D171),\"判定外\",IF(C171=6,VLOOKUP(AA171,判定式!$C$15:I$19,7,TRUE),IF(C171=7,VLOOKUP(AA171,判定式!$D$15:I$19,6,TRUE),IF(C171=8,VLOOKUP(AA171,判定式!$E$15:I$19,5,TRUE),IF(C171=9,VLOOKUP(AA171,判定式!$F$15:I$19,4,TRUE),IF(C171=10,VLOOKUP(AA171,判定式!$G$15:I$19,3,TRUE),IF(C171=11,VLOOKUP(AA171,判定式!$H$15:I$19,2,TRUE))))))))","v":false}]
[23,null,null,"-",null,null,null,null,null,null,null,null,null,null,null,null,null,null,{"$f":"IF($E172=\"\",\"\",VLOOKUP($E172,判定式!$P$3:$W$12,8,TRUE))","v":""},{"$f":"IF($F172=\"\",\"\",VLOOKUP($F172,判定式!$Q$3:$W$12,7,TRUE))","v":""},{"$f":"IF($G172=\"\",\"\",VLOOKUP($G172,判定式!$R$3:$W$12,6,TRUE))","v":""},{"$f":"IF($H172=\"\",\"\",VLOOKUP($H172,判定式!$S$3:$W$12,5,TRUE))","v":""},{"$f":"IF($I172=\"\",\"\",VLOOKUP($I172,判定式!$V$3:$W$12,2,TRUE))","v":""},{"$f":"IF($J172=\"\",\"\",VLOOKUP($J172,判定式!$Y$3:$Z$12,2,TRUE))","v":""},{"$f":"IF($K172=\"\",\"\",VLOOKUP($K172,判定式!$T$3:$W$12,4,TRUE))","v":""},{"$f":"IF($L172=\"\",\"\",VLOOKUP($L172,判定式!$U$3:$W$12,3,TRUE))","v":""},"",{"$f":"IF(ISNUMBER(D172),\"判定外\",IF(C172=6,VLOOKUP(AA172,判定式!$C$15:I$19,7,TRUE),IF(C172=7,VLOOKUP(AA172,判定式!$D$15:I$19,6,TRUE),IF(C172=8,VLOOKUP(AA172,判定式!$E$15:I$19,5,TRUE),IF(C172=9,VLOOKUP(AA172,判定式!$F$15:I$19,4,TRUE),IF(C172=10,VLOOKUP(AA172,判定式!$G$15:I$19,3,TRUE),IF(C172=11,VLOOKUP(AA172,判定式!$H$15:I$19,2,TRUE))))))))","v":false}]
[24,null,null,"-",null,null,null,null,null,null,null,null,null,null,null,null,null,null,{"$f":"IF($E173=\"\",\"\",VLOOKUP($E173,判定式!$P$3:$W$12,8,TRUE))","v":""},{"$f":"IF($F173=\"\",\"\",VLOOKUP($F173,判定式!$Q$3:$W$12,7,TRUE))","v":""},{"$f":"IF($G173=\"\",\"\",VLOOKUP($G173,判定式!$R$3:$W$12,6,TRUE))","v":""},{"$f":"IF($H173=\"\",\"\",VLOOKUP($H173,判定式!$S$3:$W$12,5,TRUE))","v":""},{"$f":"IF($I173=\"\",\"\",VLOOKUP($I173,判定式!$V$3:$W$12,2,TRUE))","v":""},{"$f":"IF($J173=\"\",\"\",VLOOKUP($J173,判定式!$Y$3:$Z$12,2,TRUE))","v":""},{"$f":"IF($K173=\"\",\"\",VLOOKUP($K173,判定式!$T$3:$W$12,4,TRUE))","v":""},{"$f":"IF($L173=\"\",\"\",VLOOKUP($L173,判定式!$U$3:$W$12,3,TRUE))","v":""},"",{"$f":"IF(ISNUMBER(D173),\"判定外\",IF(C173=6,VLOOKUP(AA173,判定式!$C$15:I$19,7,TRUE),IF(C173=7,VLOOKUP(AA173,判定式!$D$15:I$19,6,TRUE),IF(C173=8,VLOOKUP(AA173,判定式!$E$15:I$19,5,TRUE),IF(C173=9,VLOOKUP(AA173,判定式!$F$15:I$19,4,TRUE),IF(C173=10,VLOOKUP(AA173,判定式!$G$15:I$19,3,TRUE),IF(C173=11,VLOOKUP(AA173,判定式!$H$15:I$19,2,TRUE))))))))","v":false}]
[25,null,null,"-",null,null,null,null,null,null,null,null,null,null,null,null,null,null,{"$f":"IF($E174=\"\",\"\",VLOOKUP($E174,判定式!$P$3:$W$12,8,TRUE))","v":""},{"$f":"IF($F174=\"\",\"\",VLOOKUP($F174,判定式!$Q$3:$W$12,7,TRUE))","v":""},{"$f":"IF($G174=\"\",\"\",VLOOKUP($G174,判定式!$R$3:$W$12,6,TRUE))","v":""},{"$f":"IF($H174=\"\",\"\",VLOOKUP($H174,判定式!$S$3:$W$12,5,TRUE))","v":""},{"$f":"IF($I174=\"\",\"\",VLOOKUP($I174,判定式!$V$3:$W$12,2,TRUE))","v":""},{"$f":"IF($J174=\"\",\"\",VLOOKUP($J174,判定式!$Y$3:$Z$12,2,TRUE))","v":""},{"$f":"IF($K174=\"\",\"\",VLOOKUP($K174,判定式!$T$3:$W$12,4,TRUE))","v":""},{"$f":"IF($L174=\"\",\"\",VLOOKUP($L174,判定式!$U$3:$W$12,3,TRUE))","v":""},"",{"$f":"IF(ISNUMBER(D174),\"判定外\",IF(C174=6,VLOOKUP(AA174,判定式!$C$15:I$19,7,TRUE),IF(C174=7,VLOOKUP(AA174,判定式!$D$15:I$19,6,TRUE),IF(C174=8,VLOOKUP(AA174,判定式!$E$15:I$19,5,TRUE),IF(C174=9,VLOOKUP(AA174,判定式!$F$15:I$19,4,TRUE),IF(C174=10,VLOOKUP(AA174,判定式!$G$15:I$19,3,TRUE),IF(C174=11,VLOOKUP(AA174,判定式!$H$15:I$19,2,TRUE))))))))","v":false}]
[26,null,null,"-",null,null,null,null,null,null,null,null,null,null,null,null,null,null,{"$f":"IF($E175=\"\",\"\",VLOOKUP($E175,判定式!$P$3:$W$12,8,TRUE))","v":""},{"$f":"IF($F175=\"\",\"\",VLOOKUP($F175,判定式!$Q$3:$W$12,7,TRUE))","v":""},{"$f":"IF($G175=\"\",\"\",VLOOKUP($G175,判定式!$R$3:$W$12,6,TRUE))","v":""},{"$f":"IF($H175=\"\",\"\",VLOOKUP($H175,判定式!$S$3:$W$12,5,TRUE))","v":""},{"$f":"IF($I175=\"\",\"\",VLOOKUP($I175,判定式!$V$3:$W$12,2,TRUE))","v":""},{"$f":"IF($J175=\"\",\"\",VLOOKUP($J175,判定式!$Y$3:$Z$12,2,TRUE))","v":""},{"$f":"IF($K175=\"\",\"\",VLOOKUP($K175,判定式!$T$3:$W$12,4,TRUE))","v":""},{"$f":"IF($L175=\"\",\"\",VLOOKUP($L175,判定式!$U$3:$W$12,3,TRUE))","v":""},"",{"$f":"IF(ISNUMBER(D175),\"判定外\",IF(C175=6,VLOOKUP(AA175,判定式!$C$15:I$19,7,TRUE),IF(C175=7,VLOOKUP(AA175,判定式!$D$15:I$19,6,TRUE),IF(C175=8,VLOOKUP(AA175,判定式!$E$15:I$19,5,TRUE),IF(C175=9,VLOOKUP(AA175,判定式!$F$15:I$19,4,TRUE),IF(C175=10,VLOOKUP(AA175,判定式!$G$15:I$19,3,TRUE),IF(C175=11,VLOOKUP(AA175,判定式!$H$15:I$19,2,TRUE))))))))","v":false}]
[27,null,null,"-",null,null,null,null,null,null,null,null,null,null,null,null,null,null,{"$f":"IF($E176=\"\",\"\",VLOOKUP($E176,判定式!$P$3:$W$12,8,TRUE))","v":""},{"$f":"IF($F176=\"\",\"\",VLOOKUP($F176,判定式!$Q$3:$W$12,7,TRUE))","v":""},{"$f":"IF($G176=\"\",\"\",VLOOKUP($G176,判定式!$R$3:$W$12,6,TRUE))","v":""},{"$f":"IF($H176=\"\",\"\",VLOOKUP($H176,判定式!$S$3:$W$12,5,TRUE))","v":""},{"$f":"IF($I176=\"\",\"\",VLOOKUP($I176,判定式!$V$3:$W$12,2,TRUE))","v":""},{"$f":"IF($J176=\"\",\"\",VLOOKUP($J176,判定式!$Y$3:$Z$12,2,TRUE))","v":""},{"$f":"IF($K176=\"\",\"\",VLOOKUP($K176,判定式!$T$3:$W$12,4,TRUE))","v":""},{"$f":"IF($L176=\"\",\"\",VLOOKUP($L176,判定式!$U$3:$W$12,3,TRUE))","v":""},"",{"$f":"IF(ISNUMBER(D176),\"判定外\",IF(C176=6,VLOOKUP(AA176,判定式!$C$15:I$19,7,TRUE),IF(C176=7,VLOOKUP(AA176,判定式!$D$15:I$19,6,TRUE),IF(C176=8,VLOOKUP(AA176,判定式!$E$15:I$19,5,TRUE),IF(C176=9,VLOOKUP(AA176,判定式!$F$15:I$19,4,TRUE),IF(C176=10,VLOOKUP(AA176,判定式!$G$15:I$19,3,TRUE),IF(C176=11,VLOOKUP(AA176,判定式!$H$15:I$19,2,TRUE))))))))","v":false}]
[28,null,null,"-",null,null,null,null,null,null,null,null,null,null,null,null,null,null,{"$f":"IF($E177=\"\",\"\",VLOOKUP($E177,判定式!$P$3:$W$12,8,TRUE))","v":""},{"$f":"IF($F177=\"\",\"\",VLOOKUP($F177,判定式!$Q$3:$W$12,7,TRUE))","v":""},{"$f":"IF($G177=\"\",\"\",VLOOKUP($G177,判定式!$R$3:$W$12,6,TRUE))","v":""},{"$f":"IF($H177=\"\",\"\",VLOOKUP($H177,判定式!$S$3:$W$12,5,TRUE))","v":""},{"$f":"IF($I177=\"\",\"\",VLOOKUP($I177,判定式!$V$3:$W$12,2,TRUE))","v":""},{"$f":"IF($J177=\"\",\"\",VLOOKUP($J177,判定式!$Y$3:$Z$12,2,TRUE))","v":""},{"$f":"IF($K177=\"\",\"\",VLOOKUP($K177,判定式!$T$3:$W$12,4,TRUE))","v":""},{"$f":"IF($L177=\"\",\"\",VLOOKUP($L177,判定式!$U$3:$W$12,3,TRUE))","v":""},"",{"$f":"IF(ISNUMBER(D177),\"判定外\",IF(C177=6,VLOOKUP(AA177,判定式!$C$15:I$19,7,TRUE),IF(C177=7,VLOOKUP(AA177,判定式!$D$15:I$19,6,TRUE),IF(C177=8,VLOOKUP(AA177,判定式!$E$15:I$19,5,TRUE),IF(C177=9,VLOOKUP(AA177,判定式!$F$15:I$19,4,TRUE),IF(C177=10,VLOOKUP(AA177,判定式!$G$15:I$19,3,TRUE),IF(C177=11,VLOOKUP(AA177,判定式!$H$15:I$19,2,TRUE))))))))","v":false}]
[29,null,null,"-",null,null,null,null,null,null,null,null,null,null,null,null,null,null,{"$f":"IF($E178=\"\",\"\",VLOOKUP($E178,判定式!$P$3:$W$12,8,TRUE))","v":""},{"$f":"IF($F178=\"\",\"\",VLOOKUP($F178,判定式!$Q$3:$W$12,7,TRUE))","v":""},{"$f":"IF($G178=\"\",\"\",VLOOKUP($G178,判定式!$R$3:$W$12,6,TRUE))","v":""},{"$f":"IF($H178=\"\",\"\",VLOOKUP($H178,判定式!$S$3:$W$12,5,TRUE))","v":""},{"$f":"IF($I178=\"\",\"\",VLOOKUP($I178,判定式!$V$3:$W$12,2,TRUE))","v":""},{"$f":"IF($J178=\"\",\"\",VLOOKUP($J178,判定式!$Y$3:$Z$12,2,TRUE))","v":""},{"$f":"IF($K178=\"\",\"\",VLOOKUP($K178,判定式!$T$3:$W$12,4,TRUE))","v":""},{"$f":"IF($L178=\"\",\"\",VLOOKUP($L178,判定式!$U$3:$W$12,3,TRUE))","v":""},"",{"$f":"IF(ISNUMBER(D178),\"判定外\",IF(C178=6,VLOOKUP(AA178,判定式!$C$15:I$19,7,TRUE),IF(C178=7,VLOOKUP(AA178,判定式!$D$15:I$19,6,TRUE),IF(C178=8,VLOOKUP(AA178,判定式!$E$15:I$19,5,TRUE),IF(C178=9,VLOOKUP(AA178,判定式!$F$15:I$19,4,TRUE),IF(C178=10,VLOOKUP(AA178,判定式!$G$15:I$19,3,TRUE),IF(C178=11,VLOOKUP(AA178,判定式!$H$15:I$19,2,TRUE))))))))","v":false}]
[30,null,null,"-",null,null,null,null,null,null,null,null,null,null,null,null,null,null,{"$f":"IF($E179=\"\",\"\",VLOOKUP($E179,判定式!$P$3:$W$12,8,TRUE))","v":""},{"$f":"IF($F179=\"\",\"\",VLOOKUP($F179,判定式!$Q$3:$W$12,7,TRUE))","v":""},{"$f":"IF($G179=\"\",\"\",VLOOKUP($G179,判定式!$R$3:$W$12,6,TRUE))","v":""},{"$f":"IF($H179=\"\",\"\",VLOOKUP($H179,判定式!$S$3:$W$12,5,TRUE))","v":""},{"$f":"IF($I179=\"\",\"\",VLOOKUP($I179,判定式!$V$3:$W$12,2,TRUE))","v":""},{"$f":"IF($J179=\"\",\"\",VLOOKUP($J179,判定式!$Y$3:$Z$12,2,TRUE))","v":""},{"$f":"IF($K179=\"\",\"\",VLOOKUP($K179,判定式!$T$3:$W$12,4,TRUE))","v":""},{"$f":"IF($L179=\"\",\"\",VLOOKUP($L179,判定式!$U$3:$W$12,3,TRUE))","v":""},"",{"$f":"IF(ISNUMBER(D179),\"判定外\",IF(C179=6,VLOOKUP(AA179,判定式!$C$15:I$19,7,TRUE),IF(C179=7,VLOOKUP(AA179,判定式!$D$15:I$19,6,TRUE),IF(C179=8,VLOOKUP(AA179,判定式!$E$15:I$19,5,TRUE),IF(C179=9,VLOOKUP(AA179,判定式!$F$15:I$19,4,TRUE),IF(C179=10,VLOOKUP(AA179,判定式!$G$15:I$19,3,TRUE),IF(C179=11,VLOOKUP(AA179,判定式!$H$15:I$19,2,TRUE))))))))","v":false}]
[31,null,null,"-",null,null,null,null,null,null,null,null,null,null,null,null,null,null,{"$f":"IF($E180=\"\",\"\",VLOOKUP($E180,判定式!$P$3:$W$12,8,TRUE))","v":""},{"$f":"IF($F180=\"\",\"\",VLOOKUP($F180,判定式!$Q$3:$W$12,7,TRUE))","v":""},{"$f":"IF($G180=\"\",\"\",VLOOKUP($G180,判定式!$R$3:$W$12,6,TRUE))","v":""},{"$f":"IF($H180=\"\",\"\",VLOOKUP($H180,判定式!$S$3:$W$12,5,TRUE))","v":""},{"$f":"IF($I180=\"\",\"\",VLOOKUP($I180,判定式!$V$3:$W$12,2,TRUE))","v":""},{"$f":"IF($J180=\"\",\"\",VLOOKUP($J180,判定式!$Y$3:$Z$12,2,TRUE))","v":""},{"$f":"IF($K180=\"\",\"\",VLOOKUP($K180,判定式!$T$3:$W$12,4,TRUE))","v":""},{"$f":"IF($L180=\"\",\"\",VLOOKUP($L180,判定式!$U$3:$W$12,3,TRUE))","v":""},"",{"$f":"IF(ISNUMBER(D180),\"判定外\",IF(C180=6,VLOOKUP(AA180,判定式!$C$15:I$19,7,TRUE),IF(C180=7,VLOOKUP(AA180,判定式!$D$15:I$19,6,TRUE),IF(C180=8,VLOOKUP(AA180,判定式!$E$15:I$19,5,TRUE),IF(C180=9,VLOOKUP(AA180,判定式!$F$15:I$19,4,TRUE),IF(C180=10,VLOOKUP(AA180,判定式!$G$15:I$19,3,TRUE),IF(C180=11,VLOOKUP(AA180,判定式!$H$15:I$19,2,TRUE))))))))","v":false}]
[32,null,null,"-",null,null,null,null,null,null,null,null,null,null,null,null,null,null,{"$f":"IF($E181=\"\",\"\",VLOOKUP($E181,判定式!$P$3:$W$12,8,TRUE))","v":""},{"$f":"IF($F181=\"\",\"\",VLOOKUP($F181,判定式!$Q$3:$W$12,7,TRUE))","v":""},{"$f":"IF($G181=\"\",\"\",VLOOKUP($G181,判定式!$R$3:$W$12,6,TRUE))","v":""},{"$f":"IF($H181=\"\",\"\",VLOOKUP($H181,判定式!$S$3:$W$12,5,TRUE))","v":""},{"$f":"IF($I181=\"\",\"\",VLOOKUP($I181,判定式!$V$3:$W$12,2,TRUE))","v":""},{"$f":"IF($J181=\"\",\"\",VLOOKUP($J181,判定式!$Y$3:$Z$12,2,TRUE))","v":""},{"$f":"IF($K181=\"\",\"\",VLOOKUP($K181,判定式!$T$3:$W$12,4,TRUE))","v":""},{"$f":"IF($L181=\"\",\"\",VLOOKUP($L181,判定式!$U$3:$W$12,3,TRUE))","v":""},"",{"$f":"IF(ISNUMBER(D181),\"判定外\",IF(C181=6,VLOOKUP(AA181,判定式!$C$15:I$19,7,TRUE),IF(C181=7,VLOOKUP(AA181,判定式!$D$15:I$19,6,TRUE),IF(C181=8,VLOOKUP(AA181,判定式!$E$15:I$19,5,TRUE),IF(C181=9,VLOOKUP(AA181,判定式!$F$15:I$19,4,TRUE),IF(C181=10,VLOOKUP(AA181,判定式!$G$15:I$19,3,TRUE),IF(C181=11,VLOOKUP(AA181,判定式!$H$15:I$19,2,TRUE))))))))","v":false}]
[33,null,null,"-",null,null,null,null,null,null,null,null,null,null,null,null,null,null,{"$f":"IF($E182=\"\",\"\",VLOOKUP($E182,判定式!$P$3:$W$12,8,TRUE))","v":""},{"$f":"IF($F182=\"\",\"\",VLOOKUP($F182,判定式!$Q$3:$W$12,7,TRUE))","v":""},{"$f":"IF($G182=\"\",\"\",VLOOKUP($G182,判定式!$R$3:$W$12,6,TRUE))","v":""},{"$f":"IF($H182=\"\",\"\",VLOOKUP($H182,判定式!$S$3:$W$12,5,TRUE))","v":""},{"$f":"IF($I182=\"\",\"\",VLOOKUP($I182,判定式!$V$3:$W$12,2,TRUE))","v":""},{"$f":"IF($J182=\"\",\"\",VLOOKUP($J182,判定式!$Y$3:$Z$12,2,TRUE))","v":""},{"$f":"IF($K182=\"\",\"\",VLOOKUP($K182,判定式!$T$3:$W$12,4,TRUE))","v":""},{"$f":"IF($L182=\"\",\"\",VLOOKUP($L182,判定式!$U$3:$W$12,3,TRUE))","v":""},"",{"$f":"IF(ISNUMBER(D182),\"判定外\",IF(C182=6,VLOOKUP(AA182,判定式!$C$15:I$19,7,TRUE),IF(C182=7,VLOOKUP(AA182,判定式!$D$15:I$19,6,TRUE),IF(C182=8,VLOOKUP(AA182,判定式!$E$15:I$19,5,TRUE),IF(C182=9,VLOOKUP(AA182,判定式!$F$15:I$19,4,TRUE),IF(C182=10,VLOOKUP(AA182,判定式!$G$15:I$19,3,TRUE),IF(C182=11,VLOOKUP(AA182,判定式!$H$15:I$19,2,TRUE))))))))","v":false}]
[34,null,null,"-",null,null,null,null,null,null,null,null,null,null,null,null,null,null,{"$f":"IF($E183=\"\",\"\",VLOOKUP($E183,判定式!$P$3:$W$12,8,TRUE))","v":""},{"$f":"IF($F183=\"\",\"\",VLOOKUP($F183,判定式!$Q$3:$W$12,7,TRUE))","v":""},{"$f":"IF($G183=\"\",\"\",VLOOKUP($G183,判定式!$R$3:$W$12,6,TRUE))","v":""},{"$f":"IF($H183=\"\",\"\",VLOOKUP($H183,判定式!$S$3:$W$12,5,TRUE))","v":""},{"$f":"IF($I183=\"\",\"\",VLOOKUP($I183,判定式!$V$3:$W$12,2,TRUE))","v":""},{"$f":"IF($J183=\"\",\"\",VLOOKUP($J183,判定式!$Y$3:$Z$12,2,TRUE))","v":""},{"$f":"IF($K183=\"\",\"\",VLOOKUP($K183,判定式!$T$3:$W$12,4,TRUE))","v":""},{"$f":"IF($L183=\"\",\"\",VLOOKUP($L183,判定式!$U$3:$W$12,3,TRUE))","v":""},"",{"$f":"IF(ISNUMBER(D183),\"判定外\",IF(C183=6,VLOOKUP(AA183,判定式!$C$15:I$19,7,TRUE),IF(C183=7,VLOOKUP(AA183,判定式!$D$15:I$19,6,TRUE),IF(C183=8,VLOOKUP(AA183,判定式!$E$15:I$19,5,TRUE),IF(C183=9,VLOOKUP(AA183,判定式!$F$15:I$19,4,TRUE),IF(C183=10,VLOOKUP(AA183,判定式!$G$15:I$19,3,TRUE),IF(C183=11,VLOOKUP(AA183,判定式!$H$15:I$19,2,TRUE))))))))","v":false}]
[35,null,null,"-",null,null,null,null,null,null,null,null,null,null,null,null,null,null,{"$f":"IF($E184=\"\",\"\",VLOOKUP($E184,判定式!$P$3:$W$12,8,TRUE))","v":""},{"$f":"IF($F184=\"\",\"\",VLOOKUP($F184,判定式!$Q$3:$W$12,7,TRUE))","v":""},{"$f":"IF($G184=\"\",\"\",VLOOKUP($G184,判定式!$R$3:$W$12,6,TRUE))","v":""},{"$f":"IF($H184=\"\",\"\",VLOOKUP($H184,判定式!$S$3:$W$12,5,TRUE))","v":""},{"$f":"IF($I184=\"\",\"\",VLOOKUP($I184,判定式!$V$3:$W$12,2,TRUE))","v":""},{"$f":"IF($J184=\"\",\"\",VLOOKUP($J184,判定式!$Y$3:$Z$12,2,TRUE))","v":""},{"$f":"IF($K184=\"\",\"\",VLOOKUP($K184,判定式!$T$3:$W$12,4,TRUE))","v":""},{"$f":"IF($L184=\"\",\"\",VLOOKUP($L184,判定式!$U$3:$W$12,3,TRUE))","v":""},"",{"$f":"IF(ISNUMBER(D184),\"判定外\",IF(C184=6,VLOOKUP(AA184,判定式!$C$15:I$19,7,TRUE),IF(C184=7,VLOOKUP(AA184,判定式!$D$15:I$19,6,TRUE),IF(C184=8,VLOOKUP(AA184,判定式!$E$15:I$19,5,TRUE),IF(C184=9,VLOOKUP(AA184,判定式!$F$15:I$19,4,TRUE),IF(C184=10,VLOOKUP(AA184,判定式!$G$15:I$19,3,TRUE),IF(C184=11,VLOOKUP(AA184,判定式!$H$15:I$19,2,TRUE))))))))","v":false}]
[36,null,null,"-",null,null,null,null,null,null,null,null,null,null,null,null,null,null,{"$f":"IF($E185=\"\",\"\",VLOOKUP($E185,判定式!$P$3:$W$12,8,TRUE))","v":""},{"$f":"IF($F185=\"\",\"\",VLOOKUP($F185,判定式!$Q$3:$W$12,7,TRUE))","v":""},{"$f":"IF($G185=\"\",\"\",VLOOKUP($G185,判定式!$R$3:$W$12,6,TRUE))","v":""},{"$f":"IF($H185=\"\",\"\",VLOOKUP($H185,判定式!$S$3:$W$12,5,TRUE))","v":""},{"$f":"IF($I185=\"\",\"\",VLOOKUP($I185,判定式!$V$3:$W$12,2,TRUE))","v":""},{"$f":"IF($J185=\"\",\"\",VLOOKUP($J185,判定式!$Y$3:$Z$12,2,TRUE))","v":""},{"$f":"IF($K185=\"\",\"\",VLOOKUP($K185,判定式!$T$3:$W$12,4,TRUE))","v":""},{"$f":"IF($L185=\"\",\"\",VLOOKUP($L185,判定式!$U$3:$W$12,3,TRUE))","v":""},"",{"$f":"IF(ISNUMBER(D185),\"判定外\",IF(C185=6,VLOOKUP(AA185,判定式!$C$15:I$19,7,TRUE),IF(C185=7,VLOOKUP(AA185,判定式!$D$15:I$19,6,TRUE),IF(C185=8,VLOOKUP(AA185,判定式!$E$15:I$19,5,TRUE),IF(C185=9,VLOOKUP(AA185,判定式!$F$15:I$19,4,TRUE),IF(C185=10,VLOOKUP(AA185,判定式!$G$15:I$19,3,TRUE),IF(C185=11,VLOOKUP(AA185,判定式!$H$15:I$19,2,TRUE))))))))","v":false}]
[37,null,null,"-",null,null,null,null,null,null,null,null,null,null,null,null,null,null,{"$f":"IF($E186=\"\",\"\",VLOOKUP($E186,判定式!$P$3:$W$12,8,TRUE))","v":""},{"$f":"IF($F186=\"\",\"\",VLOOKUP($F186,判定式!$Q$3:$W$12,7,TRUE))","v":""},{"$f":"IF($G186=\"\",\"\",VLOOKUP($G186,判定式!$R$3:$W$12,6,TRUE))","v":""},{"$f":"IF($H186=\"\",\"\",VLOOKUP($H186,判定式!$S$3:$W$12,5,TRUE))","v":""},{"$f":"IF($I186=\"\",\"\",VLOOKUP($I186,判定式!$V$3:$W$12,2,TRUE))","v":""},{"$f":"IF($J186=\"\",\"\",VLOOKUP($J186,判定式!$Y$3:$Z$12,2,TRUE))","v":""},{"$f":"IF($K186=\"\",\"\",VLOOKUP($K186,判定式!$T$3:$W$12,4,TRUE))","v":""},{"$f":"IF($L186=\"\",\"\",VLOOKUP($L186,判定式!$U$3:$W$12,3,TRUE))","v":""},"",{"$f":"IF(ISNUMBER(D186),\"判定外\",IF(C186=6,VLOOKUP(AA186,判定式!$C$15:I$19,7,TRUE),IF(C186=7,VLOOKUP(AA186,判定式!$D$15:I$19,6,TRUE),IF(C186=8,VLOOKUP(AA186,判定式!$E$15:I$19,5,TRUE),IF(C186=9,VLOOKUP(AA186,判定式!$F$15:I$19,4,TRUE),IF(C186=10,VLOOKUP(AA186,判定式!$G$15:I$19,3,TRUE),IF(C186=11,VLOOKUP(AA186,判定式!$H$15:I$19,2,TRUE))))))))","v":false}]
[38,null,null,"-",null,null,null,null,null,null,null,null,null,null,null,null,null,null,{"$f":"IF($E187=\"\",\"\",VLOOKUP($E187,判定式!$P$3:$W$12,8,TRUE))","v":""},{"$f":"IF($F187=\"\",\"\",VLOOKUP($F187,判定式!$Q$3:$W$12,7,TRUE))","v":""},{"$f":"IF($G187=\"\",\"\",VLOOKUP($G187,判定式!$R$3:$W$12,6,TRUE))","v":""},{"$f":"IF($H187=\"\",\"\",VLOOKUP($H187,判定式!$S$3:$W$12,5,TRUE))","v":""},{"$f":"IF($I187=\"\",\"\",VLOOKUP($I187,判定式!$V$3:$W$12,2,TRUE))","v":""},{"$f":"IF($J187=\"\",\"\",VLOOKUP($J187,判定式!$Y$3:$Z$12,2,TRUE))","v":""},{"$f":"IF($K187=\"\",\"\",VLOOKUP($K187,判定式!$T$3:$W$12,4,TRUE))","v":""},{"$f":"IF($L187=\"\",\"\",VLOOKUP($L187,判定式!$U$3:$W$12,3,TRUE))","v":""},"",{"$f":"IF(ISNUMBER(D187),\"判定外\",IF(C187=6,VLOOKUP(AA187,判定式!$C$15:I$19,7,TRUE),IF(C187=7,VLOOKUP(AA187,判定式!$D$15:I$19,6,TRUE),IF(C187=8,VLOOKUP(AA187,判定式!$E$15:I$19,5,TRUE),IF(C187=9,VLOOKUP(AA187,判定式!$F$15:I$19,4,TRUE),IF(C187=10,VLOOKUP(AA187,判定式!$G$15:I$19,3,TRUE),IF(C187=11,VLOOKUP(AA187,判定式!$H$15:I$19,2,TRUE))))))))","v":false}]
[39,null,null,"-",null,null,null,null,null,null,null,null,null,null,null,null,null,null,{"$f":"IF($E188=\"\",\"\",VLOOKUP($E188,判定式!$P$3:$W$12,8,TRUE))","v":""},{"$f":"IF($F188=\"\",\"\",VLOOKUP($F188,判定式!$Q$3:$W$12,7,TRUE))","v":""},{"$f":"IF($G188=\"\",\"\",VLOOKUP($G188,判定式!$R$3:$W$12,6,TRUE))","v":""},{"$f":"IF($H188=\"\",\"\",VLOOKUP($H188,判定式!$S$3:$W$12,5,TRUE))","v":""},{"$f":"IF($I188=\"\",\"\",VLOOKUP($I188,判定式!$V$3:$W$12,2,TRUE))","v":""},{"$f":"IF($J188=\"\",\"\",VLOOKUP($J188,判定式!$Y$3:$Z$12,2,TRUE))","v":""},{"$f":"IF($K188=\"\",\"\",VLOOKUP($K188,判定式!$T$3:$W$12,4,TRUE))","v":""},{"$f":"IF($L188=\"\",\"\",VLOOKUP($L188,判定式!$U$3:$W$12,3,TRUE))","v":""},"",{"$f":"IF(ISNUMBER(D188),\"判定外\",IF(C188=6,VLOOKUP(AA188,判定式!$C$15:I$19,7,TRUE),IF(C188=7,VLOOKUP(AA188,判定式!$D$15:I$19,6,TRUE),IF(C188=8,VLOOKUP(AA188,判定式!$E$15:I$19,5,TRUE),IF(C188=9,VLOOKUP(AA188,判定式!$F$15:I$19,4,TRUE),IF(C188=10,VLOOKUP(AA188,判定式!$G$15:I$19,3,TRUE),IF(C188=11,VLOOKUP(AA188,判定式!$H$15:I$19,2,TRUE))))))))","v":false}]
[40,null,null,"-",null,null,null,null,null,null,null,null,null,null,null,null,null,null,{"$f":"IF($E189=\"\",\"\",VLOOKUP($E189,判定式!$P$3:$W$12,8,TRUE))","v":""},{"$f":"IF($F189=\"\",\"\",VLOOKUP($F189,判定式!$Q$3:$W$12,7,TRUE))","v":""},{"$f":"IF($G189=\"\",\"\",VLOOKUP($G189,判定式!$R$3:$W$12,6,TRUE))","v":""},{"$f":"IF($H189=\"\",\"\",VLOOKUP($H189,判定式!$S$3:$W$12,5,TRUE))","v":""},{"$f":"IF($I189=\"\",\"\",VLOOKUP($I189,判定式!$V$3:$W$12,2,TRUE))","v":""},{"$f":"IF($J189=\"\",\"\",VLOOKUP($J189,判定式!$Y$3:$Z$12,2,TRUE))","v":""},{"$f":"IF($K189=\"\",\"\",VLOOKUP($K189,判定式!$T$3:$W$12,4,TRUE))","v":""},{"$f":"IF($L189=\"\",\"\",VLOOKUP($L189,判定式!$U$3:$W$12,3,TRUE))","v":""},"",{"$f":"IF(ISNUMBER(D189),\"判定外\",IF(C189=6,VLOOKUP(AA189,判定式!$C$15:I$19,7,TRUE),IF(C189=7,VLOOKUP(AA189,判定式!$D$15:I$19,6,TRUE),IF(C189=8,VLOOKUP(AA189,判定式!$E$15:I$19,5,TRUE),IF(C189=9,VLOOKUP(AA189,判定式!$F$15:I$19,4,TRUE),IF(C189=10,VLOOKUP(AA189,判定式!$G$15:I$19,3,TRUE),IF(C189=11,VLOOKUP(AA189,判定式!$H$15:I$19,2,TRUE))))))))","v":false}]
[41,null,null,"-",null,null,null,null,null,null,null,null,null,null,null,null,null,null,{"$f":"IF($E190=\"\",\"\",VLOOKUP($E190,判定式!$P$3:$W$12,8,TRUE))","v":""},{"$f":"IF($F190=\"\",\"\",VLOOKUP($F190,判定式!$Q$3:$W$12,7,TRUE))","v":""},{"$f":"IF($G190=\"\",\"\",VLOOKUP($G190,判定式!$R$3:$W$12,6,TRUE))","v":""},{"$f":"IF($H190=\"\",\"\",VLOOKUP($H190,判定式!$S$3:$W$12,5,TRUE))","v":""},{"$f":"IF($I190=\"\",\"\",VLOOKUP($I190,判定式!$V$3:$W$12,2,TRUE))","v":""},{"$f":"IF($J190=\"\",\"\",VLOOKUP($J190,判定式!$Y$3:$Z$12,2,TRUE))","v":""},{"$f":"IF($K190=\"\",\"\",VLOOKUP($K190,判定式!$T$3:$W$12,4,TRUE))","v":""},{"$f":"IF($L190=\"\",\"\",VLOOKUP($L190,判定式!$U$3:$W$12,3,TRUE))","v":""},"",{"$f":"IF(ISNUMBER(D190),\"判定外\",IF(C190=6,VLOOKUP(AA190,判定式!$C$15:I$19,7,TRUE),IF(C190=7,VLOOKUP(AA190,判定式!$D$15:I$19,6,TRUE),IF(C190=8,VLOOKUP(AA190,判定式!$E$15:I$19,5,TRUE),IF(C190=9,VLOOKUP(AA190,判定式!$F$15:I$19,4,TRUE),IF(C190=10,VLOOKUP(AA190,判定式!$G$15:I$19,3,TRUE),IF(C190=11,VLOOKUP(AA190,判定式!$H$15:I$19,2,TRUE))))))))","v":false}]
[42,null,null,"-",null,null,null,null,null,null,null,null,null,null,null,null,null,null,{"$f":"IF($E191=\"\",\"\",VLOOKUP($E191,判定式!$P$3:$W$12,8,TRUE))","v":""},{"$f":"IF($F191=\"\",\"\",VLOOKUP($F191,判定式!$Q$3:$W$12,7,TRUE))","v":""},{"$f":"IF($G191=\"\",\"\",VLOOKUP($G191,判定式!$R$3:$W$12,6,TRUE))","v":""},{"$f":"IF($H191=\"\",\"\",VLOOKUP($H191,判定式!$S$3:$W$12,5,TRUE))","v":""},{"$f":"IF($I191=\"\",\"\",VLOOKUP($I191,判定式!$V$3:$W$12,2,TRUE))","v":""},{"$f":"IF($J191=\"\",\"\",VLOOKUP($J191,判定式!$Y$3:$Z$12,2,TRUE))","v":""},{"$f":"IF($K191=\"\",\"\",VLOOKUP($K191,判定式!$T$3:$W$12,4,TRUE))","v":""},{"$f":"IF($L191=\"\",\"\",VLOOKUP($L191,判定式!$U$3:$W$12,3,TRUE))","v":""},"",{"$f":"IF(ISNUMBER(D191),\"判定外\",IF(C191=6,VLOOKUP(AA191,判定式!$C$15:I$19,7,TRUE),IF(C191=7,VLOOKUP(AA191,判定式!$D$15:I$19,6,TRUE),IF(C191=8,VLOOKUP(AA191,判定式!$E$15:I$19,5,TRUE),IF(C191=9,VLOOKUP(AA191,判定式!$F$15:I$19,4,TRUE),IF(C191=10,VLOOKUP(AA191,判定式!$G$15:I$19,3,TRUE),IF(C191=11,VLOOKUP(AA191,判定式!$H$15:I$19,2,TRUE))))))))","v":false}]
[43,null,null,"-",null,null,null,null,null,null,null,null,null,null,null,null,null,null,{"$f":"IF($E192=\"\",\"\",VLOOKUP($E192,判定式!$P$3:$W$12,8,TRUE))","v":""},{"$f":"IF($F192=\"\",\"\",VLOOKUP($F192,判定式!$Q$3:$W$12,7,TRUE))","v":""},{"$f":"IF($G192=\"\",\"\",VLOOKUP($G192,判定式!$R$3:$W$12,6,TRUE))","v":""},{"$f":"IF($H192=\"\",\"\",VLOOKUP($H192,判定式!$S$3:$W$12,5,TRUE))","v":""},{"$f":"IF($I192=\"\",\"\",VLOOKUP($I192,判定式!$V$3:$W$12,2,TRUE))","v":""},{"$f":"IF($J192=\"\",\"\",VLOOKUP($J192,判定式!$Y$3:$Z$12,2,TRUE))","v":""},{"$f":"IF($K192=\"\",\"\",VLOOKUP($K192,判定式!$T$3:$W$12,4,TRUE))","v":""},{"$f":"IF($L192=\"\",\"\",VLOOKUP($L192,判定式!$U$3:$W$12,3,TRUE))","v":""},"",{"$f":"IF(ISNUMBER(D192),\"判定外\",IF(C192=6,VLOOKUP(AA192,判定式!$C$15:I$19,7,TRUE),IF(C192=7,VLOOKUP(AA192,判定式!$D$15:I$19,6,TRUE),IF(C192=8,VLOOKUP(AA192,判定式!$E$15:I$19,5,TRUE),IF(C192=9,VLOOKUP(AA192,判定式!$F$15:I$19,4,TRUE),IF(C192=10,VLOOKUP(AA192,判定式!$G$15:I$19,3,TRUE),IF(C192=11,VLOOKUP(AA192,判定式!$H$15:I$19,2,TRUE))))))))","v":false}]
[44,null,null,"-",null,null,null,null,null,null,null,null,null,null,null,null,null,null,{"$f":"IF($E193=\"\",\"\",VLOOKUP($E193,判定式!$P$3:$W$12,8,TRUE))","v":""},{"$f":"IF($F193=\"\",\"\",VLOOKUP($F193,判定式!$Q$3:$W$12,7,TRUE))","v":""},{"$f":"IF($G193=\"\",\"\",VLOOKUP($G193,判定式!$R$3:$W$12,6,TRUE))","v":""},{"$f":"IF($H193=\"\",\"\",VLOOKUP($H193,判定式!$S$3:$W$12,5,TRUE))","v":""},{"$f":"IF($I193=\"\",\"\",VLOOKUP($I193,判定式!$V$3:$W$12,2,TRUE))","v":""},{"$f":"IF($J193=\"\",\"\",VLOOKUP($J193,判定式!$Y$3:$Z$12,2,TRUE))","v":""},{"$f":"IF($K193=\"\",\"\",VLOOKUP($K193,判定式!$T$3:$W$12,4,TRUE))","v":""},{"$f":"IF($L193=\"\",\"\",VLOOKUP($L193,判定式!$U$3:$W$12,3,TRUE))","v":""},"",{"$f":"IF(ISNUMBER(D193),\"判定外\",IF(C193=6,VLOOKUP(AA193,判定式!$C$15:I$19,7,TRUE),IF(C193=7,VLOOKUP(AA193,判定式!$D$15:I$19,6,TRUE),IF(C193=8,VLOOKUP(AA193,判定式!$E$15:I$19,5,TRUE),IF(C193=9,VLOOKUP(AA193,判定式!$F$15:I$19,4,TRUE),IF(C193=10,VLOOKUP(AA193,判定式!$G$15:I$19,3,TRUE),IF(C193=11,VLOOKUP(AA193,判定式!$H$15:I$19,2,TRUE))))))))","v":false}]
[45,null,null,"-",null,null,null,null,null,null,null,null,null,null,null,null,null,null,{"$f":"IF($E194=\"\",\"\",VLOOKUP($E194,判定式!$P$3:$W$12,8,TRUE))","v":""},{"$f":"IF($F194=\"\",\"\",VLOOKUP($F194,判定式!$Q$3:$W$12,7,TRUE))","v":""},{"$f":"IF($G194=\"\",\"\",VLOOKUP($G194,判定式!$R$3:$W$12,6,TRUE))","v":""},{"$f":"IF($H194=\"\",\"\",VLOOKUP($H194,判定式!$S$3:$W$12,5,TRUE))","v":""},{"$f":"IF($I194=\"\",\"\",VLOOKUP($I194,判定式!$V$3:$W$12,2,TRUE))","v":""},{"$f":"IF($J194=\"\",\"\",VLOOKUP($J194,判定式!$Y$3:$Z$12,2,TRUE))","v":""},{"$f":"IF($K194=\"\",\"\",VLOOKUP($K194,判定式!$T$3:$W$12,4,TRUE))","v":""},{"$f":"IF($L194=\"\",\"\",VLOOKUP($L194,判定式!$U$3:$W$12,3,TRUE))","v":""},"",{"$f":"IF(ISNUMBER(D194),\"判定外\",IF(C194=6,VLOOKUP(AA194,判定式!$C$15:I$19,7,TRUE),IF(C194=7,VLOOKUP(AA194,判定式!$D$15:I$19,6,TRUE),IF(C194=8,VLOOKUP(AA194,判定式!$E$15:I$19,5,TRUE),IF(C194=9,VLOOKUP(AA194,判定式!$F$15:I$19,4,TRUE),IF(C194=10,VLOOKUP(AA194,判定式!$G$15:I$19,3,TRUE),IF(C194=11,VLOOKUP(AA194,判定式!$H$15:I$19,2,TRUE))))))))","v":false}]
[46,null,null,"-",null,null,null,null,null,null,null,null,null,null,null,null,null,null,{"$f":"IF($E195=\"\",\"\",VLOOKUP($E195,判定式!$P$3:$W$12,8,TRUE))","v":""},{"$f":"IF($F195=\"\",\"\",VLOOKUP($F195,判定式!$Q$3:$W$12,7,TRUE))","v":""},{"$f":"IF($G195=\"\",\"\",VLOOKUP($G195,判定式!$R$3:$W$12,6,TRUE))","v":""},{"$f":"IF($H195=\"\",\"\",VLOOKUP($H195,判定式!$S$3:$W$12,5,TRUE))","v":""},{"$f":"IF($I195=\"\",\"\",VLOOKUP($I195,判定式!$V$3:$W$12,2,TRUE))","v":""},{"$f":"IF($J195=\"\",\"\",VLOOKUP($J195,判定式!$Y$3:$Z$12,2,TRUE))","v":""},{"$f":"IF($K195=\"\",\"\",VLOOKUP($K195,判定式!$T$3:$W$12,4,TRUE))","v":""},{"$f":"IF($L195=\"\",\"\",VLOOKUP($L195,判定式!$U$3:$W$12,3,TRUE))","v":""},"",{"$f":"IF(ISNUMBER(D195),\"判定外\",IF(C195=6,VLOOKUP(AA195,判定式!$C$15:I$19,7,TRUE),IF(C195=7,VLOOKUP(AA195,判定式!$D$15:I$19,6,TRUE),IF(C195=8,VLOOKUP(AA195,判定式!$E$15:I$19,5,TRUE),IF(C195=9,VLOOKUP(AA195,判定式!$F$15:I$19,4,TRUE),IF(C195=10,VLOOKUP(AA195,判定式!$G$15:I$19,3,TRUE),IF(C195=11,VLOOKUP(AA195,判定式!$H$15:I$19,2,TRUE))))))))","v":false}]
[47,null,null,"-",null,null,null,null,null,null,null,null,null,null,null,null,null,null,{"$f":"IF($E196=\"\",\"\",VLOOKUP($E196,判定式!$P$3:$W$12,8,TRUE))","v":""},{"$f":"IF($F196=\"\",\"\",VLOOKUP($F196,判定式!$Q$3:$W$12,7,TRUE))","v":""},{"$f":"IF($G196=\"\",\"\",VLOOKUP($G196,判定式!$R$3:$W$12,6,TRUE))","v":""},{"$f":"IF($H196=\"\",\"\",VLOOKUP($H196,判定式!$S$3:$W$12,5,TRUE))","v":""},{"$f":"IF($I196=\"\",\"\",VLOOKUP($I196,判定式!$V$3:$W$12,2,TRUE))","v":""},{"$f":"IF($J196=\"\",\"\",VLOOKUP($J196,判定式!$Y$3:$Z$12,2,TRUE))","v":""},{"$f":"IF($K196=\"\",\"\",VLOOKUP($K196,判定式!$T$3:$W$12,4,TRUE))","v":""},{"$f":"IF($L196=\"\",\"\",VLOOKUP($L196,判定式!$U$3:$W$12,3,TRUE))","v":""},"",{"$f":"IF(ISNUMBER(D196),\"判定外\",IF(C196=6,VLOOKUP(AA196,判定式!$C$15:I$19,7,TRUE),IF(C196=7,VLOOKUP(AA196,判定式!$D$15:I$19,6,TRUE),IF(C196=8,VLOOKUP(AA196,判定式!$E$15:I$19,5,TRUE),IF(C196=9,VLOOKUP(AA196,判定式!$F$15:I$19,4,TRUE),IF(C196=10,VLOOKUP(AA196,判定式!$G$15:I$19,3,TRUE),IF(C196=11,VLOOKUP(AA196,判定式!$H$15:I$19,2,TRUE))))))))","v":false}]
[48,null,null,"-",null,null,null,null,null,null,null,null,null,null,null,null,null,null,{"$f":"IF($E197=\"\",\"\",VLOOKUP($E197,判定式!$P$3:$W$12,8,TRUE))","v":""},{"$f":"IF($F197=\"\",\"\",VLOOKUP($F197,判定式!$Q$3:$W$12,7,TRUE))","v":""},{"$f":"IF($G197=\"\",\"\",VLOOKUP($G197,判定式!$R$3:$W$12,6,TRUE))","v":""},{"$f":"IF($H197=\"\",\"\",VLOOKUP($H197,判定式!$S$3:$W$12,5,TRUE))","v":""},{"$f":"IF($I197=\"\",\"\",VLOOKUP($I197,判定式!$V$3:$W$12,2,TRUE))","v":""},{"$f":"IF($J197=\"\",\"\",VLOOKUP($J197,判定式!$Y$3:$Z$12,2,TRUE))","v":""},{"$f":"IF($K197=\"\",\"\",VLOOKUP($K197,判定式!$T$3:$W$12,4,TRUE))","v":""},{"$f":"IF($L197=\"\",\"\",VLOOKUP($L197,判定式!$U$3:$W$12,3,TRUE))","v":""},"",{"$f":"IF(ISNUMBER(D197),\"判定外\",IF(C197=6,VLOOKUP(AA197,判定式!$C$15:I$19,7,TRUE),IF(C197=7,VLOOKUP(AA197,判定式!$D$15:I$19,6,TRUE),IF(C197=8,VLOOKUP(AA197,判定式!$E$15:I$19,5,TRUE),IF(C197=9,VLOOKUP(AA197,判定式!$F$15:I$19,4,TRUE),IF(C197=10,VLOOKUP(AA197,判定式!$G$15:I$19,3,TRUE),IF(C197=11,VLOOKUP(AA197,判定式!$H$15:I$19,2,TRUE))))))))","v":false}]
[49,null,null,"-",null,null,null,null,null,null,null,null,null,null,null,null,null,null,{"$f":"IF($E198=\"\",\"\",VLOOKUP($E198,判定式!$P$3:$W$12,8,TRUE))","v":""},{"$f":"IF($F198=\"\",\"\",VLOOKUP($F198,判定式!$Q$3:$W$12,7,TRUE))","v":""},{"$f":"IF($G198=\"\",\"\",VLOOKUP($G198,判定式!$R$3:$W$12,6,TRUE))","v":""},{"$f":"IF($H198=\"\",\"\",VLOOKUP($H198,判定式!$S$3:$W$12,5,TRUE))","v":""},{"$f":"IF($I198=\"\",\"\",VLOOKUP($I198,判定式!$V$3:$W$12,2,TRUE))","v":""},{"$f":"IF($J198=\"\",\"\",VLOOKUP($J198,判定式!$Y$3:$Z$12,2,TRUE))","v":""},{"$f":"IF($K198=\"\",\"\",VLOOKUP($K198,判定式!$T$3:$W$12,4,TRUE))","v":""},{"$f":"IF($L198=\"\",\"\",VLOOKUP($L198,判定式!$U$3:$W$12,3,TRUE))","v":""},"",{"$f":"IF(ISNUMBER(D198),\"判定外\",IF(C198=6,VLOOKUP(AA198,判定式!$C$15:I$19,7,TRUE),IF(C198=7,VLOOKUP(AA198,判定式!$D$15:I$19,6,TRUE),IF(C198=8,VLOOKUP(AA198,判定式!$E$15:I$19,5,TRUE),IF(C198=9,VLOOKUP(AA198,判定式!$F$15:I$19,4,TRUE),IF(C198=10,VLOOKUP(AA198,判定式!$G$15:I$19,3,TRUE),IF(C198=11,VLOOKUP(AA198,判定式!$H$15:I$19,2,TRUE))))))))","v":false}]
[50,null,null,"-",null,null,null,null,null,null,null,null,null,null,null,null,null,null,{"$f":"IF($E199=\"\",\"\",VLOOKUP($E199,判定式!$P$3:$W$12,8,TRUE))","v":""},{"$f":"IF($F199=\"\",\"\",VLOOKUP($F199,判定式!$Q$3:$W$12,7,TRUE))","v":""},{"$f":"IF($G199=\"\",\"\",VLOOKUP($G199,判定式!$R$3:$W$12,6,TRUE))","v":""},{"$f":"IF($H199=\"\",\"\",VLOOKUP($H199,判定式!$S$3:$W$12,5,TRUE))","v":""},{"$f":"IF($I199=\"\",\"\",VLOOKUP($I199,判定式!$V$3:$W$12,2,TRUE))","v":""},{"$f":"IF($J199=\"\",\"\",VLOOKUP($J199,判定式!$Y$3:$Z$12,2,TRUE))","v":""},{"$f":"IF($K199=\"\",\"\",VLOOKUP($K199,判定式!$T$3:$W$12,4,TRUE))","v":""},{"$f":"IF($L199=\"\",\"\",VLOOKUP($L199,判定式!$U$3:$W$12,3,TRUE))","v":""},"",{"$f":"IF(ISNUMBER(D199),\"判定外\",IF(C199=6,VLOOKUP(AA199,判定式!$C$15:I$19,7,TRUE),IF(C199=7,VLOOKUP(AA199,判定式!$D$15:I$19,6,TRUE),IF(C199=8,VLOOKUP(AA199,判定式!$E$15:I$19,5,TRUE),IF(C199=9,VLOOKUP(AA199,判定式!$F$15:I$19,4,TRUE),IF(C199=10,VLOOKUP(AA199,判定式!$G$15:I$19,3,TRUE),IF(C199=11,VLOOKUP(AA199,判定式!$H$15:I$19,2,TRUE))))))))","v":false}]
[51,null,null,"-",null,null,null,null,null,null,null,null,null,null,null,null,null,null,{"$f":"IF($E200=\"\",\"\",VLOOKUP($E200,判定式!$P$3:$W$12,8,TRUE))","v":""},{"$f":"IF($F200=\"\",\"\",VLOOKUP($F200,判定式!$Q$3:$W$12,7,TRUE))","v":""},{"$f":"IF($G200=\"\",\"\",VLOOKUP($G200,判定式!$R$3:$W$12,6,TRUE))","v":""},{"$f":"IF($H200=\"\",\"\",VLOOKUP($H200,判定式!$S$3:$W$12,5,TRUE))","v":""},{"$f":"IF($I200=\"\",\"\",VLOOKUP($I200,判定式!$V$3:$W$12,2,TRUE))","v":""},{"$f":"IF($J200=\"\",\"\",VLOOKUP($J200,判定式!$Y$3:$Z$12,2,TRUE))","v":""},{"$f":"IF($K200=\"\",\"\",VLOOKUP($K200,判定式!$T$3:$W$12,4,TRUE))","v":""},{"$f":"IF($L200=\"\",\"\",VLOOKUP($L200,判定式!$U$3:$W$12,3,TRUE))","v":""},"",{"$f":"IF(ISNUMBER(D200),\"判定外\",IF(C200=6,VLOOKUP(AA200,判定式!$C$15:I$19,7,TRUE),IF(C200=7,VLOOKUP(AA200,判定式!$D$15:I$19,6,TRUE),IF(C200=8,VLOOKUP(AA200,判定式!$E$15:I$19,5,TRUE),IF(C200=9,VLOOKUP(AA200,判定式!$F$15:I$19,4,TRUE),IF(C200=10,VLOOKUP(AA200,判定式!$G$15:I$19,3,TRUE),IF(C200=11,VLOOKUP(AA200,判定式!$H$15:I$19,2,TRUE))))))))","v":false}]
[52,null,null,"-",null,null,null,null,null,null,null,null,null,null,null,null,null,null,{"$f":"IF($E201=\"\",\"\",VLOOKUP($E201,判定式!$P$3:$W$12,8,TRUE))","v":""},{"$f":"IF($F201=\"\",\"\",VLOOKUP($F201,判定式!$Q$3:$W$12,7,TRUE))","v":""},{"$f":"IF($G201=\"\",\"\",VLOOKUP($G201,判定式!$R$3:$W$12,6,TRUE))","v":""},{"$f":"IF($H201=\"\",\"\",VLOOKUP($H201,判定式!$S$3:$W$12,5,TRUE))","v":""},{"$f":"IF($I201=\"\",\"\",VLOOKUP($I201,判定式!$V$3:$W$12,2,TRUE))","v":""},{"$f":"IF($J201=\"\",\"\",VLOOKUP($J201,判定式!$Y$3:$Z$12,2,TRUE))","v":""},{"$f":"IF($K201=\"\",\"\",VLOOKUP($K201,判定式!$T$3:$W$12,4,TRUE))","v":""},{"$f":"IF($L201=\"\",\"\",VLOOKUP($L201,判定式!$U$3:$W$12,3,TRUE))","v":""},"",{"$f":"IF(ISNUMBER(D201),\"判定外\",IF(C201=6,VLOOKUP(AA201,判定式!$C$15:I$19,7,TRUE),IF(C201=7,VLOOKUP(AA201,判定式!$D$15:I$19,6,TRUE),IF(C201=8,VLOOKUP(AA201,判定式!$E$15:I$19,5,TRUE),IF(C201=9,VLOOKUP(AA201,判定式!$F$15:I$19,4,TRUE),IF(C201=10,VLOOKUP(AA201,判定式!$G$15:I$19,3,TRUE),IF(C201=11,VLOOKUP(AA201,判定式!$H$15:I$19,2,TRUE))))))))","v":false}]
[53,null,null,"-",null,null,null,null,null,null,null,null,null,null,null,null,null,null,{"$f":"IF($E202=\"\",\"\",VLOOKUP($E202,判定式!$P$3:$W$12,8,TRUE))","v":""},{"$f":"IF($F202=\"\",\"\",VLOOKUP($F202,判定式!$Q$3:$W$12,7,TRUE))","v":""},{"$f":"IF($G202=\"\",\"\",VLOOKUP($G202,判定式!$R$3:$W$12,6,TRUE))","v":""},{"$f":"IF($H202=\"\",\"\",VLOOKUP($H202,判定式!$S$3:$W$12,5,TRUE))","v":""},{"$f":"IF($I202=\"\",\"\",VLOOKUP($I202,判定式!$V$3:$W$12,2,TRUE))","v":""},{"$f":"IF($J202=\"\",\"\",VLOOKUP($J202,判定式!$Y$3:$Z$12,2,TRUE))","v":""},{"$f":"IF($K202=\"\",\"\",VLOOKUP($K202,判定式!$T$3:$W$12,4,TRUE))","v":""},{"$f":"IF($L202=\"\",\"\",VLOOKUP($L202,判定式!$U$3:$W$12,3,TRUE))","v":""},"",{"$f":"IF(ISNUMBER(D202),\"判定外\",IF(C202=6,VLOOKUP(AA202,判定式!$C$15:I$19,7,TRUE),IF(C202=7,VLOOKUP(AA202,判定式!$D$15:I$19,6,TRUE),IF(C202=8,VLOOKUP(AA202,判定式!$E$15:I$19,5,TRUE),IF(C202=9,VLOOKUP(AA202,判定式!$F$15:I$19,4,TRUE),IF(C202=10,VLOOKUP(AA202,判定式!$G$15:I$19,3,TRUE),IF(C202=11,VLOOKUP(AA202,判定式!$H$15:I$19,2,TRUE))))))))","v":false}]
[54,null,null,"-",null,null,null,null,null,null,null,null,null,null,null,null,null,null,{"$f":"IF($E203=\"\",\"\",VLOOKUP($E203,判定式!$P$3:$W$12,8,TRUE))","v":""},{"$f":"IF($F203=\"\",\"\",VLOOKUP($F203,判定式!$Q$3:$W$12,7,TRUE))","v":""},{"$f":"IF($G203=\"\",\"\",VLOOKUP($G203,判定式!$R$3:$W$12,6,TRUE))","v":""},{"$f":"IF($H203=\"\",\"\",VLOOKUP($H203,判定式!$S$3:$W$12,5,TRUE))","v":""},{"$f":"IF($I203=\"\",\"\",VLOOKUP($I203,判定式!$V$3:$W$12,2,TRUE))","v":""},{"$f":"IF($J203=\"\",\"\",VLOOKUP($J203,判定式!$Y$3:$Z$12,2,TRUE))","v":""},{"$f":"IF($K203=\"\",\"\",VLOOKUP($K203,判定式!$T$3:$W$12,4,TRUE))","v":""},{"$f":"IF($L203=\"\",\"\",VLOOKUP($L203,判定式!$U$3:$W$12,3,TRUE))","v":""},"",{"$f":"IF(ISNUMBER(D203),\"判定外\",IF(C203=6,VLOOKUP(AA203,判定式!$C$15:I$19,7,TRUE),IF(C203=7,VLOOKUP(AA203,判定式!$D$15:I$19,6,TRUE),IF(C203=8,VLOOKUP(AA203,判定式!$E$15:I$19,5,TRUE),IF(C203=9,VLOOKUP(AA203,判定式!$F$15:I$19,4,TRUE),IF(C203=10,VLOOKUP(AA203,判定式!$G$15:I$19,3,TRUE),IF(C203=11,VLOOKUP(AA203,判定式!$H$15:I$19,2,TRUE))))))))","v":false}]
[55,null,null,"-",null,null,null,null,null,null,null,null,null,null,null,null,null,null,{"$f":"IF($E204=\"\",\"\",VLOOKUP($E204,判定式!$P$3:$W$12,8,TRUE))","v":""},{"$f":"IF($F204=\"\",\"\",VLOOKUP($F204,判定式!$Q$3:$W$12,7,TRUE))","v":""},{"$f":"IF($G204=\"\",\"\",VLOOKUP($G204,判定式!$R$3:$W$12,6,TRUE))","v":""},{"$f":"IF($H204=\"\",\"\",VLOOKUP($H204,判定式!$S$3:$W$12,5,TRUE))","v":""},{"$f":"IF($I204=\"\",\"\",VLOOKUP($I204,判定式!$V$3:$W$12,2,TRUE))","v":""},{"$f":"IF($J204=\"\",\"\",VLOOKUP($J204,判定式!$Y$3:$Z$12,2,TRUE))","v":""},{"$f":"IF($K204=\"\",\"\",VLOOKUP($K204,判定式!$T$3:$W$12,4,TRUE))","v":""},{"$f":"IF($L204=\"\",\"\",VLOOKUP($L204,判定式!$U$3:$W$12,3,TRUE))","v":""},"",{"$f":"IF(ISNUMBER(D204),\"判定外\",IF(C204=6,VLOOKUP(AA204,判定式!$C$15:I$19,7,TRUE),IF(C204=7,VLOOKUP(AA204,判定式!$D$15:I$19,6,TRUE),IF(C204=8,VLOOKUP(AA204,判定式!$E$15:I$19,5,TRUE),IF(C204=9,VLOOKUP(AA204,判定式!$F$15:I$19,4,TRUE),IF(C204=10,VLOOKUP(AA204,判定式!$G$15:I$19,3,TRUE),IF(C204=11,VLOOKUP(AA204,判定式!$H$15:I$19,2,TRUE))))))))","v":false}]
[56,null,null,"-",null,null,null,null,null,null,null,null,null,null,null,null,null,null,{"$f":"IF($E205=\"\",\"\",VLOOKUP($E205,判定式!$P$3:$W$12,8,TRUE))","v":""},{"$f":"IF($F205=\"\",\"\",VLOOKUP($F205,判定式!$Q$3:$W$12,7,TRUE))","v":""},{"$f":"IF($G205=\"\",\"\",VLOOKUP($G205,判定式!$R$3:$W$12,6,TRUE))","v":""},{"$f":"IF($H205=\"\",\"\",VLOOKUP($H205,判定式!$S$3:$W$12,5,TRUE))","v":""},{"$f":"IF($I205=\"\",\"\",VLOOKUP($I205,判定式!$V$3:$W$12,2,TRUE))","v":""},{"$f":"IF($J205=\"\",\"\",VLOOKUP($J205,判定式!$Y$3:$Z$12,2,TRUE))","v":""},{"$f":"IF($K205=\"\",\"\",VLOOKUP($K205,判定式!$T$3:$W$12,4,TRUE))","v":""},{"$f":"IF($L205=\"\",\"\",VLOOKUP($L205,判定式!$U$3:$W$12,3,TRUE))","v":""},"",{"$f":"IF(ISNUMBER(D205),\"判定外\",IF(C205=6,VLOOKUP(AA205,判定式!$C$15:I$19,7,TRUE),IF(C205=7,VLOOKUP(AA205,判定式!$D$15:I$19,6,TRUE),IF(C205=8,VLOOKUP(AA205,判定式!$E$15:I$19,5,TRUE),IF(C205=9,VLOOKUP(AA205,判定式!$F$15:I$19,4,TRUE),IF(C205=10,VLOOKUP(AA205,判定式!$G$15:I$19,3,TRUE),IF(C205=11,VLOOKUP(AA205,判定式!$H$15:I$19,2,TRUE))))))))","v":false}]
[57,null,null,"-",null,null,null,null,null,null,null,null,null,null,null,null,null,null,{"$f":"IF($E206=\"\",\"\",VLOOKUP($E206,判定式!$P$3:$W$12,8,TRUE))","v":""},{"$f":"IF($F206=\"\",\"\",VLOOKUP($F206,判定式!$Q$3:$W$12,7,TRUE))","v":""},{"$f":"IF($G206=\"\",\"\",VLOOKUP($G206,判定式!$R$3:$W$12,6,TRUE))","v":""},{"$f":"IF($H206=\"\",\"\",VLOOKUP($H206,判定式!$S$3:$W$12,5,TRUE))","v":""},{"$f":"IF($I206=\"\",\"\",VLOOKUP($I206,判定式!$V$3:$W$12,2,TRUE))","v":""},{"$f":"IF($J206=\"\",\"\",VLOOKUP($J206,判定式!$Y$3:$Z$12,2,TRUE))","v":""},{"$f":"IF($K206=\"\",\"\",VLOOKUP($K206,判定式!$T$3:$W$12,4,TRUE))","v":""},{"$f":"IF($L206=\"\",\"\",VLOOKUP($L206,判定式!$U$3:$W$12,3,TRUE))","v":""},"",{"$f":"IF(ISNUMBER(D206),\"判定外\",IF(C206=6,VLOOKUP(AA206,判定式!$C$15:I$19,7,TRUE),IF(C206=7,VLOOKUP(AA206,判定式!$D$15:I$19,6,TRUE),IF(C206=8,VLOOKUP(AA206,判定式!$E$15:I$19,5,TRUE),IF(C206=9,VLOOKUP(AA206,判定式!$F$15:I$19,4,TRUE),IF(C206=10,VLOOKUP(AA206,判定式!$G$15:I$19,3,TRUE),IF(C206=11,VLOOKUP(AA206,判定式!$H$15:I$19,2,TRUE))))))))","v":false}]
[58,null,null,"-",null,null,null,null,null,null,null,null,null,null,null,null,null,null,{"$f":"IF($E207=\"\",\"\",VLOOKUP($E207,判定式!$P$3:$W$12,8,TRUE))","v":""},{"$f":"IF($F207=\"\",\"\",VLOOKUP($F207,判定式!$Q$3:$W$12,7,TRUE))","v":""},{"$f":"IF($G207=\"\",\"\",VLOOKUP($G207,判定式!$R$3:$W$12,6,TRUE))","v":""},{"$f":"IF($H207=\"\",\"\",VLOOKUP($H207,判定式!$S$3:$W$12,5,TRUE))","v":""},{"$f":"IF($I207=\"\",\"\",VLOOKUP($I207,判定式!$V$3:$W$12,2,TRUE))","v":""},{"$f":"IF($J207=\"\",\"\",VLOOKUP($J207,判定式!$Y$3:$Z$12,2,TRUE))","v":""},{"$f":"IF($K207=\"\",\"\",VLOOKUP($K207,判定式!$T$3:$W$12,4,TRUE))","v":""},{"$f":"IF($L207=\"\",\"\",VLOOKUP($L207,判定式!$U$3:$W$12,3,TRUE))","v":""},"",{"$f":"IF(ISNUMBER(D207),\"判定外\",IF(C207=6,VLOOKUP(AA207,判定式!$C$15:I$19,7,TRUE),IF(C207=7,VLOOKUP(AA207,判定式!$D$15:I$19,6,TRUE),IF(C207=8,VLOOKUP(AA207,判定式!$E$15:I$19,5,TRUE),IF(C207=9,VLOOKUP(AA207,判定式!$F$15:I$19,4,TRUE),IF(C207=10,VLOOKUP(AA207,判定式!$G$15:I$19,3,TRUE),IF(C207=11,VLOOKUP(AA207,判定式!$H$15:I$19,2,TRUE))))))))","v":false}]
[59,null,null,"-",null,null,null,null,null,null,null,null,null,null,null,null,null,null,{"$f":"IF($E208=\"\",\"\",VLOOKUP($E208,判定式!$P$3:$W$12,8,TRUE))","v":""},{"$f":"IF($F208=\"\",\"\",VLOOKUP($F208,判定式!$Q$3:$W$12,7,TRUE))","v":""},{"$f":"IF($G208=\"\",\"\",VLOOKUP($G208,判定式!$R$3:$W$12,6,TRUE))","v":""},{"$f":"IF($H208=\"\",\"\",VLOOKUP($H208,判定式!$S$3:$W$12,5,TRUE))","v":""},{"$f":"IF($I208=\"\",\"\",VLOOKUP($I208,判定式!$V$3:$W$12,2,TRUE))","v":""},{"$f":"IF($J208=\"\",\"\",VLOOKUP($J208,判定式!$Y$3:$Z$12,2,TRUE))","v":""},{"$f":"IF($K208=\"\",\"\",VLOOKUP($K208,判定式!$T$3:$W$12,4,TRUE))","v":""},{"$f":"IF($L208=\"\",\"\",VLOOKUP($L208,判定式!$U$3:$W$12,3,TRUE))","v":""},"",{"$f":"IF(ISNUMBER(D208),\"判定外\",IF(C208=6,VLOOKUP(AA208,判定式!$C$15:I$19,7,TRUE),IF(C208=7,VLOOKUP(AA208,判定式!$D$15:I$19,6,TRUE),IF(C208=8,VLOOKUP(AA208,判定式!$E$15:I$19,5,TRUE),IF(C208=9,VLOOKUP(AA208,判定式!$F$15:I$19,4,TRUE),IF(C208=10,VLOOKUP(AA208,判定式!$G$15:I$19,3,TRUE),IF(C208=11,VLOOKUP(AA208,判定式!$H$15:I$19,2,TRUE))))))))","v":false}]
[60,null,null,"-",null,null,null,null,null,null,null,null,null,null,null,null,null,null,{"$f":"IF($E209=\"\",\"\",VLOOKUP($E209,判定式!$P$3:$W$12,8,TRUE))","v":""},{"$f":"IF($F209=\"\",\"\",VLOOKUP($F209,判定式!$Q$3:$W$12,7,TRUE))","v":""},{"$f":"IF($G209=\"\",\"\",VLOOKUP($G209,判定式!$R$3:$W$12,6,TRUE))","v":""},{"$f":"IF($H209=\"\",\"\",VLOOKUP($H209,判定式!$S$3:$W$12,5,TRUE))","v":""},{"$f":"IF($I209=\"\",\"\",VLOOKUP($I209,判定式!$V$3:$W$12,2,TRUE))","v":""},{"$f":"IF($J209=\"\",\"\",VLOOKUP($J209,判定式!$Y$3:$Z$12,2,TRUE))","v":""},{"$f":"IF($K209=\"\",\"\",VLOOKUP($K209,判定式!$T$3:$W$12,4,TRUE))","v":""},{"$f":"IF($L209=\"\",\"\",VLOOKUP($L209,判定式!$U$3:$W$12,3,TRUE))","v":""},"",{"$f":"IF(ISNUMBER(D209),\"判定外\",IF(C209=6,VLOOKUP(AA209,判定式!$C$15:I$19,7,TRUE),IF(C209=7,VLOOKUP(AA209,判定式!$D$15:I$19,6,TRUE),IF(C209=8,VLOOKUP(AA209,判定式!$E$15:I$19,5,TRUE),IF(C209=9,VLOOKUP(AA209,判定式!$F$15:I$19,4,TRUE),IF(C209=10,VLOOKUP(AA209,判定式!$G$15:I$19,3,TRUE),IF(C209=11,VLOOKUP(AA209,判定式!$H$15:I$19,2,TRUE))))))))","v":false}]
[61,null,null,"-",null,null,null,null,null,null,null,null,null,null,null,null,null,null,{"$f":"IF($E210=\"\",\"\",VLOOKUP($E210,判定式!$P$3:$W$12,8,TRUE))","v":""},{"$f":"IF($F210=\"\",\"\",VLOOKUP($F210,判定式!$Q$3:$W$12,7,TRUE))","v":""},{"$f":"IF($G210=\"\",\"\",VLOOKUP($G210,判定式!$R$3:$W$12,6,TRUE))","v":""},{"$f":"IF($H210=\"\",\"\",VLOOKUP($H210,判定式!$S$3:$W$12,5,TRUE))","v":""},{"$f":"IF($I210=\"\",\"\",VLOOKUP($I210,判定式!$V$3:$W$12,2,TRUE))","v":""},{"$f":"IF($J210=\"\",\"\",VLOOKUP($J210,判定式!$Y$3:$Z$12,2,TRUE))","v":""},{"$f":"IF($K210=\"\",\"\",VLOOKUP($K210,判定式!$T$3:$W$12,4,TRUE))","v":""},{"$f":"IF($L210=\"\",\"\",VLOOKUP($L210,判定式!$U$3:$W$12,3,TRUE))","v":""},"",{"$f":"IF(ISNUMBER(D210),\"判定外\",IF(C210=6,VLOOKUP(AA210,判定式!$C$15:I$19,7,TRUE),IF(C210=7,VLOOKUP(AA210,判定式!$D$15:I$19,6,TRUE),IF(C210=8,VLOOKUP(AA210,判定式!$E$15:I$19,5,TRUE),IF(C210=9,VLOOKUP(AA210,判定式!$F$15:I$19,4,TRUE),IF(C210=10,VLOOKUP(AA210,判定式!$G$15:I$19,3,TRUE),IF(C210=11,VLOOKUP(AA210,判定式!$H$15:I$19,2,TRUE))))))))","v":false}]
[62,null,null,"-",null,null,null,null,null,null,null,null,null,null,null,null,null,null,{"$f":"IF($E211=\"\",\"\",VLOOKUP($E211,判定式!$P$3:$W$12,8,TRUE))","v":""},{"$f":"IF($F211=\"\",\"\",VLOOKUP($F211,判定式!$Q$3:$W$12,7,TRUE))","v":""},{"$f":"IF($G211=\"\",\"\",VLOOKUP($G211,判定式!$R$3:$W$12,6,TRUE))","v":""},{"$f":"IF($H211=\"\",\"\",VLOOKUP($H211,判定式!$S$3:$W$12,5,TRUE))","v":""},{"$f":"IF($I211=\"\",\"\",VLOOKUP($I211,判定式!$V$3:$W$12,2,TRUE))","v":""},{"$f":"IF($J211=\"\",\"\",VLOOKUP($J211,判定式!$Y$3:$Z$12,2,TRUE))","v":""},{"$f":"IF($K211=\"\",\"\",VLOOKUP($K211,判定式!$T$3:$W$12,4,TRUE))","v":""},{"$f":"IF($L211=\"\",\"\",VLOOKUP($L211,判定式!$U$3:$W$12,3,TRUE))","v":""},"",{"$f":"IF(ISNUMBER(D211),\"判定外\",IF(C211=6,VLOOKUP(AA211,判定式!$C$15:I$19,7,TRUE),IF(C211=7,VLOOKUP(AA211,判定式!$D$15:I$19,6,TRUE),IF(C211=8,VLOOKUP(AA211,判定式!$E$15:I$19,5,TRUE),IF(C211=9,VLOOKUP(AA211,判定式!$F$15:I$19,4,TRUE),IF(C211=10,VLOOKUP(AA211,判定式!$G$15:I$19,3,TRUE),IF(C211=11,VLOOKUP(AA211,判定式!$H$15:I$19,2,TRUE))))))))","v":false}]
[63,null,null,"-",null,null,null,null,null,null,null,null,null,null,null,null,null,null,{"$f":"IF($E212=\"\",\"\",VLOOKUP($E212,判定式!$P$3:$W$12,8,TRUE))","v":""},{"$f":"IF($F212=\"\",\"\",VLOOKUP($F212,判定式!$Q$3:$W$12,7,TRUE))","v":""},{"$f":"IF($G212=\"\",\"\",VLOOKUP($G212,判定式!$R$3:$W$12,6,TRUE))","v":""},{"$f":"IF($H212=\"\",\"\",VLOOKUP($H212,判定式!$S$3:$W$12,5,TRUE))","v":""},{"$f":"IF($I212=\"\",\"\",VLOOKUP($I212,判定式!$V$3:$W$12,2,TRUE))","v":""},{"$f":"IF($J212=\"\",\"\",VLOOKUP($J212,判定式!$Y$3:$Z$12,2,TRUE))","v":""},{"$f":"IF($K212=\"\",\"\",VLOOKUP($K212,判定式!$T$3:$W$12,4,TRUE))","v":""},{"$f":"IF($L212=\"\",\"\",VLOOKUP($L212,判定式!$U$3:$W$12,3,TRUE))","v":""},"",{"$f":"IF(ISNUMBER(D212),\"判定外\",IF(C212=6,VLOOKUP(AA212,判定式!$C$15:I$19,7,TRUE),IF(C212=7,VLOOKUP(AA212,判定式!$D$15:I$19,6,TRUE),IF(C212=8,VLOOKUP(AA212,判定式!$E$15:I$19,5,TRUE),IF(C212=9,VLOOKUP(AA212,判定式!$F$15:I$19,4,TRUE),IF(C212=10,VLOOKUP(AA212,判定式!$G$15:I$19,3,TRUE),IF(C212=11,VLOOKUP(AA212,判定式!$H$15:I$19,2,TRUE))))))))","v":false}]
[64,null,null,"-",null,null,null,null,null,null,null,null,null,null,null,null,null,null,{"$f":"IF($E213=\"\",\"\",VLOOKUP($E213,判定式!$P$3:$W$12,8,TRUE))","v":""},{"$f":"IF($F213=\"\",\"\",VLOOKUP($F213,判定式!$Q$3:$W$12,7,TRUE))","v":""},{"$f":"IF($G213=\"\",\"\",VLOOKUP($G213,判定式!$R$3:$W$12,6,TRUE))","v":""},{"$f":"IF($H213=\"\",\"\",VLOOKUP($H213,判定式!$S$3:$W$12,5,TRUE))","v":""},{"$f":"IF($I213=\"\",\"\",VLOOKUP($I213,判定式!$V$3:$W$12,2,TRUE))","v":""},{"$f":"IF($J213=\"\",\"\",VLOOKUP($J213,判定式!$Y$3:$Z$12,2,TRUE))","v":""},{"$f":"IF($K213=\"\",\"\",VLOOKUP($K213,判定式!$T$3:$W$12,4,TRUE))","v":""},{"$f":"IF($L213=\"\",\"\",VLOOKUP($L213,判定式!$U$3:$W$12,3,TRUE))","v":""},"",{"$f":"IF(ISNUMBER(D213),\"判定外\",IF(C213=6,VLOOKUP(AA213,判定式!$C$15:I$19,7,TRUE),IF(C213=7,VLOOKUP(AA213,判定式!$D$15:I$19,6,TRUE),IF(C213=8,VLOOKUP(AA213,判定式!$E$15:I$19,5,TRUE),IF(C213=9,VLOOKUP(AA213,判定式!$F$15:I$19,4,TRUE),IF(C213=10,VLOOKUP(AA213,判定式!$G$15:I$19,3,TRUE),IF(C213=11,VLOOKUP(AA213,判定式!$H$15:I$19,2,TRUE))))))))","v":false}]
[65,null,null,"-",null,null,null,null,null,null,null,null,null,null,null,null,null,null,{"$f":"IF($E214=\"\",\"\",VLOOKUP($E214,判定式!$P$3:$W$12,8,TRUE))","v":""},{"$f":"IF($F214=\"\",\"\",VLOOKUP($F214,判定式!$Q$3:$W$12,7,TRUE))","v":""},{"$f":"IF($G214=\"\",\"\",VLOOKUP($G214,判定式!$R$3:$W$12,6,TRUE))","v":""},{"$f":"IF($H214=\"\",\"\",VLOOKUP($H214,判定式!$S$3:$W$12,5,TRUE))","v":""},{"$f":"IF($I214=\"\",\"\",VLOOKUP($I214,判定式!$V$3:$W$12,2,TRUE))","v":""},{"$f":"IF($J214=\"\",\"\",VLOOKUP($J214,判定式!$Y$3:$Z$12,2,TRUE))","v":""},{"$f":"IF($K214=\"\",\"\",VLOOKUP($K214,判定式!$T$3:$W$12,4,TRUE))","v":""},{"$f":"IF($L214=\"\",\"\",VLOOKUP($L214,判定式!$U$3:$W$12,3,TRUE))","v":""},"",{"$f":"IF(ISNUMBER(D214),\"判定外\",IF(C214=6,VLOOKUP(AA214,判定式!$C$15:I$19,7,TRUE),IF(C214=7,VLOOKUP(AA214,判定式!$D$15:I$19,6,TRUE),IF(C214=8,VLOOKUP(AA214,判定式!$E$15:I$19,5,TRUE),IF(C214=9,VLOOKUP(AA214,判定式!$F$15:I$19,4,TRUE),IF(C214=10,VLOOKUP(AA214,判定式!$G$15:I$19,3,TRUE),IF(C214=11,VLOOKUP(AA214,判定式!$H$15:I$19,2,TRUE))))))))","v":false}]
[66,null,null,{"$f":"IF(COUNTBLANK(E215:L215)=0,\"\",IF(COUNTBLANK(E215:L215)=8,\"-\",COUNTBLANK(E215:L215)))","v":"-"},null,null,null,null,null,null,null,null,null,null,null,null,null,null,{"$f":"IF($E215=\"\",\"\",VLOOKUP($E215,判定式!$P$3:$W$12,8,TRUE))","v":""},{"$f":"IF($F215=\"\",\"\",VLOOKUP($F215,判定式!$Q$3:$W$12,7,TRUE))","v":""},{"$f":"IF($G215=\"\",\"\",VLOOKUP($G215,判定式!$R$3:$W$12,6,TRUE))","v":""},{"$f":"IF($H215=\"\",\"\",VLOOKUP($H215,判定式!$S$3:$W$12,5,TRUE))","v":""},{"$f":"IF($I215=\"\",\"\",VLOOKUP($I215,判定式!$V$3:$W$12,2,TRUE))","v":""},{"$f":"IF($J215=\"\",\"\",VLOOKUP($J215,判定式!$Y$3:$Z$12,2,TRUE))","v":""},{"$f":"IF($K215=\"\",\"\",VLOOKUP($K215,判定式!$T$3:$W$12,4,TRUE))","v":""},{"$f":"IF($L215=\"\",\"\",VLOOKUP($L215,判定式!$U$3:$W$12,3,TRUE))","v":""},{"$f":"IF(COUNTBLANK(S215:Z215)=0,SUM(S215:Z215),\"\")","v":""},{"$f":"IF(ISNUMBER(D215),\"判定外\",IF(C215=6,VLOOKUP(AA215,判定式!$C$15:I$19,7,TRUE),IF(C215=7,VLOOKUP(AA215,判定式!$D$15:I$19,6,TRUE),IF(C215=8,VLOOKUP(AA215,判定式!$E$15:I$19,5,TRUE),IF(C215=9,VLOOKUP(AA215,判定式!$F$15:I$19,4,TRUE),IF(C215=10,VLOOKUP(AA215,判定式!$G$15:I$19,3,TRUE),IF(C215=11,VLOOKUP(AA215,判定式!$H$15:I$19,2,TRUE))))))))","v":false}]
[67,null,null,"-",null,null,null,null,null,null,null,null,null,null,null,null,null,null,{"$f":"IF($E216=\"\",\"\",VLOOKUP($E216,判定式!$P$3:$W$12,8,TRUE))","v":""},{"$f":"IF($F216=\"\",\"\",VLOOKUP($F216,判定式!$Q$3:$W$12,7,TRUE))","v":""},{"$f":"IF($G216=\"\",\"\",VLOOKUP($G216,判定式!$R$3:$W$12,6,TRUE))","v":""},{"$f":"IF($H216=\"\",\"\",VLOOKUP($H216,判定式!$S$3:$W$12,5,TRUE))","v":""},{"$f":"IF($I216=\"\",\"\",VLOOKUP($I216,判定式!$V$3:$W$12,2,TRUE))","v":""},{"$f":"IF($J216=\"\",\"\",VLOOKUP($J216,判定式!$Y$3:$Z$12,2,TRUE))","v":""},{"$f":"IF($K216=\"\",\"\",VLOOKUP($K216,判定式!$T$3:$W$12,4,TRUE))","v":""},{"$f":"IF($L216=\"\",\"\",VLOOKUP($L216,判定式!$U$3:$W$12,3,TRUE))","v":""},"",{"$f":"IF(ISNUMBER(D216),\"判定外\",IF(C216=6,VLOOKUP(AA216,判定式!$C$15:I$19,7,TRUE),IF(C216=7,VLOOKUP(AA216,判定式!$D$15:I$19,6,TRUE),IF(C216=8,VLOOKUP(AA216,判定式!$E$15:I$19,5,TRUE),IF(C216=9,VLOOKUP(AA216,判定式!$F$15:I$19,4,TRUE),IF(C216=10,VLOOKUP(AA216,判定式!$G$15:I$19,3,TRUE),IF(C216=11,VLOOKUP(AA216,判定式!$H$15:I$19,2,TRUE))))))))","v":false}]
[68,null,null,"-",null,null,null,null,null,null,null,null,null,null,null,null,null,null,{"$f":"IF($E217=\"\",\"\",VLOOKUP($E217,判定式!$P$3:$W$12,8,TRUE))","v":""},{"$f":"IF($F217=\"\",\"\",VLOOKUP($F217,判定式!$Q$3:$W$12,7,TRUE))","v":""},{"$f":"IF($G217=\"\",\"\",VLOOKUP($G217,判定式!$R$3:$W$12,6,TRUE))","v":""},{"$f":"IF($H217=\"\",\"\",VLOOKUP($H217,判定式!$S$3:$W$12,5,TRUE))","v":""},{"$f":"IF($I217=\"\",\"\",VLOOKUP($I217,判定式!$V$3:$W$12,2,TRUE))","v":""},{"$f":"IF($J217=\"\",\"\",VLOOKUP($J217,判定式!$Y$3:$Z$12,2,TRUE))","v":""},{"$f":"IF($K217=\"\",\"\",VLOOKUP($K217,判定式!$T$3:$W$12,4,TRUE))","v":""},{"$f":"IF($L217=\"\",\"\",VLOOKUP($L217,判定式!$U$3:$W$12,3,TRUE))","v":""},"",{"$f":"IF(ISNUMBER(D217),\"判定外\",IF(C217=6,VLOOKUP(AA217,判定式!$C$15:I$19,7,TRUE),IF(C217=7,VLOOKUP(AA217,判定式!$D$15:I$19,6,TRUE),IF(C217=8,VLOOKUP(AA217,判定式!$E$15:I$19,5,TRUE),IF(C217=9,VLOOKUP(AA217,判定式!$F$15:I$19,4,TRUE),IF(C217=10,VLOOKUP(AA217,判定式!$G$15:I$19,3,TRUE),IF(C217=11,VLOOKUP(AA217,判定式!$H$15:I$19,2,TRUE))))))))","v":false}]
[69,null,null,"-",null,null,null,null,null,null,null,null,null,null,null,null,null,null,{"$f":"IF($E218=\"\",\"\",VLOOKUP($E218,判定式!$P$3:$W$12,8,TRUE))","v":""},{"$f":"IF($F218=\"\",\"\",VLOOKUP($F218,判定式!$Q$3:$W$12,7,TRUE))","v":""},{"$f":"IF($G218=\"\",\"\",VLOOKUP($G218,判定式!$R$3:$W$12,6,TRUE))","v":""},{"$f":"IF($H218=\"\",\"\",VLOOKUP($H218,判定式!$S$3:$W$12,5,TRUE))","v":""},{"$f":"IF($I218=\"\",\"\",VLOOKUP($I218,判定式!$V$3:$W$12,2,TRUE))","v":""},{"$f":"IF($J218=\"\",\"\",VLOOKUP($J218,判定式!$Y$3:$Z$12,2,TRUE))","v":""},{"$f":"IF($K218=\"\",\"\",VLOOKUP($K218,判定式!$T$3:$W$12,4,TRUE))","v":""},{"$f":"IF($L218=\"\",\"\",VLOOKUP($L218,判定式!$U$3:$W$12,3,TRUE))","v":""},"",{"$f":"IF(ISNUMBER(D218),\"判定外\",IF(C218=6,VLOOKUP(AA218,判定式!$C$15:I$19,7,TRUE),IF(C218=7,VLOOKUP(AA218,判定式!$D$15:I$19,6,TRUE),IF(C218=8,VLOOKUP(AA218,判定式!$E$15:I$19,5,TRUE),IF(C218=9,VLOOKUP(AA218,判定式!$F$15:I$19,4,TRUE),IF(C218=10,VLOOKUP(AA218,判定式!$G$15:I$19,3,TRUE),IF(C218=11,VLOOKUP(AA218,判定式!$H$15:I$19,2,TRUE))))))))","v":false}]
[70,null,null,"-",null,null,null,null,null,null,null,null,null,null,null,null,null,null,{"$f":"IF($E219=\"\",\"\",VLOOKUP($E219,判定式!$P$3:$W$12,8,TRUE))","v":""},{"$f":"IF($F219=\"\",\"\",VLOOKUP($F219,判定式!$Q$3:$W$12,7,TRUE))","v":""},{"$f":"IF($G219=\"\",\"\",VLOOKUP($G219,判定式!$R$3:$W$12,6,TRUE))","v":""},{"$f":"IF($H219=\"\",\"\",VLOOKUP($H219,判定式!$S$3:$W$12,5,TRUE))","v":""},{"$f":"IF($I219=\"\",\"\",VLOOKUP($I219,判定式!$V$3:$W$12,2,TRUE))","v":""},{"$f":"IF($J219=\"\",\"\",VLOOKUP($J219,判定式!$Y$3:$Z$12,2,TRUE))","v":""},{"$f":"IF($K219=\"\",\"\",VLOOKUP($K219,判定式!$T$3:$W$12,4,TRUE))","v":""},{"$f":"IF($L219=\"\",\"\",VLOOKUP($L219,判定式!$U$3:$W$12,3,TRUE))","v":""},"",{"$f":"IF(ISNUMBER(D219),\"判定外\",IF(C219=6,VLOOKUP(AA219,判定式!$C$15:I$19,7,TRUE),IF(C219=7,VLOOKUP(AA219,判定式!$D$15:I$19,6,TRUE),IF(C219=8,VLOOKUP(AA219,判定式!$E$15:I$19,5,TRUE),IF(C219=9,VLOOKUP(AA219,判定式!$F$15:I$19,4,TRUE),IF(C219=10,VLOOKUP(AA219,判定式!$G$15:I$19,3,TRUE),IF(C219=11,VLOOKUP(AA219,判定式!$H$15:I$19,2,TRUE))))))))","v":false}]
[71,null,null,"-",null,null,null,null,null,null,null,null,null,null,null,null,null,null,{"$f":"IF($E220=\"\",\"\",VLOOKUP($E220,判定式!$P$3:$W$12,8,TRUE))","v":""},{"$f":"IF($F220=\"\",\"\",VLOOKUP($F220,判定式!$Q$3:$W$12,7,TRUE))","v":""},{"$f":"IF($G220=\"\",\"\",VLOOKUP($G220,判定式!$R$3:$W$12,6,TRUE))","v":""},{"$f":"IF($H220=\"\",\"\",VLOOKUP($H220,判定式!$S$3:$W$12,5,TRUE))","v":""},{"$f":"IF($I220=\"\",\"\",VLOOKUP($I220,判定式!$V$3:$W$12,2,TRUE))","v":""},{"$f":"IF($J220=\"\",\"\",VLOOKUP($J220,判定式!$Y$3:$Z$12,2,TRUE))","v":""},{"$f":"IF($K220=\"\",\"\",VLOOKUP($K220,判定式!$T$3:$W$12,4,TRUE))","v":""},{"$f":"IF($L220=\"\",\"\",VLOOKUP($L220,判定式!$U$3:$W$12,3,TRUE))","v":""},"",{"$f":"IF(ISNUMBER(D220),\"判定外\",IF(C220=6,VLOOKUP(AA220,判定式!$C$15:I$19,7,TRUE),IF(C220=7,VLOOKUP(AA220,判定式!$D$15:I$19,6,TRUE),IF(C220=8,VLOOKUP(AA220,判定式!$E$15:I$19,5,TRUE),IF(C220=9,VLOOKUP(AA220,判定式!$F$15:I$19,4,TRUE),IF(C220=10,VLOOKUP(AA220,判定式!$G$15:I$19,3,TRUE),IF(C220=11,VLOOKUP(AA220,判定式!$H$15:I$19,2,TRUE))))))))","v":false}]
[72,null,null,"-",null,null,null,null,null,null,null,null,null,null,null,null,null,null,{"$f":"IF($E221=\"\",\"\",VLOOKUP($E221,判定式!$P$3:$W$12,8,TRUE))","v":""},{"$f":"IF($F221=\"\",\"\",VLOOKUP($F221,判定式!$Q$3:$W$12,7,TRUE))","v":""},{"$f":"IF($G221=\"\",\"\",VLOOKUP($G221,判定式!$R$3:$W$12,6,TRUE))","v":""},{"$f":"IF($H221=\"\",\"\",VLOOKUP($H221,判定式!$S$3:$W$12,5,TRUE))","v":""},{"$f":"IF($I221=\"\",\"\",VLOOKUP($I221,判定式!$V$3:$W$12,2,TRUE))","v":""},{"$f":"IF($J221=\"\",\"\",VLOOKUP($J221,判定式!$Y$3:$Z$12,2,TRUE))","v":""},{"$f":"IF($K221=\"\",\"\",VLOOKUP($K221,判定式!$T$3:$W$12,4,TRUE))","v":""},{"$f":"IF($L221=\"\",\"\",VLOOKUP($L221,判定式!$U$3:$W$12,3,TRUE))","v":""},"",{"$f":"IF(ISNUMBER(D221),\"判定外\",IF(C221=6,VLOOKUP(AA221,判定式!$C$15:I$19,7,TRUE),IF(C221=7,VLOOKUP(AA221,判定式!$D$15:I$19,6,TRUE),IF(C221=8,VLOOKUP(AA221,判定式!$E$15:I$19,5,TRUE),IF(C221=9,VLOOKUP(AA221,判定式!$F$15:I$19,4,TRUE),IF(C221=10,VLOOKUP(AA221,判定式!$G$15:I$19,3,TRUE),IF(C221=11,VLOOKUP(AA221,判定式!$H$15:I$19,2,TRUE))))))))","v":false}]
[73,null,null,"-",null,null,null,null,null,null,null,null,null,null,null,null,null,null,{"$f":"IF($E222=\"\",\"\",VLOOKUP($E222,判定式!$P$3:$W$12,8,TRUE))","v":""},{"$f":"IF($F222=\"\",\"\",VLOOKUP($F222,判定式!$Q$3:$W$12,7,TRUE))","v":""},{"$f":"IF($G222=\"\",\"\",VLOOKUP($G222,判定式!$R$3:$W$12,6,TRUE))","v":""},{"$f":"IF($H222=\"\",\"\",VLOOKUP($H222,判定式!$S$3:$W$12,5,TRUE))","v":""},{"$f":"IF($I222=\"\",\"\",VLOOKUP($I222,判定式!$V$3:$W$12,2,TRUE))","v":""},{"$f":"IF($J222=\"\",\"\",VLOOKUP($J222,判定式!$Y$3:$Z$12,2,TRUE))","v":""},{"$f":"IF($K222=\"\",\"\",VLOOKUP($K222,判定式!$T$3:$W$12,4,TRUE))","v":""},{"$f":"IF($L222=\"\",\"\",VLOOKUP($L222,判定式!$U$3:$W$12,3,TRUE))","v":""},"",{"$f":"IF(ISNUMBER(D222),\"判定外\",IF(C222=6,VLOOKUP(AA222,判定式!$C$15:I$19,7,TRUE),IF(C222=7,VLOOKUP(AA222,判定式!$D$15:I$19,6,TRUE),IF(C222=8,VLOOKUP(AA222,判定式!$E$15:I$19,5,TRUE),IF(C222=9,VLOOKUP(AA222,判定式!$F$15:I$19,4,TRUE),IF(C222=10,VLOOKUP(AA222,判定式!$G$15:I$19,3,TRUE),IF(C222=11,VLOOKUP(AA222,判定式!$H$15:I$19,2,TRUE))))))))","v":false}]
[74,null,null,"-",null,null,null,null,null,null,null,null,null,null,null,null,null,null,{"$f":"IF($E223=\"\",\"\",VLOOKUP($E223,判定式!$P$3:$W$12,8,TRUE))","v":""},{"$f":"IF($F223=\"\",\"\",VLOOKUP($F223,判定式!$Q$3:$W$12,7,TRUE))","v":""},{"$f":"IF($G223=\"\",\"\",VLOOKUP($G223,判定式!$R$3:$W$12,6,TRUE))","v":""},{"$f":"IF($H223=\"\",\"\",VLOOKUP($H223,判定式!$S$3:$W$12,5,TRUE))","v":""},{"$f":"IF($I223=\"\",\"\",VLOOKUP($I223,判定式!$V$3:$W$12,2,TRUE))","v":""},{"$f":"IF($J223=\"\",\"\",VLOOKUP($J223,判定式!$Y$3:$Z$12,2,TRUE))","v":""},{"$f":"IF($K223=\"\",\"\",VLOOKUP($K223,判定式!$T$3:$W$12,4,TRUE))","v":""},{"$f":"IF($L223=\"\",\"\",VLOOKUP($L223,判定式!$U$3:$W$12,3,TRUE))","v":""},"",{"$f":"IF(ISNUMBER(D223),\"判定外\",IF(C223=6,VLOOKUP(AA223,判定式!$C$15:I$19,7,TRUE),IF(C223=7,VLOOKUP(AA223,判定式!$D$15:I$19,6,TRUE),IF(C223=8,VLOOKUP(AA223,判定式!$E$15:I$19,5,TRUE),IF(C223=9,VLOOKUP(AA223,判定式!$F$15:I$19,4,TRUE),IF(C223=10,VLOOKUP(AA223,判定式!$G$15:I$19,3,TRUE),IF(C223=11,VLOOKUP(AA223,判定式!$H$15:I$19,2,TRUE))))))))","v":false}]
[75,null,null,"-",null,null,null,null,null,null,null,null,null,null,null,null,null,null,{"$f":"IF($E224=\"\",\"\",VLOOKUP($E224,判定式!$P$3:$W$12,8,TRUE))","v":""},{"$f":"IF($F224=\"\",\"\",VLOOKUP($F224,判定式!$Q$3:$W$12,7,TRUE))","v":""},{"$f":"IF($G224=\"\",\"\",VLOOKUP($G224,判定式!$R$3:$W$12,6,TRUE))","v":""},{"$f":"IF($H224=\"\",\"\",VLOOKUP($H224,判定式!$S$3:$W$12,5,TRUE))","v":""},{"$f":"IF($I224=\"\",\"\",VLOOKUP($I224,判定式!$V$3:$W$12,2,TRUE))","v":""},{"$f":"IF($J224=\"\",\"\",VLOOKUP($J224,判定式!$Y$3:$Z$12,2,TRUE))","v":""},{"$f":"IF($K224=\"\",\"\",VLOOKUP($K224,判定式!$T$3:$W$12,4,TRUE))","v":""},{"$f":"IF($L224=\"\",\"\",VLOOKUP($L224,判定式!$U$3:$W$12,3,TRUE))","v":""},"",{"$f":"IF(ISNUMBER(D224),\"判定外\",IF(C224=6,VLOOKUP(AA224,判定式!$C$15:I$19,7,TRUE),IF(C224=7,VLOOKUP(AA224,判定式!$D$15:I$19,6,TRUE),IF(C224=8,VLOOKUP(AA224,判定式!$E$15:I$19,5,TRUE),IF(C224=9,VLOOKUP(AA224,判定式!$F$15:I$19,4,TRUE),IF(C224=10,VLOOKUP(AA224,判定式!$G$15:I$19,3,TRUE),IF(C224=11,VLOOKUP(AA224,判定式!$H$15:I$19,2,TRUE))))))))","v":false}]
[76,null,null,"-",null,null,null,null,null,null,null,null,null,null,null,null,null,null,{"$f":"IF($E225=\"\",\"\",VLOOKUP($E225,判定式!$P$3:$W$12,8,TRUE))","v":""},{"$f":"IF($F225=\"\",\"\",VLOOKUP($F225,判定式!$Q$3:$W$12,7,TRUE))","v":""},{"$f":"IF($G225=\"\",\"\",VLOOKUP($G225,判定式!$R$3:$W$12,6,TRUE))","v":""},{"$f":"IF($H225=\"\",\"\",VLOOKUP($H225,判定式!$S$3:$W$12,5,TRUE))","v":""},{"$f":"IF($I225=\"\",\"\",VLOOKUP($I225,判定式!$V$3:$W$12,2,TRUE))","v":""},{"$f":"IF($J225=\"\",\"\",VLOOKUP($J225,判定式!$Y$3:$Z$12,2,TRUE))","v":""},{"$f":"IF($K225=\"\",\"\",VLOOKUP($K225,判定式!$T$3:$W$12,4,TRUE))","v":""},{"$f":"IF($L225=\"\",\"\",VLOOKUP($L225,判定式!$U$3:$W$12,3,TRUE))","v":""},"",{"$f":"IF(ISNUMBER(D225),\"判定外\",IF(C225=6,VLOOKUP(AA225,判定式!$C$15:I$19,7,TRUE),IF(C225=7,VLOOKUP(AA225,判定式!$D$15:I$19,6,TRUE),IF(C225=8,VLOOKUP(AA225,判定式!$E$15:I$19,5,TRUE),IF(C225=9,VLOOKUP(AA225,判定式!$F$15:I$19,4,TRUE),IF(C225=10,VLOOKUP(AA225,判定式!$G$15:I$19,3,TRUE),IF(C225=11,VLOOKUP(AA225,判定式!$H$15:I$19,2,TRUE))))))))","v":false}]
[77,null,null,"-",null,null,null,null,null,null,null,null,null,null,null,null,null,null,{"$f":"IF($E226=\"\",\"\",VLOOKUP($E226,判定式!$P$3:$W$12,8,TRUE))","v":""},{"$f":"IF($F226=\"\",\"\",VLOOKUP($F226,判定式!$Q$3:$W$12,7,TRUE))","v":""},{"$f":"IF($G226=\"\",\"\",VLOOKUP($G226,判定式!$R$3:$W$12,6,TRUE))","v":""},{"$f":"IF($H226=\"\",\"\",VLOOKUP($H226,判定式!$S$3:$W$12,5,TRUE))","v":""},{"$f":"IF($I226=\"\",\"\",VLOOKUP($I226,判定式!$V$3:$W$12,2,TRUE))","v":""},{"$f":"IF($J226=\"\",\"\",VLOOKUP($J226,判定式!$Y$3:$Z$12,2,TRUE))","v":""},{"$f":"IF($K226=\"\",\"\",VLOOKUP($K226,判定式!$T$3:$W$12,4,TRUE))","v":""},{"$f":"IF($L226=\"\",\"\",VLOOKUP($L226,判定式!$U$3:$W$12,3,TRUE))","v":""},"",{"$f":"IF(ISNUMBER(D226),\"判定外\",IF(C226=6,VLOOKUP(AA226,判定式!$C$15:I$19,7,TRUE),IF(C226=7,VLOOKUP(AA226,判定式!$D$15:I$19,6,TRUE),IF(C226=8,VLOOKUP(AA226,判定式!$E$15:I$19,5,TRUE),IF(C226=9,VLOOKUP(AA226,判定式!$F$15:I$19,4,TRUE),IF(C226=10,VLOOKUP(AA226,判定式!$G$15:I$19,3,TRUE),IF(C226=11,VLOOKUP(AA226,判定式!$H$15:I$19,2,TRUE))))))))","v":false}]
[78,null,null,"-",null,null,null,null,null,null,null,null,null,null,null,null,null,null,{"$f":"IF($E227=\"\",\"\",VLOOKUP($E227,判定式!$P$3:$W$12,8,TRUE))","v":""},{"$f":"IF($F227=\"\",\"\",VLOOKUP($F227,判定式!$Q$3:$W$12,7,TRUE))","v":""},{"$f":"IF($G227=\"\",\"\",VLOOKUP($G227,判定式!$R$3:$W$12,6,TRUE))","v":""},{"$f":"IF($H227=\"\",\"\",VLOOKUP($H227,判定式!$S$3:$W$12,5,TRUE))","v":""},{"$f":"IF($I227=\"\",\"\",VLOOKUP($I227,判定式!$V$3:$W$12,2,TRUE))","v":""},{"$f":"IF($J227=\"\",\"\",VLOOKUP($J227,判定式!$Y$3:$Z$12,2,TRUE))","v":""},{"$f":"IF($K227=\"\",\"\",VLOOKUP($K227,判定式!$T$3:$W$12,4,TRUE))","v":""},{"$f":"IF($L227=\"\",\"\",VLOOKUP($L227,判定式!$U$3:$W$12,3,TRUE))","v":""},"",{"$f":"IF(ISNUMBER(D227),\"判定外\",IF(C227=6,VLOOKUP(AA227,判定式!$C$15:I$19,7,TRUE),IF(C227=7,VLOOKUP(AA227,判定式!$D$15:I$19,6,TRUE),IF(C227=8,VLOOKUP(AA227,判定式!$E$15:I$19,5,TRUE),IF(C227=9,VLOOKUP(AA227,判定式!$F$15:I$19,4,TRUE),IF(C227=10,VLOOKUP(AA227,判定式!$G$15:I$19,3,TRUE),IF(C227=11,VLOOKUP(AA227,判定式!$H$15:I$19,2,TRUE))))))))","v":false}]
[79,null,null,"-",null,null,null,null,null,null,null,null,null,null,null,null,null,null,{"$f":"IF($E228=\"\",\"\",VLOOKUP($E228,判定式!$P$3:$W$12,8,TRUE))","v":""},{"$f":"IF($F228=\"\",\"\",VLOOKUP($F228,判定式!$Q$3:$W$12,7,TRUE))","v":""},{"$f":"IF($G228=\"\",\"\",VLOOKUP($G228,判定式!$R$3:$W$12,6,TRUE))","v":""},{"$f":"IF($H228=\"\",\"\",VLOOKUP($H228,判定式!$S$3:$W$12,5,TRUE))","v":""},{"$f":"IF($I228=\"\",\"\",VLOOKUP($I228,判定式!$V$3:$W$12,2,TRUE))","v":""},{"$f":"IF($J228=\"\",\"\",VLOOKUP($J228,判定式!$Y$3:$Z$12,2,TRUE))","v":""},{"$f":"IF($K228=\"\",\"\",VLOOKUP($K228,判定式!$T$3:$W$12,4,TRUE))","v":""},{"$f":"IF($L228=\"\",\"\",VLOOKUP($L228,判定式!$U$3:$W$12,3,TRUE))","v":""},"",{"$f":"IF(ISNUMBER(D228),\"判定外\",IF(C228=6,VLOOKUP(AA228,判定式!$C$15:I$19,7,TRUE),IF(C228=7,VLOOKUP(AA228,判定式!$D$15:I$19,6,TRUE),IF(C228=8,VLOOKUP(AA228,判定式!$E$15:I$19,5,TRUE),IF(C228=9,VLOOKUP(AA228,判定式!$F$15:I$19,4,TRUE),IF(C228=10,VLOOKUP(AA228,判定式!$G$15:I$19,3,TRUE),IF(C228=11,VLOOKUP(AA228,判定式!$H$15:I$19,2,TRUE))))))))","v":false}]
[80,null,null,"-",null,null,null,null,null,null,null,null,null,null,null,null,null,null,{"$f":"IF($E229=\"\",\"\",VLOOKUP($E229,判定式!$P$3:$W$12,8,TRUE))","v":""},{"$f":"IF($F229=\"\",\"\",VLOOKUP($F229,判定式!$Q$3:$W$12,7,TRUE))","v":""},{"$f":"IF($G229=\"\",\"\",VLOOKUP($G229,判定式!$R$3:$W$12,6,TRUE))","v":""},{"$f":"IF($H229=\"\",\"\",VLOOKUP($H229,判定式!$S$3:$W$12,5,TRUE))","v":""},{"$f":"IF($I229=\"\",\"\",VLOOKUP($I229,判定式!$V$3:$W$12,2,TRUE))","v":""},{"$f":"IF($J229=\"\",\"\",VLOOKUP($J229,判定式!$Y$3:$Z$12,2,TRUE))","v":""},{"$f":"IF($K229=\"\",\"\",VLOOKUP($K229,判定式!$T$3:$W$12,4,TRUE))","v":""},{"$f":"IF($L229=\"\",\"\",VLOOKUP($L229,判定式!$U$3:$W$12,3,TRUE))","v":""},"",{"$f":"IF(ISNUMBER(D229),\"判定外\",IF(C229=6,VLOOKUP(AA229,判定式!$C$15:I$19,7,TRUE),IF(C229=7,VLOOKUP(AA229,判定式!$D$15:I$19,6,TRUE),IF(C229=8,VLOOKUP(AA229,判定式!$E$15:I$19,5,TRUE),IF(C229=9,VLOOKUP(AA229,判定式!$F$15:I$19,4,TRUE),IF(C229=10,VLOOKUP(AA229,判定式!$G$15:I$19,3,TRUE),IF(C229=11,VLOOKUP(AA229,判定式!$H$15:I$19,2,TRUE))))))))","v":false}]
[81,null,null,"-",null,null,null,null,null,null,null,null,null,null,null,null,null,null,{"$f":"IF($E230=\"\",\"\",VLOOKUP($E230,判定式!$P$3:$W$12,8,TRUE))","v":""},{"$f":"IF($F230=\"\",\"\",VLOOKUP($F230,判定式!$Q$3:$W$12,7,TRUE))","v":""},{"$f":"IF($G230=\"\",\"\",VLOOKUP($G230,判定式!$R$3:$W$12,6,TRUE))","v":""},{"$f":"IF($H230=\"\",\"\",VLOOKUP($H230,判定式!$S$3:$W$12,5,TRUE))","v":""},{"$f":"IF($I230=\"\",\"\",VLOOKUP($I230,判定式!$V$3:$W$12,2,TRUE))","v":""},{"$f":"IF($J230=\"\",\"\",VLOOKUP($J230,判定式!$Y$3:$Z$12,2,TRUE))","v":""},{"$f":"IF($K230=\"\",\"\",VLOOKUP($K230,判定式!$T$3:$W$12,4,TRUE))","v":""},{"$f":"IF($L230=\"\",\"\",VLOOKUP($L230,判定式!$U$3:$W$12,3,TRUE))","v":""},"",{"$f":"IF(ISNUMBER(D230),\"判定外\",IF(C230=6,VLOOKUP(AA230,判定式!$C$15:I$19,7,TRUE),IF(C230=7,VLOOKUP(AA230,判定式!$D$15:I$19,6,TRUE),IF(C230=8,VLOOKUP(AA230,判定式!$E$15:I$19,5,TRUE),IF(C230=9,VLOOKUP(AA230,判定式!$F$15:I$19,4,TRUE),IF(C230=10,VLOOKUP(AA230,判定式!$G$15:I$19,3,TRUE),IF(C230=11,VLOOKUP(AA230,判定式!$H$15:I$19,2,TRUE))))))))","v":false}]
[82,null,null,"-",null,null,null,null,null,null,null,null,null,null,null,null,null,null,{"$f":"IF($E231=\"\",\"\",VLOOKUP($E231,判定式!$P$3:$W$12,8,TRUE))","v":""},{"$f":"IF($F231=\"\",\"\",VLOOKUP($F231,判定式!$Q$3:$W$12,7,TRUE))","v":""},{"$f":"IF($G231=\"\",\"\",VLOOKUP($G231,判定式!$R$3:$W$12,6,TRUE))","v":""},{"$f":"IF($H231=\"\",\"\",VLOOKUP($H231,判定式!$S$3:$W$12,5,TRUE))","v":""},{"$f":"IF($I231=\"\",\"\",VLOOKUP($I231,判定式!$V$3:$W$12,2,TRUE))","v":""},{"$f":"IF($J231=\"\",\"\",VLOOKUP($J231,判定式!$Y$3:$Z$12,2,TRUE))","v":""},{"$f":"IF($K231=\"\",\"\",VLOOKUP($K231,判定式!$T$3:$W$12,4,TRUE))","v":""},{"$f":"IF($L231=\"\",\"\",VLOOKUP($L231,判定式!$U$3:$W$12,3,TRUE))","v":""},"",{"$f":"IF(ISNUMBER(D231),\"判定外\",IF(C231=6,VLOOKUP(AA231,判定式!$C$15:I$19,7,TRUE),IF(C231=7,VLOOKUP(AA231,判定式!$D$15:I$19,6,TRUE),IF(C231=8,VLOOKUP(AA231,判定式!$E$15:I$19,5,TRUE),IF(C231=9,VLOOKUP(AA231,判定式!$F$15:I$19,4,TRUE),IF(C231=10,VLOOKUP(AA231,判定式!$G$15:I$19,3,TRUE),IF(C231=11,VLOOKUP(AA231,判定式!$H$15:I$19,2,TRUE))))))))","v":false}]
[83,null,null,"-",null,null,null,null,null,null,null,null,null,null,null,null,null,null,{"$f":"IF($E232=\"\",\"\",VLOOKUP($E232,判定式!$P$3:$W$12,8,TRUE))","v":""},{"$f":"IF($F232=\"\",\"\",VLOOKUP($F232,判定式!$Q$3:$W$12,7,TRUE))","v":""},{"$f":"IF($G232=\"\",\"\",VLOOKUP($G232,判定式!$R$3:$W$12,6,TRUE))","v":""},{"$f":"IF($H232=\"\",\"\",VLOOKUP($H232,判定式!$S$3:$W$12,5,TRUE))","v":""},{"$f":"IF($I232=\"\",\"\",VLOOKUP($I232,判定式!$V$3:$W$12,2,TRUE))","v":""},{"$f":"IF($J232=\"\",\"\",VLOOKUP($J232,判定式!$Y$3:$Z$12,2,TRUE))","v":""},{"$f":"IF($K232=\"\",\"\",VLOOKUP($K232,判定式!$T$3:$W$12,4,TRUE))","v":""},{"$f":"IF($L232=\"\",\"\",VLOOKUP($L232,判定式!$U$3:$W$12,3,TRUE))","v":""},"",{"$f":"IF(ISNUMBER(D232),\"判定外\",IF(C232=6,VLOOKUP(AA232,判定式!$C$15:I$19,7,TRUE),IF(C232=7,VLOOKUP(AA232,判定式!$D$15:I$19,6,TRUE),IF(C232=8,VLOOKUP(AA232,判定式!$E$15:I$19,5,TRUE),IF(C232=9,VLOOKUP(AA232,判定式!$F$15:I$19,4,TRUE),IF(C232=10,VLOOKUP(AA232,判定式!$G$15:I$19,3,TRUE),IF(C232=11,VLOOKUP(AA232,判定式!$H$15:I$19,2,TRUE))))))))","v":false}]
[84,null,null,"-",null,null,null,null,null,null,null,null,null,null,null,null,null,null,{"$f":"IF($E233=\"\",\"\",VLOOKUP($E233,判定式!$P$3:$W$12,8,TRUE))","v":""},{"$f":"IF($F233=\"\",\"\",VLOOKUP($F233,判定式!$Q$3:$W$12,7,TRUE))","v":""},{"$f":"IF($G233=\"\",\"\",VLOOKUP($G233,判定式!$R$3:$W$12,6,TRUE))","v":""},{"$f":"IF($H233=\"\",\"\",VLOOKUP($H233,判定式!$S$3:$W$12,5,TRUE))","v":""},{"$f":"IF($I233=\"\",\"\",VLOOKUP($I233,判定式!$V$3:$W$12,2,TRUE))","v":""},{"$f":"IF($J233=\"\",\"\",VLOOKUP($J233,判定式!$Y$3:$Z$12,2,TRUE))","v":""},{"$f":"IF($K233=\"\",\"\",VLOOKUP($K233,判定式!$T$3:$W$12,4,TRUE))","v":""},{"$f":"IF($L233=\"\",\"\",VLOOKUP($L233,判定式!$U$3:$W$12,3,TRUE))","v":""},"",{"$f":"IF(ISNUMBER(D233),\"判定外\",IF(C233=6,VLOOKUP(AA233,判定式!$C$15:I$19,7,TRUE),IF(C233=7,VLOOKUP(AA233,判定式!$D$15:I$19,6,TRUE),IF(C233=8,VLOOKUP(AA233,判定式!$E$15:I$19,5,TRUE),IF(C233=9,VLOOKUP(AA233,判定式!$F$15:I$19,4,TRUE),IF(C233=10,VLOOKUP(AA233,判定式!$G$15:I$19,3,TRUE),IF(C233=11,VLOOKUP(AA233,判定式!$H$15:I$19,2,TRUE))))))))","v":false}]
[85,null,null,"-",null,null,null,null,null,null,null,null,null,null,null,null,null,null,{"$f":"IF($E234=\"\",\"\",VLOOKUP($E234,判定式!$P$3:$W$12,8,TRUE))","v":""},{"$f":"IF($F234=\"\",\"\",VLOOKUP($F234,判定式!$Q$3:$W$12,7,TRUE))","v":""},{"$f":"IF($G234=\"\",\"\",VLOOKUP($G234,判定式!$R$3:$W$12,6,TRUE))","v":""},{"$f":"IF($H234=\"\",\"\",VLOOKUP($H234,判定式!$S$3:$W$12,5,TRUE))","v":""},{"$f":"IF($I234=\"\",\"\",VLOOKUP($I234,判定式!$V$3:$W$12,2,TRUE))","v":""},{"$f":"IF($J234=\"\",\"\",VLOOKUP($J234,判定式!$Y$3:$Z$12,2,TRUE))","v":""},{"$f":"IF($K234=\"\",\"\",VLOOKUP($K234,判定式!$T$3:$W$12,4,TRUE))","v":""},{"$f":"IF($L234=\"\",\"\",VLOOKUP($L234,判定式!$U$3:$W$12,3,TRUE))","v":""},"",{"$f":"IF(ISNUMBER(D234),\"判定外\",IF(C234=6,VLOOKUP(AA234,判定式!$C$15:I$19,7,TRUE),IF(C234=7,VLOOKUP(AA234,判定式!$D$15:I$19,6,TRUE),IF(C234=8,VLOOKUP(AA234,判定式!$E$15:I$19,5,TRUE),IF(C234=9,VLOOKUP(AA234,判定式!$F$15:I$19,4,TRUE),IF(C234=10,VLOOKUP(AA234,判定式!$G$15:I$19,3,TRUE),IF(C234=11,VLOOKUP(AA234,判定式!$H$15:I$19,2,TRUE))))))))","v":false}]
[86,null,null,"-",null,null,null,null,null,null,null,null,null,null,null,null,null,null,{"$f":"IF($E235=\"\",\"\",VLOOKUP($E235,判定式!$P$3:$W$12,8,TRUE))","v":""},{"$f":"IF($F235=\"\",\"\",VLOOKUP($F235,判定式!$Q$3:$W$12,7,TRUE))","v":""},{"$f":"IF($G235=\"\",\"\",VLOOKUP($G235,判定式!$R$3:$W$12,6,TRUE))","v":""},{"$f":"IF($H235=\"\",\"\",VLOOKUP($H235,判定式!$S$3:$W$12,5,TRUE))","v":""},{"$f":"IF($I235=\"\",\"\",VLOOKUP($I235,判定式!$V$3:$W$12,2,TRUE))","v":""},{"$f":"IF($J235=\"\",\"\",VLOOKUP($J235,判定式!$Y$3:$Z$12,2,TRUE))","v":""},{"$f":"IF($K235=\"\",\"\",VLOOKUP($K235,判定式!$T$3:$W$12,4,TRUE))","v":""},{"$f":"IF($L235=\"\",\"\",VLOOKUP($L235,判定式!$U$3:$W$12,3,TRUE))","v":""},"",{"$f":"IF(ISNUMBER(D235),\"判定外\",IF(C235=6,VLOOKUP(AA235,判定式!$C$15:I$19,7,TRUE),IF(C235=7,VLOOKUP(AA235,判定式!$D$15:I$19,6,TRUE),IF(C235=8,VLOOKUP(AA235,判定式!$E$15:I$19,5,TRUE),IF(C235=9,VLOOKUP(AA235,判定式!$F$15:I$19,4,TRUE),IF(C235=10,VLOOKUP(AA235,判定式!$G$15:I$19,3,TRUE),IF(C235=11,VLOOKUP(AA235,判定式!$H$15:I$19,2,TRUE))))))))","v":false}]
[87,null,null,"-",null,null,null,null,null,null,null,null,null,null,null,null,null,null,{"$f":"IF($E236=\"\",\"\",VLOOKUP($E236,判定式!$P$3:$W$12,8,TRUE))","v":""},{"$f":"IF($F236=\"\",\"\",VLOOKUP($F236,判定式!$Q$3:$W$12,7,TRUE))","v":""},{"$f":"IF($G236=\"\",\"\",VLOOKUP($G236,判定式!$R$3:$W$12,6,TRUE))","v":""},{"$f":"IF($H236=\"\",\"\",VLOOKUP($H236,判定式!$S$3:$W$12,5,TRUE))","v":""},{"$f":"IF($I236=\"\",\"\",VLOOKUP($I236,判定式!$V$3:$W$12,2,TRUE))","v":""},{"$f":"IF($J236=\"\",\"\",VLOOKUP($J236,判定式!$Y$3:$Z$12,2,TRUE))","v":""},{"$f":"IF($K236=\"\",\"\",VLOOKUP($K236,判定式!$T$3:$W$12,4,TRUE))","v":""},{"$f":"IF($L236=\"\",\"\",VLOOKUP($L236,判定式!$U$3:$W$12,3,TRUE))","v":""},"",{"$f":"IF(ISNUMBER(D236),\"判定外\",IF(C236=6,VLOOKUP(AA236,判定式!$C$15:I$19,7,TRUE),IF(C236=7,VLOOKUP(AA236,判定式!$D$15:I$19,6,TRUE),IF(C236=8,VLOOKUP(AA236,判定式!$E$15:I$19,5,TRUE),IF(C236=9,VLOOKUP(AA236,判定式!$F$15:I$19,4,TRUE),IF(C236=10,VLOOKUP(AA236,判定式!$G$15:I$19,3,TRUE),IF(C236=11,VLOOKUP(AA236,判定式!$H$15:I$19,2,TRUE))))))))","v":false}]
[88,null,null,"-",null,null,null,null,null,null,null,null,null,null,null,null,null,null,{"$f":"IF($E237=\"\",\"\",VLOOKUP($E237,判定式!$P$3:$W$12,8,TRUE))","v":""},{"$f":"IF($F237=\"\",\"\",VLOOKUP($F237,判定式!$Q$3:$W$12,7,TRUE))","v":""},{"$f":"IF($G237=\"\",\"\",VLOOKUP($G237,判定式!$R$3:$W$12,6,TRUE))","v":""},{"$f":"IF($H237=\"\",\"\",VLOOKUP($H237,判定式!$S$3:$W$12,5,TRUE))","v":""},{"$f":"IF($I237=\"\",\"\",VLOOKUP($I237,判定式!$V$3:$W$12,2,TRUE))","v":""},{"$f":"IF($J237=\"\",\"\",VLOOKUP($J237,判定式!$Y$3:$Z$12,2,TRUE))","v":""},{"$f":"IF($K237=\"\",\"\",VLOOKUP($K237,判定式!$T$3:$W$12,4,TRUE))","v":""},{"$f":"IF($L237=\"\",\"\",VLOOKUP($L237,判定式!$U$3:$W$12,3,TRUE))","v":""},"",{"$f":"IF(ISNUMBER(D237),\"判定外\",IF(C237=6,VLOOKUP(AA237,判定式!$C$15:I$19,7,TRUE),IF(C237=7,VLOOKUP(AA237,判定式!$D$15:I$19,6,TRUE),IF(C237=8,VLOOKUP(AA237,判定式!$E$15:I$19,5,TRUE),IF(C237=9,VLOOKUP(AA237,判定式!$F$15:I$19,4,TRUE),IF(C237=10,VLOOKUP(AA237,判定式!$G$15:I$19,3,TRUE),IF(C237=11,VLOOKUP(AA237,判定式!$H$15:I$19,2,TRUE))))))))","v":false}]
[89,null,null,"-",null,null,null,null,null,null,null,null,null,null,null,null,null,null,{"$f":"IF($E238=\"\",\"\",VLOOKUP($E238,判定式!$P$3:$W$12,8,TRUE))","v":""},{"$f":"IF($F238=\"\",\"\",VLOOKUP($F238,判定式!$Q$3:$W$12,7,TRUE))","v":""},{"$f":"IF($G238=\"\",\"\",VLOOKUP($G238,判定式!$R$3:$W$12,6,TRUE))","v":""},{"$f":"IF($H238=\"\",\"\",VLOOKUP($H238,判定式!$S$3:$W$12,5,TRUE))","v":""},{"$f":"IF($I238=\"\",\"\",VLOOKUP($I238,判定式!$V$3:$W$12,2,TRUE))","v":""},{"$f":"IF($J238=\"\",\"\",VLOOKUP($J238,判定式!$Y$3:$Z$12,2,TRUE))","v":""},{"$f":"IF($K238=\"\",\"\",VLOOKUP($K238,判定式!$T$3:$W$12,4,TRUE))","v":""},{"$f":"IF($L238=\"\",\"\",VLOOKUP($L238,判定式!$U$3:$W$12,3,TRUE))","v":""},"",{"$f":"IF(ISNUMBER(D238),\"判定外\",IF(C238=6,VLOOKUP(AA238,判定式!$C$15:I$19,7,TRUE),IF(C238=7,VLOOKUP(AA238,判定式!$D$15:I$19,6,TRUE),IF(C238=8,VLOOKUP(AA238,判定式!$E$15:I$19,5,TRUE),IF(C238=9,VLOOKUP(AA238,判定式!$F$15:I$19,4,TRUE),IF(C238=10,VLOOKUP(AA238,判定式!$G$15:I$19,3,TRUE),IF(C238=11,VLOOKUP(AA238,判定式!$H$15:I$19,2,TRUE))))))))","v":false}]
[90,null,null,"-",null,null,null,null,null,null,null,null,null,null,null,null,null,null,{"$f":"IF($E239=\"\",\"\",VLOOKUP($E239,判定式!$P$3:$W$12,8,TRUE))","v":""},{"$f":"IF($F239=\"\",\"\",VLOOKUP($F239,判定式!$Q$3:$W$12,7,TRUE))","v":""},{"$f":"IF($G239=\"\",\"\",VLOOKUP($G239,判定式!$R$3:$W$12,6,TRUE))","v":""},{"$f":"IF($H239=\"\",\"\",VLOOKUP($H239,判定式!$S$3:$W$12,5,TRUE))","v":""},{"$f":"IF($I239=\"\",\"\",VLOOKUP($I239,判定式!$V$3:$W$12,2,TRUE))","v":""},{"$f":"IF($J239=\"\",\"\",VLOOKUP($J239,判定式!$Y$3:$Z$12,2,TRUE))","v":""},{"$f":"IF($K239=\"\",\"\",VLOOKUP($K239,判定式!$T$3:$W$12,4,TRUE))","v":""},{"$f":"IF($L239=\"\",\"\",VLOOKUP($L239,判定式!$U$3:$W$12,3,TRUE))","v":""},"",{"$f":"IF(ISNUMBER(D239),\"判定外\",IF(C239=6,VLOOKUP(AA239,判定式!$C$15:I$19,7,TRUE),IF(C239=7,VLOOKUP(AA239,判定式!$D$15:I$19,6,TRUE),IF(C239=8,VLOOKUP(AA239,判定式!$E$15:I$19,5,TRUE),IF(C239=9,VLOOKUP(AA239,判定式!$F$15:I$19,4,TRUE),IF(C239=10,VLOOKUP(AA239,判定式!$G$15:I$19,3,TRUE),IF(C239=11,VLOOKUP(AA239,判定式!$H$15:I$19,2,TRUE))))))))","v":false}]
[91,null,null,"-",null,null,null,null,null,null,null,null,null,null,null,null,null,null,{"$f":"IF($E240=\"\",\"\",VLOOKUP($E240,判定式!$P$3:$W$12,8,TRUE))","v":""},{"$f":"IF($F240=\"\",\"\",VLOOKUP($F240,判定式!$Q$3:$W$12,7,TRUE))","v":""},{"$f":"IF($G240=\"\",\"\",VLOOKUP($G240,判定式!$R$3:$W$12,6,TRUE))","v":""},{"$f":"IF($H240=\"\",\"\",VLOOKUP($H240,判定式!$S$3:$W$12,5,TRUE))","v":""},{"$f":"IF($I240=\"\",\"\",VLOOKUP($I240,判定式!$V$3:$W$12,2,TRUE))","v":""},{"$f":"IF($J240=\"\",\"\",VLOOKUP($J240,判定式!$Y$3:$Z$12,2,TRUE))","v":""},{"$f":"IF($K240=\"\",\"\",VLOOKUP($K240,判定式!$T$3:$W$12,4,TRUE))","v":""},{"$f":"IF($L240=\"\",\"\",VLOOKUP($L240,判定式!$U$3:$W$12,3,TRUE))","v":""},"",{"$f":"IF(ISNUMBER(D240),\"判定外\",IF(C240=6,VLOOKUP(AA240,判定式!$C$15:I$19,7,TRUE),IF(C240=7,VLOOKUP(AA240,判定式!$D$15:I$19,6,TRUE),IF(C240=8,VLOOKUP(AA240,判定式!$E$15:I$19,5,TRUE),IF(C240=9,VLOOKUP(AA240,判定式!$F$15:I$19,4,TRUE),IF(C240=10,VLOOKUP(AA240,判定式!$G$15:I$19,3,TRUE),IF(C240=11,VLOOKUP(AA240,判定式!$H$15:I$19,2,TRUE))))))))","v":false}]
[92,null,null,"-",null,null,null,null,null,null,null,null,null,null,null,null,null,null,{"$f":"IF($E241=\"\",\"\",VLOOKUP($E241,判定式!$P$3:$W$12,8,TRUE))","v":""},{"$f":"IF($F241=\"\",\"\",VLOOKUP($F241,判定式!$Q$3:$W$12,7,TRUE))","v":""},{"$f":"IF($G241=\"\",\"\",VLOOKUP($G241,判定式!$R$3:$W$12,6,TRUE))","v":""},{"$f":"IF($H241=\"\",\"\",VLOOKUP($H241,判定式!$S$3:$W$12,5,TRUE))","v":""},{"$f":"IF($I241=\"\",\"\",VLOOKUP($I241,判定式!$V$3:$W$12,2,TRUE))","v":""},{"$f":"IF($J241=\"\",\"\",VLOOKUP($J241,判定式!$Y$3:$Z$12,2,TRUE))","v":""},{"$f":"IF($K241=\"\",\"\",VLOOKUP($K241,判定式!$T$3:$W$12,4,TRUE))","v":""},{"$f":"IF($L241=\"\",\"\",VLOOKUP($L241,判定式!$U$3:$W$12,3,TRUE))","v":""},"",{"$f":"IF(ISNUMBER(D241),\"判定外\",IF(C241=6,VLOOKUP(AA241,判定式!$C$15:I$19,7,TRUE),IF(C241=7,VLOOKUP(AA241,判定式!$D$15:I$19,6,TRUE),IF(C241=8,VLOOKUP(AA241,判定式!$E$15:I$19,5,TRUE),IF(C241=9,VLOOKUP(AA241,判定式!$F$15:I$19,4,TRUE),IF(C241=10,VLOOKUP(AA241,判定式!$G$15:I$19,3,TRUE),IF(C241=11,VLOOKUP(AA241,判定式!$H$15:I$19,2,TRUE))))))))","v":false}]
[93,null,null,"-",null,null,null,null,null,null,null,null,null,null,null,null,null,null,{"$f":"IF($E242=\"\",\"\",VLOOKUP($E242,判定式!$P$3:$W$12,8,TRUE))","v":""},{"$f":"IF($F242=\"\",\"\",VLOOKUP($F242,判定式!$Q$3:$W$12,7,TRUE))","v":""},{"$f":"IF($G242=\"\",\"\",VLOOKUP($G242,判定式!$R$3:$W$12,6,TRUE))","v":""},{"$f":"IF($H242=\"\",\"\",VLOOKUP($H242,判定式!$S$3:$W$12,5,TRUE))","v":""},{"$f":"IF($I242=\"\",\"\",VLOOKUP($I242,判定式!$V$3:$W$12,2,TRUE))","v":""},{"$f":"IF($J242=\"\",\"\",VLOOKUP($J242,判定式!$Y$3:$Z$12,2,TRUE))","v":""},{"$f":"IF($K242=\"\",\"\",VLOOKUP($K242,判定式!$T$3:$W$12,4,TRUE))","v":""},{"$f":"IF($L242=\"\",\"\",VLOOKUP($L242,判定式!$U$3:$W$12,3,TRUE))","v":""},"",{"$f":"IF(ISNUMBER(D242),\"判定外\",IF(C242=6,VLOOKUP(AA242,判定式!$C$15:I$19,7,TRUE),IF(C242=7,VLOOKUP(AA242,判定式!$D$15:I$19,6,TRUE),IF(C242=8,VLOOKUP(AA242,判定式!$E$15:I$19,5,TRUE),IF(C242=9,VLOOKUP(AA242,判定式!$F$15:I$19,4,TRUE),IF(C242=10,VLOOKUP(AA242,判定式!$G$15:I$19,3,TRUE),IF(C242=11,VLOOKUP(AA242,判定式!$H$15:I$19,2,TRUE))))))))","v":false}]
[94,null,null,"-",null,null,null,null,null,null,null,null,null,null,null,null,null,null,{"$f":"IF($E243=\"\",\"\",VLOOKUP($E243,判定式!$P$3:$W$12,8,TRUE))","v":""},{"$f":"IF($F243=\"\",\"\",VLOOKUP($F243,判定式!$Q$3:$W$12,7,TRUE))","v":""},{"$f":"IF($G243=\"\",\"\",VLOOKUP($G243,判定式!$R$3:$W$12,6,TRUE))","v":""},{"$f":"IF($H243=\"\",\"\",VLOOKUP($H243,判定式!$S$3:$W$12,5,TRUE))","v":""},{"$f":"IF($I243=\"\",\"\",VLOOKUP($I243,判定式!$V$3:$W$12,2,TRUE))","v":""},{"$f":"IF($J243=\"\",\"\",VLOOKUP($J243,判定式!$Y$3:$Z$12,2,TRUE))","v":""},{"$f":"IF($K243=\"\",\"\",VLOOKUP($K243,判定式!$T$3:$W$12,4,TRUE))","v":""},{"$f":"IF($L243=\"\",\"\",VLOOKUP($L243,判定式!$U$3:$W$12,3,TRUE))","v":""},"",{"$f":"IF(ISNUMBER(D243),\"判定外\",IF(C243=6,VLOOKUP(AA243,判定式!$C$15:I$19,7,TRUE),IF(C243=7,VLOOKUP(AA243,判定式!$D$15:I$19,6,TRUE),IF(C243=8,VLOOKUP(AA243,判定式!$E$15:I$19,5,TRUE),IF(C243=9,VLOOKUP(AA243,判定式!$F$15:I$19,4,TRUE),IF(C243=10,VLOOKUP(AA243,判定式!$G$15:I$19,3,TRUE),IF(C243=11,VLOOKUP(AA243,判定式!$H$15:I$19,2,TRUE))))))))","v":false}]
[95,null,null,"-",null,null,null,null,null,null,null,null,null,null,null,null,null,null,{"$f":"IF($E244=\"\",\"\",VLOOKUP($E244,判定式!$P$3:$W$12,8,TRUE))","v":""},{"$f":"IF($F244=\"\",\"\",VLOOKUP($F244,判定式!$Q$3:$W$12,7,TRUE))","v":""},{"$f":"IF($G244=\"\",\"\",VLOOKUP($G244,判定式!$R$3:$W$12,6,TRUE))","v":""},{"$f":"IF($H244=\"\",\"\",VLOOKUP($H244,判定式!$S$3:$W$12,5,TRUE))","v":""},{"$f":"IF($I244=\"\",\"\",VLOOKUP($I244,判定式!$V$3:$W$12,2,TRUE))","v":""},{"$f":"IF($J244=\"\",\"\",VLOOKUP($J244,判定式!$Y$3:$Z$12,2,TRUE))","v":""},{"$f":"IF($K244=\"\",\"\",VLOOKUP($K244,判定式!$T$3:$W$12,4,TRUE))","v":""},{"$f":"IF($L244=\"\",\"\",VLOOKUP($L244,判定式!$U$3:$W$12,3,TRUE))","v":""},"",{"$f":"IF(ISNUMBER(D244),\"判定外\",IF(C244=6,VLOOKUP(AA244,判定式!$C$15:I$19,7,TRUE),IF(C244=7,VLOOKUP(AA244,判定式!$D$15:I$19,6,TRUE),IF(C244=8,VLOOKUP(AA244,判定式!$E$15:I$19,5,TRUE),IF(C244=9,VLOOKUP(AA244,判定式!$F$15:I$19,4,TRUE),IF(C244=10,VLOOKUP(AA244,判定式!$G$15:I$19,3,TRUE),IF(C244=11,VLOOKUP(AA244,判定式!$H$15:I$19,2,TRUE))))))))","v":false}]
[96,null,null,"-",null,null,null,null,null,null,null,null,null,null,null,null,null,null,{"$f":"IF($E245=\"\",\"\",VLOOKUP($E245,判定式!$P$3:$W$12,8,TRUE))","v":""},{"$f":"IF($F245=\"\",\"\",VLOOKUP($F245,判定式!$Q$3:$W$12,7,TRUE))","v":""},{"$f":"IF($G245=\"\",\"\",VLOOKUP($G245,判定式!$R$3:$W$12,6,TRUE))","v":""},{"$f":"IF($H245=\"\",\"\",VLOOKUP($H245,判定式!$S$3:$W$12,5,TRUE))","v":""},{"$f":"IF($I245=\"\",\"\",VLOOKUP($I245,判定式!$V$3:$W$12,2,TRUE))","v":""},{"$f":"IF($J245=\"\",\"\",VLOOKUP($J245,判定式!$Y$3:$Z$12,2,TRUE))","v":""},{"$f":"IF($K245=\"\",\"\",VLOOKUP($K245,判定式!$T$3:$W$12,4,TRUE))","v":""},{"$f":"IF($L245=\"\",\"\",VLOOKUP($L245,判定式!$U$3:$W$12,3,TRUE))","v":""},"",{"$f":"IF(ISNUMBER(D245),\"判定外\",IF(C245=6,VLOOKUP(AA245,判定式!$C$15:I$19,7,TRUE),IF(C245=7,VLOOKUP(AA245,判定式!$D$15:I$19,6,TRUE),IF(C245=8,VLOOKUP(AA245,判定式!$E$15:I$19,5,TRUE),IF(C245=9,VLOOKUP(AA245,判定式!$F$15:I$19,4,TRUE),IF(C245=10,VLOOKUP(AA245,判定式!$G$15:I$19,3,TRUE),IF(C245=11,VLOOKUP(AA245,判定式!$H$15:I$19,2,TRUE))))))))","v":false}]
[97,null,null,"-",null,null,null,null,null,null,null,null,null,null,null,null,null,null,{"$f":"IF($E246=\"\",\"\",VLOOKUP($E246,判定式!$P$3:$W$12,8,TRUE))","v":""},{"$f":"IF($F246=\"\",\"\",VLOOKUP($F246,判定式!$Q$3:$W$12,7,TRUE))","v":""},{"$f":"IF($G246=\"\",\"\",VLOOKUP($G246,判定式!$R$3:$W$12,6,TRUE))","v":""},{"$f":"IF($H246=\"\",\"\",VLOOKUP($H246,判定式!$S$3:$W$12,5,TRUE))","v":""},{"$f":"IF($I246=\"\",\"\",VLOOKUP($I246,判定式!$V$3:$W$12,2,TRUE))","v":""},{"$f":"IF($J246=\"\",\"\",VLOOKUP($J246,判定式!$Y$3:$Z$12,2,TRUE))","v":""},{"$f":"IF($K246=\"\",\"\",VLOOKUP($K246,判定式!$T$3:$W$12,4,TRUE))","v":""},{"$f":"IF($L246=\"\",\"\",VLOOKUP($L246,判定式!$U$3:$W$12,3,TRUE))","v":""},"",{"$f":"IF(ISNUMBER(D246),\"判定外\",IF(C246=6,VLOOKUP(AA246,判定式!$C$15:I$19,7,TRUE),IF(C246=7,VLOOKUP(AA246,判定式!$D$15:I$19,6,TRUE),IF(C246=8,VLOOKUP(AA246,判定式!$E$15:I$19,5,TRUE),IF(C246=9,VLOOKUP(AA246,判定式!$F$15:I$19,4,TRUE),IF(C246=10,VLOOKUP(AA246,判定式!$G$15:I$19,3,TRUE),IF(C246=11,VLOOKUP(AA246,判定式!$H$15:I$19,2,TRUE))))))))","v":false}]
[98,null,null,"-",null,null,null,null,null,null,null,null,null,null,null,null,null,null,{"$f":"IF($E247=\"\",\"\",VLOOKUP($E247,判定式!$P$3:$W$12,8,TRUE))","v":""},{"$f":"IF($F247=\"\",\"\",VLOOKUP($F247,判定式!$Q$3:$W$12,7,TRUE))","v":""},{"$f":"IF($G247=\"\",\"\",VLOOKUP($G247,判定式!$R$3:$W$12,6,TRUE))","v":""},{"$f":"IF($H247=\"\",\"\",VLOOKUP($H247,判定式!$S$3:$W$12,5,TRUE))","v":""},{"$f":"IF($I247=\"\",\"\",VLOOKUP($I247,判定式!$V$3:$W$12,2,TRUE))","v":""},{"$f":"IF($J247=\"\",\"\",VLOOKUP($J247,判定式!$Y$3:$Z$12,2,TRUE))","v":""},{"$f":"IF($K247=\"\",\"\",VLOOKUP($K247,判定式!$T$3:$W$12,4,TRUE))","v":""},{"$f":"IF($L247=\"\",\"\",VLOOKUP($L247,判定式!$U$3:$W$12,3,TRUE))","v":""},"",{"$f":"IF(ISNUMBER(D247),\"判定外\",IF(C247=6,VLOOKUP(AA247,判定式!$C$15:I$19,7,TRUE),IF(C247=7,VLOOKUP(AA247,判定式!$D$15:I$19,6,TRUE),IF(C247=8,VLOOKUP(AA247,判定式!$E$15:I$19,5,TRUE),IF(C247=9,VLOOKUP(AA247,判定式!$F$15:I$19,4,TRUE),IF(C247=10,VLOOKUP(AA247,判定式!$G$15:I$19,3,TRUE),IF(C247=11,VLOOKUP(AA247,判定式!$H$15:I$19,2,TRUE))))))))","v":false}]
[99,null,null,"-",null,null,null,null,null,null,null,null,null,null,null,null,null,null,{"$f":"IF($E248=\"\",\"\",VLOOKUP($E248,判定式!$P$3:$W$12,8,TRUE))","v":""},{"$f":"IF($F248=\"\",\"\",VLOOKUP($F248,判定式!$Q$3:$W$12,7,TRUE))","v":""},{"$f":"IF($G248=\"\",\"\",VLOOKUP($G248,判定式!$R$3:$W$12,6,TRUE))","v":""},{"$f":"IF($H248=\"\",\"\",VLOOKUP($H248,判定式!$S$3:$W$12,5,TRUE))","v":""},{"$f":"IF($I248=\"\",\"\",VLOOKUP($I248,判定式!$V$3:$W$12,2,TRUE))","v":""},{"$f":"IF($J248=\"\",\"\",VLOOKUP($J248,判定式!$Y$3:$Z$12,2,TRUE))","v":""},{"$f":"IF($K248=\"\",\"\",VLOOKUP($K248,判定式!$T$3:$W$12,4,TRUE))","v":""},{"$f":"IF($L248=\"\",\"\",VLOOKUP($L248,判定式!$U$3:$W$12,3,TRUE))","v":""},"",{"$f":"IF(ISNUMBER(D248),\"判定外\",IF(C248=6,VLOOKUP(AA248,判定式!$C$15:I$19,7,TRUE),IF(C248=7,VLOOKUP(AA248,判定式!$D$15:I$19,6,TRUE),IF(C248=8,VLOOKUP(AA248,判定式!$E$15:I$19,5,TRUE),IF(C248=9,VLOOKUP(AA248,判定式!$F$15:I$19,4,TRUE),IF(C248=10,VLOOKUP(AA248,判定式!$G$15:I$19,3,TRUE),IF(C248=11,VLOOKUP(AA248,判定式!$H$15:I$19,2,TRUE))))))))","v":false}]
[100,null,null,"-",null,null,null,null,null,null,null,null,null,null,null,null,null,null,{"$f":"IF($E249=\"\",\"\",VLOOKUP($E249,判定式!$P$3:$W$12,8,TRUE))","v":""},{"$f":"IF($F249=\"\",\"\",VLOOKUP($F249,判定式!$Q$3:$W$12,7,TRUE))","v":""},{"$f":"IF($G249=\"\",\"\",VLOOKUP($G249,判定式!$R$3:$W$12,6,TRUE))","v":""},{"$f":"IF($H249=\"\",\"\",VLOOKUP($H249,判定式!$S$3:$W$12,5,TRUE))","v":""},{"$f":"IF($I249=\"\",\"\",VLOOKUP($I249,判定式!$V$3:$W$12,2,TRUE))","v":""},{"$f":"IF($J249=\"\",\"\",VLOOKUP($J249,判定式!$Y$3:$Z$12,2,TRUE))","v":""},{"$f":"IF($K249=\"\",\"\",VLOOKUP($K249,判定式!$T$3:$W$12,4,TRUE))","v":""},{"$f":"IF($L249=\"\",\"\",VLOOKUP($L249,判定式!$U$3:$W$12,3,TRUE))","v":""},"",{"$f":"IF(ISNUMBER(D249),\"判定外\",IF(C249=6,VLOOKUP(AA249,判定式!$C$15:I$19,7,TRUE),IF(C249=7,VLOOKUP(AA249,判定式!$D$15:I$19,6,TRUE),IF(C249=8,VLOOKUP(AA249,判定式!$E$15:I$19,5,TRUE),IF(C249=9,VLOOKUP(AA249,判定式!$F$15:I$19,4,TRUE),IF(C249=10,VLOOKUP(AA249,判定式!$G$15:I$19,3,TRUE),IF(C249=11,VLOOKUP(AA249,判定式!$H$15:I$19,2,TRUE))))))))","v":false}]
[101,null,null,"-",null,null,null,null,null,null,null,null,null,null,null,null,null,null,{"$f":"IF($E250=\"\",\"\",VLOOKUP($E250,判定式!$P$3:$W$12,8,TRUE))","v":""},{"$f":"IF($F250=\"\",\"\",VLOOKUP($F250,判定式!$Q$3:$W$12,7,TRUE))","v":""},{"$f":"IF($G250=\"\",\"\",VLOOKUP($G250,判定式!$R$3:$W$12,6,TRUE))","v":""},{"$f":"IF($H250=\"\",\"\",VLOOKUP($H250,判定式!$S$3:$W$12,5,TRUE))","v":""},{"$f":"IF($I250=\"\",\"\",VLOOKUP($I250,判定式!$V$3:$W$12,2,TRUE))","v":""},{"$f":"IF($J250=\"\",\"\",VLOOKUP($J250,判定式!$Y$3:$Z$12,2,TRUE))","v":""},{"$f":"IF($K250=\"\",\"\",VLOOKUP($K250,判定式!$T$3:$W$12,4,TRUE))","v":""},{"$f":"IF($L250=\"\",\"\",VLOOKUP($L250,判定式!$U$3:$W$12,3,TRUE))","v":""},"",{"$f":"IF(ISNUMBER(D250),\"判定外\",IF(C250=6,VLOOKUP(AA250,判定式!$C$15:I$19,7,TRUE),IF(C250=7,VLOOKUP(AA250,判定式!$D$15:I$19,6,TRUE),IF(C250=8,VLOOKUP(AA250,判定式!$E$15:I$19,5,TRUE),IF(C250=9,VLOOKUP(AA250,判定式!$F$15:I$19,4,TRUE),IF(C250=10,VLOOKUP(AA250,判定式!$G$15:I$19,3,TRUE),IF(C250=11,VLOOKUP(AA250,判定式!$H$15:I$19,2,TRUE))))))))","v":false}]
[102,null,null,"-",null,null,null,null,null,null,null,null,null,null,null,null,null,null,{"$f":"IF($E251=\"\",\"\",VLOOKUP($E251,判定式!$P$3:$W$12,8,TRUE))","v":""},{"$f":"IF($F251=\"\",\"\",VLOOKUP($F251,判定式!$Q$3:$W$12,7,TRUE))","v":""},{"$f":"IF($G251=\"\",\"\",VLOOKUP($G251,判定式!$R$3:$W$12,6,TRUE))","v":""},{"$f":"IF($H251=\"\",\"\",VLOOKUP($H251,判定式!$S$3:$W$12,5,TRUE))","v":""},{"$f":"IF($I251=\"\",\"\",VLOOKUP($I251,判定式!$V$3:$W$12,2,TRUE))","v":""},{"$f":"IF($J251=\"\",\"\",VLOOKUP($J251,判定式!$Y$3:$Z$12,2,TRUE))","v":""},{"$f":"IF($K251=\"\",\"\",VLOOKUP($K251,判定式!$T$3:$W$12,4,TRUE))","v":""},{"$f":"IF($L251=\"\",\"\",VLOOKUP($L251,判定式!$U$3:$W$12,3,TRUE))","v":""},"",{"$f":"IF(ISNUMBER(D251),\"判定外\",IF(C251=6,VLOOKUP(AA251,判定式!$C$15:I$19,7,TRUE),IF(C251=7,VLOOKUP(AA251,判定式!$D$15:I$19,6,TRUE),IF(C251=8,VLOOKUP(AA251,判定式!$E$15:I$19,5,TRUE),IF(C251=9,VLOOKUP(AA251,判定式!$F$15:I$19,4,TRUE),IF(C251=10,VLOOKUP(AA251,判定式!$G$15:I$19,3,TRUE),IF(C251=11,VLOOKUP(AA251,判定式!$H$15:I$19,2,TRUE))))))))","v":false}]
[103,null,null,"-",null,null,null,null,null,null,null,null,null,null,null,null,null,null,{"$f":"IF($E252=\"\",\"\",VLOOKUP($E252,判定式!$P$3:$W$12,8,TRUE))","v":""},{"$f":"IF($F252=\"\",\"\",VLOOKUP($F252,判定式!$Q$3:$W$12,7,TRUE))","v":""},{"$f":"IF($G252=\"\",\"\",VLOOKUP($G252,判定式!$R$3:$W$12,6,TRUE))","v":""},{"$f":"IF($H252=\"\",\"\",VLOOKUP($H252,判定式!$S$3:$W$12,5,TRUE))","v":""},{"$f":"IF($I252=\"\",\"\",VLOOKUP($I252,判定式!$V$3:$W$12,2,TRUE))","v":""},{"$f":"IF($J252=\"\",\"\",VLOOKUP($J252,判定式!$Y$3:$Z$12,2,TRUE))","v":""},{"$f":"IF($K252=\"\",\"\",VLOOKUP($K252,判定式!$T$3:$W$12,4,TRUE))","v":""},{"$f":"IF($L252=\"\",\"\",VLOOKUP($L252,判定式!$U$3:$W$12,3,TRUE))","v":""},"",{"$f":"IF(ISNUMBER(D252),\"判定外\",IF(C252=6,VLOOKUP(AA252,判定式!$C$15:I$19,7,TRUE),IF(C252=7,VLOOKUP(AA252,判定式!$D$15:I$19,6,TRUE),IF(C252=8,VLOOKUP(AA252,判定式!$E$15:I$19,5,TRUE),IF(C252=9,VLOOKUP(AA252,判定式!$F$15:I$19,4,TRUE),IF(C252=10,VLOOKUP(AA252,判定式!$G$15:I$19,3,TRUE),IF(C252=11,VLOOKUP(AA252,判定式!$H$15:I$19,2,TRUE))))))))","v":false}]
[104,null,null,"-",null,null,null,null,null,null,null,null,null,null,null,null,null,null,{"$f":"IF($E253=\"\",\"\",VLOOKUP($E253,判定式!$P$3:$W$12,8,TRUE))","v":""},{"$f":"IF($F253=\"\",\"\",VLOOKUP($F253,判定式!$Q$3:$W$12,7,TRUE))","v":""},{"$f":"IF($G253=\"\",\"\",VLOOKUP($G253,判定式!$R$3:$W$12,6,TRUE))","v":""},{"$f":"IF($H253=\"\",\"\",VLOOKUP($H253,判定式!$S$3:$W$12,5,TRUE))","v":""},{"$f":"IF($I253=\"\",\"\",VLOOKUP($I253,判定式!$V$3:$W$12,2,TRUE))","v":""},{"$f":"IF($J253=\"\",\"\",VLOOKUP($J253,判定式!$Y$3:$Z$12,2,TRUE))","v":""},{"$f":"IF($K253=\"\",\"\",VLOOKUP($K253,判定式!$T$3:$W$12,4,TRUE))","v":""},{"$f":"IF($L253=\"\",\"\",VLOOKUP($L253,判定式!$U$3:$W$12,3,TRUE))","v":""},"",{"$f":"IF(ISNUMBER(D253),\"判定外\",IF(C253=6,VLOOKUP(AA253,判定式!$C$15:I$19,7,TRUE),IF(C253=7,VLOOKUP(AA253,判定式!$D$15:I$19,6,TRUE),IF(C253=8,VLOOKUP(AA253,判定式!$E$15:I$19,5,TRUE),IF(C253=9,VLOOKUP(AA253,判定式!$F$15:I$19,4,TRUE),IF(C253=10,VLOOKUP(AA253,判定式!$G$15:I$19,3,TRUE),IF(C253=11,VLOOKUP(AA253,判定式!$H$15:I$19,2,TRUE))))))))","v":false}]
[105,null,null,"-",null,null,null,null,null,null,null,null,null,null,null,null,null,null,{"$f":"IF($E254=\"\",\"\",VLOOKUP($E254,判定式!$P$3:$W$12,8,TRUE))","v":""},{"$f":"IF($F254=\"\",\"\",VLOOKUP($F254,判定式!$Q$3:$W$12,7,TRUE))","v":""},{"$f":"IF($G254=\"\",\"\",VLOOKUP($G254,判定式!$R$3:$W$12,6,TRUE))","v":""},{"$f":"IF($H254=\"\",\"\",VLOOKUP($H254,判定式!$S$3:$W$12,5,TRUE))","v":""},{"$f":"IF($I254=\"\",\"\",VLOOKUP($I254,判定式!$V$3:$W$12,2,TRUE))","v":""},{"$f":"IF($J254=\"\",\"\",VLOOKUP($J254,判定式!$Y$3:$Z$12,2,TRUE))","v":""},{"$f":"IF($K254=\"\",\"\",VLOOKUP($K254,判定式!$T$3:$W$12,4,TRUE))","v":""},{"$f":"IF($L254=\"\",\"\",VLOOKUP($L254,判定式!$U$3:$W$12,3,TRUE))","v":""},"",{"$f":"IF(ISNUMBER(D254),\"判定外\",IF(C254=6,VLOOKUP(AA254,判定式!$C$15:I$19,7,TRUE),IF(C254=7,VLOOKUP(AA254,判定式!$D$15:I$19,6,TRUE),IF(C254=8,VLOOKUP(AA254,判定式!$E$15:I$19,5,TRUE),IF(C254=9,VLOOKUP(AA254,判定式!$F$15:I$19,4,TRUE),IF(C254=10,VLOOKUP(AA254,判定式!$G$15:I$19,3,TRUE),IF(C254=11,VLOOKUP(AA254,判定式!$H$15:I$19,2,TRUE))))))))","v":false}]
[106,null,null,"-",null,null,null,null,null,null,null,null,null,null,null,null,null,null,{"$f":"IF($E255=\"\",\"\",VLOOKUP($E255,判定式!$P$3:$W$12,8,TRUE))","v":""},{"$f":"IF($F255=\"\",\"\",VLOOKUP($F255,判定式!$Q$3:$W$12,7,TRUE))","v":""},{"$f":"IF($G255=\"\",\"\",VLOOKUP($G255,判定式!$R$3:$W$12,6,TRUE))","v":""},{"$f":"IF($H255=\"\",\"\",VLOOKUP($H255,判定式!$S$3:$W$12,5,TRUE))","v":""},{"$f":"IF($I255=\"\",\"\",VLOOKUP($I255,判定式!$V$3:$W$12,2,TRUE))","v":""},{"$f":"IF($J255=\"\",\"\",VLOOKUP($J255,判定式!$Y$3:$Z$12,2,TRUE))","v":""},{"$f":"IF($K255=\"\",\"\",VLOOKUP($K255,判定式!$T$3:$W$12,4,TRUE))","v":""},{"$f":"IF($L255=\"\",\"\",VLOOKUP($L255,判定式!$U$3:$W$12,3,TRUE))","v":""},"",{"$f":"IF(ISNUMBER(D255),\"判定外\",IF(C255=6,VLOOKUP(AA255,判定式!$C$15:I$19,7,TRUE),IF(C255=7,VLOOKUP(AA255,判定式!$D$15:I$19,6,TRUE),IF(C255=8,VLOOKUP(AA255,判定式!$E$15:I$19,5,TRUE),IF(C255=9,VLOOKUP(AA255,判定式!$F$15:I$19,4,TRUE),IF(C255=10,VLOOKUP(AA255,判定式!$G$15:I$19,3,TRUE),IF(C255=11,VLOOKUP(AA255,判定式!$H$15:I$19,2,TRUE))))))))","v":false}]
[107,null,null,"-",null,null,null,null,null,null,null,null,null,null,null,null,null,null,{"$f":"IF($E256=\"\",\"\",VLOOKUP($E256,判定式!$P$3:$W$12,8,TRUE))","v":""},{"$f":"IF($F256=\"\",\"\",VLOOKUP($F256,判定式!$Q$3:$W$12,7,TRUE))","v":""},{"$f":"IF($G256=\"\",\"\",VLOOKUP($G256,判定式!$R$3:$W$12,6,TRUE))","v":""},{"$f":"IF($H256=\"\",\"\",VLOOKUP($H256,判定式!$S$3:$W$12,5,TRUE))","v":""},{"$f":"IF($I256=\"\",\"\",VLOOKUP($I256,判定式!$V$3:$W$12,2,TRUE))","v":""},{"$f":"IF($J256=\"\",\"\",VLOOKUP($J256,判定式!$Y$3:$Z$12,2,TRUE))","v":""},{"$f":"IF($K256=\"\",\"\",VLOOKUP($K256,判定式!$T$3:$W$12,4,TRUE))","v":""},{"$f":"IF($L256=\"\",\"\",VLOOKUP($L256,判定式!$U$3:$W$12,3,TRUE))","v":""},"",{"$f":"IF(ISNUMBER(D256),\"判定外\",IF(C256=6,VLOOKUP(AA256,判定式!$C$15:I$19,7,TRUE),IF(C256=7,VLOOKUP(AA256,判定式!$D$15:I$19,6,TRUE),IF(C256=8,VLOOKUP(AA256,判定式!$E$15:I$19,5,TRUE),IF(C256=9,VLOOKUP(AA256,判定式!$F$15:I$19,4,TRUE),IF(C256=10,VLOOKUP(AA256,判定式!$G$15:I$19,3,TRUE),IF(C256=11,VLOOKUP(AA256,判定式!$H$15:I$19,2,TRUE))))))))","v":false}]
[108,null,null,"-",null,null,null,null,null,null,null,null,null,null,null,null,null,null,{"$f":"IF($E257=\"\",\"\",VLOOKUP($E257,判定式!$P$3:$W$12,8,TRUE))","v":""},{"$f":"IF($F257=\"\",\"\",VLOOKUP($F257,判定式!$Q$3:$W$12,7,TRUE))","v":""},{"$f":"IF($G257=\"\",\"\",VLOOKUP($G257,判定式!$R$3:$W$12,6,TRUE))","v":""},{"$f":"IF($H257=\"\",\"\",VLOOKUP($H257,判定式!$S$3:$W$12,5,TRUE))","v":""},{"$f":"IF($I257=\"\",\"\",VLOOKUP($I257,判定式!$V$3:$W$12,2,TRUE))","v":""},{"$f":"IF($J257=\"\",\"\",VLOOKUP($J257,判定式!$Y$3:$Z$12,2,TRUE))","v":""},{"$f":"IF($K257=\"\",\"\",VLOOKUP($K257,判定式!$T$3:$W$12,4,TRUE))","v":""},{"$f":"IF($L257=\"\",\"\",VLOOKUP($L257,判定式!$U$3:$W$12,3,TRUE))","v":""},"",{"$f":"IF(ISNUMBER(D257),\"判定外\",IF(C257=6,VLOOKUP(AA257,判定式!$C$15:I$19,7,TRUE),IF(C257=7,VLOOKUP(AA257,判定式!$D$15:I$19,6,TRUE),IF(C257=8,VLOOKUP(AA257,判定式!$E$15:I$19,5,TRUE),IF(C257=9,VLOOKUP(AA257,判定式!$F$15:I$19,4,TRUE),IF(C257=10,VLOOKUP(AA257,判定式!$G$15:I$19,3,TRUE),IF(C257=11,VLOOKUP(AA257,判定式!$H$15:I$19,2,TRUE))))))))","v":false}]
[109,null,null,"-",null,null,null,null,null,null,null,null,null,null,null,null,null,null,{"$f":"IF($E258=\"\",\"\",VLOOKUP($E258,判定式!$P$3:$W$12,8,TRUE))","v":""},{"$f":"IF($F258=\"\",\"\",VLOOKUP($F258,判定式!$Q$3:$W$12,7,TRUE))","v":""},{"$f":"IF($G258=\"\",\"\",VLOOKUP($G258,判定式!$R$3:$W$12,6,TRUE))","v":""},{"$f":"IF($H258=\"\",\"\",VLOOKUP($H258,判定式!$S$3:$W$12,5,TRUE))","v":""},{"$f":"IF($I258=\"\",\"\",VLOOKUP($I258,判定式!$V$3:$W$12,2,TRUE))","v":""},{"$f":"IF($J258=\"\",\"\",VLOOKUP($J258,判定式!$Y$3:$Z$12,2,TRUE))","v":""},{"$f":"IF($K258=\"\",\"\",VLOOKUP($K258,判定式!$T$3:$W$12,4,TRUE))","v":""},{"$f":"IF($L258=\"\",\"\",VLOOKUP($L258,判定式!$U$3:$W$12,3,TRUE))","v":""},"",{"$f":"IF(ISNUMBER(D258),\"判定外\",IF(C258=6,VLOOKUP(AA258,判定式!$C$15:I$19,7,TRUE),IF(C258=7,VLOOKUP(AA258,判定式!$D$15:I$19,6,TRUE),IF(C258=8,VLOOKUP(AA258,判定式!$E$15:I$19,5,TRUE),IF(C258=9,VLOOKUP(AA258,判定式!$F$15:I$19,4,TRUE),IF(C258=10,VLOOKUP(AA258,判定式!$G$15:I$19,3,TRUE),IF(C258=11,VLOOKUP(AA258,判定式!$H$15:I$19,2,TRUE))))))))","v":false}]
[110,null,null,"-",null,null,null,null,null,null,null,null,null,null,null,null,null,null,{"$f":"IF($E259=\"\",\"\",VLOOKUP($E259,判定式!$P$3:$W$12,8,TRUE))","v":""},{"$f":"IF($F259=\"\",\"\",VLOOKUP($F259,判定式!$Q$3:$W$12,7,TRUE))","v":""},{"$f":"IF($G259=\"\",\"\",VLOOKUP($G259,判定式!$R$3:$W$12,6,TRUE))","v":""},{"$f":"IF($H259=\"\",\"\",VLOOKUP($H259,判定式!$S$3:$W$12,5,TRUE))","v":""},{"$f":"IF($I259=\"\",\"\",VLOOKUP($I259,判定式!$V$3:$W$12,2,TRUE))","v":""},{"$f":"IF($J259=\"\",\"\",VLOOKUP($J259,判定式!$Y$3:$Z$12,2,TRUE))","v":""},{"$f":"IF($K259=\"\",\"\",VLOOKUP($K259,判定式!$T$3:$W$12,4,TRUE))","v":""},{"$f":"IF($L259=\"\",\"\",VLOOKUP($L259,判定式!$U$3:$W$12,3,TRUE))","v":""},"",{"$f":"IF(ISNUMBER(D259),\"判定外\",IF(C259=6,VLOOKUP(AA259,判定式!$C$15:I$19,7,TRUE),IF(C259=7,VLOOKUP(AA259,判定式!$D$15:I$19,6,TRUE),IF(C259=8,VLOOKUP(AA259,判定式!$E$15:I$19,5,TRUE),IF(C259=9,VLOOKUP(AA259,判定式!$F$15:I$19,4,TRUE),IF(C259=10,VLOOKUP(AA259,判定式!$G$15:I$19,3,TRUE),IF(C259=11,VLOOKUP(AA259,判定式!$H$15:I$19,2,TRUE))))))))","v":false}]
[111,null,null,"-",null,null,null,null,null,null,null,null,null,null,null,null,null,null,{"$f":"IF($E260=\"\",\"\",VLOOKUP($E260,判定式!$P$3:$W$12,8,TRUE))","v":""},{"$f":"IF($F260=\"\",\"\",VLOOKUP($F260,判定式!$Q$3:$W$12,7,TRUE))","v":""},{"$f":"IF($G260=\"\",\"\",VLOOKUP($G260,判定式!$R$3:$W$12,6,TRUE))","v":""},{"$f":"IF($H260=\"\",\"\",VLOOKUP($H260,判定式!$S$3:$W$12,5,TRUE))","v":""},{"$f":"IF($I260=\"\",\"\",VLOOKUP($I260,判定式!$V$3:$W$12,2,TRUE))","v":""},{"$f":"IF($J260=\"\",\"\",VLOOKUP($J260,判定式!$Y$3:$Z$12,2,TRUE))","v":""},{"$f":"IF($K260=\"\",\"\",VLOOKUP($K260,判定式!$T$3:$W$12,4,TRUE))","v":""},{"$f":"IF($L260=\"\",\"\",VLOOKUP($L260,判定式!$U$3:$W$12,3,TRUE))","v":""},"",{"$f":"IF(ISNUMBER(D260),\"判定外\",IF(C260=6,VLOOKUP(AA260,判定式!$C$15:I$19,7,TRUE),IF(C260=7,VLOOKUP(AA260,判定式!$D$15:I$19,6,TRUE),IF(C260=8,VLOOKUP(AA260,判定式!$E$15:I$19,5,TRUE),IF(C260=9,VLOOKUP(AA260,判定式!$F$15:I$19,4,TRUE),IF(C260=10,VLOOKUP(AA260,判定式!$G$15:I$19,3,TRUE),IF(C260=11,VLOOKUP(AA260,判定式!$H$15:I$19,2,TRUE))))))))","v":false}]
[112,null,null,"-",null,null,null,null,null,null,null,null,null,null,null,null,null,null,{"$f":"IF($E261=\"\",\"\",VLOOKUP($E261,判定式!$P$3:$W$12,8,TRUE))","v":""},{"$f":"IF($F261=\"\",\"\",VLOOKUP($F261,判定式!$Q$3:$W$12,7,TRUE))","v":""},{"$f":"IF($G261=\"\",\"\",VLOOKUP($G261,判定式!$R$3:$W$12,6,TRUE))","v":""},{"$f":"IF($H261=\"\",\"\",VLOOKUP($H261,判定式!$S$3:$W$12,5,TRUE))","v":""},{"$f":"IF($I261=\"\",\"\",VLOOKUP($I261,判定式!$V$3:$W$12,2,TRUE))","v":""},{"$f":"IF($J261=\"\",\"\",VLOOKUP($J261,判定式!$Y$3:$Z$12,2,TRUE))","v":""},{"$f":"IF($K261=\"\",\"\",VLOOKUP($K261,判定式!$T$3:$W$12,4,TRUE))","v":""},{"$f":"IF($L261=\"\",\"\",VLOOKUP($L261,判定式!$U$3:$W$12,3,TRUE))","v":""},"",{"$f":"IF(ISNUMBER(D261),\"判定外\",IF(C261=6,VLOOKUP(AA261,判定式!$C$15:I$19,7,TRUE),IF(C261=7,VLOOKUP(AA261,判定式!$D$15:I$19,6,TRUE),IF(C261=8,VLOOKUP(AA261,判定式!$E$15:I$19,5,TRUE),IF(C261=9,VLOOKUP(AA261,判定式!$F$15:I$19,4,TRUE),IF(C261=10,VLOOKUP(AA261,判定式!$G$15:I$19,3,TRUE),IF(C261=11,VLOOKUP(AA261,判定式!$H$15:I$19,2,TRUE))))))))","v":false}]
[113,null,null,"-",null,null,null,null,null,null,null,null,null,null,null,null,null,null,{"$f":"IF($E262=\"\",\"\",VLOOKUP($E262,判定式!$P$3:$W$12,8,TRUE))","v":""},{"$f":"IF($F262=\"\",\"\",VLOOKUP($F262,判定式!$Q$3:$W$12,7,TRUE))","v":""},{"$f":"IF($G262=\"\",\"\",VLOOKUP($G262,判定式!$R$3:$W$12,6,TRUE))","v":""},{"$f":"IF($H262=\"\",\"\",VLOOKUP($H262,判定式!$S$3:$W$12,5,TRUE))","v":""},{"$f":"IF($I262=\"\",\"\",VLOOKUP($I262,判定式!$V$3:$W$12,2,TRUE))","v":""},{"$f":"IF($J262=\"\",\"\",VLOOKUP($J262,判定式!$Y$3:$Z$12,2,TRUE))","v":""},{"$f":"IF($K262=\"\",\"\",VLOOKUP($K262,判定式!$T$3:$W$12,4,TRUE))","v":""},{"$f":"IF($L262=\"\",\"\",VLOOKUP($L262,判定式!$U$3:$W$12,3,TRUE))","v":""},"",{"$f":"IF(ISNUMBER(D262),\"判定外\",IF(C262=6,VLOOKUP(AA262,判定式!$C$15:I$19,7,TRUE),IF(C262=7,VLOOKUP(AA262,判定式!$D$15:I$19,6,TRUE),IF(C262=8,VLOOKUP(AA262,判定式!$E$15:I$19,5,TRUE),IF(C262=9,VLOOKUP(AA262,判定式!$F$15:I$19,4,TRUE),IF(C262=10,VLOOKUP(AA262,判定式!$G$15:I$19,3,TRUE),IF(C262=11,VLOOKUP(AA262,判定式!$H$15:I$19,2,TRUE))))))))","v":false}]
[114,null,null,"-",null,null,null,null,null,null,null,null,null,null,null,null,null,null,{"$f":"IF($E263=\"\",\"\",VLOOKUP($E263,判定式!$P$3:$W$12,8,TRUE))","v":""},{"$f":"IF($F263=\"\",\"\",VLOOKUP($F263,判定式!$Q$3:$W$12,7,TRUE))","v":""},{"$f":"IF($G263=\"\",\"\",VLOOKUP($G263,判定式!$R$3:$W$12,6,TRUE))","v":""},{"$f":"IF($H263=\"\",\"\",VLOOKUP($H263,判定式!$S$3:$W$12,5,TRUE))","v":""},{"$f":"IF($I263=\"\",\"\",VLOOKUP($I263,判定式!$V$3:$W$12,2,TRUE))","v":""},{"$f":"IF($J263=\"\",\"\",VLOOKUP($J263,判定式!$Y$3:$Z$12,2,TRUE))","v":""},{"$f":"IF($K263=\"\",\"\",VLOOKUP($K263,判定式!$T$3:$W$12,4,TRUE))","v":""},{"$f":"IF($L263=\"\",\"\",VLOOKUP($L263,判定式!$U$3:$W$12,3,TRUE))","v":""},"",{"$f":"IF(ISNUMBER(D263),\"判定外\",IF(C263=6,VLOOKUP(AA263,判定式!$C$15:I$19,7,TRUE),IF(C263=7,VLOOKUP(AA263,判定式!$D$15:I$19,6,TRUE),IF(C263=8,VLOOKUP(AA263,判定式!$E$15:I$19,5,TRUE),IF(C263=9,VLOOKUP(AA263,判定式!$F$15:I$19,4,TRUE),IF(C263=10,VLOOKUP(AA263,判定式!$G$15:I$19,3,TRUE),IF(C263=11,VLOOKUP(AA263,判定式!$H$15:I$19,2,TRUE))))))))","v":false}]
[115,null,null,"-",null,null,null,null,null,null,null,null,null,null,null,null,null,null,{"$f":"IF($E264=\"\",\"\",VLOOKUP($E264,判定式!$P$3:$W$12,8,TRUE))","v":""},{"$f":"IF($F264=\"\",\"\",VLOOKUP($F264,判定式!$Q$3:$W$12,7,TRUE))","v":""},{"$f":"IF($G264=\"\",\"\",VLOOKUP($G264,判定式!$R$3:$W$12,6,TRUE))","v":""},{"$f":"IF($H264=\"\",\"\",VLOOKUP($H264,判定式!$S$3:$W$12,5,TRUE))","v":""},{"$f":"IF($I264=\"\",\"\",VLOOKUP($I264,判定式!$V$3:$W$12,2,TRUE))","v":""},{"$f":"IF($J264=\"\",\"\",VLOOKUP($J264,判定式!$Y$3:$Z$12,2,TRUE))","v":""},{"$f":"IF($K264=\"\",\"\",VLOOKUP($K264,判定式!$T$3:$W$12,4,TRUE))","v":""},{"$f":"IF($L264=\"\",\"\",VLOOKUP($L264,判定式!$U$3:$W$12,3,TRUE))","v":""},"",{"$f":"IF(ISNUMBER(D264),\"判定外\",IF(C264=6,VLOOKUP(AA264,判定式!$C$15:I$19,7,TRUE),IF(C264=7,VLOOKUP(AA264,判定式!$D$15:I$19,6,TRUE),IF(C264=8,VLOOKUP(AA264,判定式!$E$15:I$19,5,TRUE),IF(C264=9,VLOOKUP(AA264,判定式!$F$15:I$19,4,TRUE),IF(C264=10,VLOOKUP(AA264,判定式!$G$15:I$19,3,TRUE),IF(C264=11,VLOOKUP(AA264,判定式!$H$15:I$19,2,TRUE))))))))","v":false}]
[116,null,null,"-",null,null,null,null,null,null,null,null,null,null,null,null,null,null,{"$f":"IF($E265=\"\",\"\",VLOOKUP($E265,判定式!$P$3:$W$12,8,TRUE))","v":""},{"$f":"IF($F265=\"\",\"\",VLOOKUP($F265,判定式!$Q$3:$W$12,7,TRUE))","v":""},{"$f":"IF($G265=\"\",\"\",VLOOKUP($G265,判定式!$R$3:$W$12,6,TRUE))","v":""},{"$f":"IF($H265=\"\",\"\",VLOOKUP($H265,判定式!$S$3:$W$12,5,TRUE))","v":""},{"$f":"IF($I265=\"\",\"\",VLOOKUP($I265,判定式!$V$3:$W$12,2,TRUE))","v":""},{"$f":"IF($J265=\"\",\"\",VLOOKUP($J265,判定式!$Y$3:$Z$12,2,TRUE))","v":""},{"$f":"IF($K265=\"\",\"\",VLOOKUP($K265,判定式!$T$3:$W$12,4,TRUE))","v":""},{"$f":"IF($L265=\"\",\"\",VLOOKUP($L265,判定式!$U$3:$W$12,3,TRUE))","v":""},"",{"$f":"IF(ISNUMBER(D265),\"判定外\",IF(C265=6,VLOOKUP(AA265,判定式!$C$15:I$19,7,TRUE),IF(C265=7,VLOOKUP(AA265,判定式!$D$15:I$19,6,TRUE),IF(C265=8,VLOOKUP(AA265,判定式!$E$15:I$19,5,TRUE),IF(C265=9,VLOOKUP(AA265,判定式!$F$15:I$19,4,TRUE),IF(C265=10,VLOOKUP(AA265,判定式!$G$15:I$19,3,TRUE),IF(C265=11,VLOOKUP(AA265,判定式!$H$15:I$19,2,TRUE))))))))","v":false}]
[117,null,null,"-",null,null,null,null,null,null,null,null,null,null,null,null,null,null,{"$f":"IF($E266=\"\",\"\",VLOOKUP($E266,判定式!$P$3:$W$12,8,TRUE))","v":""},{"$f":"IF($F266=\"\",\"\",VLOOKUP($F266,判定式!$Q$3:$W$12,7,TRUE))","v":""},{"$f":"IF($G266=\"\",\"\",VLOOKUP($G266,判定式!$R$3:$W$12,6,TRUE))","v":""},{"$f":"IF($H266=\"\",\"\",VLOOKUP($H266,判定式!$S$3:$W$12,5,TRUE))","v":""},{"$f":"IF($I266=\"\",\"\",VLOOKUP($I266,判定式!$V$3:$W$12,2,TRUE))","v":""},{"$f":"IF($J266=\"\",\"\",VLOOKUP($J266,判定式!$Y$3:$Z$12,2,TRUE))","v":""},{"$f":"IF($K266=\"\",\"\",VLOOKUP($K266,判定式!$T$3:$W$12,4,TRUE))","v":""},{"$f":"IF($L266=\"\",\"\",VLOOKUP($L266,判定式!$U$3:$W$12,3,TRUE))","v":""},"",{"$f":"IF(ISNUMBER(D266),\"判定外\",IF(C266=6,VLOOKUP(AA266,判定式!$C$15:I$19,7,TRUE),IF(C266=7,VLOOKUP(AA266,判定式!$D$15:I$19,6,TRUE),IF(C266=8,VLOOKUP(AA266,判定式!$E$15:I$19,5,TRUE),IF(C266=9,VLOOKUP(AA266,判定式!$F$15:I$19,4,TRUE),IF(C266=10,VLOOKUP(AA266,判定式!$G$15:I$19,3,TRUE),IF(C266=11,VLOOKUP(AA266,判定式!$H$15:I$19,2,TRUE))))))))","v":false}]
[118,null,null,"-",null,null,null,null,null,null,null,null,null,null,null,null,null,null,{"$f":"IF($E267=\"\",\"\",VLOOKUP($E267,判定式!$P$3:$W$12,8,TRUE))","v":""},{"$f":"IF($F267=\"\",\"\",VLOOKUP($F267,判定式!$Q$3:$W$12,7,TRUE))","v":""},{"$f":"IF($G267=\"\",\"\",VLOOKUP($G267,判定式!$R$3:$W$12,6,TRUE))","v":""},{"$f":"IF($H267=\"\",\"\",VLOOKUP($H267,判定式!$S$3:$W$12,5,TRUE))","v":""},{"$f":"IF($I267=\"\",\"\",VLOOKUP($I267,判定式!$V$3:$W$12,2,TRUE))","v":""},{"$f":"IF($J267=\"\",\"\",VLOOKUP($J267,判定式!$Y$3:$Z$12,2,TRUE))","v":""},{"$f":"IF($K267=\"\",\"\",VLOOKUP($K267,判定式!$T$3:$W$12,4,TRUE))","v":""},{"$f":"IF($L267=\"\",\"\",VLOOKUP($L267,判定式!$U$3:$W$12,3,TRUE))","v":""},"",{"$f":"IF(ISNUMBER(D267),\"判定外\",IF(C267=6,VLOOKUP(AA267,判定式!$C$15:I$19,7,TRUE),IF(C267=7,VLOOKUP(AA267,判定式!$D$15:I$19,6,TRUE),IF(C267=8,VLOOKUP(AA267,判定式!$E$15:I$19,5,TRUE),IF(C267=9,VLOOKUP(AA267,判定式!$F$15:I$19,4,TRUE),IF(C267=10,VLOOKUP(AA267,判定式!$G$15:I$19,3,TRUE),IF(C267=11,VLOOKUP(AA267,判定式!$H$15:I$19,2,TRUE))))))))","v":false}]
[119,null,null,"-",null,null,null,null,null,null,null,null,null,null,null,null,null,null,{"$f":"IF($E268=\"\",\"\",VLOOKUP($E268,判定式!$P$3:$W$12,8,TRUE))","v":""},{"$f":"IF($F268=\"\",\"\",VLOOKUP($F268,判定式!$Q$3:$W$12,7,TRUE))","v":""},{"$f":"IF($G268=\"\",\"\",VLOOKUP($G268,判定式!$R$3:$W$12,6,TRUE))","v":""},{"$f":"IF($H268=\"\",\"\",VLOOKUP($H268,判定式!$S$3:$W$12,5,TRUE))","v":""},{"$f":"IF($I268=\"\",\"\",VLOOKUP($I268,判定式!$V$3:$W$12,2,TRUE))","v":""},{"$f":"IF($J268=\"\",\"\",VLOOKUP($J268,判定式!$Y$3:$Z$12,2,TRUE))","v":""},{"$f":"IF($K268=\"\",\"\",VLOOKUP($K268,判定式!$T$3:$W$12,4,TRUE))","v":""},{"$f":"IF($L268=\"\",\"\",VLOOKUP($L268,判定式!$U$3:$W$12,3,TRUE))","v":""},"",{"$f":"IF(ISNUMBER(D268),\"判定外\",IF(C268=6,VLOOKUP(AA268,判定式!$C$15:I$19,7,TRUE),IF(C268=7,VLOOKUP(AA268,判定式!$D$15:I$19,6,TRUE),IF(C268=8,VLOOKUP(AA268,判定式!$E$15:I$19,5,TRUE),IF(C268=9,VLOOKUP(AA268,判定式!$F$15:I$19,4,TRUE),IF(C268=10,VLOOKUP(AA268,判定式!$G$15:I$19,3,TRUE),IF(C268=11,VLOOKUP(AA268,判定式!$H$15:I$19,2,TRUE))))))))","v":false}]
[120,null,null,"-",null,null,null,null,null,null,null,null,null,null,null,null,null,null,{"$f":"IF($E269=\"\",\"\",VLOOKUP($E269,判定式!$P$3:$W$12,8,TRUE))","v":""},{"$f":"IF($F269=\"\",\"\",VLOOKUP($F269,判定式!$Q$3:$W$12,7,TRUE))","v":""},{"$f":"IF($G269=\"\",\"\",VLOOKUP($G269,判定式!$R$3:$W$12,6,TRUE))","v":""},{"$f":"IF($H269=\"\",\"\",VLOOKUP($H269,判定式!$S$3:$W$12,5,TRUE))","v":""},{"$f":"IF($I269=\"\",\"\",VLOOKUP($I269,判定式!$V$3:$W$12,2,TRUE))","v":""},{"$f":"IF($J269=\"\",\"\",VLOOKUP($J269,判定式!$Y$3:$Z$12,2,TRUE))","v":""},{"$f":"IF($K269=\"\",\"\",VLOOKUP($K269,判定式!$T$3:$W$12,4,TRUE))","v":""},{"$f":"IF($L269=\"\",\"\",VLOOKUP($L269,判定式!$U$3:$W$12,3,TRUE))","v":""},"",{"$f":"IF(ISNUMBER(D269),\"判定外\",IF(C269=6,VLOOKUP(AA269,判定式!$C$15:I$19,7,TRUE),IF(C269=7,VLOOKUP(AA269,判定式!$D$15:I$19,6,TRUE),IF(C269=8,VLOOKUP(AA269,判定式!$E$15:I$19,5,TRUE),IF(C269=9,VLOOKUP(AA269,判定式!$F$15:I$19,4,TRUE),IF(C269=10,VLOOKUP(AA269,判定式!$G$15:I$19,3,TRUE),IF(C269=11,VLOOKUP(AA269,判定式!$H$15:I$19,2,TRUE))))))))","v":false}]

{"sheet":"児童記録票","index":7,"n_rows":305,"n_cols":26,"rows_kept":305,"cut":false,"hidden":false,"merged":[[277,1,281,2],[277,3,278,5],[277,6,278,6],[277,7,278,7],[277,8,278,8],[280,3,281,4],[280,5,281,5],[274,13,275,13],[271,8,272,8],[274,3,275,4],[274,5,275,5],[274,6,275,6],[274,7,275,7],[274,8,275,8],[280,6,281,6],[280,7,281,7],[280,8,281,8],[274,9,275,9],[274,10,275,10],[280,9,281,10],[280,11,281,11],[280,12,281,12],[280,13,281,13],[271,1,275,2],[271,3,272,4],[271,5,272,5],[271,6,272,6],[271,7,272,7],[265,9,266,10],[268,10,269,10],[274,11,275,11],[274,12,275,12],[268,13,269,13],[265,1,266,2],[265,3,266,5],[265,6,266,6],[265,7,266,7],[265,8,266,8],[265,11,266,11],[265,12,266,12],[265,13,266,13],[268,1,269,2],[268,3,269,4],[268,5,269,5],[268,6,269,6],[268,7,269,7],[268,8,269,8],[268,9,269,9],[268,11,269,11],[268,12,269,12],[262,11,263,11],[262,12,263,12],[262,13,263,13],[256,12,257,12],[256,13,257,13],[259,1,263,2],[259,3,260,5],[259,6,260,6],[259,7,260,7],[259,8,260,8],[262,3,263,4],[262,5,263,5],[262,6,263,6],[253,1,257,2],[253,3,254,5],[253,6,254,6],[253,7,254,7],[253,8,254,8],[256,3,257,4],[262,7,263,7],[262,8,263,8],[262,9,263,10],[256,5,257,5],[256,6,257,6],[256,7,257,7],[256,8,257,8],[256,9,257,10],[256,11,257,11],[250,9,251,10],[250,11,251,11],[250,12,251,12],[247,3,247,4],[247,9,247,10],[248,3,248,5],[248,9,248,13],[250,1,251,2],[250,3,251,5],[250,6,251,6],[250,7,251,7],[250,8,251,8],[244,1,248,2],[244,3,244,4],[244,9,244,10],[250,13,251,13],[240,1,240,13],[229,1,233,2],[229,3,230,5],[229,6,230,6],[229,7,230,7],[229,8,230,8],[232,3,233,4],[246,3,246,4],[246,9,246,10],[241,4,241,5],[242,3,242,13],[226,12,227,12],[226,13,227,13],[223,8,224,8],[226,3,227,4],[226,5,227,5],[226,6,227,6],[226,7,227,7],[226,8,227,8],[232,5,233,5],[232,6,233,6],[232,7,233,7],[232,8,233,8],[226,9,227,9],[232,9,233,10],[232,11,233,11],[232,12,233,12],[232,13,233,13],[223,1,227,2],[223,3,224,4],[223,5,224,5],[223,6,224,6],[223,7,224,7],[217,9,218,10],[220,10,221,10],[226,10,227,10],[226,11,227,11],[220,13,221,13],[217,1,218,2],[217,3,218,5],[217,6,218,6],[217,7,218,7],[217,8,218,8],[217,11,218,11],[217,12,218,12],[217,13,218,13],[220,1,221,2],[220,3,221,4],[220,5,221,5],[220,6,221,6],[220,7,221,7],[220,8,221,8],[220,9,221,9],[220,11,221,11],[220,12,221,12],[214,11,215,11],[214,12,215,12],[214,13,215,13],[208,12,209,12],[208,13,209,13],[211,1,215,2],[211,3,212,5],[211,6,212,6],[211,7,212,7],[211,8,212,8],[214,3,215,4],[214,5,215,5],[214,6,215,6],[205,1,209,2],[205,3,206,5],[205,6,206,6],[205,7,206,7],[205,8,206,8],[208,3,209,4],[214,7,215,7],[214,8,215,8],[214,9,215,10],[208,5,209,5],[208,6,209,6],[208,7,209,7],[208,8,209,8],[208,9,209,10],[208,11,209,11],[202,9,203,10],[202,11,203,11],[202,12,203,12],[199,3,199,4],[199,9,199,10],[200,3,200,5],[200,9,200,13],[202,1,203,2],[202,3,203,5],[202,6,203,6],[202,7,203,7],[202,8,203,8],[196,1,200,2],[196,3,196,4],[196,9,196,10],[202,13,203,13],[192,1,192,13],[181,1,185,2],[181,3,182,5],[181,6,182,6],[181,7,182,7],[181,8,182,8],[184,3,185,4],[198,3,198,4],[198,9,198,10],[193,4,193,5],[194,3,194,13],[178,12,179,12],[178,13,179,13],[175,8,176,8],[178,3,179,4],[178,5,179,5],[178,6,179,6],[178,7,179,7],[178,8,179,8],[184,5,185,5],[184,6,185,6],[184,7,185,7],[184,8,185,8],[178,9,179,9],[184,9,185,10],[184,11,185,11],[184,12,185,12],[184,13,185,13],[175,1,179,2],[175,3,176,4],[175,5,176,5],[175,6,176,6],[175,7,176,7],[169,9,170,10],[172,10,173,10],[178,10,179,10],[178,11,179,11],[172,13,173,13],[169,1,170,2],[169,3,170,5],[169,6,170,6],[169,7,170,7],[169,8,170,8],[169,11,170,11],[169,12,170,12],[169,13,170,13],[172,1,173,2],[172,3,173,4],[172,5,173,5],[172,6,173,6],[172,7,173,7],[172,8,173,8],[172,9,173,9],[172,11,173,11],[172,12,173,12],[166,11,167,11],[166,12,167,12],[166,13,167,13],[160,12,161,12],[160,13,161,13],[163,1,167,2],[163,3,164,5],[163,6,164,6],[163,7,164,7],[163,8,164,8],[166,3,167,4],[166,5,167,5],[166,6,167,6],[157,1,161,2],[157,3,158,5],[157,6,158,6],[157,7,158,7],[157,8,158,8],[160,3,161,4],[166,7,167,7],[166,8,167,8],[166,9,167,10],[160,5,161,5],[160,6,161,6],[160,7,161,7],[160,8,161,8],[160,9,161,10],[160,11,161,11],[154,9,155,10],[154,11,155,11],[154,12,155,12],[151,3,151,4],[151,9,151,10],[152,3,152,5],[152,9,152,13],[154,1,155,2],[154,3,155,5],[154,6,155,6],[154,7,155,7],[154,8,155,8],[148,1,152,2],[148,3,148,4],[148,9,148,10],[154,13,155,13],[144,1,144,13],[133,1,137,2],[133,3,134,5],[133,6,134,6],[133,7,134,7],[133,8,134,8],[136,3,137,4],[150,3,150,4],[150,9,150,10],[145,4,145,5],[146,3,146,13],[130,12,131,12],[130,13,131,13],[127,8,128,8],[130,3,131,4],[130,5,131,5],[130,6,131,6],[130,7,131,7],[130,8,131,8],[136,5,137,5],[136,6,137,6],[136,7,137,7],[136,8,137,8],[130,9,131,9],[136,9,137,10],[136,11,137,11],[136,12,137,12],[136,13,137,13],[127,1,131,2],[127,3,128,4],[127,5,128,5],[127,6,128,6],[127,7,128,7],[121,9,122,10],[124,10,125,10],[130,10,131,10],[130,11,131,11],[124,13,125,13],[121,1,122,2],[121,3,122,5],[121,6,122,6],[121,7,122,7],[121,8,122,8],[121,11,122,11],[121,12,122,12],[121,13,122,13],[124,1,125,2],[124,3,125,4],[124,5,125,5],[124,6,125,6],[124,7,125,7],[124,8,125,8],[124,9,125,9],[124,11,125,11],[124,12,125,12],[118,11,119,11],[118,12,119,12],[118,13,119,13],[112,12,113,12],[112,13,113,13],[115,1,119,2],[115,3,116,5],[115,6,116,6],[115,7,116,7],[115,8,116,8],[118,3,119,4],[118,5,119,5],[118,6,119,6],[109,1,113,2],[109,3,110,5],[109,6,110,6],[109,7,110,7],[109,8,110,8],[112,3,113,4],[118,7,119,7],[118,8,119,8],[118,9,119,10],[112,5,113,5],[112,6,113,6],[112,7,113,7],[112,8,113,8],[112,9,113,10],[112,11,113,11],[106,9,107,10],[106,11,107,11],[106,12,107,12],[103,3,103,4],[103,9,103,10],[104,3,104,5],[104,9,104,13],[106,1,107,2],[106,3,107,5],[106,6,107,6],[106,7,107,7],[106,8,107,8],[100,1,104,2],[100,3,100,4],[100,9,100,10],[106,13,107,13],[96,1,96,13],[85,1,89,2],[85,3,86,5],[85,6,86,6],[85,7,86,7],[85,8,86,8],[88,3,89,4],[102,3,102,4],[102,9,102,10],[97,4,97,5],[98,3,98,13],[82,12,83,12],[82,13,83,13],[79,8,80,8],[82,3,83,4],[82,5,83,5],[82,6,83,6],[82,7,83,7],[82,8,83,8],[88,5,89,5],[88,6,89,6],[88,7,89,7],[88,8,89,8],[82,9,83,9],[88,9,89,10],[88,11,89,11],[88,12,89,12],[88,13,89,13],[79,1,83,2],[79,3,80,4],[79,5,80,5],[79,6,80,6],[79,7,80,7],[73,9,74,10],[76,10,77,10],[82,10,83,10],[82,11,83,11],[70,7,71,7],[70,8,71,8],[70,9,71,10],[64,5,65,5],[64,6,65,6],[76,13,77,13],[73,1,74,2],[73,3,74,5],[73,6,74,6],[73,7,74,7],[73,8,74,8],[73,11,74,11],[73,12,74,12],[73,13,74,13],[76,1,77,2],[76,3,77,4],[76,5,77,5],[76,6,77,6],[76,7,77,7],[76,8,77,8],[76,9,77,9],[76,11,77,11],[76,12,77,12],[58,1,59,2],[58,3,59,5],[58,6,59,6],[58,7,59,7],[58,8,59,8],[70,11,71,11],[70,12,71,12],[70,13,71,13],[64,12,65,12],[64,13,65,13],[67,1,71,2],[67,3,68,5],[67,6,68,6],[67,7,68,7],[67,8,68,8],[70,3,71,4],[70,5,71,5],[70,6,71,6],[61,1,65,2],[61,3,62,5],[61,6,62,6],[61,7,62,7],[61,8,62,8],[64,3,65,4],[58,13,59,13],[54,9,54,10],[34,10,35,10],[34,11,35,11],[34,12,35,12],[40,3,41,4],[64,7,65,7],[64,8,65,8],[64,9,65,10],[64,11,65,11],[58,9,59,10],[58,11,59,11],[58,12,59,12],[40,8,41,8],[40,6,41,6],[37,6,38,6],[34,6,35,6],[22,13,23,13],[10,9,11,10],[10,7,11,7],[13,7,14,7],[10,12,11,12],[37,7,38,7],[37,8,38,8],[50,3,50,13],[52,1,56,2],[52,3,52,4],[52,9,52,10],[54,3,54,4],[55,3,55,4],[55,9,55,10],[56,3,56,5],[56,9,56,13],[40,11,41,11],[40,12,41,12],[40,13,41,13],[48,1,48,13],[49,4,49,5],[37,1,41,2],[40,5,41,5],[40,7,41,7],[31,5,32,5],[31,6,32,6],[34,13,35,13],[25,3,26,5],[25,11,26,11],[25,12,26,12],[28,10,29,10],[31,7,32,7],[31,8,32,8],[34,7,35,7],[34,8,35,8],[25,7,26,7],[25,8,26,8],[28,7,29,7],[28,8,29,8],[34,3,35,4],[34,9,35,9],[25,13,26,13],[28,11,29,11],[34,5,35,5],[6,3,6,4],[7,3,7,4],[10,3,11,5],[19,8,20,8],[22,5,23,5],[22,6,23,6],[22,7,23,7],[25,6,26,6],[28,6,29,6],[10,8,11,8],[31,1,35,2],[37,3,38,5],[22,9,23,10],[16,9,17,10],[25,9,26,10],[40,9,41,10],[10,13,11,13],[28,5,29,5],[22,11,23,11],[13,8,14,8],[16,11,17,11],[16,13,17,13],[22,12,23,12],[31,3,32,4],[19,1,23,2],[19,3,20,5],[28,12,29,12],[28,13,29,13],[28,9,29,9],[13,3,14,5],[25,1,26,2],[28,1,29,2],[16,7,17,7],[16,8,17,8],[1,4,1,5],[16,3,17,4],[10,11,11,11],[28,3,29,4],[16,12,17,12],[22,3,23,4],[22,8,23,8],[0,1,0,13],[2,3,2,13],[8,3,8,5],[8,9,8,13],[4,9,4,10],[6,9,6,10],[7,9,7,10],[19,6,20,6],[19,7,20,7],[4,1,8,2],[4,3,4,4],[13,1,17,2],[10,6,11,6],[13,6,14,6],[10,1,11,2],[16,5,17,5],[16,6,17,6]]}
[null,"しんたいりょくてすと　きろくひょう"]
[null,null,"１ねん",null,"くみ",null,null,null,"ばん"]
[null,null,"なまえ"]
[]
[null,"あくりょく\n",null,"もくひょう",null,"みぎ",null,null,"ｋｇ","ひだり",null,null,null,"ｋｇ"]
[]
[null,null,null,"１かいめ",null,"みぎ",null,null,"ｋｇ","ひだり",null,null,null,"ｋｇ"]
[null,null,null,"２かいめ",null,"みぎ",null,null,"ｋｇ","ひだり",null,null,null,"ｋｇ"]
[null,null,null,"きろく",null,null,null,null,"ｋｇ","左右おのおのよい方の記録を平均し、小数第1位を四捨五入する。"]
[]
[null,"じょうたいおこし",null,"もくひょう",null,null,null,null,"かい","きろく",null,null,null,"かい"]
[]
[]
[null,"ちょうざたいぜんくつ",null,"もくひょう",null,null,null,null,"ｃｍ"]
[]
[]
[null,null,null,"きろく",null,"１かい\nめ",null,null,"ｃｍ","２かいめ",null,null,null,"ｃｍ"]
[]
[]
[null,"はんぷくよことび",null,"もくひょう",null,null,null,null,"てん"]
[]
[]
[null,null,null,"きろく",null,"１かい\nめ",null,null,"てん","２かいめ",null,null,null,"てん"]
[]
[]
[null,"２０めえとる\nしゃとるらん",null,"もくひょう",null,null,null,null,"かい","きろく",null,null,null,"かい"]
[]
[]
[null,"５０めえとるそう",null,"もくひょう",null,null,null,null,"びょう","きろく",null,null,null,"びょう"]
[]
[]
[null,"たちはばとび",null,"もくひょう",null,null,null,null,"ｃｍ"]
[]
[]
[null,null,null,"１かいめ",null,null,null,null,"ｃｍ","２かいめ",null,null,null,"ｃｍ"]
[]
[]
[null,"そふとぼうるなげ",null,"もくひょう",null,null,null,null,"ｍ"]
[]
[]
[null,null,null,"きろく",null,"１かい\nめ",null,null,"ｍ","２かいめ",null,null,null,"ｍ"]
[]
[]
[]
[]
[]
[]
[]
[null,"しんたい力テスト　きろくひょう"]
[null,null,"２年",null,"くみ",null,null,null,"ばん"]
[null,null,"名まえ"]
[]
[null,"あく力\n",null,"目ひょう",null,"右",null,null,"ｋｇ","左",null,null,null,"ｋｇ"]
[]
[null,null,null,"１かい目",null,"右",null,null,"ｋｇ","左",null,null,null,"ｋｇ"]
[null,null,null,"２かい目",null,"右",null,null,"ｋｇ","左",null,null,null,"ｋｇ"]
[null,null,null,"きろく",null,null,null,null,"ｋｇ","左右おのおのよい方の記録を平均し、小数第1位を四捨五入する。"]
[]
[null,"上たいおこし",null,"目ひょう",null,null,null,null,"かい","きろく",null,null,null,"かい"]
[]
[]
[null,"ちょうざたいぜんくつ",null,"目ひょう",null,null,null,null,"ｃｍ"]
[]
[]
[null,null,null,"きろく",null,"１かい目",null,null,"ｃｍ","２かい目",null,null,null,"ｃｍ"]
[]
[]
[null,"はんぷくよことび",null,"目ひょう",null,null,null,null,"てん"]
[]
[]
[null,null,null,"きろく",null,"１かい目",null,null,"てん","２かい目",null,null,null,"てん"]
[]
[]
[null,"２０ｍシャトルラン",null,"目ひょう",null,null,null,null,"かい","きろく",null,null,null,"かい"]
[]
[]
[null,"５０ｍそう",null,"目ひょう",null,null,null,null,"びょう","きろく",null,null,null,"びょう"]
[]
[]
[null,"立ちはばとび",null,"目ひょう",null,null,null,null,"ｃｍ"]
[]
[]
[null,null,null,"１かい目",null,null,null,null,"ｃｍ","２かい目",null,null,null,"ｃｍ"]
[]
[]
[null,"ソフトボールなげ",null,"目ひょう",null,null,null,null,"ｍ"]
[]
[]
[null,null,null,"きろく",null,"１かい目",null,null,"ｍ","２かい目",null,null,null,"ｍ"]
[]
[]
[]
[]
[]
[]
[]
[null,"新体力テスト　記ろくひょう"]
[null,null,"３年",null,"組",null,null,null,"番"]
[null,null,"名前"]
[]
[null,"あく力\n",null,"目ひょう",null,"右",null,null,"ｋｇ","左",null,null,null,"ｋｇ"]
[]
[null,null,null,"１回目",null,"右",null,null,"ｋｇ","左",null,null,null,"ｋｇ"]
[null,null,null,"２回目",null,"右",null,null,"ｋｇ","左",null,null,null,"ｋｇ"]
[null,null,null,"記ろく",null,null,null,null,"ｋｇ","左右おのおのよい方の記録を平均し、小数第1位を四捨五入する。"]
[]
[null,"上体おこし",null,"目ひょう",null,null,null,null,"回","記ろく",null,null,null,"回"]
[]
[]
[null,"長ざ体前くつ",null,"目ひょう",null,null,null,null,"ｃｍ"]
[]
[]
[null,null,null,"記ろく",null,"１回目",null,null,"ｃｍ","２回目",null,null,null,"ｃｍ"]
[]
[]
[null,"はんぷくよことび",null,"目ひょう",null,null,null,null,"点"]
[]
[]
[null,null,null,"記ろく",null,"１回目",null,null,"点","２回目",null,null,null,"点"]
[]
[]
[null,"２０ｍシャトルラン",null,"目ひょう",null,null,null,null,"回","記ろく",null,null,null,"回"]
[]
[]
[null,"５０ｍ走",null,"目ひょう",null,null,null,null,"びょう","記ろく",null,null,null,"びょう"]
[]
[]
[null,"立ちはばとび",null,"目ひょう",null,null,null,null,"ｃｍ"]
[]
[]
[null,null,null,"１回目",null,null,null,null,"ｃｍ","２回目",null,null,null,"ｃｍ"]
[]
[]
[null,"ソフトボールなげ",null,"目ひょう",null,null,null,null,"ｍ"]
[]
[]
[null,null,null,"記ろく",null,"１回目",null,null,"ｍ","２回目",null,null,null,"ｍ"]
[]
[]
[]
[]
[]
[]
[]
[null,"新体力テスト　記ろくひょう"]
[null,null,"４年",null,"組",null,null,null,"番"]
[null,null,"名前"]
[]
[null,"あく力\n",null,"目ひょう",null,"右",null,null,"ｋｇ","左",null,null,null,"ｋｇ"]
[]
[null,null,null,"１回目",null,"右",null,null,"ｋｇ","左",null,null,null,"ｋｇ"]
[null,null,null,"２回目",null,"右",null,null,"ｋｇ","左",null,null,null,"ｋｇ"]
[null,null,null,"記ろく",null,null,null,null,"ｋｇ","左右おのおのよい方の記録を平均し、小数第1位を四捨五入する。"]
[]
[null,"上体起こし",null,"目ひょう",null,null,null,null,"回","記ろく",null,null,null,"回"]
[]
[]
[null,"長ざ体前くつ",null,"目ひょう",null,null,null,null,"ｃｍ"]
[]
[]
[null,null,null,"記ろく",null,"１回目",null,null,"ｃｍ","２回目",null,null,null,"ｃｍ"]
[]
[]
[null,"反ぷく横とび",null,"目ひょう",null,null,null,null,"点"]
[]
[]
[null,null,null,"記ろく",null,"１回目",null,null,"点","２回目",null,null,null,"点"]
[]
[]
[null,"２０ｍシャトルラン",null,"目ひょう",null,null,null,null,"回","記ろく",null,null,null,"回"]
[]
[]
[null,"５０ｍ走",null,"目ひょう",null,null,null,null,"秒","記ろく",null,null,null,"秒"]
[]
[]
[null,"立ちはばとび",null,"目ひょう",null,null,null,null,"ｃｍ"]
[]
[]
[null,null,null,"１回目",null,null,null,null,"ｃｍ","２回目",null,null,null,"ｃｍ"]
[]
[]
[null,"ソフトボール投げ",null,"目ひょう",null,null,null,null,"ｍ"]
[]
[]
[null,null,null,"記ろく",null,"１回目",null,null,"ｍ","２回目",null,null,null,"ｍ"]
[]
[]
[]
[]
[]
[]
[]
[null,"新体力テスト　記録票"]
[null,null,"５年",null,"組",null,null,null,"番"]
[null,null,"名前"]
[]
[null,"あく力\n",null,"目標",null,"右",null,null,"ｋｇ","左",null,null,null,"ｋｇ"]
[]
[null,null,null,"１回目",null,"右",null,null,"ｋｇ","左",null,null,null,"ｋｇ"]
[null,null,null,"２回目",null,"右",null,null,"ｋｇ","左",null,null,null,"ｋｇ"]
[null,null,null,"記録",null,null,null,null,"ｋｇ","左右おのおのよい方の記録を平均し、小数第1位を四捨五入する。"]
[]
[null,"上体起こし",null,"目標",null,null,null,null,"回","記録",null,null,null,"回"]
[]
[]
[null,"長ざ体前くつ",null,"目標",null,null,null,null,"ｃｍ"]
[]
[]
[null,null,null,"記録",null,"１回目",null,null,"ｃｍ","２回目",null,null,null,"ｃｍ"]
[]
[]
[null,"反ぷく横とび",null,"目標",null,null,null,null,"点"]
[]
[]
[null,null,null,"記録",null,"１回目",null,null,"点","２回目",null,null,null,"点"]
[]
[]
[null,"２０ｍシャトルラン",null,"目標",null,null,null,null,"回","記録",null,null,null,"回"]
[]
[]
[null,"５０ｍ走",null,"目標",null,null,null,null,"秒","記録",null,null,null,"秒"]
[]
[]
[null,"立ちはばとび",null,"目標",null,null,null,null,"ｃｍ"]
[]
[]
[null,null,null,"１回目",null,null,null,null,"ｃｍ","２回目",null,null,null,"ｃｍ"]
[]
[]
[null,"ソフトボール投げ",null,"目標",null,null,null,null,"ｍ"]
[]
[]
[null,null,null,"記録",null,"１回目",null,null,"ｍ","２回目",null,null,null,"ｍ"]
[]
[]
[]
[]
[]
[]
[]
[null,"新体力テスト　記録票"]
[null,null,"６年",null,"組",null,null,null,"番"]
[null,null,"名前"]
[]
[null,"あく力\n",null,"目標",null,"右",null,null,"ｋｇ","左",null,null,null,"ｋｇ"]
[]
[null,null,null,"１回目",null,"右",null,null,"ｋｇ","左",null,null,null,"ｋｇ"]
[null,null,null,"２回目",null,"右",null,null,"ｋｇ","左",null,null,null,"ｋｇ"]
[null,null,null,"記録",null,null,null,null,"ｋｇ","左右おのおのよい方の記録を平均し、小数第1位を四捨五入する。"]
[]
[null,"上体起こし",null,"目標",null,null,null,null,"回","記録",null,null,null,"回"]
[]
[]
[null,"長ざ体前くつ",null,"目標",null,null,null,null,"ｃｍ"]
[]
[]
[null,null,null,"記録",null,"１回目",null,null,"ｃｍ","２回目",null,null,null,"ｃｍ"]
[]
[]
[null,"反復横とび",null,"目標",null,null,null,null,"点"]
[]
[]
[null,null,null,"記録",null,"１回目",null,null,"点","２回目",null,null,null,"点"]
[]
[]
[null,"２０ｍシャトルラン",null,"目標",null,null,null,null,"回","記録",null,null,null,"回"]
[]
[]
[null,"５０ｍ走",null,"目標",null,null,null,null,"秒","記録",null,null,null,"秒"]
[]
[]
[null,"立ちはばとび",null,"目標",null,null,null,null,"ｃｍ"]
[]
[]
[null,null,null,"１回目",null,null,null,null,"ｃｍ","２回目",null,null,null,"ｃｍ"]
[]
[]
[null,"ソフトボール投げ",null,"目標",null,null,null,null,"ｍ"]
[]
[]
[null,null,null,"記録",null,"１回目",null,null,"ｍ","２回目",null,null,null,"ｍ"]
[]
[]
[]
[]
[]
[]
[]
[]
[]
[]
[]
[]
[]
[]
[]
[]
[]
[]
[]
[]
[]
[null,null,null,null,null,null,null,null,null,null,null,null,null,null,null,null,null,"目ひょう\nれい","あく力","上体\n起こし","長ざ\n体前くつ","反ぷく\n横とび","２０ｍ\nシャトルラン","５０ｍ走","立ち\nはばとび","ソフト\nボール投げ"]
[null,null,null,null,null,null,null,null,null,null,null,null,null,null,null,null,null,"４年男子",15,17,32,39,44,9.6999999999999993,142,20]
[null,null,null,null,null,null,null,null,null,null,null,null,null,null,null,null,null,"４年女子",14,16,36,37,33,10,135,12]

{"sheet":"生活ア回答用紙","index":8,"n_rows":41,"n_cols":9,"rows_kept":41,"cut":false,"hidden":false,"merged":[[38,1,40,1],[30,2,30,13],[36,2,36,13],[1,1,1,13],[4,5,4,13],[8,1,10,1],[14,1,16,1],[20,1,22,1],[26,1,28,1],[32,1,34,1],[12,2,12,13],[18,2,18,13],[24,2,24,13]]}
[]
[null,"三重県児童生徒の体力運動能力調査における生活アンケート用紙"]
[]
[null,null,null,null,"６年",null,"組",null,"番"]
[null,null,null,null,"名前"]
[]
[null,"設問１","　運動部や地域スポーツクラブへ入っていますか。"]
[null,"回答",null,"１．入っている"]
[null,null,null,"２．入っていない"]
[]
[]
[]
[null,"設問２","　運動（遊びを含む）やスポーツをどのくらいしますか。\n（学校の体育の授業をのぞきます）"]
[null,"回答",null,"１．ほとんど毎日（週に3日以上）"]
[null,null,null,"２．ときどき（週に１～2日ぐらい）"]
[null,null,null,"３．ときたま（月に１～３日ぐらい）"]
[null,null,null,"４．しない"]
[]
[null,"設問３","　運動（遊びを含む）やスポーツをするときは1日どのくらいの時間をしますか。\n（学校の体育の授業をのぞきます）"]
[null,"回答",null,"１．３０分未満"]
[null,null,null,"２．３０分以上１時間未満"]
[null,null,null,"３．１時間以上２時間未満"]
[null,null,null,"４．２時間以上"]
[]
[null,"設問４","　朝食は食べますか"]
[null,"回答",null,"１．毎日食べる"]
[null,null,null,"２．時々食べない"]
[null,null,null,"３．毎日食べない"]
[]
[]
[null,"設問５","　１日の睡眠時間"]
[null,"回答",null,"１．６時間未満"]
[null,null,null,"２．６時間以上８時間未満"]
[null,null,null,"３．８時間以上"]
[]
[]
[null,"設問６","　平日（月～金曜日）について聞きます。学校以外で１日にどれくらいの時間、テレビやDVD、ゲーム機、スマートフォン、パソコンなどの画面を見ていますか。"]
[null,"回答",null,"１．１時間未満"]
[null,null,null,"２．１時間以上２時間未満"]
[null,null,null,"３．２時間以上３時間未満"]
[null,null,null,"４．３時間以上"]

{"sheet":"目標値（例）","index":9,"n_rows":0,"n_cols":0,"rows_kept":0,"cut":false,"hidden":false,"merged":[]}

{"sheet":"ふりかえりシート（印刷用）","index":10,"n_rows":834,"n_cols":11,"rows_kept":834,"cut":false,"hidden":false,"merged":[[206,1,206,10],[43,1,43,10],[39,1,39,10],[42,1,42,10],[57,3,57,10],[44,2,44,4],[45,2,45,4],[46,2,46,4],[47,2,47,4],[48,1,48,10],[92,5,92,10],[149,5,149,10],[1,4,1,9],[1,1,1,2],[2,5,2,10],[50,1,50,10],[61,5,61,10],[60,1,60,10]]}
[]
[null,{"$f":"IF(入力要領・学校名入力!D2=0,\"\",入力要領・学校名入力!D2)","v":""},null,"年度","体力テストふりかえりシート"]
[null,null,null,null,"学校名",{"$f":"IF(入力要領・学校名入力!H2=0,\"\",入力要領・学校名入力!H2)","v":""}]
[]
[null,"【各学年の学校平均値】"]
[null,"男子","握力","上体\n起こし","長座\n体前屈","反復\n横とび","ｼｬﾄﾙﾗﾝ","50ｍ走","立ち幅\nとび","ボール\n投げ","ＡＢＣ"]
[null,"１年",{"$f":"IF(小1!E$6=\"\",\"未入力\",小1!E$6)","v":"未入力"},{"$f":"IF(小1!F$6=\"\",\"未入力\",小1!F$6)","v":"未入力"},{"$f":"IF(小1!G$6=\"\",\"未入力\",小1!G$6)","v":"未入力"},{"$f":"IF(小1!H$6=\"\",\"未入力\",小1!H$6)","v":"未入力"},{"$f":"IF(小1!I$6=\"\",\"未入力\",小1!I$6)","v":"未入力"},{"$f":"IF(小1!J$6=\"\",\"未入力\",小1!J$6)","v":"未入力"},{"$f":"IF(小1!K$6=\"\",\"未入力\",小1!K$6)","v":"未入力"},{"$f":"IF(小1!L$6=\"\",\"未入力\",小1!L$6)","v":"未入力"},{"$f":"IF(小1!$M$5=0,\"未入力\",小1!$O$8)","v":"未入力"}]
[null,"２年",{"$f":"IF(小2!E$6=\"\",\"未入力\",小2!E$6)","v":"未入力"},{"$f":"IF(小2!F$6=\"\",\"未入力\",小2!F$6)","v":"未入力"},{"$f":"IF(小2!G$6=\"\",\"未入力\",小2!G$6)","v":"未入力"},{"$f":"IF(小2!H$6=\"\",\"未入力\",小2!H$6)","v":"未入力"},{"$f":"IF(小2!I$6=\"\",\"未入力\",小2!I$6)","v":"未入力"},{"$f":"IF(小2!J$6=\"\",\"未入力\",小2!J$6)","v":"未入力"},{"$f":"IF(小2!K$6=\"\",\"未入力\",小2!K$6)","v":"未入力"},{"$f":"IF(小2!L$6=\"\",\"未入力\",小2!L$6)","v":"未入力"},{"$f":"IF(小2!$M$5=0,\"未入力\",小2!$O$8)","v":"未入力"}]
[null,"３年",{"$f":"IF(小3!E$6=\"\",\"未入力\",小3!E$6)","v":"未入力"},{"$f":"IF(小3!F$6=\"\",\"未入力\",小3!F$6)","v":"未入力"},{"$f":"IF(小3!G$6=\"\",\"未入力\",小3!G$6)","v":"未入力"},{"$f":"IF(小3!H$6=\"\",\"未入力\",小3!H$6)","v":"未入力"},{"$f":"IF(小3!I$6=\"\",\"未入力\",小3!I$6)","v":"未入力"},{"$f":"IF(小3!J$6=\"\",\"未入力\",小3!J$6)","v":"未入力"},{"$f":"IF(小3!K$6=\"\",\"未入力\",小3!K$6)","v":"未入力"},{"$f":"IF(小3!L$6=\"\",\"未入力\",小3!L$6)","v":"未入力"},{"$f":"IF(小3!$M$5=0,\"未入力\",小3!$O$8)","v":"未入力"}]
[null,"４年",{"$f":"IF(小4!E$6=\"\",\"未入力\",小4!E$6)","v":"未入力"},{"$f":"IF(小4!F$6=\"\",\"未入力\",小4!F$6)","v":"未入力"},{"$f":"IF(小4!G$6=\"\",\"未入力\",小4!G$6)","v":"未入力"},{"$f":"IF(小4!H$6=\"\",\"未入力\",小4!H$6)","v":"未入力"},{"$f":"IF(小4!I$6=\"\",\"未入力\",小4!I$6)","v":"未入力"},{"$f":"IF(小4!J$6=\"\",\"未入力\",小4!J$6)","v":"未入力"},{"$f":"IF(小4!K$6=\"\",\"未入力\",小4!K$6)","v":"未入力"},{"$f":"IF(小4!L$6=\"\",\"未入力\",小4!L$6)","v":"未入力"},{"$f":"IF(小4!$M$5=0,\"未入力\",小4!$O$8)","v":"未入力"}]
[null,"５年",{"$f":"IF(小5!E$6=\"\",\"未入力\",小5!E$6)","v":"未入力"},{"$f":"IF(小5!F$6=\"\",\"未入力\",小5!F$6)","v":"未入力"},{"$f":"IF(小5!G$6=\"\",\"未入力\",小5!G$6)","v":"未入力"},{"$f":"IF(小5!H$6=\"\",\"未入力\",小5!H$6)","v":"未入力"},{"$f":"IF(小5!I$6=\"\",\"未入力\",小5!I$6)","v":"未入力"},{"$f":"IF(小5!J$6=\"\",\"未入力\",小5!J$6)","v":"未入力"},{"$f":"IF(小5!K$6=\"\",\"未入力\",小5!K$6)","v":"未入力"},{"$f":"IF(小5!L$6=\"\",\"未入力\",小5!L$6)","v":"未入力"},{"$f":"IF(小5!$M$5=0,\"未入力\",小5!$O$8)","v":"未入力"}]
[null,"６年",{"$f":"IF(小6!E$6=\"\",\"未入力\",小6!E$6)","v":"未入力"},{"$f":"IF(小6!F$6=\"\",\"未入力\",小6!F$6)","v":"未入力"},{"$f":"IF(小6!G$6=\"\",\"未入力\",小6!G$6)","v":"未入力"},{"$f":"IF(小6!H$6=\"\",\"未入力\",小6!H$6)","v":"未入力"},{"$f":"IF(小6!I$6=\"\",\"未入力\",小6!I$6)","v":"未入力"},{"$f":"IF(小6!J$6=\"\",\"未入力\",小6!J$6)","v":"未入力"},{"$f":"IF(小6!K$6=\"\",\"未入力\",小6!K$6)","v":"未入力"},{"$f":"IF(小6!L$6=\"\",\"未入力\",小6!L$6)","v":"未入力"},{"$f":"IF(小6!$M$5=0,\"未入力\",小6!$O$8)","v":"未入力"}]
[]
[null,"女子","握力","上体\n起こし","長座\n体前屈","反復\n横とび","ｼｬﾄﾙﾗﾝ","50ｍ走","立ち幅\nとび","ボール\n投げ","ＡＢＣ"]
[null,"１年",{"$f":"IF(小1!E$10=\"\",\"未入力\",小1!E$10)","v":"未入力"},{"$f":"IF(小1!F$10=\"\",\"未入力\",小1!F$10)","v":"未入力"},{"$f":"IF(小1!G$10=\"\",\"未入力\",小1!G$10)","v":"未入力"},{"$f":"IF(小1!H$10=\"\",\"未入力\",小1!H$10)","v":"未入力"},{"$f":"IF(小1!I$10=\"\",\"未入力\",小1!I$10)","v":"未入力"},{"$f":"IF(小1!J$10=\"\",\"未入力\",小1!J$10)","v":"未入力"},{"$f":"IF(小1!K$10=\"\",\"未入力\",小1!K$10)","v":"未入力"},{"$f":"IF(小1!L$10=\"\",\"未入力\",小1!L$10)","v":"未入力"},{"$f":"IF(小1!$M$9=0,\"未入力\",+小1!$O$12)","v":"未入力"}]
[null,"２年",{"$f":"IF(小2!E$10=\"\",\"未入力\",小2!E$10)","v":"未入力"},{"$f":"IF(小2!F$10=\"\",\"未入力\",小2!F$10)","v":"未入力"},{"$f":"IF(小2!G$10=\"\",\"未入力\",小2!G$10)","v":"未入力"},{"$f":"IF(小2!H$10=\"\",\"未入力\",小2!H$10)","v":"未入力"},{"$f":"IF(小2!I$10=\"\",\"未入力\",小2!I$10)","v":"未入力"},{"$f":"IF(小2!J$10=\"\",\"未入力\",小2!J$10)","v":"未入力"},{"$f":"IF(小2!K$10=\"\",\"未入力\",小2!K$10)","v":"未入力"},{"$f":"IF(小2!L$10=\"\",\"未入力\",小2!L$10)","v":"未入力"},{"$f":"IF(小2!$M$9=0,\"未入力\",+小2!$O$12)","v":"未入力"}]
[null,"３年",{"$f":"IF(小3!E$10=\"\",\"未入力\",小3!E$10)","v":"未入力"},{"$f":"IF(小3!F$10=\"\",\"未入力\",小3!F$10)","v":"未入力"},{"$f":"IF(小3!G$10=\"\",\"未入力\",小3!G$10)","v":"未入力"},{"$f":"IF(小3!H$10=\"\",\"未入力\",小3!H$10)","v":"未入力"},{"$f":"IF(小3!I$10=\"\",\"未入力\",小3!I$10)","v":"未入力"},{"$f":"IF(小3!J$10=\"\",\"未入力\",小3!J$10)","v":"未入力"},{"$f":"IF(小3!K$10=\"\",\"未入力\",小3!K$10)","v":"未入力"},{"$f":"IF(小3!L$10=\"\",\"未入力\",小3!L$10)","v":"未入力"},{"$f":"IF(小3!$M$9=0,\"未入力\",+小3!$O$12)","v":"未入力"}]
[null,"４年",{"$f":"IF(小4!E$10=\"\",\"未入力\",小4!E$10)","v":"未入力"},{"$f":"IF(小4!F$10=\"\",\"未入力\",小4!F$10)","v":"未入力"},{"$f":"IF(小4!G$10=\"\",\"未入力\",小4!G$10)","v":"未入力"},{"$f":"IF(小4!H$10=\"\",\"未入力\",小4!H$10)","v":"未入力"},{"$f":"IF(小4!I$10=\"\",\"未入力\",小4!I$10)","v":"未入力"},{"$f":"IF(小4!J$10=\"\",\"未入力\",小4!J$10)","v":"未入力"},{"$f":"IF(小4!K$10=\"\",\"未入力\",小4!K$10)","v":"未入力"},{"$f":"IF(小4!L$10=\"\",\"未入力\",小4!L$10)","v":"未入力"},{"$f":"IF(小4!$M$9=0,\"未入力\",+小4!$O$12)","v":"未入力"}]
[null,"５年",{"$f":"IF(小5!E$10=\"\",\"未入力\",小5!E$10)","v":"未入力"},{"$f":"IF(小5!F$10=\"\",\"未入力\",小5!F$10)","v":"未入力"},{"$f":"IF(小5!G$10=\"\",\"未入力\",小5!G$10)","v":"未入力"},{"$f":"IF(小5!H$10=\"\",\"未入力\",小5!H$10)","v":"未入力"},{"$f":"IF(小5!I$10=\"\",\"未入力\",小5!I$10)","v":"未入力"},{"$f":"IF(小5!J$10=\"\",\"未入力\",小5!J$10)","v":"未入力"},{"$f":"IF(小5!K$10=\"\",\"未入力\",小5!K$10)","v":"未入力"},{"$f":"IF(小5!L$10=\"\",\"未入力\",小5!L$10)","v":"未入力"},{"$f":"IF(小5!$M$9=0,\"未入力\",+小5!$O$12)","v":"未入力"}]
[null,"６年",{"$f":"IF(小6!E$10=\"\",\"未入力\",小6!E$10)","v":"未入力"},{"$f":"IF(小6!F$10=\"\",\"未入力\",小6!F$10)","v":"未入力"},{"$f":"IF(小6!G$10=\"\",\"未入力\",小6!G$10)","v":"未入力"},{"$f":"IF(小6!H$10=\"\",\"未入力\",小6!H$10)","v":"未入力"},{"$f":"IF(小6!I$10=\"\",\"未入力\",小6!I$10)","v":"未入力"},{"$f":"IF(小6!J$10=\"\",\"未入力\",小6!J$10)","v":"未入力"},{"$f":"IF(小6!K$10=\"\",\"未入力\",小6!K$10)","v":"未入力"},{"$f":"IF(小6!L$10=\"\",\"未入力\",小6!L$10)","v":"未入力"},{"$f":"IF(小6!$M$9=0,\"未入力\",+小6!$O$12)","v":"未入力"}]
[]
[null,"目標値（例）との比較",null,null,null,"◎：目標値（例）を上回っている"]
[null,null,null,null,null,"△：目標値（例）を下回っている"]
[null,"男子","握力","上体\n起こし","長座\n体前屈","反復\n横とび","ｼｬﾄﾙﾗﾝ","50ｍ走","立ち幅\nとび","ボール\n投げ","ＡＢＣ"]
[null,"１年",{"$f":"IF(C7=\"未入力\",\"未\",IF(C7>=計算式シート!C6,\"◎\",\"△\"))","v":"未"},{"$f":"IF(D7=\"未入力\",\"未\",IF(D7>=計算式シート!D6,\"◎\",\"△\"))","v":"未"},{"$f":"IF(E7=\"未入力\",\"未\",IF(E7>=計算式シート!E6,\"◎\",\"△\"))","v":"未"},{"$f":"IF(F7=\"未入力\",\"未\",IF(F7>=計算式シート!F6,\"◎\",\"△\"))","v":"未"},{"$f":"IF(G7=\"未入力\",\"未\",IF(G7>=計算式シート!G6,\"◎\",\"△\"))","v":"未"},{"$f":"IF(H7=\"未入力\",\"未\",IF(H7<=計算式シート!H6,\"◎\",\"△\"))","v":"未"},{"$f":"IF(I7=\"未入力\",\"未\",IF(I7>=計算式シート!I6,\"◎\",\"△\"))","v":"未"},{"$f":"IF(J7=\"未入力\",\"未\",IF(J7>=計算式シート!J6,\"◎\",\"△\"))","v":"未"},{"$f":"IF(K7=\"未入力\",\"未\",IF(K7>=計算式シート!K6,\"◎\",\"△\"))","v":"未"}]
[null,"２年",{"$f":"IF(C8=\"未入力\",\"未\",IF(C8>=計算式シート!C7,\"◎\",\"△\"))","v":"未"},{"$f":"IF(D8=\"未入力\",\"未\",IF(D8>=計算式シート!D7,\"◎\",\"△\"))","v":"未"},{"$f":"IF(E8=\"未入力\",\"未\",IF(E8>=計算式シート!E7,\"◎\",\"△\"))","v":"未"},{"$f":"IF(F8=\"未入力\",\"未\",IF(F8>=計算式シート!F7,\"◎\",\"△\"))","v":"未"},{"$f":"IF(G8=\"未入力\",\"未\",IF(G8>=計算式シート!G7,\"◎\",\"△\"))","v":"未"},{"$f":"IF(H8=\"未入力\",\"未\",IF(H8<=計算式シート!H7,\"◎\",\"△\"))","v":"未"},{"$f":"IF(I8=\"未入力\",\"未\",IF(I8>=計算式シート!I7,\"◎\",\"△\"))","v":"未"},{"$f":"IF(J8=\"未入力\",\"未\",IF(J8>=計算式シート!J7,\"◎\",\"△\"))","v":"未"},{"$f":"IF(K8=\"未入力\",\"未\",IF(K8>=計算式シート!K7,\"◎\",\"△\"))","v":"未"}]
[null,"３年",{"$f":"IF(C9=\"未入力\",\"未\",IF(C9>=計算式シート!C8,\"◎\",\"△\"))","v":"未"},{"$f":"IF(D9=\"未入力\",\"未\",IF(D9>=計算式シート!D8,\"◎\",\"△\"))","v":"未"},{"$f":"IF(E9=\"未入力\",\"未\",IF(E9>=計算式シート!E8,\"◎\",\"△\"))","v":"未"},{"$f":"IF(F9=\"未入力\",\"未\",IF(F9>=計算式シート!F8,\"◎\",\"△\"))","v":"未"},{"$f":"IF(G9=\"未入力\",\"未\",IF(G9>=計算式シート!G8,\"◎\",\"△\"))","v":"未"},{"$f":"IF(H9=\"未入力\",\"未\",IF(H9<=計算式シート!H8,\"◎\",\"△\"))","v":"未"},{"$f":"IF(I9=\"未入力\",\"未\",IF(I9>=計算式シート!I8,\"◎\",\"△\"))","v":"未"},{"$f":"IF(J9=\"未入力\",\"未\",IF(J9>=計算式シート!J8,\"◎\",\"△\"))","v":"未"},{"$f":"IF(K9=\"未入力\",\"未\",IF(K9>=計算式シート!K8,\"◎\",\"△\"))","v":"未"}]
[null,"４年",{"$f":"IF(C10=\"未入力\",\"未\",IF(C10>=計算式シート!C9,\"◎\",\"△\"))","v":"未"},{"$f":"IF(D10=\"未入力\",\"未\",IF(D10>=計算式シート!D9,\"◎\",\"△\"))","v":"未"},{"$f":"IF(E10=\"未入力\",\"未\",IF(E10>=計算式シート!E9,\"◎\",\"△\"))","v":"未"},{"$f":"IF(F10=\"未入力\",\"未\",IF(F10>=計算式シート!F9,\"◎\",\"△\"))","v":"未"},{"$f":"IF(G10=\"未入力\",\"未\",IF(G10>=計算式シート!G9,\"◎\",\"△\"))","v":"未"},{"$f":"IF(H10=\"未入力\",\"未\",IF(H10<=計算式シート!H9,\"◎\",\"△\"))","v":"未"},{"$f":"IF(I10=\"未入力\",\"未\",IF(I10>=計算式シート!I9,\"◎\",\"△\"))","v":"未"},{"$f":"IF(J10=\"未入力\",\"未\",IF(J10>=計算式シート!J9,\"◎\",\"△\"))","v":"未"},{"$f":"IF(K10=\"未入力\",\"未\",IF(K10>=計算式シート!K9,\"◎\",\"△\"))","v":"未"}]
[null,"５年",{"$f":"IF(C11=\"未入力\",\"未\",IF(C11>=計算式シート!C10,\"◎\",\"△\"))","v":"未"},{"$f":"IF(D11=\"未入力\",\"未\",IF(D11>=計算式シート!D10,\"◎\",\"△\"))","v":"未"},{"$f":"IF(E11=\"未入力\",\"未\",IF(E11>=計算式シート!E10,\"◎\",\"△\"))","v":"未"},{"$f":"IF(F11=\"未入力\",\"未\",IF(F11>=計算式シート!F10,\"◎\",\"△\"))","v":"未"},{"$f":"IF(G11=\"未入力\",\"未\",IF(G11>=計算式シート!G10,\"◎\",\"△\"))","v":"未"},{"$f":"IF(H11=\"未入力\",\"未\",IF(H11<=計算式シート!H10,\"◎\",\"△\"))","v":"未"},{"$f":"IF(I11=\"未入力\",\"未\",IF(I11>=計算式シート!I10,\"◎\",\"△\"))","v":"未"},{"$f":"IF(J11=\"未入力\",\"未\",IF(J11>=計算式シート!J10,\"◎\",\"△\"))","v":"未"},{"$f":"IF(K11=\"未入力\",\"未\",IF(K11>=計算式シート!K10,\"◎\",\"△\"))","v":"未"}]
[null,"６年",{"$f":"IF(C12=\"未入力\",\"未\",IF(C12>=計算式シート!C11,\"◎\",\"△\"))","v":"未"},{"$f":"IF(D12=\"未入力\",\"未\",IF(D12>=計算式シート!D11,\"◎\",\"△\"))","v":"未"},{"$f":"IF(E12=\"未入力\",\"未\",IF(E12>=計算式シート!E11,\"◎\",\"△\"))","v":"未"},{"$f":"IF(F12=\"未入力\",\"未\",IF(F12>=計算式シート!F11,\"◎\",\"△\"))","v":"未"},{"$f":"IF(G12=\"未入力\",\"未\",IF(G12>=計算式シート!G11,\"◎\",\"△\"))","v":"未"},{"$f":"IF(H12=\"未入力\",\"未\",IF(H12<=計算式シート!H11,\"◎\",\"△\"))","v":"未"},{"$f":"IF(I12=\"未入力\",\"未\",IF(I12>=計算式シート!I11,\"◎\",\"△\"))","v":"未"},{"$f":"IF(J12=\"未入力\",\"未\",IF(J12>=計算式シート!J11,\"◎\",\"△\"))","v":"未"},{"$f":"IF(K12=\"未入力\",\"未\",IF(K12>=計算式シート!K11,\"◎\",\"△\"))","v":"未"}]
[]
[null,"女子","握力","上体\n起こし","長座\n体前屈","反復\n横とび","ｼｬﾄﾙﾗﾝ","50ｍ走","立ち幅\nとび","ボール\n投げ","ＡＢＣ"]
[null,"１年",{"$f":"IF(C15=\"未入力\",\"未\",IF(C15>=計算式シート!C14,\"◎\",\"△\"))","v":"未"},{"$f":"IF(D15=\"未入力\",\"未\",IF(D15>=計算式シート!D14,\"◎\",\"△\"))","v":"未"},{"$f":"IF(E15=\"未入力\",\"未\",IF(E15>=計算式シート!E14,\"◎\",\"△\"))","v":"未"},{"$f":"IF(F15=\"未入力\",\"未\",IF(F15>=計算式シート!F14,\"◎\",\"△\"))","v":"未"},{"$f":"IF(G15=\"未入力\",\"未\",IF(G15>=計算式シート!G14,\"◎\",\"△\"))","v":"未"},{"$f":"IF(H15=\"未入力\",\"未\",IF(H15<=計算式シート!H14,\"◎\",\"△\"))","v":"未"},{"$f":"IF(I15=\"未入力\",\"未\",IF(I15>=計算式シート!I14,\"◎\",\"△\"))","v":"未"},{"$f":"IF(J15=\"未入力\",\"未\",IF(J15>=計算式シート!J14,\"◎\",\"△\"))","v":"未"},{"$f":"IF(K15=\"未入力\",\"未\",IF(K15>=計算式シート!K14,\"◎\",\"△\"))","v":"未"}]
[null,"２年",{"$f":"IF(C16=\"未入力\",\"未\",IF(C16>=計算式シート!C15,\"◎\",\"△\"))","v":"未"},{"$f":"IF(D16=\"未入力\",\"未\",IF(D16>=計算式シート!D15,\"◎\",\"△\"))","v":"未"},{"$f":"IF(E16=\"未入力\",\"未\",IF(E16>=計算式シート!E15,\"◎\",\"△\"))","v":"未"},{"$f":"IF(F16=\"未入力\",\"未\",IF(F16>=計算式シート!F15,\"◎\",\"△\"))","v":"未"},{"$f":"IF(G16=\"未入力\",\"未\",IF(G16>=計算式シート!G15,\"◎\",\"△\"))","v":"未"},{"$f":"IF(H16=\"未入力\",\"未\",IF(H16<=計算式シート!H15,\"◎\",\"△\"))","v":"未"},{"$f":"IF(I16=\"未入力\",\"未\",IF(I16>=計算式シート!I15,\"◎\",\"△\"))","v":"未"},{"$f":"IF(J16=\"未入力\",\"未\",IF(J16>=計算式シート!J15,\"◎\",\"△\"))","v":"未"},{"$f":"IF(K16=\"未入力\",\"未\",IF(K16>=計算式シート!K15,\"◎\",\"△\"))","v":"未"}]
[null,"３年",{"$f":"IF(C17=\"未入力\",\"未\",IF(C17>=計算式シート!C16,\"◎\",\"△\"))","v":"未"},{"$f":"IF(D17=\"未入力\",\"未\",IF(D17>=計算式シート!D16,\"◎\",\"△\"))","v":"未"},{"$f":"IF(E17=\"未入力\",\"未\",IF(E17>=計算式シート!E16,\"◎\",\"△\"))","v":"未"},{"$f":"IF(F17=\"未入力\",\"未\",IF(F17>=計算式シート!F16,\"◎\",\"△\"))","v":"未"},{"$f":"IF(G17=\"未入力\",\"未\",IF(G17>=計算式シート!G16,\"◎\",\"△\"))","v":"未"},{"$f":"IF(H17=\"未入力\",\"未\",IF(H17<=計算式シート!H16,\"◎\",\"△\"))","v":"未"},{"$f":"IF(I17=\"未入力\",\"未\",IF(I17>=計算式シート!I16,\"◎\",\"△\"))","v":"未"},{"$f":"IF(J17=\"未入力\",\"未\",IF(J17>=計算式シート!J16,\"◎\",\"△\"))","v":"未"},{"$f":"IF(K17=\"未入力\",\"未\",IF(K17>=計算式シート!K16,\"◎\",\"△\"))","v":"未"}]
[null,"４年",{"$f":"IF(C18=\"未入力\",\"未\",IF(C18>=計算式シート!C17,\"◎\",\"△\"))","v":"未"},{"$f":"IF(D18=\"未入力\",\"未\",IF(D18>=計算式シート!D17,\"◎\",\"△\"))","v":"未"},{"$f":"IF(E18=\"未入力\",\"未\",IF(E18>=計算式シート!E17,\"◎\",\"△\"))","v":"未"},{"$f":"IF(F18=\"未入力\",\"未\",IF(F18>=計算式シート!F17,\"◎\",\"△\"))","v":"未"},{"$f":"IF(G18=\"未入力\",\"未\",IF(G18>=計算式シート!G17,\"◎\",\"△\"))","v":"未"},{"$f":"IF(H18=\"未入力\",\"未\",IF(H18<=計算式シート!H17,\"◎\",\"△\"))","v":"未"},{"$f":"IF(I18=\"未入力\",\"未\",IF(I18>=計算式シート!I17,\"◎\",\"△\"))","v":"未"},{"$f":"IF(J18=\"未入力\",\"未\",IF(J18>=計算式シート!J17,\"◎\",\"△\"))","v":"未"},{"$f":"IF(K18=\"未入力\",\"未\",IF(K18>=計算式シート!K17,\"◎\",\"△\"))","v":"未"}]
[null,"５年",{"$f":"IF(C19=\"未入力\",\"未\",IF(C19>=計算式シート!C18,\"◎\",\"△\"))","v":"未"},{"$f":"IF(D19=\"未入力\",\"未\",IF(D19>=計算式シート!D18,\"◎\",\"△\"))","v":"未"},{"$f":"IF(E19=\"未入力\",\"未\",IF(E19>=計算式シート!E18,\"◎\",\"△\"))","v":"未"},{"$f":"IF(F19=\"未入力\",\"未\",IF(F19>=計算式シート!F18,\"◎\",\"△\"))","v":"未"},{"$f":"IF(G19=\"未入力\",\"未\",IF(G19>=計算式シート!G18,\"◎\",\"△\"))","v":"未"},{"$f":"IF(H19=\"未入力\",\"未\",IF(H19<=計算式シート!H18,\"◎\",\"△\"))","v":"未"},{"$f":"IF(I19=\"未入力\",\"未\",IF(I19>=計算式シート!I18,\"◎\",\"△\"))","v":"未"},{"$f":"IF(J19=\"未入力\",\"未\",IF(J19>=計算式シート!J18,\"◎\",\"△\"))","v":"未"},{"$f":"IF(K19=\"未入力\",\"未\",IF(K19>=計算式シート!K18,\"◎\",\"△\"))","v":"未"}]
[null,"６年",{"$f":"IF(C20=\"未入力\",\"未\",IF(C20>=計算式シート!C19,\"◎\",\"△\"))","v":"未"},{"$f":"IF(D20=\"未入力\",\"未\",IF(D20>=計算式シート!D19,\"◎\",\"△\"))","v":"未"},{"$f":"IF(E20=\"未入力\",\"未\",IF(E20>=計算式シート!E19,\"◎\",\"△\"))","v":"未"},{"$f":"IF(F20=\"未入力\",\"未\",IF(F20>=計算式シート!F19,\"◎\",\"△\"))","v":"未"},{"$f":"IF(G20=\"未入力\",\"未\",IF(G20>=計算式シート!G19,\"◎\",\"△\"))","v":"未"},{"$f":"IF(H20=\"未入力\",\"未\",IF(H20<=計算式シート!H19,\"◎\",\"△\"))","v":"未"},{"$f":"IF(I20=\"未入力\",\"未\",IF(I20>=計算式シート!I19,\"◎\",\"△\"))","v":"未"},{"$f":"IF(J20=\"未入力\",\"未\",IF(J20>=計算式シート!J19,\"◎\",\"△\"))","v":"未"},{"$f":"IF(K20=\"未入力\",\"未\",IF(K20>=計算式シート!K19,\"◎\",\"△\"))","v":"未"}]
[]
[null,"　平均値と目標値（例）との単純比較なので、△でも同程度と考えられる種目があると思います。各学年の体力向上の課題を明らかにする一つの手段として、体力向上の目標設定や取組を見直す参考にしてください。"]
[]
[]
[null,"　学校全体、学年ごとの課題を明らかにするためにも、実施学年、実施種目の拡大に努めてください。全学年、全種目を実施し、学校全体で体力向上に取り組んでいきましょう。"]
[null,"１　ＡＢＣの割合について"]
[null,"男子","70％超えている学年は",null,null,{"$f":"IF(K7=\"未入力\",\"\",\"１年\")","v":""},{"$f":"IF(K8=\"未入力\",\"\",\"２年\")","v":""},{"$f":"IF(K9=\"未入力\",\"\",\"３年\")","v":""},{"$f":"IF(K10=\"未入力\",\"\",\"４年\")","v":""},{"$f":"IF(K11=\"未入力\",\"\",\"５年\")","v":""},{"$f":"IF(K12=\"未入力\",\"\",\"６年\")","v":""}]
[null,null,"70％超えていない学年は",null,null,{"$f":"IF(K7=\"未入力\",\"\",\"１年\")","v":""},{"$f":"IF(K8=\"未入力\",\"\",\"２年\")","v":""},{"$f":"IF(K9=\"未入力\",\"\",\"３年\")","v":""},{"$f":"IF(K10=\"未入力\",\"\",\"４年\")","v":""},{"$f":"IF(K11=\"未入力\",\"\",\"５年\")","v":""},{"$f":"IF(K12=\"未入力\",\"\",\"６年\")","v":""}]
[null,"女子","75％超えている学年は",null,null,{"$f":"IF(K15=\"未入力\",\"\",\"１年\")","v":""},{"$f":"IF(K16=\"未入力\",\"\",\"２年\")","v":""},{"$f":"IF(K17=\"未入力\",\"\",\"３年\")","v":""},{"$f":"IF(K18=\"未入力\",\"\",\"４年\")","v":""},{"$f":"IF(K19=\"未入力\",\"\",\"５年\")","v":""},{"$f":"IF(K20=\"未入力\",\"\",\"６年\")","v":""}]
[null,null,"75％超えていない学年は",null,null,{"$f":"IF(K15=\"未入力\",\"\",\"１年\")","v":""},{"$f":"IF(K16=\"未入力\",\"\",\"２年\")","v":""},{"$f":"IF(K17=\"未入力\",\"\",\"３年\")","v":""},{"$f":"IF(K18=\"未入力\",\"\",\"４年\")","v":""},{"$f":"IF(K19=\"未入力\",\"\",\"５年\")","v":""},{"$f":"IF(K20=\"未入力\",\"\",\"６年\")","v":""}]
[null,"　※男子７０％、女子７５％を目標値をとしています。"]
[]
[null,"２　各種目の状況について"]
[null,null,{"$f":"CONCATENATE(\"男子6学年8種目・48項目のうち、目標値を上回っているのは、 \",+計算式シート!L23,\"項目です。\")","v":"男子6学年8種目・48項目のうち、目標値を上回っているのは、 0項目です。"}]
[null,null,{"$f":"CONCATENATE(\"女子6学年8種目・48項目のうち、目標値を上回っているのは、 \",+計算式シート!L31,\"項目です。\")","v":"女子6学年8種目・48項目のうち、目標値を上回っているのは、 0項目です。"}]
[null,null,null,"握力","上体\n起こし","長座\n体前屈","反復\n横とび","ｼｬﾄﾙﾗﾝ","50ｍ走","立ち幅\nとび","ボール\n投げ"]
[null,null,"目標数値を超えた数",{"$f":"+計算式シート!C31+計算式シート!C23","v":0},{"$f":"+計算式シート!D31+計算式シート!D23","v":0},{"$f":"+計算式シート!E31+計算式シート!E23","v":0},{"$f":"+計算式シート!F31+計算式シート!F23","v":0},{"$f":"+計算式シート!G31+計算式シート!G23","v":0},{"$f":"+計算式シート!H31+計算式シート!H23","v":0},{"$f":"+計算式シート!I31+計算式シート!I23","v":0},{"$f":"+計算式シート!J31+計算式シート!J23","v":0}]
[null,null,"実施学年の数",{"$f":"+計算式シート!C32+計算式シート!C24","v":0},{"$f":"+計算式シート!D32+計算式シート!D24","v":0},{"$f":"+計算式シート!E32+計算式シート!E24","v":0},{"$f":"+計算式シート!F32+計算式シート!F24","v":0},{"$f":"+計算式シート!G32+計算式シート!G24","v":0},{"$f":"+計算式シート!H32+計算式シート!H24","v":0},{"$f":"+計算式シート!I32+計算式シート!I24","v":0},{"$f":"+計算式シート!J32+計算式シート!J24","v":0}]
[null,null,null,{"$f":"IF(計算式シート!C$34>=0.5,\"\",\"課題\")","v":""},{"$f":"IF(計算式シート!D$34>=0.5,\"\",\"課題\")","v":""},{"$f":"IF(計算式シート!E$34>=0.5,\"\",\"課題\")","v":""},{"$f":"IF(計算式シート!F$34>=0.5,\"\",\"課題\")","v":""},{"$f":"IF(計算式シート!G$34>=0.5,\"\",\"課題\")","v":""},{"$f":"IF(計算式シート!H$34>=0.5,\"\",\"課題\")","v":""},{"$f":"IF(計算式シート!I$34>=0.5,\"\",\"課題\")","v":""},{"$f":"IF(計算式シート!J$34>=0.5,\"\",\"課題\")","v":""}]
[null,null,"課題：","目標数値を超えた数（男女別）÷実施学年の数（男女別）が０.５未満の場合に表示されます。"]
[]
[]
[null,"２　目標値（例）と各学年の状況の比較グラフ"]
[null,null,null,null,null,"学校値　■■　　目標値（例）－◆ー"]
[]
[]
[]
[]
[]
[]
[]
[]
[]
[]
[]
[]
[]
[]
[]
[]
[]
[]
[]
[]
[]
[]
[]
[]
[]
[]
[]
[]
[]
[]
[null,null,null,null,null,"学校値　■■　　目標値（例）－◆ー"]
[]
[]
[]
[]
[]
[]
[]
[]
[]
[]
[]
[]
[]
[]
[]
[]
[]
[]
[]
[]
[]
[]
[]
[]
[]
[]
[]
[]
[]
[]
[]
[]
[]
[]
[]
[]
[]
[]
[]
[]
[]
[]
[]
[]
[]
[]
[]
[]
[]
[]
[]
[]
[]
[]
[]
[]
[null,null,null,null,null,"学校値　■■　　目標値（例）－◆ー"]
[]
[]
[]
[]
[]
[]
[]
[]
[]
[]
[]
[]
[]
[]
[]
[]
[]
[]
[]
[]
[]
[]
[]
[]
[]
[]
[]
[]
[]
[]
[]
[]
[]
[]
[]
[]
[]
[]
[]
[]
[]
[]
[]
[]
[]
[]
[]
[]
[]
[]
[]
[]
[]
[]
[]
[]
[null,"3　各種目の得点による度数分布のグラフ  　　　　白抜きは、目標値（例）の得点域"]
[]
[]
[]
[]
[]
[]
[]
[]
[]
[]
[]
[]
[]
[]
[]
[]
[]
[]
[]
[]
[]
[]
[]
[]
[]
[]
[]
[]
[]
[]
[]
[]
[]
[]
[]
[]
[]
[]
[]
[]
[]
[]
[]
[]
[]
[]
[]
[]
[]
[]
[]
[]
[]
[]
[]
[]
[null,null,null,null,null,null,null,"白抜きは、目標値（例）の得点域"]
[]
[]
[]
[]
[]
[]
[]
[]
[]
[]
[]
[]
[]
[]
[]
[]
[]
[]
[]
[]
[]
[]
[]
[]
[]
[]
[]
[]
[]
[]
[]
[]
[]
[]
[]
[]
[]
[]
[]
[]
[]
[]
[]
[]
[]
[]
[]
[]
[]
[]
[]
[]
[]
[]
[]
[]
[null,null,null,null,null,null,null,"白抜きは、目標値（例）の得点域"]
[]
[]
[]
[]
[]
[]
[]
[]
[]
[]
[]
[]
[]
[]
[]
[]
[]
[]
[]
[]
[]
[]
[]
[]
[]
[]
[]
[]
[]
[]
[]
[]
[]
[]
[]
[]
[]
[]
[]
[]
[]
[]
[]
[]
[]
[]
[]
[]
[]
[]
[]
[]
[]
[]
[]
[]
[null,null,null,null,null,null,null,"白抜きは、目標値（例）の得点域"]
[]
[]
[]
[]
[]
[]
[]
[]
[]
[]
[]
[]
[]
[]
[]
[]
[]
[]
[]
[]
[]
[]
[]
[]
[]
[]
[]
[]
[]
[]
[]
[]
[]
[]
[]
[]
[]
[]
[]
[]
[]
[]
[]
[]
[]
[]
[]
[]
[]
[]
[]
[]
[]
[]
[]
[]
[null,null,null,null,null,null,null,"白抜きは、目標値（例）の得点域"]
[]
[]
[]
[]
[]
[]
[]
[]
[]
[]
[]
[]
[]
[]
[]
[]
[]
[]
[]
[]
[]
[]
[]
[]
[]
[]
[]
[]
[]
[]
[]
[]
[]
[]
[]
[]
[]
[]
[]
[]
[]
[]
[]
[]
[]
[]
[]
[]
[]
[]
[]
[]
[]
[]
[]
[]
[null,null,null,null,null,null,null,"白抜きは、目標値（例）の得点域"]
[]
[]
[]
[]
[]
[]
[]
[]
[]
[]
[]
[]
[]
[]
[]
[]
[]
[]
[]
[]
[]
[]
[]
[]
[]
[]
[]
[]
[]
[]
[]
[]
[]
[]
[]
[]
[]
[]
[]
[]
[]
[]
[]
[]
[]
[]
[]
[]
[]
[]
[]
[]
[]
[]
[]
[]
[null,null,null,null,null,null,null,"白抜きは、目標値（例）の得点域"]
[]
[]
[]
[]
[]
[]
[]
[]
[]
[]
[]
[]
[]
[]
[]
[]
[]
[]
[]
[]
[]
[]
[]
[]
[]
[]
[]
[]
[]
[]
[]
[]
[]
[]
[]
[]
[]
[]
[]
[]
[]
[]
[]
[]
[]
[]
[]
[]
[]
[]
[]
[]
[]
[]
[]
[]
[null,null,null,null,null,null,null,"白抜きは、目標値（例）の得点域"]
[]
[]
[]
[]
[]
[]
[]
[]
[]
[]
[]
[]
[]
[]
[]
[]
[]
[]
[]
[]
[]
[]
[]
[]
[]
[]
[]
[]
[]
[]
[]
[]
[]
[]
[]
[]
[]
[]
[]
[]
[]
[]
[]
[]
[]
[]
[]
[]
[]
[]
[]
[]
[]
[]
[]
[]
[null,null,null,null,null,null,null,"白抜きは、目標値（例）の得点域"]
[]
[]
[]
[]
[]
[]
[]
[]
[]
[]
[]
[]
[]
[]
[]
[]
[]
[]
[]
[]
[]
[]
[]
[]
[]
[]
[]
[]
[]
[]
[]
[]
[]
[]
[]
[]
[]
[]
[]
[]
[]
[]
[]
[]
[]
[]
[]
[]
[]
[]
[]
[]
[]
[]
[]
[]
[null,null,null,null,null,null,null,"白抜きは、目標値（例）の得点域"]
[]
[]
[]
[]
[]
[]
[]
[]
[]
[]
[]
[]
[]
[]
[]
[]
[]
[]
[]
[]
[]
[]
[]
[]
[]
[]
[]
[]
[]
[]
[]
[]
[]
[]
[]
[]
[]
[]
[]
[]
[]
[]
[]
[]
[]
[]
[]
[]
[]
[]
[]
[]
[]
[]
[]
[]
[null,null,null,null,null,null,null,"白抜きは、目標値（例）の得点域"]
[]
[]
[]
[]
[]
[]
[]
[]
[]
[]
[]
[]
[]
[]
[]
[]
[]
[]
[]
[]
[]
[]
[]
[]
[]
[]
[]
[]
[]
[]
[]
[]
[]
[]
[]
[]
[]
[]
[]
[]
[]
[]
[]
[]
[]
[]
[]
[]
[]
[]
[]
[]
[]
[]
[]
[]
[null,null,null,null,null,null,null,"白抜きは、目標値（例）の得点域"]

{"sheet":"計算式シート","index":11,"n_rows":289,"n_cols":13,"rows_kept":289,"cut":false,"hidden":false,"merged":[[2,1,3,10]]}
[]
[null,"学校独自で目標値を設定する場合は（例・改）より高い数値を下の表に入力してください"]
[null,"平成２８年設定【小学校】目標値（例）\n　三重県調査及び「全国体力」の平均値を考慮して例示"]
[]
[null,"男子","握力","上体\n起こし","長座\n体前屈","反復\n横とび","シャトル\nラン","５０ｍ\n走","立ち\n幅とび","ボール\n投げ","ABC","合計点","学校値"]
[null,"１年",9,11,26,28,18,11.7,110,9,0.7,29,{"$f":"小1!$M$6","v":""}]
[null,"２年",11,13,28,31,27,10.8,122,12,0.7,37,{"$f":"小2!$M$6","v":""}]
[null,"３年",13,15,30,34,35,10.3,132,16,0.7,44,{"$f":"小3!$M$6","v":""}]
[null,"４年",15,17,32,39,44,9.6999999999999993,142,20,0.7,48,{"$f":"小4!$M$6","v":""}]
[null,"５年",17,19,34,43,52,9.4,152,24,0.7,55,{"$f":"小5!$M$6","v":""}]
[null,"６年",20,21,36,46,60,9,162,28,0.7,61,{"$f":"小6!$M$6","v":""}]
[]
[null,"女子","握力","上体\n起こし","長座\n体前屈","反復\n横とび","シャトル\nラン","５０ｍ\n走","立ち\n幅とび","ボール\n投げ","ABC","合計点","学校値"]
[null,"１年",9,10,29,27,15,11.9,104,6,0.75,31,{"$f":"小1!$M$10","v":""}]
[null,"２年",10,13,31,30,21,11.1,114,8,0.75,37,{"$f":"小2!$M$10","v":""}]
[null,"３年",12,15,33,33,26,10.5,125,10,0.75,44,{"$f":"小3!$M$10","v":""}]
[null,"４年",14,16,36,37,33,10,135,12,0.75,50,{"$f":"小4!$M$10","v":""}]
[null,"５年",17,18,38,40,40,9.6999999999999993,145,14,0.75,56,{"$f":"小5!$M$10","v":""}]
[null,"６年",19,19,41,43,45,9.3000000000000007,155,16,0.75,62,{"$f":"小6!$M$10","v":""}]
[]
[]
[null,"男子","握力","上体\n起こし","長座\n体前屈","反復\n横とび","ｼｬﾄﾙﾗﾝ","50ｍ走","立ち幅\nとび","ボール\n投げ","ＡＢＣ"]
[null,"◎",{"$f":"COUNTIF('ふりかえりシート（印刷用）'!C25:C30,\"◎\")","v":0},{"$f":"COUNTIF('ふりかえりシート（印刷用）'!D25:D30,\"◎\")","v":0},{"$f":"COUNTIF('ふりかえりシート（印刷用）'!E25:E30,\"◎\")","v":0},{"$f":"COUNTIF('ふりかえりシート（印刷用）'!F25:F30,\"◎\")","v":0},{"$f":"COUNTIF('ふりかえりシート（印刷用）'!G25:G30,\"◎\")","v":0},{"$f":"COUNTIF('ふりかえりシート（印刷用）'!H25:H30,\"◎\")","v":0},{"$f":"COUNTIF('ふりかえりシート（印刷用）'!I25:I30,\"◎\")","v":0},{"$f":"COUNTIF('ふりかえりシート（印刷用）'!J25:J30,\"◎\")","v":0},{"$f":"COUNTIF('ふりかえりシート（印刷用）'!K25:K30,\"◎\")","v":0},{"$f":"SUM(C23:J23)","v":0},{"$f":"DBCS(L23)","v":"０"}]
[null,"実施",{"$f":"COUNTIF('ふりかえりシート（印刷用）'!C25:C30,\"◎\")+COUNTIF('ふりかえりシート（印刷用）'!C25:C30,\"△\")","v":0},{"$f":"COUNTIF('ふりかえりシート（印刷用）'!D25:D30,\"◎\")+COUNTIF('ふりかえりシート（印刷用）'!D25:D30,\"△\")","v":0},{"$f":"COUNTIF('ふりかえりシート（印刷用）'!E25:E30,\"◎\")+COUNTIF('ふりかえりシート（印刷用）'!E25:E30,\"△\")","v":0},{"$f":"COUNTIF('ふりかえりシート（印刷用）'!F25:F30,\"◎\")+COUNTIF('ふりかえりシート（印刷用）'!F25:F30,\"△\")","v":0},{"$f":"COUNTIF('ふりかえりシート（印刷用）'!G25:G30,\"◎\")+COUNTIF('ふりかえりシート（印刷用）'!G25:G30,\"△\")","v":0},{"$f":"COUNTIF('ふりかえりシート（印刷用）'!H25:H30,\"◎\")+COUNTIF('ふりかえりシート（印刷用）'!H25:H30,\"△\")","v":0},{"$f":"COUNTIF('ふりかえりシート（印刷用）'!I25:I30,\"◎\")+COUNTIF('ふりかえりシート（印刷用）'!I25:I30,\"△\")","v":0},{"$f":"COUNTIF('ふりかえりシート（印刷用）'!J25:J30,\"◎\")+COUNTIF('ふりかえりシート（印刷用）'!J25:J30,\"△\")","v":0},{"$f":"COUNTIF('ふりかえりシート（印刷用）'!K25:K30,\"◎\")+COUNTIF('ふりかえりシート（印刷用）'!K25:K30,\"△\")","v":0}]
[null,"◎/実施",{"$f":"IFERROR(C23/C24,0)","v":0},{"$f":"IFERROR(D23/D24,0)","v":0},0,0,0,0,0,0,0]
[]
[]
[]
[]
[null,"女子","握力","上体\n起こし","長座\n体前屈","反復\n横とび","ｼｬﾄﾙﾗﾝ","50ｍ走","立ち幅\nとび","ボール\n投げ","ＡＢＣ"]
[null,"◎",{"$f":"COUNTIF('ふりかえりシート（印刷用）'!C33:C38,\"◎\")","v":0},{"$f":"COUNTIF('ふりかえりシート（印刷用）'!D33:D38,\"◎\")","v":0},{"$f":"COUNTIF('ふりかえりシート（印刷用）'!E33:E38,\"◎\")","v":0},{"$f":"COUNTIF('ふりかえりシート（印刷用）'!F33:F38,\"◎\")","v":0},{"$f":"COUNTIF('ふりかえりシート（印刷用）'!G33:G38,\"◎\")","v":0},{"$f":"COUNTIF('ふりかえりシート（印刷用）'!H33:H38,\"◎\")","v":0},{"$f":"COUNTIF('ふりかえりシート（印刷用）'!I33:I38,\"◎\")","v":0},{"$f":"COUNTIF('ふりかえりシート（印刷用）'!J33:J38,\"◎\")","v":0},{"$f":"COUNTIF('ふりかえりシート（印刷用）'!K33:K38,\"◎\")","v":0},{"$f":"SUM(C31:J31)","v":0},{"$f":"DBCS(L31)","v":"０"}]
[null,"実施",{"$f":"COUNTIF('ふりかえりシート（印刷用）'!C33:C38,\"◎\")+COUNTIF('ふりかえりシート（印刷用）'!C33:C38,\"△\")","v":0},{"$f":"COUNTIF('ふりかえりシート（印刷用）'!D33:D38,\"◎\")+COUNTIF('ふりかえりシート（印刷用）'!D33:D38,\"△\")","v":0},{"$f":"COUNTIF('ふりかえりシート（印刷用）'!E33:E38,\"◎\")+COUNTIF('ふりかえりシート（印刷用）'!E33:E38,\"△\")","v":0},{"$f":"COUNTIF('ふりかえりシート（印刷用）'!F33:F38,\"◎\")+COUNTIF('ふりかえりシート（印刷用）'!F33:F38,\"△\")","v":0},{"$f":"COUNTIF('ふりかえりシート（印刷用）'!G33:G38,\"◎\")+COUNTIF('ふりかえりシート（印刷用）'!G33:G38,\"△\")","v":0},{"$f":"COUNTIF('ふりかえりシート（印刷用）'!H33:H38,\"◎\")+COUNTIF('ふりかえりシート（印刷用）'!H33:H38,\"△\")","v":0},{"$f":"COUNTIF('ふりかえりシート（印刷用）'!I33:I38,\"◎\")+COUNTIF('ふりかえりシート（印刷用）'!I33:I38,\"△\")","v":0},{"$f":"COUNTIF('ふりかえりシート（印刷用）'!J33:J38,\"◎\")+COUNTIF('ふりかえりシート（印刷用）'!J33:J38,\"△\")","v":0},{"$f":"COUNTIF('ふりかえりシート（印刷用）'!K33:K38,\"◎\")+COUNTIF('ふりかえりシート（印刷用）'!K33:K38,\"△\")","v":0}]
[null,"◎/実施",{"$f":"IFERROR(C31/C32,0)","v":0},{"$f":"IFERROR(D31/D32,0)","v":0},0,0,0,0,0,0,0]
[null,"男女",{"$f":"IFERROR((C23+C31)/(C24+C32),\"\")","v":""},{"$f":"IFERROR((D23+D31)/(D24+D32),\"\")","v":""},"","","","","","",""]
[]
[]
["グラフ作成用"]
[null,"男子","１年","２年","３年","４年","５年","６年"]
[null,"目標値（例）",29,37,44,48,55,61]
[null,"体力合計点",{"$f":"IF(M6=\"\",\"未入力\",M6)","v":"未入力"},{"$f":"IF(M7=\"\",\"未入力\",M7)","v":"未入力"},{"$f":"IF(M8=\"\",\"未入力\",M8)","v":"未入力"},{"$f":"IF(M9=\"\",\"未入力\",M9)","v":"未入力"},{"$f":"IF(M10=\"\",\"未入力\",M10)","v":"未入力"},{"$f":"IF(M11=\"\",\"未入力\",M11)","v":"未入力"}]
[null,"女子","１年","２年","３年","４年","５年","６年"]
[null,"目標値（例）",31,37,44,50,56,62]
[null,"体力合計点",{"$f":"IF(M14=\"\",\"未入力\",M14)","v":"未入力"},{"$f":"IF(M15=\"\",\"未入力\",M15)","v":"未入力"},{"$f":"IF(M16=\"\",\"未入力\",M16)","v":"未入力"},{"$f":"IF(M17=\"\",\"未入力\",M17)","v":"未入力"},{"$f":"IF(M18=\"\",\"未入力\",M18)","v":"未入力"},{"$f":"IF(M19=\"\",\"未入力\",M19)","v":"未入力"}]
[]
[null,"男子","１年","２年","３年","４年","５年","６年"]
[null,"目標値（例）",0.7,0.7,0.7,0.7,0.7,0.7]
[null,"ABC",{"$f":"+'ふりかえりシート（印刷用）'!K7","v":"未入力"},{"$f":"+'ふりかえりシート（印刷用）'!K8","v":"未入力"},{"$f":"+'ふりかえりシート（印刷用）'!K9","v":"未入力"},{"$f":"+'ふりかえりシート（印刷用）'!K10","v":"未入力"},{"$f":"+'ふりかえりシート（印刷用）'!K11","v":"未入力"},{"$f":"+'ふりかえりシート（印刷用）'!K12","v":"未入力"}]
[null,"女子","１年","２年","３年","４年","５年","６年"]
[null,"目標値（例）",0.75,0.75,0.75,0.75,0.75,0.75]
[null,"ABC",{"$f":"+'ふりかえりシート（印刷用）'!K15","v":"未入力"},{"$f":"+'ふりかえりシート（印刷用）'!K16","v":"未入力"},{"$f":"+'ふりかえりシート（印刷用）'!K17","v":"未入力"},{"$f":"+'ふりかえりシート（印刷用）'!K18","v":"未入力"},{"$f":"+'ふりかえりシート（印刷用）'!K19","v":"未入力"},{"$f":"+'ふりかえりシート（印刷用）'!K20","v":"未入力"}]
[]
[null,"男子","１年","２年","３年","４年","５年","６年"]
[null,"目標値（例）",9,11,13,15,17,20]
[null,"握力",{"$f":"+'ふりかえりシート（印刷用）'!$C$7","v":"未入力"},{"$f":"+'ふりかえりシート（印刷用）'!$C$8","v":"未入力"},{"$f":"+'ふりかえりシート（印刷用）'!$C$9","v":"未入力"},{"$f":"+'ふりかえりシート（印刷用）'!$C$10","v":"未入力"},{"$f":"+'ふりかえりシート（印刷用）'!$C$11","v":"未入力"},{"$f":"+'ふりかえりシート（印刷用）'!$C$12","v":"未入力"}]
[null,"女子","１年","２年","３年","４年","５年","６年"]
[null,"目標値（例）",9,10,12,14,17,19]
[null,"握力",{"$f":"+'ふりかえりシート（印刷用）'!$C$15","v":"未入力"},{"$f":"+'ふりかえりシート（印刷用）'!$C$16","v":"未入力"},{"$f":"+'ふりかえりシート（印刷用）'!$C$17","v":"未入力"},{"$f":"+'ふりかえりシート（印刷用）'!$C$18","v":"未入力"},{"$f":"+'ふりかえりシート（印刷用）'!$C$19","v":"未入力"},{"$f":"+'ふりかえりシート（印刷用）'!$C$20","v":"未入力"}]
[]
[null,"男子","１年","２年","３年","４年","５年","６年"]
[null,"目標値（例）",11,13,15,17,19,21]
[null,"上体起こし",{"$f":"+'ふりかえりシート（印刷用）'!$D$7","v":"未入力"},{"$f":"+'ふりかえりシート（印刷用）'!$D$8","v":"未入力"},{"$f":"+'ふりかえりシート（印刷用）'!$D$9","v":"未入力"},{"$f":"+'ふりかえりシート（印刷用）'!$D$10","v":"未入力"},{"$f":"+'ふりかえりシート（印刷用）'!$D$11","v":"未入力"},{"$f":"+'ふりかえりシート（印刷用）'!$D$12","v":"未入力"}]
[null,"女子","１年","２年","３年","４年","５年","６年"]
[null,"目標値（例）",10,13,15,16,18,19]
[null,"上体起こし",{"$f":"+'ふりかえりシート（印刷用）'!$D$15","v":"未入力"},{"$f":"+'ふりかえりシート（印刷用）'!$D$16","v":"未入力"},{"$f":"+'ふりかえりシート（印刷用）'!$D$17","v":"未入力"},{"$f":"+'ふりかえりシート（印刷用）'!$D$18","v":"未入力"},{"$f":"+'ふりかえりシート（印刷用）'!$D$19","v":"未入力"},{"$f":"+'ふりかえりシート（印刷用）'!$D$20","v":"未入力"}]
[]
[null,"男子","１年","２年","３年","４年","５年","６年"]
[null,"目標値（例）",26,28,30,32,34,36]
[null,"長座体前屈",{"$f":"+'ふりかえりシート（印刷用）'!$E$7","v":"未入力"},{"$f":"+'ふりかえりシート（印刷用）'!$E$8","v":"未入力"},{"$f":"+'ふりかえりシート（印刷用）'!$E$9","v":"未入力"},{"$f":"+'ふりかえりシート（印刷用）'!$E$10","v":"未入力"},{"$f":"+'ふりかえりシート（印刷用）'!$E$11","v":"未入力"},{"$f":"+'ふりかえりシート（印刷用）'!$E$12","v":"未入力"}]
[null,"女子","１年","２年","３年","４年","５年","６年"]
[null,"目標値（例）",29,31,33,36,38,41]
[null,"長座体前屈",{"$f":"+'ふりかえりシート（印刷用）'!$E$15","v":"未入力"},{"$f":"+'ふりかえりシート（印刷用）'!$E$16","v":"未入力"},{"$f":"+'ふりかえりシート（印刷用）'!$E$17","v":"未入力"},{"$f":"+'ふりかえりシート（印刷用）'!$E$18","v":"未入力"},{"$f":"+'ふりかえりシート（印刷用）'!$E$19","v":"未入力"},{"$f":"+'ふりかえりシート（印刷用）'!$E$20","v":"未入力"}]
[]
[null,"男子","１年","２年","３年","４年","５年","６年"]
[null,"目標値（例）",28,31,34,39,43,46]
[null,"反復横とび",{"$f":"+'ふりかえりシート（印刷用）'!$F$7","v":"未入力"},{"$f":"+'ふりかえりシート（印刷用）'!$F$8","v":"未入力"},{"$f":"+'ふりかえりシート（印刷用）'!$F$9","v":"未入力"},{"$f":"+'ふりかえりシート（印刷用）'!$F$10","v":"未入力"},{"$f":"+'ふりかえりシート（印刷用）'!$F$11","v":"未入力"},{"$f":"+'ふりかえりシート（印刷用）'!$F$12","v":"未入力"}]
[null,"女子","１年","２年","３年","４年","５年","６年"]
[null,"目標値（例）",27,30,33,37,40,43]
[null,"反復横とび",{"$f":"+'ふりかえりシート（印刷用）'!$F$15","v":"未入力"},{"$f":"+'ふりかえりシート（印刷用）'!$F$16","v":"未入力"},{"$f":"+'ふりかえりシート（印刷用）'!$F$17","v":"未入力"},{"$f":"+'ふりかえりシート（印刷用）'!$F$18","v":"未入力"},{"$f":"+'ふりかえりシート（印刷用）'!$F$19","v":"未入力"},{"$f":"+'ふりかえりシート（印刷用）'!$F$20","v":"未入力"}]
[]
[null,"男子","１年","２年","３年","４年","５年","６年"]
[null,"目標値（例）",18,27,35,44,52,60]
[null,"シャトルラン",{"$f":"+'ふりかえりシート（印刷用）'!$G$7","v":"未入力"},{"$f":"+'ふりかえりシート（印刷用）'!$G$8","v":"未入力"},{"$f":"+'ふりかえりシート（印刷用）'!$G$9","v":"未入力"},{"$f":"+'ふりかえりシート（印刷用）'!$G$10","v":"未入力"},{"$f":"+'ふりかえりシート（印刷用）'!$G$11","v":"未入力"},{"$f":"+'ふりかえりシート（印刷用）'!$G$12","v":"未入力"}]
[null,"女子","１年","２年","３年","４年","５年","６年"]
[null,"目標値（例）",15,21,26,33,40,45]
[null,"シャトルラン",{"$f":"+'ふりかえりシート（印刷用）'!$G$15","v":"未入力"},{"$f":"+'ふりかえりシート（印刷用）'!$G$16","v":"未入力"},{"$f":"+'ふりかえりシート（印刷用）'!$G$17","v":"未入力"},{"$f":"+'ふりかえりシート（印刷用）'!$G$18","v":"未入力"},{"$f":"+'ふりかえりシート（印刷用）'!$G$19","v":"未入力"},{"$f":"+'ふりかえりシート（印刷用）'!$G$20","v":"未入力"}]
[]
[null,"男子","１年","２年","３年","４年","５年","６年"]
[null,"目標値（例）",11.7,10.8,10.3,9.6999999999999993,9.4,9]
[null,"５０ｍ走",{"$f":"IF(小1!$J$6=\"\",NA(),小1!$J$6)","v":{"$error":"#N/A"}},{"$f":"IF(小2!$J$6=\"\",NA(),小2!$J$6)","v":{"$error":"#N/A"}},{"$f":"IF(小3!$J$6=\"\",NA(),小3!$J$6)","v":{"$error":"#N/A"}},{"$f":"IF(小4!$J$6=\"\",NA(),小4!$J$6)","v":{"$error":"#N/A"}},{"$f":"IF(小5!$J$6=\"\",NA(),小5!$J$6)","v":{"$error":"#N/A"}},{"$f":"IF(小6!$J$6=\"\",NA(),小6!$J$6)","v":{"$error":"#N/A"}}]
[null,"女子","１年","２年","３年","４年","５年","６年"]
[null,"目標値（例）",11.9,11.1,10.5,10,9.6999999999999993,9.3000000000000007]
[null,"５０ｍ走",{"$f":"IF(小1!$J$10=\"\",NA(),小1!$J$10)","v":{"$error":"#N/A"}},{"$f":"IF(小2!$J$10=\"\",NA(),小2!$J$10)","v":{"$error":"#N/A"}},{"$f":"IF(小3!$J$10=\"\",NA(),小3!$J$10)","v":{"$error":"#N/A"}},{"$f":"IF(小4!$J$10=\"\",NA(),小4!$J$10)","v":{"$error":"#N/A"}},{"$f":"IF(小5!$J$10=\"\",NA(),小5!$J$10)","v":{"$error":"#N/A"}},{"$f":"IF(小6!$J$10=\"\",NA(),小6!$J$10)","v":{"$error":"#N/A"}}]
[]
[null,"男子","１年","２年","３年","４年","５年","６年"]
[null,"目標値（例）",110,122,132,142,152,162]
[null,"立ち幅とび",{"$f":"+'ふりかえりシート（印刷用）'!$I$7","v":"未入力"},{"$f":"+'ふりかえりシート（印刷用）'!$I$8","v":"未入力"},{"$f":"+'ふりかえりシート（印刷用）'!$I$9","v":"未入力"},{"$f":"+'ふりかえりシート（印刷用）'!$I$10","v":"未入力"},{"$f":"+'ふりかえりシート（印刷用）'!$I$11","v":"未入力"},{"$f":"+'ふりかえりシート（印刷用）'!$I$12","v":"未入力"}]
[null,"女子","１年","２年","３年","４年","５年","６年"]
[null,"目標値（例）",104,114,125,135,145,155]
[null,"立ち幅とび",{"$f":"+'ふりかえりシート（印刷用）'!$I$15","v":"未入力"},{"$f":"+'ふりかえりシート（印刷用）'!$I$16","v":"未入力"},{"$f":"+'ふりかえりシート（印刷用）'!$I$17","v":"未入力"},{"$f":"+'ふりかえりシート（印刷用）'!$I$18","v":"未入力"},{"$f":"+'ふりかえりシート（印刷用）'!$I$19","v":"未入力"},{"$f":"+'ふりかえりシート（印刷用）'!$I$20","v":"未入力"}]
[]
[null,"男子","１年","２年","３年","４年","５年","６年"]
[null,"目標値（例）",9,12,16,20,24,28]
[null,"ボール投げ",{"$f":"+'ふりかえりシート（印刷用）'!$J$7","v":"未入力"},{"$f":"+'ふりかえりシート（印刷用）'!$J$8","v":"未入力"},{"$f":"+'ふりかえりシート（印刷用）'!$J$9","v":"未入力"},{"$f":"+'ふりかえりシート（印刷用）'!$J$10","v":"未入力"},{"$f":"+'ふりかえりシート（印刷用）'!$J$11","v":"未入力"},{"$f":"+'ふりかえりシート（印刷用）'!$J$12","v":"未入力"}]
[null,"女子","１年","２年","３年","４年","５年","６年"]
[null,"目標値（例）",6,8,10,12,14,16]
[null,"ボール投げ",{"$f":"+'ふりかえりシート（印刷用）'!$J$15","v":"未入力"},{"$f":"+'ふりかえりシート（印刷用）'!$J$16","v":"未入力"},{"$f":"+'ふりかえりシート（印刷用）'!$J$17","v":"未入力"},{"$f":"+'ふりかえりシート（印刷用）'!$J$18","v":"未入力"},{"$f":"+'ふりかえりシート（印刷用）'!$J$19","v":"未入力"},{"$f":"+'ふりかえりシート（印刷用）'!$J$20","v":"未入力"}]
[]
[]
[]
["度数分布表"]
[null,"１年男子"]
[null,"得点","握力","上体起こし","長座体前屈","反復横とび","20mシャトルラン","５０ｍ走","立ち幅とび","ｿﾌﾄﾎﾞｰﾙ投げ"]
[null,1,{"$f":"COUNTIF(小1!M$21:M$140,計算式シート!$B113)","v":0},{"$f":"COUNTIF(小1!N$21:N$140,計算式シート!$B113)","v":0},{"$f":"COUNTIF(小1!O$21:O$140,計算式シート!$B113)","v":0},{"$f":"COUNTIF(小1!P$21:P$140,計算式シート!$B113)","v":0},{"$f":"COUNTIF(小1!Q$21:Q$140,計算式シート!$B113)","v":0},{"$f":"COUNTIF(小1!R$21:R$140,計算式シート!$B113)","v":0},{"$f":"COUNTIF(小1!S$21:S$140,計算式シート!$B113)","v":0},{"$f":"COUNTIF(小1!T$21:T$140,計算式シート!$B113)","v":0}]
[null,2,{"$f":"COUNTIF(小1!M$21:M$140,計算式シート!$B114)","v":0},{"$f":"COUNTIF(小1!N$21:N$140,計算式シート!$B114)","v":0},{"$f":"COUNTIF(小1!O$21:O$140,計算式シート!$B114)","v":0},{"$f":"COUNTIF(小1!P$21:P$140,計算式シート!$B114)","v":0},{"$f":"COUNTIF(小1!Q$21:Q$140,計算式シート!$B114)","v":0},{"$f":"COUNTIF(小1!R$21:R$140,計算式シート!$B114)","v":0},{"$f":"COUNTIF(小1!S$21:S$140,計算式シート!$B114)","v":0},{"$f":"COUNTIF(小1!T$21:T$140,計算式シート!$B114)","v":0}]
[null,3,{"$f":"COUNTIF(小1!M$21:M$140,計算式シート!$B115)","v":0},{"$f":"COUNTIF(小1!N$21:N$140,計算式シート!$B115)","v":0},{"$f":"COUNTIF(小1!O$21:O$140,計算式シート!$B115)","v":0},{"$f":"COUNTIF(小1!P$21:P$140,計算式シート!$B115)","v":0},{"$f":"COUNTIF(小1!Q$21:Q$140,計算式シート!$B115)","v":0},{"$f":"COUNTIF(小1!R$21:R$140,計算式シート!$B115)","v":0},{"$f":"COUNTIF(小1!S$21:S$140,計算式シート!$B115)","v":0},{"$f":"COUNTIF(小1!T$21:T$140,計算式シート!$B115)","v":0}]
[null,4,{"$f":"COUNTIF(小1!M$21:M$140,計算式シート!$B116)","v":0},{"$f":"COUNTIF(小1!N$21:N$140,計算式シート!$B116)","v":0},{"$f":"COUNTIF(小1!O$21:O$140,計算式シート!$B116)","v":0},{"$f":"COUNTIF(小1!P$21:P$140,計算式シート!$B116)","v":0},{"$f":"COUNTIF(小1!Q$21:Q$140,計算式シート!$B116)","v":0},{"$f":"COUNTIF(小1!R$21:R$140,計算式シート!$B116)","v":0},{"$f":"COUNTIF(小1!S$21:S$140,計算式シート!$B116)","v":0},{"$f":"COUNTIF(小1!T$21:T$140,計算式シート!$B116)","v":0}]
[null,5,{"$f":"COUNTIF(小1!M$21:M$140,計算式シート!$B117)","v":0},{"$f":"COUNTIF(小1!N$21:N$140,計算式シート!$B117)","v":0},{"$f":"COUNTIF(小1!O$21:O$140,計算式シート!$B117)","v":0},{"$f":"COUNTIF(小1!P$21:P$140,計算式シート!$B117)","v":0},{"$f":"COUNTIF(小1!Q$21:Q$140,計算式シート!$B117)","v":0},{"$f":"COUNTIF(小1!R$21:R$140,計算式シート!$B117)","v":0},{"$f":"COUNTIF(小1!S$21:S$140,計算式シート!$B117)","v":0},{"$f":"COUNTIF(小1!T$21:T$140,計算式シート!$B117)","v":0}]
[null,6,{"$f":"COUNTIF(小1!M$21:M$140,計算式シート!$B118)","v":0},{"$f":"COUNTIF(小1!N$21:N$140,計算式シート!$B118)","v":0},{"$f":"COUNTIF(小1!O$21:O$140,計算式シート!$B118)","v":0},{"$f":"COUNTIF(小1!P$21:P$140,計算式シート!$B118)","v":0},{"$f":"COUNTIF(小1!Q$21:Q$140,計算式シート!$B118)","v":0},{"$f":"COUNTIF(小1!R$21:R$140,計算式シート!$B118)","v":0},{"$f":"COUNTIF(小1!S$21:S$140,計算式シート!$B118)","v":0},{"$f":"COUNTIF(小1!T$21:T$140,計算式シート!$B118)","v":0}]
[null,7,{"$f":"COUNTIF(小1!M$21:M$140,計算式シート!$B119)","v":0},{"$f":"COUNTIF(小1!N$21:N$140,計算式シート!$B119)","v":0},{"$f":"COUNTIF(小1!O$21:O$140,計算式シート!$B119)","v":0},{"$f":"COUNTIF(小1!P$21:P$140,計算式シート!$B119)","v":0},{"$f":"COUNTIF(小1!Q$21:Q$140,計算式シート!$B119)","v":0},{"$f":"COUNTIF(小1!R$21:R$140,計算式シート!$B119)","v":0},{"$f":"COUNTIF(小1!S$21:S$140,計算式シート!$B119)","v":0},{"$f":"COUNTIF(小1!T$21:T$140,計算式シート!$B119)","v":0}]
[null,8,{"$f":"COUNTIF(小1!M$21:M$140,計算式シート!$B120)","v":0},{"$f":"COUNTIF(小1!N$21:N$140,計算式シート!$B120)","v":0},{"$f":"COUNTIF(小1!O$21:O$140,計算式シート!$B120)","v":0},{"$f":"COUNTIF(小1!P$21:P$140,計算式シート!$B120)","v":0},{"$f":"COUNTIF(小1!Q$21:Q$140,計算式シート!$B120)","v":0},{"$f":"COUNTIF(小1!R$21:R$140,計算式シート!$B120)","v":0},{"$f":"COUNTIF(小1!S$21:S$140,計算式シート!$B120)","v":0},{"$f":"COUNTIF(小1!T$21:T$140,計算式シート!$B120)","v":0}]
[null,9,{"$f":"COUNTIF(小1!M$21:M$140,計算式シート!$B121)","v":0},{"$f":"COUNTIF(小1!N$21:N$140,計算式シート!$B121)","v":0},{"$f":"COUNTIF(小1!O$21:O$140,計算式シート!$B121)","v":0},{"$f":"COUNTIF(小1!P$21:P$140,計算式シート!$B121)","v":0},{"$f":"COUNTIF(小1!Q$21:Q$140,計算式シート!$B121)","v":0},{"$f":"COUNTIF(小1!R$21:R$140,計算式シート!$B121)","v":0},{"$f":"COUNTIF(小1!S$21:S$140,計算式シート!$B121)","v":0},{"$f":"COUNTIF(小1!T$21:T$140,計算式シート!$B121)","v":0}]
[null,10,{"$f":"COUNTIF(小1!M$21:M$140,計算式シート!$B122)","v":0},{"$f":"COUNTIF(小1!N$21:N$140,計算式シート!$B122)","v":0},{"$f":"COUNTIF(小1!O$21:O$140,計算式シート!$B122)","v":0},{"$f":"COUNTIF(小1!P$21:P$140,計算式シート!$B122)","v":0},{"$f":"COUNTIF(小1!Q$21:Q$140,計算式シート!$B122)","v":0},{"$f":"COUNTIF(小1!R$21:R$140,計算式シート!$B122)","v":0},{"$f":"COUNTIF(小1!S$21:S$140,計算式シート!$B122)","v":0},{"$f":"COUNTIF(小1!T$21:T$140,計算式シート!$B122)","v":0}]
[null,"縦軸最大",{"$f":"IF(MAX(C113:C122)+1 >1, IF(MAX(C113:C122)+1>120, CEILING(MAX(C113:C122)+1, 50), IF(MAX(C113:C122)+1>100, CEILING(MAX(C113:C122)+1, 20), IF(MAX(C113:C122)+1>25, CEILING(MAX(C113:C122)+1, 10), IF(MAX(C113:C122)+1>18, CEILING(MAX(C113:C122)+1, 5), IF(MAX(C113:C122)+1>10, CEILING(MAX(C113:C122)+1, 3), IF(MAX(C113:C122)+1>5, CEILING(MAX(C113:C122)+1, 2), MAX(C113:C122)+1)))))), 1)","v":1},{"$f":"IF(MAX(D113:D122)+1 >1, IF(MAX(D113:D122)+1>120, CEILING(MAX(D113:D122)+1, 50), IF(MAX(D113:D122)+1>100, CEILING(MAX(D113:D122)+1, 20), IF(MAX(D113:D122)+1>25, CEILING(MAX(D113:D122)+1, 10), IF(MAX(D113:D122)+1>18, CEILING(MAX(D113:D122)+1, 5), IF(MAX(D113:D122)+1>10, CEILING(MAX(D113:D122)+1, 3), IF(MAX(D113:D122)+1>5, CEILING(MAX(D113:D122)+1, 2), MAX(D113:D122)+1)))))), 1)","v":1},1,1,1,1,1,1]
[null,"縦軸間隔",{"$f":"IF(C123 >1, IF(C123 >=250, 50, IF(C123 >=200, 40, IF(C123 >=150, 30, IF(C123 >=100, 20, IF(C123 >=50, 10, IF(C123 >=20, 5, IF(C123 >=15, 3, IF(C123 >=8, 2, 1)))))))),1)","v":1},{"$f":"IF(D123 >1, IF(D123 >=250, 50, IF(D123 >=200, 40, IF(D123 >=150, 30, IF(D123 >=100, 20, IF(D123 >=50, 10, IF(D123 >=20, 5, IF(D123 >=15, 3, IF(D123 >=8, 2, 1)))))))),1)","v":1},1,1,1,1,1,1]
[]
[null,"１年女子"]
[null,"得点","握力","上体起こし","長座体前屈","反復横とび","20mシャトルラン","５０ｍ走","立ち幅とび","ｿﾌﾄﾎﾞｰﾙ投げ"]
[null,1,{"$f":"COUNTIF(小1!M$150:M$269,計算式シート!$B128)","v":0},{"$f":"COUNTIF(小1!N$150:N$269,計算式シート!$B128)","v":0},{"$f":"COUNTIF(小1!O$150:O$269,計算式シート!$B128)","v":0},{"$f":"COUNTIF(小1!P$150:P$269,計算式シート!$B128)","v":0},{"$f":"COUNTIF(小1!Q$150:Q$269,計算式シート!$B128)","v":0},{"$f":"COUNTIF(小1!R$150:R$269,計算式シート!$B128)","v":0},{"$f":"COUNTIF(小1!S$150:S$269,計算式シート!$B128)","v":0},{"$f":"COUNTIF(小1!T$150:T$269,計算式シート!$B128)","v":0}]
[null,2,{"$f":"COUNTIF(小1!M$150:M$269,計算式シート!$B129)","v":0},{"$f":"COUNTIF(小1!N$150:N$269,計算式シート!$B129)","v":0},{"$f":"COUNTIF(小1!O$150:O$269,計算式シート!$B129)","v":0},{"$f":"COUNTIF(小1!P$150:P$269,計算式シート!$B129)","v":0},{"$f":"COUNTIF(小1!Q$150:Q$269,計算式シート!$B129)","v":0},{"$f":"COUNTIF(小1!R$150:R$269,計算式シート!$B129)","v":0},{"$f":"COUNTIF(小1!S$150:S$269,計算式シート!$B129)","v":0},{"$f":"COUNTIF(小1!T$150:T$269,計算式シート!$B129)","v":0}]
[null,3,{"$f":"COUNTIF(小1!M$150:M$269,計算式シート!$B130)","v":0},{"$f":"COUNTIF(小1!N$150:N$269,計算式シート!$B130)","v":0},{"$f":"COUNTIF(小1!O$150:O$269,計算式シート!$B130)","v":0},{"$f":"COUNTIF(小1!P$150:P$269,計算式シート!$B130)","v":0},{"$f":"COUNTIF(小1!Q$150:Q$269,計算式シート!$B130)","v":0},{"$f":"COUNTIF(小1!R$150:R$269,計算式シート!$B130)","v":0},{"$f":"COUNTIF(小1!S$150:S$269,計算式シート!$B130)","v":0},{"$f":"COUNTIF(小1!T$150:T$269,計算式シート!$B130)","v":0}]
[null,4,{"$f":"COUNTIF(小1!M$150:M$269,計算式シート!$B131)","v":0},{"$f":"COUNTIF(小1!N$150:N$269,計算式シート!$B131)","v":0},{"$f":"COUNTIF(小1!O$150:O$269,計算式シート!$B131)","v":0},{"$f":"COUNTIF(小1!P$150:P$269,計算式シート!$B131)","v":0},{"$f":"COUNTIF(小1!Q$150:Q$269,計算式シート!$B131)","v":0},{"$f":"COUNTIF(小1!R$150:R$269,計算式シート!$B131)","v":0},{"$f":"COUNTIF(小1!S$150:S$269,計算式シート!$B131)","v":0},{"$f":"COUNTIF(小1!T$150:T$269,計算式シート!$B131)","v":0}]
[null,5,{"$f":"COUNTIF(小1!M$150:M$269,計算式シート!$B132)","v":0},{"$f":"COUNTIF(小1!N$150:N$269,計算式シート!$B132)","v":0},{"$f":"COUNTIF(小1!O$150:O$269,計算式シート!$B132)","v":0},{"$f":"COUNTIF(小1!P$150:P$269,計算式シート!$B132)","v":0},{"$f":"COUNTIF(小1!Q$150:Q$269,計算式シート!$B132)","v":0},{"$f":"COUNTIF(小1!R$150:R$269,計算式シート!$B132)","v":0},{"$f":"COUNTIF(小1!S$150:S$269,計算式シート!$B132)","v":0},{"$f":"COUNTIF(小1!T$150:T$269,計算式シート!$B132)","v":0}]
[null,6,{"$f":"COUNTIF(小1!M$150:M$269,計算式シート!$B133)","v":0},{"$f":"COUNTIF(小1!N$150:N$269,計算式シート!$B133)","v":0},{"$f":"COUNTIF(小1!O$150:O$269,計算式シート!$B133)","v":0},{"$f":"COUNTIF(小1!P$150:P$269,計算式シート!$B133)","v":0},{"$f":"COUNTIF(小1!Q$150:Q$269,計算式シート!$B133)","v":0},{"$f":"COUNTIF(小1!R$150:R$269,計算式シート!$B133)","v":0},{"$f":"COUNTIF(小1!S$150:S$269,計算式シート!$B133)","v":0},{"$f":"COUNTIF(小1!T$150:T$269,計算式シート!$B133)","v":0}]
[null,7,{"$f":"COUNTIF(小1!M$150:M$269,計算式シート!$B134)","v":0},{"$f":"COUNTIF(小1!N$150:N$269,計算式シート!$B134)","v":0},{"$f":"COUNTIF(小1!O$150:O$269,計算式シート!$B134)","v":0},{"$f":"COUNTIF(小1!P$150:P$269,計算式シート!$B134)","v":0},{"$f":"COUNTIF(小1!Q$150:Q$269,計算式シート!$B134)","v":0},{"$f":"COUNTIF(小1!R$150:R$269,計算式シート!$B134)","v":0},{"$f":"COUNTIF(小1!S$150:S$269,計算式シート!$B134)","v":0},{"$f":"COUNTIF(小1!T$150:T$269,計算式シート!$B134)","v":0}]
[null,8,{"$f":"COUNTIF(小1!M$150:M$269,計算式シート!$B135)","v":0},{"$f":"COUNTIF(小1!N$150:N$269,計算式シート!$B135)","v":0},{"$f":"COUNTIF(小1!O$150:O$269,計算式シート!$B135)","v":0},{"$f":"COUNTIF(小1!P$150:P$269,計算式シート!$B135)","v":0},{"$f":"COUNTIF(小1!Q$150:Q$269,計算式シート!$B135)","v":0},{"$f":"COUNTIF(小1!R$150:R$269,計算式シート!$B135)","v":0},{"$f":"COUNTIF(小1!S$150:S$269,計算式シート!$B135)","v":0},{"$f":"COUNTIF(小1!T$150:T$269,計算式シート!$B135)","v":0}]
[null,9,{"$f":"COUNTIF(小1!M$150:M$269,計算式シート!$B136)","v":0},{"$f":"COUNTIF(小1!N$150:N$269,計算式シート!$B136)","v":0},{"$f":"COUNTIF(小1!O$150:O$269,計算式シート!$B136)","v":0},{"$f":"COUNTIF(小1!P$150:P$269,計算式シート!$B136)","v":0},{"$f":"COUNTIF(小1!Q$150:Q$269,計算式シート!$B136)","v":0},{"$f":"COUNTIF(小1!R$150:R$269,計算式シート!$B136)","v":0},{"$f":"COUNTIF(小1!S$150:S$269,計算式シート!$B136)","v":0},{"$f":"COUNTIF(小1!T$150:T$269,計算式シート!$B136)","v":0}]
[null,10,{"$f":"COUNTIF(小1!M$150:M$269,計算式シート!$B137)","v":0},{"$f":"COUNTIF(小1!N$150:N$269,計算式シート!$B137)","v":0},{"$f":"COUNTIF(小1!O$150:O$269,計算式シート!$B137)","v":0},{"$f":"COUNTIF(小1!P$150:P$269,計算式シート!$B137)","v":0},{"$f":"COUNTIF(小1!Q$150:Q$269,計算式シート!$B137)","v":0},{"$f":"COUNTIF(小1!R$150:R$269,計算式シート!$B137)","v":0},{"$f":"COUNTIF(小1!S$150:S$269,計算式シート!$B137)","v":0},{"$f":"COUNTIF(小1!T$150:T$269,計算式シート!$B137)","v":0}]
[null,"縦軸最大",{"$f":"IF(MAX(C128:C137)+1 >1, IF(MAX(C128:C137)+1>120, CEILING(MAX(C128:C137)+1, 50), IF(MAX(C128:C137)+1>100, CEILING(MAX(C128:C137)+1, 20), IF(MAX(C128:C137)+1>25, CEILING(MAX(C128:C137)+1, 10), IF(MAX(C128:C137)+1>18, CEILING(MAX(C128:C137)+1, 5), IF(MAX(C128:C137)+1>10, CEILING(MAX(C128:C137)+1, 3), IF(MAX(C128:C137)+1>5, CEILING(MAX(C128:C137)+1, 2), MAX(C128:C137)+1)))))), 1)","v":1},{"$f":"IF(MAX(D128:D137)+1 >1, IF(MAX(D128:D137)+1>120, CEILING(MAX(D128:D137)+1, 50), IF(MAX(D128:D137)+1>100, CEILING(MAX(D128:D137)+1, 20), IF(MAX(D128:D137)+1>25, CEILING(MAX(D128:D137)+1, 10), IF(MAX(D128:D137)+1>18, CEILING(MAX(D128:D137)+1, 5), IF(MAX(D128:D137)+1>10, CEILING(MAX(D128:D137)+1, 3), IF(MAX(D128:D137)+1>5, CEILING(MAX(D128:D137)+1, 2), MAX(D128:D137)+1)))))), 1)","v":1},{"$f":"IF(MAX(E128:E137)+1 >1, IF(MAX(E128:E137)+1>120, CEILING(MAX(E128:E137)+1, 50), IF(MAX(E128:E137)+1>100, CEILING(MAX(E128:E137)+1, 20), IF(MAX(E128:E137)+1>25, CEILING(MAX(E128:E137)+1, 10), IF(MAX(E128:E137)+1>18, CEILING(MAX(E128:E137)+1, 5), IF(MAX(E128:E137)+1>10, CEILING(MAX(E128:E137)+1, 3), IF(MAX(E128:E137)+1>5, CEILING(MAX(E128:E137)+1, 2), MAX(E128:E137)+1)))))), 1)","v":1},{"$f":"IF(MAX(F128:F137)+1 >1, IF(MAX(F128:F137)+1>120, CEILING(MAX(F128:F137)+1, 50), IF(MAX(F128:F137)+1>100, CEILING(MAX(F128:F137)+1, 20), IF(MAX(F128:F137)+1>25, CEILING(MAX(F128:F137)+1, 10), IF(MAX(F128:F137)+1>18, CEILING(MAX(F128:F137)+1, 5), IF(MAX(F128:F137)+1>10, CEILING(MAX(F128:F137)+1, 3), IF(MAX(F128:F137)+1>5, CEILING(MAX(F128:F137)+1, 2), MAX(F128:F137)+1)))))), 1)","v":1},{"$f":"IF(MAX(G128:G137)+1 >1, IF(MAX(G128:G137)+1>120, CEILING(MAX(G128:G137)+1, 50), IF(MAX(G128:G137)+1>100, CEILING(MAX(G128:G137)+1, 20), IF(MAX(G128:G137)+1>25, CEILING(MAX(G128:G137)+1, 10), IF(MAX(G128:G137)+1>18, CEILING(MAX(G128:G137)+1, 5), IF(MAX(G128:G137)+1>10, CEILING(MAX(G128:G137)+1, 3), IF(MAX(G128:G137)+1>5, CEILING(MAX(G128:G137)+1, 2), MAX(G128:G137)+1)))))), 1)","v":1},{"$f":"IF(MAX(H128:H137)+1 >1, IF(MAX(H128:H137)+1>120, CEILING(MAX(H128:H137)+1, 50), IF(MAX(H128:H137)+1>100, CEILING(MAX(H128:H137)+1, 20), IF(MAX(H128:H137)+1>25, CEILING(MAX(H128:H137)+1, 10), IF(MAX(H128:H137)+1>18, CEILING(MAX(H128:H137)+1, 5), IF(MAX(H128:H137)+1>10, CEILING(MAX(H128:H137)+1, 3), IF(MAX(H128:H137)+1>5, CEILING(MAX(H128:H137)+1, 2), MAX(H128:H137)+1)))))), 1)","v":1},{"$f":"IF(MAX(I128:I137)+1 >1, IF(MAX(I128:I137)+1>120, CEILING(MAX(I128:I137)+1, 50), IF(MAX(I128:I137)+1>100, CEILING(MAX(I128:I137)+1, 20), IF(MAX(I128:I137)+1>25, CEILING(MAX(I128:I137)+1, 10), IF(MAX(I128:I137)+1>18, CEILING(MAX(I128:I137)+1, 5), IF(MAX(I128:I137)+1>10, CEILING(MAX(I128:I137)+1, 3), IF(MAX(I128:I137)+1>5, CEILING(MAX(I128:I137)+1, 2), MAX(I128:I137)+1)))))), 1)","v":1},{"$f":"IF(MAX(J128:J137)+1 >1, IF(MAX(J128:J137)+1>120, CEILING(MAX(J128:J137)+1, 50), IF(MAX(J128:J137)+1>100, CEILING(MAX(J128:J137)+1, 20), IF(MAX(J128:J137)+1>25, CEILING(MAX(J128:J137)+1, 10), IF(MAX(J128:J137)+1>18, CEILING(MAX(J128:J137)+1, 5), IF(MAX(J128:J137)+1>10, CEILING(MAX(J128:J137)+1, 3), IF(MAX(J128:J137)+1>5, CEILING(MAX(J128:J137)+1, 2), MAX(J128:J137)+1)))))), 1)","v":1}]
[null,"縦軸間隔",{"$f":"IF(C138 >1, IF(C138 >=250, 50, IF(C138 >=200, 40, IF(C138 >=150, 30, IF(C138 >=100, 20, IF(C138 >=50, 10, IF(C138 >=20, 5, IF(C138 >=15, 3, IF(C138 >=8, 2, 1)))))))),1)","v":1},{"$f":"IF(D138 >1, IF(D138 >=250, 50, IF(D138 >=200, 40, IF(D138 >=150, 30, IF(D138 >=100, 20, IF(D138 >=50, 10, IF(D138 >=20, 5, IF(D138 >=15, 3, IF(D138 >=8, 2, 1)))))))),1)","v":1},1,1,1,1,1,1]
[]
[null,"２年男子"]
[null,"得点","握力","上体起こし","長座体前屈","反復横とび","20mシャトルラン","５０ｍ走","立ち幅とび","ｿﾌﾄﾎﾞｰﾙ投げ"]
[null,1,{"$f":"COUNTIF(小2!M$21:M$140,計算式シート!$B143)","v":0},{"$f":"COUNTIF(小2!N$21:N$140,計算式シート!$B143)","v":0},{"$f":"COUNTIF(小2!O$21:O$140,計算式シート!$B143)","v":0},{"$f":"COUNTIF(小2!P$21:P$140,計算式シート!$B143)","v":0},{"$f":"COUNTIF(小2!Q$21:Q$140,計算式シート!$B143)","v":0},{"$f":"COUNTIF(小2!R$21:R$140,計算式シート!$B143)","v":0},{"$f":"COUNTIF(小2!S$21:S$140,計算式シート!$B143)","v":0},{"$f":"COUNTIF(小2!T$21:T$140,計算式シート!$B143)","v":0}]
[null,2,{"$f":"COUNTIF(小2!M$21:M$140,計算式シート!$B144)","v":0},{"$f":"COUNTIF(小2!N$21:N$140,計算式シート!$B144)","v":0},{"$f":"COUNTIF(小2!O$21:O$140,計算式シート!$B144)","v":0},{"$f":"COUNTIF(小2!P$21:P$140,計算式シート!$B144)","v":0},{"$f":"COUNTIF(小2!Q$21:Q$140,計算式シート!$B144)","v":0},{"$f":"COUNTIF(小2!R$21:R$140,計算式シート!$B144)","v":0},{"$f":"COUNTIF(小2!S$21:S$140,計算式シート!$B144)","v":0},{"$f":"COUNTIF(小2!T$21:T$140,計算式シート!$B144)","v":0}]
[null,3,{"$f":"COUNTIF(小2!M$21:M$140,計算式シート!$B145)","v":0},{"$f":"COUNTIF(小2!N$21:N$140,計算式シート!$B145)","v":0},{"$f":"COUNTIF(小2!O$21:O$140,計算式シート!$B145)","v":0},{"$f":"COUNTIF(小2!P$21:P$140,計算式シート!$B145)","v":0},{"$f":"COUNTIF(小2!Q$21:Q$140,計算式シート!$B145)","v":0},{"$f":"COUNTIF(小2!R$21:R$140,計算式シート!$B145)","v":0},{"$f":"COUNTIF(小2!S$21:S$140,計算式シート!$B145)","v":0},{"$f":"COUNTIF(小2!T$21:T$140,計算式シート!$B145)","v":0}]
[null,4,{"$f":"COUNTIF(小2!M$21:M$140,計算式シート!$B146)","v":0},{"$f":"COUNTIF(小2!N$21:N$140,計算式シート!$B146)","v":0},{"$f":"COUNTIF(小2!O$21:O$140,計算式シート!$B146)","v":0},{"$f":"COUNTIF(小2!P$21:P$140,計算式シート!$B146)","v":0},{"$f":"COUNTIF(小2!Q$21:Q$140,計算式シート!$B146)","v":0},{"$f":"COUNTIF(小2!R$21:R$140,計算式シート!$B146)","v":0},{"$f":"COUNTIF(小2!S$21:S$140,計算式シート!$B146)","v":0},{"$f":"COUNTIF(小2!T$21:T$140,計算式シート!$B146)","v":0}]
[null,5,{"$f":"COUNTIF(小2!M$21:M$140,計算式シート!$B147)","v":0},{"$f":"COUNTIF(小2!N$21:N$140,計算式シート!$B147)","v":0},{"$f":"COUNTIF(小2!O$21:O$140,計算式シート!$B147)","v":0},{"$f":"COUNTIF(小2!P$21:P$140,計算式シート!$B147)","v":0},{"$f":"COUNTIF(小2!Q$21:Q$140,計算式シート!$B147)","v":0},{"$f":"COUNTIF(小2!R$21:R$140,計算式シート!$B147)","v":0},{"$f":"COUNTIF(小2!S$21:S$140,計算式シート!$B147)","v":0},{"$f":"COUNTIF(小2!T$21:T$140,計算式シート!$B147)","v":0}]
[null,6,{"$f":"COUNTIF(小2!M$21:M$140,計算式シート!$B148)","v":0},{"$f":"COUNTIF(小2!N$21:N$140,計算式シート!$B148)","v":0},{"$f":"COUNTIF(小2!O$21:O$140,計算式シート!$B148)","v":0},{"$f":"COUNTIF(小2!P$21:P$140,計算式シート!$B148)","v":0},{"$f":"COUNTIF(小2!Q$21:Q$140,計算式シート!$B148)","v":0},{"$f":"COUNTIF(小2!R$21:R$140,計算式シート!$B148)","v":0},{"$f":"COUNTIF(小2!S$21:S$140,計算式シート!$B148)","v":0},{"$f":"COUNTIF(小2!T$21:T$140,計算式シート!$B148)","v":0}]
[null,7,{"$f":"COUNTIF(小2!M$21:M$140,計算式シート!$B149)","v":0},{"$f":"COUNTIF(小2!N$21:N$140,計算式シート!$B149)","v":0},{"$f":"COUNTIF(小2!O$21:O$140,計算式シート!$B149)","v":0},{"$f":"COUNTIF(小2!P$21:P$140,計算式シート!$B149)","v":0},{"$f":"COUNTIF(小2!Q$21:Q$140,計算式シート!$B149)","v":0},{"$f":"COUNTIF(小2!R$21:R$140,計算式シート!$B149)","v":0},{"$f":"COUNTIF(小2!S$21:S$140,計算式シート!$B149)","v":0},{"$f":"COUNTIF(小2!T$21:T$140,計算式シート!$B149)","v":0}]
[null,8,{"$f":"COUNTIF(小2!M$21:M$140,計算式シート!$B150)","v":0},{"$f":"COUNTIF(小2!N$21:N$140,計算式シート!$B150)","v":0},{"$f":"COUNTIF(小2!O$21:O$140,計算式シート!$B150)","v":0},{"$f":"COUNTIF(小2!P$21:P$140,計算式シート!$B150)","v":0},{"$f":"COUNTIF(小2!Q$21:Q$140,計算式シート!$B150)","v":0},{"$f":"COUNTIF(小2!R$21:R$140,計算式シート!$B150)","v":0},{"$f":"COUNTIF(小2!S$21:S$140,計算式シート!$B150)","v":0},{"$f":"COUNTIF(小2!T$21:T$140,計算式シート!$B150)","v":0}]
[null,9,{"$f":"COUNTIF(小2!M$21:M$140,計算式シート!$B151)","v":0},{"$f":"COUNTIF(小2!N$21:N$140,計算式シート!$B151)","v":0},{"$f":"COUNTIF(小2!O$21:O$140,計算式シート!$B151)","v":0},{"$f":"COUNTIF(小2!P$21:P$140,計算式シート!$B151)","v":0},{"$f":"COUNTIF(小2!Q$21:Q$140,計算式シート!$B151)","v":0},{"$f":"COUNTIF(小2!R$21:R$140,計算式シート!$B151)","v":0},{"$f":"COUNTIF(小2!S$21:S$140,計算式シート!$B151)","v":0},{"$f":"COUNTIF(小2!T$21:T$140,計算式シート!$B151)","v":0}]
[null,10,{"$f":"COUNTIF(小2!M$21:M$140,計算式シート!$B152)","v":0},{"$f":"COUNTIF(小2!N$21:N$140,計算式シート!$B152)","v":0},{"$f":"COUNTIF(小2!O$21:O$140,計算式シート!$B152)","v":0},{"$f":"COUNTIF(小2!P$21:P$140,計算式シート!$B152)","v":0},{"$f":"COUNTIF(小2!Q$21:Q$140,計算式シート!$B152)","v":0},{"$f":"COUNTIF(小2!R$21:R$140,計算式シート!$B152)","v":0},{"$f":"COUNTIF(小2!S$21:S$140,計算式シート!$B152)","v":0},{"$f":"COUNTIF(小2!T$21:T$140,計算式シート!$B152)","v":0}]
[null,"縦軸最大",{"$f":"IF(MAX(C143:C152)+1 >1, IF(MAX(C143:C152)+1>120, CEILING(MAX(C143:C152)+1, 50), IF(MAX(C143:C152)+1>100, CEILING(MAX(C143:C152)+1, 20), IF(MAX(C143:C152)+1>25, CEILING(MAX(C143:C152)+1, 10), IF(MAX(C143:C152)+1>18, CEILING(MAX(C143:C152)+1, 5), IF(MAX(C143:C152)+1>10, CEILING(MAX(C143:C152)+1, 3), IF(MAX(C143:C152)+1>5, CEILING(MAX(C143:C152)+1, 2), MAX(C143:C152)+1)))))), 1)","v":1},{"$f":"IF(MAX(D143:D152)+1 >1, IF(MAX(D143:D152)+1>120, CEILING(MAX(D143:D152)+1, 50), IF(MAX(D143:D152)+1>100, CEILING(MAX(D143:D152)+1, 20), IF(MAX(D143:D152)+1>25, CEILING(MAX(D143:D152)+1, 10), IF(MAX(D143:D152)+1>18, CEILING(MAX(D143:D152)+1, 5), IF(MAX(D143:D152)+1>10, CEILING(MAX(D143:D152)+1, 3), IF(MAX(D143:D152)+1>5, CEILING(MAX(D143:D152)+1, 2), MAX(D143:D152)+1)))))), 1)","v":1},{"$f":"IF(MAX(E143:E152)+1 >1, IF(MAX(E143:E152)+1>120, CEILING(MAX(E143:E152)+1, 50), IF(MAX(E143:E152)+1>100, CEILING(MAX(E143:E152)+1, 20), IF(MAX(E143:E152)+1>25, CEILING(MAX(E143:E152)+1, 10), IF(MAX(E143:E152)+1>18, CEILING(MAX(E143:E152)+1, 5), IF(MAX(E143:E152)+1>10, CEILING(MAX(E143:E152)+1, 3), IF(MAX(E143:E152)+1>5, CEILING(MAX(E143:E152)+1, 2), MAX(E143:E152)+1)))))), 1)","v":1},{"$f":"IF(MAX(F143:F152)+1 >1, IF(MAX(F143:F152)+1>120, CEILING(MAX(F143:F152)+1, 50), IF(MAX(F143:F152)+1>100, CEILING(MAX(F143:F152)+1, 20), IF(MAX(F143:F152)+1>25, CEILING(MAX(F143:F152)+1, 10), IF(MAX(F143:F152)+1>18, CEILING(MAX(F143:F152)+1, 5), IF(MAX(F143:F152)+1>10, CEILING(MAX(F143:F152)+1, 3), IF(MAX(F143:F152)+1>5, CEILING(MAX(F143:F152)+1, 2), MAX(F143:F152)+1)))))), 1)","v":1},{"$f":"IF(MAX(G143:G152)+1 >1, IF(MAX(G143:G152)+1>120, CEILING(MAX(G143:G152)+1, 50), IF(MAX(G143:G152)+1>100, CEILING(MAX(G143:G152)+1, 20), IF(MAX(G143:G152)+1>25, CEILING(MAX(G143:G152)+1, 10), IF(MAX(G143:G152)+1>18, CEILING(MAX(G143:G152)+1, 5), IF(MAX(G143:G152)+1>10, CEILING(MAX(G143:G152)+1, 3), IF(MAX(G143:G152)+1>5, CEILING(MAX(G143:G152)+1, 2), MAX(G143:G152)+1)))))), 1)","v":1},{"$f":"IF(MAX(H143:H152)+1 >1, IF(MAX(H143:H152)+1>120, CEILING(MAX(H143:H152)+1, 50), IF(MAX(H143:H152)+1>100, CEILING(MAX(H143:H152)+1, 20), IF(MAX(H143:H152)+1>25, CEILING(MAX(H143:H152)+1, 10), IF(MAX(H143:H152)+1>18, CEILING(MAX(H143:H152)+1, 5), IF(MAX(H143:H152)+1>10, CEILING(MAX(H143:H152)+1, 3), IF(MAX(H143:H152)+1>5, CEILING(MAX(H143:H152)+1, 2), MAX(H143:H152)+1)))))), 1)","v":1},{"$f":"IF(MAX(I143:I152)+1 >1, IF(MAX(I143:I152)+1>120, CEILING(MAX(I143:I152)+1, 50), IF(MAX(I143:I152)+1>100, CEILING(MAX(I143:I152)+1, 20), IF(MAX(I143:I152)+1>25, CEILING(MAX(I143:I152)+1, 10), IF(MAX(I143:I152)+1>18, CEILING(MAX(I143:I152)+1, 5), IF(MAX(I143:I152)+1>10, CEILING(MAX(I143:I152)+1, 3), IF(MAX(I143:I152)+1>5, CEILING(MAX(I143:I152)+1, 2), MAX(I143:I152)+1)))))), 1)","v":1},{"$f":"IF(MAX(J143:J152)+1 >1, IF(MAX(J143:J152)+1>120, CEILING(MAX(J143:J152)+1, 50), IF(MAX(J143:J152)+1>100, CEILING(MAX(J143:J152)+1, 20), IF(MAX(J143:J152)+1>25, CEILING(MAX(J143:J152)+1, 10), IF(MAX(J143:J152)+1>18, CEILING(MAX(J143:J152)+1, 5), IF(MAX(J143:J152)+1>10, CEILING(MAX(J143:J152)+1, 3), IF(MAX(J143:J152)+1>5, CEILING(MAX(J143:J152)+1, 2), MAX(J143:J152)+1)))))), 1)","v":1}]
[null,"縦軸間隔",{"$f":"IF(C153 >1, IF(C153 >=250, 50, IF(C153 >=200, 40, IF(C153 >=150, 30, IF(C153 >=100, 20, IF(C153 >=50, 10, IF(C153 >=20, 5, IF(C153 >=15, 3, IF(C153 >=8, 2, 1)))))))),1)","v":1},{"$f":"IF(D153 >1, IF(D153 >=250, 50, IF(D153 >=200, 40, IF(D153 >=150, 30, IF(D153 >=100, 20, IF(D153 >=50, 10, IF(D153 >=20, 5, IF(D153 >=15, 3, IF(D153 >=8, 2, 1)))))))),1)","v":1},1,1,1,1,1,1]
[]
[null,"２年女子"]
[null,"得点","握力","上体起こし","長座体前屈","反復横とび","20mシャトルラン","５０ｍ走","立ち幅とび","ｿﾌﾄﾎﾞｰﾙ投げ"]
[null,1,{"$f":"COUNTIF(小2!M$150:M$269,計算式シート!$B158)","v":0},{"$f":"COUNTIF(小2!N$150:N$269,計算式シート!$B158)","v":0},{"$f":"COUNTIF(小2!O$150:O$269,計算式シート!$B158)","v":0},{"$f":"COUNTIF(小2!P$150:P$269,計算式シート!$B158)","v":0},{"$f":"COUNTIF(小2!Q$150:Q$269,計算式シート!$B158)","v":0},{"$f":"COUNTIF(小2!R$150:R$269,計算式シート!$B158)","v":0},{"$f":"COUNTIF(小2!S$150:S$269,計算式シート!$B158)","v":0},{"$f":"COUNTIF(小2!T$150:T$269,計算式シート!$B158)","v":0}]
[null,2,{"$f":"COUNTIF(小2!M$150:M$269,計算式シート!$B159)","v":0},{"$f":"COUNTIF(小2!N$150:N$269,計算式シート!$B159)","v":0},{"$f":"COUNTIF(小2!O$150:O$269,計算式シート!$B159)","v":0},{"$f":"COUNTIF(小2!P$150:P$269,計算式シート!$B159)","v":0},{"$f":"COUNTIF(小2!Q$150:Q$269,計算式シート!$B159)","v":0},{"$f":"COUNTIF(小2!R$150:R$269,計算式シート!$B159)","v":0},{"$f":"COUNTIF(小2!S$150:S$269,計算式シート!$B159)","v":0},{"$f":"COUNTIF(小2!T$150:T$269,計算式シート!$B159)","v":0}]
[null,3,{"$f":"COUNTIF(小2!M$150:M$269,計算式シート!$B160)","v":0},{"$f":"COUNTIF(小2!N$150:N$269,計算式シート!$B160)","v":0},{"$f":"COUNTIF(小2!O$150:O$269,計算式シート!$B160)","v":0},{"$f":"COUNTIF(小2!P$150:P$269,計算式シート!$B160)","v":0},{"$f":"COUNTIF(小2!Q$150:Q$269,計算式シート!$B160)","v":0},{"$f":"COUNTIF(小2!R$150:R$269,計算式シート!$B160)","v":0},{"$f":"COUNTIF(小2!S$150:S$269,計算式シート!$B160)","v":0},{"$f":"COUNTIF(小2!T$150:T$269,計算式シート!$B160)","v":0}]
[null,4,{"$f":"COUNTIF(小2!M$150:M$269,計算式シート!$B161)","v":0},{"$f":"COUNTIF(小2!N$150:N$269,計算式シート!$B161)","v":0},{"$f":"COUNTIF(小2!O$150:O$269,計算式シート!$B161)","v":0},{"$f":"COUNTIF(小2!P$150:P$269,計算式シート!$B161)","v":0},{"$f":"COUNTIF(小2!Q$150:Q$269,計算式シート!$B161)","v":0},{"$f":"COUNTIF(小2!R$150:R$269,計算式シート!$B161)","v":0},{"$f":"COUNTIF(小2!S$150:S$269,計算式シート!$B161)","v":0},{"$f":"COUNTIF(小2!T$150:T$269,計算式シート!$B161)","v":0}]
[null,5,{"$f":"COUNTIF(小2!M$150:M$269,計算式シート!$B162)","v":0},{"$f":"COUNTIF(小2!N$150:N$269,計算式シート!$B162)","v":0},{"$f":"COUNTIF(小2!O$150:O$269,計算式シート!$B162)","v":0},{"$f":"COUNTIF(小2!P$150:P$269,計算式シート!$B162)","v":0},{"$f":"COUNTIF(小2!Q$150:Q$269,計算式シート!$B162)","v":0},{"$f":"COUNTIF(小2!R$150:R$269,計算式シート!$B162)","v":0},{"$f":"COUNTIF(小2!S$150:S$269,計算式シート!$B162)","v":0},{"$f":"COUNTIF(小2!T$150:T$269,計算式シート!$B162)","v":0}]
[null,6,{"$f":"COUNTIF(小2!M$150:M$269,計算式シート!$B163)","v":0},{"$f":"COUNTIF(小2!N$150:N$269,計算式シート!$B163)","v":0},{"$f":"COUNTIF(小2!O$150:O$269,計算式シート!$B163)","v":0},{"$f":"COUNTIF(小2!P$150:P$269,計算式シート!$B163)","v":0},{"$f":"COUNTIF(小2!Q$150:Q$269,計算式シート!$B163)","v":0},{"$f":"COUNTIF(小2!R$150:R$269,計算式シート!$B163)","v":0},{"$f":"COUNTIF(小2!S$150:S$269,計算式シート!$B163)","v":0},{"$f":"COUNTIF(小2!T$150:T$269,計算式シート!$B163)","v":0}]
[null,7,{"$f":"COUNTIF(小2!M$150:M$269,計算式シート!$B164)","v":0},{"$f":"COUNTIF(小2!N$150:N$269,計算式シート!$B164)","v":0},{"$f":"COUNTIF(小2!O$150:O$269,計算式シート!$B164)","v":0},{"$f":"COUNTIF(小2!P$150:P$269,計算式シート!$B164)","v":0},{"$f":"COUNTIF(小2!Q$150:Q$269,計算式シート!$B164)","v":0},{"$f":"COUNTIF(小2!R$150:R$269,計算式シート!$B164)","v":0},{"$f":"COUNTIF(小2!S$150:S$269,計算式シート!$B164)","v":0},{"$f":"COUNTIF(小2!T$150:T$269,計算式シート!$B164)","v":0}]
[null,8,{"$f":"COUNTIF(小2!M$150:M$269,計算式シート!$B165)","v":0},{"$f":"COUNTIF(小2!N$150:N$269,計算式シート!$B165)","v":0},{"$f":"COUNTIF(小2!O$150:O$269,計算式シート!$B165)","v":0},{"$f":"COUNTIF(小2!P$150:P$269,計算式シート!$B165)","v":0},{"$f":"COUNTIF(小2!Q$150:Q$269,計算式シート!$B165)","v":0},{"$f":"COUNTIF(小2!R$150:R$269,計算式シート!$B165)","v":0},{"$f":"COUNTIF(小2!S$150:S$269,計算式シート!$B165)","v":0},{"$f":"COUNTIF(小2!T$150:T$269,計算式シート!$B165)","v":0}]
[null,9,{"$f":"COUNTIF(小2!M$150:M$269,計算式シート!$B166)","v":0},{"$f":"COUNTIF(小2!N$150:N$269,計算式シート!$B166)","v":0},{"$f":"COUNTIF(小2!O$150:O$269,計算式シート!$B166)","v":0},{"$f":"COUNTIF(小2!P$150:P$269,計算式シート!$B166)","v":0},{"$f":"COUNTIF(小2!Q$150:Q$269,計算式シート!$B166)","v":0},{"$f":"COUNTIF(小2!R$150:R$269,計算式シート!$B166)","v":0},{"$f":"COUNTIF(小2!S$150:S$269,計算式シート!$B166)","v":0},{"$f":"COUNTIF(小2!T$150:T$269,計算式シート!$B166)","v":0}]
[null,10,{"$f":"COUNTIF(小2!M$150:M$269,計算式シート!$B167)","v":0},{"$f":"COUNTIF(小2!N$150:N$269,計算式シート!$B167)","v":0},{"$f":"COUNTIF(小2!O$150:O$269,計算式シート!$B167)","v":0},{"$f":"COUNTIF(小2!P$150:P$269,計算式シート!$B167)","v":0},{"$f":"COUNTIF(小2!Q$150:Q$269,計算式シート!$B167)","v":0},{"$f":"COUNTIF(小2!R$150:R$269,計算式シート!$B167)","v":0},{"$f":"COUNTIF(小2!S$150:S$269,計算式シート!$B167)","v":0},{"$f":"COUNTIF(小2!T$150:T$269,計算式シート!$B167)","v":0}]
[null,"縦軸最大",{"$f":"IF(MAX(C158:C167)+1 >1, IF(MAX(C158:C167)+1>120, CEILING(MAX(C158:C167)+1, 50), IF(MAX(C158:C167)+1>100, CEILING(MAX(C158:C167)+1, 20), IF(MAX(C158:C167)+1>25, CEILING(MAX(C158:C167)+1, 10), IF(MAX(C158:C167)+1>18, CEILING(MAX(C158:C167)+1, 5), IF(MAX(C158:C167)+1>10, CEILING(MAX(C158:C167)+1, 3), IF(MAX(C158:C167)+1>5, CEILING(MAX(C158:C167)+1, 2), MAX(C158:C167)+1)))))), 1)","v":1},{"$f":"IF(MAX(D158:D167)+1 >1, IF(MAX(D158:D167)+1>120, CEILING(MAX(D158:D167)+1, 50), IF(MAX(D158:D167)+1>100, CEILING(MAX(D158:D167)+1, 20), IF(MAX(D158:D167)+1>25, CEILING(MAX(D158:D167)+1, 10), IF(MAX(D158:D167)+1>18, CEILING(MAX(D158:D167)+1, 5), IF(MAX(D158:D167)+1>10, CEILING(MAX(D158:D167)+1, 3), IF(MAX(D158:D167)+1>5, CEILING(MAX(D158:D167)+1, 2), MAX(D158:D167)+1)))))), 1)","v":1},{"$f":"IF(MAX(E158:E167)+1 >1, IF(MAX(E158:E167)+1>120, CEILING(MAX(E158:E167)+1, 50), IF(MAX(E158:E167)+1>100, CEILING(MAX(E158:E167)+1, 20), IF(MAX(E158:E167)+1>25, CEILING(MAX(E158:E167)+1, 10), IF(MAX(E158:E167)+1>18, CEILING(MAX(E158:E167)+1, 5), IF(MAX(E158:E167)+1>10, CEILING(MAX(E158:E167)+1, 3), IF(MAX(E158:E167)+1>5, CEILING(MAX(E158:E167)+1, 2), MAX(E158:E167)+1)))))), 1)","v":1},{"$f":"IF(MAX(F158:F167)+1 >1, IF(MAX(F158:F167)+1>120, CEILING(MAX(F158:F167)+1, 50), IF(MAX(F158:F167)+1>100, CEILING(MAX(F158:F167)+1, 20), IF(MAX(F158:F167)+1>25, CEILING(MAX(F158:F167)+1, 10), IF(MAX(F158:F167)+1>18, CEILING(MAX(F158:F167)+1, 5), IF(MAX(F158:F167)+1>10, CEILING(MAX(F158:F167)+1, 3), IF(MAX(F158:F167)+1>5, CEILING(MAX(F158:F167)+1, 2), MAX(F158:F167)+1)))))), 1)","v":1},{"$f":"IF(MAX(G158:G167)+1 >1, IF(MAX(G158:G167)+1>120, CEILING(MAX(G158:G167)+1, 50), IF(MAX(G158:G167)+1>100, CEILING(MAX(G158:G167)+1, 20), IF(MAX(G158:G167)+1>25, CEILING(MAX(G158:G167)+1, 10), IF(MAX(G158:G167)+1>18, CEILING(MAX(G158:G167)+1, 5), IF(MAX(G158:G167)+1>10, CEILING(MAX(G158:G167)+1, 3), IF(MAX(G158:G167)+1>5, CEILING(MAX(G158:G167)+1, 2), MAX(G158:G167)+1)))))), 1)","v":1},{"$f":"IF(MAX(H158:H167)+1 >1, IF(MAX(H158:H167)+1>120, CEILING(MAX(H158:H167)+1, 50), IF(MAX(H158:H167)+1>100, CEILING(MAX(H158:H167)+1, 20), IF(MAX(H158:H167)+1>25, CEILING(MAX(H158:H167)+1, 10), IF(MAX(H158:H167)+1>18, CEILING(MAX(H158:H167)+1, 5), IF(MAX(H158:H167)+1>10, CEILING(MAX(H158:H167)+1, 3), IF(MAX(H158:H167)+1>5, CEILING(MAX(H158:H167)+1, 2), MAX(H158:H167)+1)))))), 1)","v":1},{"$f":"IF(MAX(I158:I167)+1 >1, IF(MAX(I158:I167)+1>120, CEILING(MAX(I158:I167)+1, 50), IF(MAX(I158:I167)+1>100, CEILING(MAX(I158:I167)+1, 20), IF(MAX(I158:I167)+1>25, CEILING(MAX(I158:I167)+1, 10), IF(MAX(I158:I167)+1>18, CEILING(MAX(I158:I167)+1, 5), IF(MAX(I158:I167)+1>10, CEILING(MAX(I158:I167)+1, 3), IF(MAX(I158:I167)+1>5, CEILING(MAX(I158:I167)+1, 2), MAX(I158:I167)+1)))))), 1)","v":1},{"$f":"IF(MAX(J158:J167)+1 >1, IF(MAX(J158:J167)+1>120, CEILING(MAX(J158:J167)+1, 50), IF(MAX(J158:J167)+1>100, CEILING(MAX(J158:J167)+1, 20), IF(MAX(J158:J167)+1>25, CEILING(MAX(J158:J167)+1, 10), IF(MAX(J158:J167)+1>18, CEILING(MAX(J158:J167)+1, 5), IF(MAX(J158:J167)+1>10, CEILING(MAX(J158:J167)+1, 3), IF(MAX(J158:J167)+1>5, CEILING(MAX(J158:J167)+1, 2), MAX(J158:J167)+1)))))), 1)","v":1}]
[null,"縦軸間隔",{"$f":"IF(C168 >1, IF(C168 >=250, 50, IF(C168 >=200, 40, IF(C168 >=150, 30, IF(C168 >=100, 20, IF(C168 >=50, 10, IF(C168 >=20, 5, IF(C168 >=15, 3, IF(C168 >=8, 2, 1)))))))),1)","v":1},{"$f":"IF(D168 >1, IF(D168 >=250, 50, IF(D168 >=200, 40, IF(D168 >=150, 30, IF(D168 >=100, 20, IF(D168 >=50, 10, IF(D168 >=20, 5, IF(D168 >=15, 3, IF(D168 >=8, 2, 1)))))))),1)","v":1},1,1,1,1,1,1]
[]
[null,"３年男子"]
[null,"得点","握力","上体起こし","長座体前屈","反復横とび","20mシャトルラン","５０ｍ走","立ち幅とび","ｿﾌﾄﾎﾞｰﾙ投げ"]
[null,1,{"$f":"COUNTIF(小3!M$21:M$140,計算式シート!$B173)","v":0},{"$f":"COUNTIF(小3!N$21:N$140,計算式シート!$B173)","v":0},{"$f":"COUNTIF(小3!O$21:O$140,計算式シート!$B173)","v":0},{"$f":"COUNTIF(小3!P$21:P$140,計算式シート!$B173)","v":0},{"$f":"COUNTIF(小3!Q$21:Q$140,計算式シート!$B173)","v":0},{"$f":"COUNTIF(小3!R$21:R$140,計算式シート!$B173)","v":0},{"$f":"COUNTIF(小3!S$21:S$140,計算式シート!$B173)","v":0},{"$f":"COUNTIF(小3!T$21:T$140,計算式シート!$B173)","v":0}]
[null,2,{"$f":"COUNTIF(小3!M$21:M$140,計算式シート!$B174)","v":0},{"$f":"COUNTIF(小3!N$21:N$140,計算式シート!$B174)","v":0},{"$f":"COUNTIF(小3!O$21:O$140,計算式シート!$B174)","v":0},{"$f":"COUNTIF(小3!P$21:P$140,計算式シート!$B174)","v":0},{"$f":"COUNTIF(小3!Q$21:Q$140,計算式シート!$B174)","v":0},{"$f":"COUNTIF(小3!R$21:R$140,計算式シート!$B174)","v":0},{"$f":"COUNTIF(小3!S$21:S$140,計算式シート!$B174)","v":0},{"$f":"COUNTIF(小3!T$21:T$140,計算式シート!$B174)","v":0}]
[null,3,{"$f":"COUNTIF(小3!M$21:M$140,計算式シート!$B175)","v":0},{"$f":"COUNTIF(小3!N$21:N$140,計算式シート!$B175)","v":0},{"$f":"COUNTIF(小3!O$21:O$140,計算式シート!$B175)","v":0},{"$f":"COUNTIF(小3!P$21:P$140,計算式シート!$B175)","v":0},{"$f":"COUNTIF(小3!Q$21:Q$140,計算式シート!$B175)","v":0},{"$f":"COUNTIF(小3!R$21:R$140,計算式シート!$B175)","v":0},{"$f":"COUNTIF(小3!S$21:S$140,計算式シート!$B175)","v":0},{"$f":"COUNTIF(小3!T$21:T$140,計算式シート!$B175)","v":0}]
[null,4,{"$f":"COUNTIF(小3!M$21:M$140,計算式シート!$B176)","v":0},{"$f":"COUNTIF(小3!N$21:N$140,計算式シート!$B176)","v":0},{"$f":"COUNTIF(小3!O$21:O$140,計算式シート!$B176)","v":0},{"$f":"COUNTIF(小3!P$21:P$140,計算式シート!$B176)","v":0},{"$f":"COUNTIF(小3!Q$21:Q$140,計算式シート!$B176)","v":0},{"$f":"COUNTIF(小3!R$21:R$140,計算式シート!$B176)","v":0},{"$f":"COUNTIF(小3!S$21:S$140,計算式シート!$B176)","v":0},{"$f":"COUNTIF(小3!T$21:T$140,計算式シート!$B176)","v":0}]
[null,5,{"$f":"COUNTIF(小3!M$21:M$140,計算式シート!$B177)","v":0},{"$f":"COUNTIF(小3!N$21:N$140,計算式シート!$B177)","v":0},{"$f":"COUNTIF(小3!O$21:O$140,計算式シート!$B177)","v":0},{"$f":"COUNTIF(小3!P$21:P$140,計算式シート!$B177)","v":0},{"$f":"COUNTIF(小3!Q$21:Q$140,計算式シート!$B177)","v":0},{"$f":"COUNTIF(小3!R$21:R$140,計算式シート!$B177)","v":0},{"$f":"COUNTIF(小3!S$21:S$140,計算式シート!$B177)","v":0},{"$f":"COUNTIF(小3!T$21:T$140,計算式シート!$B177)","v":0}]
[null,6,{"$f":"COUNTIF(小3!M$21:M$140,計算式シート!$B178)","v":0},{"$f":"COUNTIF(小3!N$21:N$140,計算式シート!$B178)","v":0},{"$f":"COUNTIF(小3!O$21:O$140,計算式シート!$B178)","v":0},{"$f":"COUNTIF(小3!P$21:P$140,計算式シート!$B178)","v":0},{"$f":"COUNTIF(小3!Q$21:Q$140,計算式シート!$B178)","v":0},{"$f":"COUNTIF(小3!R$21:R$140,計算式シート!$B178)","v":0},{"$f":"COUNTIF(小3!S$21:S$140,計算式シート!$B178)","v":0},{"$f":"COUNTIF(小3!T$21:T$140,計算式シート!$B178)","v":0}]
[null,7,{"$f":"COUNTIF(小3!M$21:M$140,計算式シート!$B179)","v":0},{"$f":"COUNTIF(小3!N$21:N$140,計算式シート!$B179)","v":0},{"$f":"COUNTIF(小3!O$21:O$140,計算式シート!$B179)","v":0},{"$f":"COUNTIF(小3!P$21:P$140,計算式シート!$B179)","v":0},{"$f":"COUNTIF(小3!Q$21:Q$140,計算式シート!$B179)","v":0},{"$f":"COUNTIF(小3!R$21:R$140,計算式シート!$B179)","v":0},{"$f":"COUNTIF(小3!S$21:S$140,計算式シート!$B179)","v":0},{"$f":"COUNTIF(小3!T$21:T$140,計算式シート!$B179)","v":0}]
[null,8,{"$f":"COUNTIF(小3!M$21:M$140,計算式シート!$B180)","v":0},{"$f":"COUNTIF(小3!N$21:N$140,計算式シート!$B180)","v":0},{"$f":"COUNTIF(小3!O$21:O$140,計算式シート!$B180)","v":0},{"$f":"COUNTIF(小3!P$21:P$140,計算式シート!$B180)","v":0},{"$f":"COUNTIF(小3!Q$21:Q$140,計算式シート!$B180)","v":0},{"$f":"COUNTIF(小3!R$21:R$140,計算式シート!$B180)","v":0},{"$f":"COUNTIF(小3!S$21:S$140,計算式シート!$B180)","v":0},{"$f":"COUNTIF(小3!T$21:T$140,計算式シート!$B180)","v":0}]
[null,9,{"$f":"COUNTIF(小3!M$21:M$140,計算式シート!$B181)","v":0},{"$f":"COUNTIF(小3!N$21:N$140,計算式シート!$B181)","v":0},{"$f":"COUNTIF(小3!O$21:O$140,計算式シート!$B181)","v":0},{"$f":"COUNTIF(小3!P$21:P$140,計算式シート!$B181)","v":0},{"$f":"COUNTIF(小3!Q$21:Q$140,計算式シート!$B181)","v":0},{"$f":"COUNTIF(小3!R$21:R$140,計算式シート!$B181)","v":0},{"$f":"COUNTIF(小3!S$21:S$140,計算式シート!$B181)","v":0},{"$f":"COUNTIF(小3!T$21:T$140,計算式シート!$B181)","v":0}]
[null,10,{"$f":"COUNTIF(小3!M$21:M$140,計算式シート!$B182)","v":0},{"$f":"COUNTIF(小3!N$21:N$140,計算式シート!$B182)","v":0},{"$f":"COUNTIF(小3!O$21:O$140,計算式シート!$B182)","v":0},{"$f":"COUNTIF(小3!P$21:P$140,計算式シート!$B182)","v":0},{"$f":"COUNTIF(小3!Q$21:Q$140,計算式シート!$B182)","v":0},{"$f":"COUNTIF(小3!R$21:R$140,計算式シート!$B182)","v":0},{"$f":"COUNTIF(小3!S$21:S$140,計算式シート!$B182)","v":0},{"$f":"COUNTIF(小3!T$21:T$140,計算式シート!$B182)","v":0}]
[null,"縦軸最大",{"$f":"IF(MAX(C173:C182)+1 >1, IF(MAX(C173:C182)+1>120, CEILING(MAX(C173:C182)+1, 50), IF(MAX(C173:C182)+1>100, CEILING(MAX(C173:C182)+1, 20), IF(MAX(C173:C182)+1>25, CEILING(MAX(C173:C182)+1, 10), IF(MAX(C173:C182)+1>18, CEILING(MAX(C173:C182)+1, 5), IF(MAX(C173:C182)+1>10, CEILING(MAX(C173:C182)+1, 3), IF(MAX(C173:C182)+1>5, CEILING(MAX(C173:C182)+1, 2), MAX(C173:C182)+1)))))), 1)","v":1},{"$f":"IF(MAX(D173:D182)+1 >1, IF(MAX(D173:D182)+1>120, CEILING(MAX(D173:D182)+1, 50), IF(MAX(D173:D182)+1>100, CEILING(MAX(D173:D182)+1, 20), IF(MAX(D173:D182)+1>25, CEILING(MAX(D173:D182)+1, 10), IF(MAX(D173:D182)+1>18, CEILING(MAX(D173:D182)+1, 5), IF(MAX(D173:D182)+1>10, CEILING(MAX(D173:D182)+1, 3), IF(MAX(D173:D182)+1>5, CEILING(MAX(D173:D182)+1, 2), MAX(D173:D182)+1)))))), 1)","v":1},{"$f":"IF(MAX(E173:E182)+1 >1, IF(MAX(E173:E182)+1>120, CEILING(MAX(E173:E182)+1, 50), IF(MAX(E173:E182)+1>100, CEILING(MAX(E173:E182)+1, 20), IF(MAX(E173:E182)+1>25, CEILING(MAX(E173:E182)+1, 10), IF(MAX(E173:E182)+1>18, CEILING(MAX(E173:E182)+1, 5), IF(MAX(E173:E182)+1>10, CEILING(MAX(E173:E182)+1, 3), IF(MAX(E173:E182)+1>5, CEILING(MAX(E173:E182)+1, 2), MAX(E173:E182)+1)))))), 1)","v":1},{"$f":"IF(MAX(F173:F182)+1 >1, IF(MAX(F173:F182)+1>120, CEILING(MAX(F173:F182)+1, 50), IF(MAX(F173:F182)+1>100, CEILING(MAX(F173:F182)+1, 20), IF(MAX(F173:F182)+1>25, CEILING(MAX(F173:F182)+1, 10), IF(MAX(F173:F182)+1>18, CEILING(MAX(F173:F182)+1, 5), IF(MAX(F173:F182)+1>10, CEILING(MAX(F173:F182)+1, 3), IF(MAX(F173:F182)+1>5, CEILING(MAX(F173:F182)+1, 2), MAX(F173:F182)+1)))))), 1)","v":1},{"$f":"IF(MAX(G173:G182)+1 >1, IF(MAX(G173:G182)+1>120, CEILING(MAX(G173:G182)+1, 50), IF(MAX(G173:G182)+1>100, CEILING(MAX(G173:G182)+1, 20), IF(MAX(G173:G182)+1>25, CEILING(MAX(G173:G182)+1, 10), IF(MAX(G173:G182)+1>18, CEILING(MAX(G173:G182)+1, 5), IF(MAX(G173:G182)+1>10, CEILING(MAX(G173:G182)+1, 3), IF(MAX(G173:G182)+1>5, CEILING(MAX(G173:G182)+1, 2), MAX(G173:G182)+1)))))), 1)","v":1},{"$f":"IF(MAX(H173:H182)+1 >1, IF(MAX(H173:H182)+1>120, CEILING(MAX(H173:H182)+1, 50), IF(MAX(H173:H182)+1>100, CEILING(MAX(H173:H182)+1, 20), IF(MAX(H173:H182)+1>25, CEILING(MAX(H173:H182)+1, 10), IF(MAX(H173:H182)+1>18, CEILING(MAX(H173:H182)+1, 5), IF(MAX(H173:H182)+1>10, CEILING(MAX(H173:H182)+1, 3), IF(MAX(H173:H182)+1>5, CEILING(MAX(H173:H182)+1, 2), MAX(H173:H182)+1)))))), 1)","v":1},{"$f":"IF(MAX(I173:I182)+1 >1, IF(MAX(I173:I182)+1>120, CEILING(MAX(I173:I182)+1, 50), IF(MAX(I173:I182)+1>100, CEILING(MAX(I173:I182)+1, 20), IF(MAX(I173:I182)+1>25, CEILING(MAX(I173:I182)+1, 10), IF(MAX(I173:I182)+1>18, CEILING(MAX(I173:I182)+1, 5), IF(MAX(I173:I182)+1>10, CEILING(MAX(I173:I182)+1, 3), IF(MAX(I173:I182)+1>5, CEILING(MAX(I173:I182)+1, 2), MAX(I173:I182)+1)))))), 1)","v":1},{"$f":"IF(MAX(J173:J182)+1 >1, IF(MAX(J173:J182)+1>120, CEILING(MAX(J173:J182)+1, 50), IF(MAX(J173:J182)+1>100, CEILING(MAX(J173:J182)+1, 20), IF(MAX(J173:J182)+1>25, CEILING(MAX(J173:J182)+1, 10), IF(MAX(J173:J182)+1>18, CEILING(MAX(J173:J182)+1, 5), IF(MAX(J173:J182)+1>10, CEILING(MAX(J173:J182)+1, 3), IF(MAX(J173:J182)+1>5, CEILING(MAX(J173:J182)+1, 2), MAX(J173:J182)+1)))))), 1)","v":1}]
[null,"縦軸間隔",{"$f":"IF(C183 >1, IF(C183 >=250, 50, IF(C183 >=200, 40, IF(C183 >=150, 30, IF(C183 >=100, 20, IF(C183 >=50, 10, IF(C183 >=20, 5, IF(C183 >=15, 3, IF(C183 >=8, 2, 1)))))))),1)","v":1},{"$f":"IF(D183 >1, IF(D183 >=250, 50, IF(D183 >=200, 40, IF(D183 >=150, 30, IF(D183 >=100, 20, IF(D183 >=50, 10, IF(D183 >=20, 5, IF(D183 >=15, 3, IF(D183 >=8, 2, 1)))))))),1)","v":1},1,1,1,1,1,1]
[]
[null,"３年女子"]
[null,"得点","握力","上体起こし","長座体前屈","反復横とび","20mシャトルラン","５０ｍ走","立ち幅とび","ｿﾌﾄﾎﾞｰﾙ投げ"]
[null,1,{"$f":"COUNTIF(小3!M$150:M$269,計算式シート!$B188)","v":0},{"$f":"COUNTIF(小3!N$150:N$269,計算式シート!$B188)","v":0},{"$f":"COUNTIF(小3!O$150:O$269,計算式シート!$B188)","v":0},{"$f":"COUNTIF(小3!P$150:P$269,計算式シート!$B188)","v":0},{"$f":"COUNTIF(小3!Q$150:Q$269,計算式シート!$B188)","v":0},{"$f":"COUNTIF(小3!R$150:R$269,計算式シート!$B188)","v":0},{"$f":"COUNTIF(小3!S$150:S$269,計算式シート!$B188)","v":0},{"$f":"COUNTIF(小3!T$150:T$269,計算式シート!$B188)","v":0}]
[null,2,{"$f":"COUNTIF(小3!M$150:M$269,計算式シート!$B189)","v":0},{"$f":"COUNTIF(小3!N$150:N$269,計算式シート!$B189)","v":0},{"$f":"COUNTIF(小3!O$150:O$269,計算式シート!$B189)","v":0},{"$f":"COUNTIF(小3!P$150:P$269,計算式シート!$B189)","v":0},{"$f":"COUNTIF(小3!Q$150:Q$269,計算式シート!$B189)","v":0},{"$f":"COUNTIF(小3!R$150:R$269,計算式シート!$B189)","v":0},{"$f":"COUNTIF(小3!S$150:S$269,計算式シート!$B189)","v":0},{"$f":"COUNTIF(小3!T$150:T$269,計算式シート!$B189)","v":0}]
[null,3,{"$f":"COUNTIF(小3!M$150:M$269,計算式シート!$B190)","v":0},{"$f":"COUNTIF(小3!N$150:N$269,計算式シート!$B190)","v":0},{"$f":"COUNTIF(小3!O$150:O$269,計算式シート!$B190)","v":0},{"$f":"COUNTIF(小3!P$150:P$269,計算式シート!$B190)","v":0},{"$f":"COUNTIF(小3!Q$150:Q$269,計算式シート!$B190)","v":0},{"$f":"COUNTIF(小3!R$150:R$269,計算式シート!$B190)","v":0},{"$f":"COUNTIF(小3!S$150:S$269,計算式シート!$B190)","v":0},{"$f":"COUNTIF(小3!T$150:T$269,計算式シート!$B190)","v":0}]
[null,4,{"$f":"COUNTIF(小3!M$150:M$269,計算式シート!$B191)","v":0},{"$f":"COUNTIF(小3!N$150:N$269,計算式シート!$B191)","v":0},{"$f":"COUNTIF(小3!O$150:O$269,計算式シート!$B191)","v":0},{"$f":"COUNTIF(小3!P$150:P$269,計算式シート!$B191)","v":0},{"$f":"COUNTIF(小3!Q$150:Q$269,計算式シート!$B191)","v":0},{"$f":"COUNTIF(小3!R$150:R$269,計算式シート!$B191)","v":0},{"$f":"COUNTIF(小3!S$150:S$269,計算式シート!$B191)","v":0},{"$f":"COUNTIF(小3!T$150:T$269,計算式シート!$B191)","v":0}]
[null,5,{"$f":"COUNTIF(小3!M$150:M$269,計算式シート!$B192)","v":0},{"$f":"COUNTIF(小3!N$150:N$269,計算式シート!$B192)","v":0},{"$f":"COUNTIF(小3!O$150:O$269,計算式シート!$B192)","v":0},{"$f":"COUNTIF(小3!P$150:P$269,計算式シート!$B192)","v":0},{"$f":"COUNTIF(小3!Q$150:Q$269,計算式シート!$B192)","v":0},{"$f":"COUNTIF(小3!R$150:R$269,計算式シート!$B192)","v":0},{"$f":"COUNTIF(小3!S$150:S$269,計算式シート!$B192)","v":0},{"$f":"COUNTIF(小3!T$150:T$269,計算式シート!$B192)","v":0}]
[null,6,{"$f":"COUNTIF(小3!M$150:M$269,計算式シート!$B193)","v":0},{"$f":"COUNTIF(小3!N$150:N$269,計算式シート!$B193)","v":0},{"$f":"COUNTIF(小3!O$150:O$269,計算式シート!$B193)","v":0},{"$f":"COUNTIF(小3!P$150:P$269,計算式シート!$B193)","v":0},{"$f":"COUNTIF(小3!Q$150:Q$269,計算式シート!$B193)","v":0},{"$f":"COUNTIF(小3!R$150:R$269,計算式シート!$B193)","v":0},{"$f":"COUNTIF(小3!S$150:S$269,計算式シート!$B193)","v":0},{"$f":"COUNTIF(小3!T$150:T$269,計算式シート!$B193)","v":0}]
[null,7,{"$f":"COUNTIF(小3!M$150:M$269,計算式シート!$B194)","v":0},{"$f":"COUNTIF(小3!N$150:N$269,計算式シート!$B194)","v":0},{"$f":"COUNTIF(小3!O$150:O$269,計算式シート!$B194)","v":0},{"$f":"COUNTIF(小3!P$150:P$269,計算式シート!$B194)","v":0},{"$f":"COUNTIF(小3!Q$150:Q$269,計算式シート!$B194)","v":0},{"$f":"COUNTIF(小3!R$150:R$269,計算式シート!$B194)","v":0},{"$f":"COUNTIF(小3!S$150:S$269,計算式シート!$B194)","v":0},{"$f":"COUNTIF(小3!T$150:T$269,計算式シート!$B194)","v":0}]
[null,8,{"$f":"COUNTIF(小3!M$150:M$269,計算式シート!$B195)","v":0},{"$f":"COUNTIF(小3!N$150:N$269,計算式シート!$B195)","v":0},{"$f":"COUNTIF(小3!O$150:O$269,計算式シート!$B195)","v":0},{"$f":"COUNTIF(小3!P$150:P$269,計算式シート!$B195)","v":0},{"$f":"COUNTIF(小3!Q$150:Q$269,計算式シート!$B195)","v":0},{"$f":"COUNTIF(小3!R$150:R$269,計算式シート!$B195)","v":0},{"$f":"COUNTIF(小3!S$150:S$269,計算式シート!$B195)","v":0},{"$f":"COUNTIF(小3!T$150:T$269,計算式シート!$B195)","v":0}]
[null,9,{"$f":"COUNTIF(小3!M$150:M$269,計算式シート!$B196)","v":0},{"$f":"COUNTIF(小3!N$150:N$269,計算式シート!$B196)","v":0},{"$f":"COUNTIF(小3!O$150:O$269,計算式シート!$B196)","v":0},{"$f":"COUNTIF(小3!P$150:P$269,計算式シート!$B196)","v":0},{"$f":"COUNTIF(小3!Q$150:Q$269,計算式シート!$B196)","v":0},{"$f":"COUNTIF(小3!R$150:R$269,計算式シート!$B196)","v":0},{"$f":"COUNTIF(小3!S$150:S$269,計算式シート!$B196)","v":0},{"$f":"COUNTIF(小3!T$150:T$269,計算式シート!$B196)","v":0}]
[null,10,{"$f":"COUNTIF(小3!M$150:M$269,計算式シート!$B197)","v":0},{"$f":"COUNTIF(小3!N$150:N$269,計算式シート!$B197)","v":0},{"$f":"COUNTIF(小3!O$150:O$269,計算式シート!$B197)","v":0},{"$f":"COUNTIF(小3!P$150:P$269,計算式シート!$B197)","v":0},{"$f":"COUNTIF(小3!Q$150:Q$269,計算式シート!$B197)","v":0},{"$f":"COUNTIF(小3!R$150:R$269,計算式シート!$B197)","v":0},{"$f":"COUNTIF(小3!S$150:S$269,計算式シート!$B197)","v":0},{"$f":"COUNTIF(小3!T$150:T$269,計算式シート!$B197)","v":0}]
[null,"縦軸最大",{"$f":"IF(MAX(C188:C197)+1 >1, IF(MAX(C188:C197)+1>120, CEILING(MAX(C188:C197)+1, 50), IF(MAX(C188:C197)+1>100, CEILING(MAX(C188:C197)+1, 20), IF(MAX(C188:C197)+1>25, CEILING(MAX(C188:C197)+1, 10), IF(MAX(C188:C197)+1>18, CEILING(MAX(C188:C197)+1, 5), IF(MAX(C188:C197)+1>10, CEILING(MAX(C188:C197)+1, 3), IF(MAX(C188:C197)+1>5, CEILING(MAX(C188:C197)+1, 2), MAX(C188:C197)+1)))))), 1)","v":1},{"$f":"IF(MAX(D188:D197)+1 >1, IF(MAX(D188:D197)+1>120, CEILING(MAX(D188:D197)+1, 50), IF(MAX(D188:D197)+1>100, CEILING(MAX(D188:D197)+1, 20), IF(MAX(D188:D197)+1>25, CEILING(MAX(D188:D197)+1, 10), IF(MAX(D188:D197)+1>18, CEILING(MAX(D188:D197)+1, 5), IF(MAX(D188:D197)+1>10, CEILING(MAX(D188:D197)+1, 3), IF(MAX(D188:D197)+1>5, CEILING(MAX(D188:D197)+1, 2), MAX(D188:D197)+1)))))), 1)","v":1},{"$f":"IF(MAX(E188:E197)+1 >1, IF(MAX(E188:E197)+1>120, CEILING(MAX(E188:E197)+1, 50), IF(MAX(E188:E197)+1>100, CEILING(MAX(E188:E197)+1, 20), IF(MAX(E188:E197)+1>25, CEILING(MAX(E188:E197)+1, 10), IF(MAX(E188:E197)+1>18, CEILING(MAX(E188:E197)+1, 5), IF(MAX(E188:E197)+1>10, CEILING(MAX(E188:E197)+1, 3), IF(MAX(E188:E197)+1>5, CEILING(MAX(E188:E197)+1, 2), MAX(E188:E197)+1)))))), 1)","v":1},{"$f":"IF(MAX(F188:F197)+1 >1, IF(MAX(F188:F197)+1>120, CEILING(MAX(F188:F197)+1, 50), IF(MAX(F188:F197)+1>100, CEILING(MAX(F188:F197)+1, 20), IF(MAX(F188:F197)+1>25, CEILING(MAX(F188:F197)+1, 10), IF(MAX(F188:F197)+1>18, CEILING(MAX(F188:F197)+1, 5), IF(MAX(F188:F197)+1>10, CEILING(MAX(F188:F197)+1, 3), IF(MAX(F188:F197)+1>5, CEILING(MAX(F188:F197)+1, 2), MAX(F188:F197)+1)))))), 1)","v":1},{"$f":"IF(MAX(G188:G197)+1 >1, IF(MAX(G188:G197)+1>120, CEILING(MAX(G188:G197)+1, 50), IF(MAX(G188:G197)+1>100, CEILING(MAX(G188:G197)+1, 20), IF(MAX(G188:G197)+1>25, CEILING(MAX(G188:G197)+1, 10), IF(MAX(G188:G197)+1>18, CEILING(MAX(G188:G197)+1, 5), IF(MAX(G188:G197)+1>10, CEILING(MAX(G188:G197)+1, 3), IF(MAX(G188:G197)+1>5, CEILING(MAX(G188:G197)+1, 2), MAX(G188:G197)+1)))))), 1)","v":1},{"$f":"IF(MAX(H188:H197)+1 >1, IF(MAX(H188:H197)+1>120, CEILING(MAX(H188:H197)+1, 50), IF(MAX(H188:H197)+1>100, CEILING(MAX(H188:H197)+1, 20), IF(MAX(H188:H197)+1>25, CEILING(MAX(H188:H197)+1, 10), IF(MAX(H188:H197)+1>18, CEILING(MAX(H188:H197)+1, 5), IF(MAX(H188:H197)+1>10, CEILING(MAX(H188:H197)+1, 3), IF(MAX(H188:H197)+1>5, CEILING(MAX(H188:H197)+1, 2), MAX(H188:H197)+1)))))), 1)","v":1},{"$f":"IF(MAX(I188:I197)+1 >1, IF(MAX(I188:I197)+1>120, CEILING(MAX(I188:I197)+1, 50), IF(MAX(I188:I197)+1>100, CEILING(MAX(I188:I197)+1, 20), IF(MAX(I188:I197)+1>25, CEILING(MAX(I188:I197)+1, 10), IF(MAX(I188:I197)+1>18, CEILING(MAX(I188:I197)+1, 5), IF(MAX(I188:I197)+1>10, CEILING(MAX(I188:I197)+1, 3), IF(MAX(I188:I197)+1>5, CEILING(MAX(I188:I197)+1, 2), MAX(I188:I197)+1)))))), 1)","v":1},{"$f":"IF(MAX(J188:J197)+1 >1, IF(MAX(J188:J197)+1>120, CEILING(MAX(J188:J197)+1, 50), IF(MAX(J188:J197)+1>100, CEILING(MAX(J188:J197)+1, 20), IF(MAX(J188:J197)+1>25, CEILING(MAX(J188:J197)+1, 10), IF(MAX(J188:J197)+1>18, CEILING(MAX(J188:J197)+1, 5), IF(MAX(J188:J197)+1>10, CEILING(MAX(J188:J197)+1, 3), IF(MAX(J188:J197)+1>5, CEILING(MAX(J188:J197)+1, 2), MAX(J188:J197)+1)))))), 1)","v":1}]
[null,"縦軸間隔",{"$f":"IF(C198 >1, IF(C198 >=250, 50, IF(C198 >=200, 40, IF(C198 >=150, 30, IF(C198 >=100, 20, IF(C198 >=50, 10, IF(C198 >=20, 5, IF(C198 >=15, 3, IF(C198 >=8, 2, 1)))))))),1)","v":1},{"$f":"IF(D198 >1, IF(D198 >=250, 50, IF(D198 >=200, 40, IF(D198 >=150, 30, IF(D198 >=100, 20, IF(D198 >=50, 10, IF(D198 >=20, 5, IF(D198 >=15, 3, IF(D198 >=8, 2, 1)))))))),1)","v":1},1,1,1,1,1,1]
[]
[null,"４年男子"]
[null,"得点","握力","上体起こし","長座体前屈","反復横とび","20mシャトルラン","５０ｍ走","立ち幅とび","ｿﾌﾄﾎﾞｰﾙ投げ"]
[null,1,{"$f":"COUNTIF(小4!M$21:M$140,計算式シート!$B203)","v":0},{"$f":"COUNTIF(小4!N$21:N$140,計算式シート!$B203)","v":0},{"$f":"COUNTIF(小4!O$21:O$140,計算式シート!$B203)","v":0},{"$f":"COUNTIF(小4!P$21:P$140,計算式シート!$B203)","v":0},{"$f":"COUNTIF(小4!Q$21:Q$140,計算式シート!$B203)","v":0},{"$f":"COUNTIF(小4!R$21:R$140,計算式シート!$B203)","v":0},{"$f":"COUNTIF(小4!S$21:S$140,計算式シート!$B203)","v":0},{"$f":"COUNTIF(小4!T$21:T$140,計算式シート!$B203)","v":0}]
[null,2,{"$f":"COUNTIF(小4!M$21:M$140,計算式シート!$B204)","v":0},{"$f":"COUNTIF(小4!N$21:N$140,計算式シート!$B204)","v":0},{"$f":"COUNTIF(小4!O$21:O$140,計算式シート!$B204)","v":0},{"$f":"COUNTIF(小4!P$21:P$140,計算式シート!$B204)","v":0},{"$f":"COUNTIF(小4!Q$21:Q$140,計算式シート!$B204)","v":0},{"$f":"COUNTIF(小4!R$21:R$140,計算式シート!$B204)","v":0},{"$f":"COUNTIF(小4!S$21:S$140,計算式シート!$B204)","v":0},{"$f":"COUNTIF(小4!T$21:T$140,計算式シート!$B204)","v":0}]
[null,3,{"$f":"COUNTIF(小4!M$21:M$140,計算式シート!$B205)","v":0},{"$f":"COUNTIF(小4!N$21:N$140,計算式シート!$B205)","v":0},{"$f":"COUNTIF(小4!O$21:O$140,計算式シート!$B205)","v":0},{"$f":"COUNTIF(小4!P$21:P$140,計算式シート!$B205)","v":0},{"$f":"COUNTIF(小4!Q$21:Q$140,計算式シート!$B205)","v":0},{"$f":"COUNTIF(小4!R$21:R$140,計算式シート!$B205)","v":0},{"$f":"COUNTIF(小4!S$21:S$140,計算式シート!$B205)","v":0},{"$f":"COUNTIF(小4!T$21:T$140,計算式シート!$B205)","v":0}]
[null,4,{"$f":"COUNTIF(小4!M$21:M$140,計算式シート!$B206)","v":0},{"$f":"COUNTIF(小4!N$21:N$140,計算式シート!$B206)","v":0},{"$f":"COUNTIF(小4!O$21:O$140,計算式シート!$B206)","v":0},{"$f":"COUNTIF(小4!P$21:P$140,計算式シート!$B206)","v":0},{"$f":"COUNTIF(小4!Q$21:Q$140,計算式シート!$B206)","v":0},{"$f":"COUNTIF(小4!R$21:R$140,計算式シート!$B206)","v":0},{"$f":"COUNTIF(小4!S$21:S$140,計算式シート!$B206)","v":0},{"$f":"COUNTIF(小4!T$21:T$140,計算式シート!$B206)","v":0}]
[null,5,{"$f":"COUNTIF(小4!M$21:M$140,計算式シート!$B207)","v":0},{"$f":"COUNTIF(小4!N$21:N$140,計算式シート!$B207)","v":0},{"$f":"COUNTIF(小4!O$21:O$140,計算式シート!$B207)","v":0},{"$f":"COUNTIF(小4!P$21:P$140,計算式シート!$B207)","v":0},{"$f":"COUNTIF(小4!Q$21:Q$140,計算式シート!$B207)","v":0},{"$f":"COUNTIF(小4!R$21:R$140,計算式シート!$B207)","v":0},{"$f":"COUNTIF(小4!S$21:S$140,計算式シート!$B207)","v":0},{"$f":"COUNTIF(小4!T$21:T$140,計算式シート!$B207)","v":0}]
[null,6,{"$f":"COUNTIF(小4!M$21:M$140,計算式シート!$B208)","v":0},{"$f":"COUNTIF(小4!N$21:N$140,計算式シート!$B208)","v":0},{"$f":"COUNTIF(小4!O$21:O$140,計算式シート!$B208)","v":0},{"$f":"COUNTIF(小4!P$21:P$140,計算式シート!$B208)","v":0},{"$f":"COUNTIF(小4!Q$21:Q$140,計算式シート!$B208)","v":0},{"$f":"COUNTIF(小4!R$21:R$140,計算式シート!$B208)","v":0},{"$f":"COUNTIF(小4!S$21:S$140,計算式シート!$B208)","v":0},{"$f":"COUNTIF(小4!T$21:T$140,計算式シート!$B208)","v":0}]
[null,7,{"$f":"COUNTIF(小4!M$21:M$140,計算式シート!$B209)","v":0},{"$f":"COUNTIF(小4!N$21:N$140,計算式シート!$B209)","v":0},{"$f":"COUNTIF(小4!O$21:O$140,計算式シート!$B209)","v":0},{"$f":"COUNTIF(小4!P$21:P$140,計算式シート!$B209)","v":0},{"$f":"COUNTIF(小4!Q$21:Q$140,計算式シート!$B209)","v":0},{"$f":"COUNTIF(小4!R$21:R$140,計算式シート!$B209)","v":0},{"$f":"COUNTIF(小4!S$21:S$140,計算式シート!$B209)","v":0},{"$f":"COUNTIF(小4!T$21:T$140,計算式シート!$B209)","v":0}]
[null,8,{"$f":"COUNTIF(小4!M$21:M$140,計算式シート!$B210)","v":0},{"$f":"COUNTIF(小4!N$21:N$140,計算式シート!$B210)","v":0},{"$f":"COUNTIF(小4!O$21:O$140,計算式シート!$B210)","v":0},{"$f":"COUNTIF(小4!P$21:P$140,計算式シート!$B210)","v":0},{"$f":"COUNTIF(小4!Q$21:Q$140,計算式シート!$B210)","v":0},{"$f":"COUNTIF(小4!R$21:R$140,計算式シート!$B210)","v":0},{"$f":"COUNTIF(小4!S$21:S$140,計算式シート!$B210)","v":0},{"$f":"COUNTIF(小4!T$21:T$140,計算式シート!$B210)","v":0}]
[null,9,{"$f":"COUNTIF(小4!M$21:M$140,計算式シート!$B211)","v":0},{"$f":"COUNTIF(小4!N$21:N$140,計算式シート!$B211)","v":0},{"$f":"COUNTIF(小4!O$21:O$140,計算式シート!$B211)","v":0},{"$f":"COUNTIF(小4!P$21:P$140,計算式シート!$B211)","v":0},{"$f":"COUNTIF(小4!Q$21:Q$140,計算式シート!$B211)","v":0},{"$f":"COUNTIF(小4!R$21:R$140,計算式シート!$B211)","v":0},{"$f":"COUNTIF(小4!S$21:S$140,計算式シート!$B211)","v":0},{"$f":"COUNTIF(小4!T$21:T$140,計算式シート!$B211)","v":0}]
[null,10,{"$f":"COUNTIF(小4!M$21:M$140,計算式シート!$B212)","v":0},{"$f":"COUNTIF(小4!N$21:N$140,計算式シート!$B212)","v":0},{"$f":"COUNTIF(小4!O$21:O$140,計算式シート!$B212)","v":0},{"$f":"COUNTIF(小4!P$21:P$140,計算式シート!$B212)","v":0},{"$f":"COUNTIF(小4!Q$21:Q$140,計算式シート!$B212)","v":0},{"$f":"COUNTIF(小4!R$21:R$140,計算式シート!$B212)","v":0},{"$f":"COUNTIF(小4!S$21:S$140,計算式シート!$B212)","v":0},{"$f":"COUNTIF(小4!T$21:T$140,計算式シート!$B212)","v":0}]
[null,"縦軸最大",{"$f":"IF(MAX(C203:C212)+1 >1, IF(MAX(C203:C212)+1>120, CEILING(MAX(C203:C212)+1, 50), IF(MAX(C203:C212)+1>100, CEILING(MAX(C203:C212)+1, 20), IF(MAX(C203:C212)+1>25, CEILING(MAX(C203:C212)+1, 10), IF(MAX(C203:C212)+1>18, CEILING(MAX(C203:C212)+1, 5), IF(MAX(C203:C212)+1>10, CEILING(MAX(C203:C212)+1, 3), IF(MAX(C203:C212)+1>5, CEILING(MAX(C203:C212)+1, 2), MAX(C203:C212)+1)))))), 1)","v":1},{"$f":"IF(MAX(D203:D212)+1 >1, IF(MAX(D203:D212)+1>120, CEILING(MAX(D203:D212)+1, 50), IF(MAX(D203:D212)+1>100, CEILING(MAX(D203:D212)+1, 20), IF(MAX(D203:D212)+1>25, CEILING(MAX(D203:D212)+1, 10), IF(MAX(D203:D212)+1>18, CEILING(MAX(D203:D212)+1, 5), IF(MAX(D203:D212)+1>10, CEILING(MAX(D203:D212)+1, 3), IF(MAX(D203:D212)+1>5, CEILING(MAX(D203:D212)+1, 2), MAX(D203:D212)+1)))))), 1)","v":1},{"$f":"IF(MAX(E203:E212)+1 >1, IF(MAX(E203:E212)+1>120, CEILING(MAX(E203:E212)+1, 50), IF(MAX(E203:E212)+1>100, CEILING(MAX(E203:E212)+1, 20), IF(MAX(E203:E212)+1>25, CEILING(MAX(E203:E212)+1, 10), IF(MAX(E203:E212)+1>18, CEILING(MAX(E203:E212)+1, 5), IF(MAX(E203:E212)+1>10, CEILING(MAX(E203:E212)+1, 3), IF(MAX(E203:E212)+1>5, CEILING(MAX(E203:E212)+1, 2), MAX(E203:E212)+1)))))), 1)","v":1},{"$f":"IF(MAX(F203:F212)+1 >1, IF(MAX(F203:F212)+1>120, CEILING(MAX(F203:F212)+1, 50), IF(MAX(F203:F212)+1>100, CEILING(MAX(F203:F212)+1, 20), IF(MAX(F203:F212)+1>25, CEILING(MAX(F203:F212)+1, 10), IF(MAX(F203:F212)+1>18, CEILING(MAX(F203:F212)+1, 5), IF(MAX(F203:F212)+1>10, CEILING(MAX(F203:F212)+1, 3), IF(MAX(F203:F212)+1>5, CEILING(MAX(F203:F212)+1, 2), MAX(F203:F212)+1)))))), 1)","v":1},{"$f":"IF(MAX(G203:G212)+1 >1, IF(MAX(G203:G212)+1>120, CEILING(MAX(G203:G212)+1, 50), IF(MAX(G203:G212)+1>100, CEILING(MAX(G203:G212)+1, 20), IF(MAX(G203:G212)+1>25, CEILING(MAX(G203:G212)+1, 10), IF(MAX(G203:G212)+1>18, CEILING(MAX(G203:G212)+1, 5), IF(MAX(G203:G212)+1>10, CEILING(MAX(G203:G212)+1, 3), IF(MAX(G203:G212)+1>5, CEILING(MAX(G203:G212)+1, 2), MAX(G203:G212)+1)))))), 1)","v":1},{"$f":"IF(MAX(H203:H212)+1 >1, IF(MAX(H203:H212)+1>120, CEILING(MAX(H203:H212)+1, 50), IF(MAX(H203:H212)+1>100, CEILING(MAX(H203:H212)+1, 20), IF(MAX(H203:H212)+1>25, CEILING(MAX(H203:H212)+1, 10), IF(MAX(H203:H212)+1>18, CEILING(MAX(H203:H212)+1, 5), IF(MAX(H203:H212)+1>10, CEILING(MAX(H203:H212)+1, 3), IF(MAX(H203:H212)+1>5, CEILING(MAX(H203:H212)+1, 2), MAX(H203:H212)+1)))))), 1)","v":1},{"$f":"IF(MAX(I203:I212)+1 >1, IF(MAX(I203:I212)+1>120, CEILING(MAX(I203:I212)+1, 50), IF(MAX(I203:I212)+1>100, CEILING(MAX(I203:I212)+1, 20), IF(MAX(I203:I212)+1>25, CEILING(MAX(I203:I212)+1, 10), IF(MAX(I203:I212)+1>18, CEILING(MAX(I203:I212)+1, 5), IF(MAX(I203:I212)+1>10, CEILING(MAX(I203:I212)+1, 3), IF(MAX(I203:I212)+1>5, CEILING(MAX(I203:I212)+1, 2), MAX(I203:I212)+1)))))), 1)","v":1},{"$f":"IF(MAX(J203:J212)+1 >1, IF(MAX(J203:J212)+1>120, CEILING(MAX(J203:J212)+1, 50), IF(MAX(J203:J212)+1>100, CEILING(MAX(J203:J212)+1, 20), IF(MAX(J203:J212)+1>25, CEILING(MAX(J203:J212)+1, 10), IF(MAX(J203:J212)+1>18, CEILING(MAX(J203:J212)+1, 5), IF(MAX(J203:J212)+1>10, CEILING(MAX(J203:J212)+1, 3), IF(MAX(J203:J212)+1>5, CEILING(MAX(J203:J212)+1, 2), MAX(J203:J212)+1)))))), 1)","v":1}]
[null,"縦軸間隔",{"$f":"IF(C213 >1, IF(C213 >=250, 50, IF(C213 >=200, 40, IF(C213 >=150, 30, IF(C213 >=100, 20, IF(C213 >=50, 10, IF(C213 >=20, 5, IF(C213 >=15, 3, IF(C213 >=8, 2, 1)))))))),1)","v":1},{"$f":"IF(D213 >1, IF(D213 >=250, 50, IF(D213 >=200, 40, IF(D213 >=150, 30, IF(D213 >=100, 20, IF(D213 >=50, 10, IF(D213 >=20, 5, IF(D213 >=15, 3, IF(D213 >=8, 2, 1)))))))),1)","v":1},1,1,1,1,1,1]
[]
[null,"４年女子"]
[null,"得点","握力","上体起こし","長座体前屈","反復横とび","20mシャトルラン","５０ｍ走","立ち幅とび","ｿﾌﾄﾎﾞｰﾙ投げ"]
[null,1,{"$f":"COUNTIF(小4!M$150:M$269,計算式シート!$B218)","v":0},{"$f":"COUNTIF(小4!N$150:N$269,計算式シート!$B218)","v":0},{"$f":"COUNTIF(小4!O$150:O$269,計算式シート!$B218)","v":0},{"$f":"COUNTIF(小4!P$150:P$269,計算式シート!$B218)","v":0},{"$f":"COUNTIF(小4!Q$150:Q$269,計算式シート!$B218)","v":0},{"$f":"COUNTIF(小4!R$150:R$269,計算式シート!$B218)","v":0},{"$f":"COUNTIF(小4!S$150:S$269,計算式シート!$B218)","v":0},{"$f":"COUNTIF(小4!T$150:T$269,計算式シート!$B218)","v":0}]
[null,2,{"$f":"COUNTIF(小4!M$150:M$269,計算式シート!$B219)","v":0},{"$f":"COUNTIF(小4!N$150:N$269,計算式シート!$B219)","v":0},{"$f":"COUNTIF(小4!O$150:O$269,計算式シート!$B219)","v":0},{"$f":"COUNTIF(小4!P$150:P$269,計算式シート!$B219)","v":0},{"$f":"COUNTIF(小4!Q$150:Q$269,計算式シート!$B219)","v":0},{"$f":"COUNTIF(小4!R$150:R$269,計算式シート!$B219)","v":0},{"$f":"COUNTIF(小4!S$150:S$269,計算式シート!$B219)","v":0},{"$f":"COUNTIF(小4!T$150:T$269,計算式シート!$B219)","v":0}]
[null,3,{"$f":"COUNTIF(小4!M$150:M$269,計算式シート!$B220)","v":0},{"$f":"COUNTIF(小4!N$150:N$269,計算式シート!$B220)","v":0},{"$f":"COUNTIF(小4!O$150:O$269,計算式シート!$B220)","v":0},{"$f":"COUNTIF(小4!P$150:P$269,計算式シート!$B220)","v":0},{"$f":"COUNTIF(小4!Q$150:Q$269,計算式シート!$B220)","v":0},{"$f":"COUNTIF(小4!R$150:R$269,計算式シート!$B220)","v":0},{"$f":"COUNTIF(小4!S$150:S$269,計算式シート!$B220)","v":0},{"$f":"COUNTIF(小4!T$150:T$269,計算式シート!$B220)","v":0}]
[null,4,{"$f":"COUNTIF(小4!M$150:M$269,計算式シート!$B221)","v":0},{"$f":"COUNTIF(小4!N$150:N$269,計算式シート!$B221)","v":0},{"$f":"COUNTIF(小4!O$150:O$269,計算式シート!$B221)","v":0},{"$f":"COUNTIF(小4!P$150:P$269,計算式シート!$B221)","v":0},{"$f":"COUNTIF(小4!Q$150:Q$269,計算式シート!$B221)","v":0},{"$f":"COUNTIF(小4!R$150:R$269,計算式シート!$B221)","v":0},{"$f":"COUNTIF(小4!S$150:S$269,計算式シート!$B221)","v":0},{"$f":"COUNTIF(小4!T$150:T$269,計算式シート!$B221)","v":0}]
[null,5,{"$f":"COUNTIF(小4!M$150:M$269,計算式シート!$B222)","v":0},{"$f":"COUNTIF(小4!N$150:N$269,計算式シート!$B222)","v":0},{"$f":"COUNTIF(小4!O$150:O$269,計算式シート!$B222)","v":0},{"$f":"COUNTIF(小4!P$150:P$269,計算式シート!$B222)","v":0},{"$f":"COUNTIF(小4!Q$150:Q$269,計算式シート!$B222)","v":0},{"$f":"COUNTIF(小4!R$150:R$269,計算式シート!$B222)","v":0},{"$f":"COUNTIF(小4!S$150:S$269,計算式シート!$B222)","v":0},{"$f":"COUNTIF(小4!T$150:T$269,計算式シート!$B222)","v":0}]
[null,6,{"$f":"COUNTIF(小4!M$150:M$269,計算式シート!$B223)","v":0},{"$f":"COUNTIF(小4!N$150:N$269,計算式シート!$B223)","v":0},{"$f":"COUNTIF(小4!O$150:O$269,計算式シート!$B223)","v":0},{"$f":"COUNTIF(小4!P$150:P$269,計算式シート!$B223)","v":0},{"$f":"COUNTIF(小4!Q$150:Q$269,計算式シート!$B223)","v":0},{"$f":"COUNTIF(小4!R$150:R$269,計算式シート!$B223)","v":0},{"$f":"COUNTIF(小4!S$150:S$269,計算式シート!$B223)","v":0},{"$f":"COUNTIF(小4!T$150:T$269,計算式シート!$B223)","v":0}]
[null,7,{"$f":"COUNTIF(小4!M$150:M$269,計算式シート!$B224)","v":0},{"$f":"COUNTIF(小4!N$150:N$269,計算式シート!$B224)","v":0},{"$f":"COUNTIF(小4!O$150:O$269,計算式シート!$B224)","v":0},{"$f":"COUNTIF(小4!P$150:P$269,計算式シート!$B224)","v":0},{"$f":"COUNTIF(小4!Q$150:Q$269,計算式シート!$B224)","v":0},{"$f":"COUNTIF(小4!R$150:R$269,計算式シート!$B224)","v":0},{"$f":"COUNTIF(小4!S$150:S$269,計算式シート!$B224)","v":0},{"$f":"COUNTIF(小4!T$150:T$269,計算式シート!$B224)","v":0}]
[null,8,{"$f":"COUNTIF(小4!M$150:M$269,計算式シート!$B225)","v":0},{"$f":"COUNTIF(小4!N$150:N$269,計算式シート!$B225)","v":0},{"$f":"COUNTIF(小4!O$150:O$269,計算式シート!$B225)","v":0},{"$f":"COUNTIF(小4!P$150:P$269,計算式シート!$B225)","v":0},{"$f":"COUNTIF(小4!Q$150:Q$269,計算式シート!$B225)","v":0},{"$f":"COUNTIF(小4!R$150:R$269,計算式シート!$B225)","v":0},{"$f":"COUNTIF(小4!S$150:S$269,計算式シート!$B225)","v":0},{"$f":"COUNTIF(小4!T$150:T$269,計算式シート!$B225)","v":0}]
[null,9,{"$f":"COUNTIF(小4!M$150:M$269,計算式シート!$B226)","v":0},{"$f":"COUNTIF(小4!N$150:N$269,計算式シート!$B226)","v":0},{"$f":"COUNTIF(小4!O$150:O$269,計算式シート!$B226)","v":0},{"$f":"COUNTIF(小4!P$150:P$269,計算式シート!$B226)","v":0},{"$f":"COUNTIF(小4!Q$150:Q$269,計算式シート!$B226)","v":0},{"$f":"COUNTIF(小4!R$150:R$269,計算式シート!$B226)","v":0},{"$f":"COUNTIF(小4!S$150:S$269,計算式シート!$B226)","v":0},{"$f":"COUNTIF(小4!T$150:T$269,計算式シート!$B226)","v":0}]
[null,10,{"$f":"COUNTIF(小4!M$150:M$269,計算式シート!$B227)","v":0},{"$f":"COUNTIF(小4!N$150:N$269,計算式シート!$B227)","v":0},{"$f":"COUNTIF(小4!O$150:O$269,計算式シート!$B227)","v":0},{"$f":"COUNTIF(小4!P$150:P$269,計算式シート!$B227)","v":0},{"$f":"COUNTIF(小4!Q$150:Q$269,計算式シート!$B227)","v":0},{"$f":"COUNTIF(小4!R$150:R$269,計算式シート!$B227)","v":0},{"$f":"COUNTIF(小4!S$150:S$269,計算式シート!$B227)","v":0},{"$f":"COUNTIF(小4!T$150:T$269,計算式シート!$B227)","v":0}]
[null,"縦軸最大",{"$f":"IF(MAX(C218:C227)+1 >1, IF(MAX(C218:C227)+1>120, CEILING(MAX(C218:C227)+1, 50), IF(MAX(C218:C227)+1>100, CEILING(MAX(C218:C227)+1, 20), IF(MAX(C218:C227)+1>25, CEILING(MAX(C218:C227)+1, 10), IF(MAX(C218:C227)+1>18, CEILING(MAX(C218:C227)+1, 5), IF(MAX(C218:C227)+1>10, CEILING(MAX(C218:C227)+1, 3), IF(MAX(C218:C227)+1>5, CEILING(MAX(C218:C227)+1, 2), MAX(C218:C227)+1)))))), 1)","v":1},{"$f":"IF(MAX(D218:D227)+1 >1, IF(MAX(D218:D227)+1>120, CEILING(MAX(D218:D227)+1, 50), IF(MAX(D218:D227)+1>100, CEILING(MAX(D218:D227)+1, 20), IF(MAX(D218:D227)+1>25, CEILING(MAX(D218:D227)+1, 10), IF(MAX(D218:D227)+1>18, CEILING(MAX(D218:D227)+1, 5), IF(MAX(D218:D227)+1>10, CEILING(MAX(D218:D227)+1, 3), IF(MAX(D218:D227)+1>5, CEILING(MAX(D218:D227)+1, 2), MAX(D218:D227)+1)))))), 1)","v":1},{"$f":"IF(MAX(E218:E227)+1 >1, IF(MAX(E218:E227)+1>120, CEILING(MAX(E218:E227)+1, 50), IF(MAX(E218:E227)+1>100, CEILING(MAX(E218:E227)+1, 20), IF(MAX(E218:E227)+1>25, CEILING(MAX(E218:E227)+1, 10), IF(MAX(E218:E227)+1>18, CEILING(MAX(E218:E227)+1, 5), IF(MAX(E218:E227)+1>10, CEILING(MAX(E218:E227)+1, 3), IF(MAX(E218:E227)+1>5, CEILING(MAX(E218:E227)+1, 2), MAX(E218:E227)+1)))))), 1)","v":1},{"$f":"IF(MAX(F218:F227)+1 >1, IF(MAX(F218:F227)+1>120, CEILING(MAX(F218:F227)+1, 50), IF(MAX(F218:F227)+1>100, CEILING(MAX(F218:F227)+1, 20), IF(MAX(F218:F227)+1>25, CEILING(MAX(F218:F227)+1, 10), IF(MAX(F218:F227)+1>18, CEILING(MAX(F218:F227)+1, 5), IF(MAX(F218:F227)+1>10, CEILING(MAX(F218:F227)+1, 3), IF(MAX(F218:F227)+1>5, CEILING(MAX(F218:F227)+1, 2), MAX(F218:F227)+1)))))), 1)","v":1},{"$f":"IF(MAX(G218:G227)+1 >1, IF(MAX(G218:G227)+1>120, CEILING(MAX(G218:G227)+1, 50), IF(MAX(G218:G227)+1>100, CEILING(MAX(G218:G227)+1, 20), IF(MAX(G218:G227)+1>25, CEILING(MAX(G218:G227)+1, 10), IF(MAX(G218:G227)+1>18, CEILING(MAX(G218:G227)+1, 5), IF(MAX(G218:G227)+1>10, CEILING(MAX(G218:G227)+1, 3), IF(MAX(G218:G227)+1>5, CEILING(MAX(G218:G227)+1, 2), MAX(G218:G227)+1)))))), 1)","v":1},{"$f":"IF(MAX(H218:H227)+1 >1, IF(MAX(H218:H227)+1>120, CEILING(MAX(H218:H227)+1, 50), IF(MAX(H218:H227)+1>100, CEILING(MAX(H218:H227)+1, 20), IF(MAX(H218:H227)+1>25, CEILING(MAX(H218:H227)+1, 10), IF(MAX(H218:H227)+1>18, CEILING(MAX(H218:H227)+1, 5), IF(MAX(H218:H227)+1>10, CEILING(MAX(H218:H227)+1, 3), IF(MAX(H218:H227)+1>5, CEILING(MAX(H218:H227)+1, 2), MAX(H218:H227)+1)))))), 1)","v":1},{"$f":"IF(MAX(I218:I227)+1 >1, IF(MAX(I218:I227)+1>120, CEILING(MAX(I218:I227)+1, 50), IF(MAX(I218:I227)+1>100, CEILING(MAX(I218:I227)+1, 20), IF(MAX(I218:I227)+1>25, CEILING(MAX(I218:I227)+1, 10), IF(MAX(I218:I227)+1>18, CEILING(MAX(I218:I227)+1, 5), IF(MAX(I218:I227)+1>10, CEILING(MAX(I218:I227)+1, 3), IF(MAX(I218:I227)+1>5, CEILING(MAX(I218:I227)+1, 2), MAX(I218:I227)+1)))))), 1)","v":1},{"$f":"IF(MAX(J218:J227)+1 >1, IF(MAX(J218:J227)+1>120, CEILING(MAX(J218:J227)+1, 50), IF(MAX(J218:J227)+1>100, CEILING(MAX(J218:J227)+1, 20), IF(MAX(J218:J227)+1>25, CEILING(MAX(J218:J227)+1, 10), IF(MAX(J218:J227)+1>18, CEILING(MAX(J218:J227)+1, 5), IF(MAX(J218:J227)+1>10, CEILING(MAX(J218:J227)+1, 3), IF(MAX(J218:J227)+1>5, CEILING(MAX(J218:J227)+1, 2), MAX(J218:J227)+1)))))), 1)","v":1}]
[null,"縦軸間隔",{"$f":"IF(C228 >1, IF(C228 >=250, 50, IF(C228 >=200, 40, IF(C228 >=150, 30, IF(C228 >=100, 20, IF(C228 >=50, 10, IF(C228 >=20, 5, IF(C228 >=15, 3, IF(C228 >=8, 2, 1)))))))),1)","v":1},{"$f":"IF(D228 >1, IF(D228 >=250, 50, IF(D228 >=200, 40, IF(D228 >=150, 30, IF(D228 >=100, 20, IF(D228 >=50, 10, IF(D228 >=20, 5, IF(D228 >=15, 3, IF(D228 >=8, 2, 1)))))))),1)","v":1},1,1,1,1,1,1]
[]
[null,"５年男子"]
[null,"得点","握力","上体起こし","長座体前屈","反復横とび","20mシャトルラン","５０ｍ走","立ち幅とび","ｿﾌﾄﾎﾞｰﾙ投げ"]
[null,1,{"$f":"COUNTIF(小5!M$21:M$140,計算式シート!$B233)","v":0},{"$f":"COUNTIF(小5!N$21:N$140,計算式シート!$B233)","v":0},{"$f":"COUNTIF(小5!O$21:O$140,計算式シート!$B233)","v":0},{"$f":"COUNTIF(小5!P$21:P$140,計算式シート!$B233)","v":0},{"$f":"COUNTIF(小5!Q$21:Q$140,計算式シート!$B233)","v":0},{"$f":"COUNTIF(小5!R$21:R$140,計算式シート!$B233)","v":0},{"$f":"COUNTIF(小5!S$21:S$140,計算式シート!$B233)","v":0},{"$f":"COUNTIF(小5!T$21:T$140,計算式シート!$B233)","v":0}]
[null,2,{"$f":"COUNTIF(小5!M$21:M$140,計算式シート!$B234)","v":0},{"$f":"COUNTIF(小5!N$21:N$140,計算式シート!$B234)","v":0},{"$f":"COUNTIF(小5!O$21:O$140,計算式シート!$B234)","v":0},{"$f":"COUNTIF(小5!P$21:P$140,計算式シート!$B234)","v":0},{"$f":"COUNTIF(小5!Q$21:Q$140,計算式シート!$B234)","v":0},{"$f":"COUNTIF(小5!R$21:R$140,計算式シート!$B234)","v":0},{"$f":"COUNTIF(小5!S$21:S$140,計算式シート!$B234)","v":0},{"$f":"COUNTIF(小5!T$21:T$140,計算式シート!$B234)","v":0}]
[null,3,{"$f":"COUNTIF(小5!M$21:M$140,計算式シート!$B235)","v":0},{"$f":"COUNTIF(小5!N$21:N$140,計算式シート!$B235)","v":0},{"$f":"COUNTIF(小5!O$21:O$140,計算式シート!$B235)","v":0},{"$f":"COUNTIF(小5!P$21:P$140,計算式シート!$B235)","v":0},{"$f":"COUNTIF(小5!Q$21:Q$140,計算式シート!$B235)","v":0},{"$f":"COUNTIF(小5!R$21:R$140,計算式シート!$B235)","v":0},{"$f":"COUNTIF(小5!S$21:S$140,計算式シート!$B235)","v":0},{"$f":"COUNTIF(小5!T$21:T$140,計算式シート!$B235)","v":0}]
[null,4,{"$f":"COUNTIF(小5!M$21:M$140,計算式シート!$B236)","v":0},{"$f":"COUNTIF(小5!N$21:N$140,計算式シート!$B236)","v":0},{"$f":"COUNTIF(小5!O$21:O$140,計算式シート!$B236)","v":0},{"$f":"COUNTIF(小5!P$21:P$140,計算式シート!$B236)","v":0},{"$f":"COUNTIF(小5!Q$21:Q$140,計算式シート!$B236)","v":0},{"$f":"COUNTIF(小5!R$21:R$140,計算式シート!$B236)","v":0},{"$f":"COUNTIF(小5!S$21:S$140,計算式シート!$B236)","v":0},{"$f":"COUNTIF(小5!T$21:T$140,計算式シート!$B236)","v":0}]
[null,5,{"$f":"COUNTIF(小5!M$21:M$140,計算式シート!$B237)","v":0},{"$f":"COUNTIF(小5!N$21:N$140,計算式シート!$B237)","v":0},{"$f":"COUNTIF(小5!O$21:O$140,計算式シート!$B237)","v":0},{"$f":"COUNTIF(小5!P$21:P$140,計算式シート!$B237)","v":0},{"$f":"COUNTIF(小5!Q$21:Q$140,計算式シート!$B237)","v":0},{"$f":"COUNTIF(小5!R$21:R$140,計算式シート!$B237)","v":0},{"$f":"COUNTIF(小5!S$21:S$140,計算式シート!$B237)","v":0},{"$f":"COUNTIF(小5!T$21:T$140,計算式シート!$B237)","v":0}]
[null,6,{"$f":"COUNTIF(小5!M$21:M$140,計算式シート!$B238)","v":0},{"$f":"COUNTIF(小5!N$21:N$140,計算式シート!$B238)","v":0},{"$f":"COUNTIF(小5!O$21:O$140,計算式シート!$B238)","v":0},{"$f":"COUNTIF(小5!P$21:P$140,計算式シート!$B238)","v":0},{"$f":"COUNTIF(小5!Q$21:Q$140,計算式シート!$B238)","v":0},{"$f":"COUNTIF(小5!R$21:R$140,計算式シート!$B238)","v":0},{"$f":"COUNTIF(小5!S$21:S$140,計算式シート!$B238)","v":0},{"$f":"COUNTIF(小5!T$21:T$140,計算式シート!$B238)","v":0}]
[null,7,{"$f":"COUNTIF(小5!M$21:M$140,計算式シート!$B239)","v":0},{"$f":"COUNTIF(小5!N$21:N$140,計算式シート!$B239)","v":0},{"$f":"COUNTIF(小5!O$21:O$140,計算式シート!$B239)","v":0},{"$f":"COUNTIF(小5!P$21:P$140,計算式シート!$B239)","v":0},{"$f":"COUNTIF(小5!Q$21:Q$140,計算式シート!$B239)","v":0},{"$f":"COUNTIF(小5!R$21:R$140,計算式シート!$B239)","v":0},{"$f":"COUNTIF(小5!S$21:S$140,計算式シート!$B239)","v":0},{"$f":"COUNTIF(小5!T$21:T$140,計算式シート!$B239)","v":0}]
[null,8,{"$f":"COUNTIF(小5!M$21:M$140,計算式シート!$B240)","v":0},{"$f":"COUNTIF(小5!N$21:N$140,計算式シート!$B240)","v":0},{"$f":"COUNTIF(小5!O$21:O$140,計算式シート!$B240)","v":0},{"$f":"COUNTIF(小5!P$21:P$140,計算式シート!$B240)","v":0},{"$f":"COUNTIF(小5!Q$21:Q$140,計算式シート!$B240)","v":0},{"$f":"COUNTIF(小5!R$21:R$140,計算式シート!$B240)","v":0},{"$f":"COUNTIF(小5!S$21:S$140,計算式シート!$B240)","v":0},{"$f":"COUNTIF(小5!T$21:T$140,計算式シート!$B240)","v":0}]
[null,9,{"$f":"COUNTIF(小5!M$21:M$140,計算式シート!$B241)","v":0},{"$f":"COUNTIF(小5!N$21:N$140,計算式シート!$B241)","v":0},{"$f":"COUNTIF(小5!O$21:O$140,計算式シート!$B241)","v":0},{"$f":"COUNTIF(小5!P$21:P$140,計算式シート!$B241)","v":0},{"$f":"COUNTIF(小5!Q$21:Q$140,計算式シート!$B241)","v":0},{"$f":"COUNTIF(小5!R$21:R$140,計算式シート!$B241)","v":0},{"$f":"COUNTIF(小5!S$21:S$140,計算式シート!$B241)","v":0},{"$f":"COUNTIF(小5!T$21:T$140,計算式シート!$B241)","v":0}]
[null,10,{"$f":"COUNTIF(小5!M$21:M$140,計算式シート!$B242)","v":0},{"$f":"COUNTIF(小5!N$21:N$140,計算式シート!$B242)","v":0},{"$f":"COUNTIF(小5!O$21:O$140,計算式シート!$B242)","v":0},{"$f":"COUNTIF(小5!P$21:P$140,計算式シート!$B242)","v":0},{"$f":"COUNTIF(小5!Q$21:Q$140,計算式シート!$B242)","v":0},{"$f":"COUNTIF(小5!R$21:R$140,計算式シート!$B242)","v":0},{"$f":"COUNTIF(小5!S$21:S$140,計算式シート!$B242)","v":0},{"$f":"COUNTIF(小5!T$21:T$140,計算式シート!$B242)","v":0}]
[null,"縦軸最大",{"$f":"IF(MAX(C233:C242)+1 >1, IF(MAX(C233:C242)+1>120, CEILING(MAX(C233:C242)+1, 50), IF(MAX(C233:C242)+1>100, CEILING(MAX(C233:C242)+1, 20), IF(MAX(C233:C242)+1>25, CEILING(MAX(C233:C242)+1, 10), IF(MAX(C233:C242)+1>18, CEILING(MAX(C233:C242)+1, 5), IF(MAX(C233:C242)+1>10, CEILING(MAX(C233:C242)+1, 3), IF(MAX(C233:C242)+1>5, CEILING(MAX(C233:C242)+1, 2), MAX(C233:C242)+1)))))), 1)","v":1},{"$f":"IF(MAX(D233:D242)+1 >1, IF(MAX(D233:D242)+1>120, CEILING(MAX(D233:D242)+1, 50), IF(MAX(D233:D242)+1>100, CEILING(MAX(D233:D242)+1, 20), IF(MAX(D233:D242)+1>25, CEILING(MAX(D233:D242)+1, 10), IF(MAX(D233:D242)+1>18, CEILING(MAX(D233:D242)+1, 5), IF(MAX(D233:D242)+1>10, CEILING(MAX(D233:D242)+1, 3), IF(MAX(D233:D242)+1>5, CEILING(MAX(D233:D242)+1, 2), MAX(D233:D242)+1)))))), 1)","v":1},{"$f":"IF(MAX(E233:E242)+1 >1, IF(MAX(E233:E242)+1>120, CEILING(MAX(E233:E242)+1, 50), IF(MAX(E233:E242)+1>100, CEILING(MAX(E233:E242)+1, 20), IF(MAX(E233:E242)+1>25, CEILING(MAX(E233:E242)+1, 10), IF(MAX(E233:E242)+1>18, CEILING(MAX(E233:E242)+1, 5), IF(MAX(E233:E242)+1>10, CEILING(MAX(E233:E242)+1, 3), IF(MAX(E233:E242)+1>5, CEILING(MAX(E233:E242)+1, 2), MAX(E233:E242)+1)))))), 1)","v":1},{"$f":"IF(MAX(F233:F242)+1 >1, IF(MAX(F233:F242)+1>120, CEILING(MAX(F233:F242)+1, 50), IF(MAX(F233:F242)+1>100, CEILING(MAX(F233:F242)+1, 20), IF(MAX(F233:F242)+1>25, CEILING(MAX(F233:F242)+1, 10), IF(MAX(F233:F242)+1>18, CEILING(MAX(F233:F242)+1, 5), IF(MAX(F233:F242)+1>10, CEILING(MAX(F233:F242)+1, 3), IF(MAX(F233:F242)+1>5, CEILING(MAX(F233:F242)+1, 2), MAX(F233:F242)+1)))))), 1)","v":1},{"$f":"IF(MAX(G233:G242)+1 >1, IF(MAX(G233:G242)+1>120, CEILING(MAX(G233:G242)+1, 50), IF(MAX(G233:G242)+1>100, CEILING(MAX(G233:G242)+1, 20), IF(MAX(G233:G242)+1>25, CEILING(MAX(G233:G242)+1, 10), IF(MAX(G233:G242)+1>18, CEILING(MAX(G233:G242)+1, 5), IF(MAX(G233:G242)+1>10, CEILING(MAX(G233:G242)+1, 3), IF(MAX(G233:G242)+1>5, CEILING(MAX(G233:G242)+1, 2), MAX(G233:G242)+1)))))), 1)","v":1},{"$f":"IF(MAX(H233:H242)+1 >1, IF(MAX(H233:H242)+1>120, CEILING(MAX(H233:H242)+1, 50), IF(MAX(H233:H242)+1>100, CEILING(MAX(H233:H242)+1, 20), IF(MAX(H233:H242)+1>25, CEILING(MAX(H233:H242)+1, 10), IF(MAX(H233:H242)+1>18, CEILING(MAX(H233:H242)+1, 5), IF(MAX(H233:H242)+1>10, CEILING(MAX(H233:H242)+1, 3), IF(MAX(H233:H242)+1>5, CEILING(MAX(H233:H242)+1, 2), MAX(H233:H242)+1)))))), 1)","v":1},{"$f":"IF(MAX(I233:I242)+1 >1, IF(MAX(I233:I242)+1>120, CEILING(MAX(I233:I242)+1, 50), IF(MAX(I233:I242)+1>100, CEILING(MAX(I233:I242)+1, 20), IF(MAX(I233:I242)+1>25, CEILING(MAX(I233:I242)+1, 10), IF(MAX(I233:I242)+1>18, CEILING(MAX(I233:I242)+1, 5), IF(MAX(I233:I242)+1>10, CEILING(MAX(I233:I242)+1, 3), IF(MAX(I233:I242)+1>5, CEILING(MAX(I233:I242)+1, 2), MAX(I233:I242)+1)))))), 1)","v":1},{"$f":"IF(MAX(J233:J242)+1 >1, IF(MAX(J233:J242)+1>120, CEILING(MAX(J233:J242)+1, 50), IF(MAX(J233:J242)+1>100, CEILING(MAX(J233:J242)+1, 20), IF(MAX(J233:J242)+1>25, CEILING(MAX(J233:J242)+1, 10), IF(MAX(J233:J242)+1>18, CEILING(MAX(J233:J242)+1, 5), IF(MAX(J233:J242)+1>10, CEILING(MAX(J233:J242)+1, 3), IF(MAX(J233:J242)+1>5, CEILING(MAX(J233:J242)+1, 2), MAX(J233:J242)+1)))))), 1)","v":1}]
[null,"縦軸間隔",{"$f":"IF(C243 >1, IF(C243 >=250, 50, IF(C243 >=200, 40, IF(C243 >=150, 30, IF(C243 >=100, 20, IF(C243 >=50, 10, IF(C243 >=20, 5, IF(C243 >=15, 3, IF(C243 >=8, 2, 1)))))))),1)","v":1},{"$f":"IF(D243 >1, IF(D243 >=250, 50, IF(D243 >=200, 40, IF(D243 >=150, 30, IF(D243 >=100, 20, IF(D243 >=50, 10, IF(D243 >=20, 5, IF(D243 >=15, 3, IF(D243 >=8, 2, 1)))))))),1)","v":1},1,1,1,1,1,1]
[]
[null,"５年女子"]
[null,"得点","握力","上体起こし","長座体前屈","反復横とび","20mシャトルラン","５０ｍ走","立ち幅とび","ｿﾌﾄﾎﾞｰﾙ投げ"]
[null,1,{"$f":"COUNTIF(小5!M$150:M$269,計算式シート!$B248)","v":0},{"$f":"COUNTIF(小5!N$150:N$269,計算式シート!$B248)","v":0},{"$f":"COUNTIF(小5!O$150:O$269,計算式シート!$B248)","v":0},{"$f":"COUNTIF(小5!P$150:P$269,計算式シート!$B248)","v":0},{"$f":"COUNTIF(小5!Q$150:Q$269,計算式シート!$B248)","v":0},{"$f":"COUNTIF(小5!R$150:R$269,計算式シート!$B248)","v":0},{"$f":"COUNTIF(小5!S$150:S$269,計算式シート!$B248)","v":0},{"$f":"COUNTIF(小5!T$150:T$269,計算式シート!$B248)","v":0}]
[null,2,{"$f":"COUNTIF(小5!M$150:M$269,計算式シート!$B249)","v":0},{"$f":"COUNTIF(小5!N$150:N$269,計算式シート!$B249)","v":0},{"$f":"COUNTIF(小5!O$150:O$269,計算式シート!$B249)","v":0},{"$f":"COUNTIF(小5!P$150:P$269,計算式シート!$B249)","v":0},{"$f":"COUNTIF(小5!Q$150:Q$269,計算式シート!$B249)","v":0},{"$f":"COUNTIF(小5!R$150:R$269,計算式シート!$B249)","v":0},{"$f":"COUNTIF(小5!S$150:S$269,計算式シート!$B249)","v":0},{"$f":"COUNTIF(小5!T$150:T$269,計算式シート!$B249)","v":0}]
[null,3,{"$f":"COUNTIF(小5!M$150:M$269,計算式シート!$B250)","v":0},{"$f":"COUNTIF(小5!N$150:N$269,計算式シート!$B250)","v":0},{"$f":"COUNTIF(小5!O$150:O$269,計算式シート!$B250)","v":0},{"$f":"COUNTIF(小5!P$150:P$269,計算式シート!$B250)","v":0},{"$f":"COUNTIF(小5!Q$150:Q$269,計算式シート!$B250)","v":0},{"$f":"COUNTIF(小5!R$150:R$269,計算式シート!$B250)","v":0},{"$f":"COUNTIF(小5!S$150:S$269,計算式シート!$B250)","v":0},{"$f":"COUNTIF(小5!T$150:T$269,計算式シート!$B250)","v":0}]
[null,4,{"$f":"COUNTIF(小5!M$150:M$269,計算式シート!$B251)","v":0},{"$f":"COUNTIF(小5!N$150:N$269,計算式シート!$B251)","v":0},{"$f":"COUNTIF(小5!O$150:O$269,計算式シート!$B251)","v":0},{"$f":"COUNTIF(小5!P$150:P$269,計算式シート!$B251)","v":0},{"$f":"COUNTIF(小5!Q$150:Q$269,計算式シート!$B251)","v":0},{"$f":"COUNTIF(小5!R$150:R$269,計算式シート!$B251)","v":0},{"$f":"COUNTIF(小5!S$150:S$269,計算式シート!$B251)","v":0},{"$f":"COUNTIF(小5!T$150:T$269,計算式シート!$B251)","v":0}]
[null,5,{"$f":"COUNTIF(小5!M$150:M$269,計算式シート!$B252)","v":0},{"$f":"COUNTIF(小5!N$150:N$269,計算式シート!$B252)","v":0},{"$f":"COUNTIF(小5!O$150:O$269,計算式シート!$B252)","v":0},{"$f":"COUNTIF(小5!P$150:P$269,計算式シート!$B252)","v":0},{"$f":"COUNTIF(小5!Q$150:Q$269,計算式シート!$B252)","v":0},{"$f":"COUNTIF(小5!R$150:R$269,計算式シート!$B252)","v":0},{"$f":"COUNTIF(小5!S$150:S$269,計算式シート!$B252)","v":0},{"$f":"COUNTIF(小5!T$150:T$269,計算式シート!$B252)","v":0}]
[null,6,{"$f":"COUNTIF(小5!M$150:M$269,計算式シート!$B253)","v":0},{"$f":"COUNTIF(小5!N$150:N$269,計算式シート!$B253)","v":0},{"$f":"COUNTIF(小5!O$150:O$269,計算式シート!$B253)","v":0},{"$f":"COUNTIF(小5!P$150:P$269,計算式シート!$B253)","v":0},{"$f":"COUNTIF(小5!Q$150:Q$269,計算式シート!$B253)","v":0},{"$f":"COUNTIF(小5!R$150:R$269,計算式シート!$B253)","v":0},{"$f":"COUNTIF(小5!S$150:S$269,計算式シート!$B253)","v":0},{"$f":"COUNTIF(小5!T$150:T$269,計算式シート!$B253)","v":0}]
[null,7,{"$f":"COUNTIF(小5!M$150:M$269,計算式シート!$B254)","v":0},{"$f":"COUNTIF(小5!N$150:N$269,計算式シート!$B254)","v":0},{"$f":"COUNTIF(小5!O$150:O$269,計算式シート!$B254)","v":0},{"$f":"COUNTIF(小5!P$150:P$269,計算式シート!$B254)","v":0},{"$f":"COUNTIF(小5!Q$150:Q$269,計算式シート!$B254)","v":0},{"$f":"COUNTIF(小5!R$150:R$269,計算式シート!$B254)","v":0},{"$f":"COUNTIF(小5!S$150:S$269,計算式シート!$B254)","v":0},{"$f":"COUNTIF(小5!T$150:T$269,計算式シート!$B254)","v":0}]
[null,8,{"$f":"COUNTIF(小5!M$150:M$269,計算式シート!$B255)","v":0},{"$f":"COUNTIF(小5!N$150:N$269,計算式シート!$B255)","v":0},{"$f":"COUNTIF(小5!O$150:O$269,計算式シート!$B255)","v":0},{"$f":"COUNTIF(小5!P$150:P$269,計算式シート!$B255)","v":0},{"$f":"COUNTIF(小5!Q$150:Q$269,計算式シート!$B255)","v":0},{"$f":"COUNTIF(小5!R$150:R$269,計算式シート!$B255)","v":0},{"$f":"COUNTIF(小5!S$150:S$269,計算式シート!$B255)","v":0},{"$f":"COUNTIF(小5!T$150:T$269,計算式シート!$B255)","v":0}]
[null,9,{"$f":"COUNTIF(小5!M$150:M$269,計算式シート!$B256)","v":0},{"$f":"COUNTIF(小5!N$150:N$269,計算式シート!$B256)","v":0},{"$f":"COUNTIF(小5!O$150:O$269,計算式シート!$B256)","v":0},{"$f":"COUNTIF(小5!P$150:P$269,計算式シート!$B256)","v":0},{"$f":"COUNTIF(小5!Q$150:Q$269,計算式シート!$B256)","v":0},{"$f":"COUNTIF(小5!R$150:R$269,計算式シート!$B256)","v":0},{"$f":"COUNTIF(小5!S$150:S$269,計算式シート!$B256)","v":0},{"$f":"COUNTIF(小5!T$150:T$269,計算式シート!$B256)","v":0}]
[null,10,{"$f":"COUNTIF(小5!M$150:M$269,計算式シート!$B257)","v":0},{"$f":"COUNTIF(小5!N$150:N$269,計算式シート!$B257)","v":0},{"$f":"COUNTIF(小5!O$150:O$269,計算式シート!$B257)","v":0},{"$f":"COUNTIF(小5!P$150:P$269,計算式シート!$B257)","v":0},{"$f":"COUNTIF(小5!Q$150:Q$269,計算式シート!$B257)","v":0},{"$f":"COUNTIF(小5!R$150:R$269,計算式シート!$B257)","v":0},{"$f":"COUNTIF(小5!S$150:S$269,計算式シート!$B257)","v":0},{"$f":"COUNTIF(小5!T$150:T$269,計算式シート!$B257)","v":0}]
[null,"縦軸最大",{"$f":"IF(MAX(C248:C257)+1 >1, IF(MAX(C248:C257)+1>120, CEILING(MAX(C248:C257)+1, 50), IF(MAX(C248:C257)+1>100, CEILING(MAX(C248:C257)+1, 20), IF(MAX(C248:C257)+1>25, CEILING(MAX(C248:C257)+1, 10), IF(MAX(C248:C257)+1>18, CEILING(MAX(C248:C257)+1, 5), IF(MAX(C248:C257)+1>10, CEILING(MAX(C248:C257)+1, 3), IF(MAX(C248:C257)+1>5, CEILING(MAX(C248:C257)+1, 2), MAX(C248:C257)+1)))))), 1)","v":1},{"$f":"IF(MAX(D248:D257)+1 >1, IF(MAX(D248:D257)+1>120, CEILING(MAX(D248:D257)+1, 50), IF(MAX(D248:D257)+1>100, CEILING(MAX(D248:D257)+1, 20), IF(MAX(D248:D257)+1>25, CEILING(MAX(D248:D257)+1, 10), IF(MAX(D248:D257)+1>18, CEILING(MAX(D248:D257)+1, 5), IF(MAX(D248:D257)+1>10, CEILING(MAX(D248:D257)+1, 3), IF(MAX(D248:D257)+1>5, CEILING(MAX(D248:D257)+1, 2), MAX(D248:D257)+1)))))), 1)","v":1},{"$f":"IF(MAX(E248:E257)+1 >1, IF(MAX(E248:E257)+1>120, CEILING(MAX(E248:E257)+1, 50), IF(MAX(E248:E257)+1>100, CEILING(MAX(E248:E257)+1, 20), IF(MAX(E248:E257)+1>25, CEILING(MAX(E248:E257)+1, 10), IF(MAX(E248:E257)+1>18, CEILING(MAX(E248:E257)+1, 5), IF(MAX(E248:E257)+1>10, CEILING(MAX(E248:E257)+1, 3), IF(MAX(E248:E257)+1>5, CEILING(MAX(E248:E257)+1, 2), MAX(E248:E257)+1)))))), 1)","v":1},{"$f":"IF(MAX(F248:F257)+1 >1, IF(MAX(F248:F257)+1>120, CEILING(MAX(F248:F257)+1, 50), IF(MAX(F248:F257)+1>100, CEILING(MAX(F248:F257)+1, 20), IF(MAX(F248:F257)+1>25, CEILING(MAX(F248:F257)+1, 10), IF(MAX(F248:F257)+1>18, CEILING(MAX(F248:F257)+1, 5), IF(MAX(F248:F257)+1>10, CEILING(MAX(F248:F257)+1, 3), IF(MAX(F248:F257)+1>5, CEILING(MAX(F248:F257)+1, 2), MAX(F248:F257)+1)))))), 1)","v":1},{"$f":"IF(MAX(G248:G257)+1 >1, IF(MAX(G248:G257)+1>120, CEILING(MAX(G248:G257)+1, 50), IF(MAX(G248:G257)+1>100, CEILING(MAX(G248:G257)+1, 20), IF(MAX(G248:G257)+1>25, CEILING(MAX(G248:G257)+1, 10), IF(MAX(G248:G257)+1>18, CEILING(MAX(G248:G257)+1, 5), IF(MAX(G248:G257)+1>10, CEILING(MAX(G248:G257)+1, 3), IF(MAX(G248:G257)+1>5, CEILING(MAX(G248:G257)+1, 2), MAX(G248:G257)+1)))))), 1)","v":1},{"$f":"IF(MAX(H248:H257)+1 >1, IF(MAX(H248:H257)+1>120, CEILING(MAX(H248:H257)+1, 50), IF(MAX(H248:H257)+1>100, CEILING(MAX(H248:H257)+1, 20), IF(MAX(H248:H257)+1>25, CEILING(MAX(H248:H257)+1, 10), IF(MAX(H248:H257)+1>18, CEILING(MAX(H248:H257)+1, 5), IF(MAX(H248:H257)+1>10, CEILING(MAX(H248:H257)+1, 3), IF(MAX(H248:H257)+1>5, CEILING(MAX(H248:H257)+1, 2), MAX(H248:H257)+1)))))), 1)","v":1},{"$f":"IF(MAX(I248:I257)+1 >1, IF(MAX(I248:I257)+1>120, CEILING(MAX(I248:I257)+1, 50), IF(MAX(I248:I257)+1>100, CEILING(MAX(I248:I257)+1, 20), IF(MAX(I248:I257)+1>25, CEILING(MAX(I248:I257)+1, 10), IF(MAX(I248:I257)+1>18, CEILING(MAX(I248:I257)+1, 5), IF(MAX(I248:I257)+1>10, CEILING(MAX(I248:I257)+1, 3), IF(MAX(I248:I257)+1>5, CEILING(MAX(I248:I257)+1, 2), MAX(I248:I257)+1)))))), 1)","v":1},{"$f":"IF(MAX(J248:J257)+1 >1, IF(MAX(J248:J257)+1>120, CEILING(MAX(J248:J257)+1, 50), IF(MAX(J248:J257)+1>100, CEILING(MAX(J248:J257)+1, 20), IF(MAX(J248:J257)+1>25, CEILING(MAX(J248:J257)+1, 10), IF(MAX(J248:J257)+1>18, CEILING(MAX(J248:J257)+1, 5), IF(MAX(J248:J257)+1>10, CEILING(MAX(J248:J257)+1, 3), IF(MAX(J248:J257)+1>5, CEILING(MAX(J248:J257)+1, 2), MAX(J248:J257)+1)))))), 1)","v":1}]
[null,"縦軸間隔",{"$f":"IF(C258 >1, IF(C258 >=250, 50, IF(C258 >=200, 40, IF(C258 >=150, 30, IF(C258 >=100, 20, IF(C258 >=50, 10, IF(C258 >=20, 5, IF(C258 >=15, 3, IF(C258 >=8, 2, 1)))))))),1)","v":1},{"$f":"IF(D258 >1, IF(D258 >=250, 50, IF(D258 >=200, 40, IF(D258 >=150, 30, IF(D258 >=100, 20, IF(D258 >=50, 10, IF(D258 >=20, 5, IF(D258 >=15, 3, IF(D258 >=8, 2, 1)))))))),1)","v":1},1,1,1,1,1,1]
[]
[null,"６年男子"]
[null,"得点","握力","上体起こし","長座体前屈","反復横とび","20mシャトルラン","５０ｍ走","立ち幅とび","ｿﾌﾄﾎﾞｰﾙ投げ"]
[null,1,{"$f":"COUNTIF(小6!S$21:S$140,計算式シート!$B263)","v":0},{"$f":"COUNTIF(小6!T$21:T$140,計算式シート!$B263)","v":0},{"$f":"COUNTIF(小6!U$21:U$140,計算式シート!$B263)","v":0},{"$f":"COUNTIF(小6!V$21:V$140,計算式シート!$B263)","v":0},{"$f":"COUNTIF(小6!W$21:W$140,計算式シート!$B263)","v":0},{"$f":"COUNTIF(小6!X$21:X$140,計算式シート!$B263)","v":0},{"$f":"COUNTIF(小6!Y$21:Y$140,計算式シート!$B263)","v":0},{"$f":"COUNTIF(小6!Z$21:Z$140,計算式シート!$B263)","v":0}]
[null,2,{"$f":"COUNTIF(小6!S$21:S$140,計算式シート!$B264)","v":0},{"$f":"COUNTIF(小6!T$21:T$140,計算式シート!$B264)","v":0},{"$f":"COUNTIF(小6!U$21:U$140,計算式シート!$B264)","v":0},{"$f":"COUNTIF(小6!V$21:V$140,計算式シート!$B264)","v":0},{"$f":"COUNTIF(小6!W$21:W$140,計算式シート!$B264)","v":0},{"$f":"COUNTIF(小6!X$21:X$140,計算式シート!$B264)","v":0},{"$f":"COUNTIF(小6!Y$21:Y$140,計算式シート!$B264)","v":0},{"$f":"COUNTIF(小6!Z$21:Z$140,計算式シート!$B264)","v":0}]
[null,3,{"$f":"COUNTIF(小6!S$21:S$140,計算式シート!$B265)","v":0},{"$f":"COUNTIF(小6!T$21:T$140,計算式シート!$B265)","v":0},{"$f":"COUNTIF(小6!U$21:U$140,計算式シート!$B265)","v":0},{"$f":"COUNTIF(小6!V$21:V$140,計算式シート!$B265)","v":0},{"$f":"COUNTIF(小6!W$21:W$140,計算式シート!$B265)","v":0},{"$f":"COUNTIF(小6!X$21:X$140,計算式シート!$B265)","v":0},{"$f":"COUNTIF(小6!Y$21:Y$140,計算式シート!$B265)","v":0},{"$f":"COUNTIF(小6!Z$21:Z$140,計算式シート!$B265)","v":0}]
[null,4,{"$f":"COUNTIF(小6!S$21:S$140,計算式シート!$B266)","v":0},{"$f":"COUNTIF(小6!T$21:T$140,計算式シート!$B266)","v":0},{"$f":"COUNTIF(小6!U$21:U$140,計算式シート!$B266)","v":0},{"$f":"COUNTIF(小6!V$21:V$140,計算式シート!$B266)","v":0},{"$f":"COUNTIF(小6!W$21:W$140,計算式シート!$B266)","v":0},{"$f":"COUNTIF(小6!X$21:X$140,計算式シート!$B266)","v":0},{"$f":"COUNTIF(小6!Y$21:Y$140,計算式シート!$B266)","v":0},{"$f":"COUNTIF(小6!Z$21:Z$140,計算式シート!$B266)","v":0}]
[null,5,{"$f":"COUNTIF(小6!S$21:S$140,計算式シート!$B267)","v":0},{"$f":"COUNTIF(小6!T$21:T$140,計算式シート!$B267)","v":0},{"$f":"COUNTIF(小6!U$21:U$140,計算式シート!$B267)","v":0},{"$f":"COUNTIF(小6!V$21:V$140,計算式シート!$B267)","v":0},{"$f":"COUNTIF(小6!W$21:W$140,計算式シート!$B267)","v":0},{"$f":"COUNTIF(小6!X$21:X$140,計算式シート!$B267)","v":0},{"$f":"COUNTIF(小6!Y$21:Y$140,計算式シート!$B267)","v":0},{"$f":"COUNTIF(小6!Z$21:Z$140,計算式シート!$B267)","v":0}]
[null,6,{"$f":"COUNTIF(小6!S$21:S$140,計算式シート!$B268)","v":0},{"$f":"COUNTIF(小6!T$21:T$140,計算式シート!$B268)","v":0},{"$f":"COUNTIF(小6!U$21:U$140,計算式シート!$B268)","v":0},{"$f":"COUNTIF(小6!V$21:V$140,計算式シート!$B268)","v":0},{"$f":"COUNTIF(小6!W$21:W$140,計算式シート!$B268)","v":0},{"$f":"COUNTIF(小6!X$21:X$140,計算式シート!$B268)","v":0},{"$f":"COUNTIF(小6!Y$21:Y$140,計算式シート!$B268)","v":0},{"$f":"COUNTIF(小6!Z$21:Z$140,計算式シート!$B268)","v":0}]
[null,7,{"$f":"COUNTIF(小6!S$21:S$140,計算式シート!$B269)","v":0},{"$f":"COUNTIF(小6!T$21:T$140,計算式シート!$B269)","v":0},{"$f":"COUNTIF(小6!U$21:U$140,計算式シート!$B269)","v":0},{"$f":"COUNTIF(小6!V$21:V$140,計算式シート!$B269)","v":0},{"$f":"COUNTIF(小6!W$21:W$140,計算式シート!$B269)","v":0},{"$f":"COUNTIF(小6!X$21:X$140,計算式シート!$B269)","v":0},{"$f":"COUNTIF(小6!Y$21:Y$140,計算式シート!$B269)","v":0},{"$f":"COUNTIF(小6!Z$21:Z$140,計算式シート!$B269)","v":0}]
[null,8,{"$f":"COUNTIF(小6!S$21:S$140,計算式シート!$B270)","v":0},{"$f":"COUNTIF(小6!T$21:T$140,計算式シート!$B270)","v":0},{"$f":"COUNTIF(小6!U$21:U$140,計算式シート!$B270)","v":0},{"$f":"COUNTIF(小6!V$21:V$140,計算式シート!$B270)","v":0},{"$f":"COUNTIF(小6!W$21:W$140,計算式シート!$B270)","v":0},{"$f":"COUNTIF(小6!X$21:X$140,計算式シート!$B270)","v":0},{"$f":"COUNTIF(小6!Y$21:Y$140,計算式シート!$B270)","v":0},{"$f":"COUNTIF(小6!Z$21:Z$140,計算式シート!$B270)","v":0}]
[null,9,{"$f":"COUNTIF(小6!S$21:S$140,計算式シート!$B271)","v":0},{"$f":"COUNTIF(小6!T$21:T$140,計算式シート!$B271)","v":0},{"$f":"COUNTIF(小6!U$21:U$140,計算式シート!$B271)","v":0},{"$f":"COUNTIF(小6!V$21:V$140,計算式シート!$B271)","v":0},{"$f":"COUNTIF(小6!W$21:W$140,計算式シート!$B271)","v":0},{"$f":"COUNTIF(小6!X$21:X$140,計算式シート!$B271)","v":0},{"$f":"COUNTIF(小6!Y$21:Y$140,計算式シート!$B271)","v":0},{"$f":"COUNTIF(小6!Z$21:Z$140,計算式シート!$B271)","v":0}]
[null,10,{"$f":"COUNTIF(小6!S$21:S$140,計算式シート!$B272)","v":0},{"$f":"COUNTIF(小6!T$21:T$140,計算式シート!$B272)","v":0},{"$f":"COUNTIF(小6!U$21:U$140,計算式シート!$B272)","v":0},{"$f":"COUNTIF(小6!V$21:V$140,計算式シート!$B272)","v":0},{"$f":"COUNTIF(小6!W$21:W$140,計算式シート!$B272)","v":0},{"$f":"COUNTIF(小6!X$21:X$140,計算式シート!$B272)","v":0},{"$f":"COUNTIF(小6!Y$21:Y$140,計算式シート!$B272)","v":0},{"$f":"COUNTIF(小6!Z$21:Z$140,計算式シート!$B272)","v":0}]
[null,"縦軸最大",{"$f":"IF(MAX(C263:C272)+1 >1, IF(MAX(C263:C272)+1>120, CEILING(MAX(C263:C272)+1, 50), IF(MAX(C263:C272)+1>100, CEILING(MAX(C263:C272)+1, 20), IF(MAX(C263:C272)+1>25, CEILING(MAX(C263:C272)+1, 10), IF(MAX(C263:C272)+1>18, CEILING(MAX(C263:C272)+1, 5), IF(MAX(C263:C272)+1>10, CEILING(MAX(C263:C272)+1, 3), IF(MAX(C263:C272)+1>5, CEILING(MAX(C263:C272)+1, 2), MAX(C263:C272)+1)))))), 1)","v":1},{"$f":"IF(MAX(D263:D272)+1 >1, IF(MAX(D263:D272)+1>120, CEILING(MAX(D263:D272)+1, 50), IF(MAX(D263:D272)+1>100, CEILING(MAX(D263:D272)+1, 20), IF(MAX(D263:D272)+1>25, CEILING(MAX(D263:D272)+1, 10), IF(MAX(D263:D272)+1>18, CEILING(MAX(D263:D272)+1, 5), IF(MAX(D263:D272)+1>10, CEILING(MAX(D263:D272)+1, 3), IF(MAX(D263:D272)+1>5, CEILING(MAX(D263:D272)+1, 2), MAX(D263:D272)+1)))))), 1)","v":1},{"$f":"IF(MAX(E263:E272)+1 >1, IF(MAX(E263:E272)+1>120, CEILING(MAX(E263:E272)+1, 50), IF(MAX(E263:E272)+1>100, CEILING(MAX(E263:E272)+1, 20), IF(MAX(E263:E272)+1>25, CEILING(MAX(E263:E272)+1, 10), IF(MAX(E263:E272)+1>18, CEILING(MAX(E263:E272)+1, 5), IF(MAX(E263:E272)+1>10, CEILING(MAX(E263:E272)+1, 3), IF(MAX(E263:E272)+1>5, CEILING(MAX(E263:E272)+1, 2), MAX(E263:E272)+1)))))), 1)","v":1},{"$f":"IF(MAX(F263:F272)+1 >1, IF(MAX(F263:F272)+1>120, CEILING(MAX(F263:F272)+1, 50), IF(MAX(F263:F272)+1>100, CEILING(MAX(F263:F272)+1, 20), IF(MAX(F263:F272)+1>25, CEILING(MAX(F263:F272)+1, 10), IF(MAX(F263:F272)+1>18, CEILING(MAX(F263:F272)+1, 5), IF(MAX(F263:F272)+1>10, CEILING(MAX(F263:F272)+1, 3), IF(MAX(F263:F272)+1>5, CEILING(MAX(F263:F272)+1, 2), MAX(F263:F272)+1)))))), 1)","v":1},{"$f":"IF(MAX(G263:G272)+1 >1, IF(MAX(G263:G272)+1>120, CEILING(MAX(G263:G272)+1, 50), IF(MAX(G263:G272)+1>100, CEILING(MAX(G263:G272)+1, 20), IF(MAX(G263:G272)+1>25, CEILING(MAX(G263:G272)+1, 10), IF(MAX(G263:G272)+1>18, CEILING(MAX(G263:G272)+1, 5), IF(MAX(G263:G272)+1>10, CEILING(MAX(G263:G272)+1, 3), IF(MAX(G263:G272)+1>5, CEILING(MAX(G263:G272)+1, 2), MAX(G263:G272)+1)))))), 1)","v":1},{"$f":"IF(MAX(H263:H272)+1 >1, IF(MAX(H263:H272)+1>120, CEILING(MAX(H263:H272)+1, 50), IF(MAX(H263:H272)+1>100, CEILING(MAX(H263:H272)+1, 20), IF(MAX(H263:H272)+1>25, CEILING(MAX(H263:H272)+1, 10), IF(MAX(H263:H272)+1>18, CEILING(MAX(H263:H272)+1, 5), IF(MAX(H263:H272)+1>10, CEILING(MAX(H263:H272)+1, 3), IF(MAX(H263:H272)+1>5, CEILING(MAX(H263:H272)+1, 2), MAX(H263:H272)+1)))))), 1)","v":1},{"$f":"IF(MAX(I263:I272)+1 >1, IF(MAX(I263:I272)+1>120, CEILING(MAX(I263:I272)+1, 50), IF(MAX(I263:I272)+1>100, CEILING(MAX(I263:I272)+1, 20), IF(MAX(I263:I272)+1>25, CEILING(MAX(I263:I272)+1, 10), IF(MAX(I263:I272)+1>18, CEILING(MAX(I263:I272)+1, 5), IF(MAX(I263:I272)+1>10, CEILING(MAX(I263:I272)+1, 3), IF(MAX(I263:I272)+1>5, CEILING(MAX(I263:I272)+1, 2), MAX(I263:I272)+1)))))), 1)","v":1},{"$f":"IF(MAX(J263:J272)+1 >1, IF(MAX(J263:J272)+1>120, CEILING(MAX(J263:J272)+1, 50), IF(MAX(J263:J272)+1>100, CEILING(MAX(J263:J272)+1, 20), IF(MAX(J263:J272)+1>25, CEILING(MAX(J263:J272)+1, 10), IF(MAX(J263:J272)+1>18, CEILING(MAX(J263:J272)+1, 5), IF(MAX(J263:J272)+1>10, CEILING(MAX(J263:J272)+1, 3), IF(MAX(J263:J272)+1>5, CEILING(MAX(J263:J272)+1, 2), MAX(J263:J272)+1)))))), 1)","v":1}]
[null,"縦軸間隔",{"$f":"IF(C273 >1, IF(C273 >=250, 50, IF(C273 >=200, 40, IF(C273 >=150, 30, IF(C273 >=100, 20, IF(C273 >=50, 10, IF(C273 >=20, 5, IF(C273 >=15, 3, IF(C273 >=8, 2, 1)))))))),1)","v":1},{"$f":"IF(D273 >1, IF(D273 >=250, 50, IF(D273 >=200, 40, IF(D273 >=150, 30, IF(D273 >=100, 20, IF(D273 >=50, 10, IF(D273 >=20, 5, IF(D273 >=15, 3, IF(D273 >=8, 2, 1)))))))),1)","v":1},1,1,1,1,1,1]
[]
[null,"６年女子"]
[null,"得点","握力","上体起こし","長座体前屈","反復横とび","20mシャトルラン","５０ｍ走","立ち幅とび","ｿﾌﾄﾎﾞｰﾙ投げ"]
[null,1,{"$f":"COUNTIF(小6!S$150:S$269,計算式シート!$B278)","v":0},{"$f":"COUNTIF(小6!T$150:T$269,計算式シート!$B278)","v":0},{"$f":"COUNTIF(小6!U$150:U$269,計算式シート!$B278)","v":0},{"$f":"COUNTIF(小6!V$150:V$269,計算式シート!$B278)","v":0},{"$f":"COUNTIF(小6!W$150:W$269,計算式シート!$B278)","v":0},{"$f":"COUNTIF(小6!X$150:X$269,計算式シート!$B278)","v":0},{"$f":"COUNTIF(小6!Y$150:Y$269,計算式シート!$B278)","v":0},{"$f":"COUNTIF(小6!Z$150:Z$269,計算式シート!$B278)","v":0}]
[null,2,{"$f":"COUNTIF(小6!S$150:S$269,計算式シート!$B279)","v":0},{"$f":"COUNTIF(小6!T$150:T$269,計算式シート!$B279)","v":0},{"$f":"COUNTIF(小6!U$150:U$269,計算式シート!$B279)","v":0},{"$f":"COUNTIF(小6!V$150:V$269,計算式シート!$B279)","v":0},{"$f":"COUNTIF(小6!W$150:W$269,計算式シート!$B279)","v":0},{"$f":"COUNTIF(小6!X$150:X$269,計算式シート!$B279)","v":0},{"$f":"COUNTIF(小6!Y$150:Y$269,計算式シート!$B279)","v":0},{"$f":"COUNTIF(小6!Z$150:Z$269,計算式シート!$B279)","v":0}]
[null,3,{"$f":"COUNTIF(小6!S$150:S$269,計算式シート!$B280)","v":0},{"$f":"COUNTIF(小6!T$150:T$269,計算式シート!$B280)","v":0},{"$f":"COUNTIF(小6!U$150:U$269,計算式シート!$B280)","v":0},{"$f":"COUNTIF(小6!V$150:V$269,計算式シート!$B280)","v":0},{"$f":"COUNTIF(小6!W$150:W$269,計算式シート!$B280)","v":0},{"$f":"COUNTIF(小6!X$150:X$269,計算式シート!$B280)","v":0},{"$f":"COUNTIF(小6!Y$150:Y$269,計算式シート!$B280)","v":0},{"$f":"COUNTIF(小6!Z$150:Z$269,計算式シート!$B280)","v":0}]
[null,4,{"$f":"COUNTIF(小6!S$150:S$269,計算式シート!$B281)","v":0},{"$f":"COUNTIF(小6!T$150:T$269,計算式シート!$B281)","v":0},{"$f":"COUNTIF(小6!U$150:U$269,計算式シート!$B281)","v":0},{"$f":"COUNTIF(小6!V$150:V$269,計算式シート!$B281)","v":0},{"$f":"COUNTIF(小6!W$150:W$269,計算式シート!$B281)","v":0},{"$f":"COUNTIF(小6!X$150:X$269,計算式シート!$B281)","v":0},{"$f":"COUNTIF(小6!Y$150:Y$269,計算式シート!$B281)","v":0},{"$f":"COUNTIF(小6!Z$150:Z$269,計算式シート!$B281)","v":0}]
[null,5,{"$f":"COUNTIF(小6!S$150:S$269,計算式シート!$B282)","v":0},{"$f":"COUNTIF(小6!T$150:T$269,計算式シート!$B282)","v":0},{"$f":"COUNTIF(小6!U$150:U$269,計算式シート!$B282)","v":0},{"$f":"COUNTIF(小6!V$150:V$269,計算式シート!$B282)","v":0},{"$f":"COUNTIF(小6!W$150:W$269,計算式シート!$B282)","v":0},{"$f":"COUNTIF(小6!X$150:X$269,計算式シート!$B282)","v":0},{"$f":"COUNTIF(小6!Y$150:Y$269,計算式シート!$B282)","v":0},{"$f":"COUNTIF(小6!Z$150:Z$269,計算式シート!$B282)","v":0}]
[null,6,{"$f":"COUNTIF(小6!S$150:S$269,計算式シート!$B283)","v":0},{"$f":"COUNTIF(小6!T$150:T$269,計算式シート!$B283)","v":0},{"$f":"COUNTIF(小6!U$150:U$269,計算式シート!$B283)","v":0},{"$f":"COUNTIF(小6!V$150:V$269,計算式シート!$B283)","v":0},{"$f":"COUNTIF(小6!W$150:W$269,計算式シート!$B283)","v":0},{"$f":"COUNTIF(小6!X$150:X$269,計算式シート!$B283)","v":0},{"$f":"COUNTIF(小6!Y$150:Y$269,計算式シート!$B283)","v":0},{"$f":"COUNTIF(小6!Z$150:Z$269,計算式シート!$B283)","v":0}]
[null,7,{"$f":"COUNTIF(小6!S$150:S$269,計算式シート!$B284)","v":0},{"$f":"COUNTIF(小6!T$150:T$269,計算式シート!$B284)","v":0},{"$f":"COUNTIF(小6!U$150:U$269,計算式シート!$B284)","v":0},{"$f":"COUNTIF(小6!V$150:V$269,計算式シート!$B284)","v":0},{"$f":"COUNTIF(小6!W$150:W$269,計算式シート!$B284)","v":0},{"$f":"COUNTIF(小6!X$150:X$269,計算式シート!$B284)","v":0},{"$f":"COUNTIF(小6!Y$150:Y$269,計算式シート!$B284)","v":0},{"$f":"COUNTIF(小6!Z$150:Z$269,計算式シート!$B284)","v":0}]
[null,8,{"$f":"COUNTIF(小6!S$150:S$269,計算式シート!$B285)","v":0},{"$f":"COUNTIF(小6!T$150:T$269,計算式シート!$B285)","v":0},{"$f":"COUNTIF(小6!U$150:U$269,計算式シート!$B285)","v":0},{"$f":"COUNTIF(小6!V$150:V$269,計算式シート!$B285)","v":0},{"$f":"COUNTIF(小6!W$150:W$269,計算式シート!$B285)","v":0},{"$f":"COUNTIF(小6!X$150:X$269,計算式シート!$B285)","v":0},{"$f":"COUNTIF(小6!Y$150:Y$269,計算式シート!$B285)","v":0},{"$f":"COUNTIF(小6!Z$150:Z$269,計算式シート!$B285)","v":0}]
[null,9,{"$f":"COUNTIF(小6!S$150:S$269,計算式シート!$B286)","v":0},{"$f":"COUNTIF(小6!T$150:T$269,計算式シート!$B286)","v":0},{"$f":"COUNTIF(小6!U$150:U$269,計算式シート!$B286)","v":0},{"$f":"COUNTIF(小6!V$150:V$269,計算式シート!$B286)","v":0},{"$f":"COUNTIF(小6!W$150:W$269,計算式シート!$B286)","v":0},{"$f":"COUNTIF(小6!X$150:X$269,計算式シート!$B286)","v":0},{"$f":"COUNTIF(小6!Y$150:Y$269,計算式シート!$B286)","v":0},{"$f":"COUNTIF(小6!Z$150:Z$269,計算式シート!$B286)","v":0}]
[null,10,{"$f":"COUNTIF(小6!S$150:S$269,計算式シート!$B287)","v":0},{"$f":"COUNTIF(小6!T$150:T$269,計算式シート!$B287)","v":0},{"$f":"COUNTIF(小6!U$150:U$269,計算式シート!$B287)","v":0},{"$f":"COUNTIF(小6!V$150:V$269,計算式シート!$B287)","v":0},{"$f":"COUNTIF(小6!W$150:W$269,計算式シート!$B287)","v":0},{"$f":"COUNTIF(小6!X$150:X$269,計算式シート!$B287)","v":0},{"$f":"COUNTIF(小6!Y$150:Y$269,計算式シート!$B287)","v":0},{"$f":"COUNTIF(小6!Z$150:Z$269,計算式シート!$B287)","v":0}]
[null,"縦軸最大",{"$f":"IF(MAX(C278:C287)+1 >1, IF(MAX(C278:C287)+1>120, CEILING(MAX(C278:C287)+1, 50), IF(MAX(C278:C287)+1>100, CEILING(MAX(C278:C287)+1, 20), IF(MAX(C278:C287)+1>25, CEILING(MAX(C278:C287)+1, 10), IF(MAX(C278:C287)+1>18, CEILING(MAX(C278:C287)+1, 5), IF(MAX(C278:C287)+1>10, CEILING(MAX(C278:C287)+1, 3), IF(MAX(C278:C287)+1>5, CEILING(MAX(C278:C287)+1, 2), MAX(C278:C287)+1)))))), 1)","v":1},{"$f":"IF(MAX(D278:D287)+1 >1, IF(MAX(D278:D287)+1>120, CEILING(MAX(D278:D287)+1, 50), IF(MAX(D278:D287)+1>100, CEILING(MAX(D278:D287)+1, 20), IF(MAX(D278:D287)+1>25, CEILING(MAX(D278:D287)+1, 10), IF(MAX(D278:D287)+1>18, CEILING(MAX(D278:D287)+1, 5), IF(MAX(D278:D287)+1>10, CEILING(MAX(D278:D287)+1, 3), IF(MAX(D278:D287)+1>5, CEILING(MAX(D278:D287)+1, 2), MAX(D278:D287)+1)))))), 1)","v":1},{"$f":"IF(MAX(E278:E287)+1 >1, IF(MAX(E278:E287)+1>120, CEILING(MAX(E278:E287)+1, 50), IF(MAX(E278:E287)+1>100, CEILING(MAX(E278:E287)+1, 20), IF(MAX(E278:E287)+1>25, CEILING(MAX(E278:E287)+1, 10), IF(MAX(E278:E287)+1>18, CEILING(MAX(E278:E287)+1, 5), IF(MAX(E278:E287)+1>10, CEILING(MAX(E278:E287)+1, 3), IF(MAX(E278:E287)+1>5, CEILING(MAX(E278:E287)+1, 2), MAX(E278:E287)+1)))))), 1)","v":1},{"$f":"IF(MAX(F278:F287)+1 >1, IF(MAX(F278:F287)+1>120, CEILING(MAX(F278:F287)+1, 50), IF(MAX(F278:F287)+1>100, CEILING(MAX(F278:F287)+1, 20), IF(MAX(F278:F287)+1>25, CEILING(MAX(F278:F287)+1, 10), IF(MAX(F278:F287)+1>18, CEILING(MAX(F278:F287)+1, 5), IF(MAX(F278:F287)+1>10, CEILING(MAX(F278:F287)+1, 3), IF(MAX(F278:F287)+1>5, CEILING(MAX(F278:F287)+1, 2), MAX(F278:F287)+1)))))), 1)","v":1},{"$f":"IF(MAX(G278:G287)+1 >1, IF(MAX(G278:G287)+1>120, CEILING(MAX(G278:G287)+1, 50), IF(MAX(G278:G287)+1>100, CEILING(MAX(G278:G287)+1, 20), IF(MAX(G278:G287)+1>25, CEILING(MAX(G278:G287)+1, 10), IF(MAX(G278:G287)+1>18, CEILING(MAX(G278:G287)+1, 5), IF(MAX(G278:G287)+1>10, CEILING(MAX(G278:G287)+1, 3), IF(MAX(G278:G287)+1>5, CEILING(MAX(G278:G287)+1, 2), MAX(G278:G287)+1)))))), 1)","v":1},{"$f":"IF(MAX(H278:H287)+1 >1, IF(MAX(H278:H287)+1>120, CEILING(MAX(H278:H287)+1, 50), IF(MAX(H278:H287)+1>100, CEILING(MAX(H278:H287)+1, 20), IF(MAX(H278:H287)+1>25, CEILING(MAX(H278:H287)+1, 10), IF(MAX(H278:H287)+1>18, CEILING(MAX(H278:H287)+1, 5), IF(MAX(H278:H287)+1>10, CEILING(MAX(H278:H287)+1, 3), IF(MAX(H278:H287)+1>5, CEILING(MAX(H278:H287)+1, 2), MAX(H278:H287)+1)))))), 1)","v":1},{"$f":"IF(MAX(I278:I287)+1 >1, IF(MAX(I278:I287)+1>120, CEILING(MAX(I278:I287)+1, 50), IF(MAX(I278:I287)+1>100, CEILING(MAX(I278:I287)+1, 20), IF(MAX(I278:I287)+1>25, CEILING(MAX(I278:I287)+1, 10), IF(MAX(I278:I287)+1>18, CEILING(MAX(I278:I287)+1, 5), IF(MAX(I278:I287)+1>10, CEILING(MAX(I278:I287)+1, 3), IF(MAX(I278:I287)+1>5, CEILING(MAX(I278:I287)+1, 2), MAX(I278:I287)+1)))))), 1)","v":1},{"$f":"IF(MAX(J278:J287)+1 >1, IF(MAX(J278:J287)+1>120, CEILING(MAX(J278:J287)+1, 50), IF(MAX(J278:J287)+1>100, CEILING(MAX(J278:J287)+1, 20), IF(MAX(J278:J287)+1>25, CEILING(MAX(J278:J287)+1, 10), IF(MAX(J278:J287)+1>18, CEILING(MAX(J278:J287)+1, 5), IF(MAX(J278:J287)+1>10, CEILING(MAX(J278:J287)+1, 3), IF(MAX(J278:J287)+1>5, CEILING(MAX(J278:J287)+1, 2), MAX(J278:J287)+1)))))), 1)","v":1}]
[null,"縦軸間隔",{"$f":"IF(C288 >1, IF(C288 >=250, 50, IF(C288 >=200, 40, IF(C288 >=150, 30, IF(C288 >=100, 20, IF(C288 >=50, 10, IF(C288 >=20, 5, IF(C288 >=15, 3, IF(C288 >=8, 2, 1)))))))),1)","v":1},{"$f":"IF(D288 >1, IF(D288 >=250, 50, IF(D288 >=200, 40, IF(D288 >=150, 30, IF(D288 >=100, 20, IF(D288 >=50, 10, IF(D288 >=20, 5, IF(D288 >=15, 3, IF(D288 >=8, 2, 1)))))))),1)","v":1},1,1,1,1,1,1]

{"sheet":"判定式","index":12,"n_rows":19,"n_cols":26,"rows_kept":19,"cut":false,"hidden":false,"merged":[]}
[]
[null,"小学生\n男子","握力","上体","前屈","横とび","幅とび","ソフト","20m","得点",null,"50m","得点",null,"小学生\n女子","握力","上体","前屈","横とび","幅とび","ソフト","20m","得点",null,"50m","得点"]
[null,null,0,0,0,0,0,0,0,1,null,0,10,null,null,0,0,0,0,0,0,0,1,null,0,10]
[null,null,5,3,15,18,93,5,8,2,null,8.1,9,null,null,4,3,18,17,85,4,8,2,null,8.4,9]
[null,null,7,6,19,22,105,7,10,3,null,8.5,8,null,null,7,6,21,21,98,5,10,3,null,8.8000000000000007,8]
[null,null,9,9,23,26,117,10,15,4,null,8.9,7,null,null,9,9,25,25,109,6,14,4,null,9.1999999999999993,7]
[null,null,11,12,27,30,130,13,23,5,null,9.4,6,null,null,11,12,29,28,121,8,19,5,null,9.6999999999999993,6]
[null,null,14,15,30,34,143,18,33,6,null,10,5,null,null,13,14,33,32,134,11,26,6,null,10.3,5]
[null,null,17,18,34,38,156,24,45,7,null,10.7,4,null,null,16,16,37,36,147,14,35,7,null,11,4]
[null,null,20,20,38,42,168,30,57,8,null,11.5,3,null,null,19,18,41,40,160,17,44,8,null,11.7,3]
[null,null,23,23,43,46,180,35,69,9,null,12.3,2,null,null,22,20,46,43,170,21,54,9,null,12.5,2]
[null,null,26,26,49,50,192,40,80,10,null,13.1,1,null,null,25,23,52,47,181,25,64,10,null,13.3,1]
[]
[null,"小学生","6歳","7歳","8歳","9歳","10歳","11歳","評価"]
[null,"総合評価",0,0,0,0,0,0,"E"]
[null,null,22,27,32,38,42,46,"D"]
[null,null,27,34,39,45,50,55,"C"]
[null,null,33,41,46,52,58,63,"B"]
[null,null,39,47,53,59,65,71,"A"]