{"text_format":"1","workbook":"xlsx","n_sheets":6,"sheets":["001別紙様式２","002添付書類１","003添付書類２","004添付書類３","005リスト","006各シート集約"],"not_rendered":{"charts":0,"images":0,"macros":1,"external_links":0,"defined_names":8,"comments":3,"pivot_tables":0},"unopened":[],"bounds":{"document_bytes":16777216,"sheet_cells":100000,"rows_first":2000,"rows_last":500,"rows_between":2000,"halvings":0,"cell_chars":16384,"cell_head_chars":4096},"cells_cut":0,"cells_raw":0,"read":"whole","date_system":"1900"}

{"sheet":"001別紙様式２","index":0,"n_rows":106,"n_cols":24,"rows_kept":106,"cut":false,"hidden":false,"merged":[[13,6,13,11],[14,6,14,13],[33,13,33,21],[32,13,32,21],[30,3,30,12],[102,0,102,22],[95,0,96,2],[97,0,98,2],[104,8,104,9],[70,0,74,2],[75,0,83,2],[84,0,90,2],[73,4,73,22],[100,0,100,22],[48,1,48,7],[44,1,44,12],[66,0,66,22],[67,0,67,22],[49,1,49,22],[58,0,58,22],[57,0,57,22],[62,0,62,22],[61,0,61,22],[50,1,55,7],[105,8,105,9],[104,10,104,20],[105,10,105,20],[0,8,2,22],[20,16,20,17],[21,16,21,17],[39,13,39,16],[39,18,39,21],[42,13,42,21],[41,13,41,21],[40,13,40,21],[43,13,43,16],[43,18,43,21],[22,16,22,17],[15,6,15,13],[13,14,13,22],[14,16,15,22],[19,14,19,22],[38,18,38,21],[14,14,15,15],[68,0,69,22],[64,0,64,22],[63,0,63,22],[70,4,70,22],[50,8,50,22],[51,8,51,22],[52,8,52,22],[53,8,53,22],[54,8,54,22],[55,8,55,22],[59,0,60,22],[17,4,18,6],[17,7,18,7],[31,13,31,21],[30,13,30,21],[34,18,34,21],[34,13,34,16],[37,13,37,21],[36,13,36,21],[35,13,35,21],[19,6,19,11],[35,1,35,12],[34,1,34,12],[26,20,26,22],[26,8,26,14],[27,20,27,22],[27,8,27,14],[28,8,28,9],[3,0,3,3],[19,4,19,5],[13,12,13,13],[19,12,19,13],[16,0,19,3],[8,4,8,5],[9,4,9,5],[8,6,8,22],[9,6,9,22],[15,4,15,5],[14,4,14,5],[6,8,6,12],[6,0,6,5],[8,0,9,3],[14,0,15,3],[4,12,4,13],[13,4,13,5],[10,5,10,22],[11,7,12,7],[11,4,12,6],[16,5,16,22],[11,8,12,22],[17,8,18,22],[10,0,13,3],[50,0,55,0],[45,0,47,0],[48,0,49,0],[37,0,38,0],[24,0,25,22],[31,1,31,12],[37,1,37,12],[26,1,26,7],[27,1,27,7],[28,1,28,7],[29,1,29,7],[36,1,36,12],[33,1,33,12],[32,1,32,12],[43,1,43,12],[46,1,46,12],[45,1,45,12],[39,1,39,12],[42,1,42,12],[41,1,41,12],[40,1,40,12],[47,13,47,21],[46,13,46,21],[28,11,28,15],[28,17,28,19],[28,21,28,22],[29,8,29,9],[29,14,29,15],[29,16,29,17],[48,8,48,9],[48,14,48,15],[48,16,48,17],[45,13,45,21],[44,13,44,21],[71,4,71,22],[82,4,82,22],[81,4,81,22],[80,4,80,22],[79,4,79,22],[78,4,78,22],[77,4,77,22],[76,4,76,22],[75,4,75,22],[87,4,87,22],[86,4,86,22],[85,4,85,22],[84,4,84,22],[74,4,74,5],[74,6,74,21],[83,4,83,5],[83,6,83,21],[72,4,72,22],[90,4,90,5],[90,6,90,21],[95,4,95,12],[96,4,96,9],[97,4,97,12],[98,4,98,5],[98,6,98,21],[89,4,89,22],[88,4,88,22],[93,0,93,22],[92,0,92,22],[94,0,94,22]]}
[null,null,null,null,null,null,null,null,"←事業所ファイルを取り込むために左のボタンを押して下さい。\n（事業所のシートが重複している場合は、不要なシートを削除してからボタンを押してください。）"]
[]
[]
["別紙様式２"]
[null,null,null,null,null,null,null,null,null,null,null,"福祉・介護職員等特定処遇改善計画書(令和",null,null,"年度届出用)"]
["                                                                        "]
["事業所等情報",null,null,null,null,null,null,null,"障害福祉サービス等事業所番号"]
[]
["事業者・開設者",null,null,null,"フリガナ"]
[null,null,null,null,"名　　称"]
["主たる事務所の所在地",null,null,null,"〒"]
[null,null,null,null,null,null,null,"都・道\n\n府・県"]
[]
[null,null,null,null,"電話番号",null,null,null,null,null,null,null,"FAX番号"]
["事業所等の名称",null,null,null,"フリガナ",null,null,null,null,null,null,null,null,null,"提供する\nサービス"]
[null,null,null,null,"名　　称"]
["事業所の所在地",null,null,null,"〒"]
[null,null,null,null,null,null,null,"都・道\n\n府・県"]
[]
[null,null,null,null,"電話番号",null,null,null,null,null,null,null,"FAX番号"]
["複数の事業所ごとに一括して提出する場合における一括して提出する事業所数",null,null,null,null,null,null,null,null,null,null,null,"特定加算(Ⅰ)（",null,null,null,{"$f":"'006各シート集約'!AA4","v":0},null,"）事業所"]
["※この場合、事業所等情報については、「別紙一覧表による」と記載すること。",null,null,null,null,null,null,null,null,null,null,null,"特定加算(Ⅱ)（",null,null,"　　　　　",{"$f":"'006各シート集約'!AA5","v":0},null,"）事業所"]
[null,null,null,null,null,null,null,null,null,null,null,null,"特定加算(区分なし)（",null,null,null,{"$f":"'006各シート集約'!AA6","v":0},null,null,"）事業所"]
[]
["（１）賃金改善計画について(本計画に記載された金額については見込みの額であり、申請時以降の運営状況(利用者数等)、\n　　人員配置状況(職員数等)その他の事由により変動があり得るものである。)"]
[]
["①","算定する加算の区分",null,null,null,null,null,null,"福祉・介護職員等特定処遇改善加算（",null,null,null,null,null,null,"□","Ⅰ","□","Ⅱ","□","区分なし）"]
["②","現行の処遇改善加算の取得状況",null,null,null,null,null,null,"福祉・介護職員処遇改善加算　　　（",null,null,null,null,null,null,"□","Ⅰ","□","Ⅱ","□","Ⅲ　　）"]
["③","福祉専門職員配置等加算等の取得状況",null,null,null,null,null,null,"取得有（",null,"□","福祉専門職員配置等加算　・",null,null,null,null,"□","特定事業所加算 )",null,null,"□","取得無"]
["④","福祉・介護職員等特定処遇改善加算算定対象月",null,null,null,null,null,null,"令和",null,null,"年",null,"月","～",null,"令和",null,null,"年",null,"月",null,"↓特定加算額と賃金改善額のチェック関数が入っています。"]
["⑤","令和　",null,"年度福祉・介護職員等特定処遇改善加算の見込額",null,null,null,null,null,null,null,null,null,{"$f":"'006各シート集約'!F4","v":0},null,null,null,null,null,null,null,null,"円",{"$f":"IF(N31<=N32,\"OK\",\"賃金改善額（見込み）が特定加算額を下回っています。事業所ファイルの賃金改善額等を設定し直してください。\")","v":"OK"}]
["⑥","賃金改善の見込額(ⅰ－ⅱ)",null,null,null,null,null,null,null,null,null,null,null,{"$f":"N33-N34","v":0},null,null,null,null,null,null,null,null,"円"]
[null,"ⅰ）加算の算定により賃金改善を行った場合の賃金の総額（見込額）",null,null,null,null,null,null,null,null,null,null,null,{"$f":"_xlfn.AGGREGATE(9,6,N36,N41,N45)","v":0},null,null,null,null,null,null,null,null,"円","↓配分ルールのチェック関数が入っています。"]
[null,"ⅱ）初めて加算を取得する（した）月の前年度の賃金の総額",null,null,null,null,null,null,null,null,null,null,null,{"$f":"_xlfn.AGGREGATE(9,6,N37,N42,N46)","v":0},null,null,null,null,null,null,null,null,"円",{"$f":"IF(N35/N40>=2,\"OK\",\"経験・技能のある障害福祉人材➊の平均賃金改善額が、他の障害福祉人材➋の２倍未満となっています。事業所ファイルの賃金改善額等を設定し直してください。\")","v":{"$error":"#DIV/0!"}}]
["⑦","経験・技能のある障害福祉人材（➊）における平均賃金改善額（（ⅲ－ⅳ）／ⅴ)",null,null,null,null,null,null,null,null,null,null,null,{"$f":"ROUND((N36-N37)/N38,0)","v":{"$error":"#DIV/0!"}},null,null,null,"円・",{"$f":"'006各シート集約'!O4","v":0},null,null,null,"人"]
[null,"ⅲ）加算の算定により賃金改善を行った場合の賃金の総額（見込額）",null,null,null,null,null,null,null,null,null,null,null,{"$f":"'006各シート集約'!M4","v":0},null,null,null,null,null,null,null,null,"円","↓リーダー級（平均月額８万円の賃金改善または年収440万円）のチェック関数が入っています。"]
[null,"ⅳ）初めて加算を取得する（した）月の前年度の賃金の総額",null,null,null,null,null,null,null,null,null,null,null,{"$f":"'006各シート集約'!L4","v":0},null,null,null,null,null,null,null,null,"円",{"$f":"IF(SUM(Q21:Q23)<=S39,\"OK\",\"事業所数に応じたリーダー級の設定がされていません。事業所ファイルの賃金改善額等を設定し直すか、リーダー級を設定できない理由を⑪に記載してください。\")","v":"OK"}]
[null,"ⅴ）当該事業所における経験・技能のある障害福祉人材の人数",null,null,null,null,null,null,null,null,null,null,null,{"$f":"'006各シート集約'!J4","v":0},null,null,null,null,null,null,null,null,"人"]
[null,"【そのうち、月額８万円の改善又は改善後の賃金が年額440万円以上となる者（見込数）",null,null,null,null,null,null,null,null,null,null,null,null,null,null,null,null,{"$f":"'006各シート集約'!N4","v":0},null,null,null,"人】","↓配分ルールのチェック関数が入っています。"]
["⑧","他の障害福祉人材（➋）における平均賃金改善額（（ⅵ－ⅶ）／ⅷ)",null,null,null,null,null,null,null,null,null,null,null,{"$f":"ROUND((N41-N42)/N43,0)","v":{"$error":"#DIV/0!"}},null,null,null,"円・",{"$f":"'006各シート集約'!T4","v":0},null,null,null,"人",{"$f":"IF(N42/N43<N46/N47,IF(N40/N44>=2,\"OK\",\"他の障害福祉人材➋の平均賃金改善額が、その他の職種➌の２倍未満となっています。事業所ファイルの賃金改善額等を設定し直してください。\"),IF(N40/N44>=2,\"OK\",IF(N40>=N44,\"他の障害福祉人材➋の平均賃金改善額が、その他の職種➌の２倍未満となっています。賃金改善前の平均賃金について➌が➋以下の場合に可能な例外的な賃金改善（1:1）を行う場合は、その旨を⑪に記載してください。\",\"他の障害福祉人材➋の平均賃金改善額が、その他の職種➌を下回っています。事業所ファイルの賃金改善額等を設定し直してください。\")))","v":{"$error":"#DIV/0!"}}]
[null,"ⅵ）加算の算定により賃金改善を行った場合の賃金の総額（見込額）",null,null,null,null,null,null,null,null,null,null,null,{"$f":"'006各シート集約'!S4","v":0},null,null,null,null,null,null,null,null,"円"]
[null,"ⅶ）初めて加算を取得する（した）月の前年度の賃金の総額",null,null,null,null,null,null,null,null,null,null,null,{"$f":"'006各シート集約'!R4","v":0},null,null,null,null,null,null,null,null,"円"]
[null,"ⅷ）当該事業所における他の障害福祉人材の人数",null,null,null,null,null,null,null,null,null,null,null,{"$f":"'006各シート集約'!P4","v":0},null,null,null,null,null,null,null,null,"人"]
["⑨","その他の職種（➌）平均賃金改善額（（ⅸ－ⅹ）／ⅺ)",null,null,null,null,null,null,null,null,null,null,null,{"$f":"ROUND((N45-N46)/N47,0)","v":{"$error":"#DIV/0!"}},null,null,null,"円・",{"$f":"'006各シート集約'!Z4","v":0},null,null,null,"人"]
[null,"ⅸ）加算の算定により賃金改善を行った場合の賃金の総額（見込額）",null,null,null,null,null,null,null,null,null,null,null,{"$f":"'006各シート集約'!X4","v":0},null,null,null,null,null,null,null,null,"円"]
[null,"ⅹ）初めて加算を取得する（した）月の前年度の賃金の総額",null,null,null,null,null,null,null,null,null,null,null,{"$f":"'006各シート集約'!W4","v":0},null,null,null,null,null,null,null,null,"円"]
[null,"ⅺ）当該事業所におけるその他の職種の人数",null,null,null,null,null,null,null,null,null,null,null,{"$f":"'006各シート集約'!U4","v":0},null,null,null,null,null,null,null,null,"人","↓その他の職種の上限（年収440万円）のチェック関数が入っています。"]
[null,"【そのうち、改善後の賃金が最も高額な者の賃金（見込額）",null,null,null,null,null,null,null,null,null,null,null,{"$f":"'006各シート集約'!Y4","v":0},null,null,null,null,null,null,null,null,"円】",{"$f":"IF(4400000>=N48,\"OK\",\"常勤換算年収が440万円を超えているその他の職種➌の方がいます。事業所ファイルの賃金改善額等を設定し直してください。\")","v":"OK"}]
["⑩","賃金改善実施期間",null,null,null,null,null,null,"令和",null,null,"年",null,"月","～",null,"令和",null,null,"年",null,"月"]
[null,"※原則１０月～翌年３月までの連続する期間を記入すること。なお、当該期間の月数は加算の対象月数を超えてはならない。"]
["⑪","賃金改善を行う賃金項目及び方法(賃金改善を行う賃金項目（増額若しくは新設した又はする予定である給与の項目の種類（基本給、手当、賞与等）等）、賃金改善の実施時期や対象職員、一人当たりの平均賃金改善見込額について、可能な限り具体的に記載すること。なお➊の「経験・技能のある障害福祉人材」の基準設定の考え方については必ず記載すること。"]
[]
[]
[]
[]
[]
[]
["※　⑥については、法定福利費等の賃金改善に伴う増加分も含むことができる。"]
["※　⑥が⑤を上回らなければならないこと。"]
["※　⑥ⅱ）の計算に際しては、賃金改善実施期間の職員の人数と合わせた上で算出すること。すなわち、比較時点から賃金改善実施期間の始点までに\n　職員が増加した場合、当該職員と同等の勤続年数の職員が比較時点にもいたと仮定して、賃金総額に上乗せする必要があることに留意すること。"]
[]
["※　複数の障害福祉サービス事業所等について一括して提出する場合、以下の添付書類についても作成すること。"]
["・添付書類１：都道府県等の圏域内の、当該計画書に記載された計画の対象となる障害福祉サービス事業所等の一覧表（指定権者ごと）"]
["・添付書類２：各都道府県内の指定権者（当該都道府県を含む。）の一覧表（都道府県ごと）"]
["・添付書類３：計画書に記載された計画の対象となる障害福祉サービス事業者等に係る都道府県の一覧表"]
[]
["(２)　職場環境等要件について"]
["  　（※）太枠内に記載すること。"]
["　平成２０年１０月から現在までに実施した事項について必ず全てに☑をつけること。複数の取組を行い、「資質の向上」、「労働環境・処遇の改善」\n及び「その他」について、それぞれ１つ以上の取組を行うこと。"]
[]
["資質の向上",null,null,"□","働きながら介護福祉士等の資格取得を目指す者に対する実務者研修受講支援や、より専門性の高い支援技術を取得しようとする者に対する喀痰吸引研修、強度行動障害支援者養成研修、サービス提供責任者研修、中堅職員に対するマネジメント研修の受講支援（研修受講時の他の福祉・介護職員の負担を軽減するための代替職員確保を含む）"]
[null,null,null,"□","研修の受講やキャリア段位制度と人事考課との連動"]
[null,null,null,"□","小規模事業者の共同による採用・人事ローテーション・研修のための制度構築"]
[null,null,null,"□","キャリアパス要件に該当する事項（キャリアパス要件を満たしていない障害福祉サービス事業者に限る）"]
[null,null,null,"□","その他（",null,null,null,null,null,null,null,null,null,null,null,null,null,null,null,null,null,"）"]
["労働環境・処遇の改善",null,null,"□","新人福祉・介護職員の早期離職防止のためのエルダー・メンター（新人指導担当者）制度等の導入"]
[null,null,null,"□","雇用管理改善のための管理者の労働・安全衛生法規、休暇・休職制度に係る研修受講等による雇用管理改善対策の充実"]
[null,null,null,"□","ＩＣＴ活用（支援内容や申し送り事項の共有（事業所内に加えタブレット端末を活用し訪問先でアクセスを可能にすること等を含む）による福祉・介護職員の事務負担軽減、個々の利用者へのサービス履歴・訪問介護員の出勤情報管理によるサービス提供責任者のシフト管理に係る事務負担軽減、利用者情報蓄積による利用者個々の特性に応じたサービス提供等）による業務省力化"]
[null,null,null,"□","福祉・介護職員の腰痛対策を含む負担軽減のための介護ロボットやリフト等の介護機器等の導入"]
[null,null,null,"□","子育てとの両立を目指す者のための育児休業制度等の充実、事業所内保育施設の整備"]
[null,null,null,"□","ミーティング等による職場内コミュニケーションの円滑化による個々の福祉・介護職員の気づきを踏まえた勤務環境や支援内容の改善"]
[null,null,null,"□","事故・トラブルへの対応マニュアル等の作成による責任の所在の明確化"]
[null,null,null,"□","健康診断・こころの健康等の健康管理面の強化、職員休憩室・分煙スペース等の整備"]
[null,null,null,"□","その他（",null,null,null,null,null,null,null,null,null,null,null,null,null,null,null,null,null,"）"]
["その他",null,null,"□","障害福祉サービス等情報公表制度の活用による経営・人材育成理念の見える化"]
[null,null,null,"□","中途採用者（他産業からの転職者、主婦層、中高年齢者等）に特化した人事制度の確立（勤務シフトの配慮、短時間正規職員制度の導入等）)"]
[null,null,null,"□","障害を有する者でも働きやすい職場環境構築や勤務シフト配慮"]
[null,null,null,"□","非正規職員から正規職員への転換"]
[null,null,null,"□","地域の児童・生徒や住民との交流による地域包括ケアの一員としてのモチベーション向上"]
[null,null,null,"□","職員の増員による業務負担の軽減"]
[null,null,null,"□","その他（",null,null,null,null,null,null,null,null,null,null,null,null,null,null,null,null,null,"）"]
[]
["(３)　見える化要件について"]
["　　（※）太枠内に記載すること。"]
["　実施している周知方法について、☑をつけること。2020年度から実施予定である場合には、「予定」に☑をつけること。"]
["ホームページへの掲載",null,null,"□","「障害福祉サービス等情報公表検索サイト」への掲載　／",null,null,null,null,null,null,null,null,"□","予定"]
[null,null,null,"□"," 独自のホームページへの掲載　／",null,null,null,null,null,"□","予定"]
["その他の方法による掲示等",null,null,"□","事業所・施設の建物で、外部から見える場所への掲示　／",null,null,null,null,null,null,null,null,"□","予定"]
[null,null,null,"□","その他（",null,null,null,null,null,null,null,null,null,null,null,null,null,null,null,null,null,"）"]
[]
[" ※　虚偽の記載や、福祉・介護職員等特定処遇改善加算の請求に関して不正を行った場合には、支払われた介護給付費等の返還を求められることや\n　障害福祉サービス事業者等の指定が取り消される場合があるので留意すること。"]
[]
["本計画書については、雇用するすべての職員に対し周知をしたうえで、提出していることを証明いたします。"]
[]
[null,"令和",null,"年",null,"月",null,"日","（法 人 名）"]
[null,null,null,null,null,null,null,null,"（代表者名）",null,null,null,null,null,null,null,null,null,null,null,null,"印"]

{"sheet":"002添付書類１","index":1,"n_rows":1087,"n_cols":28,"rows_kept":1087,"cut":false,"hidden":false,"merged":[[1070,2,1071,12],[1078,2,1078,11],[1078,13,1078,15],[1078,16,1078,17],[1078,19,1078,20],[1079,2,1080,12],[1075,2,1075,11],[1075,13,1075,15],[1075,16,1075,17],[1075,19,1075,20],[1076,2,1077,12],[1086,18,1088,21],[1082,16,1082,18],[1082,19,1082,21],[1081,2,1081,11],[1081,13,1081,15],[1081,16,1081,17],[1081,19,1081,20],[1073,2,1074,12],[176,2,176,11],[176,12,176,21],[181,13,181,15],[181,16,181,17],[181,19,181,20],[181,2,181,11],[178,2,178,12],[180,2,180,11],[180,13,180,15],[180,16,180,18],[180,19,180,21],[1066,2,1066,11],[1066,13,1066,15],[1066,16,1066,17],[1066,19,1066,20],[1067,2,1068,12],[1072,2,1072,11],[1072,13,1072,15],[1072,16,1072,17],[1072,19,1072,20],[1069,2,1069,11],[1069,13,1069,15],[1069,16,1069,17],[1069,19,1069,20],[773,2,774,12],[775,2,775,11],[775,13,775,15],[775,16,775,17],[775,19,775,20],[776,2,777,12],[778,2,778,11],[778,13,778,15],[171,2,171,11],[182,2,183,12],[173,2,173,17],[1,2,1,17],[2,2,2,21],[4,2,4,11],[4,12,4,21],[8,2,8,11],[8,13,8,15],[8,16,8,18],[8,19,8,21],[9,2,9,11],[9,13,9,15],[9,16,9,17],[9,19,9,20],[10,2,11,12],[170,13,170,15],[170,16,170,17],[170,19,170,20],[174,2,174,21],[172,2,172,11],[170,2,170,11],[12,2,12,11],[12,13,12,15],[12,16,12,17],[12,19,12,20],[13,2,14,12],[15,2,15,11],[15,13,15,15],[15,16,15,17],[15,19,15,20],[16,2,17,12],[90,2,90,11],[90,13,90,15],[90,16,90,17],[90,19,90,20],[18,2,18,11],[18,13,18,15],[18,16,18,17],[18,19,18,20],[19,2,20,12],[21,2,21,11],[21,13,21,15],[21,16,21,17],[21,19,21,20],[22,2,23,12],[24,2,24,11],[24,13,24,15],[97,2,98,12],[31,2,32,12],[33,2,33,11],[33,13,33,15],[33,16,33,17],[33,19,33,20],[34,2,35,12],[36,2,36,11],[36,13,36,15],[36,16,36,17],[36,19,36,20],[24,16,24,17],[24,19,24,20],[25,2,26,12],[27,2,27,11],[27,13,27,15],[99,2,99,11],[99,13,99,15],[99,16,99,17],[99,19,99,20],[100,2,101,12],[102,2,102,11],[102,13,102,15],[102,16,102,17],[102,19,102,20],[91,2,92,12],[93,2,93,11],[93,13,93,15],[93,16,93,17],[93,19,93,20],[94,2,95,12],[96,2,96,11],[96,13,96,15],[96,16,96,17],[96,19,96,20],[109,2,110,12],[111,2,111,11],[111,13,111,15],[111,16,111,17],[111,19,111,20],[118,2,119,12],[112,2,113,12],[114,2,114,11],[114,13,114,15],[114,16,114,17],[114,19,114,20],[115,2,116,12],[117,2,117,11],[117,13,117,15],[117,16,117,17],[117,19,117,20],[103,2,104,12],[105,2,105,11],[105,13,105,15],[105,16,105,17],[105,19,105,20],[106,2,107,12],[108,2,108,11],[108,13,108,15],[108,16,108,17],[108,19,108,20],[130,2,131,12],[132,2,132,11],[132,13,132,15],[132,16,132,17],[132,19,132,20],[133,2,134,12],[135,2,135,11],[135,13,135,15],[135,16,135,17],[135,19,135,20],[124,2,125,12],[126,2,126,11],[126,13,126,15],[126,16,126,17],[126,19,126,20],[127,2,128,12],[129,2,129,11],[129,13,129,15],[129,16,129,17],[129,19,129,20],[156,19,156,20],[142,2,143,12],[144,2,144,11],[144,13,144,15],[144,16,144,17],[144,19,144,20],[145,2,146,12],[150,2,150,11],[150,13,150,15],[150,16,150,17],[150,19,150,20],[136,2,137,12],[138,2,138,11],[138,13,138,15],[138,16,138,17],[138,19,138,20],[139,2,140,12],[141,2,141,11],[141,13,141,15],[141,16,141,17],[141,19,141,20],[6,2,6,11],[160,16,160,18],[160,19,160,21],[164,18,166,21],[123,19,123,20],[123,16,123,17],[123,13,123,15],[123,2,123,11],[121,2,122,12],[120,19,120,20],[120,16,120,17],[120,13,120,15],[120,2,120,11],[147,2,147,11],[147,13,147,15],[147,16,147,17],[147,19,147,20],[148,2,149,12],[159,2,159,11],[159,13,159,15],[159,16,159,17],[159,19,159,20],[157,2,158,12],[151,2,152,12],[153,2,153,11],[153,13,153,15],[153,16,153,17],[153,19,153,20],[154,2,155,12],[156,2,156,11],[156,13,156,15],[156,16,156,17],[27,16,27,17],[27,19,27,20],[28,2,29,12],[30,2,30,11],[30,13,30,15],[30,16,30,17],[30,19,30,20],[43,2,44,12],[45,2,45,11],[45,13,45,15],[45,16,45,17],[45,19,45,20],[46,2,47,12],[48,2,48,11],[48,13,48,15],[48,16,48,17],[48,19,48,20],[37,2,38,12],[39,2,39,11],[39,13,39,15],[39,16,39,17],[39,19,39,20],[40,2,41,12],[42,2,42,11],[42,13,42,15],[42,16,42,17],[42,19,42,20],[55,2,56,12],[57,2,57,11],[57,13,57,15],[57,16,57,17],[57,19,57,20],[58,2,59,12],[60,2,60,11],[60,13,60,15],[60,16,60,17],[60,19,60,20],[49,2,50,12],[51,2,51,11],[51,13,51,15],[51,16,51,17],[51,19,51,20],[52,2,53,12],[54,2,54,11],[54,13,54,15],[54,16,54,17],[54,19,54,20],[67,2,68,12],[69,2,69,11],[69,13,69,15],[69,16,69,17],[69,19,69,20],[70,2,71,12],[72,2,72,11],[72,13,72,15],[72,16,72,17],[72,19,72,20],[61,2,62,12],[63,2,63,11],[63,13,63,15],[63,16,63,17],[63,19,63,20],[64,2,65,12],[66,2,66,11],[66,13,66,15],[66,16,66,17],[66,19,66,20],[79,2,80,12],[81,2,81,11],[81,13,81,15],[81,16,81,17],[81,19,81,20],[82,2,83,12],[84,2,84,11],[84,13,84,15],[84,16,84,17],[84,19,84,20],[73,2,74,12],[75,2,75,11],[75,13,75,15],[75,16,75,17],[75,19,75,20],[76,2,77,12],[78,2,78,11],[78,13,78,15],[78,16,78,17],[78,19,78,20],[778,16,778,17],[778,19,778,20],[85,2,86,12],[87,2,87,11],[87,13,87,15],[87,16,87,17],[87,19,87,20],[88,2,89,12],[772,2,772,11],[772,13,772,15],[772,16,772,17],[772,19,772,20],[193,19,193,20],[194,2,195,12],[196,2,196,11],[196,13,196,15],[196,16,196,17],[196,19,196,20],[197,2,198,12],[199,2,199,11],[199,13,199,15],[199,16,199,17],[199,19,199,20],[200,2,201,12],[209,2,210,12],[211,2,211,11],[211,13,211,15],[211,16,211,17],[211,19,211,20],[212,2,213,12],[214,2,214,11],[214,13,214,15],[785,2,786,12],[787,2,787,11],[787,13,787,15],[787,16,787,17],[787,19,787,20],[788,2,789,12],[790,2,790,11],[790,13,790,15],[790,16,790,17],[790,19,790,20],[779,2,780,12],[781,2,781,11],[781,13,781,15],[781,16,781,17],[781,19,781,20],[782,2,783,12],[784,2,784,11],[784,13,784,15],[784,16,784,17],[784,19,784,20],[797,2,798,12],[799,2,799,11],[799,13,799,15],[799,16,799,17],[799,19,799,20],[800,2,801,12],[802,2,802,11],[802,13,802,15],[802,16,802,17],[802,19,802,20],[791,2,792,12],[793,2,793,11],[793,13,793,15],[793,16,793,17],[793,19,793,20],[794,2,795,12],[796,2,796,11],[796,13,796,15],[796,16,796,17],[796,19,796,20],[809,2,810,12],[811,2,811,11],[811,13,811,15],[811,16,811,17],[811,19,811,20],[812,2,813,12],[814,2,814,11],[814,13,814,15],[814,16,814,17],[814,19,814,20],[803,2,804,12],[805,2,805,11],[805,13,805,15],[805,16,805,17],[805,19,805,20],[806,2,807,12],[808,2,808,11],[808,13,808,15],[808,16,808,17],[808,19,808,20],[821,2,822,12],[823,2,823,11],[823,13,823,15],[823,16,823,17],[823,19,823,20],[824,2,825,12],[826,2,826,11],[826,13,826,15],[826,16,826,17],[826,19,826,20],[815,2,816,12],[817,2,817,11],[817,13,817,15],[817,16,817,17],[817,19,817,20],[818,2,819,12],[820,2,820,11],[820,13,820,15],[820,16,820,17],[820,19,820,20],[833,2,834,12],[835,2,835,11],[835,13,835,15],[835,16,835,17],[835,19,835,20],[836,2,837,12],[838,2,838,11],[838,13,838,15],[838,16,838,17],[838,19,838,20],[827,2,828,12],[829,2,829,11],[829,13,829,15],[829,16,829,17],[829,19,829,20],[830,2,831,12],[832,2,832,11],[832,13,832,15],[832,16,832,17],[832,19,832,20],[845,2,846,12],[847,2,847,11],[847,13,847,15],[847,16,847,17],[847,19,847,20],[848,2,849,12],[850,2,850,11],[850,13,850,15],[850,16,850,17],[850,19,850,20],[839,2,840,12],[841,2,841,11],[841,13,841,15],[841,16,841,17],[841,19,841,20],[842,2,843,12],[844,2,844,11],[844,13,844,15],[844,16,844,17],[844,19,844,20],[857,2,858,12],[859,2,859,11],[859,13,859,15],[859,16,859,17],[859,19,859,20],[860,2,861,12],[862,2,862,11],[862,13,862,15],[862,16,862,17],[862,19,862,20],[851,2,852,12],[853,2,853,11],[853,13,853,15],[853,16,853,17],[853,19,853,20],[854,2,855,12],[856,2,856,11],[856,13,856,15],[856,16,856,17],[856,19,856,20],[869,2,870,12],[871,2,871,11],[871,13,871,15],[871,16,871,17],[871,19,871,20],[872,2,873,12],[874,2,874,11],[874,13,874,15],[874,16,874,17],[874,19,874,20],[863,2,864,12],[865,2,865,11],[865,13,865,15],[865,16,865,17],[865,19,865,20],[866,2,867,12],[868,2,868,11],[868,13,868,15],[868,16,868,17],[868,19,868,20],[881,2,882,12],[883,2,883,11],[883,13,883,15],[883,16,883,17],[883,19,883,20],[884,2,885,12],[886,2,886,11],[886,13,886,15],[886,16,886,17],[886,19,886,20],[875,2,876,12],[877,2,877,11],[877,13,877,15],[877,16,877,17],[877,19,877,20],[878,2,879,12],[880,2,880,11],[880,13,880,15],[880,16,880,17],[880,19,880,20],[893,2,894,12],[895,2,895,11],[895,13,895,15],[895,16,895,17],[895,19,895,20],[896,2,897,12],[898,2,898,11],[898,13,898,15],[898,16,898,17],[898,19,898,20],[887,2,888,12],[889,2,889,11],[889,13,889,15],[889,16,889,17],[889,19,889,20],[890,2,891,12],[892,2,892,11],[892,13,892,15],[892,16,892,17],[892,19,892,20],[905,2,906,12],[907,2,907,11],[907,13,907,15],[907,16,907,17],[907,19,907,20],[908,2,909,12],[910,2,910,11],[910,13,910,15],[910,16,910,17],[910,19,910,20],[899,2,900,12],[901,2,901,11],[901,13,901,15],[901,16,901,17],[901,19,901,20],[902,2,903,12],[904,2,904,11],[904,13,904,15],[904,16,904,17],[904,19,904,20],[917,2,918,12],[919,2,919,11],[919,13,919,15],[919,16,919,17],[919,19,919,20],[920,2,921,12],[922,2,922,11],[922,13,922,15],[922,16,922,17],[922,19,922,20],[911,2,912,12],[913,2,913,11],[913,13,913,15],[913,16,913,17],[913,19,913,20],[914,2,915,12],[916,2,916,11],[916,13,916,15],[916,16,916,17],[916,19,916,20],[929,2,930,12],[931,2,931,11],[931,13,931,15],[931,16,931,17],[931,19,931,20],[932,2,933,12],[934,2,934,11],[934,13,934,15],[934,16,934,17],[934,19,934,20],[923,2,924,12],[925,2,925,11],[925,13,925,15],[925,16,925,17],[925,19,925,20],[926,2,927,12],[928,2,928,11],[928,13,928,15],[928,16,928,17],[928,19,928,20],[941,2,942,12],[943,2,943,11],[943,13,943,15],[943,16,943,17],[943,19,943,20],[944,2,945,12],[946,2,946,11],[946,13,946,15],[946,16,946,17],[946,19,946,20],[935,2,936,12],[937,2,937,11],[937,13,937,15],[937,16,937,17],[937,19,937,20],[938,2,939,12],[940,2,940,11],[940,13,940,15],[940,16,940,17],[940,19,940,20],[953,2,954,12],[955,2,955,11],[955,13,955,15],[955,16,955,17],[955,19,955,20],[956,2,957,12],[958,2,958,11],[958,13,958,15],[958,16,958,17],[958,19,958,20],[947,2,948,12],[949,2,949,11],[949,13,949,15],[949,16,949,17],[949,19,949,20],[950,2,951,12],[952,2,952,11],[952,13,952,15],[952,16,952,17],[952,19,952,20],[965,2,966,12],[967,2,967,11],[967,13,967,15],[967,16,967,17],[967,19,967,20],[968,2,969,12],[970,2,970,11],[970,13,970,15],[970,16,970,17],[970,19,970,20],[959,2,960,12],[961,2,961,11],[961,13,961,15],[961,16,961,17],[961,19,961,20],[962,2,963,12],[964,2,964,11],[964,13,964,15],[964,16,964,17],[964,19,964,20],[977,2,978,12],[979,2,979,11],[979,13,979,15],[979,16,979,17],[979,19,979,20],[980,2,981,12],[982,2,982,11],[982,13,982,15],[982,16,982,17],[982,19,982,20],[971,2,972,12],[973,2,973,11],[973,13,973,15],[973,16,973,17],[973,19,973,20],[974,2,975,12],[976,2,976,11],[976,13,976,15],[976,16,976,17],[976,19,976,20],[989,2,990,12],[991,2,991,11],[991,13,991,15],[991,16,991,17],[991,19,991,20],[992,2,993,12],[994,2,994,11],[994,13,994,15],[994,16,994,17],[994,19,994,20],[983,2,984,12],[985,2,985,11],[985,13,985,15],[985,16,985,17],[985,19,985,20],[986,2,987,12],[988,2,988,11],[988,13,988,15],[988,16,988,17],[988,19,988,20],[1001,2,1002,12],[1003,2,1003,11],[1003,13,1003,15],[1003,16,1003,17],[1003,19,1003,20],[1004,2,1005,12],[1006,2,1006,11],[1006,13,1006,15],[1006,16,1006,17],[1006,19,1006,20],[995,2,996,12],[997,2,997,11],[997,13,997,15],[997,16,997,17],[997,19,997,20],[998,2,999,12],[1000,2,1000,11],[1000,13,1000,15],[1000,16,1000,17],[1000,19,1000,20],[1013,2,1014,12],[1015,2,1015,11],[1015,13,1015,15],[1015,16,1015,17],[1015,19,1015,20],[1016,2,1017,12],[1018,2,1018,11],[1018,13,1018,15],[1018,16,1018,17],[1018,19,1018,20],[1007,2,1008,12],[1009,2,1009,11],[1009,13,1009,15],[1009,16,1009,17],[1009,19,1009,20],[1010,2,1011,12],[1012,2,1012,11],[1012,13,1012,15],[1012,16,1012,17],[1012,19,1012,20],[1025,2,1026,12],[1027,2,1027,11],[1027,13,1027,15],[1027,16,1027,17],[1027,19,1027,20],[1028,2,1029,12],[1030,2,1030,11],[1030,13,1030,15],[1030,16,1030,17],[1030,19,1030,20],[1019,2,1020,12],[1021,2,1021,11],[1021,13,1021,15],[1021,16,1021,17],[1021,19,1021,20],[1022,2,1023,12],[1024,2,1024,11],[1024,13,1024,15],[1024,16,1024,17],[1024,19,1024,20],[1037,2,1038,12],[1039,2,1039,11],[1039,13,1039,15],[1039,16,1039,17],[1039,19,1039,20],[1040,2,1041,12],[1042,2,1042,11],[1042,13,1042,15],[1042,16,1042,17],[1042,19,1042,20],[1031,2,1032,12],[1033,2,1033,11],[1033,13,1033,15],[1033,16,1033,17],[1033,19,1033,20],[1034,2,1035,12],[1036,2,1036,11],[1036,13,1036,15],[1036,16,1036,17],[1036,19,1036,20],[1060,16,1060,17],[1060,19,1060,20],[1049,2,1050,12],[1051,2,1051,11],[1051,13,1051,15],[1051,16,1051,17],[1051,19,1051,20],[1052,2,1053,12],[1054,2,1054,11],[1054,13,1054,15],[1054,16,1054,17],[1054,19,1054,20],[1043,2,1044,12],[1045,2,1045,11],[1045,13,1045,15],[1045,16,1045,17],[1045,19,1045,20],[1046,2,1047,12],[1048,2,1048,11],[1048,13,1048,15],[1048,16,1048,17],[1048,19,1048,20],[1061,2,1062,12],[1063,2,1063,11],[1063,13,1063,15],[1063,16,1063,17],[1063,19,1063,20],[1064,2,1065,12],[184,2,184,11],[184,13,184,15],[184,16,184,17],[184,19,184,20],[185,2,186,12],[187,2,187,11],[187,13,187,15],[187,16,187,17],[187,19,187,20],[188,2,189,12],[190,2,190,11],[190,13,190,15],[190,16,190,17],[190,19,190,20],[191,2,192,12],[193,2,193,11],[193,13,193,15],[193,16,193,17],[1055,2,1056,12],[1057,2,1057,11],[1057,13,1057,15],[1057,16,1057,17],[1057,19,1057,20],[1058,2,1059,12],[1060,2,1060,11],[1060,13,1060,15],[214,16,214,17],[214,19,214,20],[202,16,202,17],[202,19,202,20],[203,2,204,12],[205,2,205,11],[205,13,205,15],[205,16,205,17],[205,19,205,20],[206,2,207,12],[208,2,208,11],[208,13,208,15],[208,16,208,17],[208,19,208,20],[202,2,202,11],[202,13,202,15],[221,2,222,12],[223,2,223,11],[223,13,223,15],[223,16,223,17],[223,19,223,20],[224,2,225,12],[226,2,226,11],[226,13,226,15],[226,16,226,17],[226,19,226,20],[215,2,216,12],[217,2,217,11],[217,13,217,15],[217,16,217,17],[217,19,217,20],[218,2,219,12],[220,2,220,11],[220,13,220,15],[220,16,220,17],[220,19,220,20],[233,2,234,12],[235,2,235,11],[235,13,235,15],[235,16,235,17],[235,19,235,20],[236,2,237,12],[238,2,238,11],[238,13,238,15],[238,16,238,17],[238,19,238,20],[227,2,228,12],[229,2,229,11],[229,13,229,15],[229,16,229,17],[229,19,229,20],[230,2,231,12],[232,2,232,11],[232,13,232,15],[232,16,232,17],[232,19,232,20],[245,2,246,12],[247,2,247,11],[247,13,247,15],[247,16,247,17],[247,19,247,20],[248,2,249,12],[250,2,250,11],[250,13,250,15],[250,16,250,17],[250,19,250,20],[239,2,240,12],[241,2,241,11],[241,13,241,15],[241,16,241,17],[241,19,241,20],[242,2,243,12],[244,2,244,11],[244,13,244,15],[244,16,244,17],[244,19,244,20],[257,2,258,12],[259,2,259,11],[259,13,259,15],[259,16,259,17],[259,19,259,20],[260,2,261,12],[262,2,262,11],[262,13,262,15],[262,16,262,17],[262,19,262,20],[251,2,252,12],[253,2,253,11],[253,13,253,15],[253,16,253,17],[253,19,253,20],[254,2,255,12],[256,2,256,11],[256,13,256,15],[256,16,256,17],[256,19,256,20],[269,2,270,12],[271,2,271,11],[271,13,271,15],[271,16,271,17],[271,19,271,20],[272,2,273,12],[274,2,274,11],[274,13,274,15],[274,16,274,17],[274,19,274,20],[263,2,264,12],[265,2,265,11],[265,13,265,15],[265,16,265,17],[265,19,265,20],[266,2,267,12],[268,2,268,11],[268,13,268,15],[268,16,268,17],[268,19,268,20],[281,2,282,12],[283,2,283,11],[283,13,283,15],[283,16,283,17],[283,19,283,20],[284,2,285,12],[286,2,286,11],[286,13,286,15],[286,16,286,17],[286,19,286,20],[275,2,276,12],[277,2,277,11],[277,13,277,15],[277,16,277,17],[277,19,277,20],[278,2,279,12],[280,2,280,11],[280,13,280,15],[280,16,280,17],[280,19,280,20],[293,2,294,12],[295,2,295,11],[295,13,295,15],[295,16,295,17],[295,19,295,20],[296,2,297,12],[298,2,298,11],[298,13,298,15],[298,16,298,17],[298,19,298,20],[287,2,288,12],[289,2,289,11],[289,13,289,15],[289,16,289,17],[289,19,289,20],[290,2,291,12],[292,2,292,11],[292,13,292,15]],"merged_total":1788,"flags":["merged_cut"]}
[1,2,3,4,5,6,7,8,9,10,11,12,13,14,15,16,17,18,19,20,21,22,null,null,null,null,null,"北海道"]
[null,null,"別紙様式２（添付書類１）",null,null,null,null,null,null,null,null,null,null,null,null,null,null,null,null,null,null,null,null,null,null,null,null,"青森県"]
[null,null,"福祉・介護職員等特定処遇改善計画書(指定権者内事業所一覧表）",null,null,null,null,null,null,null,null,null,null,null,null,null,null,null,null,null,null,null,null,null,null,null,null,"岩手県"]
[null,null,"                                                                        ",null,null,null,null,null,null,null,null,null,null,null,null,null,null,null,null,null,null,null,null,null,null,null,null,"宮城県"]
[null,null,"法人名",null,null,null,null,null,null,null,null,null,null,null,null,null,null,null,null,null,null,null,null,null,null,null,null,"秋田県"]
[null,null,null,null,null,null,null,null,null,null,null,null,null,null,null,null,null,null,null,null,null,null,null,null,null,null,null,"山形県"]
[null,null,null,null,null,null,null,null,null,null,null,null,null,null,null,null,null,null,null,null,null,null,null,null,null,null,null,"福島県"]
[null,null,null,null,null,null,null,null,null,null,null,null,null,null,null,null,null,null,null,null,null,null,null,null,null,null,null,"茨城県"]
[null,null,"障害福祉サービス等事業所番号",null,null,null,null,null,null,null,null,null,"事業所の名称","サービス名",null,null,"福祉・介護職員等特定処遇改善加算額（見込額）",null,null,"賃金改善額（見込額）",null,null,null,null,null,null,null,"栃木県"]
[{"$f":"$C$7&Y10","v":"1"},null,{"$f":"IFERROR(VLOOKUP($A10,$A$182:$V$1081,C$1,FALSE),\"\")","v":""},null,null,null,null,null,null,null,null,null,{"$f":"IFERROR(VLOOKUP($A10,$A$182:$V$1081,M$1,FALSE),\"\")","v":""},{"$f":"IFERROR(VLOOKUP($A10,$A$182:$V$1081,N$1,FALSE),\"\")","v":""},null,null,{"$f":"IFERROR(VLOOKUP($A10,$A$182:$V$1081,Q$1,FALSE),\"\")","v":""},null,"円",{"$f":"IFERROR(VLOOKUP($A10,$A$182:$V$1081,T$1,FALSE),\"\")","v":""},null,"円",null,null,1,null,null,"群馬県"]
[{"$f":"$C$7&Y11","v":"2"},null,"➊➋➌それぞれの賃金改善額（見込額）",null,null,null,null,null,null,null,null,null,null,"➊",{"$f":"IFERROR(VLOOKUP($A11,$A$182:$V$1081,O$1,FALSE),\"\")","v":""},"円","➋",{"$f":"IFERROR(VLOOKUP($A11,$A$182:$V$1081,R$1,FALSE),\"\")","v":""},"円","➌",{"$f":"IFERROR(VLOOKUP($A11,$A$182:$V$1081,U$1,FALSE),\"\")","v":""},"円",null,null,2,null,null,"埼玉県"]
["3",null,null,null,null,null,null,null,null,null,null,null,null,"（",{"$f":"IFERROR(VLOOKUP($A12,$A$182:$V$1081,O$1,FALSE),\"\")","v":""},"人）","（",{"$f":"IFERROR(VLOOKUP($A12,$A$182:$V$1081,R$1,FALSE),\"\")","v":""},"人）","（",{"$f":"IFERROR(VLOOKUP($A12,$A$182:$V$1081,U$1,FALSE),\"\")","v":""},"人）",null,null,3,null,null,"千葉県"]
["4",null,{"$f":"IFERROR(VLOOKUP($A13,$A$182:$V$1081,C$1,FALSE),\"\")","v":""},null,null,null,null,null,null,null,null,null,{"$f":"IFERROR(VLOOKUP($A13,$A$182:$V$1081,M$1,FALSE),\"\")","v":""},{"$f":"IFERROR(VLOOKUP($A13,$A$182:$V$1081,N$1,FALSE),\"\")","v":""},null,null,{"$f":"IFERROR(VLOOKUP($A13,$A$182:$V$1081,Q$1,FALSE),\"\")","v":""},null,"円",{"$f":"IFERROR(VLOOKUP($A13,$A$182:$V$1081,T$1,FALSE),\"\")","v":""},null,"円",null,null,4,null,null,"東京都"]
["5",null,"➊➋➌それぞれの賃金改善額（見込額）",null,null,null,null,null,null,null,null,null,null,"➊",{"$f":"IFERROR(VLOOKUP($A14,$A$182:$V$1081,O$1,FALSE),\"\")","v":""},"円","➋",{"$f":"IFERROR(VLOOKUP($A14,$A$182:$V$1081,R$1,FALSE),\"\")","v":""},"円","➌",{"$f":"IFERROR(VLOOKUP($A14,$A$182:$V$1081,U$1,FALSE),\"\")","v":""},"円",null,null,5,null,null,"神奈川県"]
["6",null,null,null,null,null,null,null,null,null,null,null,null,"（",{"$f":"IFERROR(VLOOKUP($A15,$A$182:$V$1081,O$1,FALSE),\"\")","v":""},"人）","（",{"$f":"IFERROR(VLOOKUP($A15,$A$182:$V$1081,R$1,FALSE),\"\")","v":""},"人）","（",{"$f":"IFERROR(VLOOKUP($A15,$A$182:$V$1081,U$1,FALSE),\"\")","v":""},"人）",null,null,6,null,null,"新潟県"]
["7",null,{"$f":"IFERROR(VLOOKUP($A16,$A$182:$V$1081,C$1,FALSE),\"\")","v":""},null,null,null,null,null,null,null,null,null,{"$f":"IFERROR(VLOOKUP($A16,$A$182:$V$1081,M$1,FALSE),\"\")","v":""},{"$f":"IFERROR(VLOOKUP($A16,$A$182:$V$1081,N$1,FALSE),\"\")","v":""},null,null,{"$f":"IFERROR(VLOOKUP($A16,$A$182:$V$1081,Q$1,FALSE),\"\")","v":""},null,"円",{"$f":"IFERROR(VLOOKUP($A16,$A$182:$V$1081,T$1,FALSE),\"\")","v":""},null,"円",null,null,7,null,null,"富山県"]
["8",null,"➊➋➌それぞれの賃金改善額（見込額）",null,null,null,null,null,null,null,null,null,null,"➊",{"$f":"IFERROR(VLOOKUP($A17,$A$182:$V$1081,O$1,FALSE),\"\")","v":""},"円","➋",{"$f":"IFERROR(VLOOKUP($A17,$A$182:$V$1081,R$1,FALSE),\"\")","v":""},"円","➌",{"$f":"IFERROR(VLOOKUP($A17,$A$182:$V$1081,U$1,FALSE),\"\")","v":""},"円",null,null,8,null,null,"石川県"]
["9",null,null,null,null,null,null,null,null,null,null,null,null,"（",{"$f":"IFERROR(VLOOKUP($A18,$A$182:$V$1081,O$1,FALSE),\"\")","v":""},"人）","（",{"$f":"IFERROR(VLOOKUP($A18,$A$182:$V$1081,R$1,FALSE),\"\")","v":""},"人）","（",{"$f":"IFERROR(VLOOKUP($A18,$A$182:$V$1081,U$1,FALSE),\"\")","v":""},"人）",null,null,9,null,null,"福井県"]
["10",null,{"$f":"IFERROR(VLOOKUP($A19,$A$182:$V$1081,C$1,FALSE),\"\")","v":""},null,null,null,null,null,null,null,null,null,{"$f":"IFERROR(VLOOKUP($A19,$A$182:$V$1081,M$1,FALSE),\"\")","v":""},{"$f":"IFERROR(VLOOKUP($A19,$A$182:$V$1081,N$1,FALSE),\"\")","v":""},null,null,{"$f":"IFERROR(VLOOKUP($A19,$A$182:$V$1081,Q$1,FALSE),\"\")","v":""},null,"円",{"$f":"IFERROR(VLOOKUP($A19,$A$182:$V$1081,T$1,FALSE),\"\")","v":""},null,"円",null,null,10,null,null,"山梨県"]
["11",null,"➊➋➌それぞれの賃金改善額（見込額）",null,null,null,null,null,null,null,null,null,null,"➊",{"$f":"IFERROR(VLOOKUP($A20,$A$182:$V$1081,O$1,FALSE),\"\")","v":""},"円","➋",{"$f":"IFERROR(VLOOKUP($A20,$A$182:$V$1081,R$1,FALSE),\"\")","v":""},"円","➌",{"$f":"IFERROR(VLOOKUP($A20,$A$182:$V$1081,U$1,FALSE),\"\")","v":""},"円",null,null,11,null,null,"長野県"]
["12",null,null,null,null,null,null,null,null,null,null,null,null,"（",{"$f":"IFERROR(VLOOKUP($A21,$A$182:$V$1081,O$1,FALSE),\"\")","v":""},"人）","（",{"$f":"IFERROR(VLOOKUP($A21,$A$182:$V$1081,R$1,FALSE),\"\")","v":""},"人）","（",{"$f":"IFERROR(VLOOKUP($A21,$A$182:$V$1081,U$1,FALSE),\"\")","v":""},"人）",null,null,12,null,null,"岐阜県"]
["13",null,{"$f":"IFERROR(VLOOKUP($A22,$A$182:$V$1081,C$1,FALSE),\"\")","v":""},null,null,null,null,null,null,null,null,null,{"$f":"IFERROR(VLOOKUP($A22,$A$182:$V$1081,M$1,FALSE),\"\")","v":""},{"$f":"IFERROR(VLOOKUP($A22,$A$182:$V$1081,N$1,FALSE),\"\")","v":""},null,null,{"$f":"IFERROR(VLOOKUP($A22,$A$182:$V$1081,Q$1,FALSE),\"\")","v":""},null,"円",{"$f":"IFERROR(VLOOKUP($A22,$A$182:$V$1081,T$1,FALSE),\"\")","v":""},null,"円",null,null,13,null,null,"静岡県"]
["14",null,"➊➋➌それぞれの賃金改善額（見込額）",null,null,null,null,null,null,null,null,null,null,"➊",{"$f":"IFERROR(VLOOKUP($A23,$A$182:$V$1081,O$1,FALSE),\"\")","v":""},"円","➋",{"$f":"IFERROR(VLOOKUP($A23,$A$182:$V$1081,R$1,FALSE),\"\")","v":""},"円","➌",{"$f":"IFERROR(VLOOKUP($A23,$A$182:$V$1081,U$1,FALSE),\"\")","v":""},"円",null,null,14,null,null,"愛知県"]
["15",null,null,null,null,null,null,null,null,null,null,null,null,"（",{"$f":"IFERROR(VLOOKUP($A24,$A$182:$V$1081,O$1,FALSE),\"\")","v":""},"人）","（",{"$f":"IFERROR(VLOOKUP($A24,$A$182:$V$1081,R$1,FALSE),\"\")","v":""},"人）","（",{"$f":"IFERROR(VLOOKUP($A24,$A$182:$V$1081,U$1,FALSE),\"\")","v":""},"人）",null,null,15,null,null,"三重県"]
["16",null,{"$f":"IFERROR(VLOOKUP($A25,$A$182:$V$1081,C$1,FALSE),\"\")","v":""},null,null,null,null,null,null,null,null,null,{"$f":"IFERROR(VLOOKUP($A25,$A$182:$V$1081,M$1,FALSE),\"\")","v":""},{"$f":"IFERROR(VLOOKUP($A25,$A$182:$V$1081,N$1,FALSE),\"\")","v":""},null,null,{"$f":"IFERROR(VLOOKUP($A25,$A$182:$V$1081,Q$1,FALSE),\"\")","v":""},null,"円",{"$f":"IFERROR(VLOOKUP($A25,$A$182:$V$1081,T$1,FALSE),\"\")","v":""},null,"円",null,null,16,null,null,"滋賀県"]
["17",null,"➊➋➌それぞれの賃金改善額（見込額）",null,null,null,null,null,null,null,null,null,null,"➊",{"$f":"IFERROR(VLOOKUP($A26,$A$182:$V$1081,O$1,FALSE),\"\")","v":""},"円","➋",{"$f":"IFERROR(VLOOKUP($A26,$A$182:$V$1081,R$1,FALSE),\"\")","v":""},"円","➌",{"$f":"IFERROR(VLOOKUP($A26,$A$182:$V$1081,U$1,FALSE),\"\")","v":""},"円",null,null,17,null,null,"京都府"]
["18",null,null,null,null,null,null,null,null,null,null,null,null,"（",{"$f":"IFERROR(VLOOKUP($A27,$A$182:$V$1081,O$1,FALSE),\"\")","v":""},"人）","（",{"$f":"IFERROR(VLOOKUP($A27,$A$182:$V$1081,R$1,FALSE),\"\")","v":""},"人）","（",{"$f":"IFERROR(VLOOKUP($A27,$A$182:$V$1081,U$1,FALSE),\"\")","v":""},"人）",null,null,18,null,null,"大阪府"]
["19",null,{"$f":"IFERROR(VLOOKUP($A28,$A$182:$V$1081,C$1,FALSE),\"\")","v":""},null,null,null,null,null,null,null,null,null,{"$f":"IFERROR(VLOOKUP($A28,$A$182:$V$1081,M$1,FALSE),\"\")","v":""},{"$f":"IFERROR(VLOOKUP($A28,$A$182:$V$1081,N$1,FALSE),\"\")","v":""},null,null,{"$f":"IFERROR(VLOOKUP($A28,$A$182:$V$1081,Q$1,FALSE),\"\")","v":""},null,"円",{"$f":"IFERROR(VLOOKUP($A28,$A$182:$V$1081,T$1,FALSE),\"\")","v":""},null,"円",null,null,19,null,null,"兵庫県"]
["20",null,"➊➋➌それぞれの賃金改善額（見込額）",null,null,null,null,null,null,null,null,null,null,"➊",{"$f":"IFERROR(VLOOKUP($A29,$A$182:$V$1081,O$1,FALSE),\"\")","v":""},"円","➋",{"$f":"IFERROR(VLOOKUP($A29,$A$182:$V$1081,R$1,FALSE),\"\")","v":""},"円","➌",{"$f":"IFERROR(VLOOKUP($A29,$A$182:$V$1081,U$1,FALSE),\"\")","v":""},"円",null,null,20,null,null,"奈良県"]
["21",null,null,null,null,null,null,null,null,null,null,null,null,"（",{"$f":"IFERROR(VLOOKUP($A30,$A$182:$V$1081,O$1,FALSE),\"\")","v":""},"人）","（",{"$f":"IFERROR(VLOOKUP($A30,$A$182:$V$1081,R$1,FALSE),\"\")","v":""},"人）","（",{"$f":"IFERROR(VLOOKUP($A30,$A$182:$V$1081,U$1,FALSE),\"\")","v":""},"人）",null,null,21,null,null,"和歌山県"]
["22",null,{"$f":"IFERROR(VLOOKUP($A31,$A$182:$V$1081,C$1,FALSE),\"\")","v":""},null,null,null,null,null,null,null,null,null,{"$f":"IFERROR(VLOOKUP($A31,$A$182:$V$1081,M$1,FALSE),\"\")","v":""},{"$f":"IFERROR(VLOOKUP($A31,$A$182:$V$1081,N$1,FALSE),\"\")","v":""},null,null,{"$f":"IFERROR(VLOOKUP($A31,$A$182:$V$1081,Q$1,FALSE),\"\")","v":""},null,"円",{"$f":"IFERROR(VLOOKUP($A31,$A$182:$V$1081,T$1,FALSE),\"\")","v":""},null,"円",null,null,22,null,null,"鳥取県"]
["23",null,"➊➋➌それぞれの賃金改善額（見込額）",null,null,null,null,null,null,null,null,null,null,"➊",{"$f":"IFERROR(VLOOKUP($A32,$A$182:$V$1081,O$1,FALSE),\"\")","v":""},"円","➋",{"$f":"IFERROR(VLOOKUP($A32,$A$182:$V$1081,R$1,FALSE),\"\")","v":""},"円","➌",{"$f":"IFERROR(VLOOKUP($A32,$A$182:$V$1081,U$1,FALSE),\"\")","v":""},"円",null,null,23,null,null,"島根県"]
["24",null,null,null,null,null,null,null,null,null,null,null,null,"（",{"$f":"IFERROR(VLOOKUP($A33,$A$182:$V$1081,O$1,FALSE),\"\")","v":""},"人）","（",{"$f":"IFERROR(VLOOKUP($A33,$A$182:$V$1081,R$1,FALSE),\"\")","v":""},"人）","（",{"$f":"IFERROR(VLOOKUP($A33,$A$182:$V$1081,U$1,FALSE),\"\")","v":""},"人）",null,null,24,null,null,"岡山県"]
["25",null,{"$f":"IFERROR(VLOOKUP($A34,$A$182:$V$1081,C$1,FALSE),\"\")","v":""},null,null,null,null,null,null,null,null,null,{"$f":"IFERROR(VLOOKUP($A34,$A$182:$V$1081,M$1,FALSE),\"\")","v":""},{"$f":"IFERROR(VLOOKUP($A34,$A$182:$V$1081,N$1,FALSE),\"\")","v":""},null,null,{"$f":"IFERROR(VLOOKUP($A34,$A$182:$V$1081,Q$1,FALSE),\"\")","v":""},null,"円",{"$f":"IFERROR(VLOOKUP($A34,$A$182:$V$1081,T$1,FALSE),\"\")","v":""},null,"円",null,null,25,null,null,"広島県"]
["26",null,"➊➋➌それぞれの賃金改善額（見込額）",null,null,null,null,null,null,null,null,null,null,"➊",{"$f":"IFERROR(VLOOKUP($A35,$A$182:$V$1081,O$1,FALSE),\"\")","v":""},"円","➋",{"$f":"IFERROR(VLOOKUP($A35,$A$182:$V$1081,R$1,FALSE),\"\")","v":""},"円","➌",{"$f":"IFERROR(VLOOKUP($A35,$A$182:$V$1081,U$1,FALSE),\"\")","v":""},"円",null,null,26,null,null,"山口県"]
["27",null,null,null,null,null,null,null,null,null,null,null,null,"（",{"$f":"IFERROR(VLOOKUP($A36,$A$182:$V$1081,O$1,FALSE),\"\")","v":""},"人）","（",{"$f":"IFERROR(VLOOKUP($A36,$A$182:$V$1081,R$1,FALSE),\"\")","v":""},"人）","（",{"$f":"IFERROR(VLOOKUP($A36,$A$182:$V$1081,U$1,FALSE),\"\")","v":""},"人）",null,null,27,null,null,"徳島県"]
["28",null,{"$f":"IFERROR(VLOOKUP($A37,$A$182:$V$1081,C$1,FALSE),\"\")","v":""},null,null,null,null,null,null,null,null,null,{"$f":"IFERROR(VLOOKUP($A37,$A$182:$V$1081,M$1,FALSE),\"\")","v":""},{"$f":"IFERROR(VLOOKUP($A37,$A$182:$V$1081,N$1,FALSE),\"\")","v":""},null,null,{"$f":"IFERROR(VLOOKUP($A37,$A$182:$V$1081,Q$1,FALSE),\"\")","v":""},null,"円",{"$f":"IFERROR(VLOOKUP($A37,$A$182:$V$1081,T$1,FALSE),\"\")","v":""},null,"円",null,null,28,null,null,"香川県"]
["29",null,"➊➋➌それぞれの賃金改善額（見込額）",null,null,null,null,null,null,null,null,null,null,"➊",{"$f":"IFERROR(VLOOKUP($A38,$A$182:$V$1081,O$1,FALSE),\"\")","v":""},"円","➋",{"$f":"IFERROR(VLOOKUP($A38,$A$182:$V$1081,R$1,FALSE),\"\")","v":""},"円","➌",{"$f":"IFERROR(VLOOKUP($A38,$A$182:$V$1081,U$1,FALSE),\"\")","v":""},"円",null,null,29,null,null,"愛媛県"]
["30",null,null,null,null,null,null,null,null,null,null,null,null,"（",{"$f":"IFERROR(VLOOKUP($A39,$A$182:$V$1081,O$1,FALSE),\"\")","v":""},"人）","（",{"$f":"IFERROR(VLOOKUP($A39,$A$182:$V$1081,R$1,FALSE),\"\")","v":""},"人）","（",{"$f":"IFERROR(VLOOKUP($A39,$A$182:$V$1081,U$1,FALSE),\"\")","v":""},"人）",null,null,30,null,null,"高知県"]
["31",null,{"$f":"IFERROR(VLOOKUP($A40,$A$182:$V$1081,C$1,FALSE),\"\")","v":""},null,null,null,null,null,null,null,null,null,{"$f":"IFERROR(VLOOKUP($A40,$A$182:$V$1081,M$1,FALSE),\"\")","v":""},{"$f":"IFERROR(VLOOKUP($A40,$A$182:$V$1081,N$1,FALSE),\"\")","v":""},null,null,{"$f":"IFERROR(VLOOKUP($A40,$A$182:$V$1081,Q$1,FALSE),\"\")","v":""},null,"円",{"$f":"IFERROR(VLOOKUP($A40,$A$182:$V$1081,T$1,FALSE),\"\")","v":""},null,"円",null,null,31,null,null,"福岡県"]
["32",null,"➊➋➌それぞれの賃金改善額（見込額）",null,null,null,null,null,null,null,null,null,null,"➊",{"$f":"IFERROR(VLOOKUP($A41,$A$182:$V$1081,O$1,FALSE),\"\")","v":""},"円","➋",{"$f":"IFERROR(VLOOKUP($A41,$A$182:$V$1081,R$1,FALSE),\"\")","v":""},"円","➌",{"$f":"IFERROR(VLOOKUP($A41,$A$182:$V$1081,U$1,FALSE),\"\")","v":""},"円",null,null,32,null,null,"佐賀県"]
["33",null,null,null,null,null,null,null,null,null,null,null,null,"（",{"$f":"IFERROR(VLOOKUP($A42,$A$182:$V$1081,O$1,FALSE),\"\")","v":""},"人）","（",{"$f":"IFERROR(VLOOKUP($A42,$A$182:$V$1081,R$1,FALSE),\"\")","v":""},"人）","（",{"$f":"IFERROR(VLOOKUP($A42,$A$182:$V$1081,U$1,FALSE),\"\")","v":""},"人）",null,null,33,null,null,"長崎県"]
["34",null,{"$f":"IFERROR(VLOOKUP($A43,$A$182:$V$1081,C$1,FALSE),\"\")","v":""},null,null,null,null,null,null,null,null,null,{"$f":"IFERROR(VLOOKUP($A43,$A$182:$V$1081,M$1,FALSE),\"\")","v":""},{"$f":"IFERROR(VLOOKUP($A43,$A$182:$V$1081,N$1,FALSE),\"\")","v":""},null,null,{"$f":"IFERROR(VLOOKUP($A43,$A$182:$V$1081,Q$1,FALSE),\"\")","v":""},null,"円",{"$f":"IFERROR(VLOOKUP($A43,$A$182:$V$1081,T$1,FALSE),\"\")","v":""},null,"円",null,null,34,null,null,"熊本県"]
["35",null,"➊➋➌それぞれの賃金改善額（見込額）",null,null,null,null,null,null,null,null,null,null,"➊",{"$f":"IFERROR(VLOOKUP($A44,$A$182:$V$1081,O$1,FALSE),\"\")","v":""},"円","➋",{"$f":"IFERROR(VLOOKUP($A44,$A$182:$V$1081,R$1,FALSE),\"\")","v":""},"円","➌",{"$f":"IFERROR(VLOOKUP($A44,$A$182:$V$1081,U$1,FALSE),\"\")","v":""},"円",null,null,35,null,null,"大分県"]
["36",null,null,null,null,null,null,null,null,null,null,null,null,"（",{"$f":"IFERROR(VLOOKUP($A45,$A$182:$V$1081,O$1,FALSE),\"\")","v":""},"人）","（",{"$f":"IFERROR(VLOOKUP($A45,$A$182:$V$1081,R$1,FALSE),\"\")","v":""},"人）","（",{"$f":"IFERROR(VLOOKUP($A45,$A$182:$V$1081,U$1,FALSE),\"\")","v":""},"人）",null,null,36,null,null,"宮崎県"]
["37",null,{"$f":"IFERROR(VLOOKUP($A46,$A$182:$V$1081,C$1,FALSE),\"\")","v":""},null,null,null,null,null,null,null,null,null,{"$f":"IFERROR(VLOOKUP($A46,$A$182:$V$1081,M$1,FALSE),\"\")","v":""},{"$f":"IFERROR(VLOOKUP($A46,$A$182:$V$1081,N$1,FALSE),\"\")","v":""},null,null,{"$f":"IFERROR(VLOOKUP($A46,$A$182:$V$1081,Q$1,FALSE),\"\")","v":""},null,"円",{"$f":"IFERROR(VLOOKUP($A46,$A$182:$V$1081,T$1,FALSE),\"\")","v":""},null,"円",null,null,37,null,null,"鹿児島県"]
["38",null,"➊➋➌それぞれの賃金改善額（見込額）",null,null,null,null,null,null,null,null,null,null,"➊",{"$f":"IFERROR(VLOOKUP($A47,$A$182:$V$1081,O$1,FALSE),\"\")","v":""},"円","➋",{"$f":"IFERROR(VLOOKUP($A47,$A$182:$V$1081,R$1,FALSE),\"\")","v":""},"円","➌",{"$f":"IFERROR(VLOOKUP($A47,$A$182:$V$1081,U$1,FALSE),\"\")","v":""},"円",null,null,38,null,null,"沖縄県"]
["39",null,null,null,null,null,null,null,null,null,null,null,null,"（",{"$f":"IFERROR(VLOOKUP($A48,$A$182:$V$1081,O$1,FALSE),\"\")","v":""},"人）","（",{"$f":"IFERROR(VLOOKUP($A48,$A$182:$V$1081,R$1,FALSE),\"\")","v":""},"人）","（",{"$f":"IFERROR(VLOOKUP($A48,$A$182:$V$1081,U$1,FALSE),\"\")","v":""},"人）",null,null,39,null,null,"札幌市"]
["40",null,{"$f":"IFERROR(VLOOKUP($A49,$A$182:$V$1081,C$1,FALSE),\"\")","v":""},null,null,null,null,null,null,null,null,null,{"$f":"IFERROR(VLOOKUP($A49,$A$182:$V$1081,M$1,FALSE),\"\")","v":""},{"$f":"IFERROR(VLOOKUP($A49,$A$182:$V$1081,N$1,FALSE),\"\")","v":""},null,null,{"$f":"IFERROR(VLOOKUP($A49,$A$182:$V$1081,Q$1,FALSE),\"\")","v":""},null,"円",{"$f":"IFERROR(VLOOKUP($A49,$A$182:$V$1081,T$1,FALSE),\"\")","v":""},null,"円",null,null,40,null,null,"仙台市"]
["41",null,"➊➋➌それぞれの賃金改善額（見込額）",null,null,null,null,null,null,null,null,null,null,"➊",{"$f":"IFERROR(VLOOKUP($A50,$A$182:$V$1081,O$1,FALSE),\"\")","v":""},"円","➋",{"$f":"IFERROR(VLOOKUP($A50,$A$182:$V$1081,R$1,FALSE),\"\")","v":""},"円","➌",{"$f":"IFERROR(VLOOKUP($A50,$A$182:$V$1081,U$1,FALSE),\"\")","v":""},"円",null,null,41,null,null,"さいたま市"]
["42",null,null,null,null,null,null,null,null,null,null,null,null,"（",{"$f":"IFERROR(VLOOKUP($A51,$A$182:$V$1081,O$1,FALSE),\"\")","v":""},"人）","（",{"$f":"IFERROR(VLOOKUP($A51,$A$182:$V$1081,R$1,FALSE),\"\")","v":""},"人）","（",{"$f":"IFERROR(VLOOKUP($A51,$A$182:$V$1081,U$1,FALSE),\"\")","v":""},"人）",null,null,42,null,null,"千葉市"]
["43",null,{"$f":"IFERROR(VLOOKUP($A52,$A$182:$V$1081,C$1,FALSE),\"\")","v":""},null,null,null,null,null,null,null,null,null,{"$f":"IFERROR(VLOOKUP($A52,$A$182:$V$1081,M$1,FALSE),\"\")","v":""},{"$f":"IFERROR(VLOOKUP($A52,$A$182:$V$1081,N$1,FALSE),\"\")","v":""},null,null,{"$f":"IFERROR(VLOOKUP($A52,$A$182:$V$1081,Q$1,FALSE),\"\")","v":""},null,"円",{"$f":"IFERROR(VLOOKUP($A52,$A$182:$V$1081,T$1,FALSE),\"\")","v":""},null,"円",null,null,43,null,null,"横浜市"]
["44",null,"➊➋➌それぞれの賃金改善額（見込額）",null,null,null,null,null,null,null,null,null,null,"➊",{"$f":"IFERROR(VLOOKUP($A53,$A$182:$V$1081,O$1,FALSE),\"\")","v":""},"円","➋",{"$f":"IFERROR(VLOOKUP($A53,$A$182:$V$1081,R$1,FALSE),\"\")","v":""},"円","➌",{"$f":"IFERROR(VLOOKUP($A53,$A$182:$V$1081,U$1,FALSE),\"\")","v":""},"円",null,null,44,null,null,"川崎市"]
["45",null,null,null,null,null,null,null,null,null,null,null,null,"（",{"$f":"IFERROR(VLOOKUP($A54,$A$182:$V$1081,O$1,FALSE),\"\")","v":""},"人）","（",{"$f":"IFERROR(VLOOKUP($A54,$A$182:$V$1081,R$1,FALSE),\"\")","v":""},"人）","（",{"$f":"IFERROR(VLOOKUP($A54,$A$182:$V$1081,U$1,FALSE),\"\")","v":""},"人）",null,null,45,null,null,"相模原市"]
["46",null,{"$f":"IFERROR(VLOOKUP($A55,$A$182:$V$1081,C$1,FALSE),\"\")","v":""},null,null,null,null,null,null,null,null,null,{"$f":"IFERROR(VLOOKUP($A55,$A$182:$V$1081,M$1,FALSE),\"\")","v":""},{"$f":"IFERROR(VLOOKUP($A55,$A$182:$V$1081,N$1,FALSE),\"\")","v":""},null,null,{"$f":"IFERROR(VLOOKUP($A55,$A$182:$V$1081,Q$1,FALSE),\"\")","v":""},null,"円",{"$f":"IFERROR(VLOOKUP($A55,$A$182:$V$1081,T$1,FALSE),\"\")","v":""},null,"円",null,null,46,null,null,"新潟市"]
["47",null,"➊➋➌それぞれの賃金改善額（見込額）",null,null,null,null,null,null,null,null,null,null,"➊",{"$f":"IFERROR(VLOOKUP($A56,$A$182:$V$1081,O$1,FALSE),\"\")","v":""},"円","➋",{"$f":"IFERROR(VLOOKUP($A56,$A$182:$V$1081,R$1,FALSE),\"\")","v":""},"円","➌",{"$f":"IFERROR(VLOOKUP($A56,$A$182:$V$1081,U$1,FALSE),\"\")","v":""},"円",null,null,47,null,null,"静岡市"]
["48",null,null,null,null,null,null,null,null,null,null,null,null,"（",{"$f":"IFERROR(VLOOKUP($A57,$A$182:$V$1081,O$1,FALSE),\"\")","v":""},"人）","（",{"$f":"IFERROR(VLOOKUP($A57,$A$182:$V$1081,R$1,FALSE),\"\")","v":""},"人）","（",{"$f":"IFERROR(VLOOKUP($A57,$A$182:$V$1081,U$1,FALSE),\"\")","v":""},"人）",null,null,48,null,null,"浜松市"]
["49",null,{"$f":"IFERROR(VLOOKUP($A58,$A$182:$V$1081,C$1,FALSE),\"\")","v":""},null,null,null,null,null,null,null,null,null,{"$f":"IFERROR(VLOOKUP($A58,$A$182:$V$1081,M$1,FALSE),\"\")","v":""},{"$f":"IFERROR(VLOOKUP($A58,$A$182:$V$1081,N$1,FALSE),\"\")","v":""},null,null,{"$f":"IFERROR(VLOOKUP($A58,$A$182:$V$1081,Q$1,FALSE),\"\")","v":""},null,"円",{"$f":"IFERROR(VLOOKUP($A58,$A$182:$V$1081,T$1,FALSE),\"\")","v":""},null,"円",null,null,49,null,null,"名古屋市"]
["50",null,"➊➋➌それぞれの賃金改善額（見込額）",null,null,null,null,null,null,null,null,null,null,"➊",{"$f":"IFERROR(VLOOKUP($A59,$A$182:$V$1081,O$1,FALSE),\"\")","v":""},"円","➋",{"$f":"IFERROR(VLOOKUP($A59,$A$182:$V$1081,R$1,FALSE),\"\")","v":""},"円","➌",{"$f":"IFERROR(VLOOKUP($A59,$A$182:$V$1081,U$1,FALSE),\"\")","v":""},"円",null,null,50,null,null,"京都市"]
["51",null,null,null,null,null,null,null,null,null,null,null,null,"（",{"$f":"IFERROR(VLOOKUP($A60,$A$182:$V$1081,O$1,FALSE),\"\")","v":""},"人）","（",{"$f":"IFERROR(VLOOKUP($A60,$A$182:$V$1081,R$1,FALSE),\"\")","v":""},"人）","（",{"$f":"IFERROR(VLOOKUP($A60,$A$182:$V$1081,U$1,FALSE),\"\")","v":""},"人）",null,null,51,null,null,"大阪市"]
["52",null,{"$f":"IFERROR(VLOOKUP($A61,$A$182:$V$1081,C$1,FALSE),\"\")","v":""},null,null,null,null,null,null,null,null,null,{"$f":"IFERROR(VLOOKUP($A61,$A$182:$V$1081,M$1,FALSE),\"\")","v":""},{"$f":"IFERROR(VLOOKUP($A61,$A$182:$V$1081,N$1,FALSE),\"\")","v":""},null,null,{"$f":"IFERROR(VLOOKUP($A61,$A$182:$V$1081,Q$1,FALSE),\"\")","v":""},null,"円",{"$f":"IFERROR(VLOOKUP($A61,$A$182:$V$1081,T$1,FALSE),\"\")","v":""},null,"円",null,null,52,null,null,"堺市"]
["53",null,"➊➋➌それぞれの賃金改善額（見込額）",null,null,null,null,null,null,null,null,null,null,"➊",{"$f":"IFERROR(VLOOKUP($A62,$A$182:$V$1081,O$1,FALSE),\"\")","v":""},"円","➋",{"$f":"IFERROR(VLOOKUP($A62,$A$182:$V$1081,R$1,FALSE),\"\")","v":""},"円","➌",{"$f":"IFERROR(VLOOKUP($A62,$A$182:$V$1081,U$1,FALSE),\"\")","v":""},"円",null,null,53,null,null,"神戸市"]
["54",null,null,null,null,null,null,null,null,null,null,null,null,"（",{"$f":"IFERROR(VLOOKUP($A63,$A$182:$V$1081,O$1,FALSE),\"\")","v":""},"人）","（",{"$f":"IFERROR(VLOOKUP($A63,$A$182:$V$1081,R$1,FALSE),\"\")","v":""},"人）","（",{"$f":"IFERROR(VLOOKUP($A63,$A$182:$V$1081,U$1,FALSE),\"\")","v":""},"人）",null,null,54,null,null,"岡山市"]
["55",null,{"$f":"IFERROR(VLOOKUP($A64,$A$182:$V$1081,C$1,FALSE),\"\")","v":""},null,null,null,null,null,null,null,null,null,{"$f":"IFERROR(VLOOKUP($A64,$A$182:$V$1081,M$1,FALSE),\"\")","v":""},{"$f":"IFERROR(VLOOKUP($A64,$A$182:$V$1081,N$1,FALSE),\"\")","v":""},null,null,{"$f":"IFERROR(VLOOKUP($A64,$A$182:$V$1081,Q$1,FALSE),\"\")","v":""},null,"円",{"$f":"IFERROR(VLOOKUP($A64,$A$182:$V$1081,T$1,FALSE),\"\")","v":""},null,"円",null,null,55,null,null,"広島市"]
["56",null,"➊➋➌それぞれの賃金改善額（見込額）",null,null,null,null,null,null,null,null,null,null,"➊",{"$f":"IFERROR(VLOOKUP($A65,$A$182:$V$1081,O$1,FALSE),\"\")","v":""},"円","➋",{"$f":"IFERROR(VLOOKUP($A65,$A$182:$V$1081,R$1,FALSE),\"\")","v":""},"円","➌",{"$f":"IFERROR(VLOOKUP($A65,$A$182:$V$1081,U$1,FALSE),\"\")","v":""},"円",null,null,56,null,null,"北九州市"]
["57",null,null,null,null,null,null,null,null,null,null,null,null,"（",{"$f":"IFERROR(VLOOKUP($A66,$A$182:$V$1081,O$1,FALSE),\"\")","v":""},"人）","（",{"$f":"IFERROR(VLOOKUP($A66,$A$182:$V$1081,R$1,FALSE),\"\")","v":""},"人）","（",{"$f":"IFERROR(VLOOKUP($A66,$A$182:$V$1081,U$1,FALSE),\"\")","v":""},"人）",null,null,57,null,null,"福岡市"]
["58",null,{"$f":"IFERROR(VLOOKUP($A67,$A$182:$V$1081,C$1,FALSE),\"\")","v":""},null,null,null,null,null,null,null,null,null,{"$f":"IFERROR(VLOOKUP($A67,$A$182:$V$1081,M$1,FALSE),\"\")","v":""},{"$f":"IFERROR(VLOOKUP($A67,$A$182:$V$1081,N$1,FALSE),\"\")","v":""},null,null,{"$f":"IFERROR(VLOOKUP($A67,$A$182:$V$1081,Q$1,FALSE),\"\")","v":""},null,"円",{"$f":"IFERROR(VLOOKUP($A67,$A$182:$V$1081,T$1,FALSE),\"\")","v":""},null,"円",null,null,58,null,null,"熊本市"]
["59",null,"➊➋➌それぞれの賃金改善額（見込額）",null,null,null,null,null,null,null,null,null,null,"➊",{"$f":"IFERROR(VLOOKUP($A68,$A$182:$V$1081,O$1,FALSE),\"\")","v":""},"円","➋",{"$f":"IFERROR(VLOOKUP($A68,$A$182:$V$1081,R$1,FALSE),\"\")","v":""},"円","➌",{"$f":"IFERROR(VLOOKUP($A68,$A$182:$V$1081,U$1,FALSE),\"\")","v":""},"円",null,null,59,null,null,"旭川市"]
["60",null,null,null,null,null,null,null,null,null,null,null,null,"（",{"$f":"IFERROR(VLOOKUP($A69,$A$182:$V$1081,O$1,FALSE),\"\")","v":""},"人）","（",{"$f":"IFERROR(VLOOKUP($A69,$A$182:$V$1081,R$1,FALSE),\"\")","v":""},"人）","（",{"$f":"IFERROR(VLOOKUP($A69,$A$182:$V$1081,U$1,FALSE),\"\")","v":""},"人）",null,null,60,null,null,"函館市"]
["61",null,{"$f":"IFERROR(VLOOKUP($A70,$A$182:$V$1081,C$1,FALSE),\"\")","v":""},null,null,null,null,null,null,null,null,null,{"$f":"IFERROR(VLOOKUP($A70,$A$182:$V$1081,M$1,FALSE),\"\")","v":""},{"$f":"IFERROR(VLOOKUP($A70,$A$182:$V$1081,N$1,FALSE),\"\")","v":""},null,null,{"$f":"IFERROR(VLOOKUP($A70,$A$182:$V$1081,Q$1,FALSE),\"\")","v":""},null,"円",{"$f":"IFERROR(VLOOKUP($A70,$A$182:$V$1081,T$1,FALSE),\"\")","v":""},null,"円",null,null,61,null,null,"青森市"]
["62",null,"➊➋➌それぞれの賃金改善額（見込額）",null,null,null,null,null,null,null,null,null,null,"➊",{"$f":"IFERROR(VLOOKUP($A71,$A$182:$V$1081,O$1,FALSE),\"\")","v":""},"円","➋",{"$f":"IFERROR(VLOOKUP($A71,$A$182:$V$1081,R$1,FALSE),\"\")","v":""},"円","➌",{"$f":"IFERROR(VLOOKUP($A71,$A$182:$V$1081,U$1,FALSE),\"\")","v":""},"円",null,null,62,null,null,"八戸市"]
["63",null,null,null,null,null,null,null,null,null,null,null,null,"（",{"$f":"IFERROR(VLOOKUP($A72,$A$182:$V$1081,O$1,FALSE),\"\")","v":""},"人）","（",{"$f":"IFERROR(VLOOKUP($A72,$A$182:$V$1081,R$1,FALSE),\"\")","v":""},"人）","（",{"$f":"IFERROR(VLOOKUP($A72,$A$182:$V$1081,U$1,FALSE),\"\")","v":""},"人）",null,null,63,null,null,"盛岡市"]
["64",null,{"$f":"IFERROR(VLOOKUP($A73,$A$182:$V$1081,C$1,FALSE),\"\")","v":""},null,null,null,null,null,null,null,null,null,{"$f":"IFERROR(VLOOKUP($A73,$A$182:$V$1081,M$1,FALSE),\"\")","v":""},{"$f":"IFERROR(VLOOKUP($A73,$A$182:$V$1081,N$1,FALSE),\"\")","v":""},null,null,{"$f":"IFERROR(VLOOKUP($A73,$A$182:$V$1081,Q$1,FALSE),\"\")","v":""},null,"円",{"$f":"IFERROR(VLOOKUP($A73,$A$182:$V$1081,T$1,FALSE),\"\")","v":""},null,"円",null,null,64,null,null,"秋田市"]
["65",null,"➊➋➌それぞれの賃金改善額（見込額）",null,null,null,null,null,null,null,null,null,null,"➊",{"$f":"IFERROR(VLOOKUP($A74,$A$182:$V$1081,O$1,FALSE),\"\")","v":""},"円","➋",{"$f":"IFERROR(VLOOKUP($A74,$A$182:$V$1081,R$1,FALSE),\"\")","v":""},"円","➌",{"$f":"IFERROR(VLOOKUP($A74,$A$182:$V$1081,U$1,FALSE),\"\")","v":""},"円",null,null,65,null,null,"山形市"]
[{"$f":"$C$7&Y75","v":"66"},null,null,null,null,null,null,null,null,null,null,null,null,"（",{"$f":"IFERROR(VLOOKUP($A75,$A$182:$V$1081,O$1,FALSE),\"\")","v":""},"人）","（",{"$f":"IFERROR(VLOOKUP($A75,$A$182:$V$1081,R$1,FALSE),\"\")","v":""},"人）","（",{"$f":"IFERROR(VLOOKUP($A75,$A$182:$V$1081,U$1,FALSE),\"\")","v":""},"人）",null,null,66,null,null,"郡山市"]
["67",null,{"$f":"IFERROR(VLOOKUP($A76,$A$182:$V$1081,C$1,FALSE),\"\")","v":""},null,null,null,null,null,null,null,null,null,{"$f":"IFERROR(VLOOKUP($A76,$A$182:$V$1081,M$1,FALSE),\"\")","v":""},{"$f":"IFERROR(VLOOKUP($A76,$A$182:$V$1081,N$1,FALSE),\"\")","v":""},null,null,{"$f":"IFERROR(VLOOKUP($A76,$A$182:$V$1081,Q$1,FALSE),\"\")","v":""},null,"円",{"$f":"IFERROR(VLOOKUP($A76,$A$182:$V$1081,T$1,FALSE),\"\")","v":""},null,"円",null,null,67,null,null,"いわき市"]
["68",null,"➊➋➌それぞれの賃金改善額（見込額）",null,null,null,null,null,null,null,null,null,null,"➊",{"$f":"IFERROR(VLOOKUP($A77,$A$182:$V$1081,O$1,FALSE),\"\")","v":""},"円","➋",{"$f":"IFERROR(VLOOKUP($A77,$A$182:$V$1081,R$1,FALSE),\"\")","v":""},"円","➌",{"$f":"IFERROR(VLOOKUP($A77,$A$182:$V$1081,U$1,FALSE),\"\")","v":""},"円",null,null,68,null,null,"福島市"]
["69",null,null,null,null,null,null,null,null,null,null,null,null,"（",{"$f":"IFERROR(VLOOKUP($A78,$A$182:$V$1081,O$1,FALSE),\"\")","v":""},"人）","（",{"$f":"IFERROR(VLOOKUP($A78,$A$182:$V$1081,R$1,FALSE),\"\")","v":""},"人）","（",{"$f":"IFERROR(VLOOKUP($A78,$A$182:$V$1081,U$1,FALSE),\"\")","v":""},"人）",null,null,69,null,null,"宇都宮市"]
["70",null,{"$f":"IFERROR(VLOOKUP($A79,$A$182:$V$1081,C$1,FALSE),\"\")","v":""},null,null,null,null,null,null,null,null,null,{"$f":"IFERROR(VLOOKUP($A79,$A$182:$V$1081,M$1,FALSE),\"\")","v":""},{"$f":"IFERROR(VLOOKUP($A79,$A$182:$V$1081,N$1,FALSE),\"\")","v":""},null,null,{"$f":"IFERROR(VLOOKUP($A79,$A$182:$V$1081,Q$1,FALSE),\"\")","v":""},null,"円",{"$f":"IFERROR(VLOOKUP($A79,$A$182:$V$1081,T$1,FALSE),\"\")","v":""},null,"円",null,null,70,null,null,"前橋市"]
["71",null,"➊➋➌それぞれの賃金改善額（見込額）",null,null,null,null,null,null,null,null,null,null,"➊",{"$f":"IFERROR(VLOOKUP($A80,$A$182:$V$1081,O$1,FALSE),\"\")","v":""},"円","➋",{"$f":"IFERROR(VLOOKUP($A80,$A$182:$V$1081,R$1,FALSE),\"\")","v":""},"円","➌",{"$f":"IFERROR(VLOOKUP($A80,$A$182:$V$1081,U$1,FALSE),\"\")","v":""},"円",null,null,71,null,null,"高崎市"]
["72",null,null,null,null,null,null,null,null,null,null,null,null,"（",{"$f":"IFERROR(VLOOKUP($A81,$A$182:$V$1081,O$1,FALSE),\"\")","v":""},"人）","（",{"$f":"IFERROR(VLOOKUP($A81,$A$182:$V$1081,R$1,FALSE),\"\")","v":""},"人）","（",{"$f":"IFERROR(VLOOKUP($A81,$A$182:$V$1081,U$1,FALSE),\"\")","v":""},"人）",null,null,72,null,null,"川越市"]
["73",null,{"$f":"IFERROR(VLOOKUP($A82,$A$182:$V$1081,C$1,FALSE),\"\")","v":""},null,null,null,null,null,null,null,null,null,{"$f":"IFERROR(VLOOKUP($A82,$A$182:$V$1081,M$1,FALSE),\"\")","v":""},{"$f":"IFERROR(VLOOKUP($A82,$A$182:$V$1081,N$1,FALSE),\"\")","v":""},null,null,{"$f":"IFERROR(VLOOKUP($A82,$A$182:$V$1081,Q$1,FALSE),\"\")","v":""},null,"円",{"$f":"IFERROR(VLOOKUP($A82,$A$182:$V$1081,T$1,FALSE),\"\")","v":""},null,"円",null,null,73,null,null,"越谷市"]
["74",null,"➊➋➌それぞれの賃金改善額（見込額）",null,null,null,null,null,null,null,null,null,null,"➊",{"$f":"IFERROR(VLOOKUP($A83,$A$182:$V$1081,O$1,FALSE),\"\")","v":""},"円","➋",{"$f":"IFERROR(VLOOKUP($A83,$A$182:$V$1081,R$1,FALSE),\"\")","v":""},"円","➌",{"$f":"IFERROR(VLOOKUP($A83,$A$182:$V$1081,U$1,FALSE),\"\")","v":""},"円",null,null,74,null,null,"川口市"]
["75",null,null,null,null,null,null,null,null,null,null,null,null,"（",{"$f":"IFERROR(VLOOKUP($A84,$A$182:$V$1081,O$1,FALSE),\"\")","v":""},"人）","（",{"$f":"IFERROR(VLOOKUP($A84,$A$182:$V$1081,R$1,FALSE),\"\")","v":""},"人）","（",{"$f":"IFERROR(VLOOKUP($A84,$A$182:$V$1081,U$1,FALSE),\"\")","v":""},"人）",null,null,75,null,null,"船橋市"]
["76",null,{"$f":"IFERROR(VLOOKUP($A85,$A$182:$V$1081,C$1,FALSE),\"\")","v":""},null,null,null,null,null,null,null,null,null,{"$f":"IFERROR(VLOOKUP($A85,$A$182:$V$1081,M$1,FALSE),\"\")","v":""},{"$f":"IFERROR(VLOOKUP($A85,$A$182:$V$1081,N$1,FALSE),\"\")","v":""},null,null,{"$f":"IFERROR(VLOOKUP($A85,$A$182:$V$1081,Q$1,FALSE),\"\")","v":""},null,"円",{"$f":"IFERROR(VLOOKUP($A85,$A$182:$V$1081,T$1,FALSE),\"\")","v":""},null,"円",null,null,76,null,null,"柏市"]
["77",null,"➊➋➌それぞれの賃金改善額（見込額）",null,null,null,null,null,null,null,null,null,null,"➊",{"$f":"IFERROR(VLOOKUP($A86,$A$182:$V$1081,O$1,FALSE),\"\")","v":""},"円","➋",{"$f":"IFERROR(VLOOKUP($A86,$A$182:$V$1081,R$1,FALSE),\"\")","v":""},"円","➌",{"$f":"IFERROR(VLOOKUP($A86,$A$182:$V$1081,U$1,FALSE),\"\")","v":""},"円",null,null,77,null,null,"八王子市"]
["78",null,null,null,null,null,null,null,null,null,null,null,null,"（",{"$f":"IFERROR(VLOOKUP($A87,$A$182:$V$1081,O$1,FALSE),\"\")","v":""},"人）","（",{"$f":"IFERROR(VLOOKUP($A87,$A$182:$V$1081,R$1,FALSE),\"\")","v":""},"人）","（",{"$f":"IFERROR(VLOOKUP($A87,$A$182:$V$1081,U$1,FALSE),\"\")","v":""},"人）",null,null,78,null,null,"横須賀市"]
["79",null,{"$f":"IFERROR(VLOOKUP($A88,$A$182:$V$1081,C$1,FALSE),\"\")","v":""},null,null,null,null,null,null,null,null,null,{"$f":"IFERROR(VLOOKUP($A88,$A$182:$V$1081,M$1,FALSE),\"\")","v":""},{"$f":"IFERROR(VLOOKUP($A88,$A$182:$V$1081,N$1,FALSE),\"\")","v":""},null,null,{"$f":"IFERROR(VLOOKUP($A88,$A$182:$V$1081,Q$1,FALSE),\"\")","v":""},null,"円",{"$f":"IFERROR(VLOOKUP($A88,$A$182:$V$1081,T$1,FALSE),\"\")","v":""},null,"円",null,null,79,null,null,"富山市"]
["80",null,"➊➋➌それぞれの賃金改善額（見込額）",null,null,null,null,null,null,null,null,null,null,"➊",{"$f":"IFERROR(VLOOKUP($A89,$A$182:$V$1081,O$1,FALSE),\"\")","v":""},"円","➋",{"$f":"IFERROR(VLOOKUP($A89,$A$182:$V$1081,R$1,FALSE),\"\")","v":""},"円","➌",{"$f":"IFERROR(VLOOKUP($A89,$A$182:$V$1081,U$1,FALSE),\"\")","v":""},"円",null,null,80,null,null,"金沢市"]
["81",null,null,null,null,null,null,null,null,null,null,null,null,"（",{"$f":"IFERROR(VLOOKUP($A90,$A$182:$V$1081,O$1,FALSE),\"\")","v":""},"人）","（",{"$f":"IFERROR(VLOOKUP($A90,$A$182:$V$1081,R$1,FALSE),\"\")","v":""},"人）","（",{"$f":"IFERROR(VLOOKUP($A90,$A$182:$V$1081,U$1,FALSE),\"\")","v":""},"人）",null,null,81,null,null,"福井市"]
["82",null,{"$f":"IFERROR(VLOOKUP($A91,$A$182:$V$1081,C$1,FALSE),\"\")","v":""},null,null,null,null,null,null,null,null,null,{"$f":"IFERROR(VLOOKUP($A91,$A$182:$V$1081,M$1,FALSE),\"\")","v":""},{"$f":"IFERROR(VLOOKUP($A91,$A$182:$V$1081,N$1,FALSE),\"\")","v":""},null,null,{"$f":"IFERROR(VLOOKUP($A91,$A$182:$V$1081,Q$1,FALSE),\"\")","v":""},null,"円",{"$f":"IFERROR(VLOOKUP($A91,$A$182:$V$1081,T$1,FALSE),\"\")","v":""},null,"円",null,null,82,null,null,"甲府市"]
["83",null,"➊➋➌それぞれの賃金改善額（見込額）",null,null,null,null,null,null,null,null,null,null,"➊",{"$f":"IFERROR(VLOOKUP($A92,$A$182:$V$1081,O$1,FALSE),\"\")","v":""},"円","➋",{"$f":"IFERROR(VLOOKUP($A92,$A$182:$V$1081,R$1,FALSE),\"\")","v":""},"円","➌",{"$f":"IFERROR(VLOOKUP($A92,$A$182:$V$1081,U$1,FALSE),\"\")","v":""},"円",null,null,83,null,null,"長野市"]
["84",null,null,null,null,null,null,null,null,null,null,null,null,"（",{"$f":"IFERROR(VLOOKUP($A93,$A$182:$V$1081,O$1,FALSE),\"\")","v":""},"人）","（",{"$f":"IFERROR(VLOOKUP($A93,$A$182:$V$1081,R$1,FALSE),\"\")","v":""},"人）","（",{"$f":"IFERROR(VLOOKUP($A93,$A$182:$V$1081,U$1,FALSE),\"\")","v":""},"人）",null,null,84,null,null,"岐阜市"]
["85",null,{"$f":"IFERROR(VLOOKUP($A94,$A$182:$V$1081,C$1,FALSE),\"\")","v":""},null,null,null,null,null,null,null,null,null,{"$f":"IFERROR(VLOOKUP($A94,$A$182:$V$1081,M$1,FALSE),\"\")","v":""},{"$f":"IFERROR(VLOOKUP($A94,$A$182:$V$1081,N$1,FALSE),\"\")","v":""},null,null,{"$f":"IFERROR(VLOOKUP($A94,$A$182:$V$1081,Q$1,FALSE),\"\")","v":""},null,"円",{"$f":"IFERROR(VLOOKUP($A94,$A$182:$V$1081,T$1,FALSE),\"\")","v":""},null,"円",null,null,85,null,null,"豊橋市"]
["86",null,"➊➋➌それぞれの賃金改善額（見込額）",null,null,null,null,null,null,null,null,null,null,"➊",{"$f":"IFERROR(VLOOKUP($A95,$A$182:$V$1081,O$1,FALSE),\"\")","v":""},"円","➋",{"$f":"IFERROR(VLOOKUP($A95,$A$182:$V$1081,R$1,FALSE),\"\")","v":""},"円","➌",{"$f":"IFERROR(VLOOKUP($A95,$A$182:$V$1081,U$1,FALSE),\"\")","v":""},"円",null,null,86,null,null,"豊田市"]
["87",null,null,null,null,null,null,null,null,null,null,null,null,"（",{"$f":"IFERROR(VLOOKUP($A96,$A$182:$V$1081,O$1,FALSE),\"\")","v":""},"人）","（",{"$f":"IFERROR(VLOOKUP($A96,$A$182:$V$1081,R$1,FALSE),\"\")","v":""},"人）","（",{"$f":"IFERROR(VLOOKUP($A96,$A$182:$V$1081,U$1,FALSE),\"\")","v":""},"人）",null,null,87,null,null,"岡崎市"]
["88",null,{"$f":"IFERROR(VLOOKUP($A97,$A$182:$V$1081,C$1,FALSE),\"\")","v":""},null,null,null,null,null,null,null,null,null,{"$f":"IFERROR(VLOOKUP($A97,$A$182:$V$1081,M$1,FALSE),\"\")","v":""},{"$f":"IFERROR(VLOOKUP($A97,$A$182:$V$1081,N$1,FALSE),\"\")","v":""},null,null,{"$f":"IFERROR(VLOOKUP($A97,$A$182:$V$1081,Q$1,FALSE),\"\")","v":""},null,"円",{"$f":"IFERROR(VLOOKUP($A97,$A$182:$V$1081,T$1,FALSE),\"\")","v":""},null,"円",null,null,88,null,null,"大津市"]
["89",null,"➊➋➌それぞれの賃金改善額（見込額）",null,null,null,null,null,null,null,null,null,null,"➊",{"$f":"IFERROR(VLOOKUP($A98,$A$182:$V$1081,O$1,FALSE),\"\")","v":""},"円","➋",{"$f":"IFERROR(VLOOKUP($A98,$A$182:$V$1081,R$1,FALSE),\"\")","v":""},"円","➌",{"$f":"IFERROR(VLOOKUP($A98,$A$182:$V$1081,U$1,FALSE),\"\")","v":""},"円",null,null,89,null,null,"高槻市"]
["90",null,null,null,null,null,null,null,null,null,null,null,null,"（",{"$f":"IFERROR(VLOOKUP($A99,$A$182:$V$1081,O$1,FALSE),\"\")","v":""},"人）","（",{"$f":"IFERROR(VLOOKUP($A99,$A$182:$V$1081,R$1,FALSE),\"\")","v":""},"人）","（",{"$f":"IFERROR(VLOOKUP($A99,$A$182:$V$1081,U$1,FALSE),\"\")","v":""},"人）",null,null,90,null,null,"東大阪市"]
["91",null,{"$f":"IFERROR(VLOOKUP($A100,$A$182:$V$1081,C$1,FALSE),\"\")","v":""},null,null,null,null,null,null,null,null,null,{"$f":"IFERROR(VLOOKUP($A100,$A$182:$V$1081,M$1,FALSE),\"\")","v":""},{"$f":"IFERROR(VLOOKUP($A100,$A$182:$V$1081,N$1,FALSE),\"\")","v":""},null,null,{"$f":"IFERROR(VLOOKUP($A100,$A$182:$V$1081,Q$1,FALSE),\"\")","v":""},null,"円",{"$f":"IFERROR(VLOOKUP($A100,$A$182:$V$1081,T$1,FALSE),\"\")","v":""},null,"円",null,null,91,null,null,"豊中市"]
["92",null,"➊➋➌それぞれの賃金改善額（見込額）",null,null,null,null,null,null,null,null,null,null,"➊",{"$f":"IFERROR(VLOOKUP($A101,$A$182:$V$1081,O$1,FALSE),\"\")","v":""},"円","➋",{"$f":"IFERROR(VLOOKUP($A101,$A$182:$V$1081,R$1,FALSE),\"\")","v":""},"円","➌",{"$f":"IFERROR(VLOOKUP($A101,$A$182:$V$1081,U$1,FALSE),\"\")","v":""},"円",null,null,92,null,null,"枚方市"]
["93",null,null,null,null,null,null,null,null,null,null,null,null,"（",{"$f":"IFERROR(VLOOKUP($A102,$A$182:$V$1081,O$1,FALSE),\"\")","v":""},"人）","（",{"$f":"IFERROR(VLOOKUP($A102,$A$182:$V$1081,R$1,FALSE),\"\")","v":""},"人）","（",{"$f":"IFERROR(VLOOKUP($A102,$A$182:$V$1081,U$1,FALSE),\"\")","v":""},"人）",null,null,93,null,null,"八尾市"]
["94",null,{"$f":"IFERROR(VLOOKUP($A103,$A$182:$V$1081,C$1,FALSE),\"\")","v":""},null,null,null,null,null,null,null,null,null,{"$f":"IFERROR(VLOOKUP($A103,$A$182:$V$1081,M$1,FALSE),\"\")","v":""},{"$f":"IFERROR(VLOOKUP($A103,$A$182:$V$1081,N$1,FALSE),\"\")","v":""},null,null,{"$f":"IFERROR(VLOOKUP($A103,$A$182:$V$1081,Q$1,FALSE),\"\")","v":""},null,"円",{"$f":"IFERROR(VLOOKUP($A103,$A$182:$V$1081,T$1,FALSE),\"\")","v":""},null,"円",null,null,94,null,null,"寝屋川市"]
["95",null,"➊➋➌それぞれの賃金改善額（見込額）",null,null,null,null,null,null,null,null,null,null,"➊",{"$f":"IFERROR(VLOOKUP($A104,$A$182:$V$1081,O$1,FALSE),\"\")","v":""},"円","➋",{"$f":"IFERROR(VLOOKUP($A104,$A$182:$V$1081,R$1,FALSE),\"\")","v":""},"円","➌",{"$f":"IFERROR(VLOOKUP($A104,$A$182:$V$1081,U$1,FALSE),\"\")","v":""},"円",null,null,95,null,null,"姫路市"]
["96",null,null,null,null,null,null,null,null,null,null,null,null,"（",{"$f":"IFERROR(VLOOKUP($A105,$A$182:$V$1081,O$1,FALSE),\"\")","v":""},"人）","（",{"$f":"IFERROR(VLOOKUP($A105,$A$182:$V$1081,R$1,FALSE),\"\")","v":""},"人）","（",{"$f":"IFERROR(VLOOKUP($A105,$A$182:$V$1081,U$1,FALSE),\"\")","v":""},"人）",null,null,96,null,null,"西宮市"]
["97",null,{"$f":"IFERROR(VLOOKUP($A106,$A$182:$V$1081,C$1,FALSE),\"\")","v":""},null,null,null,null,null,null,null,null,null,{"$f":"IFERROR(VLOOKUP($A106,$A$182:$V$1081,M$1,FALSE),\"\")","v":""},{"$f":"IFERROR(VLOOKUP($A106,$A$182:$V$1081,N$1,FALSE),\"\")","v":""},null,null,{"$f":"IFERROR(VLOOKUP($A106,$A$182:$V$1081,Q$1,FALSE),\"\")","v":""},null,"円",{"$f":"IFERROR(VLOOKUP($A106,$A$182:$V$1081,T$1,FALSE),\"\")","v":""},null,"円",null,null,97,null,null,"尼崎市"]
["98",null,"➊➋➌それぞれの賃金改善額（見込額）",null,null,null,null,null,null,null,null,null,null,"➊",{"$f":"IFERROR(VLOOKUP($A107,$A$182:$V$1081,O$1,FALSE),\"\")","v":""},"円","➋",{"$f":"IFERROR(VLOOKUP($A107,$A$182:$V$1081,R$1,FALSE),\"\")","v":""},"円","➌",{"$f":"IFERROR(VLOOKUP($A107,$A$182:$V$1081,U$1,FALSE),\"\")","v":""},"円",null,null,98,null,null,"明石市"]
["99",null,null,null,null,null,null,null,null,null,null,null,null,"（",{"$f":"IFERROR(VLOOKUP($A108,$A$182:$V$1081,O$1,FALSE),\"\")","v":""},"人）","（",{"$f":"IFERROR(VLOOKUP($A108,$A$182:$V$1081,R$1,FALSE),\"\")","v":""},"人）","（",{"$f":"IFERROR(VLOOKUP($A108,$A$182:$V$1081,U$1,FALSE),\"\")","v":""},"人）",null,null,99,null,null,"奈良市"]
["100",null,{"$f":"IFERROR(VLOOKUP($A109,$A$182:$V$1081,C$1,FALSE),\"\")","v":""},null,null,null,null,null,null,null,null,null,{"$f":"IFERROR(VLOOKUP($A109,$A$182:$V$1081,M$1,FALSE),\"\")","v":""},{"$f":"IFERROR(VLOOKUP($A109,$A$182:$V$1081,N$1,FALSE),\"\")","v":""},null,null,{"$f":"IFERROR(VLOOKUP($A109,$A$182:$V$1081,Q$1,FALSE),\"\")","v":""},null,"円",{"$f":"IFERROR(VLOOKUP($A109,$A$182:$V$1081,T$1,FALSE),\"\")","v":""},null,"円",null,null,100,null,null,"和歌山市"]
["101",null,"➊➋➌それぞれの賃金改善額（見込額）",null,null,null,null,null,null,null,null,null,null,"➊",{"$f":"IFERROR(VLOOKUP($A110,$A$182:$V$1081,O$1,FALSE),\"\")","v":""},"円","➋",{"$f":"IFERROR(VLOOKUP($A110,$A$182:$V$1081,R$1,FALSE),\"\")","v":""},"円","➌",{"$f":"IFERROR(VLOOKUP($A110,$A$182:$V$1081,U$1,FALSE),\"\")","v":""},"円",null,null,101,null,null,"鳥取市"]
["102",null,null,null,null,null,null,null,null,null,null,null,null,"（",{"$f":"IFERROR(VLOOKUP($A111,$A$182:$V$1081,O$1,FALSE),\"\")","v":""},"人）","（",{"$f":"IFERROR(VLOOKUP($A111,$A$182:$V$1081,R$1,FALSE),\"\")","v":""},"人）","（",{"$f":"IFERROR(VLOOKUP($A111,$A$182:$V$1081,U$1,FALSE),\"\")","v":""},"人）",null,null,102,null,null,"松江市"]
["103",null,{"$f":"IFERROR(VLOOKUP($A112,$A$182:$V$1081,C$1,FALSE),\"\")","v":""},null,null,null,null,null,null,null,null,null,{"$f":"IFERROR(VLOOKUP($A112,$A$182:$V$1081,M$1,FALSE),\"\")","v":""},{"$f":"IFERROR(VLOOKUP($A112,$A$182:$V$1081,N$1,FALSE),\"\")","v":""},null,null,{"$f":"IFERROR(VLOOKUP($A112,$A$182:$V$1081,Q$1,FALSE),\"\")","v":""},null,"円",{"$f":"IFERROR(VLOOKUP($A112,$A$182:$V$1081,T$1,FALSE),\"\")","v":""},null,"円",null,null,103,null,null,"倉敷市"]
["104",null,"➊➋➌それぞれの賃金改善額（見込額）",null,null,null,null,null,null,null,null,null,null,"➊",{"$f":"IFERROR(VLOOKUP($A113,$A$182:$V$1081,O$1,FALSE),\"\")","v":""},"円","➋",{"$f":"IFERROR(VLOOKUP($A113,$A$182:$V$1081,R$1,FALSE),\"\")","v":""},"円","➌",{"$f":"IFERROR(VLOOKUP($A113,$A$182:$V$1081,U$1,FALSE),\"\")","v":""},"円",null,null,104,null,null,"福山市"]
["105",null,null,null,null,null,null,null,null,null,null,null,null,"（",{"$f":"IFERROR(VLOOKUP($A114,$A$182:$V$1081,O$1,FALSE),\"\")","v":""},"人）","（",{"$f":"IFERROR(VLOOKUP($A114,$A$182:$V$1081,R$1,FALSE),\"\")","v":""},"人）","（",{"$f":"IFERROR(VLOOKUP($A114,$A$182:$V$1081,U$1,FALSE),\"\")","v":""},"人）",null,null,105,null,null,"呉市"]
["106",null,{"$f":"IFERROR(VLOOKUP($A115,$A$182:$V$1081,C$1,FALSE),\"\")","v":""},null,null,null,null,null,null,null,null,null,{"$f":"IFERROR(VLOOKUP($A115,$A$182:$V$1081,M$1,FALSE),\"\")","v":""},{"$f":"IFERROR(VLOOKUP($A115,$A$182:$V$1081,N$1,FALSE),\"\")","v":""},null,null,{"$f":"IFERROR(VLOOKUP($A115,$A$182:$V$1081,Q$1,FALSE),\"\")","v":""},null,"円",{"$f":"IFERROR(VLOOKUP($A115,$A$182:$V$1081,T$1,FALSE),\"\")","v":""},null,"円",null,null,106,null,null,"下関市"]
["107",null,"➊➋➌それぞれの賃金改善額（見込額）",null,null,null,null,null,null,null,null,null,null,"➊",{"$f":"IFERROR(VLOOKUP($A116,$A$182:$V$1081,O$1,FALSE),\"\")","v":""},"円","➋",{"$f":"IFERROR(VLOOKUP($A116,$A$182:$V$1081,R$1,FALSE),\"\")","v":""},"円","➌",{"$f":"IFERROR(VLOOKUP($A116,$A$182:$V$1081,U$1,FALSE),\"\")","v":""},"円",null,null,107,null,null,"高松市"]
["108",null,null,null,null,null,null,null,null,null,null,null,null,"（",{"$f":"IFERROR(VLOOKUP($A117,$A$182:$V$1081,O$1,FALSE),\"\")","v":""},"人）","（",{"$f":"IFERROR(VLOOKUP($A117,$A$182:$V$1081,R$1,FALSE),\"\")","v":""},"人）","（",{"$f":"IFERROR(VLOOKUP($A117,$A$182:$V$1081,U$1,FALSE),\"\")","v":""},"人）",null,null,108,null,null,"松山市"]
["109",null,{"$f":"IFERROR(VLOOKUP($A118,$A$182:$V$1081,C$1,FALSE),\"\")","v":""},null,null,null,null,null,null,null,null,null,{"$f":"IFERROR(VLOOKUP($A118,$A$182:$V$1081,M$1,FALSE),\"\")","v":""},{"$f":"IFERROR(VLOOKUP($A118,$A$182:$V$1081,N$1,FALSE),\"\")","v":""},null,null,{"$f":"IFERROR(VLOOKUP($A118,$A$182:$V$1081,Q$1,FALSE),\"\")","v":""},null,"円",{"$f":"IFERROR(VLOOKUP($A118,$A$182:$V$1081,T$1,FALSE),\"\")","v":""},null,"円",null,null,109,null,null,"高知市"]
["110",null,"➊➋➌それぞれの賃金改善額（見込額）",null,null,null,null,null,null,null,null,null,null,"➊",{"$f":"IFERROR(VLOOKUP($A119,$A$182:$V$1081,O$1,FALSE),\"\")","v":""},"円","➋",{"$f":"IFERROR(VLOOKUP($A119,$A$182:$V$1081,R$1,FALSE),\"\")","v":""},"円","➌",{"$f":"IFERROR(VLOOKUP($A119,$A$182:$V$1081,U$1,FALSE),\"\")","v":""},"円",null,null,110,null,null,"久留米市"]
["111",null,null,null,null,null,null,null,null,null,null,null,null,"（",{"$f":"IFERROR(VLOOKUP($A120,$A$182:$V$1081,O$1,FALSE),\"\")","v":""},"人）","（",{"$f":"IFERROR(VLOOKUP($A120,$A$182:$V$1081,R$1,FALSE),\"\")","v":""},"人）","（",{"$f":"IFERROR(VLOOKUP($A120,$A$182:$V$1081,U$1,FALSE),\"\")","v":""},"人）",null,null,111,null,null,"長崎市"]
["112",null,{"$f":"IFERROR(VLOOKUP($A121,$A$182:$V$1081,C$1,FALSE),\"\")","v":""},null,null,null,null,null,null,null,null,null,{"$f":"IFERROR(VLOOKUP($A121,$A$182:$V$1081,M$1,FALSE),\"\")","v":""},{"$f":"IFERROR(VLOOKUP($A121,$A$182:$V$1081,N$1,FALSE),\"\")","v":""},null,null,{"$f":"IFERROR(VLOOKUP($A121,$A$182:$V$1081,Q$1,FALSE),\"\")","v":""},null,"円",{"$f":"IFERROR(VLOOKUP($A121,$A$182:$V$1081,T$1,FALSE),\"\")","v":""},null,"円",null,null,112,null,null,"佐世保市"]
["113",null,"➊➋➌それぞれの賃金改善額（見込額）",null,null,null,null,null,null,null,null,null,null,"➊",{"$f":"IFERROR(VLOOKUP($A122,$A$182:$V$1081,O$1,FALSE),\"\")","v":""},"円","➋",{"$f":"IFERROR(VLOOKUP($A122,$A$182:$V$1081,R$1,FALSE),\"\")","v":""},"円","➌",{"$f":"IFERROR(VLOOKUP($A122,$A$182:$V$1081,U$1,FALSE),\"\")","v":""},"円",null,null,113,null,null,"大分市"]
["114",null,null,null,null,null,null,null,null,null,null,null,null,"（",{"$f":"IFERROR(VLOOKUP($A123,$A$182:$V$1081,O$1,FALSE),\"\")","v":""},"人）","（",{"$f":"IFERROR(VLOOKUP($A123,$A$182:$V$1081,R$1,FALSE),\"\")","v":""},"人）","（",{"$f":"IFERROR(VLOOKUP($A123,$A$182:$V$1081,U$1,FALSE),\"\")","v":""},"人）",null,null,114,null,null,"宮崎市"]
["115",null,{"$f":"IFERROR(VLOOKUP($A124,$A$182:$V$1081,C$1,FALSE),\"\")","v":""},null,null,null,null,null,null,null,null,null,{"$f":"IFERROR(VLOOKUP($A124,$A$182:$V$1081,M$1,FALSE),\"\")","v":""},{"$f":"IFERROR(VLOOKUP($A124,$A$182:$V$1081,N$1,FALSE),\"\")","v":""},null,null,{"$f":"IFERROR(VLOOKUP($A124,$A$182:$V$1081,Q$1,FALSE),\"\")","v":""},null,"円",{"$f":"IFERROR(VLOOKUP($A124,$A$182:$V$1081,T$1,FALSE),\"\")","v":""},null,"円",null,null,115,null,null,"鹿児島市"]
["116",null,"➊➋➌それぞれの賃金改善額（見込額）",null,null,null,null,null,null,null,null,null,null,"➊",{"$f":"IFERROR(VLOOKUP($A125,$A$182:$V$1081,O$1,FALSE),\"\")","v":""},"円","➋",{"$f":"IFERROR(VLOOKUP($A125,$A$182:$V$1081,R$1,FALSE),\"\")","v":""},"円","➌",{"$f":"IFERROR(VLOOKUP($A125,$A$182:$V$1081,U$1,FALSE),\"\")","v":""},"円",null,null,116,null,null,"那覇市"]
["117",null,null,null,null,null,null,null,null,null,null,null,null,"（",{"$f":"IFERROR(VLOOKUP($A126,$A$182:$V$1081,O$1,FALSE),\"\")","v":""},"人）","（",{"$f":"IFERROR(VLOOKUP($A126,$A$182:$V$1081,R$1,FALSE),\"\")","v":""},"人）","（",{"$f":"IFERROR(VLOOKUP($A126,$A$182:$V$1081,U$1,FALSE),\"\")","v":""},"人）",null,null,117]
["118",null,{"$f":"IFERROR(VLOOKUP($A127,$A$182:$V$1081,C$1,FALSE),\"\")","v":""},null,null,null,null,null,null,null,null,null,{"$f":"IFERROR(VLOOKUP($A127,$A$182:$V$1081,M$1,FALSE),\"\")","v":""},{"$f":"IFERROR(VLOOKUP($A127,$A$182:$V$1081,N$1,FALSE),\"\")","v":""},null,null,{"$f":"IFERROR(VLOOKUP($A127,$A$182:$V$1081,Q$1,FALSE),\"\")","v":""},null,"円",{"$f":"IFERROR(VLOOKUP($A127,$A$182:$V$1081,T$1,FALSE),\"\")","v":""},null,"円",null,null,118]
["119",null,"➊➋➌それぞれの賃金改善額（見込額）",null,null,null,null,null,null,null,null,null,null,"➊",{"$f":"IFERROR(VLOOKUP($A128,$A$182:$V$1081,O$1,FALSE),\"\")","v":""},"円","➋",{"$f":"IFERROR(VLOOKUP($A128,$A$182:$V$1081,R$1,FALSE),\"\")","v":""},"円","➌",{"$f":"IFERROR(VLOOKUP($A128,$A$182:$V$1081,U$1,FALSE),\"\")","v":""},"円",null,null,119]
["120",null,null,null,null,null,null,null,null,null,null,null,null,"（",{"$f":"IFERROR(VLOOKUP($A129,$A$182:$V$1081,O$1,FALSE),\"\")","v":""},"人）","（",{"$f":"IFERROR(VLOOKUP($A129,$A$182:$V$1081,R$1,FALSE),\"\")","v":""},"人）","（",{"$f":"IFERROR(VLOOKUP($A129,$A$182:$V$1081,U$1,FALSE),\"\")","v":""},"人）",null,null,120]
["121",null,{"$f":"IFERROR(VLOOKUP($A130,$A$182:$V$1081,C$1,FALSE),\"\")","v":""},null,null,null,null,null,null,null,null,null,{"$f":"IFERROR(VLOOKUP($A130,$A$182:$V$1081,M$1,FALSE),\"\")","v":""},{"$f":"IFERROR(VLOOKUP($A130,$A$182:$V$1081,N$1,FALSE),\"\")","v":""},null,null,{"$f":"IFERROR(VLOOKUP($A130,$A$182:$V$1081,Q$1,FALSE),\"\")","v":""},null,"円",{"$f":"IFERROR(VLOOKUP($A130,$A$182:$V$1081,T$1,FALSE),\"\")","v":""},null,"円",null,null,121]
["122",null,"➊➋➌それぞれの賃金改善額（見込額）",null,null,null,null,null,null,null,null,null,null,"➊",{"$f":"IFERROR(VLOOKUP($A131,$A$182:$V$1081,O$1,FALSE),\"\")","v":""},"円","➋",{"$f":"IFERROR(VLOOKUP($A131,$A$182:$V$1081,R$1,FALSE),\"\")","v":""},"円","➌",{"$f":"IFERROR(VLOOKUP($A131,$A$182:$V$1081,U$1,FALSE),\"\")","v":""},"円",null,null,122]
["123",null,null,null,null,null,null,null,null,null,null,null,null,"（",{"$f":"IFERROR(VLOOKUP($A132,$A$182:$V$1081,O$1,FALSE),\"\")","v":""},"人）","（",{"$f":"IFERROR(VLOOKUP($A132,$A$182:$V$1081,R$1,FALSE),\"\")","v":""},"人）","（",{"$f":"IFERROR(VLOOKUP($A132,$A$182:$V$1081,U$1,FALSE),\"\")","v":""},"人）",null,null,123]
["124",null,{"$f":"IFERROR(VLOOKUP($A133,$A$182:$V$1081,C$1,FALSE),\"\")","v":""},null,null,null,null,null,null,null,null,null,{"$f":"IFERROR(VLOOKUP($A133,$A$182:$V$1081,M$1,FALSE),\"\")","v":""},{"$f":"IFERROR(VLOOKUP($A133,$A$182:$V$1081,N$1,FALSE),\"\")","v":""},null,null,{"$f":"IFERROR(VLOOKUP($A133,$A$182:$V$1081,Q$1,FALSE),\"\")","v":""},null,"円",{"$f":"IFERROR(VLOOKUP($A133,$A$182:$V$1081,T$1,FALSE),\"\")","v":""},null,"円",null,null,124]
["125",null,"➊➋➌それぞれの賃金改善額（見込額）",null,null,null,null,null,null,null,null,null,null,"➊",{"$f":"IFERROR(VLOOKUP($A134,$A$182:$V$1081,O$1,FALSE),\"\")","v":""},"円","➋",{"$f":"IFERROR(VLOOKUP($A134,$A$182:$V$1081,R$1,FALSE),\"\")","v":""},"円","➌",{"$f":"IFERROR(VLOOKUP($A134,$A$182:$V$1081,U$1,FALSE),\"\")","v":""},"円",null,null,125]
["126",null,null,null,null,null,null,null,null,null,null,null,null,"（",{"$f":"IFERROR(VLOOKUP($A135,$A$182:$V$1081,O$1,FALSE),\"\")","v":""},"人）","（",{"$f":"IFERROR(VLOOKUP($A135,$A$182:$V$1081,R$1,FALSE),\"\")","v":""},"人）","（",{"$f":"IFERROR(VLOOKUP($A135,$A$182:$V$1081,U$1,FALSE),\"\")","v":""},"人）",null,null,126]
["127",null,{"$f":"IFERROR(VLOOKUP($A136,$A$182:$V$1081,C$1,FALSE),\"\")","v":""},null,null,null,null,null,null,null,null,null,{"$f":"IFERROR(VLOOKUP($A136,$A$182:$V$1081,M$1,FALSE),\"\")","v":""},{"$f":"IFERROR(VLOOKUP($A136,$A$182:$V$1081,N$1,FALSE),\"\")","v":""},null,null,{"$f":"IFERROR(VLOOKUP($A136,$A$182:$V$1081,Q$1,FALSE),\"\")","v":""},null,"円",{"$f":"IFERROR(VLOOKUP($A136,$A$182:$V$1081,T$1,FALSE),\"\")","v":""},null,"円",null,null,127]
["128",null,"➊➋➌それぞれの賃金改善額（見込額）",null,null,null,null,null,null,null,null,null,null,"➊",{"$f":"IFERROR(VLOOKUP($A137,$A$182:$V$1081,O$1,FALSE),\"\")","v":""},"円","➋",{"$f":"IFERROR(VLOOKUP($A137,$A$182:$V$1081,R$1,FALSE),\"\")","v":""},"円","➌",{"$f":"IFERROR(VLOOKUP($A137,$A$182:$V$1081,U$1,FALSE),\"\")","v":""},"円",null,null,128]
["129",null,null,null,null,null,null,null,null,null,null,null,null,"（",{"$f":"IFERROR(VLOOKUP($A138,$A$182:$V$1081,O$1,FALSE),\"\")","v":""},"人）","（",{"$f":"IFERROR(VLOOKUP($A138,$A$182:$V$1081,R$1,FALSE),\"\")","v":""},"人）","（",{"$f":"IFERROR(VLOOKUP($A138,$A$182:$V$1081,U$1,FALSE),\"\")","v":""},"人）",null,null,129]
[{"$f":"$C$7&Y139","v":"130"},null,{"$f":"IFERROR(VLOOKUP($A139,$A$182:$V$1081,C$1,FALSE),\"\")","v":""},null,null,null,null,null,null,null,null,null,{"$f":"IFERROR(VLOOKUP($A139,$A$182:$V$1081,M$1,FALSE),\"\")","v":""},{"$f":"IFERROR(VLOOKUP($A139,$A$182:$V$1081,N$1,FALSE),\"\")","v":""},null,null,{"$f":"IFERROR(VLOOKUP($A139,$A$182:$V$1081,Q$1,FALSE),\"\")","v":""},null,"円",{"$f":"IFERROR(VLOOKUP($A139,$A$182:$V$1081,T$1,FALSE),\"\")","v":""},null,"円",null,null,130]
["131",null,"➊➋➌それぞれの賃金改善額（見込額）",null,null,null,null,null,null,null,null,null,null,"➊",{"$f":"IFERROR(VLOOKUP($A140,$A$182:$V$1081,O$1,FALSE),\"\")","v":""},"円","➋",{"$f":"IFERROR(VLOOKUP($A140,$A$182:$V$1081,R$1,FALSE),\"\")","v":""},"円","➌",{"$f":"IFERROR(VLOOKUP($A140,$A$182:$V$1081,U$1,FALSE),\"\")","v":""},"円",null,null,131]
["132",null,null,null,null,null,null,null,null,null,null,null,null,"（",{"$f":"IFERROR(VLOOKUP($A141,$A$182:$V$1081,O$1,FALSE),\"\")","v":""},"人）","（",{"$f":"IFERROR(VLOOKUP($A141,$A$182:$V$1081,R$1,FALSE),\"\")","v":""},"人）","（",{"$f":"IFERROR(VLOOKUP($A141,$A$182:$V$1081,U$1,FALSE),\"\")","v":""},"人）",null,null,132]
["133",null,{"$f":"IFERROR(VLOOKUP($A142,$A$182:$V$1081,C$1,FALSE),\"\")","v":""},null,null,null,null,null,null,null,null,null,{"$f":"IFERROR(VLOOKUP($A142,$A$182:$V$1081,M$1,FALSE),\"\")","v":""},{"$f":"IFERROR(VLOOKUP($A142,$A$182:$V$1081,N$1,FALSE),\"\")","v":""},null,null,{"$f":"IFERROR(VLOOKUP($A142,$A$182:$V$1081,Q$1,FALSE),\"\")","v":""},null,"円",{"$f":"IFERROR(VLOOKUP($A142,$A$182:$V$1081,T$1,FALSE),\"\")","v":""},null,"円",null,null,133]
["134",null,"➊➋➌それぞれの賃金改善額（見込額）",null,null,null,null,null,null,null,null,null,null,"➊",{"$f":"IFERROR(VLOOKUP($A143,$A$182:$V$1081,O$1,FALSE),\"\")","v":""},"円","➋",{"$f":"IFERROR(VLOOKUP($A143,$A$182:$V$1081,R$1,FALSE),\"\")","v":""},"円","➌",{"$f":"IFERROR(VLOOKUP($A143,$A$182:$V$1081,U$1,FALSE),\"\")","v":""},"円",null,null,134]
["135",null,null,null,null,null,null,null,null,null,null,null,null,"（",{"$f":"IFERROR(VLOOKUP($A144,$A$182:$V$1081,O$1,FALSE),\"\")","v":""},"人）","（",{"$f":"IFERROR(VLOOKUP($A144,$A$182:$V$1081,R$1,FALSE),\"\")","v":""},"人）","（",{"$f":"IFERROR(VLOOKUP($A144,$A$182:$V$1081,U$1,FALSE),\"\")","v":""},"人）",null,null,135]
["136",null,{"$f":"IFERROR(VLOOKUP($A145,$A$182:$V$1081,C$1,FALSE),\"\")","v":""},null,null,null,null,null,null,null,null,null,{"$f":"IFERROR(VLOOKUP($A145,$A$182:$V$1081,M$1,FALSE),\"\")","v":""},{"$f":"IFERROR(VLOOKUP($A145,$A$182:$V$1081,N$1,FALSE),\"\")","v":""},null,null,{"$f":"IFERROR(VLOOKUP($A145,$A$182:$V$1081,Q$1,FALSE),\"\")","v":""},null,"円",{"$f":"IFERROR(VLOOKUP($A145,$A$182:$V$1081,T$1,FALSE),\"\")","v":""},null,"円",null,null,136]
["137",null,"➊➋➌それぞれの賃金改善額（見込額）",null,null,null,null,null,null,null,null,null,null,"➊",{"$f":"IFERROR(VLOOKUP($A146,$A$182:$V$1081,O$1,FALSE),\"\")","v":""},"円","➋",{"$f":"IFERROR(VLOOKUP($A146,$A$182:$V$1081,R$1,FALSE),\"\")","v":""},"円","➌",{"$f":"IFERROR(VLOOKUP($A146,$A$182:$V$1081,U$1,FALSE),\"\")","v":""},"円",null,null,137]
["138",null,null,null,null,null,null,null,null,null,null,null,null,"（",{"$f":"IFERROR(VLOOKUP($A147,$A$182:$V$1081,O$1,FALSE),\"\")","v":""},"人）","（",{"$f":"IFERROR(VLOOKUP($A147,$A$182:$V$1081,R$1,FALSE),\"\")","v":""},"人）","（",{"$f":"IFERROR(VLOOKUP($A147,$A$182:$V$1081,U$1,FALSE),\"\")","v":""},"人）",null,null,138]
["139",null,{"$f":"IFERROR(VLOOKUP($A148,$A$182:$V$1081,C$1,FALSE),\"\")","v":""},null,null,null,null,null,null,null,null,null,{"$f":"IFERROR(VLOOKUP($A148,$A$182:$V$1081,M$1,FALSE),\"\")","v":""},{"$f":"IFERROR(VLOOKUP($A148,$A$182:$V$1081,N$1,FALSE),\"\")","v":""},null,null,{"$f":"IFERROR(VLOOKUP($A148,$A$182:$V$1081,Q$1,FALSE),\"\")","v":""},null,"円",{"$f":"IFERROR(VLOOKUP($A148,$A$182:$V$1081,T$1,FALSE),\"\")","v":""},null,"円",null,null,139]
["140",null,"➊➋➌それぞれの賃金改善額（見込額）",null,null,null,null,null,null,null,null,null,null,"➊",{"$f":"IFERROR(VLOOKUP($A149,$A$182:$V$1081,O$1,FALSE),\"\")","v":""},"円","➋",{"$f":"IFERROR(VLOOKUP($A149,$A$182:$V$1081,R$1,FALSE),\"\")","v":""},"円","➌",{"$f":"IFERROR(VLOOKUP($A149,$A$182:$V$1081,U$1,FALSE),\"\")","v":""},"円",null,null,140]
["141",null,null,null,null,null,null,null,null,null,null,null,null,"（",{"$f":"IFERROR(VLOOKUP($A150,$A$182:$V$1081,O$1,FALSE),\"\")","v":""},"人）","（",{"$f":"IFERROR(VLOOKUP($A150,$A$182:$V$1081,R$1,FALSE),\"\")","v":""},"人）","（",{"$f":"IFERROR(VLOOKUP($A150,$A$182:$V$1081,U$1,FALSE),\"\")","v":""},"人）",null,null,141]
["142",null,{"$f":"IFERROR(VLOOKUP($A151,$A$182:$V$1081,C$1,FALSE),\"\")","v":""},null,null,null,null,null,null,null,null,null,{"$f":"IFERROR(VLOOKUP($A151,$A$182:$V$1081,M$1,FALSE),\"\")","v":""},{"$f":"IFERROR(VLOOKUP($A151,$A$182:$V$1081,N$1,FALSE),\"\")","v":""},null,null,{"$f":"IFERROR(VLOOKUP($A151,$A$182:$V$1081,Q$1,FALSE),\"\")","v":""},null,"円",{"$f":"IFERROR(VLOOKUP($A151,$A$182:$V$1081,T$1,FALSE),\"\")","v":""},null,"円",null,null,142]
["143",null,"➊➋➌それぞれの賃金改善額（見込額）",null,null,null,null,null,null,null,null,null,null,"➊",{"$f":"IFERROR(VLOOKUP($A152,$A$182:$V$1081,O$1,FALSE),\"\")","v":""},"円","➋",{"$f":"IFERROR(VLOOKUP($A152,$A$182:$V$1081,R$1,FALSE),\"\")","v":""},"円","➌",{"$f":"IFERROR(VLOOKUP($A152,$A$182:$V$1081,U$1,FALSE),\"\")","v":""},"円",null,null,143]
["144",null,null,null,null,null,null,null,null,null,null,null,null,"（",{"$f":"IFERROR(VLOOKUP($A153,$A$182:$V$1081,O$1,FALSE),\"\")","v":""},"人）","（",{"$f":"IFERROR(VLOOKUP($A153,$A$182:$V$1081,R$1,FALSE),\"\")","v":""},"人）","（",{"$f":"IFERROR(VLOOKUP($A153,$A$182:$V$1081,U$1,FALSE),\"\")","v":""},"人）",null,null,144]
["145",null,{"$f":"IFERROR(VLOOKUP($A154,$A$182:$V$1081,C$1,FALSE),\"\")","v":""},null,null,null,null,null,null,null,null,null,{"$f":"IFERROR(VLOOKUP($A154,$A$182:$V$1081,M$1,FALSE),\"\")","v":""},{"$f":"IFERROR(VLOOKUP($A154,$A$182:$V$1081,N$1,FALSE),\"\")","v":""},null,null,{"$f":"IFERROR(VLOOKUP($A154,$A$182:$V$1081,Q$1,FALSE),\"\")","v":""},null,"円",{"$f":"IFERROR(VLOOKUP($A154,$A$182:$V$1081,T$1,FALSE),\"\")","v":""},null,"円",null,null,145]
["146",null,"➊➋➌それぞれの賃金改善額（見込額）",null,null,null,null,null,null,null,null,null,null,"➊",{"$f":"IFERROR(VLOOKUP($A155,$A$182:$V$1081,O$1,FALSE),\"\")","v":""},"円","➋",{"$f":"IFERROR(VLOOKUP($A155,$A$182:$V$1081,R$1,FALSE),\"\")","v":""},"円","➌",{"$f":"IFERROR(VLOOKUP($A155,$A$182:$V$1081,U$1,FALSE),\"\")","v":""},"円",null,null,146]
["147",null,null,null,null,null,null,null,null,null,null,null,null,"（",{"$f":"IFERROR(VLOOKUP($A156,$A$182:$V$1081,O$1,FALSE),\"\")","v":""},"人）","（",{"$f":"IFERROR(VLOOKUP($A156,$A$182:$V$1081,R$1,FALSE),\"\")","v":""},"人）","（",{"$f":"IFERROR(VLOOKUP($A156,$A$182:$V$1081,U$1,FALSE),\"\")","v":""},"人）",null,null,147]
["148",null,{"$f":"IFERROR(VLOOKUP($A157,$A$182:$V$1081,C$1,FALSE),\"\")","v":""},null,null,null,null,null,null,null,null,null,{"$f":"IFERROR(VLOOKUP($A157,$A$182:$V$1081,M$1,FALSE),\"\")","v":""},{"$f":"IFERROR(VLOOKUP($A157,$A$182:$V$1081,N$1,FALSE),\"\")","v":""},null,null,{"$f":"IFERROR(VLOOKUP($A157,$A$182:$V$1081,Q$1,FALSE),\"\")","v":""},null,"円",{"$f":"IFERROR(VLOOKUP($A157,$A$182:$V$1081,T$1,FALSE),\"\")","v":""},null,"円",null,null,148]
["149",null,"➊➋➌それぞれの賃金改善額（見込額）",null,null,null,null,null,null,null,null,null,null,"➊",{"$f":"IFERROR(VLOOKUP($A158,$A$182:$V$1081,O$1,FALSE),\"\")","v":""},"円","➋",{"$f":"IFERROR(VLOOKUP($A158,$A$182:$V$1081,R$1,FALSE),\"\")","v":""},"円","➌",{"$f":"IFERROR(VLOOKUP($A158,$A$182:$V$1081,U$1,FALSE),\"\")","v":""},"円",null,null,149]
["150",null,null,null,null,null,null,null,null,null,null,null,null,"（",{"$f":"IFERROR(VLOOKUP($A159,$A$182:$V$1081,O$1,FALSE),\"\")","v":""},"人）","（",{"$f":"IFERROR(VLOOKUP($A159,$A$182:$V$1081,R$1,FALSE),\"\")","v":""},"人）","（",{"$f":"IFERROR(VLOOKUP($A159,$A$182:$V$1081,U$1,FALSE),\"\")","v":""},"人）",null,null,150]
[null,null,"合計",null,null,null,null,null,null,null,null,null,"－","－",null,null,{"$f":"_xlfn.AGGREGATE(9,6,Q10:Q159)","v":0},null,"円",{"$f":"_xlfn.AGGREGATE(9,6,T10:T159)","v":0},null,"円"]
[null,null,null,null,null,null,null,null,null,null,null,null,null,null,null,null,"Ａ",null,null,"Ｂ"]
[null,null,"※ 計画書を届け出る指定権者（都道府県又は市区町村）ごとに記載すること。"]
[null,null,"※ A及びBは別紙様式２添付書類２の当該指定権者における金額と一致しなければならない。"]
[]
[null,null,null,null,null,null,null,null,null,null,null,null,null,null,null,null,null,null,"ページ数　　総ページ数\n／"]
[]
[]
[]
[]
[]
[null,null,"006各シート集約!C",null,null,null,null,null,null,null,null,null,"006各シート集約!D","006各シート集約!E",null,null,"006各シート集約!F",null,null,"006各シート集約!G",null,null,"006各シート集約!H"]
[null,null,null,null,null,null,null,null,null,null,null,null,null,null,"006各シート集約!K",null,null,"006各シート集約!Q",null,null,"006各シート集約!V"]
[null,null,null,null,null,null,null,null,null,null,null,null,null,null,"006各シート集約!J",null,null,"006各シート集約!P",null,null,"006各シート集約!U"]
[null,null,"別紙様式２（添付資料１）"]
[null,null,"福祉・介護職員等特定処遇改善計画書(指定権者内事業所一覧表）　全体版"]
[null,null,"                                                                        "]
[null,null,"法人名",null,null,null,null,null,null,null,null,null,{"$f":"'001別紙様式２'!G16","v":0}]
[]
[null,null,"都道府県（市町村）名"]
[]
[null,null,"障害福祉サービス等事業所番号",null,null,null,null,null,null,null,null,null,"事業所の名称","サービス名",null,null,"福祉・介護職員等特定処遇改善加算額（見込額）",null,null,"賃金改善額（見込額）",null,null,null,6,3]
[{"$f":"W182&Y182","v":{"$error":"#REF!"}},null,{"$f":"INDIRECT(C$171&$X182)","v":{"$error":"#REF!"}},null,null,null,null,null,null,null,null,null,{"$f":"INDIRECT(M$171&$X182)","v":{"$error":"#REF!"}},{"$f":"INDIRECT(N$171&$X182)","v":{"$error":"#REF!"}},null,null,{"$f":"INDIRECT(Q$171&$X182)","v":{"$error":"#REF!"}},null,"円",{"$f":"INDIRECT(T$171&$X182)","v":{"$error":"#REF!"}},null,"円",{"$f":"INDIRECT($W$171&X182)","v":{"$error":"#REF!"}},{"$f":"X181+1","v":7},{"$f":"COUNTIF($W$181:W182,W182)","v":1}]
[{"$f":"W183&Y183","v":{"$error":"#REF!"}},null,"➊➋➌それぞれの賃金改善額（見込額）",null,null,null,null,null,null,null,null,null,null,"➊",{"$f":"INDIRECT(O$172&$X183)","v":{"$error":"#REF!"}},"円","➋",{"$f":"INDIRECT(R$172&$X183)","v":{"$error":"#REF!"}},"円","➌",{"$f":"INDIRECT(U$172&$X183)","v":{"$error":"#REF!"}},"円",{"$f":"INDIRECT($W$171&X183)","v":{"$error":"#REF!"}},{"$f":"X182","v":7},{"$f":"COUNTIF($W$181:W183,W183)","v":2}]
[{"$error":"#REF!"},null,null,null,null,null,null,null,null,null,null,null,null,"（",{"$f":"INDIRECT(O$173&$X184)","v":{"$error":"#REF!"}},"人）","（",{"$f":"INDIRECT(R$173&$X184)","v":{"$error":"#REF!"}},"人）","（",{"$f":"INDIRECT(U$173&$X184)","v":{"$error":"#REF!"}},"人）",{"$error":"#REF!"},{"$f":"X183","v":7},{"$f":"COUNTIF($W$181:W184,W184)","v":3}]
[{"$error":"#REF!"},null,{"$f":"INDIRECT(C$171&$X185)","v":{"$error":"#REF!"}},null,null,null,null,null,null,null,null,null,{"$f":"INDIRECT(M$171&$X185)","v":{"$error":"#REF!"}},{"$f":"INDIRECT(N$171&$X185)","v":{"$error":"#REF!"}},null,null,{"$f":"INDIRECT(Q$171&$X185)","v":{"$error":"#REF!"}},null,"円",{"$f":"INDIRECT(T$171&$X185)","v":{"$error":"#REF!"}},null,"円",{"$error":"#REF!"},{"$f":"X184+1","v":8},{"$f":"COUNTIF($W$181:W185,W185)","v":4}]
[{"$error":"#REF!"},null,"➊➋➌それぞれの賃金改善額（見込額）",null,null,null,null,null,null,null,null,null,null,"➊",{"$f":"INDIRECT(O$172&$X186)","v":{"$error":"#REF!"}},"円","➋",{"$f":"INDIRECT(R$172&$X186)","v":{"$error":"#REF!"}},"円","➌",{"$f":"INDIRECT(U$172&$X186)","v":{"$error":"#REF!"}},"円",{"$error":"#REF!"},{"$f":"X185","v":8},{"$f":"COUNTIF($W$181:W186,W186)","v":5}]
[{"$error":"#REF!"},null,null,null,null,null,null,null,null,null,null,null,null,"（",{"$f":"INDIRECT(O$173&$X187)","v":{"$error":"#REF!"}},"人）","（",{"$f":"INDIRECT(R$173&$X187)","v":{"$error":"#REF!"}},"人）","（",{"$f":"INDIRECT(U$173&$X187)","v":{"$error":"#REF!"}},"人）",{"$error":"#REF!"},8,{"$f":"COUNTIF($W$181:W187,W187)","v":6}]
[{"$error":"#REF!"},null,{"$f":"INDIRECT(C$171&$X188)","v":{"$error":"#REF!"}},null,null,null,null,null,null,null,null,null,{"$f":"INDIRECT(M$171&$X188)","v":{"$error":"#REF!"}},{"$f":"INDIRECT(N$171&$X188)","v":{"$error":"#REF!"}},null,null,{"$f":"INDIRECT(Q$171&$X188)","v":{"$error":"#REF!"}},null,"円",{"$f":"INDIRECT(T$171&$X188)","v":{"$error":"#REF!"}},null,"円",{"$error":"#REF!"},{"$f":"X187+1","v":9},{"$f":"COUNTIF($W$181:W188,W188)","v":7}]
[{"$error":"#REF!"},null,"➊➋➌それぞれの賃金改善額（見込額）",null,null,null,null,null,null,null,null,null,null,"➊",{"$f":"INDIRECT(O$172&$X189)","v":{"$error":"#REF!"}},"円","➋",{"$f":"INDIRECT(R$172&$X189)","v":{"$error":"#REF!"}},"円","➌",{"$f":"INDIRECT(U$172&$X189)","v":{"$error":"#REF!"}},"円",{"$error":"#REF!"},{"$f":"X188","v":9},{"$f":"COUNTIF($W$181:W189,W189)","v":8}]
[{"$error":"#REF!"},null,null,null,null,null,null,null,null,null,null,null,null,"（",{"$f":"INDIRECT(O$173&$X190)","v":{"$error":"#REF!"}},"人）","（",{"$f":"INDIRECT(R$173&$X190)","v":{"$error":"#REF!"}},"人）","（",{"$f":"INDIRECT(U$173&$X190)","v":{"$error":"#REF!"}},"人）",{"$error":"#REF!"},9,{"$f":"COUNTIF($W$181:W190,W190)","v":9}]
[{"$error":"#REF!"},null,{"$f":"INDIRECT(C$171&$X191)","v":{"$error":"#REF!"}},null,null,null,null,null,null,null,null,null,{"$f":"INDIRECT(M$171&$X191)","v":{"$error":"#REF!"}},{"$f":"INDIRECT(N$171&$X191)","v":{"$error":"#REF!"}},null,null,{"$f":"INDIRECT(Q$171&$X191)","v":{"$error":"#REF!"}},null,"円",{"$f":"INDIRECT(T$171&$X191)","v":{"$error":"#REF!"}},null,"円",{"$error":"#REF!"},{"$f":"X190+1","v":10},{"$f":"COUNTIF($W$181:W191,W191)","v":10}]
[{"$error":"#REF!"},null,"➊➋➌それぞれの賃金改善額（見込額）",null,null,null,null,null,null,null,null,null,null,"➊",{"$f":"INDIRECT(O$172&$X192)","v":{"$error":"#REF!"}},"円","➋",{"$f":"INDIRECT(R$172&$X192)","v":{"$error":"#REF!"}},"円","➌",{"$f":"INDIRECT(U$172&$X192)","v":{"$error":"#REF!"}},"円",{"$error":"#REF!"},{"$f":"X191","v":10},{"$f":"COUNTIF($W$181:W192,W192)","v":11}]
[{"$error":"#REF!"},null,null,null,null,null,null,null,null,null,null,null,null,"（",{"$f":"INDIRECT(O$173&$X193)","v":{"$error":"#REF!"}},"人）","（",{"$f":"INDIRECT(R$173&$X193)","v":{"$error":"#REF!"}},"人）","（",{"$f":"INDIRECT(U$173&$X193)","v":{"$error":"#REF!"}},"人）",{"$error":"#REF!"},10,{"$f":"COUNTIF($W$181:W193,W193)","v":12}]
[{"$error":"#REF!"},null,{"$f":"INDIRECT(C$171&$X194)","v":{"$error":"#REF!"}},null,null,null,null,null,null,null,null,null,{"$f":"INDIRECT(M$171&$X194)","v":{"$error":"#REF!"}},{"$f":"INDIRECT(N$171&$X194)","v":{"$error":"#REF!"}},null,null,{"$f":"INDIRECT(Q$171&$X194)","v":{"$error":"#REF!"}},null,"円",{"$f":"INDIRECT(T$171&$X194)","v":{"$error":"#REF!"}},null,"円",{"$error":"#REF!"},{"$f":"X193+1","v":11},{"$f":"COUNTIF($W$181:W194,W194)","v":13}]
[{"$error":"#REF!"},null,"➊➋➌それぞれの賃金改善額（見込額）",null,null,null,null,null,null,null,null,null,null,"➊",{"$f":"INDIRECT(O$172&$X195)","v":{"$error":"#REF!"}},"円","➋",{"$f":"INDIRECT(R$172&$X195)","v":{"$error":"#REF!"}},"円","➌",{"$f":"INDIRECT(U$172&$X195)","v":{"$error":"#REF!"}},"円",{"$error":"#REF!"},{"$f":"X194","v":11},{"$f":"COUNTIF($W$181:W195,W195)","v":14}]
[{"$error":"#REF!"},null,null,null,null,null,null,null,null,null,null,null,null,"（",{"$f":"INDIRECT(O$173&$X196)","v":{"$error":"#REF!"}},"人）","（",{"$f":"INDIRECT(R$173&$X196)","v":{"$error":"#REF!"}},"人）","（",{"$f":"INDIRECT(U$173&$X196)","v":{"$error":"#REF!"}},"人）",{"$error":"#REF!"},11,{"$f":"COUNTIF($W$181:W196,W196)","v":15}]
[{"$error":"#REF!"},null,{"$f":"INDIRECT(C$171&$X197)","v":{"$error":"#REF!"}},null,null,null,null,null,null,null,null,null,{"$f":"INDIRECT(M$171&$X197)","v":{"$error":"#REF!"}},{"$f":"INDIRECT(N$171&$X197)","v":{"$error":"#REF!"}},null,null,{"$f":"INDIRECT(Q$171&$X197)","v":{"$error":"#REF!"}},null,"円",{"$f":"INDIRECT(T$171&$X197)","v":{"$error":"#REF!"}},null,"円",{"$error":"#REF!"},{"$f":"X196+1","v":12},{"$f":"COUNTIF($W$181:W197,W197)","v":16}]
[{"$error":"#REF!"},null,"➊➋➌それぞれの賃金改善額（見込額）",null,null,null,null,null,null,null,null,null,null,"➊",{"$f":"INDIRECT(O$172&$X198)","v":{"$error":"#REF!"}},"円","➋",{"$f":"INDIRECT(R$172&$X198)","v":{"$error":"#REF!"}},"円","➌",{"$f":"INDIRECT(U$172&$X198)","v":{"$error":"#REF!"}},"円",{"$error":"#REF!"},{"$f":"X197","v":12},{"$f":"COUNTIF($W$181:W198,W198)","v":17}]
[{"$error":"#REF!"},null,null,null,null,null,null,null,null,null,null,null,null,"（",{"$f":"INDIRECT(O$173&$X199)","v":{"$error":"#REF!"}},"人）","（",{"$f":"INDIRECT(R$173&$X199)","v":{"$error":"#REF!"}},"人）","（",{"$f":"INDIRECT(U$173&$X199)","v":{"$error":"#REF!"}},"人）",{"$error":"#REF!"},12,{"$f":"COUNTIF($W$181:W199,W199)","v":18}]
[{"$error":"#REF!"},null,{"$f":"INDIRECT(C$171&$X200)","v":{"$error":"#REF!"}},null,null,null,null,null,null,null,null,null,{"$f":"INDIRECT(M$171&$X200)","v":{"$error":"#REF!"}},{"$f":"INDIRECT(N$171&$X200)","v":{"$error":"#REF!"}},null,null,{"$f":"INDIRECT(Q$171&$X200)","v":{"$error":"#REF!"}},null,"円",{"$f":"INDIRECT(T$171&$X200)","v":{"$error":"#REF!"}},null,"円",{"$error":"#REF!"},{"$f":"X199+1","v":13},{"$f":"COUNTIF($W$181:W200,W200)","v":19}]
[{"$error":"#REF!"},null,"➊➋➌それぞれの賃金改善額（見込額）",null,null,null,null,null,null,null,null,null,null,"➊",{"$f":"INDIRECT(O$172&$X201)","v":{"$error":"#REF!"}},"円","➋",{"$f":"INDIRECT(R$172&$X201)","v":{"$error":"#REF!"}},"円","➌",{"$f":"INDIRECT(U$172&$X201)","v":{"$error":"#REF!"}},"円",{"$error":"#REF!"},{"$f":"X200","v":13},{"$f":"COUNTIF($W$181:W201,W201)","v":20}]
[{"$error":"#REF!"},null,null,null,null,null,null,null,null,null,null,null,null,"（",{"$f":"INDIRECT(O$173&$X202)","v":{"$error":"#REF!"}},"人）","（",{"$f":"INDIRECT(R$173&$X202)","v":{"$error":"#REF!"}},"人）","（",{"$f":"INDIRECT(U$173&$X202)","v":{"$error":"#REF!"}},"人）",{"$error":"#REF!"},13,{"$f":"COUNTIF($W$181:W202,W202)","v":21}]
[{"$error":"#REF!"},null,{"$f":"INDIRECT(C$171&$X203)","v":{"$error":"#REF!"}},null,null,null,null,null,null,null,null,null,{"$f":"INDIRECT(M$171&$X203)","v":{"$error":"#REF!"}},{"$f":"INDIRECT(N$171&$X203)","v":{"$error":"#REF!"}},null,null,{"$f":"INDIRECT(Q$171&$X203)","v":{"$error":"#REF!"}},null,"円",{"$f":"INDIRECT(T$171&$X203)","v":{"$error":"#REF!"}},null,"円",{"$error":"#REF!"},{"$f":"X202+1","v":14},{"$f":"COUNTIF($W$181:W203,W203)","v":22}]
[{"$error":"#REF!"},null,"➊➋➌それぞれの賃金改善額（見込額）",null,null,null,null,null,null,null,null,null,null,"➊",{"$f":"INDIRECT(O$172&$X204)","v":{"$error":"#REF!"}},"円","➋",{"$f":"INDIRECT(R$172&$X204)","v":{"$error":"#REF!"}},"円","➌",{"$f":"INDIRECT(U$172&$X204)","v":{"$error":"#REF!"}},"円",{"$error":"#REF!"},{"$f":"X203","v":14},{"$f":"COUNTIF($W$181:W204,W204)","v":23}]
[{"$error":"#REF!"},null,null,null,null,null,null,null,null,null,null,null,null,"（",{"$f":"INDIRECT(O$173&$X205)","v":{"$error":"#REF!"}},"人）","（",{"$f":"INDIRECT(R$173&$X205)","v":{"$error":"#REF!"}},"人）","（",{"$f":"INDIRECT(U$173&$X205)","v":{"$error":"#REF!"}},"人）",{"$error":"#REF!"},14,{"$f":"COUNTIF($W$181:W205,W205)","v":24}]
[{"$error":"#REF!"},null,{"$f":"INDIRECT(C$171&$X206)","v":{"$error":"#REF!"}},null,null,null,null,null,null,null,null,null,{"$f":"INDIRECT(M$171&$X206)","v":{"$error":"#REF!"}},{"$f":"INDIRECT(N$171&$X206)","v":{"$error":"#REF!"}},null,null,{"$f":"INDIRECT(Q$171&$X206)","v":{"$error":"#REF!"}},null,"円",{"$f":"INDIRECT(T$171&$X206)","v":{"$error":"#REF!"}},null,"円",{"$error":"#REF!"},{"$f":"X205+1","v":15},{"$f":"COUNTIF($W$181:W206,W206)","v":25}]
[{"$error":"#REF!"},null,"➊➋➌それぞれの賃金改善額（見込額）",null,null,null,null,null,null,null,null,null,null,"➊",{"$f":"INDIRECT(O$172&$X207)","v":{"$error":"#REF!"}},"円","➋",{"$f":"INDIRECT(R$172&$X207)","v":{"$error":"#REF!"}},"円","➌",{"$f":"INDIRECT(U$172&$X207)","v":{"$error":"#REF!"}},"円",{"$error":"#REF!"},{"$f":"X206","v":15},{"$f":"COUNTIF($W$181:W207,W207)","v":26}]
[{"$error":"#REF!"},null,null,null,null,null,null,null,null,null,null,null,null,"（",{"$f":"INDIRECT(O$173&$X208)","v":{"$error":"#REF!"}},"人）","（",{"$f":"INDIRECT(R$173&$X208)","v":{"$error":"#REF!"}},"人）","（",{"$f":"INDIRECT(U$173&$X208)","v":{"$error":"#REF!"}},"人）",{"$error":"#REF!"},15,{"$f":"COUNTIF($W$181:W208,W208)","v":27}]
[{"$error":"#REF!"},null,{"$f":"INDIRECT(C$171&$X209)","v":{"$error":"#REF!"}},null,null,null,null,null,null,null,null,null,{"$f":"INDIRECT(M$171&$X209)","v":{"$error":"#REF!"}},{"$f":"INDIRECT(N$171&$X209)","v":{"$error":"#REF!"}},null,null,{"$f":"INDIRECT(Q$171&$X209)","v":{"$error":"#REF!"}},null,"円",{"$f":"INDIRECT(T$171&$X209)","v":{"$error":"#REF!"}},null,"円",{"$error":"#REF!"},{"$f":"X208+1","v":16},{"$f":"COUNTIF($W$181:W209,W209)","v":28}]
[{"$error":"#REF!"},null,"➊➋➌それぞれの賃金改善額（見込額）",null,null,null,null,null,null,null,null,null,null,"➊",{"$f":"INDIRECT(O$172&$X210)","v":{"$error":"#REF!"}},"円","➋",{"$f":"INDIRECT(R$172&$X210)","v":{"$error":"#REF!"}},"円","➌",{"$f":"INDIRECT(U$172&$X210)","v":{"$error":"#REF!"}},"円",{"$error":"#REF!"},{"$f":"X209","v":16},{"$f":"COUNTIF($W$181:W210,W210)","v":29}]
[{"$error":"#REF!"},null,null,null,null,null,null,null,null,null,null,null,null,"（",{"$f":"INDIRECT(O$173&$X211)","v":{"$error":"#REF!"}},"人）","（",{"$f":"INDIRECT(R$173&$X211)","v":{"$error":"#REF!"}},"人）","（",{"$f":"INDIRECT(U$173&$X211)","v":{"$error":"#REF!"}},"人）",{"$error":"#REF!"},16,{"$f":"COUNTIF($W$181:W211,W211)","v":30}]
[{"$error":"#REF!"},null,{"$f":"INDIRECT(C$171&$X212)","v":{"$error":"#REF!"}},null,null,null,null,null,null,null,null,null,{"$f":"INDIRECT(M$171&$X212)","v":{"$error":"#REF!"}},{"$f":"INDIRECT(N$171&$X212)","v":{"$error":"#REF!"}},null,null,{"$f":"INDIRECT(Q$171&$X212)","v":{"$error":"#REF!"}},null,"円",{"$f":"INDIRECT(T$171&$X212)","v":{"$error":"#REF!"}},null,"円",{"$error":"#REF!"},{"$f":"X211+1","v":17},{"$f":"COUNTIF($W$181:W212,W212)","v":31}]
[{"$error":"#REF!"},null,"➊➋➌それぞれの賃金改善額（見込額）",null,null,null,null,null,null,null,null,null,null,"➊",{"$f":"INDIRECT(O$172&$X213)","v":{"$error":"#REF!"}},"円","➋",{"$f":"INDIRECT(R$172&$X213)","v":{"$error":"#REF!"}},"円","➌",{"$f":"INDIRECT(U$172&$X213)","v":{"$error":"#REF!"}},"円",{"$error":"#REF!"},{"$f":"X212","v":17},{"$f":"COUNTIF($W$181:W213,W213)","v":32}]
[{"$error":"#REF!"},null,null,null,null,null,null,null,null,null,null,null,null,"（",{"$f":"INDIRECT(O$173&$X214)","v":{"$error":"#REF!"}},"人）","（",{"$f":"INDIRECT(R$173&$X214)","v":{"$error":"#REF!"}},"人）","（",{"$f":"INDIRECT(U$173&$X214)","v":{"$error":"#REF!"}},"人）",{"$error":"#REF!"},17,{"$f":"COUNTIF($W$181:W214,W214)","v":33}]
[{"$error":"#REF!"},null,{"$f":"INDIRECT(C$171&$X215)","v":{"$error":"#REF!"}},null,null,null,null,null,null,null,null,null,{"$f":"INDIRECT(M$171&$X215)","v":{"$error":"#REF!"}},{"$f":"INDIRECT(N$171&$X215)","v":{"$error":"#REF!"}},null,null,{"$f":"INDIRECT(Q$171&$X215)","v":{"$error":"#REF!"}},null,"円",{"$f":"INDIRECT(T$171&$X215)","v":{"$error":"#REF!"}},null,"円",{"$error":"#REF!"},{"$f":"X214+1","v":18},{"$f":"COUNTIF($W$181:W215,W215)","v":34}]
[{"$error":"#REF!"},null,"➊➋➌それぞれの賃金改善額（見込額）",null,null,null,null,null,null,null,null,null,null,"➊",{"$f":"INDIRECT(O$172&$X216)","v":{"$error":"#REF!"}},"円","➋",{"$f":"INDIRECT(R$172&$X216)","v":{"$error":"#REF!"}},"円","➌",{"$f":"INDIRECT(U$172&$X216)","v":{"$error":"#REF!"}},"円",{"$error":"#REF!"},{"$f":"X215","v":18},{"$f":"COUNTIF($W$181:W216,W216)","v":35}]
[{"$error":"#REF!"},null,null,null,null,null,null,null,null,null,null,null,null,"（",{"$f":"INDIRECT(O$173&$X217)","v":{"$error":"#REF!"}},"人）","（",{"$f":"INDIRECT(R$173&$X217)","v":{"$error":"#REF!"}},"人）","（",{"$f":"INDIRECT(U$173&$X217)","v":{"$error":"#REF!"}},"人）",{"$error":"#REF!"},18,{"$f":"COUNTIF($W$181:W217,W217)","v":36}]
[{"$error":"#REF!"},null,{"$f":"INDIRECT(C$171&$X218)","v":{"$error":"#REF!"}},null,null,null,null,null,null,null,null,null,{"$f":"INDIRECT(M$171&$X218)","v":{"$error":"#REF!"}},{"$f":"INDIRECT(N$171&$X218)","v":{"$error":"#REF!"}},null,null,{"$f":"INDIRECT(Q$171&$X218)","v":{"$error":"#REF!"}},null,"円",{"$f":"INDIRECT(T$171&$X218)","v":{"$error":"#REF!"}},null,"円",{"$error":"#REF!"},{"$f":"X217+1","v":19},{"$f":"COUNTIF($W$181:W218,W218)","v":37}]
[{"$error":"#REF!"},null,"➊➋➌それぞれの賃金改善額（見込額）",null,null,null,null,null,null,null,null,null,null,"➊",{"$f":"INDIRECT(O$172&$X219)","v":{"$error":"#REF!"}},"円","➋",{"$f":"INDIRECT(R$172&$X219)","v":{"$error":"#REF!"}},"円","➌",{"$f":"INDIRECT(U$172&$X219)","v":{"$error":"#REF!"}},"円",{"$error":"#REF!"},{"$f":"X218","v":19},{"$f":"COUNTIF($W$181:W219,W219)","v":38}]
[{"$error":"#REF!"},null,null,null,null,null,null,null,null,null,null,null,null,"（",{"$f":"INDIRECT(O$173&$X220)","v":{"$error":"#REF!"}},"人）","（",{"$f":"INDIRECT(R$173&$X220)","v":{"$error":"#REF!"}},"人）","（",{"$f":"INDIRECT(U$173&$X220)","v":{"$error":"#REF!"}},"人）",{"$error":"#REF!"},19,{"$f":"COUNTIF($W$181:W220,W220)","v":39}]
[{"$error":"#REF!"},null,{"$f":"INDIRECT(C$171&$X221)","v":{"$error":"#REF!"}},null,null,null,null,null,null,null,null,null,{"$f":"INDIRECT(M$171&$X221)","v":{"$error":"#REF!"}},{"$f":"INDIRECT(N$171&$X221)","v":{"$error":"#REF!"}},null,null,{"$f":"INDIRECT(Q$171&$X221)","v":{"$error":"#REF!"}},null,"円",{"$f":"INDIRECT(T$171&$X221)","v":{"$error":"#REF!"}},null,"円",{"$error":"#REF!"},{"$f":"X220+1","v":20},{"$f":"COUNTIF($W$181:W221,W221)","v":40}]
[{"$error":"#REF!"},null,"➊➋➌それぞれの賃金改善額（見込額）",null,null,null,null,null,null,null,null,null,null,"➊",{"$f":"INDIRECT(O$172&$X222)","v":{"$error":"#REF!"}},"円","➋",{"$f":"INDIRECT(R$172&$X222)","v":{"$error":"#REF!"}},"円","➌",{"$f":"INDIRECT(U$172&$X222)","v":{"$error":"#REF!"}},"円",{"$error":"#REF!"},{"$f":"X221","v":20},{"$f":"COUNTIF($W$181:W222,W222)","v":41}]
[{"$error":"#REF!"},null,null,null,null,null,null,null,null,null,null,null,null,"（",{"$f":"INDIRECT(O$173&$X223)","v":{"$error":"#REF!"}},"人）","（",{"$f":"INDIRECT(R$173&$X223)","v":{"$error":"#REF!"}},"人）","（",{"$f":"INDIRECT(U$173&$X223)","v":{"$error":"#REF!"}},"人）",{"$error":"#REF!"},20,{"$f":"COUNTIF($W$181:W223,W223)","v":42}]
[{"$error":"#REF!"},null,{"$f":"INDIRECT(C$171&$X224)","v":{"$error":"#REF!"}},null,null,null,null,null,null,null,null,null,{"$f":"INDIRECT(M$171&$X224)","v":{"$error":"#REF!"}},{"$f":"INDIRECT(N$171&$X224)","v":{"$error":"#REF!"}},null,null,{"$f":"INDIRECT(Q$171&$X224)","v":{"$error":"#REF!"}},null,"円",{"$f":"INDIRECT(T$171&$X224)","v":{"$error":"#REF!"}},null,"円",{"$error":"#REF!"},{"$f":"X223+1","v":21},{"$f":"COUNTIF($W$181:W224,W224)","v":43}]
[{"$error":"#REF!"},null,"➊➋➌それぞれの賃金改善額（見込額）",null,null,null,null,null,null,null,null,null,null,"➊",{"$f":"INDIRECT(O$172&$X225)","v":{"$error":"#REF!"}},"円","➋",{"$f":"INDIRECT(R$172&$X225)","v":{"$error":"#REF!"}},"円","➌",{"$f":"INDIRECT(U$172&$X225)","v":{"$error":"#REF!"}},"円",{"$error":"#REF!"},{"$f":"X224","v":21},{"$f":"COUNTIF($W$181:W225,W225)","v":44}]
[{"$error":"#REF!"},null,null,null,null,null,null,null,null,null,null,null,null,"（",{"$f":"INDIRECT(O$173&$X226)","v":{"$error":"#REF!"}},"人）","（",{"$f":"INDIRECT(R$173&$X226)","v":{"$error":"#REF!"}},"人）","（",{"$f":"INDIRECT(U$173&$X226)","v":{"$error":"#REF!"}},"人）",{"$error":"#REF!"},21,{"$f":"COUNTIF($W$181:W226,W226)","v":45}]
[{"$error":"#REF!"},null,{"$f":"INDIRECT(C$171&$X227)","v":{"$error":"#REF!"}},null,null,null,null,null,null,null,null,null,{"$f":"INDIRECT(M$171&$X227)","v":{"$error":"#REF!"}},{"$f":"INDIRECT(N$171&$X227)","v":{"$error":"#REF!"}},null,null,{"$f":"INDIRECT(Q$171&$X227)","v":{"$error":"#REF!"}},null,"円",{"$f":"INDIRECT(T$171&$X227)","v":{"$error":"#REF!"}},null,"円",{"$error":"#REF!"},{"$f":"X226+1","v":22},{"$f":"COUNTIF($W$181:W227,W227)","v":46}]
[{"$error":"#REF!"},null,"➊➋➌それぞれの賃金改善額（見込額）",null,null,null,null,null,null,null,null,null,null,"➊",{"$f":"INDIRECT(O$172&$X228)","v":{"$error":"#REF!"}},"円","➋",{"$f":"INDIRECT(R$172&$X228)","v":{"$error":"#REF!"}},"円","➌",{"$f":"INDIRECT(U$172&$X228)","v":{"$error":"#REF!"}},"円",{"$error":"#REF!"},{"$f":"X227","v":22},{"$f":"COUNTIF($W$181:W228,W228)","v":47}]
[{"$error":"#REF!"},null,null,null,null,null,null,null,null,null,null,null,null,"（",{"$f":"INDIRECT(O$173&$X229)","v":{"$error":"#REF!"}},"人）","（",{"$f":"INDIRECT(R$173&$X229)","v":{"$error":"#REF!"}},"人）","（",{"$f":"INDIRECT(U$173&$X229)","v":{"$error":"#REF!"}},"人）",{"$error":"#REF!"},22,{"$f":"COUNTIF($W$181:W229,W229)","v":48}]
[{"$error":"#REF!"},null,{"$f":"INDIRECT(C$171&$X230)","v":{"$error":"#REF!"}},null,null,null,null,null,null,null,null,null,{"$f":"INDIRECT(M$171&$X230)","v":{"$error":"#REF!"}},{"$f":"INDIRECT(N$171&$X230)","v":{"$error":"#REF!"}},null,null,{"$f":"INDIRECT(Q$171&$X230)","v":{"$error":"#REF!"}},null,"円",{"$f":"INDIRECT(T$171&$X230)","v":{"$error":"#REF!"}},null,"円",{"$error":"#REF!"},{"$f":"X229+1","v":23},{"$f":"COUNTIF($W$181:W230,W230)","v":49}]
[{"$error":"#REF!"},null,"➊➋➌それぞれの賃金改善額（見込額）",null,null,null,null,null,null,null,null,null,null,"➊",{"$f":"INDIRECT(O$172&$X231)","v":{"$error":"#REF!"}},"円","➋",{"$f":"INDIRECT(R$172&$X231)","v":{"$error":"#REF!"}},"円","➌",{"$f":"INDIRECT(U$172&$X231)","v":{"$error":"#REF!"}},"円",{"$error":"#REF!"},{"$f":"X230","v":23},{"$f":"COUNTIF($W$181:W231,W231)","v":50}]
[{"$error":"#REF!"},null,null,null,null,null,null,null,null,null,null,null,null,"（",{"$f":"INDIRECT(O$173&$X232)","v":{"$error":"#REF!"}},"人）","（",{"$f":"INDIRECT(R$173&$X232)","v":{"$error":"#REF!"}},"人）","（",{"$f":"INDIRECT(U$173&$X232)","v":{"$error":"#REF!"}},"人）",{"$error":"#REF!"},23,{"$f":"COUNTIF($W$181:W232,W232)","v":51}]
[{"$error":"#REF!"},null,{"$f":"INDIRECT(C$171&$X233)","v":{"$error":"#REF!"}},null,null,null,null,null,null,null,null,null,{"$f":"INDIRECT(M$171&$X233)","v":{"$error":"#REF!"}},{"$f":"INDIRECT(N$171&$X233)","v":{"$error":"#REF!"}},null,null,{"$f":"INDIRECT(Q$171&$X233)","v":{"$error":"#REF!"}},null,"円",{"$f":"INDIRECT(T$171&$X233)","v":{"$error":"#REF!"}},null,"円",{"$error":"#REF!"},{"$f":"X232+1","v":24},{"$f":"COUNTIF($W$181:W233,W233)","v":52}]
[{"$error":"#REF!"},null,"➊➋➌それぞれの賃金改善額（見込額）",null,null,null,null,null,null,null,null,null,null,"➊",{"$f":"INDIRECT(O$172&$X234)","v":{"$error":"#REF!"}},"円","➋",{"$f":"INDIRECT(R$172&$X234)","v":{"$error":"#REF!"}},"円","➌",{"$f":"INDIRECT(U$172&$X234)","v":{"$error":"#REF!"}},"円",{"$error":"#REF!"},{"$f":"X233","v":24},{"$f":"COUNTIF($W$181:W234,W234)","v":53}]
[{"$error":"#REF!"},null,null,null,null,null,null,null,null,null,null,null,null,"（",{"$f":"INDIRECT(O$173&$X235)","v":{"$error":"#REF!"}},"人）","（",{"$f":"INDIRECT(R$173&$X235)","v":{"$error":"#REF!"}},"人）","（",{"$f":"INDIRECT(U$173&$X235)","v":{"$error":"#REF!"}},"人）",{"$error":"#REF!"},24,{"$f":"COUNTIF($W$181:W235,W235)","v":54}]
[{"$error":"#REF!"},null,{"$f":"INDIRECT(C$171&$X236)","v":{"$error":"#REF!"}},null,null,null,null,null,null,null,null,null,{"$f":"INDIRECT(M$171&$X236)","v":{"$error":"#REF!"}},{"$f":"INDIRECT(N$171&$X236)","v":{"$error":"#REF!"}},null,null,{"$f":"INDIRECT(Q$171&$X236)","v":{"$error":"#REF!"}},null,"円",{"$f":"INDIRECT(T$171&$X236)","v":{"$error":"#REF!"}},null,"円",{"$error":"#REF!"},{"$f":"X235+1","v":25},{"$f":"COUNTIF($W$181:W236,W236)","v":55}]
[{"$error":"#REF!"},null,"➊➋➌それぞれの賃金改善額（見込額）",null,null,null,null,null,null,null,null,null,null,"➊",{"$f":"INDIRECT(O$172&$X237)","v":{"$error":"#REF!"}},"円","➋",{"$f":"INDIRECT(R$172&$X237)","v":{"$error":"#REF!"}},"円","➌",{"$f":"INDIRECT(U$172&$X237)","v":{"$error":"#REF!"}},"円",{"$error":"#REF!"},{"$f":"X236","v":25},{"$f":"COUNTIF($W$181:W237,W237)","v":56}]
[{"$error":"#REF!"},null,null,null,null,null,null,null,null,null,null,null,null,"（",{"$f":"INDIRECT(O$173&$X238)","v":{"$error":"#REF!"}},"人）","（",{"$f":"INDIRECT(R$173&$X238)","v":{"$error":"#REF!"}},"人）","（",{"$f":"INDIRECT(U$173&$X238)","v":{"$error":"#REF!"}},"人）",{"$error":"#REF!"},25,{"$f":"COUNTIF($W$181:W238,W238)","v":57}]
[{"$error":"#REF!"},null,{"$f":"INDIRECT(C$171&$X239)","v":{"$error":"#REF!"}},null,null,null,null,null,null,null,null,null,{"$f":"INDIRECT(M$171&$X239)","v":{"$error":"#REF!"}},{"$f":"INDIRECT(N$171&$X239)","v":{"$error":"#REF!"}},null,null,{"$f":"INDIRECT(Q$171&$X239)","v":{"$error":"#REF!"}},null,"円",{"$f":"INDIRECT(T$171&$X239)","v":{"$error":"#REF!"}},null,"円",{"$error":"#REF!"},{"$f":"X238+1","v":26},{"$f":"COUNTIF($W$181:W239,W239)","v":58}]
[{"$error":"#REF!"},null,"➊➋➌それぞれの賃金改善額（見込額）",null,null,null,null,null,null,null,null,null,null,"➊",{"$f":"INDIRECT(O$172&$X240)","v":{"$error":"#REF!"}},"円","➋",{"$f":"INDIRECT(R$172&$X240)","v":{"$error":"#REF!"}},"円","➌",{"$f":"INDIRECT(U$172&$X240)","v":{"$error":"#REF!"}},"円",{"$error":"#REF!"},{"$f":"X239","v":26},{"$f":"COUNTIF($W$181:W240,W240)","v":59}]
[{"$error":"#REF!"},null,null,null,null,null,null,null,null,null,null,null,null,"（",{"$f":"INDIRECT(O$173&$X241)","v":{"$error":"#REF!"}},"人）","（",{"$f":"INDIRECT(R$173&$X241)","v":{"$error":"#REF!"}},"人）","（",{"$f":"INDIRECT(U$173&$X241)","v":{"$error":"#REF!"}},"人）",{"$error":"#REF!"},26,{"$f":"COUNTIF($W$181:W241,W241)","v":60}]
[{"$error":"#REF!"},null,{"$f":"INDIRECT(C$171&$X242)","v":{"$error":"#REF!"}},null,null,null,null,null,null,null,null,null,{"$f":"INDIRECT(M$171&$X242)","v":{"$error":"#REF!"}},{"$f":"INDIRECT(N$171&$X242)","v":{"$error":"#REF!"}},null,null,{"$f":"INDIRECT(Q$171&$X242)","v":{"$error":"#REF!"}},null,"円",{"$f":"INDIRECT(T$171&$X242)","v":{"$error":"#REF!"}},null,"円",{"$error":"#REF!"},{"$f":"X241+1","v":27},{"$f":"COUNTIF($W$181:W242,W242)","v":61}]
[{"$error":"#REF!"},null,"➊➋➌それぞれの賃金改善額（見込額）",null,null,null,null,null,null,null,null,null,null,"➊",{"$f":"INDIRECT(O$172&$X243)","v":{"$error":"#REF!"}},"円","➋",{"$f":"INDIRECT(R$172&$X243)","v":{"$error":"#REF!"}},"円","➌",{"$f":"INDIRECT(U$172&$X243)","v":{"$error":"#REF!"}},"円",{"$error":"#REF!"},{"$f":"X242","v":27},{"$f":"COUNTIF($W$181:W243,W243)","v":62}]
[{"$error":"#REF!"},null,null,null,null,null,null,null,null,null,null,null,null,"（",{"$f":"INDIRECT(O$173&$X244)","v":{"$error":"#REF!"}},"人）","（",{"$f":"INDIRECT(R$173&$X244)","v":{"$error":"#REF!"}},"人）","（",{"$f":"INDIRECT(U$173&$X244)","v":{"$error":"#REF!"}},"人）",{"$error":"#REF!"},27,{"$f":"COUNTIF($W$181:W244,W244)","v":63}]
[{"$error":"#REF!"},null,{"$f":"INDIRECT(C$171&$X245)","v":{"$error":"#REF!"}},null,null,null,null,null,null,null,null,null,{"$f":"INDIRECT(M$171&$X245)","v":{"$error":"#REF!"}},{"$f":"INDIRECT(N$171&$X245)","v":{"$error":"#REF!"}},null,null,{"$f":"INDIRECT(Q$171&$X245)","v":{"$error":"#REF!"}},null,"円",{"$f":"INDIRECT(T$171&$X245)","v":{"$error":"#REF!"}},null,"円",{"$error":"#REF!"},{"$f":"X244+1","v":28},{"$f":"COUNTIF($W$181:W245,W245)","v":64}]
[{"$error":"#REF!"},null,"➊➋➌それぞれの賃金改善額（見込額）",null,null,null,null,null,null,null,null,null,null,"➊",{"$f":"INDIRECT(O$172&$X246)","v":{"$error":"#REF!"}},"円","➋",{"$f":"INDIRECT(R$172&$X246)","v":{"$error":"#REF!"}},"円","➌",{"$f":"INDIRECT(U$172&$X246)","v":{"$error":"#REF!"}},"円",{"$error":"#REF!"},{"$f":"X245","v":28},{"$f":"COUNTIF($W$181:W246,W246)","v":65}]
[{"$error":"#REF!"},null,null,null,null,null,null,null,null,null,null,null,null,"（",{"$f":"INDIRECT(O$173&$X247)","v":{"$error":"#REF!"}},"人）","（",{"$f":"INDIRECT(R$173&$X247)","v":{"$error":"#REF!"}},"人）","（",{"$f":"INDIRECT(U$173&$X247)","v":{"$error":"#REF!"}},"人）",{"$f":"INDIRECT($W$171&X247)","v":{"$error":"#REF!"}},28,{"$f":"COUNTIF($W$181:W247,W247)","v":66}]
[{"$error":"#REF!"},null,{"$f":"INDIRECT(C$171&$X248)","v":{"$error":"#REF!"}},null,null,null,null,null,null,null,null,null,{"$f":"INDIRECT(M$171&$X248)","v":{"$error":"#REF!"}},{"$f":"INDIRECT(N$171&$X248)","v":{"$error":"#REF!"}},null,null,{"$f":"INDIRECT(Q$171&$X248)","v":{"$error":"#REF!"}},null,"円",{"$f":"INDIRECT(T$171&$X248)","v":{"$error":"#REF!"}},null,"円",{"$error":"#REF!"},{"$f":"X247+1","v":29},{"$f":"COUNTIF($W$181:W248,W248)","v":67}]
[{"$error":"#REF!"},null,"➊➋➌それぞれの賃金改善額（見込額）",null,null,null,null,null,null,null,null,null,null,"➊",{"$f":"INDIRECT(O$172&$X249)","v":{"$error":"#REF!"}},"円","➋",{"$f":"INDIRECT(R$172&$X249)","v":{"$error":"#REF!"}},"円","➌",{"$f":"INDIRECT(U$172&$X249)","v":{"$error":"#REF!"}},"円",{"$error":"#REF!"},{"$f":"X248","v":29},{"$f":"COUNTIF($W$181:W249,W249)","v":68}]
[{"$error":"#REF!"},null,null,null,null,null,null,null,null,null,null,null,null,"（",{"$f":"INDIRECT(O$173&$X250)","v":{"$error":"#REF!"}},"人）","（",{"$f":"INDIRECT(R$173&$X250)","v":{"$error":"#REF!"}},"人）","（",{"$f":"INDIRECT(U$173&$X250)","v":{"$error":"#REF!"}},"人）",{"$error":"#REF!"},29,{"$f":"COUNTIF($W$181:W250,W250)","v":69}]
[{"$error":"#REF!"},null,{"$f":"INDIRECT(C$171&$X251)","v":{"$error":"#REF!"}},null,null,null,null,null,null,null,null,null,{"$f":"INDIRECT(M$171&$X251)","v":{"$error":"#REF!"}},{"$f":"INDIRECT(N$171&$X251)","v":{"$error":"#REF!"}},null,null,{"$f":"INDIRECT(Q$171&$X251)","v":{"$error":"#REF!"}},null,"円",{"$f":"INDIRECT(T$171&$X251)","v":{"$error":"#REF!"}},null,"円",{"$error":"#REF!"},{"$f":"X250+1","v":30},{"$f":"COUNTIF($W$181:W251,W251)","v":70}]
[{"$error":"#REF!"},null,"➊➋➌それぞれの賃金改善額（見込額）",null,null,null,null,null,null,null,null,null,null,"➊",{"$f":"INDIRECT(O$172&$X252)","v":{"$error":"#REF!"}},"円","➋",{"$f":"INDIRECT(R$172&$X252)","v":{"$error":"#REF!"}},"円","➌",{"$f":"INDIRECT(U$172&$X252)","v":{"$error":"#REF!"}},"円",{"$error":"#REF!"},{"$f":"X251","v":30},{"$f":"COUNTIF($W$181:W252,W252)","v":71}]
[{"$error":"#REF!"},null,null,null,null,null,null,null,null,null,null,null,null,"（",{"$f":"INDIRECT(O$173&$X253)","v":{"$error":"#REF!"}},"人）","（",{"$f":"INDIRECT(R$173&$X253)","v":{"$error":"#REF!"}},"人）","（",{"$f":"INDIRECT(U$173&$X253)","v":{"$error":"#REF!"}},"人）",{"$error":"#REF!"},30,{"$f":"COUNTIF($W$181:W253,W253)","v":72}]
[{"$error":"#REF!"},null,{"$f":"INDIRECT(C$171&$X254)","v":{"$error":"#REF!"}},null,null,null,null,null,null,null,null,null,{"$f":"INDIRECT(M$171&$X254)","v":{"$error":"#REF!"}},{"$f":"INDIRECT(N$171&$X254)","v":{"$error":"#REF!"}},null,null,{"$f":"INDIRECT(Q$171&$X254)","v":{"$error":"#REF!"}},null,"円",{"$f":"INDIRECT(T$171&$X254)","v":{"$error":"#REF!"}},null,"円",{"$error":"#REF!"},{"$f":"X253+1","v":31},{"$f":"COUNTIF($W$181:W254,W254)","v":73}]
[{"$error":"#REF!"},null,"➊➋➌それぞれの賃金改善額（見込額）",null,null,null,null,null,null,null,null,null,null,"➊",{"$f":"INDIRECT(O$172&$X255)","v":{"$error":"#REF!"}},"円","➋",{"$f":"INDIRECT(R$172&$X255)","v":{"$error":"#REF!"}},"円","➌",{"$f":"INDIRECT(U$172&$X255)","v":{"$error":"#REF!"}},"円",{"$error":"#REF!"},{"$f":"X254","v":31},{"$f":"COUNTIF($W$181:W255,W255)","v":74}]
[{"$error":"#REF!"},null,null,null,null,null,null,null,null,null,null,null,null,"（",{"$f":"INDIRECT(O$173&$X256)","v":{"$error":"#REF!"}},"人）","（",{"$f":"INDIRECT(R$173&$X256)","v":{"$error":"#REF!"}},"人）","（",{"$f":"INDIRECT(U$173&$X256)","v":{"$error":"#REF!"}},"人）",{"$error":"#REF!"},31,{"$f":"COUNTIF($W$181:W256,W256)","v":75}]
[{"$error":"#REF!"},null,{"$f":"INDIRECT(C$171&$X257)","v":{"$error":"#REF!"}},null,null,null,null,null,null,null,null,null,{"$f":"INDIRECT(M$171&$X257)","v":{"$error":"#REF!"}},{"$f":"INDIRECT(N$171&$X257)","v":{"$error":"#REF!"}},null,null,{"$f":"INDIRECT(Q$171&$X257)","v":{"$error":"#REF!"}},null,"円",{"$f":"INDIRECT(T$171&$X257)","v":{"$error":"#REF!"}},null,"円",{"$error":"#REF!"},{"$f":"X256+1","v":32},{"$f":"COUNTIF($W$181:W257,W257)","v":76}]
[{"$error":"#REF!"},null,"➊➋➌それぞれの賃金改善額（見込額）",null,null,null,null,null,null,null,null,null,null,"➊",{"$f":"INDIRECT(O$172&$X258)","v":{"$error":"#REF!"}},"円","➋",{"$f":"INDIRECT(R$172&$X258)","v":{"$error":"#REF!"}},"円","➌",{"$f":"INDIRECT(U$172&$X258)","v":{"$error":"#REF!"}},"円",{"$error":"#REF!"},{"$f":"X257","v":32},{"$f":"COUNTIF($W$181:W258,W258)","v":77}]
[{"$error":"#REF!"},null,null,null,null,null,null,null,null,null,null,null,null,"（",{"$f":"INDIRECT(O$173&$X259)","v":{"$error":"#REF!"}},"人）","（",{"$f":"INDIRECT(R$173&$X259)","v":{"$error":"#REF!"}},"人）","（",{"$f":"INDIRECT(U$173&$X259)","v":{"$error":"#REF!"}},"人）",{"$error":"#REF!"},32,{"$f":"COUNTIF($W$181:W259,W259)","v":78}]
[{"$error":"#REF!"},null,{"$f":"INDIRECT(C$171&$X260)","v":{"$error":"#REF!"}},null,null,null,null,null,null,null,null,null,{"$f":"INDIRECT(M$171&$X260)","v":{"$error":"#REF!"}},{"$f":"INDIRECT(N$171&$X260)","v":{"$error":"#REF!"}},null,null,{"$f":"INDIRECT(Q$171&$X260)","v":{"$error":"#REF!"}},null,"円",{"$f":"INDIRECT(T$171&$X260)","v":{"$error":"#REF!"}},null,"円",{"$error":"#REF!"},{"$f":"X259+1","v":33},{"$f":"COUNTIF($W$181:W260,W260)","v":79}]
[{"$error":"#REF!"},null,"➊➋➌それぞれの賃金改善額（見込額）",null,null,null,null,null,null,null,null,null,null,"➊",{"$f":"INDIRECT(O$172&$X261)","v":{"$error":"#REF!"}},"円","➋",{"$f":"INDIRECT(R$172&$X261)","v":{"$error":"#REF!"}},"円","➌",{"$f":"INDIRECT(U$172&$X261)","v":{"$error":"#REF!"}},"円",{"$error":"#REF!"},{"$f":"X260","v":33},{"$f":"COUNTIF($W$181:W261,W261)","v":80}]
[{"$error":"#REF!"},null,null,null,null,null,null,null,null,null,null,null,null,"（",{"$f":"INDIRECT(O$173&$X262)","v":{"$error":"#REF!"}},"人）","（",{"$f":"INDIRECT(R$173&$X262)","v":{"$error":"#REF!"}},"人）","（",{"$f":"INDIRECT(U$173&$X262)","v":{"$error":"#REF!"}},"人）",{"$error":"#REF!"},33,{"$f":"COUNTIF($W$181:W262,W262)","v":81}]
[{"$error":"#REF!"},null,{"$f":"INDIRECT(C$171&$X263)","v":{"$error":"#REF!"}},null,null,null,null,null,null,null,null,null,{"$f":"INDIRECT(M$171&$X263)","v":{"$error":"#REF!"}},{"$f":"INDIRECT(N$171&$X263)","v":{"$error":"#REF!"}},null,null,{"$f":"INDIRECT(Q$171&$X263)","v":{"$error":"#REF!"}},null,"円",{"$f":"INDIRECT(T$171&$X263)","v":{"$error":"#REF!"}},null,"円",{"$error":"#REF!"},{"$f":"X262+1","v":34},{"$f":"COUNTIF($W$181:W263,W263)","v":82}]
[{"$error":"#REF!"},null,"➊➋➌それぞれの賃金改善額（見込額）",null,null,null,null,null,null,null,null,null,null,"➊",{"$f":"INDIRECT(O$172&$X264)","v":{"$error":"#REF!"}},"円","➋",{"$f":"INDIRECT(R$172&$X264)","v":{"$error":"#REF!"}},"円","➌",{"$f":"INDIRECT(U$172&$X264)","v":{"$error":"#REF!"}},"円",{"$error":"#REF!"},{"$f":"X263","v":34},{"$f":"COUNTIF($W$181:W264,W264)","v":83}]
[{"$error":"#REF!"},null,null,null,null,null,null,null,null,null,null,null,null,"（",{"$f":"INDIRECT(O$173&$X265)","v":{"$error":"#REF!"}},"人）","（",{"$f":"INDIRECT(R$173&$X265)","v":{"$error":"#REF!"}},"人）","（",{"$f":"INDIRECT(U$173&$X265)","v":{"$error":"#REF!"}},"人）",{"$error":"#REF!"},34,{"$f":"COUNTIF($W$181:W265,W265)","v":84}]
[{"$error":"#REF!"},null,{"$f":"INDIRECT(C$171&$X266)","v":{"$error":"#REF!"}},null,null,null,null,null,null,null,null,null,{"$f":"INDIRECT(M$171&$X266)","v":{"$error":"#REF!"}},{"$f":"INDIRECT(N$171&$X266)","v":{"$error":"#REF!"}},null,null,{"$f":"INDIRECT(Q$171&$X266)","v":{"$error":"#REF!"}},null,"円",{"$f":"INDIRECT(T$171&$X266)","v":{"$error":"#REF!"}},null,"円",{"$error":"#REF!"},{"$f":"X265+1","v":35},{"$f":"COUNTIF($W$181:W266,W266)","v":85}]
[{"$error":"#REF!"},null,"➊➋➌それぞれの賃金改善額（見込額）",null,null,null,null,null,null,null,null,null,null,"➊",{"$f":"INDIRECT(O$172&$X267)","v":{"$error":"#REF!"}},"円","➋",{"$f":"INDIRECT(R$172&$X267)","v":{"$error":"#REF!"}},"円","➌",{"$f":"INDIRECT(U$172&$X267)","v":{"$error":"#REF!"}},"円",{"$error":"#REF!"},{"$f":"X266","v":35},{"$f":"COUNTIF($W$181:W267,W267)","v":86}]
[{"$error":"#REF!"},null,null,null,null,null,null,null,null,null,null,null,null,"（",{"$f":"INDIRECT(O$173&$X268)","v":{"$error":"#REF!"}},"人）","（",{"$f":"INDIRECT(R$173&$X268)","v":{"$error":"#REF!"}},"人）","（",{"$f":"INDIRECT(U$173&$X268)","v":{"$error":"#REF!"}},"人）",{"$error":"#REF!"},35,{"$f":"COUNTIF($W$181:W268,W268)","v":87}]
[{"$error":"#REF!"},null,{"$f":"INDIRECT(C$171&$X269)","v":{"$error":"#REF!"}},null,null,null,null,null,null,null,null,null,{"$f":"INDIRECT(M$171&$X269)","v":{"$error":"#REF!"}},{"$f":"INDIRECT(N$171&$X269)","v":{"$error":"#REF!"}},null,null,{"$f":"INDIRECT(Q$171&$X269)","v":{"$error":"#REF!"}},null,"円",{"$f":"INDIRECT(T$171&$X269)","v":{"$error":"#REF!"}},null,"円",{"$error":"#REF!"},{"$f":"X268+1","v":36},{"$f":"COUNTIF($W$181:W269,W269)","v":88}]
[{"$error":"#REF!"},null,"➊➋➌それぞれの賃金改善額（見込額）",null,null,null,null,null,null,null,null,null,null,"➊",{"$f":"INDIRECT(O$172&$X270)","v":{"$error":"#REF!"}},"円","➋",{"$f":"INDIRECT(R$172&$X270)","v":{"$error":"#REF!"}},"円","➌",{"$f":"INDIRECT(U$172&$X270)","v":{"$error":"#REF!"}},"円",{"$error":"#REF!"},{"$f":"X269","v":36},{"$f":"COUNTIF($W$181:W270,W270)","v":89}]
[{"$error":"#REF!"},null,null,null,null,null,null,null,null,null,null,null,null,"（",{"$f":"INDIRECT(O$173&$X271)","v":{"$error":"#REF!"}},"人）","（",{"$f":"INDIRECT(R$173&$X271)","v":{"$error":"#REF!"}},"人）","（",{"$f":"INDIRECT(U$173&$X271)","v":{"$error":"#REF!"}},"人）",{"$error":"#REF!"},36,{"$f":"COUNTIF($W$181:W271,W271)","v":90}]
[{"$error":"#REF!"},null,{"$f":"INDIRECT(C$171&$X272)","v":{"$error":"#REF!"}},null,null,null,null,null,null,null,null,null,{"$f":"INDIRECT(M$171&$X272)","v":{"$error":"#REF!"}},{"$f":"INDIRECT(N$171&$X272)","v":{"$error":"#REF!"}},null,null,{"$f":"INDIRECT(Q$171&$X272)","v":{"$error":"#REF!"}},null,"円",{"$f":"INDIRECT(T$171&$X272)","v":{"$error":"#REF!"}},null,"円",{"$error":"#REF!"},{"$f":"X271+1","v":37},{"$f":"COUNTIF($W$181:W272,W272)","v":91}]
[{"$error":"#REF!"},null,"➊➋➌それぞれの賃金改善額（見込額）",null,null,null,null,null,null,null,null,null,null,"➊",{"$f":"INDIRECT(O$172&$X273)","v":{"$error":"#REF!"}},"円","➋",{"$f":"INDIRECT(R$172&$X273)","v":{"$error":"#REF!"}},"円","➌",{"$f":"INDIRECT(U$172&$X273)","v":{"$error":"#REF!"}},"円",{"$error":"#REF!"},{"$f":"X272","v":37},{"$f":"COUNTIF($W$181:W273,W273)","v":92}]
[{"$error":"#REF!"},null,null,null,null,null,null,null,null,null,null,null,null,"（",{"$f":"INDIRECT(O$173&$X274)","v":{"$error":"#REF!"}},"人）","（",{"$f":"INDIRECT(R$173&$X274)","v":{"$error":"#REF!"}},"人）","（",{"$f":"INDIRECT(U$173&$X274)","v":{"$error":"#REF!"}},"人）",{"$error":"#REF!"},37,{"$f":"COUNTIF($W$181:W274,W274)","v":93}]
[{"$error":"#REF!"},null,{"$f":"INDIRECT(C$171&$X275)","v":{"$error":"#REF!"}},null,null,null,null,null,null,null,null,null,{"$f":"INDIRECT(M$171&$X275)","v":{"$error":"#REF!"}},{"$f":"INDIRECT(N$171&$X275)","v":{"$error":"#REF!"}},null,null,{"$f":"INDIRECT(Q$171&$X275)","v":{"$error":"#REF!"}},null,"円",{"$f":"INDIRECT(T$171&$X275)","v":{"$error":"#REF!"}},null,"円",{"$error":"#REF!"},{"$f":"X274+1","v":38},{"$f":"COUNTIF($W$181:W275,W275)","v":94}]
[{"$error":"#REF!"},null,"➊➋➌それぞれの賃金改善額（見込額）",null,null,null,null,null,null,null,null,null,null,"➊",{"$f":"INDIRECT(O$172&$X276)","v":{"$error":"#REF!"}},"円","➋",{"$f":"INDIRECT(R$172&$X276)","v":{"$error":"#REF!"}},"円","➌",{"$f":"INDIRECT(U$172&$X276)","v":{"$error":"#REF!"}},"円",{"$error":"#REF!"},{"$f":"X275","v":38},{"$f":"COUNTIF($W$181:W276,W276)","v":95}]
[{"$error":"#REF!"},null,null,null,null,null,null,null,null,null,null,null,null,"（",{"$f":"INDIRECT(O$173&$X277)","v":{"$error":"#REF!"}},"人）","（",{"$f":"INDIRECT(R$173&$X277)","v":{"$error":"#REF!"}},"人）","（",{"$f":"INDIRECT(U$173&$X277)","v":{"$error":"#REF!"}},"人）",{"$error":"#REF!"},38,{"$f":"COUNTIF($W$181:W277,W277)","v":96}]
[{"$error":"#REF!"},null,{"$f":"INDIRECT(C$171&$X278)","v":{"$error":"#REF!"}},null,null,null,null,null,null,null,null,null,{"$f":"INDIRECT(M$171&$X278)","v":{"$error":"#REF!"}},{"$f":"INDIRECT(N$171&$X278)","v":{"$error":"#REF!"}},null,null,{"$f":"INDIRECT(Q$171&$X278)","v":{"$error":"#REF!"}},null,"円",{"$f":"INDIRECT(T$171&$X278)","v":{"$error":"#REF!"}},null,"円",{"$error":"#REF!"},{"$f":"X277+1","v":39},{"$f":"COUNTIF($W$181:W278,W278)","v":97}]
[{"$error":"#REF!"},null,"➊➋➌それぞれの賃金改善額（見込額）",null,null,null,null,null,null,null,null,null,null,"➊",{"$f":"INDIRECT(O$172&$X279)","v":{"$error":"#REF!"}},"円","➋",{"$f":"INDIRECT(R$172&$X279)","v":{"$error":"#REF!"}},"円","➌",{"$f":"INDIRECT(U$172&$X279)","v":{"$error":"#REF!"}},"円",{"$error":"#REF!"},{"$f":"X278","v":39},{"$f":"COUNTIF($W$181:W279,W279)","v":98}]
[{"$error":"#REF!"},null,null,null,null,null,null,null,null,null,null,null,null,"（",{"$f":"INDIRECT(O$173&$X280)","v":{"$error":"#REF!"}},"人）","（",{"$f":"INDIRECT(R$173&$X280)","v":{"$error":"#REF!"}},"人）","（",{"$f":"INDIRECT(U$173&$X280)","v":{"$error":"#REF!"}},"人）",{"$error":"#REF!"},39,{"$f":"COUNTIF($W$181:W280,W280)","v":99}]
[{"$error":"#REF!"},null,{"$f":"INDIRECT(C$171&$X281)","v":{"$error":"#REF!"}},null,null,null,null,null,null,null,null,null,{"$f":"INDIRECT(M$171&$X281)","v":{"$error":"#REF!"}},{"$f":"INDIRECT(N$171&$X281)","v":{"$error":"#REF!"}},null,null,{"$f":"INDIRECT(Q$171&$X281)","v":{"$error":"#REF!"}},null,"円",{"$f":"INDIRECT(T$171&$X281)","v":{"$error":"#REF!"}},null,"円",{"$error":"#REF!"},{"$f":"X280+1","v":40},{"$f":"COUNTIF($W$181:W281,W281)","v":100}]
[{"$error":"#REF!"},null,"➊➋➌それぞれの賃金改善額（見込額）",null,null,null,null,null,null,null,null,null,null,"➊",{"$f":"INDIRECT(O$172&$X282)","v":{"$error":"#REF!"}},"円","➋",{"$f":"INDIRECT(R$172&$X282)","v":{"$error":"#REF!"}},"円","➌",{"$f":"INDIRECT(U$172&$X282)","v":{"$error":"#REF!"}},"円",{"$error":"#REF!"},{"$f":"X281","v":40},{"$f":"COUNTIF($W$181:W282,W282)","v":101}]
[{"$error":"#REF!"},null,null,null,null,null,null,null,null,null,null,null,null,"（",{"$f":"INDIRECT(O$173&$X283)","v":{"$error":"#REF!"}},"人）","（",{"$f":"INDIRECT(R$173&$X283)","v":{"$error":"#REF!"}},"人）","（",{"$f":"INDIRECT(U$173&$X283)","v":{"$error":"#REF!"}},"人）",{"$error":"#REF!"},40,{"$f":"COUNTIF($W$181:W283,W283)","v":102}]
[{"$error":"#REF!"},null,{"$f":"INDIRECT(C$171&$X284)","v":{"$error":"#REF!"}},null,null,null,null,null,null,null,null,null,{"$f":"INDIRECT(M$171&$X284)","v":{"$error":"#REF!"}},{"$f":"INDIRECT(N$171&$X284)","v":{"$error":"#REF!"}},null,null,{"$f":"INDIRECT(Q$171&$X284)","v":{"$error":"#REF!"}},null,"円",{"$f":"INDIRECT(T$171&$X284)","v":{"$error":"#REF!"}},null,"円",{"$error":"#REF!"},{"$f":"X283+1","v":41},{"$f":"COUNTIF($W$181:W284,W284)","v":103}]
[{"$error":"#REF!"},null,"➊➋➌それぞれの賃金改善額（見込額）",null,null,null,null,null,null,null,null,null,null,"➊",{"$f":"INDIRECT(O$172&$X285)","v":{"$error":"#REF!"}},"円","➋",{"$f":"INDIRECT(R$172&$X285)","v":{"$error":"#REF!"}},"円","➌",{"$f":"INDIRECT(U$172&$X285)","v":{"$error":"#REF!"}},"円",{"$error":"#REF!"},{"$f":"X284","v":41},{"$f":"COUNTIF($W$181:W285,W285)","v":104}]
[{"$error":"#REF!"},null,null,null,null,null,null,null,null,null,null,null,null,"（",{"$f":"INDIRECT(O$173&$X286)","v":{"$error":"#REF!"}},"人）","（",{"$f":"INDIRECT(R$173&$X286)","v":{"$error":"#REF!"}},"人）","（",{"$f":"INDIRECT(U$173&$X286)","v":{"$error":"#REF!"}},"人）",{"$error":"#REF!"},41,{"$f":"COUNTIF($W$181:W286,W286)","v":105}]
[{"$error":"#REF!"},null,{"$f":"INDIRECT(C$171&$X287)","v":{"$error":"#REF!"}},null,null,null,null,null,null,null,null,null,{"$f":"INDIRECT(M$171&$X287)","v":{"$error":"#REF!"}},{"$f":"INDIRECT(N$171&$X287)","v":{"$error":"#REF!"}},null,null,{"$f":"INDIRECT(Q$171&$X287)","v":{"$error":"#REF!"}},null,"円",{"$f":"INDIRECT(T$171&$X287)","v":{"$error":"#REF!"}},null,"円",{"$error":"#REF!"},{"$f":"X286+1","v":42},{"$f":"COUNTIF($W$181:W287,W287)","v":106}]
[{"$error":"#REF!"},null,"➊➋➌それぞれの賃金改善額（見込額）",null,null,null,null,null,null,null,null,null,null,"➊",{"$f":"INDIRECT(O$172&$X288)","v":{"$error":"#REF!"}},"円","➋",{"$f":"INDIRECT(R$172&$X288)","v":{"$error":"#REF!"}},"円","➌",{"$f":"INDIRECT(U$172&$X288)","v":{"$error":"#REF!"}},"円",{"$error":"#REF!"},{"$f":"X287","v":42},{"$f":"COUNTIF($W$181:W288,W288)","v":107}]
[{"$error":"#REF!"},null,null,null,null,null,null,null,null,null,null,null,null,"（",{"$f":"INDIRECT(O$173&$X289)","v":{"$error":"#REF!"}},"人）","（",{"$f":"INDIRECT(R$173&$X289)","v":{"$error":"#REF!"}},"人）","（",{"$f":"INDIRECT(U$173&$X289)","v":{"$error":"#REF!"}},"人）",{"$error":"#REF!"},42,{"$f":"COUNTIF($W$181:W289,W289)","v":108}]
[{"$error":"#REF!"},null,{"$f":"INDIRECT(C$171&$X290)","v":{"$error":"#REF!"}},null,null,null,null,null,null,null,null,null,{"$f":"INDIRECT(M$171&$X290)","v":{"$error":"#REF!"}},{"$f":"INDIRECT(N$171&$X290)","v":{"$error":"#REF!"}},null,null,{"$f":"INDIRECT(Q$171&$X290)","v":{"$error":"#REF!"}},null,"円",{"$f":"INDIRECT(T$171&$X290)","v":{"$error":"#REF!"}},null,"円",{"$error":"#REF!"},{"$f":"X289+1","v":43},{"$f":"COUNTIF($W$181:W290,W290)","v":109}]
[{"$error":"#REF!"},null,"➊➋➌それぞれの賃金改善額（見込額）",null,null,null,null,null,null,null,null,null,null,"➊",{"$f":"INDIRECT(O$172&$X291)","v":{"$error":"#REF!"}},"円","➋",{"$f":"INDIRECT(R$172&$X291)","v":{"$error":"#REF!"}},"円","➌",{"$f":"INDIRECT(U$172&$X291)","v":{"$error":"#REF!"}},"円",{"$error":"#REF!"},{"$f":"X290","v":43},{"$f":"COUNTIF($W$181:W291,W291)","v":110}]
[{"$error":"#REF!"},null,null,null,null,null,null,null,null,null,null,null,null,"（",{"$f":"INDIRECT(O$173&$X292)","v":{"$error":"#REF!"}},"人）","（",{"$f":"INDIRECT(R$173&$X292)","v":{"$error":"#REF!"}},"人）","（",{"$f":"INDIRECT(U$173&$X292)","v":{"$error":"#REF!"}},"人）",{"$error":"#REF!"},43,{"$f":"COUNTIF($W$181:W292,W292)","v":111}]
[{"$error":"#REF!"},null,{"$f":"INDIRECT(C$171&$X293)","v":{"$error":"#REF!"}},null,null,null,null,null,null,null,null,null,{"$f":"INDIRECT(M$171&$X293)","v":{"$error":"#REF!"}},{"$f":"INDIRECT(N$171&$X293)","v":{"$error":"#REF!"}},null,null,{"$f":"INDIRECT(Q$171&$X293)","v":{"$error":"#REF!"}},null,"円",{"$f":"INDIRECT(T$171&$X293)","v":{"$error":"#REF!"}},null,"円",{"$error":"#REF!"},{"$f":"X292+1","v":44},{"$f":"COUNTIF($W$181:W293,W293)","v":112}]
[{"$error":"#REF!"},null,"➊➋➌それぞれの賃金改善額（見込額）",null,null,null,null,null,null,null,null,null,null,"➊",{"$f":"INDIRECT(O$172&$X294)","v":{"$error":"#REF!"}},"円","➋",{"$f":"INDIRECT(R$172&$X294)","v":{"$error":"#REF!"}},"円","➌",{"$f":"INDIRECT(U$172&$X294)","v":{"$error":"#REF!"}},"円",{"$error":"#REF!"},{"$f":"X293","v":44},{"$f":"COUNTIF($W$181:W294,W294)","v":113}]
[{"$error":"#REF!"},null,null,null,null,null,null,null,null,null,null,null,null,"（",{"$f":"INDIRECT(O$173&$X295)","v":{"$error":"#REF!"}},"人）","（",{"$f":"INDIRECT(R$173&$X295)","v":{"$error":"#REF!"}},"人）","（",{"$f":"INDIRECT(U$173&$X295)","v":{"$error":"#REF!"}},"人）",{"$error":"#REF!"},44,{"$f":"COUNTIF($W$181:W295,W295)","v":114}]
[{"$error":"#REF!"},null,{"$f":"INDIRECT(C$171&$X296)","v":{"$error":"#REF!"}},null,null,null,null,null,null,null,null,null,{"$f":"INDIRECT(M$171&$X296)","v":{"$error":"#REF!"}},{"$f":"INDIRECT(N$171&$X296)","v":{"$error":"#REF!"}},null,null,{"$f":"INDIRECT(Q$171&$X296)","v":{"$error":"#REF!"}},null,"円",{"$f":"INDIRECT(T$171&$X296)","v":{"$error":"#REF!"}},null,"円",{"$error":"#REF!"},{"$f":"X295+1","v":45},{"$f":"COUNTIF($W$181:W296,W296)","v":115}]
[{"$error":"#REF!"},null,"➊➋➌それぞれの賃金改善額（見込額）",null,null,null,null,null,null,null,null,null,null,"➊",{"$f":"INDIRECT(O$172&$X297)","v":{"$error":"#REF!"}},"円","➋",{"$f":"INDIRECT(R$172&$X297)","v":{"$error":"#REF!"}},"円","➌",{"$f":"INDIRECT(U$172&$X297)","v":{"$error":"#REF!"}},"円",{"$error":"#REF!"},{"$f":"X296","v":45},{"$f":"COUNTIF($W$181:W297,W297)","v":116}]
[{"$error":"#REF!"},null,null,null,null,null,null,null,null,null,null,null,null,"（",{"$f":"INDIRECT(O$173&$X298)","v":{"$error":"#REF!"}},"人）","（",{"$f":"INDIRECT(R$173&$X298)","v":{"$error":"#REF!"}},"人）","（",{"$f":"INDIRECT(U$173&$X298)","v":{"$error":"#REF!"}},"人）",{"$error":"#REF!"},45,{"$f":"COUNTIF($W$181:W298,W298)","v":117}]
[{"$error":"#REF!"},null,{"$f":"INDIRECT(C$171&$X299)","v":{"$error":"#REF!"}},null,null,null,null,null,null,null,null,null,{"$f":"INDIRECT(M$171&$X299)","v":{"$error":"#REF!"}},{"$f":"INDIRECT(N$171&$X299)","v":{"$error":"#REF!"}},null,null,{"$f":"INDIRECT(Q$171&$X299)","v":{"$error":"#REF!"}},null,"円",{"$f":"INDIRECT(T$171&$X299)","v":{"$error":"#REF!"}},null,"円",{"$error":"#REF!"},{"$f":"X298+1","v":46},{"$f":"COUNTIF($W$181:W299,W299)","v":118}]
[{"$error":"#REF!"},null,"➊➋➌それぞれの賃金改善額（見込額）",null,null,null,null,null,null,null,null,null,null,"➊",{"$f":"INDIRECT(O$172&$X300)","v":{"$error":"#REF!"}},"円","➋",{"$f":"INDIRECT(R$172&$X300)","v":{"$error":"#REF!"}},"円","➌",{"$f":"INDIRECT(U$172&$X300)","v":{"$error":"#REF!"}},"円",{"$error":"#REF!"},{"$f":"X299","v":46},{"$f":"COUNTIF($W$181:W300,W300)","v":119}]
[{"$error":"#REF!"},null,null,null,null,null,null,null,null,null,null,null,null,"（",{"$f":"INDIRECT(O$173&$X301)","v":{"$error":"#REF!"}},"人）","（",{"$f":"INDIRECT(R$173&$X301)","v":{"$error":"#REF!"}},"人）","（",{"$f":"INDIRECT(U$173&$X301)","v":{"$error":"#REF!"}},"人）",{"$error":"#REF!"},46,{"$f":"COUNTIF($W$181:W301,W301)","v":120}]
[{"$error":"#REF!"},null,{"$f":"INDIRECT(C$171&$X302)","v":{"$error":"#REF!"}},null,null,null,null,null,null,null,null,null,{"$f":"INDIRECT(M$171&$X302)","v":{"$error":"#REF!"}},{"$f":"INDIRECT(N$171&$X302)","v":{"$error":"#REF!"}},null,null,{"$f":"INDIRECT(Q$171&$X302)","v":{"$error":"#REF!"}},null,"円",{"$f":"INDIRECT(T$171&$X302)","v":{"$error":"#REF!"}},null,"円",{"$error":"#REF!"},{"$f":"X301+1","v":47},{"$f":"COUNTIF($W$181:W302,W302)","v":121}]
[{"$error":"#REF!"},null,"➊➋➌それぞれの賃金改善額（見込額）",null,null,null,null,null,null,null,null,null,null,"➊",{"$f":"INDIRECT(O$172&$X303)","v":{"$error":"#REF!"}},"円","➋",{"$f":"INDIRECT(R$172&$X303)","v":{"$error":"#REF!"}},"円","➌",{"$f":"INDIRECT(U$172&$X303)","v":{"$error":"#REF!"}},"円",{"$error":"#REF!"},{"$f":"X302","v":47},{"$f":"COUNTIF($W$181:W303,W303)","v":122}]
[{"$error":"#REF!"},null,null,null,null,null,null,null,null,null,null,null,null,"（",{"$f":"INDIRECT(O$173&$X304)","v":{"$error":"#REF!"}},"人）","（",{"$f":"INDIRECT(R$173&$X304)","v":{"$error":"#REF!"}},"人）","（",{"$f":"INDIRECT(U$173&$X304)","v":{"$error":"#REF!"}},"人）",{"$error":"#REF!"},47,{"$f":"COUNTIF($W$181:W304,W304)","v":123}]
[{"$error":"#REF!"},null,{"$f":"INDIRECT(C$171&$X305)","v":{"$error":"#REF!"}},null,null,null,null,null,null,null,null,null,{"$f":"INDIRECT(M$171&$X305)","v":{"$error":"#REF!"}},{"$f":"INDIRECT(N$171&$X305)","v":{"$error":"#REF!"}},null,null,{"$f":"INDIRECT(Q$171&$X305)","v":{"$error":"#REF!"}},null,"円",{"$f":"INDIRECT(T$171&$X305)","v":{"$error":"#REF!"}},null,"円",{"$error":"#REF!"},{"$f":"X304+1","v":48},{"$f":"COUNTIF($W$181:W305,W305)","v":124}]
[{"$error":"#REF!"},null,"➊➋➌それぞれの賃金改善額（見込額）",null,null,null,null,null,null,null,null,null,null,"➊",{"$f":"INDIRECT(O$172&$X306)","v":{"$error":"#REF!"}},"円","➋",{"$f":"INDIRECT(R$172&$X306)","v":{"$error":"#REF!"}},"円","➌",{"$f":"INDIRECT(U$172&$X306)","v":{"$error":"#REF!"}},"円",{"$error":"#REF!"},{"$f":"X305","v":48},{"$f":"COUNTIF($W$181:W306,W306)","v":125}]
[{"$error":"#REF!"},null,null,null,null,null,null,null,null,null,null,null,null,"（",{"$f":"INDIRECT(O$173&$X307)","v":{"$error":"#REF!"}},"人）","（",{"$f":"INDIRECT(R$173&$X307)","v":{"$error":"#REF!"}},"人）","（",{"$f":"INDIRECT(U$173&$X307)","v":{"$error":"#REF!"}},"人）",{"$error":"#REF!"},48,{"$f":"COUNTIF($W$181:W307,W307)","v":126}]
[{"$error":"#REF!"},null,{"$f":"INDIRECT(C$171&$X308)","v":{"$error":"#REF!"}},null,null,null,null,null,null,null,null,null,{"$f":"INDIRECT(M$171&$X308)","v":{"$error":"#REF!"}},{"$f":"INDIRECT(N$171&$X308)","v":{"$error":"#REF!"}},null,null,{"$f":"INDIRECT(Q$171&$X308)","v":{"$error":"#REF!"}},null,"円",{"$f":"INDIRECT(T$171&$X308)","v":{"$error":"#REF!"}},null,"円",{"$error":"#REF!"},{"$f":"X307+1","v":49},{"$f":"COUNTIF($W$181:W308,W308)","v":127}]
[{"$error":"#REF!"},null,"➊➋➌それぞれの賃金改善額（見込額）",null,null,null,null,null,null,null,null,null,null,"➊",{"$f":"INDIRECT(O$172&$X309)","v":{"$error":"#REF!"}},"円","➋",{"$f":"INDIRECT(R$172&$X309)","v":{"$error":"#REF!"}},"円","➌",{"$f":"INDIRECT(U$172&$X309)","v":{"$error":"#REF!"}},"円",{"$error":"#REF!"},{"$f":"X308","v":49},{"$f":"COUNTIF($W$181:W309,W309)","v":128}]
[{"$error":"#REF!"},null,null,null,null,null,null,null,null,null,null,null,null,"（",{"$f":"INDIRECT(O$173&$X310)","v":{"$error":"#REF!"}},"人）","（",{"$f":"INDIRECT(R$173&$X310)","v":{"$error":"#REF!"}},"人）","（",{"$f":"INDIRECT(U$173&$X310)","v":{"$error":"#REF!"}},"人）",{"$error":"#REF!"},49,{"$f":"COUNTIF($W$181:W310,W310)","v":129}]
[{"$error":"#REF!"},null,{"$f":"INDIRECT(C$171&$X311)","v":{"$error":"#REF!"}},null,null,null,null,null,null,null,null,null,{"$f":"INDIRECT(M$171&$X311)","v":{"$error":"#REF!"}},{"$f":"INDIRECT(N$171&$X311)","v":{"$error":"#REF!"}},null,null,{"$f":"INDIRECT(Q$171&$X311)","v":{"$error":"#REF!"}},null,"円",{"$f":"INDIRECT(T$171&$X311)","v":{"$error":"#REF!"}},null,"円",{"$f":"INDIRECT($W$171&X311)","v":{"$error":"#REF!"}},{"$f":"X310+1","v":50},{"$f":"COUNTIF($W$181:W311,W311)","v":130}]
[{"$error":"#REF!"},null,"➊➋➌それぞれの賃金改善額（見込額）",null,null,null,null,null,null,null,null,null,null,"➊",{"$f":"INDIRECT(O$172&$X312)","v":{"$error":"#REF!"}},"円","➋",{"$f":"INDIRECT(R$172&$X312)","v":{"$error":"#REF!"}},"円","➌",{"$f":"INDIRECT(U$172&$X312)","v":{"$error":"#REF!"}},"円",{"$error":"#REF!"},{"$f":"X311","v":50},{"$f":"COUNTIF($W$181:W312,W312)","v":131}]
[{"$error":"#REF!"},null,null,null,null,null,null,null,null,null,null,null,null,"（",{"$f":"INDIRECT(O$173&$X313)","v":{"$error":"#REF!"}},"人）","（",{"$f":"INDIRECT(R$173&$X313)","v":{"$error":"#REF!"}},"人）","（",{"$f":"INDIRECT(U$173&$X313)","v":{"$error":"#REF!"}},"人）",{"$error":"#REF!"},50,{"$f":"COUNTIF($W$181:W313,W313)","v":132}]
[{"$error":"#REF!"},null,{"$f":"INDIRECT(C$171&$X314)","v":{"$error":"#REF!"}},null,null,null,null,null,null,null,null,null,{"$f":"INDIRECT(M$171&$X314)","v":{"$error":"#REF!"}},{"$f":"INDIRECT(N$171&$X314)","v":{"$error":"#REF!"}},null,null,{"$f":"INDIRECT(Q$171&$X314)","v":{"$error":"#REF!"}},null,"円",{"$f":"INDIRECT(T$171&$X314)","v":{"$error":"#REF!"}},null,"円",{"$error":"#REF!"},{"$f":"X313+1","v":51},{"$f":"COUNTIF($W$181:W314,W314)","v":133}]
[{"$error":"#REF!"},null,"➊➋➌それぞれの賃金改善額（見込額）",null,null,null,null,null,null,null,null,null,null,"➊",{"$f":"INDIRECT(O$172&$X315)","v":{"$error":"#REF!"}},"円","➋",{"$f":"INDIRECT(R$172&$X315)","v":{"$error":"#REF!"}},"円","➌",{"$f":"INDIRECT(U$172&$X315)","v":{"$error":"#REF!"}},"円",{"$error":"#REF!"},{"$f":"X314","v":51},{"$f":"COUNTIF($W$181:W315,W315)","v":134}]
[{"$error":"#REF!"},null,null,null,null,null,null,null,null,null,null,null,null,"（",{"$f":"INDIRECT(O$173&$X316)","v":{"$error":"#REF!"}},"人）","（",{"$f":"INDIRECT(R$173&$X316)","v":{"$error":"#REF!"}},"人）","（",{"$f":"INDIRECT(U$173&$X316)","v":{"$error":"#REF!"}},"人）",{"$error":"#REF!"},51,{"$f":"COUNTIF($W$181:W316,W316)","v":135}]
[{"$error":"#REF!"},null,{"$f":"INDIRECT(C$171&$X317)","v":{"$error":"#REF!"}},null,null,null,null,null,null,null,null,null,{"$f":"INDIRECT(M$171&$X317)","v":{"$error":"#REF!"}},{"$f":"INDIRECT(N$171&$X317)","v":{"$error":"#REF!"}},null,null,{"$f":"INDIRECT(Q$171&$X317)","v":{"$error":"#REF!"}},null,"円",{"$f":"INDIRECT(T$171&$X317)","v":{"$error":"#REF!"}},null,"円",{"$error":"#REF!"},{"$f":"X316+1","v":52},{"$f":"COUNTIF($W$181:W317,W317)","v":136}]
[{"$error":"#REF!"},null,"➊➋➌それぞれの賃金改善額（見込額）",null,null,null,null,null,null,null,null,null,null,"➊",{"$f":"INDIRECT(O$172&$X318)","v":{"$error":"#REF!"}},"円","➋",{"$f":"INDIRECT(R$172&$X318)","v":{"$error":"#REF!"}},"円","➌",{"$f":"INDIRECT(U$172&$X318)","v":{"$error":"#REF!"}},"円",{"$error":"#REF!"},{"$f":"X317","v":52},{"$f":"COUNTIF($W$181:W318,W318)","v":137}]
[{"$error":"#REF!"},null,null,null,null,null,null,null,null,null,null,null,null,"（",{"$f":"INDIRECT(O$173&$X319)","v":{"$error":"#REF!"}},"人）","（",{"$f":"INDIRECT(R$173&$X319)","v":{"$error":"#REF!"}},"人）","（",{"$f":"INDIRECT(U$173&$X319)","v":{"$error":"#REF!"}},"人）",{"$error":"#REF!"},52,{"$f":"COUNTIF($W$181:W319,W319)","v":138}]
[{"$error":"#REF!"},null,{"$f":"INDIRECT(C$171&$X320)","v":{"$error":"#REF!"}},null,null,null,null,null,null,null,null,null,{"$f":"INDIRECT(M$171&$X320)","v":{"$error":"#REF!"}},{"$f":"INDIRECT(N$171&$X320)","v":{"$error":"#REF!"}},null,null,{"$f":"INDIRECT(Q$171&$X320)","v":{"$error":"#REF!"}},null,"円",{"$f":"INDIRECT(T$171&$X320)","v":{"$error":"#REF!"}},null,"円",{"$error":"#REF!"},{"$f":"X319+1","v":53},{"$f":"COUNTIF($W$181:W320,W320)","v":139}]
[{"$error":"#REF!"},null,"➊➋➌それぞれの賃金改善額（見込額）",null,null,null,null,null,null,null,null,null,null,"➊",{"$f":"INDIRECT(O$172&$X321)","v":{"$error":"#REF!"}},"円","➋",{"$f":"INDIRECT(R$172&$X321)","v":{"$error":"#REF!"}},"円","➌",{"$f":"INDIRECT(U$172&$X321)","v":{"$error":"#REF!"}},"円",{"$error":"#REF!"},{"$f":"X320","v":53},{"$f":"COUNTIF($W$181:W321,W321)","v":140}]
[{"$error":"#REF!"},null,null,null,null,null,null,null,null,null,null,null,null,"（",{"$f":"INDIRECT(O$173&$X322)","v":{"$error":"#REF!"}},"人）","（",{"$f":"INDIRECT(R$173&$X322)","v":{"$error":"#REF!"}},"人）","（",{"$f":"INDIRECT(U$173&$X322)","v":{"$error":"#REF!"}},"人）",{"$error":"#REF!"},53,{"$f":"COUNTIF($W$181:W322,W322)","v":141}]
[{"$error":"#REF!"},null,{"$f":"INDIRECT(C$171&$X323)","v":{"$error":"#REF!"}},null,null,null,null,null,null,null,null,null,{"$f":"INDIRECT(M$171&$X323)","v":{"$error":"#REF!"}},{"$f":"INDIRECT(N$171&$X323)","v":{"$error":"#REF!"}},null,null,{"$f":"INDIRECT(Q$171&$X323)","v":{"$error":"#REF!"}},null,"円",{"$f":"INDIRECT(T$171&$X323)","v":{"$error":"#REF!"}},null,"円",{"$error":"#REF!"},{"$f":"X322+1","v":54},{"$f":"COUNTIF($W$181:W323,W323)","v":142}]
[{"$error":"#REF!"},null,"➊➋➌それぞれの賃金改善額（見込額）",null,null,null,null,null,null,null,null,null,null,"➊",{"$f":"INDIRECT(O$172&$X324)","v":{"$error":"#REF!"}},"円","➋",{"$f":"INDIRECT(R$172&$X324)","v":{"$error":"#REF!"}},"円","➌",{"$f":"INDIRECT(U$172&$X324)","v":{"$error":"#REF!"}},"円",{"$error":"#REF!"},{"$f":"X323","v":54},{"$f":"COUNTIF($W$181:W324,W324)","v":143}]
[{"$error":"#REF!"},null,null,null,null,null,null,null,null,null,null,null,null,"（",{"$f":"INDIRECT(O$173&$X325)","v":{"$error":"#REF!"}},"人）","（",{"$f":"INDIRECT(R$173&$X325)","v":{"$error":"#REF!"}},"人）","（",{"$f":"INDIRECT(U$173&$X325)","v":{"$error":"#REF!"}},"人）",{"$error":"#REF!"},54,{"$f":"COUNTIF($W$181:W325,W325)","v":144}]
[{"$error":"#REF!"},null,{"$f":"INDIRECT(C$171&$X326)","v":{"$error":"#REF!"}},null,null,null,null,null,null,null,null,null,{"$f":"INDIRECT(M$171&$X326)","v":{"$error":"#REF!"}},{"$f":"INDIRECT(N$171&$X326)","v":{"$error":"#REF!"}},null,null,{"$f":"INDIRECT(Q$171&$X326)","v":{"$error":"#REF!"}},null,"円",{"$f":"INDIRECT(T$171&$X326)","v":{"$error":"#REF!"}},null,"円",{"$error":"#REF!"},{"$f":"X325+1","v":55},{"$f":"COUNTIF($W$181:W326,W326)","v":145}]
[{"$error":"#REF!"},null,"➊➋➌それぞれの賃金改善額（見込額）",null,null,null,null,null,null,null,null,null,null,"➊",{"$f":"INDIRECT(O$172&$X327)","v":{"$error":"#REF!"}},"円","➋",{"$f":"INDIRECT(R$172&$X327)","v":{"$error":"#REF!"}},"円","➌",{"$f":"INDIRECT(U$172&$X327)","v":{"$error":"#REF!"}},"円",{"$error":"#REF!"},{"$f":"X326","v":55},{"$f":"COUNTIF($W$181:W327,W327)","v":146}]
[{"$error":"#REF!"},null,null,null,null,null,null,null,null,null,null,null,null,"（",{"$f":"INDIRECT(O$173&$X328)","v":{"$error":"#REF!"}},"人）","（",{"$f":"INDIRECT(R$173&$X328)","v":{"$error":"#REF!"}},"人）","（",{"$f":"INDIRECT(U$173&$X328)","v":{"$error":"#REF!"}},"人）",{"$error":"#REF!"},55,{"$f":"COUNTIF($W$181:W328,W328)","v":147}]
[{"$error":"#REF!"},null,{"$f":"INDIRECT(C$171&$X329)","v":{"$error":"#REF!"}},null,null,null,null,null,null,null,null,null,{"$f":"INDIRECT(M$171&$X329)","v":{"$error":"#REF!"}},{"$f":"INDIRECT(N$171&$X329)","v":{"$error":"#REF!"}},null,null,{"$f":"INDIRECT(Q$171&$X329)","v":{"$error":"#REF!"}},null,"円",{"$f":"INDIRECT(T$171&$X329)","v":{"$error":"#REF!"}},null,"円",{"$error":"#REF!"},{"$f":"X328+1","v":56},{"$f":"COUNTIF($W$181:W329,W329)","v":148}]
[{"$error":"#REF!"},null,"➊➋➌それぞれの賃金改善額（見込額）",null,null,null,null,null,null,null,null,null,null,"➊",{"$f":"INDIRECT(O$172&$X330)","v":{"$error":"#REF!"}},"円","➋",{"$f":"INDIRECT(R$172&$X330)","v":{"$error":"#REF!"}},"円","➌",{"$f":"INDIRECT(U$172&$X330)","v":{"$error":"#REF!"}},"円",{"$error":"#REF!"},{"$f":"X329","v":56},{"$f":"COUNTIF($W$181:W330,W330)","v":149}]
[{"$error":"#REF!"},null,null,null,null,null,null,null,null,null,null,null,null,"（",{"$f":"INDIRECT(O$173&$X331)","v":{"$error":"#REF!"}},"人）","（",{"$f":"INDIRECT(R$173&$X331)","v":{"$error":"#REF!"}},"人）","（",{"$f":"INDIRECT(U$173&$X331)","v":{"$error":"#REF!"}},"人）",{"$error":"#REF!"},56,{"$f":"COUNTIF($W$181:W331,W331)","v":150}]
[{"$error":"#REF!"},null,{"$f":"INDIRECT(C$171&$X332)","v":{"$error":"#REF!"}},null,null,null,null,null,null,null,null,null,{"$f":"INDIRECT(M$171&$X332)","v":{"$error":"#REF!"}},{"$f":"INDIRECT(N$171&$X332)","v":{"$error":"#REF!"}},null,null,{"$f":"INDIRECT(Q$171&$X332)","v":{"$error":"#REF!"}},null,"円",{"$f":"INDIRECT(T$171&$X332)","v":{"$error":"#REF!"}},null,"円",{"$error":"#REF!"},{"$f":"X331+1","v":57},{"$f":"COUNTIF($W$181:W332,W332)","v":151}]
[{"$error":"#REF!"},null,"➊➋➌それぞれの賃金改善額（見込額）",null,null,null,null,null,null,null,null,null,null,"➊",{"$f":"INDIRECT(O$172&$X333)","v":{"$error":"#REF!"}},"円","➋",{"$f":"INDIRECT(R$172&$X333)","v":{"$error":"#REF!"}},"円","➌",{"$f":"INDIRECT(U$172&$X333)","v":{"$error":"#REF!"}},"円",{"$error":"#REF!"},{"$f":"X332","v":57},{"$f":"COUNTIF($W$181:W333,W333)","v":152}]
[{"$error":"#REF!"},null,null,null,null,null,null,null,null,null,null,null,null,"（",{"$f":"INDIRECT(O$173&$X334)","v":{"$error":"#REF!"}},"人）","（",{"$f":"INDIRECT(R$173&$X334)","v":{"$error":"#REF!"}},"人）","（",{"$f":"INDIRECT(U$173&$X334)","v":{"$error":"#REF!"}},"人）",{"$error":"#REF!"},57,{"$f":"COUNTIF($W$181:W334,W334)","v":153}]
[{"$error":"#REF!"},null,{"$f":"INDIRECT(C$171&$X335)","v":{"$error":"#REF!"}},null,null,null,null,null,null,null,null,null,{"$f":"INDIRECT(M$171&$X335)","v":{"$error":"#REF!"}},{"$f":"INDIRECT(N$171&$X335)","v":{"$error":"#REF!"}},null,null,{"$f":"INDIRECT(Q$171&$X335)","v":{"$error":"#REF!"}},null,"円",{"$f":"INDIRECT(T$171&$X335)","v":{"$error":"#REF!"}},null,"円",{"$error":"#REF!"},{"$f":"X334+1","v":58},{"$f":"COUNTIF($W$181:W335,W335)","v":154}]
[{"$error":"#REF!"},null,"➊➋➌それぞれの賃金改善額（見込額）",null,null,null,null,null,null,null,null,null,null,"➊",{"$f":"INDIRECT(O$172&$X336)","v":{"$error":"#REF!"}},"円","➋",{"$f":"INDIRECT(R$172&$X336)","v":{"$error":"#REF!"}},"円","➌",{"$f":"INDIRECT(U$172&$X336)","v":{"$error":"#REF!"}},"円",{"$error":"#REF!"},{"$f":"X335","v":58},{"$f":"COUNTIF($W$181:W336,W336)","v":155}]
[{"$error":"#REF!"},null,null,null,null,null,null,null,null,null,null,null,null,"（",{"$f":"INDIRECT(O$173&$X337)","v":{"$error":"#REF!"}},"人）","（",{"$f":"INDIRECT(R$173&$X337)","v":{"$error":"#REF!"}},"人）","（",{"$f":"INDIRECT(U$173&$X337)","v":{"$error":"#REF!"}},"人）",{"$error":"#REF!"},58,{"$f":"COUNTIF($W$181:W337,W337)","v":156}]
[{"$error":"#REF!"},null,{"$f":"INDIRECT(C$171&$X338)","v":{"$error":"#REF!"}},null,null,null,null,null,null,null,null,null,{"$f":"INDIRECT(M$171&$X338)","v":{"$error":"#REF!"}},{"$f":"INDIRECT(N$171&$X338)","v":{"$error":"#REF!"}},null,null,{"$f":"INDIRECT(Q$171&$X338)","v":{"$error":"#REF!"}},null,"円",{"$f":"INDIRECT(T$171&$X338)","v":{"$error":"#REF!"}},null,"円",{"$error":"#REF!"},{"$f":"X337+1","v":59},{"$f":"COUNTIF($W$181:W338,W338)","v":157}]
[{"$error":"#REF!"},null,"➊➋➌それぞれの賃金改善額（見込額）",null,null,null,null,null,null,null,null,null,null,"➊",{"$f":"INDIRECT(O$172&$X339)","v":{"$error":"#REF!"}},"円","➋",{"$f":"INDIRECT(R$172&$X339)","v":{"$error":"#REF!"}},"円","➌",{"$f":"INDIRECT(U$172&$X339)","v":{"$error":"#REF!"}},"円",{"$error":"#REF!"},{"$f":"X338","v":59},{"$f":"COUNTIF($W$181:W339,W339)","v":158}]
[{"$error":"#REF!"},null,null,null,null,null,null,null,null,null,null,null,null,"（",{"$f":"INDIRECT(O$173&$X340)","v":{"$error":"#REF!"}},"人）","（",{"$f":"INDIRECT(R$173&$X340)","v":{"$error":"#REF!"}},"人）","（",{"$f":"INDIRECT(U$173&$X340)","v":{"$error":"#REF!"}},"人）",{"$error":"#REF!"},59,{"$f":"COUNTIF($W$181:W340,W340)","v":159}]
[{"$error":"#REF!"},null,{"$f":"INDIRECT(C$171&$X341)","v":{"$error":"#REF!"}},null,null,null,null,null,null,null,null,null,{"$f":"INDIRECT(M$171&$X341)","v":{"$error":"#REF!"}},{"$f":"INDIRECT(N$171&$X341)","v":{"$error":"#REF!"}},null,null,{"$f":"INDIRECT(Q$171&$X341)","v":{"$error":"#REF!"}},null,"円",{"$f":"INDIRECT(T$171&$X341)","v":{"$error":"#REF!"}},null,"円",{"$error":"#REF!"},{"$f":"X340+1","v":60},{"$f":"COUNTIF($W$181:W341,W341)","v":160}]
[{"$error":"#REF!"},null,"➊➋➌それぞれの賃金改善額（見込額）",null,null,null,null,null,null,null,null,null,null,"➊",{"$f":"INDIRECT(O$172&$X342)","v":{"$error":"#REF!"}},"円","➋",{"$f":"INDIRECT(R$172&$X342)","v":{"$error":"#REF!"}},"円","➌",{"$f":"INDIRECT(U$172&$X342)","v":{"$error":"#REF!"}},"円",{"$error":"#REF!"},{"$f":"X341","v":60},{"$f":"COUNTIF($W$181:W342,W342)","v":161}]
[{"$error":"#REF!"},null,null,null,null,null,null,null,null,null,null,null,null,"（",{"$f":"INDIRECT(O$173&$X343)","v":{"$error":"#REF!"}},"人）","（",{"$f":"INDIRECT(R$173&$X343)","v":{"$error":"#REF!"}},"人）","（",{"$f":"INDIRECT(U$173&$X343)","v":{"$error":"#REF!"}},"人）",{"$error":"#REF!"},60,{"$f":"COUNTIF($W$181:W343,W343)","v":162}]
[{"$error":"#REF!"},null,{"$f":"INDIRECT(C$171&$X344)","v":{"$error":"#REF!"}},null,null,null,null,null,null,null,null,null,{"$f":"INDIRECT(M$171&$X344)","v":{"$error":"#REF!"}},{"$f":"INDIRECT(N$171&$X344)","v":{"$error":"#REF!"}},null,null,{"$f":"INDIRECT(Q$171&$X344)","v":{"$error":"#REF!"}},null,"円",{"$f":"INDIRECT(T$171&$X344)","v":{"$error":"#REF!"}},null,"円",{"$error":"#REF!"},{"$f":"X343+1","v":61},{"$f":"COUNTIF($W$181:W344,W344)","v":163}]
[{"$error":"#REF!"},null,"➊➋➌それぞれの賃金改善額（見込額）",null,null,null,null,null,null,null,null,null,null,"➊",{"$f":"INDIRECT(O$172&$X345)","v":{"$error":"#REF!"}},"円","➋",{"$f":"INDIRECT(R$172&$X345)","v":{"$error":"#REF!"}},"円","➌",{"$f":"INDIRECT(U$172&$X345)","v":{"$error":"#REF!"}},"円",{"$error":"#REF!"},{"$f":"X344","v":61},{"$f":"COUNTIF($W$181:W345,W345)","v":164}]
[{"$error":"#REF!"},null,null,null,null,null,null,null,null,null,null,null,null,"（",{"$f":"INDIRECT(O$173&$X346)","v":{"$error":"#REF!"}},"人）","（",{"$f":"INDIRECT(R$173&$X346)","v":{"$error":"#REF!"}},"人）","（",{"$f":"INDIRECT(U$173&$X346)","v":{"$error":"#REF!"}},"人）",{"$error":"#REF!"},61,{"$f":"COUNTIF($W$181:W346,W346)","v":165}]
[{"$error":"#REF!"},null,{"$f":"INDIRECT(C$171&$X347)","v":{"$error":"#REF!"}},null,null,null,null,null,null,null,null,null,{"$f":"INDIRECT(M$171&$X347)","v":{"$error":"#REF!"}},{"$f":"INDIRECT(N$171&$X347)","v":{"$error":"#REF!"}},null,null,{"$f":"INDIRECT(Q$171&$X347)","v":{"$error":"#REF!"}},null,"円",{"$f":"INDIRECT(T$171&$X347)","v":{"$error":"#REF!"}},null,"円",{"$error":"#REF!"},{"$f":"X346+1","v":62},{"$f":"COUNTIF($W$181:W347,W347)","v":166}]
[{"$error":"#REF!"},null,"➊➋➌それぞれの賃金改善額（見込額）",null,null,null,null,null,null,null,null,null,null,"➊",{"$f":"INDIRECT(O$172&$X348)","v":{"$error":"#REF!"}},"円","➋",{"$f":"INDIRECT(R$172&$X348)","v":{"$error":"#REF!"}},"円","➌",{"$f":"INDIRECT(U$172&$X348)","v":{"$error":"#REF!"}},"円",{"$error":"#REF!"},{"$f":"X347","v":62},{"$f":"COUNTIF($W$181:W348,W348)","v":167}]
[{"$error":"#REF!"},null,null,null,null,null,null,null,null,null,null,null,null,"（",{"$f":"INDIRECT(O$173&$X349)","v":{"$error":"#REF!"}},"人）","（",{"$f":"INDIRECT(R$173&$X349)","v":{"$error":"#REF!"}},"人）","（",{"$f":"INDIRECT(U$173&$X349)","v":{"$error":"#REF!"}},"人）",{"$error":"#REF!"},62,{"$f":"COUNTIF($W$181:W349,W349)","v":168}]
[{"$error":"#REF!"},null,{"$f":"INDIRECT(C$171&$X350)","v":{"$error":"#REF!"}},null,null,null,null,null,null,null,null,null,{"$f":"INDIRECT(M$171&$X350)","v":{"$error":"#REF!"}},{"$f":"INDIRECT(N$171&$X350)","v":{"$error":"#REF!"}},null,null,{"$f":"INDIRECT(Q$171&$X350)","v":{"$error":"#REF!"}},null,"円",{"$f":"INDIRECT(T$171&$X350)","v":{"$error":"#REF!"}},null,"円",{"$error":"#REF!"},{"$f":"X349+1","v":63},{"$f":"COUNTIF($W$181:W350,W350)","v":169}]
[{"$error":"#REF!"},null,"➊➋➌それぞれの賃金改善額（見込額）",null,null,null,null,null,null,null,null,null,null,"➊",{"$f":"INDIRECT(O$172&$X351)","v":{"$error":"#REF!"}},"円","➋",{"$f":"INDIRECT(R$172&$X351)","v":{"$error":"#REF!"}},"円","➌",{"$f":"INDIRECT(U$172&$X351)","v":{"$error":"#REF!"}},"円",{"$error":"#REF!"},{"$f":"X350","v":63},{"$f":"COUNTIF($W$181:W351,W351)","v":170}]
[{"$error":"#REF!"},null,null,null,null,null,null,null,null,null,null,null,null,"（",{"$f":"INDIRECT(O$173&$X352)","v":{"$error":"#REF!"}},"人）","（",{"$f":"INDIRECT(R$173&$X352)","v":{"$error":"#REF!"}},"人）","（",{"$f":"INDIRECT(U$173&$X352)","v":{"$error":"#REF!"}},"人）",{"$error":"#REF!"},63,{"$f":"COUNTIF($W$181:W352,W352)","v":171}]
[{"$error":"#REF!"},null,{"$f":"INDIRECT(C$171&$X353)","v":{"$error":"#REF!"}},null,null,null,null,null,null,null,null,null,{"$f":"INDIRECT(M$171&$X353)","v":{"$error":"#REF!"}},{"$f":"INDIRECT(N$171&$X353)","v":{"$error":"#REF!"}},null,null,{"$f":"INDIRECT(Q$171&$X353)","v":{"$error":"#REF!"}},null,"円",{"$f":"INDIRECT(T$171&$X353)","v":{"$error":"#REF!"}},null,"円",{"$error":"#REF!"},{"$f":"X352+1","v":64},{"$f":"COUNTIF($W$181:W353,W353)","v":172}]
[{"$error":"#REF!"},null,"➊➋➌それぞれの賃金改善額（見込額）",null,null,null,null,null,null,null,null,null,null,"➊",{"$f":"INDIRECT(O$172&$X354)","v":{"$error":"#REF!"}},"円","➋",{"$f":"INDIRECT(R$172&$X354)","v":{"$error":"#REF!"}},"円","➌",{"$f":"INDIRECT(U$172&$X354)","v":{"$error":"#REF!"}},"円",{"$error":"#REF!"},{"$f":"X353","v":64},{"$f":"COUNTIF($W$181:W354,W354)","v":173}]
[{"$error":"#REF!"},null,null,null,null,null,null,null,null,null,null,null,null,"（",{"$f":"INDIRECT(O$173&$X355)","v":{"$error":"#REF!"}},"人）","（",{"$f":"INDIRECT(R$173&$X355)","v":{"$error":"#REF!"}},"人）","（",{"$f":"INDIRECT(U$173&$X355)","v":{"$error":"#REF!"}},"人）",{"$error":"#REF!"},64,{"$f":"COUNTIF($W$181:W355,W355)","v":174}]
[{"$error":"#REF!"},null,{"$f":"INDIRECT(C$171&$X356)","v":{"$error":"#REF!"}},null,null,null,null,null,null,null,null,null,{"$f":"INDIRECT(M$171&$X356)","v":{"$error":"#REF!"}},{"$f":"INDIRECT(N$171&$X356)","v":{"$error":"#REF!"}},null,null,{"$f":"INDIRECT(Q$171&$X356)","v":{"$error":"#REF!"}},null,"円",{"$f":"INDIRECT(T$171&$X356)","v":{"$error":"#REF!"}},null,"円",{"$error":"#REF!"},{"$f":"X355+1","v":65},{"$f":"COUNTIF($W$181:W356,W356)","v":175}]
[{"$error":"#REF!"},null,"➊➋➌それぞれの賃金改善額（見込額）",null,null,null,null,null,null,null,null,null,null,"➊",{"$f":"INDIRECT(O$172&$X357)","v":{"$error":"#REF!"}},"円","➋",{"$f":"INDIRECT(R$172&$X357)","v":{"$error":"#REF!"}},"円","➌",{"$f":"INDIRECT(U$172&$X357)","v":{"$error":"#REF!"}},"円",{"$error":"#REF!"},{"$f":"X356","v":65},{"$f":"COUNTIF($W$181:W357,W357)","v":176}]
[{"$error":"#REF!"},null,null,null,null,null,null,null,null,null,null,null,null,"（",{"$f":"INDIRECT(O$173&$X358)","v":{"$error":"#REF!"}},"人）","（",{"$f":"INDIRECT(R$173&$X358)","v":{"$error":"#REF!"}},"人）","（",{"$f":"INDIRECT(U$173&$X358)","v":{"$error":"#REF!"}},"人）",{"$error":"#REF!"},65,{"$f":"COUNTIF($W$181:W358,W358)","v":177}]
[{"$error":"#REF!"},null,{"$f":"INDIRECT(C$171&$X359)","v":{"$error":"#REF!"}},null,null,null,null,null,null,null,null,null,{"$f":"INDIRECT(M$171&$X359)","v":{"$error":"#REF!"}},{"$f":"INDIRECT(N$171&$X359)","v":{"$error":"#REF!"}},null,null,{"$f":"INDIRECT(Q$171&$X359)","v":{"$error":"#REF!"}},null,"円",{"$f":"INDIRECT(T$171&$X359)","v":{"$error":"#REF!"}},null,"円",{"$error":"#REF!"},{"$f":"X358+1","v":66},{"$f":"COUNTIF($W$181:W359,W359)","v":178}]
[{"$error":"#REF!"},null,"➊➋➌それぞれの賃金改善額（見込額）",null,null,null,null,null,null,null,null,null,null,"➊",{"$f":"INDIRECT(O$172&$X360)","v":{"$error":"#REF!"}},"円","➋",{"$f":"INDIRECT(R$172&$X360)","v":{"$error":"#REF!"}},"円","➌",{"$f":"INDIRECT(U$172&$X360)","v":{"$error":"#REF!"}},"円",{"$error":"#REF!"},{"$f":"X359","v":66},{"$f":"COUNTIF($W$181:W360,W360)","v":179}]
[{"$error":"#REF!"},null,null,null,null,null,null,null,null,null,null,null,null,"（",{"$f":"INDIRECT(O$173&$X361)","v":{"$error":"#REF!"}},"人）","（",{"$f":"INDIRECT(R$173&$X361)","v":{"$error":"#REF!"}},"人）","（",{"$f":"INDIRECT(U$173&$X361)","v":{"$error":"#REF!"}},"人）",{"$error":"#REF!"},66,{"$f":"COUNTIF($W$181:W361,W361)","v":180}]
[{"$error":"#REF!"},null,{"$f":"INDIRECT(C$171&$X362)","v":{"$error":"#REF!"}},null,null,null,null,null,null,null,null,null,{"$f":"INDIRECT(M$171&$X362)","v":{"$error":"#REF!"}},{"$f":"INDIRECT(N$171&$X362)","v":{"$error":"#REF!"}},null,null,{"$f":"INDIRECT(Q$171&$X362)","v":{"$error":"#REF!"}},null,"円",{"$f":"INDIRECT(T$171&$X362)","v":{"$error":"#REF!"}},null,"円",{"$error":"#REF!"},{"$f":"X361+1","v":67},{"$f":"COUNTIF($W$181:W362,W362)","v":181}]
[{"$error":"#REF!"},null,"➊➋➌それぞれの賃金改善額（見込額）",null,null,null,null,null,null,null,null,null,null,"➊",{"$f":"INDIRECT(O$172&$X363)","v":{"$error":"#REF!"}},"円","➋",{"$f":"INDIRECT(R$172&$X363)","v":{"$error":"#REF!"}},"円","➌",{"$f":"INDIRECT(U$172&$X363)","v":{"$error":"#REF!"}},"円",{"$error":"#REF!"},{"$f":"X362","v":67},{"$f":"COUNTIF($W$181:W363,W363)","v":182}]
[{"$error":"#REF!"},null,null,null,null,null,null,null,null,null,null,null,null,"（",{"$f":"INDIRECT(O$173&$X364)","v":{"$error":"#REF!"}},"人）","（",{"$f":"INDIRECT(R$173&$X364)","v":{"$error":"#REF!"}},"人）","（",{"$f":"INDIRECT(U$173&$X364)","v":{"$error":"#REF!"}},"人）",{"$error":"#REF!"},67,{"$f":"COUNTIF($W$181:W364,W364)","v":183}]
[{"$error":"#REF!"},null,{"$f":"INDIRECT(C$171&$X365)","v":{"$error":"#REF!"}},null,null,null,null,null,null,null,null,null,{"$f":"INDIRECT(M$171&$X365)","v":{"$error":"#REF!"}},{"$f":"INDIRECT(N$171&$X365)","v":{"$error":"#REF!"}},null,null,{"$f":"INDIRECT(Q$171&$X365)","v":{"$error":"#REF!"}},null,"円",{"$f":"INDIRECT(T$171&$X365)","v":{"$error":"#REF!"}},null,"円",{"$error":"#REF!"},{"$f":"X364+1","v":68},{"$f":"COUNTIF($W$181:W365,W365)","v":184}]
[{"$error":"#REF!"},null,"➊➋➌それぞれの賃金改善額（見込額）",null,null,null,null,null,null,null,null,null,null,"➊",{"$f":"INDIRECT(O$172&$X366)","v":{"$error":"#REF!"}},"円","➋",{"$f":"INDIRECT(R$172&$X366)","v":{"$error":"#REF!"}},"円","➌",{"$f":"INDIRECT(U$172&$X366)","v":{"$error":"#REF!"}},"円",{"$error":"#REF!"},{"$f":"X365","v":68},{"$f":"COUNTIF($W$181:W366,W366)","v":185}]
[{"$error":"#REF!"},null,null,null,null,null,null,null,null,null,null,null,null,"（",{"$f":"INDIRECT(O$173&$X367)","v":{"$error":"#REF!"}},"人）","（",{"$f":"INDIRECT(R$173&$X367)","v":{"$error":"#REF!"}},"人）","（",{"$f":"INDIRECT(U$173&$X367)","v":{"$error":"#REF!"}},"人）",{"$error":"#REF!"},68,{"$f":"COUNTIF($W$181:W367,W367)","v":186}]
[{"$error":"#REF!"},null,{"$f":"INDIRECT(C$171&$X368)","v":{"$error":"#REF!"}},null,null,null,null,null,null,null,null,null,{"$f":"INDIRECT(M$171&$X368)","v":{"$error":"#REF!"}},{"$f":"INDIRECT(N$171&$X368)","v":{"$error":"#REF!"}},null,null,{"$f":"INDIRECT(Q$171&$X368)","v":{"$error":"#REF!"}},null,"円",{"$f":"INDIRECT(T$171&$X368)","v":{"$error":"#REF!"}},null,"円",{"$error":"#REF!"},{"$f":"X367+1","v":69},{"$f":"COUNTIF($W$181:W368,W368)","v":187}]
[{"$error":"#REF!"},null,"➊➋➌それぞれの賃金改善額（見込額）",null,null,null,null,null,null,null,null,null,null,"➊",{"$f":"INDIRECT(O$172&$X369)","v":{"$error":"#REF!"}},"円","➋",{"$f":"INDIRECT(R$172&$X369)","v":{"$error":"#REF!"}},"円","➌",{"$f":"INDIRECT(U$172&$X369)","v":{"$error":"#REF!"}},"円",{"$error":"#REF!"},{"$f":"X368","v":69},{"$f":"COUNTIF($W$181:W369,W369)","v":188}]
[{"$error":"#REF!"},null,null,null,null,null,null,null,null,null,null,null,null,"（",{"$f":"INDIRECT(O$173&$X370)","v":{"$error":"#REF!"}},"人）","（",{"$f":"INDIRECT(R$173&$X370)","v":{"$error":"#REF!"}},"人）","（",{"$f":"INDIRECT(U$173&$X370)","v":{"$error":"#REF!"}},"人）",{"$error":"#REF!"},69,{"$f":"COUNTIF($W$181:W370,W370)","v":189}]
[{"$error":"#REF!"},null,{"$f":"INDIRECT(C$171&$X371)","v":{"$error":"#REF!"}},null,null,null,null,null,null,null,null,null,{"$f":"INDIRECT(M$171&$X371)","v":{"$error":"#REF!"}},{"$f":"INDIRECT(N$171&$X371)","v":{"$error":"#REF!"}},null,null,{"$f":"INDIRECT(Q$171&$X371)","v":{"$error":"#REF!"}},null,"円",{"$f":"INDIRECT(T$171&$X371)","v":{"$error":"#REF!"}},null,"円",{"$error":"#REF!"},{"$f":"X370+1","v":70},{"$f":"COUNTIF($W$181:W371,W371)","v":190}]
[{"$error":"#REF!"},null,"➊➋➌それぞれの賃金改善額（見込額）",null,null,null,null,null,null,null,null,null,null,"➊",{"$f":"INDIRECT(O$172&$X372)","v":{"$error":"#REF!"}},"円","➋",{"$f":"INDIRECT(R$172&$X372)","v":{"$error":"#REF!"}},"円","➌",{"$f":"INDIRECT(U$172&$X372)","v":{"$error":"#REF!"}},"円",{"$error":"#REF!"},{"$f":"X371","v":70},{"$f":"COUNTIF($W$181:W372,W372)","v":191}]
[{"$error":"#REF!"},null,null,null,null,null,null,null,null,null,null,null,null,"（",{"$f":"INDIRECT(O$173&$X373)","v":{"$error":"#REF!"}},"人）","（",{"$f":"INDIRECT(R$173&$X373)","v":{"$error":"#REF!"}},"人）","（",{"$f":"INDIRECT(U$173&$X373)","v":{"$error":"#REF!"}},"人）",{"$error":"#REF!"},70,{"$f":"COUNTIF($W$181:W373,W373)","v":192}]
[{"$error":"#REF!"},null,{"$f":"INDIRECT(C$171&$X374)","v":{"$error":"#REF!"}},null,null,null,null,null,null,null,null,null,{"$f":"INDIRECT(M$171&$X374)","v":{"$error":"#REF!"}},{"$f":"INDIRECT(N$171&$X374)","v":{"$error":"#REF!"}},null,null,{"$f":"INDIRECT(Q$171&$X374)","v":{"$error":"#REF!"}},null,"円",{"$f":"INDIRECT(T$171&$X374)","v":{"$error":"#REF!"}},null,"円",{"$error":"#REF!"},{"$f":"X373+1","v":71},{"$f":"COUNTIF($W$181:W374,W374)","v":193}]
[{"$error":"#REF!"},null,"➊➋➌それぞれの賃金改善額（見込額）",null,null,null,null,null,null,null,null,null,null,"➊",{"$f":"INDIRECT(O$172&$X375)","v":{"$error":"#REF!"}},"円","➋",{"$f":"INDIRECT(R$172&$X375)","v":{"$error":"#REF!"}},"円","➌",{"$f":"INDIRECT(U$172&$X375)","v":{"$error":"#REF!"}},"円",{"$f":"INDIRECT($W$171&X375)","v":{"$error":"#REF!"}},{"$f":"X374","v":71},{"$f":"COUNTIF($W$181:W375,W375)","v":194}]
[{"$f":"W376&Y376","v":{"$error":"#REF!"}},null,null,null,null,null,null,null,null,null,null,null,null,"（",{"$f":"INDIRECT(O$173&$X376)","v":{"$error":"#REF!"}},"人）","（",{"$f":"INDIRECT(R$173&$X376)","v":{"$error":"#REF!"}},"人）","（",{"$f":"INDIRECT(U$173&$X376)","v":{"$error":"#REF!"}},"人）",{"$error":"#REF!"},71,{"$f":"COUNTIF($W$181:W376,W376)","v":195}]
[{"$error":"#REF!"},null,{"$f":"INDIRECT(C$171&$X377)","v":{"$error":"#REF!"}},null,null,null,null,null,null,null,null,null,{"$f":"INDIRECT(M$171&$X377)","v":{"$error":"#REF!"}},{"$f":"INDIRECT(N$171&$X377)","v":{"$error":"#REF!"}},null,null,{"$f":"INDIRECT(Q$171&$X377)","v":{"$error":"#REF!"}},null,"円",{"$f":"INDIRECT(T$171&$X377)","v":{"$error":"#REF!"}},null,"円",{"$error":"#REF!"},{"$f":"X376+1","v":72},{"$f":"COUNTIF($W$181:W377,W377)","v":196}]
[{"$error":"#REF!"},null,"➊➋➌それぞれの賃金改善額（見込額）",null,null,null,null,null,null,null,null,null,null,"➊",{"$f":"INDIRECT(O$172&$X378)","v":{"$error":"#REF!"}},"円","➋",{"$f":"INDIRECT(R$172&$X378)","v":{"$error":"#REF!"}},"円","➌",{"$f":"INDIRECT(U$172&$X378)","v":{"$error":"#REF!"}},"円",{"$error":"#REF!"},{"$f":"X377","v":72},{"$f":"COUNTIF($W$181:W378,W378)","v":197}]
[{"$error":"#REF!"},null,null,null,null,null,null,null,null,null,null,null,null,"（",{"$f":"INDIRECT(O$173&$X379)","v":{"$error":"#REF!"}},"人）","（",{"$f":"INDIRECT(R$173&$X379)","v":{"$error":"#REF!"}},"人）","（",{"$f":"INDIRECT(U$173&$X379)","v":{"$error":"#REF!"}},"人）",{"$error":"#REF!"},72,{"$f":"COUNTIF($W$181:W379,W379)","v":198}]
[{"$error":"#REF!"},null,{"$f":"INDIRECT(C$171&$X380)","v":{"$error":"#REF!"}},null,null,null,null,null,null,null,null,null,{"$f":"INDIRECT(M$171&$X380)","v":{"$error":"#REF!"}},{"$f":"INDIRECT(N$171&$X380)","v":{"$error":"#REF!"}},null,null,{"$f":"INDIRECT(Q$171&$X380)","v":{"$error":"#REF!"}},null,"円",{"$f":"INDIRECT(T$171&$X380)","v":{"$error":"#REF!"}},null,"円",{"$error":"#REF!"},{"$f":"X379+1","v":73},{"$f":"COUNTIF($W$181:W380,W380)","v":199}]
[{"$error":"#REF!"},null,"➊➋➌それぞれの賃金改善額（見込額）",null,null,null,null,null,null,null,null,null,null,"➊",{"$f":"INDIRECT(O$172&$X381)","v":{"$error":"#REF!"}},"円","➋",{"$f":"INDIRECT(R$172&$X381)","v":{"$error":"#REF!"}},"円","➌",{"$f":"INDIRECT(U$172&$X381)","v":{"$error":"#REF!"}},"円",{"$error":"#REF!"},{"$f":"X380","v":73},{"$f":"COUNTIF($W$181:W381,W381)","v":200}]
[{"$error":"#REF!"},null,null,null,null,null,null,null,null,null,null,null,null,"（",{"$f":"INDIRECT(O$173&$X382)","v":{"$error":"#REF!"}},"人）","（",{"$f":"INDIRECT(R$173&$X382)","v":{"$error":"#REF!"}},"人）","（",{"$f":"INDIRECT(U$173&$X382)","v":{"$error":"#REF!"}},"人）",{"$error":"#REF!"},73,{"$f":"COUNTIF($W$181:W382,W382)","v":201}]
[{"$error":"#REF!"},null,{"$f":"INDIRECT(C$171&$X383)","v":{"$error":"#REF!"}},null,null,null,null,null,null,null,null,null,{"$f":"INDIRECT(M$171&$X383)","v":{"$error":"#REF!"}},{"$f":"INDIRECT(N$171&$X383)","v":{"$error":"#REF!"}},null,null,{"$f":"INDIRECT(Q$171&$X383)","v":{"$error":"#REF!"}},null,"円",{"$f":"INDIRECT(T$171&$X383)","v":{"$error":"#REF!"}},null,"円",{"$error":"#REF!"},{"$f":"X382+1","v":74},{"$f":"COUNTIF($W$181:W383,W383)","v":202}]
[{"$error":"#REF!"},null,"➊➋➌それぞれの賃金改善額（見込額）",null,null,null,null,null,null,null,null,null,null,"➊",{"$f":"INDIRECT(O$172&$X384)","v":{"$error":"#REF!"}},"円","➋",{"$f":"INDIRECT(R$172&$X384)","v":{"$error":"#REF!"}},"円","➌",{"$f":"INDIRECT(U$172&$X384)","v":{"$error":"#REF!"}},"円",{"$error":"#REF!"},{"$f":"X383","v":74},{"$f":"COUNTIF($W$181:W384,W384)","v":203}]
[{"$error":"#REF!"},null,null,null,null,null,null,null,null,null,null,null,null,"（",{"$f":"INDIRECT(O$173&$X385)","v":{"$error":"#REF!"}},"人）","（",{"$f":"INDIRECT(R$173&$X385)","v":{"$error":"#REF!"}},"人）","（",{"$f":"INDIRECT(U$173&$X385)","v":{"$error":"#REF!"}},"人）",{"$error":"#REF!"},74,{"$f":"COUNTIF($W$181:W385,W385)","v":204}]
[{"$error":"#REF!"},null,{"$f":"INDIRECT(C$171&$X386)","v":{"$error":"#REF!"}},null,null,null,null,null,null,null,null,null,{"$f":"INDIRECT(M$171&$X386)","v":{"$error":"#REF!"}},{"$f":"INDIRECT(N$171&$X386)","v":{"$error":"#REF!"}},null,null,{"$f":"INDIRECT(Q$171&$X386)","v":{"$error":"#REF!"}},null,"円",{"$f":"INDIRECT(T$171&$X386)","v":{"$error":"#REF!"}},null,"円",{"$error":"#REF!"},{"$f":"X385+1","v":75},{"$f":"COUNTIF($W$181:W386,W386)","v":205}]
[{"$error":"#REF!"},null,"➊➋➌それぞれの賃金改善額（見込額）",null,null,null,null,null,null,null,null,null,null,"➊",{"$f":"INDIRECT(O$172&$X387)","v":{"$error":"#REF!"}},"円","➋",{"$f":"INDIRECT(R$172&$X387)","v":{"$error":"#REF!"}},"円","➌",{"$f":"INDIRECT(U$172&$X387)","v":{"$error":"#REF!"}},"円",{"$error":"#REF!"},{"$f":"X386","v":75},{"$f":"COUNTIF($W$181:W387,W387)","v":206}]
[{"$error":"#REF!"},null,null,null,null,null,null,null,null,null,null,null,null,"（",{"$f":"INDIRECT(O$173&$X388)","v":{"$error":"#REF!"}},"人）","（",{"$f":"INDIRECT(R$173&$X388)","v":{"$error":"#REF!"}},"人）","（",{"$f":"INDIRECT(U$173&$X388)","v":{"$error":"#REF!"}},"人）",{"$error":"#REF!"},75,{"$f":"COUNTIF($W$181:W388,W388)","v":207}]
[{"$error":"#REF!"},null,{"$f":"INDIRECT(C$171&$X389)","v":{"$error":"#REF!"}},null,null,null,null,null,null,null,null,null,{"$f":"INDIRECT(M$171&$X389)","v":{"$error":"#REF!"}},{"$f":"INDIRECT(N$171&$X389)","v":{"$error":"#REF!"}},null,null,{"$f":"INDIRECT(Q$171&$X389)","v":{"$error":"#REF!"}},null,"円",{"$f":"INDIRECT(T$171&$X389)","v":{"$error":"#REF!"}},null,"円",{"$error":"#REF!"},{"$f":"X388+1","v":76},{"$f":"COUNTIF($W$181:W389,W389)","v":208}]
[{"$error":"#REF!"},null,"➊➋➌それぞれの賃金改善額（見込額）",null,null,null,null,null,null,null,null,null,null,"➊",{"$f":"INDIRECT(O$172&$X390)","v":{"$error":"#REF!"}},"円","➋",{"$f":"INDIRECT(R$172&$X390)","v":{"$error":"#REF!"}},"円","➌",{"$f":"INDIRECT(U$172&$X390)","v":{"$error":"#REF!"}},"円",{"$error":"#REF!"},{"$f":"X389","v":76},{"$f":"COUNTIF($W$181:W390,W390)","v":209}]
[{"$error":"#REF!"},null,null,null,null,null,null,null,null,null,null,null,null,"（",{"$f":"INDIRECT(O$173&$X391)","v":{"$error":"#REF!"}},"人）","（",{"$f":"INDIRECT(R$173&$X391)","v":{"$error":"#REF!"}},"人）","（",{"$f":"INDIRECT(U$173&$X391)","v":{"$error":"#REF!"}},"人）",{"$error":"#REF!"},76,{"$f":"COUNTIF($W$181:W391,W391)","v":210}]
[{"$error":"#REF!"},null,{"$f":"INDIRECT(C$171&$X392)","v":{"$error":"#REF!"}},null,null,null,null,null,null,null,null,null,{"$f":"INDIRECT(M$171&$X392)","v":{"$error":"#REF!"}},{"$f":"INDIRECT(N$171&$X392)","v":{"$error":"#REF!"}},null,null,{"$f":"INDIRECT(Q$171&$X392)","v":{"$error":"#REF!"}},null,"円",{"$f":"INDIRECT(T$171&$X392)","v":{"$error":"#REF!"}},null,"円",{"$error":"#REF!"},{"$f":"X391+1","v":77},{"$f":"COUNTIF($W$181:W392,W392)","v":211}]
[{"$error":"#REF!"},null,"➊➋➌それぞれの賃金改善額（見込額）",null,null,null,null,null,null,null,null,null,null,"➊",{"$f":"INDIRECT(O$172&$X393)","v":{"$error":"#REF!"}},"円","➋",{"$f":"INDIRECT(R$172&$X393)","v":{"$error":"#REF!"}},"円","➌",{"$f":"INDIRECT(U$172&$X393)","v":{"$error":"#REF!"}},"円",{"$error":"#REF!"},{"$f":"X392","v":77},{"$f":"COUNTIF($W$181:W393,W393)","v":212}]
[{"$error":"#REF!"},null,null,null,null,null,null,null,null,null,null,null,null,"（",{"$f":"INDIRECT(O$173&$X394)","v":{"$error":"#REF!"}},"人）","（",{"$f":"INDIRECT(R$173&$X394)","v":{"$error":"#REF!"}},"人）","（",{"$f":"INDIRECT(U$173&$X394)","v":{"$error":"#REF!"}},"人）",{"$error":"#REF!"},77,{"$f":"COUNTIF($W$181:W394,W394)","v":213}]
[{"$error":"#REF!"},null,{"$f":"INDIRECT(C$171&$X395)","v":{"$error":"#REF!"}},null,null,null,null,null,null,null,null,null,{"$f":"INDIRECT(M$171&$X395)","v":{"$error":"#REF!"}},{"$f":"INDIRECT(N$171&$X395)","v":{"$error":"#REF!"}},null,null,{"$f":"INDIRECT(Q$171&$X395)","v":{"$error":"#REF!"}},null,"円",{"$f":"INDIRECT(T$171&$X395)","v":{"$error":"#REF!"}},null,"円",{"$error":"#REF!"},{"$f":"X394+1","v":78},{"$f":"COUNTIF($W$181:W395,W395)","v":214}]
[{"$error":"#REF!"},null,"➊➋➌それぞれの賃金改善額（見込額）",null,null,null,null,null,null,null,null,null,null,"➊",{"$f":"INDIRECT(O$172&$X396)","v":{"$error":"#REF!"}},"円","➋",{"$f":"INDIRECT(R$172&$X396)","v":{"$error":"#REF!"}},"円","➌",{"$f":"INDIRECT(U$172&$X396)","v":{"$error":"#REF!"}},"円",{"$error":"#REF!"},{"$f":"X395","v":78},{"$f":"COUNTIF($W$181:W396,W396)","v":215}]
[{"$error":"#REF!"},null,null,null,null,null,null,null,null,null,null,null,null,"（",{"$f":"INDIRECT(O$173&$X397)","v":{"$error":"#REF!"}},"人）","（",{"$f":"INDIRECT(R$173&$X397)","v":{"$error":"#REF!"}},"人）","（",{"$f":"INDIRECT(U$173&$X397)","v":{"$error":"#REF!"}},"人）",{"$error":"#REF!"},78,{"$f":"COUNTIF($W$181:W397,W397)","v":216}]
[{"$error":"#REF!"},null,{"$f":"INDIRECT(C$171&$X398)","v":{"$error":"#REF!"}},null,null,null,null,null,null,null,null,null,{"$f":"INDIRECT(M$171&$X398)","v":{"$error":"#REF!"}},{"$f":"INDIRECT(N$171&$X398)","v":{"$error":"#REF!"}},null,null,{"$f":"INDIRECT(Q$171&$X398)","v":{"$error":"#REF!"}},null,"円",{"$f":"INDIRECT(T$171&$X398)","v":{"$error":"#REF!"}},null,"円",{"$error":"#REF!"},{"$f":"X397+1","v":79},{"$f":"COUNTIF($W$181:W398,W398)","v":217}]
[{"$error":"#REF!"},null,"➊➋➌それぞれの賃金改善額（見込額）",null,null,null,null,null,null,null,null,null,null,"➊",{"$f":"INDIRECT(O$172&$X399)","v":{"$error":"#REF!"}},"円","➋",{"$f":"INDIRECT(R$172&$X399)","v":{"$error":"#REF!"}},"円","➌",{"$f":"INDIRECT(U$172&$X399)","v":{"$error":"#REF!"}},"円",{"$error":"#REF!"},{"$f":"X398","v":79},{"$f":"COUNTIF($W$181:W399,W399)","v":218}]
[{"$error":"#REF!"},null,null,null,null,null,null,null,null,null,null,null,null,"（",{"$f":"INDIRECT(O$173&$X400)","v":{"$error":"#REF!"}},"人）","（",{"$f":"INDIRECT(R$173&$X400)","v":{"$error":"#REF!"}},"人）","（",{"$f":"INDIRECT(U$173&$X400)","v":{"$error":"#REF!"}},"人）",{"$error":"#REF!"},79,{"$f":"COUNTIF($W$181:W400,W400)","v":219}]
[{"$error":"#REF!"},null,{"$f":"INDIRECT(C$171&$X401)","v":{"$error":"#REF!"}},null,null,null,null,null,null,null,null,null,{"$f":"INDIRECT(M$171&$X401)","v":{"$error":"#REF!"}},{"$f":"INDIRECT(N$171&$X401)","v":{"$error":"#REF!"}},null,null,{"$f":"INDIRECT(Q$171&$X401)","v":{"$error":"#REF!"}},null,"円",{"$f":"INDIRECT(T$171&$X401)","v":{"$error":"#REF!"}},null,"円",{"$error":"#REF!"},{"$f":"X400+1","v":80},{"$f":"COUNTIF($W$181:W401,W401)","v":220}]
[{"$error":"#REF!"},null,"➊➋➌それぞれの賃金改善額（見込額）",null,null,null,null,null,null,null,null,null,null,"➊",{"$f":"INDIRECT(O$172&$X402)","v":{"$error":"#REF!"}},"円","➋",{"$f":"INDIRECT(R$172&$X402)","v":{"$error":"#REF!"}},"円","➌",{"$f":"INDIRECT(U$172&$X402)","v":{"$error":"#REF!"}},"円",{"$error":"#REF!"},{"$f":"X401","v":80},{"$f":"COUNTIF($W$181:W402,W402)","v":221}]
[{"$error":"#REF!"},null,null,null,null,null,null,null,null,null,null,null,null,"（",{"$f":"INDIRECT(O$173&$X403)","v":{"$error":"#REF!"}},"人）","（",{"$f":"INDIRECT(R$173&$X403)","v":{"$error":"#REF!"}},"人）","（",{"$f":"INDIRECT(U$173&$X403)","v":{"$error":"#REF!"}},"人）",{"$error":"#REF!"},80,{"$f":"COUNTIF($W$181:W403,W403)","v":222}]
[{"$error":"#REF!"},null,{"$f":"INDIRECT(C$171&$X404)","v":{"$error":"#REF!"}},null,null,null,null,null,null,null,null,null,{"$f":"INDIRECT(M$171&$X404)","v":{"$error":"#REF!"}},{"$f":"INDIRECT(N$171&$X404)","v":{"$error":"#REF!"}},null,null,{"$f":"INDIRECT(Q$171&$X404)","v":{"$error":"#REF!"}},null,"円",{"$f":"INDIRECT(T$171&$X404)","v":{"$error":"#REF!"}},null,"円",{"$error":"#REF!"},{"$f":"X403+1","v":81},{"$f":"COUNTIF($W$181:W404,W404)","v":223}]
[{"$error":"#REF!"},null,"➊➋➌それぞれの賃金改善額（見込額）",null,null,null,null,null,null,null,null,null,null,"➊",{"$f":"INDIRECT(O$172&$X405)","v":{"$error":"#REF!"}},"円","➋",{"$f":"INDIRECT(R$172&$X405)","v":{"$error":"#REF!"}},"円","➌",{"$f":"INDIRECT(U$172&$X405)","v":{"$error":"#REF!"}},"円",{"$error":"#REF!"},{"$f":"X404","v":81},{"$f":"COUNTIF($W$181:W405,W405)","v":224}]
[{"$error":"#REF!"},null,null,null,null,null,null,null,null,null,null,null,null,"（",{"$f":"INDIRECT(O$173&$X406)","v":{"$error":"#REF!"}},"人）","（",{"$f":"INDIRECT(R$173&$X406)","v":{"$error":"#REF!"}},"人）","（",{"$f":"INDIRECT(U$173&$X406)","v":{"$error":"#REF!"}},"人）",{"$error":"#REF!"},81,{"$f":"COUNTIF($W$181:W406,W406)","v":225}]
[{"$error":"#REF!"},null,{"$f":"INDIRECT(C$171&$X407)","v":{"$error":"#REF!"}},null,null,null,null,null,null,null,null,null,{"$f":"INDIRECT(M$171&$X407)","v":{"$error":"#REF!"}},{"$f":"INDIRECT(N$171&$X407)","v":{"$error":"#REF!"}},null,null,{"$f":"INDIRECT(Q$171&$X407)","v":{"$error":"#REF!"}},null,"円",{"$f":"INDIRECT(T$171&$X407)","v":{"$error":"#REF!"}},null,"円",{"$error":"#REF!"},{"$f":"X406+1","v":82},{"$f":"COUNTIF($W$181:W407,W407)","v":226}]
[{"$error":"#REF!"},null,"➊➋➌それぞれの賃金改善額（見込額）",null,null,null,null,null,null,null,null,null,null,"➊",{"$f":"INDIRECT(O$172&$X408)","v":{"$error":"#REF!"}},"円","➋",{"$f":"INDIRECT(R$172&$X408)","v":{"$error":"#REF!"}},"円","➌",{"$f":"INDIRECT(U$172&$X408)","v":{"$error":"#REF!"}},"円",{"$error":"#REF!"},{"$f":"X407","v":82},{"$f":"COUNTIF($W$181:W408,W408)","v":227}]
[{"$error":"#REF!"},null,null,null,null,null,null,null,null,null,null,null,null,"（",{"$f":"INDIRECT(O$173&$X409)","v":{"$error":"#REF!"}},"人）","（",{"$f":"INDIRECT(R$173&$X409)","v":{"$error":"#REF!"}},"人）","（",{"$f":"INDIRECT(U$173&$X409)","v":{"$error":"#REF!"}},"人）",{"$error":"#REF!"},82,{"$f":"COUNTIF($W$181:W409,W409)","v":228}]
[{"$error":"#REF!"},null,{"$f":"INDIRECT(C$171&$X410)","v":{"$error":"#REF!"}},null,null,null,null,null,null,null,null,null,{"$f":"INDIRECT(M$171&$X410)","v":{"$error":"#REF!"}},{"$f":"INDIRECT(N$171&$X410)","v":{"$error":"#REF!"}},null,null,{"$f":"INDIRECT(Q$171&$X410)","v":{"$error":"#REF!"}},null,"円",{"$f":"INDIRECT(T$171&$X410)","v":{"$error":"#REF!"}},null,"円",{"$error":"#REF!"},{"$f":"X409+1","v":83},{"$f":"COUNTIF($W$181:W410,W410)","v":229}]
[{"$error":"#REF!"},null,"➊➋➌それぞれの賃金改善額（見込額）",null,null,null,null,null,null,null,null,null,null,"➊",{"$f":"INDIRECT(O$172&$X411)","v":{"$error":"#REF!"}},"円","➋",{"$f":"INDIRECT(R$172&$X411)","v":{"$error":"#REF!"}},"円","➌",{"$f":"INDIRECT(U$172&$X411)","v":{"$error":"#REF!"}},"円",{"$error":"#REF!"},{"$f":"X410","v":83},{"$f":"COUNTIF($W$181:W411,W411)","v":230}]
[{"$error":"#REF!"},null,null,null,null,null,null,null,null,null,null,null,null,"（",{"$f":"INDIRECT(O$173&$X412)","v":{"$error":"#REF!"}},"人）","（",{"$f":"INDIRECT(R$173&$X412)","v":{"$error":"#REF!"}},"人）","（",{"$f":"INDIRECT(U$173&$X412)","v":{"$error":"#REF!"}},"人）",{"$error":"#REF!"},83,{"$f":"COUNTIF($W$181:W412,W412)","v":231}]
[{"$error":"#REF!"},null,{"$f":"INDIRECT(C$171&$X413)","v":{"$error":"#REF!"}},null,null,null,null,null,null,null,null,null,{"$f":"INDIRECT(M$171&$X413)","v":{"$error":"#REF!"}},{"$f":"INDIRECT(N$171&$X413)","v":{"$error":"#REF!"}},null,null,{"$f":"INDIRECT(Q$171&$X413)","v":{"$error":"#REF!"}},null,"円",{"$f":"INDIRECT(T$171&$X413)","v":{"$error":"#REF!"}},null,"円",{"$error":"#REF!"},{"$f":"X412+1","v":84},{"$f":"COUNTIF($W$181:W413,W413)","v":232}]
[{"$error":"#REF!"},null,"➊➋➌それぞれの賃金改善額（見込額）",null,null,null,null,null,null,null,null,null,null,"➊",{"$f":"INDIRECT(O$172&$X414)","v":{"$error":"#REF!"}},"円","➋",{"$f":"INDIRECT(R$172&$X414)","v":{"$error":"#REF!"}},"円","➌",{"$f":"INDIRECT(U$172&$X414)","v":{"$error":"#REF!"}},"円",{"$error":"#REF!"},{"$f":"X413","v":84},{"$f":"COUNTIF($W$181:W414,W414)","v":233}]
[{"$error":"#REF!"},null,null,null,null,null,null,null,null,null,null,null,null,"（",{"$f":"INDIRECT(O$173&$X415)","v":{"$error":"#REF!"}},"人）","（",{"$f":"INDIRECT(R$173&$X415)","v":{"$error":"#REF!"}},"人）","（",{"$f":"INDIRECT(U$173&$X415)","v":{"$error":"#REF!"}},"人）",{"$error":"#REF!"},84,{"$f":"COUNTIF($W$181:W415,W415)","v":234}]
[{"$error":"#REF!"},null,{"$f":"INDIRECT(C$171&$X416)","v":{"$error":"#REF!"}},null,null,null,null,null,null,null,null,null,{"$f":"INDIRECT(M$171&$X416)","v":{"$error":"#REF!"}},{"$f":"INDIRECT(N$171&$X416)","v":{"$error":"#REF!"}},null,null,{"$f":"INDIRECT(Q$171&$X416)","v":{"$error":"#REF!"}},null,"円",{"$f":"INDIRECT(T$171&$X416)","v":{"$error":"#REF!"}},null,"円",{"$error":"#REF!"},{"$f":"X415+1","v":85},{"$f":"COUNTIF($W$181:W416,W416)","v":235}]
[{"$error":"#REF!"},null,"➊➋➌それぞれの賃金改善額（見込額）",null,null,null,null,null,null,null,null,null,null,"➊",{"$f":"INDIRECT(O$172&$X417)","v":{"$error":"#REF!"}},"円","➋",{"$f":"INDIRECT(R$172&$X417)","v":{"$error":"#REF!"}},"円","➌",{"$f":"INDIRECT(U$172&$X417)","v":{"$error":"#REF!"}},"円",{"$error":"#REF!"},{"$f":"X416","v":85},{"$f":"COUNTIF($W$181:W417,W417)","v":236}]
[{"$error":"#REF!"},null,null,null,null,null,null,null,null,null,null,null,null,"（",{"$f":"INDIRECT(O$173&$X418)","v":{"$error":"#REF!"}},"人）","（",{"$f":"INDIRECT(R$173&$X418)","v":{"$error":"#REF!"}},"人）","（",{"$f":"INDIRECT(U$173&$X418)","v":{"$error":"#REF!"}},"人）",{"$error":"#REF!"},85,{"$f":"COUNTIF($W$181:W418,W418)","v":237}]
[{"$error":"#REF!"},null,{"$f":"INDIRECT(C$171&$X419)","v":{"$error":"#REF!"}},null,null,null,null,null,null,null,null,null,{"$f":"INDIRECT(M$171&$X419)","v":{"$error":"#REF!"}},{"$f":"INDIRECT(N$171&$X419)","v":{"$error":"#REF!"}},null,null,{"$f":"INDIRECT(Q$171&$X419)","v":{"$error":"#REF!"}},null,"円",{"$f":"INDIRECT(T$171&$X419)","v":{"$error":"#REF!"}},null,"円",{"$error":"#REF!"},{"$f":"X418+1","v":86},{"$f":"COUNTIF($W$181:W419,W419)","v":238}]
[{"$error":"#REF!"},null,"➊➋➌それぞれの賃金改善額（見込額）",null,null,null,null,null,null,null,null,null,null,"➊",{"$f":"INDIRECT(O$172&$X420)","v":{"$error":"#REF!"}},"円","➋",{"$f":"INDIRECT(R$172&$X420)","v":{"$error":"#REF!"}},"円","➌",{"$f":"INDIRECT(U$172&$X420)","v":{"$error":"#REF!"}},"円",{"$error":"#REF!"},{"$f":"X419","v":86},{"$f":"COUNTIF($W$181:W420,W420)","v":239}]
[{"$error":"#REF!"},null,null,null,null,null,null,null,null,null,null,null,null,"（",{"$f":"INDIRECT(O$173&$X421)","v":{"$error":"#REF!"}},"人）","（",{"$f":"INDIRECT(R$173&$X421)","v":{"$error":"#REF!"}},"人）","（",{"$f":"INDIRECT(U$173&$X421)","v":{"$error":"#REF!"}},"人）",{"$error":"#REF!"},86,{"$f":"COUNTIF($W$181:W421,W421)","v":240}]
[{"$error":"#REF!"},null,{"$f":"INDIRECT(C$171&$X422)","v":{"$error":"#REF!"}},null,null,null,null,null,null,null,null,null,{"$f":"INDIRECT(M$171&$X422)","v":{"$error":"#REF!"}},{"$f":"INDIRECT(N$171&$X422)","v":{"$error":"#REF!"}},null,null,{"$f":"INDIRECT(Q$171&$X422)","v":{"$error":"#REF!"}},null,"円",{"$f":"INDIRECT(T$171&$X422)","v":{"$error":"#REF!"}},null,"円",{"$error":"#REF!"},{"$f":"X421+1","v":87},{"$f":"COUNTIF($W$181:W422,W422)","v":241}]
[{"$error":"#REF!"},null,"➊➋➌それぞれの賃金改善額（見込額）",null,null,null,null,null,null,null,null,null,null,"➊",{"$f":"INDIRECT(O$172&$X423)","v":{"$error":"#REF!"}},"円","➋",{"$f":"INDIRECT(R$172&$X423)","v":{"$error":"#REF!"}},"円","➌",{"$f":"INDIRECT(U$172&$X423)","v":{"$error":"#REF!"}},"円",{"$error":"#REF!"},{"$f":"X422","v":87},{"$f":"COUNTIF($W$181:W423,W423)","v":242}]
[{"$error":"#REF!"},null,null,null,null,null,null,null,null,null,null,null,null,"（",{"$f":"INDIRECT(O$173&$X424)","v":{"$error":"#REF!"}},"人）","（",{"$f":"INDIRECT(R$173&$X424)","v":{"$error":"#REF!"}},"人）","（",{"$f":"INDIRECT(U$173&$X424)","v":{"$error":"#REF!"}},"人）",{"$error":"#REF!"},87,{"$f":"COUNTIF($W$181:W424,W424)","v":243}]
[{"$error":"#REF!"},null,{"$f":"INDIRECT(C$171&$X425)","v":{"$error":"#REF!"}},null,null,null,null,null,null,null,null,null,{"$f":"INDIRECT(M$171&$X425)","v":{"$error":"#REF!"}},{"$f":"INDIRECT(N$171&$X425)","v":{"$error":"#REF!"}},null,null,{"$f":"INDIRECT(Q$171&$X425)","v":{"$error":"#REF!"}},null,"円",{"$f":"INDIRECT(T$171&$X425)","v":{"$error":"#REF!"}},null,"円",{"$error":"#REF!"},{"$f":"X424+1","v":88},{"$f":"COUNTIF($W$181:W425,W425)","v":244}]
[{"$error":"#REF!"},null,"➊➋➌それぞれの賃金改善額（見込額）",null,null,null,null,null,null,null,null,null,null,"➊",{"$f":"INDIRECT(O$172&$X426)","v":{"$error":"#REF!"}},"円","➋",{"$f":"INDIRECT(R$172&$X426)","v":{"$error":"#REF!"}},"円","➌",{"$f":"INDIRECT(U$172&$X426)","v":{"$error":"#REF!"}},"円",{"$error":"#REF!"},{"$f":"X425","v":88},{"$f":"COUNTIF($W$181:W426,W426)","v":245}]
[{"$error":"#REF!"},null,null,null,null,null,null,null,null,null,null,null,null,"（",{"$f":"INDIRECT(O$173&$X427)","v":{"$error":"#REF!"}},"人）","（",{"$f":"INDIRECT(R$173&$X427)","v":{"$error":"#REF!"}},"人）","（",{"$f":"INDIRECT(U$173&$X427)","v":{"$error":"#REF!"}},"人）",{"$error":"#REF!"},88,{"$f":"COUNTIF($W$181:W427,W427)","v":246}]
[{"$error":"#REF!"},null,{"$f":"INDIRECT(C$171&$X428)","v":{"$error":"#REF!"}},null,null,null,null,null,null,null,null,null,{"$f":"INDIRECT(M$171&$X428)","v":{"$error":"#REF!"}},{"$f":"INDIRECT(N$171&$X428)","v":{"$error":"#REF!"}},null,null,{"$f":"INDIRECT(Q$171&$X428)","v":{"$error":"#REF!"}},null,"円",{"$f":"INDIRECT(T$171&$X428)","v":{"$error":"#REF!"}},null,"円",{"$error":"#REF!"},{"$f":"X427+1","v":89},{"$f":"COUNTIF($W$181:W428,W428)","v":247}]
[{"$error":"#REF!"},null,"➊➋➌それぞれの賃金改善額（見込額）",null,null,null,null,null,null,null,null,null,null,"➊",{"$f":"INDIRECT(O$172&$X429)","v":{"$error":"#REF!"}},"円","➋",{"$f":"INDIRECT(R$172&$X429)","v":{"$error":"#REF!"}},"円","➌",{"$f":"INDIRECT(U$172&$X429)","v":{"$error":"#REF!"}},"円",{"$error":"#REF!"},{"$f":"X428","v":89},{"$f":"COUNTIF($W$181:W429,W429)","v":248}]
[{"$error":"#REF!"},null,null,null,null,null,null,null,null,null,null,null,null,"（",{"$f":"INDIRECT(O$173&$X430)","v":{"$error":"#REF!"}},"人）","（",{"$f":"INDIRECT(R$173&$X430)","v":{"$error":"#REF!"}},"人）","（",{"$f":"INDIRECT(U$173&$X430)","v":{"$error":"#REF!"}},"人）",{"$error":"#REF!"},89,{"$f":"COUNTIF($W$181:W430,W430)","v":249}]
[{"$error":"#REF!"},null,{"$f":"INDIRECT(C$171&$X431)","v":{"$error":"#REF!"}},null,null,null,null,null,null,null,null,null,{"$f":"INDIRECT(M$171&$X431)","v":{"$error":"#REF!"}},{"$f":"INDIRECT(N$171&$X431)","v":{"$error":"#REF!"}},null,null,{"$f":"INDIRECT(Q$171&$X431)","v":{"$error":"#REF!"}},null,"円",{"$f":"INDIRECT(T$171&$X431)","v":{"$error":"#REF!"}},null,"円",{"$error":"#REF!"},{"$f":"X430+1","v":90},{"$f":"COUNTIF($W$181:W431,W431)","v":250}]
[{"$error":"#REF!"},null,"➊➋➌それぞれの賃金改善額（見込額）",null,null,null,null,null,null,null,null,null,null,"➊",{"$f":"INDIRECT(O$172&$X432)","v":{"$error":"#REF!"}},"円","➋",{"$f":"INDIRECT(R$172&$X432)","v":{"$error":"#REF!"}},"円","➌",{"$f":"INDIRECT(U$172&$X432)","v":{"$error":"#REF!"}},"円",{"$error":"#REF!"},{"$f":"X431","v":90},{"$f":"COUNTIF($W$181:W432,W432)","v":251}]
[{"$error":"#REF!"},null,null,null,null,null,null,null,null,null,null,null,null,"（",{"$f":"INDIRECT(O$173&$X433)","v":{"$error":"#REF!"}},"人）","（",{"$f":"INDIRECT(R$173&$X433)","v":{"$error":"#REF!"}},"人）","（",{"$f":"INDIRECT(U$173&$X433)","v":{"$error":"#REF!"}},"人）",{"$error":"#REF!"},90,{"$f":"COUNTIF($W$181:W433,W433)","v":252}]
[{"$error":"#REF!"},null,{"$f":"INDIRECT(C$171&$X434)","v":{"$error":"#REF!"}},null,null,null,null,null,null,null,null,null,{"$f":"INDIRECT(M$171&$X434)","v":{"$error":"#REF!"}},{"$f":"INDIRECT(N$171&$X434)","v":{"$error":"#REF!"}},null,null,{"$f":"INDIRECT(Q$171&$X434)","v":{"$error":"#REF!"}},null,"円",{"$f":"INDIRECT(T$171&$X434)","v":{"$error":"#REF!"}},null,"円",{"$error":"#REF!"},{"$f":"X433+1","v":91},{"$f":"COUNTIF($W$181:W434,W434)","v":253}]
[{"$error":"#REF!"},null,"➊➋➌それぞれの賃金改善額（見込額）",null,null,null,null,null,null,null,null,null,null,"➊",{"$f":"INDIRECT(O$172&$X435)","v":{"$error":"#REF!"}},"円","➋",{"$f":"INDIRECT(R$172&$X435)","v":{"$error":"#REF!"}},"円","➌",{"$f":"INDIRECT(U$172&$X435)","v":{"$error":"#REF!"}},"円",{"$error":"#REF!"},{"$f":"X434","v":91},{"$f":"COUNTIF($W$181:W435,W435)","v":254}]
[{"$error":"#REF!"},null,null,null,null,null,null,null,null,null,null,null,null,"（",{"$f":"INDIRECT(O$173&$X436)","v":{"$error":"#REF!"}},"人）","（",{"$f":"INDIRECT(R$173&$X436)","v":{"$error":"#REF!"}},"人）","（",{"$f":"INDIRECT(U$173&$X436)","v":{"$error":"#REF!"}},"人）",{"$error":"#REF!"},91,{"$f":"COUNTIF($W$181:W436,W436)","v":255}]
[{"$error":"#REF!"},null,{"$f":"INDIRECT(C$171&$X437)","v":{"$error":"#REF!"}},null,null,null,null,null,null,null,null,null,{"$f":"INDIRECT(M$171&$X437)","v":{"$error":"#REF!"}},{"$f":"INDIRECT(N$171&$X437)","v":{"$error":"#REF!"}},null,null,{"$f":"INDIRECT(Q$171&$X437)","v":{"$error":"#REF!"}},null,"円",{"$f":"INDIRECT(T$171&$X437)","v":{"$error":"#REF!"}},null,"円",{"$error":"#REF!"},{"$f":"X436+1","v":92},{"$f":"COUNTIF($W$181:W437,W437)","v":256}]
[{"$error":"#REF!"},null,"➊➋➌それぞれの賃金改善額（見込額）",null,null,null,null,null,null,null,null,null,null,"➊",{"$f":"INDIRECT(O$172&$X438)","v":{"$error":"#REF!"}},"円","➋",{"$f":"INDIRECT(R$172&$X438)","v":{"$error":"#REF!"}},"円","➌",{"$f":"INDIRECT(U$172&$X438)","v":{"$error":"#REF!"}},"円",{"$error":"#REF!"},{"$f":"X437","v":92},{"$f":"COUNTIF($W$181:W438,W438)","v":257}]
[{"$error":"#REF!"},null,null,null,null,null,null,null,null,null,null,null,null,"（",{"$f":"INDIRECT(O$173&$X439)","v":{"$error":"#REF!"}},"人）","（",{"$f":"INDIRECT(R$173&$X439)","v":{"$error":"#REF!"}},"人）","（",{"$f":"INDIRECT(U$173&$X439)","v":{"$error":"#REF!"}},"人）",{"$f":"INDIRECT($W$171&X439)","v":{"$error":"#REF!"}},92,{"$f":"COUNTIF($W$181:W439,W439)","v":258}]
[{"$error":"#REF!"},null,{"$f":"INDIRECT(C$171&$X440)","v":{"$error":"#REF!"}},null,null,null,null,null,null,null,null,null,{"$f":"INDIRECT(M$171&$X440)","v":{"$error":"#REF!"}},{"$f":"INDIRECT(N$171&$X440)","v":{"$error":"#REF!"}},null,null,{"$f":"INDIRECT(Q$171&$X440)","v":{"$error":"#REF!"}},null,"円",{"$f":"INDIRECT(T$171&$X440)","v":{"$error":"#REF!"}},null,"円",{"$error":"#REF!"},{"$f":"X439+1","v":93},{"$f":"COUNTIF($W$181:W440,W440)","v":259}]
[{"$error":"#REF!"},null,"➊➋➌それぞれの賃金改善額（見込額）",null,null,null,null,null,null,null,null,null,null,"➊",{"$f":"INDIRECT(O$172&$X441)","v":{"$error":"#REF!"}},"円","➋",{"$f":"INDIRECT(R$172&$X441)","v":{"$error":"#REF!"}},"円","➌",{"$f":"INDIRECT(U$172&$X441)","v":{"$error":"#REF!"}},"円",{"$error":"#REF!"},{"$f":"X440","v":93},{"$f":"COUNTIF($W$181:W441,W441)","v":260}]
[{"$error":"#REF!"},null,null,null,null,null,null,null,null,null,null,null,null,"（",{"$f":"INDIRECT(O$173&$X442)","v":{"$error":"#REF!"}},"人）","（",{"$f":"INDIRECT(R$173&$X442)","v":{"$error":"#REF!"}},"人）","（",{"$f":"INDIRECT(U$173&$X442)","v":{"$error":"#REF!"}},"人）",{"$error":"#REF!"},93,{"$f":"COUNTIF($W$181:W442,W442)","v":261}]
[{"$error":"#REF!"},null,{"$f":"INDIRECT(C$171&$X443)","v":{"$error":"#REF!"}},null,null,null,null,null,null,null,null,null,{"$f":"INDIRECT(M$171&$X443)","v":{"$error":"#REF!"}},{"$f":"INDIRECT(N$171&$X443)","v":{"$error":"#REF!"}},null,null,{"$f":"INDIRECT(Q$171&$X443)","v":{"$error":"#REF!"}},null,"円",{"$f":"INDIRECT(T$171&$X443)","v":{"$error":"#REF!"}},null,"円",{"$error":"#REF!"},{"$f":"X442+1","v":94},{"$f":"COUNTIF($W$181:W443,W443)","v":262}]
[{"$error":"#REF!"},null,"➊➋➌それぞれの賃金改善額（見込額）",null,null,null,null,null,null,null,null,null,null,"➊",{"$f":"INDIRECT(O$172&$X444)","v":{"$error":"#REF!"}},"円","➋",{"$f":"INDIRECT(R$172&$X444)","v":{"$error":"#REF!"}},"円","➌",{"$f":"INDIRECT(U$172&$X444)","v":{"$error":"#REF!"}},"円",{"$error":"#REF!"},{"$f":"X443","v":94},{"$f":"COUNTIF($W$181:W444,W444)","v":263}]
[{"$error":"#REF!"},null,null,null,null,null,null,null,null,null,null,null,null,"（",{"$f":"INDIRECT(O$173&$X445)","v":{"$error":"#REF!"}},"人）","（",{"$f":"INDIRECT(R$173&$X445)","v":{"$error":"#REF!"}},"人）","（",{"$f":"INDIRECT(U$173&$X445)","v":{"$error":"#REF!"}},"人）",{"$error":"#REF!"},94,{"$f":"COUNTIF($W$181:W445,W445)","v":264}]
[{"$error":"#REF!"},null,{"$f":"INDIRECT(C$171&$X446)","v":{"$error":"#REF!"}},null,null,null,null,null,null,null,null,null,{"$f":"INDIRECT(M$171&$X446)","v":{"$error":"#REF!"}},{"$f":"INDIRECT(N$171&$X446)","v":{"$error":"#REF!"}},null,null,{"$f":"INDIRECT(Q$171&$X446)","v":{"$error":"#REF!"}},null,"円",{"$f":"INDIRECT(T$171&$X446)","v":{"$error":"#REF!"}},null,"円",{"$error":"#REF!"},{"$f":"X445+1","v":95},{"$f":"COUNTIF($W$181:W446,W446)","v":265}]
[{"$error":"#REF!"},null,"➊➋➌それぞれの賃金改善額（見込額）",null,null,null,null,null,null,null,null,null,null,"➊",{"$f":"INDIRECT(O$172&$X447)","v":{"$error":"#REF!"}},"円","➋",{"$f":"INDIRECT(R$172&$X447)","v":{"$error":"#REF!"}},"円","➌",{"$f":"INDIRECT(U$172&$X447)","v":{"$error":"#REF!"}},"円",{"$error":"#REF!"},{"$f":"X446","v":95},{"$f":"COUNTIF($W$181:W447,W447)","v":266}]
[{"$error":"#REF!"},null,null,null,null,null,null,null,null,null,null,null,null,"（",{"$f":"INDIRECT(O$173&$X448)","v":{"$error":"#REF!"}},"人）","（",{"$f":"INDIRECT(R$173&$X448)","v":{"$error":"#REF!"}},"人）","（",{"$f":"INDIRECT(U$173&$X448)","v":{"$error":"#REF!"}},"人）",{"$error":"#REF!"},95,{"$f":"COUNTIF($W$181:W448,W448)","v":267}]
[{"$error":"#REF!"},null,{"$f":"INDIRECT(C$171&$X449)","v":{"$error":"#REF!"}},null,null,null,null,null,null,null,null,null,{"$f":"INDIRECT(M$171&$X449)","v":{"$error":"#REF!"}},{"$f":"INDIRECT(N$171&$X449)","v":{"$error":"#REF!"}},null,null,{"$f":"INDIRECT(Q$171&$X449)","v":{"$error":"#REF!"}},null,"円",{"$f":"INDIRECT(T$171&$X449)","v":{"$error":"#REF!"}},null,"円",{"$error":"#REF!"},{"$f":"X448+1","v":96},{"$f":"COUNTIF($W$181:W449,W449)","v":268}]
[{"$error":"#REF!"},null,"➊➋➌それぞれの賃金改善額（見込額）",null,null,null,null,null,null,null,null,null,null,"➊",{"$f":"INDIRECT(O$172&$X450)","v":{"$error":"#REF!"}},"円","➋",{"$f":"INDIRECT(R$172&$X450)","v":{"$error":"#REF!"}},"円","➌",{"$f":"INDIRECT(U$172&$X450)","v":{"$error":"#REF!"}},"円",{"$error":"#REF!"},{"$f":"X449","v":96},{"$f":"COUNTIF($W$181:W450,W450)","v":269}]
[{"$error":"#REF!"},null,null,null,null,null,null,null,null,null,null,null,null,"（",{"$f":"INDIRECT(O$173&$X451)","v":{"$error":"#REF!"}},"人）","（",{"$f":"INDIRECT(R$173&$X451)","v":{"$error":"#REF!"}},"人）","（",{"$f":"INDIRECT(U$173&$X451)","v":{"$error":"#REF!"}},"人）",{"$error":"#REF!"},96,{"$f":"COUNTIF($W$181:W451,W451)","v":270}]
[{"$error":"#REF!"},null,{"$f":"INDIRECT(C$171&$X452)","v":{"$error":"#REF!"}},null,null,null,null,null,null,null,null,null,{"$f":"INDIRECT(M$171&$X452)","v":{"$error":"#REF!"}},{"$f":"INDIRECT(N$171&$X452)","v":{"$error":"#REF!"}},null,null,{"$f":"INDIRECT(Q$171&$X452)","v":{"$error":"#REF!"}},null,"円",{"$f":"INDIRECT(T$171&$X452)","v":{"$error":"#REF!"}},null,"円",{"$error":"#REF!"},{"$f":"X451+1","v":97},{"$f":"COUNTIF($W$181:W452,W452)","v":271}]
[{"$error":"#REF!"},null,"➊➋➌それぞれの賃金改善額（見込額）",null,null,null,null,null,null,null,null,null,null,"➊",{"$f":"INDIRECT(O$172&$X453)","v":{"$error":"#REF!"}},"円","➋",{"$f":"INDIRECT(R$172&$X453)","v":{"$error":"#REF!"}},"円","➌",{"$f":"INDIRECT(U$172&$X453)","v":{"$error":"#REF!"}},"円",{"$error":"#REF!"},{"$f":"X452","v":97},{"$f":"COUNTIF($W$181:W453,W453)","v":272}]
[{"$error":"#REF!"},null,null,null,null,null,null,null,null,null,null,null,null,"（",{"$f":"INDIRECT(O$173&$X454)","v":{"$error":"#REF!"}},"人）","（",{"$f":"INDIRECT(R$173&$X454)","v":{"$error":"#REF!"}},"人）","（",{"$f":"INDIRECT(U$173&$X454)","v":{"$error":"#REF!"}},"人）",{"$error":"#REF!"},97,{"$f":"COUNTIF($W$181:W454,W454)","v":273}]
[{"$error":"#REF!"},null,{"$f":"INDIRECT(C$171&$X455)","v":{"$error":"#REF!"}},null,null,null,null,null,null,null,null,null,{"$f":"INDIRECT(M$171&$X455)","v":{"$error":"#REF!"}},{"$f":"INDIRECT(N$171&$X455)","v":{"$error":"#REF!"}},null,null,{"$f":"INDIRECT(Q$171&$X455)","v":{"$error":"#REF!"}},null,"円",{"$f":"INDIRECT(T$171&$X455)","v":{"$error":"#REF!"}},null,"円",{"$error":"#REF!"},{"$f":"X454+1","v":98},{"$f":"COUNTIF($W$181:W455,W455)","v":274}]
[{"$error":"#REF!"},null,"➊➋➌それぞれの賃金改善額（見込額）",null,null,null,null,null,null,null,null,null,null,"➊",{"$f":"INDIRECT(O$172&$X456)","v":{"$error":"#REF!"}},"円","➋",{"$f":"INDIRECT(R$172&$X456)","v":{"$error":"#REF!"}},"円","➌",{"$f":"INDIRECT(U$172&$X456)","v":{"$error":"#REF!"}},"円",{"$error":"#REF!"},{"$f":"X455","v":98},{"$f":"COUNTIF($W$181:W456,W456)","v":275}]
[{"$error":"#REF!"},null,null,null,null,null,null,null,null,null,null,null,null,"（",{"$f":"INDIRECT(O$173&$X457)","v":{"$error":"#REF!"}},"人）","（",{"$f":"INDIRECT(R$173&$X457)","v":{"$error":"#REF!"}},"人）","（",{"$f":"INDIRECT(U$173&$X457)","v":{"$error":"#REF!"}},"人）",{"$error":"#REF!"},98,{"$f":"COUNTIF($W$181:W457,W457)","v":276}]
[{"$error":"#REF!"},null,{"$f":"INDIRECT(C$171&$X458)","v":{"$error":"#REF!"}},null,null,null,null,null,null,null,null,null,{"$f":"INDIRECT(M$171&$X458)","v":{"$error":"#REF!"}},{"$f":"INDIRECT(N$171&$X458)","v":{"$error":"#REF!"}},null,null,{"$f":"INDIRECT(Q$171&$X458)","v":{"$error":"#REF!"}},null,"円",{"$f":"INDIRECT(T$171&$X458)","v":{"$error":"#REF!"}},null,"円",{"$error":"#REF!"},{"$f":"X457+1","v":99},{"$f":"COUNTIF($W$181:W458,W458)","v":277}]
[{"$error":"#REF!"},null,"➊➋➌それぞれの賃金改善額（見込額）",null,null,null,null,null,null,null,null,null,null,"➊",{"$f":"INDIRECT(O$172&$X459)","v":{"$error":"#REF!"}},"円","➋",{"$f":"INDIRECT(R$172&$X459)","v":{"$error":"#REF!"}},"円","➌",{"$f":"INDIRECT(U$172&$X459)","v":{"$error":"#REF!"}},"円",{"$error":"#REF!"},{"$f":"X458","v":99},{"$f":"COUNTIF($W$181:W459,W459)","v":278}]
[{"$error":"#REF!"},null,null,null,null,null,null,null,null,null,null,null,null,"（",{"$f":"INDIRECT(O$173&$X460)","v":{"$error":"#REF!"}},"人）","（",{"$f":"INDIRECT(R$173&$X460)","v":{"$error":"#REF!"}},"人）","（",{"$f":"INDIRECT(U$173&$X460)","v":{"$error":"#REF!"}},"人）",{"$error":"#REF!"},99,{"$f":"COUNTIF($W$181:W460,W460)","v":279}]
[{"$error":"#REF!"},null,{"$f":"INDIRECT(C$171&$X461)","v":{"$error":"#REF!"}},null,null,null,null,null,null,null,null,null,{"$f":"INDIRECT(M$171&$X461)","v":{"$error":"#REF!"}},{"$f":"INDIRECT(N$171&$X461)","v":{"$error":"#REF!"}},null,null,{"$f":"INDIRECT(Q$171&$X461)","v":{"$error":"#REF!"}},null,"円",{"$f":"INDIRECT(T$171&$X461)","v":{"$error":"#REF!"}},null,"円",{"$error":"#REF!"},{"$f":"X460+1","v":100},{"$f":"COUNTIF($W$181:W461,W461)","v":280}]
[{"$error":"#REF!"},null,"➊➋➌それぞれの賃金改善額（見込額）",null,null,null,null,null,null,null,null,null,null,"➊",{"$f":"INDIRECT(O$172&$X462)","v":{"$error":"#REF!"}},"円","➋",{"$f":"INDIRECT(R$172&$X462)","v":{"$error":"#REF!"}},"円","➌",{"$f":"INDIRECT(U$172&$X462)","v":{"$error":"#REF!"}},"円",{"$error":"#REF!"},{"$f":"X461","v":100},{"$f":"COUNTIF($W$181:W462,W462)","v":281}]
[{"$error":"#REF!"},null,null,null,null,null,null,null,null,null,null,null,null,"（",{"$f":"INDIRECT(O$173&$X463)","v":{"$error":"#REF!"}},"人）","（",{"$f":"INDIRECT(R$173&$X463)","v":{"$error":"#REF!"}},"人）","（",{"$f":"INDIRECT(U$173&$X463)","v":{"$error":"#REF!"}},"人）",{"$error":"#REF!"},100,{"$f":"COUNTIF($W$181:W463,W463)","v":282}]
[{"$error":"#REF!"},null,{"$f":"INDIRECT(C$171&$X464)","v":{"$error":"#REF!"}},null,null,null,null,null,null,null,null,null,{"$f":"INDIRECT(M$171&$X464)","v":{"$error":"#REF!"}},{"$f":"INDIRECT(N$171&$X464)","v":{"$error":"#REF!"}},null,null,{"$f":"INDIRECT(Q$171&$X464)","v":{"$error":"#REF!"}},null,"円",{"$f":"INDIRECT(T$171&$X464)","v":{"$error":"#REF!"}},null,"円",{"$error":"#REF!"},{"$f":"X463+1","v":101},{"$f":"COUNTIF($W$181:W464,W464)","v":283}]
[{"$error":"#REF!"},null,"➊➋➌それぞれの賃金改善額（見込額）",null,null,null,null,null,null,null,null,null,null,"➊",{"$f":"INDIRECT(O$172&$X465)","v":{"$error":"#REF!"}},"円","➋",{"$f":"INDIRECT(R$172&$X465)","v":{"$error":"#REF!"}},"円","➌",{"$f":"INDIRECT(U$172&$X465)","v":{"$error":"#REF!"}},"円",{"$error":"#REF!"},{"$f":"X464","v":101},{"$f":"COUNTIF($W$181:W465,W465)","v":284}]
[{"$error":"#REF!"},null,null,null,null,null,null,null,null,null,null,null,null,"（",{"$f":"INDIRECT(O$173&$X466)","v":{"$error":"#REF!"}},"人）","（",{"$f":"INDIRECT(R$173&$X466)","v":{"$error":"#REF!"}},"人）","（",{"$f":"INDIRECT(U$173&$X466)","v":{"$error":"#REF!"}},"人）",{"$error":"#REF!"},101,{"$f":"COUNTIF($W$181:W466,W466)","v":285}]
[{"$error":"#REF!"},null,{"$f":"INDIRECT(C$171&$X467)","v":{"$error":"#REF!"}},null,null,null,null,null,null,null,null,null,{"$f":"INDIRECT(M$171&$X467)","v":{"$error":"#REF!"}},{"$f":"INDIRECT(N$171&$X467)","v":{"$error":"#REF!"}},null,null,{"$f":"INDIRECT(Q$171&$X467)","v":{"$error":"#REF!"}},null,"円",{"$f":"INDIRECT(T$171&$X467)","v":{"$error":"#REF!"}},null,"円",{"$error":"#REF!"},{"$f":"X466+1","v":102},{"$f":"COUNTIF($W$181:W467,W467)","v":286}]
[{"$error":"#REF!"},null,"➊➋➌それぞれの賃金改善額（見込額）",null,null,null,null,null,null,null,null,null,null,"➊",{"$f":"INDIRECT(O$172&$X468)","v":{"$error":"#REF!"}},"円","➋",{"$f":"INDIRECT(R$172&$X468)","v":{"$error":"#REF!"}},"円","➌",{"$f":"INDIRECT(U$172&$X468)","v":{"$error":"#REF!"}},"円",{"$error":"#REF!"},{"$f":"X467","v":102},{"$f":"COUNTIF($W$181:W468,W468)","v":287}]
[{"$error":"#REF!"},null,null,null,null,null,null,null,null,null,null,null,null,"（",{"$f":"INDIRECT(O$173&$X469)","v":{"$error":"#REF!"}},"人）","（",{"$f":"INDIRECT(R$173&$X469)","v":{"$error":"#REF!"}},"人）","（",{"$f":"INDIRECT(U$173&$X469)","v":{"$error":"#REF!"}},"人）",{"$error":"#REF!"},102,{"$f":"COUNTIF($W$181:W469,W469)","v":288}]
[{"$error":"#REF!"},null,{"$f":"INDIRECT(C$171&$X470)","v":{"$error":"#REF!"}},null,null,null,null,null,null,null,null,null,{"$f":"INDIRECT(M$171&$X470)","v":{"$error":"#REF!"}},{"$f":"INDIRECT(N$171&$X470)","v":{"$error":"#REF!"}},null,null,{"$f":"INDIRECT(Q$171&$X470)","v":{"$error":"#REF!"}},null,"円",{"$f":"INDIRECT(T$171&$X470)","v":{"$error":"#REF!"}},null,"円",{"$error":"#REF!"},{"$f":"X469+1","v":103},{"$f":"COUNTIF($W$181:W470,W470)","v":289}]
[{"$error":"#REF!"},null,"➊➋➌それぞれの賃金改善額（見込額）",null,null,null,null,null,null,null,null,null,null,"➊",{"$f":"INDIRECT(O$172&$X471)","v":{"$error":"#REF!"}},"円","➋",{"$f":"INDIRECT(R$172&$X471)","v":{"$error":"#REF!"}},"円","➌",{"$f":"INDIRECT(U$172&$X471)","v":{"$error":"#REF!"}},"円",{"$error":"#REF!"},{"$f":"X470","v":103},{"$f":"COUNTIF($W$181:W471,W471)","v":290}]
[{"$error":"#REF!"},null,null,null,null,null,null,null,null,null,null,null,null,"（",{"$f":"INDIRECT(O$173&$X472)","v":{"$error":"#REF!"}},"人）","（",{"$f":"INDIRECT(R$173&$X472)","v":{"$error":"#REF!"}},"人）","（",{"$f":"INDIRECT(U$173&$X472)","v":{"$error":"#REF!"}},"人）",{"$error":"#REF!"},103,{"$f":"COUNTIF($W$181:W472,W472)","v":291}]
[{"$error":"#REF!"},null,{"$f":"INDIRECT(C$171&$X473)","v":{"$error":"#REF!"}},null,null,null,null,null,null,null,null,null,{"$f":"INDIRECT(M$171&$X473)","v":{"$error":"#REF!"}},{"$f":"INDIRECT(N$171&$X473)","v":{"$error":"#REF!"}},null,null,{"$f":"INDIRECT(Q$171&$X473)","v":{"$error":"#REF!"}},null,"円",{"$f":"INDIRECT(T$171&$X473)","v":{"$error":"#REF!"}},null,"円",{"$error":"#REF!"},{"$f":"X472+1","v":104},{"$f":"COUNTIF($W$181:W473,W473)","v":292}]
[{"$error":"#REF!"},null,"➊➋➌それぞれの賃金改善額（見込額）",null,null,null,null,null,null,null,null,null,null,"➊",{"$f":"INDIRECT(O$172&$X474)","v":{"$error":"#REF!"}},"円","➋",{"$f":"INDIRECT(R$172&$X474)","v":{"$error":"#REF!"}},"円","➌",{"$f":"INDIRECT(U$172&$X474)","v":{"$error":"#REF!"}},"円",{"$error":"#REF!"},{"$f":"X473","v":104},{"$f":"COUNTIF($W$181:W474,W474)","v":293}]
[{"$error":"#REF!"},null,null,null,null,null,null,null,null,null,null,null,null,"（",{"$f":"INDIRECT(O$173&$X475)","v":{"$error":"#REF!"}},"人）","（",{"$f":"INDIRECT(R$173&$X475)","v":{"$error":"#REF!"}},"人）","（",{"$f":"INDIRECT(U$173&$X475)","v":{"$error":"#REF!"}},"人）",{"$error":"#REF!"},104,{"$f":"COUNTIF($W$181:W475,W475)","v":294}]
[{"$error":"#REF!"},null,{"$f":"INDIRECT(C$171&$X476)","v":{"$error":"#REF!"}},null,null,null,null,null,null,null,null,null,{"$f":"INDIRECT(M$171&$X476)","v":{"$error":"#REF!"}},{"$f":"INDIRECT(N$171&$X476)","v":{"$error":"#REF!"}},null,null,{"$f":"INDIRECT(Q$171&$X476)","v":{"$error":"#REF!"}},null,"円",{"$f":"INDIRECT(T$171&$X476)","v":{"$error":"#REF!"}},null,"円",{"$error":"#REF!"},{"$f":"X475+1","v":105},{"$f":"COUNTIF($W$181:W476,W476)","v":295}]
[{"$error":"#REF!"},null,"➊➋➌それぞれの賃金改善額（見込額）",null,null,null,null,null,null,null,null,null,null,"➊",{"$f":"INDIRECT(O$172&$X477)","v":{"$error":"#REF!"}},"円","➋",{"$f":"INDIRECT(R$172&$X477)","v":{"$error":"#REF!"}},"円","➌",{"$f":"INDIRECT(U$172&$X477)","v":{"$error":"#REF!"}},"円",{"$error":"#REF!"},{"$f":"X476","v":105},{"$f":"COUNTIF($W$181:W477,W477)","v":296}]
[{"$error":"#REF!"},null,null,null,null,null,null,null,null,null,null,null,null,"（",{"$f":"INDIRECT(O$173&$X478)","v":{"$error":"#REF!"}},"人）","（",{"$f":"INDIRECT(R$173&$X478)","v":{"$error":"#REF!"}},"人）","（",{"$f":"INDIRECT(U$173&$X478)","v":{"$error":"#REF!"}},"人）",{"$error":"#REF!"},105,{"$f":"COUNTIF($W$181:W478,W478)","v":297}]
[{"$error":"#REF!"},null,{"$f":"INDIRECT(C$171&$X479)","v":{"$error":"#REF!"}},null,null,null,null,null,null,null,null,null,{"$f":"INDIRECT(M$171&$X479)","v":{"$error":"#REF!"}},{"$f":"INDIRECT(N$171&$X479)","v":{"$error":"#REF!"}},null,null,{"$f":"INDIRECT(Q$171&$X479)","v":{"$error":"#REF!"}},null,"円",{"$f":"INDIRECT(T$171&$X479)","v":{"$error":"#REF!"}},null,"円",{"$error":"#REF!"},{"$f":"X478+1","v":106},{"$f":"COUNTIF($W$181:W479,W479)","v":298}]
[{"$error":"#REF!"},null,"➊➋➌それぞれの賃金改善額（見込額）",null,null,null,null,null,null,null,null,null,null,"➊",{"$f":"INDIRECT(O$172&$X480)","v":{"$error":"#REF!"}},"円","➋",{"$f":"INDIRECT(R$172&$X480)","v":{"$error":"#REF!"}},"円","➌",{"$f":"INDIRECT(U$172&$X480)","v":{"$error":"#REF!"}},"円",{"$error":"#REF!"},{"$f":"X479","v":106},{"$f":"COUNTIF($W$181:W480,W480)","v":299}]
[{"$error":"#REF!"},null,null,null,null,null,null,null,null,null,null,null,null,"（",{"$f":"INDIRECT(O$173&$X481)","v":{"$error":"#REF!"}},"人）","（",{"$f":"INDIRECT(R$173&$X481)","v":{"$error":"#REF!"}},"人）","（",{"$f":"INDIRECT(U$173&$X481)","v":{"$error":"#REF!"}},"人）",{"$error":"#REF!"},106,{"$f":"COUNTIF($W$181:W481,W481)","v":300}]
[{"$error":"#REF!"},null,{"$f":"INDIRECT(C$171&$X482)","v":{"$error":"#REF!"}},null,null,null,null,null,null,null,null,null,{"$f":"INDIRECT(M$171&$X482)","v":{"$error":"#REF!"}},{"$f":"INDIRECT(N$171&$X482)","v":{"$error":"#REF!"}},null,null,{"$f":"INDIRECT(Q$171&$X482)","v":{"$error":"#REF!"}},null,"円",{"$f":"INDIRECT(T$171&$X482)","v":{"$error":"#REF!"}},null,"円",{"$error":"#REF!"},{"$f":"X481+1","v":107},{"$f":"COUNTIF($W$181:W482,W482)","v":301}]
[{"$error":"#REF!"},null,"➊➋➌それぞれの賃金改善額（見込額）",null,null,null,null,null,null,null,null,null,null,"➊",{"$f":"INDIRECT(O$172&$X483)","v":{"$error":"#REF!"}},"円","➋",{"$f":"INDIRECT(R$172&$X483)","v":{"$error":"#REF!"}},"円","➌",{"$f":"INDIRECT(U$172&$X483)","v":{"$error":"#REF!"}},"円",{"$error":"#REF!"},{"$f":"X482","v":107},{"$f":"COUNTIF($W$181:W483,W483)","v":302}]
[{"$error":"#REF!"},null,null,null,null,null,null,null,null,null,null,null,null,"（",{"$f":"INDIRECT(O$173&$X484)","v":{"$error":"#REF!"}},"人）","（",{"$f":"INDIRECT(R$173&$X484)","v":{"$error":"#REF!"}},"人）","（",{"$f":"INDIRECT(U$173&$X484)","v":{"$error":"#REF!"}},"人）",{"$error":"#REF!"},107,{"$f":"COUNTIF($W$181:W484,W484)","v":303}]
[{"$error":"#REF!"},null,{"$f":"INDIRECT(C$171&$X485)","v":{"$error":"#REF!"}},null,null,null,null,null,null,null,null,null,{"$f":"INDIRECT(M$171&$X485)","v":{"$error":"#REF!"}},{"$f":"INDIRECT(N$171&$X485)","v":{"$error":"#REF!"}},null,null,{"$f":"INDIRECT(Q$171&$X485)","v":{"$error":"#REF!"}},null,"円",{"$f":"INDIRECT(T$171&$X485)","v":{"$error":"#REF!"}},null,"円",{"$error":"#REF!"},{"$f":"X484+1","v":108},{"$f":"COUNTIF($W$181:W485,W485)","v":304}]
[{"$error":"#REF!"},null,"➊➋➌それぞれの賃金改善額（見込額）",null,null,null,null,null,null,null,null,null,null,"➊",{"$f":"INDIRECT(O$172&$X486)","v":{"$error":"#REF!"}},"円","➋",{"$f":"INDIRECT(R$172&$X486)","v":{"$error":"#REF!"}},"円","➌",{"$f":"INDIRECT(U$172&$X486)","v":{"$error":"#REF!"}},"円",{"$error":"#REF!"},{"$f":"X485","v":108},{"$f":"COUNTIF($W$181:W486,W486)","v":305}]
[{"$error":"#REF!"},null,null,null,null,null,null,null,null,null,null,null,null,"（",{"$f":"INDIRECT(O$173&$X487)","v":{"$error":"#REF!"}},"人）","（",{"$f":"INDIRECT(R$173&$X487)","v":{"$error":"#REF!"}},"人）","（",{"$f":"INDIRECT(U$173&$X487)","v":{"$error":"#REF!"}},"人）",{"$error":"#REF!"},108,{"$f":"COUNTIF($W$181:W487,W487)","v":306}]
[{"$error":"#REF!"},null,{"$f":"INDIRECT(C$171&$X488)","v":{"$error":"#REF!"}},null,null,null,null,null,null,null,null,null,{"$f":"INDIRECT(M$171&$X488)","v":{"$error":"#REF!"}},{"$f":"INDIRECT(N$171&$X488)","v":{"$error":"#REF!"}},null,null,{"$f":"INDIRECT(Q$171&$X488)","v":{"$error":"#REF!"}},null,"円",{"$f":"INDIRECT(T$171&$X488)","v":{"$error":"#REF!"}},null,"円",{"$error":"#REF!"},{"$f":"X487+1","v":109},{"$f":"COUNTIF($W$181:W488,W488)","v":307}]
[{"$error":"#REF!"},null,"➊➋➌それぞれの賃金改善額（見込額）",null,null,null,null,null,null,null,null,null,null,"➊",{"$f":"INDIRECT(O$172&$X489)","v":{"$error":"#REF!"}},"円","➋",{"$f":"INDIRECT(R$172&$X489)","v":{"$error":"#REF!"}},"円","➌",{"$f":"INDIRECT(U$172&$X489)","v":{"$error":"#REF!"}},"円",{"$error":"#REF!"},{"$f":"X488","v":109},{"$f":"COUNTIF($W$181:W489,W489)","v":308}]
[{"$error":"#REF!"},null,null,null,null,null,null,null,null,null,null,null,null,"（",{"$f":"INDIRECT(O$173&$X490)","v":{"$error":"#REF!"}},"人）","（",{"$f":"INDIRECT(R$173&$X490)","v":{"$error":"#REF!"}},"人）","（",{"$f":"INDIRECT(U$173&$X490)","v":{"$error":"#REF!"}},"人）",{"$error":"#REF!"},109,{"$f":"COUNTIF($W$181:W490,W490)","v":309}]
[{"$error":"#REF!"},null,{"$f":"INDIRECT(C$171&$X491)","v":{"$error":"#REF!"}},null,null,null,null,null,null,null,null,null,{"$f":"INDIRECT(M$171&$X491)","v":{"$error":"#REF!"}},{"$f":"INDIRECT(N$171&$X491)","v":{"$error":"#REF!"}},null,null,{"$f":"INDIRECT(Q$171&$X491)","v":{"$error":"#REF!"}},null,"円",{"$f":"INDIRECT(T$171&$X491)","v":{"$error":"#REF!"}},null,"円",{"$error":"#REF!"},{"$f":"X490+1","v":110},{"$f":"COUNTIF($W$181:W491,W491)","v":310}]
[{"$error":"#REF!"},null,"➊➋➌それぞれの賃金改善額（見込額）",null,null,null,null,null,null,null,null,null,null,"➊",{"$f":"INDIRECT(O$172&$X492)","v":{"$error":"#REF!"}},"円","➋",{"$f":"INDIRECT(R$172&$X492)","v":{"$error":"#REF!"}},"円","➌",{"$f":"INDIRECT(U$172&$X492)","v":{"$error":"#REF!"}},"円",{"$error":"#REF!"},{"$f":"X491","v":110},{"$f":"COUNTIF($W$181:W492,W492)","v":311}]
[{"$error":"#REF!"},null,null,null,null,null,null,null,null,null,null,null,null,"（",{"$f":"INDIRECT(O$173&$X493)","v":{"$error":"#REF!"}},"人）","（",{"$f":"INDIRECT(R$173&$X493)","v":{"$error":"#REF!"}},"人）","（",{"$f":"INDIRECT(U$173&$X493)","v":{"$error":"#REF!"}},"人）",{"$error":"#REF!"},110,{"$f":"COUNTIF($W$181:W493,W493)","v":312}]
[{"$error":"#REF!"},null,{"$f":"INDIRECT(C$171&$X494)","v":{"$error":"#REF!"}},null,null,null,null,null,null,null,null,null,{"$f":"INDIRECT(M$171&$X494)","v":{"$error":"#REF!"}},{"$f":"INDIRECT(N$171&$X494)","v":{"$error":"#REF!"}},null,null,{"$f":"INDIRECT(Q$171&$X494)","v":{"$error":"#REF!"}},null,"円",{"$f":"INDIRECT(T$171&$X494)","v":{"$error":"#REF!"}},null,"円",{"$error":"#REF!"},{"$f":"X493+1","v":111},{"$f":"COUNTIF($W$181:W494,W494)","v":313}]
[{"$error":"#REF!"},null,"➊➋➌それぞれの賃金改善額（見込額）",null,null,null,null,null,null,null,null,null,null,"➊",{"$f":"INDIRECT(O$172&$X495)","v":{"$error":"#REF!"}},"円","➋",{"$f":"INDIRECT(R$172&$X495)","v":{"$error":"#REF!"}},"円","➌",{"$f":"INDIRECT(U$172&$X495)","v":{"$error":"#REF!"}},"円",{"$error":"#REF!"},{"$f":"X494","v":111},{"$f":"COUNTIF($W$181:W495,W495)","v":314}]
[{"$error":"#REF!"},null,null,null,null,null,null,null,null,null,null,null,null,"（",{"$f":"INDIRECT(O$173&$X496)","v":{"$error":"#REF!"}},"人）","（",{"$f":"INDIRECT(R$173&$X496)","v":{"$error":"#REF!"}},"人）","（",{"$f":"INDIRECT(U$173&$X496)","v":{"$error":"#REF!"}},"人）",{"$error":"#REF!"},111,{"$f":"COUNTIF($W$181:W496,W496)","v":315}]
[{"$error":"#REF!"},null,{"$f":"INDIRECT(C$171&$X497)","v":{"$error":"#REF!"}},null,null,null,null,null,null,null,null,null,{"$f":"INDIRECT(M$171&$X497)","v":{"$error":"#REF!"}},{"$f":"INDIRECT(N$171&$X497)","v":{"$error":"#REF!"}},null,null,{"$f":"INDIRECT(Q$171&$X497)","v":{"$error":"#REF!"}},null,"円",{"$f":"INDIRECT(T$171&$X497)","v":{"$error":"#REF!"}},null,"円",{"$error":"#REF!"},{"$f":"X496+1","v":112},{"$f":"COUNTIF($W$181:W497,W497)","v":316}]
[{"$error":"#REF!"},null,"➊➋➌それぞれの賃金改善額（見込額）",null,null,null,null,null,null,null,null,null,null,"➊",{"$f":"INDIRECT(O$172&$X498)","v":{"$error":"#REF!"}},"円","➋",{"$f":"INDIRECT(R$172&$X498)","v":{"$error":"#REF!"}},"円","➌",{"$f":"INDIRECT(U$172&$X498)","v":{"$error":"#REF!"}},"円",{"$error":"#REF!"},{"$f":"X497","v":112},{"$f":"COUNTIF($W$181:W498,W498)","v":317}]
[{"$error":"#REF!"},null,null,null,null,null,null,null,null,null,null,null,null,"（",{"$f":"INDIRECT(O$173&$X499)","v":{"$error":"#REF!"}},"人）","（",{"$f":"INDIRECT(R$173&$X499)","v":{"$error":"#REF!"}},"人）","（",{"$f":"INDIRECT(U$173&$X499)","v":{"$error":"#REF!"}},"人）",{"$error":"#REF!"},112,{"$f":"COUNTIF($W$181:W499,W499)","v":318}]
[{"$error":"#REF!"},null,{"$f":"INDIRECT(C$171&$X500)","v":{"$error":"#REF!"}},null,null,null,null,null,null,null,null,null,{"$f":"INDIRECT(M$171&$X500)","v":{"$error":"#REF!"}},{"$f":"INDIRECT(N$171&$X500)","v":{"$error":"#REF!"}},null,null,{"$f":"INDIRECT(Q$171&$X500)","v":{"$error":"#REF!"}},null,"円",{"$f":"INDIRECT(T$171&$X500)","v":{"$error":"#REF!"}},null,"円",{"$error":"#REF!"},{"$f":"X499+1","v":113},{"$f":"COUNTIF($W$181:W500,W500)","v":319}]
[{"$error":"#REF!"},null,"➊➋➌それぞれの賃金改善額（見込額）",null,null,null,null,null,null,null,null,null,null,"➊",{"$f":"INDIRECT(O$172&$X501)","v":{"$error":"#REF!"}},"円","➋",{"$f":"INDIRECT(R$172&$X501)","v":{"$error":"#REF!"}},"円","➌",{"$f":"INDIRECT(U$172&$X501)","v":{"$error":"#REF!"}},"円",{"$error":"#REF!"},{"$f":"X500","v":113},{"$f":"COUNTIF($W$181:W501,W501)","v":320}]
[{"$error":"#REF!"},null,null,null,null,null,null,null,null,null,null,null,null,"（",{"$f":"INDIRECT(O$173&$X502)","v":{"$error":"#REF!"}},"人）","（",{"$f":"INDIRECT(R$173&$X502)","v":{"$error":"#REF!"}},"人）","（",{"$f":"INDIRECT(U$173&$X502)","v":{"$error":"#REF!"}},"人）",{"$error":"#REF!"},113,{"$f":"COUNTIF($W$181:W502,W502)","v":321}]
[{"$error":"#REF!"},null,{"$f":"INDIRECT(C$171&$X503)","v":{"$error":"#REF!"}},null,null,null,null,null,null,null,null,null,{"$f":"INDIRECT(M$171&$X503)","v":{"$error":"#REF!"}},{"$f":"INDIRECT(N$171&$X503)","v":{"$error":"#REF!"}},null,null,{"$f":"INDIRECT(Q$171&$X503)","v":{"$error":"#REF!"}},null,"円",{"$f":"INDIRECT(T$171&$X503)","v":{"$error":"#REF!"}},null,"円",{"$f":"INDIRECT($W$171&X503)","v":{"$error":"#REF!"}},{"$f":"X502+1","v":114},{"$f":"COUNTIF($W$181:W503,W503)","v":322}]
[{"$error":"#REF!"},null,"➊➋➌それぞれの賃金改善額（見込額）",null,null,null,null,null,null,null,null,null,null,"➊",{"$f":"INDIRECT(O$172&$X504)","v":{"$error":"#REF!"}},"円","➋",{"$f":"INDIRECT(R$172&$X504)","v":{"$error":"#REF!"}},"円","➌",{"$f":"INDIRECT(U$172&$X504)","v":{"$error":"#REF!"}},"円",{"$error":"#REF!"},{"$f":"X503","v":114},{"$f":"COUNTIF($W$181:W504,W504)","v":323}]
[{"$error":"#REF!"},null,null,null,null,null,null,null,null,null,null,null,null,"（",{"$f":"INDIRECT(O$173&$X505)","v":{"$error":"#REF!"}},"人）","（",{"$f":"INDIRECT(R$173&$X505)","v":{"$error":"#REF!"}},"人）","（",{"$f":"INDIRECT(U$173&$X505)","v":{"$error":"#REF!"}},"人）",{"$error":"#REF!"},114,{"$f":"COUNTIF($W$181:W505,W505)","v":324}]
[{"$error":"#REF!"},null,{"$f":"INDIRECT(C$171&$X506)","v":{"$error":"#REF!"}},null,null,null,null,null,null,null,null,null,{"$f":"INDIRECT(M$171&$X506)","v":{"$error":"#REF!"}},{"$f":"INDIRECT(N$171&$X506)","v":{"$error":"#REF!"}},null,null,{"$f":"INDIRECT(Q$171&$X506)","v":{"$error":"#REF!"}},null,"円",{"$f":"INDIRECT(T$171&$X506)","v":{"$error":"#REF!"}},null,"円",{"$error":"#REF!"},{"$f":"X505+1","v":115},{"$f":"COUNTIF($W$181:W506,W506)","v":325}]
[{"$error":"#REF!"},null,"➊➋➌それぞれの賃金改善額（見込額）",null,null,null,null,null,null,null,null,null,null,"➊",{"$f":"INDIRECT(O$172&$X507)","v":{"$error":"#REF!"}},"円","➋",{"$f":"INDIRECT(R$172&$X507)","v":{"$error":"#REF!"}},"円","➌",{"$f":"INDIRECT(U$172&$X507)","v":{"$error":"#REF!"}},"円",{"$error":"#REF!"},{"$f":"X506","v":115},{"$f":"COUNTIF($W$181:W507,W507)","v":326}]
[{"$error":"#REF!"},null,null,null,null,null,null,null,null,null,null,null,null,"（",{"$f":"INDIRECT(O$173&$X508)","v":{"$error":"#REF!"}},"人）","（",{"$f":"INDIRECT(R$173&$X508)","v":{"$error":"#REF!"}},"人）","（",{"$f":"INDIRECT(U$173&$X508)","v":{"$error":"#REF!"}},"人）",{"$error":"#REF!"},115,{"$f":"COUNTIF($W$181:W508,W508)","v":327}]
[{"$error":"#REF!"},null,{"$f":"INDIRECT(C$171&$X509)","v":{"$error":"#REF!"}},null,null,null,null,null,null,null,null,null,{"$f":"INDIRECT(M$171&$X509)","v":{"$error":"#REF!"}},{"$f":"INDIRECT(N$171&$X509)","v":{"$error":"#REF!"}},null,null,{"$f":"INDIRECT(Q$171&$X509)","v":{"$error":"#REF!"}},null,"円",{"$f":"INDIRECT(T$171&$X509)","v":{"$error":"#REF!"}},null,"円",{"$error":"#REF!"},{"$f":"X508+1","v":116},{"$f":"COUNTIF($W$181:W509,W509)","v":328}]
[{"$error":"#REF!"},null,"➊➋➌それぞれの賃金改善額（見込額）",null,null,null,null,null,null,null,null,null,null,"➊",{"$f":"INDIRECT(O$172&$X510)","v":{"$error":"#REF!"}},"円","➋",{"$f":"INDIRECT(R$172&$X510)","v":{"$error":"#REF!"}},"円","➌",{"$f":"INDIRECT(U$172&$X510)","v":{"$error":"#REF!"}},"円",{"$error":"#REF!"},{"$f":"X509","v":116},{"$f":"COUNTIF($W$181:W510,W510)","v":329}]
[{"$error":"#REF!"},null,null,null,null,null,null,null,null,null,null,null,null,"（",{"$f":"INDIRECT(O$173&$X511)","v":{"$error":"#REF!"}},"人）","（",{"$f":"INDIRECT(R$173&$X511)","v":{"$error":"#REF!"}},"人）","（",{"$f":"INDIRECT(U$173&$X511)","v":{"$error":"#REF!"}},"人）",{"$error":"#REF!"},116,{"$f":"COUNTIF($W$181:W511,W511)","v":330}]
[{"$error":"#REF!"},null,{"$f":"INDIRECT(C$171&$X512)","v":{"$error":"#REF!"}},null,null,null,null,null,null,null,null,null,{"$f":"INDIRECT(M$171&$X512)","v":{"$error":"#REF!"}},{"$f":"INDIRECT(N$171&$X512)","v":{"$error":"#REF!"}},null,null,{"$f":"INDIRECT(Q$171&$X512)","v":{"$error":"#REF!"}},null,"円",{"$f":"INDIRECT(T$171&$X512)","v":{"$error":"#REF!"}},null,"円",{"$error":"#REF!"},{"$f":"X511+1","v":117},{"$f":"COUNTIF($W$181:W512,W512)","v":331}]
[{"$error":"#REF!"},null,"➊➋➌それぞれの賃金改善額（見込額）",null,null,null,null,null,null,null,null,null,null,"➊",{"$f":"INDIRECT(O$172&$X513)","v":{"$error":"#REF!"}},"円","➋",{"$f":"INDIRECT(R$172&$X513)","v":{"$error":"#REF!"}},"円","➌",{"$f":"INDIRECT(U$172&$X513)","v":{"$error":"#REF!"}},"円",{"$error":"#REF!"},{"$f":"X512","v":117},{"$f":"COUNTIF($W$181:W513,W513)","v":332}]
[{"$error":"#REF!"},null,null,null,null,null,null,null,null,null,null,null,null,"（",{"$f":"INDIRECT(O$173&$X514)","v":{"$error":"#REF!"}},"人）","（",{"$f":"INDIRECT(R$173&$X514)","v":{"$error":"#REF!"}},"人）","（",{"$f":"INDIRECT(U$173&$X514)","v":{"$error":"#REF!"}},"人）",{"$error":"#REF!"},117,{"$f":"COUNTIF($W$181:W514,W514)","v":333}]
[{"$error":"#REF!"},null,{"$f":"INDIRECT(C$171&$X515)","v":{"$error":"#REF!"}},null,null,null,null,null,null,null,null,null,{"$f":"INDIRECT(M$171&$X515)","v":{"$error":"#REF!"}},{"$f":"INDIRECT(N$171&$X515)","v":{"$error":"#REF!"}},null,null,{"$f":"INDIRECT(Q$171&$X515)","v":{"$error":"#REF!"}},null,"円",{"$f":"INDIRECT(T$171&$X515)","v":{"$error":"#REF!"}},null,"円",{"$error":"#REF!"},{"$f":"X514+1","v":118},{"$f":"COUNTIF($W$181:W515,W515)","v":334}]
[{"$error":"#REF!"},null,"➊➋➌それぞれの賃金改善額（見込額）",null,null,null,null,null,null,null,null,null,null,"➊",{"$f":"INDIRECT(O$172&$X516)","v":{"$error":"#REF!"}},"円","➋",{"$f":"INDIRECT(R$172&$X516)","v":{"$error":"#REF!"}},"円","➌",{"$f":"INDIRECT(U$172&$X516)","v":{"$error":"#REF!"}},"円",{"$error":"#REF!"},{"$f":"X515","v":118},{"$f":"COUNTIF($W$181:W516,W516)","v":335}]
[{"$error":"#REF!"},null,null,null,null,null,null,null,null,null,null,null,null,"（",{"$f":"INDIRECT(O$173&$X517)","v":{"$error":"#REF!"}},"人）","（",{"$f":"INDIRECT(R$173&$X517)","v":{"$error":"#REF!"}},"人）","（",{"$f":"INDIRECT(U$173&$X517)","v":{"$error":"#REF!"}},"人）",{"$error":"#REF!"},118,{"$f":"COUNTIF($W$181:W517,W517)","v":336}]
[{"$error":"#REF!"},null,{"$f":"INDIRECT(C$171&$X518)","v":{"$error":"#REF!"}},null,null,null,null,null,null,null,null,null,{"$f":"INDIRECT(M$171&$X518)","v":{"$error":"#REF!"}},{"$f":"INDIRECT(N$171&$X518)","v":{"$error":"#REF!"}},null,null,{"$f":"INDIRECT(Q$171&$X518)","v":{"$error":"#REF!"}},null,"円",{"$f":"INDIRECT(T$171&$X518)","v":{"$error":"#REF!"}},null,"円",{"$error":"#REF!"},{"$f":"X517+1","v":119},{"$f":"COUNTIF($W$181:W518,W518)","v":337}]
[{"$error":"#REF!"},null,"➊➋➌それぞれの賃金改善額（見込額）",null,null,null,null,null,null,null,null,null,null,"➊",{"$f":"INDIRECT(O$172&$X519)","v":{"$error":"#REF!"}},"円","➋",{"$f":"INDIRECT(R$172&$X519)","v":{"$error":"#REF!"}},"円","➌",{"$f":"INDIRECT(U$172&$X519)","v":{"$error":"#REF!"}},"円",{"$error":"#REF!"},{"$f":"X518","v":119},{"$f":"COUNTIF($W$181:W519,W519)","v":338}]
[{"$error":"#REF!"},null,null,null,null,null,null,null,null,null,null,null,null,"（",{"$f":"INDIRECT(O$173&$X520)","v":{"$error":"#REF!"}},"人）","（",{"$f":"INDIRECT(R$173&$X520)","v":{"$error":"#REF!"}},"人）","（",{"$f":"INDIRECT(U$173&$X520)","v":{"$error":"#REF!"}},"人）",{"$error":"#REF!"},119,{"$f":"COUNTIF($W$181:W520,W520)","v":339}]
[{"$error":"#REF!"},null,{"$f":"INDIRECT(C$171&$X521)","v":{"$error":"#REF!"}},null,null,null,null,null,null,null,null,null,{"$f":"INDIRECT(M$171&$X521)","v":{"$error":"#REF!"}},{"$f":"INDIRECT(N$171&$X521)","v":{"$error":"#REF!"}},null,null,{"$f":"INDIRECT(Q$171&$X521)","v":{"$error":"#REF!"}},null,"円",{"$f":"INDIRECT(T$171&$X521)","v":{"$error":"#REF!"}},null,"円",{"$error":"#REF!"},{"$f":"X520+1","v":120},{"$f":"COUNTIF($W$181:W521,W521)","v":340}]
[{"$error":"#REF!"},null,"➊➋➌それぞれの賃金改善額（見込額）",null,null,null,null,null,null,null,null,null,null,"➊",{"$f":"INDIRECT(O$172&$X522)","v":{"$error":"#REF!"}},"円","➋",{"$f":"INDIRECT(R$172&$X522)","v":{"$error":"#REF!"}},"円","➌",{"$f":"INDIRECT(U$172&$X522)","v":{"$error":"#REF!"}},"円",{"$error":"#REF!"},{"$f":"X521","v":120},{"$f":"COUNTIF($W$181:W522,W522)","v":341}]
[{"$error":"#REF!"},null,null,null,null,null,null,null,null,null,null,null,null,"（",{"$f":"INDIRECT(O$173&$X523)","v":{"$error":"#REF!"}},"人）","（",{"$f":"INDIRECT(R$173&$X523)","v":{"$error":"#REF!"}},"人）","（",{"$f":"INDIRECT(U$173&$X523)","v":{"$error":"#REF!"}},"人）",{"$error":"#REF!"},120,{"$f":"COUNTIF($W$181:W523,W523)","v":342}]
[{"$error":"#REF!"},null,{"$f":"INDIRECT(C$171&$X524)","v":{"$error":"#REF!"}},null,null,null,null,null,null,null,null,null,{"$f":"INDIRECT(M$171&$X524)","v":{"$error":"#REF!"}},{"$f":"INDIRECT(N$171&$X524)","v":{"$error":"#REF!"}},null,null,{"$f":"INDIRECT(Q$171&$X524)","v":{"$error":"#REF!"}},null,"円",{"$f":"INDIRECT(T$171&$X524)","v":{"$error":"#REF!"}},null,"円",{"$error":"#REF!"},{"$f":"X523+1","v":121},{"$f":"COUNTIF($W$181:W524,W524)","v":343}]
[{"$error":"#REF!"},null,"➊➋➌それぞれの賃金改善額（見込額）",null,null,null,null,null,null,null,null,null,null,"➊",{"$f":"INDIRECT(O$172&$X525)","v":{"$error":"#REF!"}},"円","➋",{"$f":"INDIRECT(R$172&$X525)","v":{"$error":"#REF!"}},"円","➌",{"$f":"INDIRECT(U$172&$X525)","v":{"$error":"#REF!"}},"円",{"$error":"#REF!"},{"$f":"X524","v":121},{"$f":"COUNTIF($W$181:W525,W525)","v":344}]
[{"$error":"#REF!"},null,null,null,null,null,null,null,null,null,null,null,null,"（",{"$f":"INDIRECT(O$173&$X526)","v":{"$error":"#REF!"}},"人）","（",{"$f":"INDIRECT(R$173&$X526)","v":{"$error":"#REF!"}},"人）","（",{"$f":"INDIRECT(U$173&$X526)","v":{"$error":"#REF!"}},"人）",{"$error":"#REF!"},121,{"$f":"COUNTIF($W$181:W526,W526)","v":345}]
[{"$error":"#REF!"},null,{"$f":"INDIRECT(C$171&$X527)","v":{"$error":"#REF!"}},null,null,null,null,null,null,null,null,null,{"$f":"INDIRECT(M$171&$X527)","v":{"$error":"#REF!"}},{"$f":"INDIRECT(N$171&$X527)","v":{"$error":"#REF!"}},null,null,{"$f":"INDIRECT(Q$171&$X527)","v":{"$error":"#REF!"}},null,"円",{"$f":"INDIRECT(T$171&$X527)","v":{"$error":"#REF!"}},null,"円",{"$error":"#REF!"},{"$f":"X526+1","v":122},{"$f":"COUNTIF($W$181:W527,W527)","v":346}]
[{"$error":"#REF!"},null,"➊➋➌それぞれの賃金改善額（見込額）",null,null,null,null,null,null,null,null,null,null,"➊",{"$f":"INDIRECT(O$172&$X528)","v":{"$error":"#REF!"}},"円","➋",{"$f":"INDIRECT(R$172&$X528)","v":{"$error":"#REF!"}},"円","➌",{"$f":"INDIRECT(U$172&$X528)","v":{"$error":"#REF!"}},"円",{"$error":"#REF!"},{"$f":"X527","v":122},{"$f":"COUNTIF($W$181:W528,W528)","v":347}]
[{"$error":"#REF!"},null,null,null,null,null,null,null,null,null,null,null,null,"（",{"$f":"INDIRECT(O$173&$X529)","v":{"$error":"#REF!"}},"人）","（",{"$f":"INDIRECT(R$173&$X529)","v":{"$error":"#REF!"}},"人）","（",{"$f":"INDIRECT(U$173&$X529)","v":{"$error":"#REF!"}},"人）",{"$error":"#REF!"},122,{"$f":"COUNTIF($W$181:W529,W529)","v":348}]
[{"$error":"#REF!"},null,{"$f":"INDIRECT(C$171&$X530)","v":{"$error":"#REF!"}},null,null,null,null,null,null,null,null,null,{"$f":"INDIRECT(M$171&$X530)","v":{"$error":"#REF!"}},{"$f":"INDIRECT(N$171&$X530)","v":{"$error":"#REF!"}},null,null,{"$f":"INDIRECT(Q$171&$X530)","v":{"$error":"#REF!"}},null,"円",{"$f":"INDIRECT(T$171&$X530)","v":{"$error":"#REF!"}},null,"円",{"$error":"#REF!"},{"$f":"X529+1","v":123},{"$f":"COUNTIF($W$181:W530,W530)","v":349}]
[{"$error":"#REF!"},null,"➊➋➌それぞれの賃金改善額（見込額）",null,null,null,null,null,null,null,null,null,null,"➊",{"$f":"INDIRECT(O$172&$X531)","v":{"$error":"#REF!"}},"円","➋",{"$f":"INDIRECT(R$172&$X531)","v":{"$error":"#REF!"}},"円","➌",{"$f":"INDIRECT(U$172&$X531)","v":{"$error":"#REF!"}},"円",{"$error":"#REF!"},{"$f":"X530","v":123},{"$f":"COUNTIF($W$181:W531,W531)","v":350}]
[{"$error":"#REF!"},null,null,null,null,null,null,null,null,null,null,null,null,"（",{"$f":"INDIRECT(O$173&$X532)","v":{"$error":"#REF!"}},"人）","（",{"$f":"INDIRECT(R$173&$X532)","v":{"$error":"#REF!"}},"人）","（",{"$f":"INDIRECT(U$173&$X532)","v":{"$error":"#REF!"}},"人）",{"$error":"#REF!"},123,{"$f":"COUNTIF($W$181:W532,W532)","v":351}]
[{"$error":"#REF!"},null,{"$f":"INDIRECT(C$171&$X533)","v":{"$error":"#REF!"}},null,null,null,null,null,null,null,null,null,{"$f":"INDIRECT(M$171&$X533)","v":{"$error":"#REF!"}},{"$f":"INDIRECT(N$171&$X533)","v":{"$error":"#REF!"}},null,null,{"$f":"INDIRECT(Q$171&$X533)","v":{"$error":"#REF!"}},null,"円",{"$f":"INDIRECT(T$171&$X533)","v":{"$error":"#REF!"}},null,"円",{"$error":"#REF!"},{"$f":"X532+1","v":124},{"$f":"COUNTIF($W$181:W533,W533)","v":352}]
[{"$error":"#REF!"},null,"➊➋➌それぞれの賃金改善額（見込額）",null,null,null,null,null,null,null,null,null,null,"➊",{"$f":"INDIRECT(O$172&$X534)","v":{"$error":"#REF!"}},"円","➋",{"$f":"INDIRECT(R$172&$X534)","v":{"$error":"#REF!"}},"円","➌",{"$f":"INDIRECT(U$172&$X534)","v":{"$error":"#REF!"}},"円",{"$error":"#REF!"},{"$f":"X533","v":124},{"$f":"COUNTIF($W$181:W534,W534)","v":353}]
[{"$error":"#REF!"},null,null,null,null,null,null,null,null,null,null,null,null,"（",{"$f":"INDIRECT(O$173&$X535)","v":{"$error":"#REF!"}},"人）","（",{"$f":"INDIRECT(R$173&$X535)","v":{"$error":"#REF!"}},"人）","（",{"$f":"INDIRECT(U$173&$X535)","v":{"$error":"#REF!"}},"人）",{"$error":"#REF!"},124,{"$f":"COUNTIF($W$181:W535,W535)","v":354}]
[{"$error":"#REF!"},null,{"$f":"INDIRECT(C$171&$X536)","v":{"$error":"#REF!"}},null,null,null,null,null,null,null,null,null,{"$f":"INDIRECT(M$171&$X536)","v":{"$error":"#REF!"}},{"$f":"INDIRECT(N$171&$X536)","v":{"$error":"#REF!"}},null,null,{"$f":"INDIRECT(Q$171&$X536)","v":{"$error":"#REF!"}},null,"円",{"$f":"INDIRECT(T$171&$X536)","v":{"$error":"#REF!"}},null,"円",{"$error":"#REF!"},{"$f":"X535+1","v":125},{"$f":"COUNTIF($W$181:W536,W536)","v":355}]
[{"$error":"#REF!"},null,"➊➋➌それぞれの賃金改善額（見込額）",null,null,null,null,null,null,null,null,null,null,"➊",{"$f":"INDIRECT(O$172&$X537)","v":{"$error":"#REF!"}},"円","➋",{"$f":"INDIRECT(R$172&$X537)","v":{"$error":"#REF!"}},"円","➌",{"$f":"INDIRECT(U$172&$X537)","v":{"$error":"#REF!"}},"円",{"$error":"#REF!"},{"$f":"X536","v":125},{"$f":"COUNTIF($W$181:W537,W537)","v":356}]
[{"$error":"#REF!"},null,null,null,null,null,null,null,null,null,null,null,null,"（",{"$f":"INDIRECT(O$173&$X538)","v":{"$error":"#REF!"}},"人）","（",{"$f":"INDIRECT(R$173&$X538)","v":{"$error":"#REF!"}},"人）","（",{"$f":"INDIRECT(U$173&$X538)","v":{"$error":"#REF!"}},"人）",{"$error":"#REF!"},125,{"$f":"COUNTIF($W$181:W538,W538)","v":357}]
[{"$error":"#REF!"},null,{"$f":"INDIRECT(C$171&$X539)","v":{"$error":"#REF!"}},null,null,null,null,null,null,null,null,null,{"$f":"INDIRECT(M$171&$X539)","v":{"$error":"#REF!"}},{"$f":"INDIRECT(N$171&$X539)","v":{"$error":"#REF!"}},null,null,{"$f":"INDIRECT(Q$171&$X539)","v":{"$error":"#REF!"}},null,"円",{"$f":"INDIRECT(T$171&$X539)","v":{"$error":"#REF!"}},null,"円",{"$error":"#REF!"},{"$f":"X538+1","v":126},{"$f":"COUNTIF($W$181:W539,W539)","v":358}]
[{"$error":"#REF!"},null,"➊➋➌それぞれの賃金改善額（見込額）",null,null,null,null,null,null,null,null,null,null,"➊",{"$f":"INDIRECT(O$172&$X540)","v":{"$error":"#REF!"}},"円","➋",{"$f":"INDIRECT(R$172&$X540)","v":{"$error":"#REF!"}},"円","➌",{"$f":"INDIRECT(U$172&$X540)","v":{"$error":"#REF!"}},"円",{"$error":"#REF!"},{"$f":"X539","v":126},{"$f":"COUNTIF($W$181:W540,W540)","v":359}]
[{"$error":"#REF!"},null,null,null,null,null,null,null,null,null,null,null,null,"（",{"$f":"INDIRECT(O$173&$X541)","v":{"$error":"#REF!"}},"人）","（",{"$f":"INDIRECT(R$173&$X541)","v":{"$error":"#REF!"}},"人）","（",{"$f":"INDIRECT(U$173&$X541)","v":{"$error":"#REF!"}},"人）",{"$error":"#REF!"},126,{"$f":"COUNTIF($W$181:W541,W541)","v":360}]
[{"$error":"#REF!"},null,{"$f":"INDIRECT(C$171&$X542)","v":{"$error":"#REF!"}},null,null,null,null,null,null,null,null,null,{"$f":"INDIRECT(M$171&$X542)","v":{"$error":"#REF!"}},{"$f":"INDIRECT(N$171&$X542)","v":{"$error":"#REF!"}},null,null,{"$f":"INDIRECT(Q$171&$X542)","v":{"$error":"#REF!"}},null,"円",{"$f":"INDIRECT(T$171&$X542)","v":{"$error":"#REF!"}},null,"円",{"$error":"#REF!"},{"$f":"X541+1","v":127},{"$f":"COUNTIF($W$181:W542,W542)","v":361}]
[{"$error":"#REF!"},null,"➊➋➌それぞれの賃金改善額（見込額）",null,null,null,null,null,null,null,null,null,null,"➊",{"$f":"INDIRECT(O$172&$X543)","v":{"$error":"#REF!"}},"円","➋",{"$f":"INDIRECT(R$172&$X543)","v":{"$error":"#REF!"}},"円","➌",{"$f":"INDIRECT(U$172&$X543)","v":{"$error":"#REF!"}},"円",{"$error":"#REF!"},{"$f":"X542","v":127},{"$f":"COUNTIF($W$181:W543,W543)","v":362}]
[{"$error":"#REF!"},null,null,null,null,null,null,null,null,null,null,null,null,"（",{"$f":"INDIRECT(O$173&$X544)","v":{"$error":"#REF!"}},"人）","（",{"$f":"INDIRECT(R$173&$X544)","v":{"$error":"#REF!"}},"人）","（",{"$f":"INDIRECT(U$173&$X544)","v":{"$error":"#REF!"}},"人）",{"$error":"#REF!"},127,{"$f":"COUNTIF($W$181:W544,W544)","v":363}]
[{"$error":"#REF!"},null,{"$f":"INDIRECT(C$171&$X545)","v":{"$error":"#REF!"}},null,null,null,null,null,null,null,null,null,{"$f":"INDIRECT(M$171&$X545)","v":{"$error":"#REF!"}},{"$f":"INDIRECT(N$171&$X545)","v":{"$error":"#REF!"}},null,null,{"$f":"INDIRECT(Q$171&$X545)","v":{"$error":"#REF!"}},null,"円",{"$f":"INDIRECT(T$171&$X545)","v":{"$error":"#REF!"}},null,"円",{"$error":"#REF!"},{"$f":"X544+1","v":128},{"$f":"COUNTIF($W$181:W545,W545)","v":364}]
[{"$error":"#REF!"},null,"➊➋➌それぞれの賃金改善額（見込額）",null,null,null,null,null,null,null,null,null,null,"➊",{"$f":"INDIRECT(O$172&$X546)","v":{"$error":"#REF!"}},"円","➋",{"$f":"INDIRECT(R$172&$X546)","v":{"$error":"#REF!"}},"円","➌",{"$f":"INDIRECT(U$172&$X546)","v":{"$error":"#REF!"}},"円",{"$error":"#REF!"},{"$f":"X545","v":128},{"$f":"COUNTIF($W$181:W546,W546)","v":365}]
[{"$error":"#REF!"},null,null,null,null,null,null,null,null,null,null,null,null,"（",{"$f":"INDIRECT(O$173&$X547)","v":{"$error":"#REF!"}},"人）","（",{"$f":"INDIRECT(R$173&$X547)","v":{"$error":"#REF!"}},"人）","（",{"$f":"INDIRECT(U$173&$X547)","v":{"$error":"#REF!"}},"人）",{"$error":"#REF!"},128,{"$f":"COUNTIF($W$181:W547,W547)","v":366}]
[{"$error":"#REF!"},null,{"$f":"INDIRECT(C$171&$X548)","v":{"$error":"#REF!"}},null,null,null,null,null,null,null,null,null,{"$f":"INDIRECT(M$171&$X548)","v":{"$error":"#REF!"}},{"$f":"INDIRECT(N$171&$X548)","v":{"$error":"#REF!"}},null,null,{"$f":"INDIRECT(Q$171&$X548)","v":{"$error":"#REF!"}},null,"円",{"$f":"INDIRECT(T$171&$X548)","v":{"$error":"#REF!"}},null,"円",{"$error":"#REF!"},{"$f":"X547+1","v":129},{"$f":"COUNTIF($W$181:W548,W548)","v":367}]
[{"$error":"#REF!"},null,"➊➋➌それぞれの賃金改善額（見込額）",null,null,null,null,null,null,null,null,null,null,"➊",{"$f":"INDIRECT(O$172&$X549)","v":{"$error":"#REF!"}},"円","➋",{"$f":"INDIRECT(R$172&$X549)","v":{"$error":"#REF!"}},"円","➌",{"$f":"INDIRECT(U$172&$X549)","v":{"$error":"#REF!"}},"円",{"$error":"#REF!"},{"$f":"X548","v":129},{"$f":"COUNTIF($W$181:W549,W549)","v":368}]
[{"$error":"#REF!"},null,null,null,null,null,null,null,null,null,null,null,null,"（",{"$f":"INDIRECT(O$173&$X550)","v":{"$error":"#REF!"}},"人）","（",{"$f":"INDIRECT(R$173&$X550)","v":{"$error":"#REF!"}},"人）","（",{"$f":"INDIRECT(U$173&$X550)","v":{"$error":"#REF!"}},"人）",{"$error":"#REF!"},129,{"$f":"COUNTIF($W$181:W550,W550)","v":369}]
[{"$error":"#REF!"},null,{"$f":"INDIRECT(C$171&$X551)","v":{"$error":"#REF!"}},null,null,null,null,null,null,null,null,null,{"$f":"INDIRECT(M$171&$X551)","v":{"$error":"#REF!"}},{"$f":"INDIRECT(N$171&$X551)","v":{"$error":"#REF!"}},null,null,{"$f":"INDIRECT(Q$171&$X551)","v":{"$error":"#REF!"}},null,"円",{"$f":"INDIRECT(T$171&$X551)","v":{"$error":"#REF!"}},null,"円",{"$error":"#REF!"},{"$f":"X550+1","v":130},{"$f":"COUNTIF($W$181:W551,W551)","v":370}]
[{"$error":"#REF!"},null,"➊➋➌それぞれの賃金改善額（見込額）",null,null,null,null,null,null,null,null,null,null,"➊",{"$f":"INDIRECT(O$172&$X552)","v":{"$error":"#REF!"}},"円","➋",{"$f":"INDIRECT(R$172&$X552)","v":{"$error":"#REF!"}},"円","➌",{"$f":"INDIRECT(U$172&$X552)","v":{"$error":"#REF!"}},"円",{"$error":"#REF!"},{"$f":"X551","v":130},{"$f":"COUNTIF($W$181:W552,W552)","v":371}]
[{"$error":"#REF!"},null,null,null,null,null,null,null,null,null,null,null,null,"（",{"$f":"INDIRECT(O$173&$X553)","v":{"$error":"#REF!"}},"人）","（",{"$f":"INDIRECT(R$173&$X553)","v":{"$error":"#REF!"}},"人）","（",{"$f":"INDIRECT(U$173&$X553)","v":{"$error":"#REF!"}},"人）",{"$error":"#REF!"},130,{"$f":"COUNTIF($W$181:W553,W553)","v":372}]
[{"$error":"#REF!"},null,{"$f":"INDIRECT(C$171&$X554)","v":{"$error":"#REF!"}},null,null,null,null,null,null,null,null,null,{"$f":"INDIRECT(M$171&$X554)","v":{"$error":"#REF!"}},{"$f":"INDIRECT(N$171&$X554)","v":{"$error":"#REF!"}},null,null,{"$f":"INDIRECT(Q$171&$X554)","v":{"$error":"#REF!"}},null,"円",{"$f":"INDIRECT(T$171&$X554)","v":{"$error":"#REF!"}},null,"円",{"$error":"#REF!"},{"$f":"X553+1","v":131},{"$f":"COUNTIF($W$181:W554,W554)","v":373}]
[{"$error":"#REF!"},null,"➊➋➌それぞれの賃金改善額（見込額）",null,null,null,null,null,null,null,null,null,null,"➊",{"$f":"INDIRECT(O$172&$X555)","v":{"$error":"#REF!"}},"円","➋",{"$f":"INDIRECT(R$172&$X555)","v":{"$error":"#REF!"}},"円","➌",{"$f":"INDIRECT(U$172&$X555)","v":{"$error":"#REF!"}},"円",{"$error":"#REF!"},{"$f":"X554","v":131},{"$f":"COUNTIF($W$181:W555,W555)","v":374}]
[{"$error":"#REF!"},null,null,null,null,null,null,null,null,null,null,null,null,"（",{"$f":"INDIRECT(O$173&$X556)","v":{"$error":"#REF!"}},"人）","（",{"$f":"INDIRECT(R$173&$X556)","v":{"$error":"#REF!"}},"人）","（",{"$f":"INDIRECT(U$173&$X556)","v":{"$error":"#REF!"}},"人）",{"$error":"#REF!"},131,{"$f":"COUNTIF($W$181:W556,W556)","v":375}]
[{"$error":"#REF!"},null,{"$f":"INDIRECT(C$171&$X557)","v":{"$error":"#REF!"}},null,null,null,null,null,null,null,null,null,{"$f":"INDIRECT(M$171&$X557)","v":{"$error":"#REF!"}},{"$f":"INDIRECT(N$171&$X557)","v":{"$error":"#REF!"}},null,null,{"$f":"INDIRECT(Q$171&$X557)","v":{"$error":"#REF!"}},null,"円",{"$f":"INDIRECT(T$171&$X557)","v":{"$error":"#REF!"}},null,"円",{"$error":"#REF!"},{"$f":"X556+1","v":132},{"$f":"COUNTIF($W$181:W557,W557)","v":376}]
[{"$error":"#REF!"},null,"➊➋➌それぞれの賃金改善額（見込額）",null,null,null,null,null,null,null,null,null,null,"➊",{"$f":"INDIRECT(O$172&$X558)","v":{"$error":"#REF!"}},"円","➋",{"$f":"INDIRECT(R$172&$X558)","v":{"$error":"#REF!"}},"円","➌",{"$f":"INDIRECT(U$172&$X558)","v":{"$error":"#REF!"}},"円",{"$error":"#REF!"},{"$f":"X557","v":132},{"$f":"COUNTIF($W$181:W558,W558)","v":377}]
[{"$error":"#REF!"},null,null,null,null,null,null,null,null,null,null,null,null,"（",{"$f":"INDIRECT(O$173&$X559)","v":{"$error":"#REF!"}},"人）","（",{"$f":"INDIRECT(R$173&$X559)","v":{"$error":"#REF!"}},"人）","（",{"$f":"INDIRECT(U$173&$X559)","v":{"$error":"#REF!"}},"人）",{"$error":"#REF!"},132,{"$f":"COUNTIF($W$181:W559,W559)","v":378}]
[{"$error":"#REF!"},null,{"$f":"INDIRECT(C$171&$X560)","v":{"$error":"#REF!"}},null,null,null,null,null,null,null,null,null,{"$f":"INDIRECT(M$171&$X560)","v":{"$error":"#REF!"}},{"$f":"INDIRECT(N$171&$X560)","v":{"$error":"#REF!"}},null,null,{"$f":"INDIRECT(Q$171&$X560)","v":{"$error":"#REF!"}},null,"円",{"$f":"INDIRECT(T$171&$X560)","v":{"$error":"#REF!"}},null,"円",{"$error":"#REF!"},{"$f":"X559+1","v":133},{"$f":"COUNTIF($W$181:W560,W560)","v":379}]
[{"$error":"#REF!"},null,"➊➋➌それぞれの賃金改善額（見込額）",null,null,null,null,null,null,null,null,null,null,"➊",{"$f":"INDIRECT(O$172&$X561)","v":{"$error":"#REF!"}},"円","➋",{"$f":"INDIRECT(R$172&$X561)","v":{"$error":"#REF!"}},"円","➌",{"$f":"INDIRECT(U$172&$X561)","v":{"$error":"#REF!"}},"円",{"$error":"#REF!"},{"$f":"X560","v":133},{"$f":"COUNTIF($W$181:W561,W561)","v":380}]
[{"$error":"#REF!"},null,null,null,null,null,null,null,null,null,null,null,null,"（",{"$f":"INDIRECT(O$173&$X562)","v":{"$error":"#REF!"}},"人）","（",{"$f":"INDIRECT(R$173&$X562)","v":{"$error":"#REF!"}},"人）","（",{"$f":"INDIRECT(U$173&$X562)","v":{"$error":"#REF!"}},"人）",{"$error":"#REF!"},133,{"$f":"COUNTIF($W$181:W562,W562)","v":381}]
[{"$error":"#REF!"},null,{"$f":"INDIRECT(C$171&$X563)","v":{"$error":"#REF!"}},null,null,null,null,null,null,null,null,null,{"$f":"INDIRECT(M$171&$X563)","v":{"$error":"#REF!"}},{"$f":"INDIRECT(N$171&$X563)","v":{"$error":"#REF!"}},null,null,{"$f":"INDIRECT(Q$171&$X563)","v":{"$error":"#REF!"}},null,"円",{"$f":"INDIRECT(T$171&$X563)","v":{"$error":"#REF!"}},null,"円",{"$error":"#REF!"},{"$f":"X562+1","v":134},{"$f":"COUNTIF($W$181:W563,W563)","v":382}]
[{"$error":"#REF!"},null,"➊➋➌それぞれの賃金改善額（見込額）",null,null,null,null,null,null,null,null,null,null,"➊",{"$f":"INDIRECT(O$172&$X564)","v":{"$error":"#REF!"}},"円","➋",{"$f":"INDIRECT(R$172&$X564)","v":{"$error":"#REF!"}},"円","➌",{"$f":"INDIRECT(U$172&$X564)","v":{"$error":"#REF!"}},"円",{"$error":"#REF!"},{"$f":"X563","v":134},{"$f":"COUNTIF($W$181:W564,W564)","v":383}]
[{"$error":"#REF!"},null,null,null,null,null,null,null,null,null,null,null,null,"（",{"$f":"INDIRECT(O$173&$X565)","v":{"$error":"#REF!"}},"人）","（",{"$f":"INDIRECT(R$173&$X565)","v":{"$error":"#REF!"}},"人）","（",{"$f":"INDIRECT(U$173&$X565)","v":{"$error":"#REF!"}},"人）",{"$error":"#REF!"},134,{"$f":"COUNTIF($W$181:W565,W565)","v":384}]
[{"$error":"#REF!"},null,{"$f":"INDIRECT(C$171&$X566)","v":{"$error":"#REF!"}},null,null,null,null,null,null,null,null,null,{"$f":"INDIRECT(M$171&$X566)","v":{"$error":"#REF!"}},{"$f":"INDIRECT(N$171&$X566)","v":{"$error":"#REF!"}},null,null,{"$f":"INDIRECT(Q$171&$X566)","v":{"$error":"#REF!"}},null,"円",{"$f":"INDIRECT(T$171&$X566)","v":{"$error":"#REF!"}},null,"円",{"$error":"#REF!"},{"$f":"X565+1","v":135},{"$f":"COUNTIF($W$181:W566,W566)","v":385}]
[{"$error":"#REF!"},null,"➊➋➌それぞれの賃金改善額（見込額）",null,null,null,null,null,null,null,null,null,null,"➊",{"$f":"INDIRECT(O$172&$X567)","v":{"$error":"#REF!"}},"円","➋",{"$f":"INDIRECT(R$172&$X567)","v":{"$error":"#REF!"}},"円","➌",{"$f":"INDIRECT(U$172&$X567)","v":{"$error":"#REF!"}},"円",{"$f":"INDIRECT($W$171&X567)","v":{"$error":"#REF!"}},{"$f":"X566","v":135},{"$f":"COUNTIF($W$181:W567,W567)","v":386}]
[{"$error":"#REF!"},null,null,null,null,null,null,null,null,null,null,null,null,"（",{"$f":"INDIRECT(O$173&$X568)","v":{"$error":"#REF!"}},"人）","（",{"$f":"INDIRECT(R$173&$X568)","v":{"$error":"#REF!"}},"人）","（",{"$f":"INDIRECT(U$173&$X568)","v":{"$error":"#REF!"}},"人）",{"$error":"#REF!"},135,{"$f":"COUNTIF($W$181:W568,W568)","v":387}]
[{"$error":"#REF!"},null,{"$f":"INDIRECT(C$171&$X569)","v":{"$error":"#REF!"}},null,null,null,null,null,null,null,null,null,{"$f":"INDIRECT(M$171&$X569)","v":{"$error":"#REF!"}},{"$f":"INDIRECT(N$171&$X569)","v":{"$error":"#REF!"}},null,null,{"$f":"INDIRECT(Q$171&$X569)","v":{"$error":"#REF!"}},null,"円",{"$f":"INDIRECT(T$171&$X569)","v":{"$error":"#REF!"}},null,"円",{"$error":"#REF!"},{"$f":"X568+1","v":136},{"$f":"COUNTIF($W$181:W569,W569)","v":388}]
[{"$error":"#REF!"},null,"➊➋➌それぞれの賃金改善額（見込額）",null,null,null,null,null,null,null,null,null,null,"➊",{"$f":"INDIRECT(O$172&$X570)","v":{"$error":"#REF!"}},"円","➋",{"$f":"INDIRECT(R$172&$X570)","v":{"$error":"#REF!"}},"円","➌",{"$f":"INDIRECT(U$172&$X570)","v":{"$error":"#REF!"}},"円",{"$error":"#REF!"},{"$f":"X569","v":136},{"$f":"COUNTIF($W$181:W570,W570)","v":389}]
[{"$error":"#REF!"},null,null,null,null,null,null,null,null,null,null,null,null,"（",{"$f":"INDIRECT(O$173&$X571)","v":{"$error":"#REF!"}},"人）","（",{"$f":"INDIRECT(R$173&$X571)","v":{"$error":"#REF!"}},"人）","（",{"$f":"INDIRECT(U$173&$X571)","v":{"$error":"#REF!"}},"人）",{"$error":"#REF!"},136,{"$f":"COUNTIF($W$181:W571,W571)","v":390}]
[{"$error":"#REF!"},null,{"$f":"INDIRECT(C$171&$X572)","v":{"$error":"#REF!"}},null,null,null,null,null,null,null,null,null,{"$f":"INDIRECT(M$171&$X572)","v":{"$error":"#REF!"}},{"$f":"INDIRECT(N$171&$X572)","v":{"$error":"#REF!"}},null,null,{"$f":"INDIRECT(Q$171&$X572)","v":{"$error":"#REF!"}},null,"円",{"$f":"INDIRECT(T$171&$X572)","v":{"$error":"#REF!"}},null,"円",{"$error":"#REF!"},{"$f":"X571+1","v":137},{"$f":"COUNTIF($W$181:W572,W572)","v":391}]
[{"$error":"#REF!"},null,"➊➋➌それぞれの賃金改善額（見込額）",null,null,null,null,null,null,null,null,null,null,"➊",{"$f":"INDIRECT(O$172&$X573)","v":{"$error":"#REF!"}},"円","➋",{"$f":"INDIRECT(R$172&$X573)","v":{"$error":"#REF!"}},"円","➌",{"$f":"INDIRECT(U$172&$X573)","v":{"$error":"#REF!"}},"円",{"$error":"#REF!"},{"$f":"X572","v":137},{"$f":"COUNTIF($W$181:W573,W573)","v":392}]
[{"$error":"#REF!"},null,null,null,null,null,null,null,null,null,null,null,null,"（",{"$f":"INDIRECT(O$173&$X574)","v":{"$error":"#REF!"}},"人）","（",{"$f":"INDIRECT(R$173&$X574)","v":{"$error":"#REF!"}},"人）","（",{"$f":"INDIRECT(U$173&$X574)","v":{"$error":"#REF!"}},"人）",{"$error":"#REF!"},137,{"$f":"COUNTIF($W$181:W574,W574)","v":393}]
[{"$error":"#REF!"},null,{"$f":"INDIRECT(C$171&$X575)","v":{"$error":"#REF!"}},null,null,null,null,null,null,null,null,null,{"$f":"INDIRECT(M$171&$X575)","v":{"$error":"#REF!"}},{"$f":"INDIRECT(N$171&$X575)","v":{"$error":"#REF!"}},null,null,{"$f":"INDIRECT(Q$171&$X575)","v":{"$error":"#REF!"}},null,"円",{"$f":"INDIRECT(T$171&$X575)","v":{"$error":"#REF!"}},null,"円",{"$error":"#REF!"},{"$f":"X574+1","v":138},{"$f":"COUNTIF($W$181:W575,W575)","v":394}]
[{"$error":"#REF!"},null,"➊➋➌それぞれの賃金改善額（見込額）",null,null,null,null,null,null,null,null,null,null,"➊",{"$f":"INDIRECT(O$172&$X576)","v":{"$error":"#REF!"}},"円","➋",{"$f":"INDIRECT(R$172&$X576)","v":{"$error":"#REF!"}},"円","➌",{"$f":"INDIRECT(U$172&$X576)","v":{"$error":"#REF!"}},"円",{"$error":"#REF!"},{"$f":"X575","v":138},{"$f":"COUNTIF($W$181:W576,W576)","v":395}]
[{"$error":"#REF!"},null,null,null,null,null,null,null,null,null,null,null,null,"（",{"$f":"INDIRECT(O$173&$X577)","v":{"$error":"#REF!"}},"人）","（",{"$f":"INDIRECT(R$173&$X577)","v":{"$error":"#REF!"}},"人）","（",{"$f":"INDIRECT(U$173&$X577)","v":{"$error":"#REF!"}},"人）",{"$error":"#REF!"},138,{"$f":"COUNTIF($W$181:W577,W577)","v":396}]
[{"$error":"#REF!"},null,{"$f":"INDIRECT(C$171&$X578)","v":{"$error":"#REF!"}},null,null,null,null,null,null,null,null,null,{"$f":"INDIRECT(M$171&$X578)","v":{"$error":"#REF!"}},{"$f":"INDIRECT(N$171&$X578)","v":{"$error":"#REF!"}},null,null,{"$f":"INDIRECT(Q$171&$X578)","v":{"$error":"#REF!"}},null,"円",{"$f":"INDIRECT(T$171&$X578)","v":{"$error":"#REF!"}},null,"円",{"$error":"#REF!"},{"$f":"X577+1","v":139},{"$f":"COUNTIF($W$181:W578,W578)","v":397}]
[{"$error":"#REF!"},null,"➊➋➌それぞれの賃金改善額（見込額）",null,null,null,null,null,null,null,null,null,null,"➊",{"$f":"INDIRECT(O$172&$X579)","v":{"$error":"#REF!"}},"円","➋",{"$f":"INDIRECT(R$172&$X579)","v":{"$error":"#REF!"}},"円","➌",{"$f":"INDIRECT(U$172&$X579)","v":{"$error":"#REF!"}},"円",{"$error":"#REF!"},{"$f":"X578","v":139},{"$f":"COUNTIF($W$181:W579,W579)","v":398}]
[{"$error":"#REF!"},null,null,null,null,null,null,null,null,null,null,null,null,"（",{"$f":"INDIRECT(O$173&$X580)","v":{"$error":"#REF!"}},"人）","（",{"$f":"INDIRECT(R$173&$X580)","v":{"$error":"#REF!"}},"人）","（",{"$f":"INDIRECT(U$173&$X580)","v":{"$error":"#REF!"}},"人）",{"$error":"#REF!"},139,{"$f":"COUNTIF($W$181:W580,W580)","v":399}]
[{"$error":"#REF!"},null,{"$f":"INDIRECT(C$171&$X581)","v":{"$error":"#REF!"}},null,null,null,null,null,null,null,null,null,{"$f":"INDIRECT(M$171&$X581)","v":{"$error":"#REF!"}},{"$f":"INDIRECT(N$171&$X581)","v":{"$error":"#REF!"}},null,null,{"$f":"INDIRECT(Q$171&$X581)","v":{"$error":"#REF!"}},null,"円",{"$f":"INDIRECT(T$171&$X581)","v":{"$error":"#REF!"}},null,"円",{"$error":"#REF!"},{"$f":"X580+1","v":140},{"$f":"COUNTIF($W$181:W581,W581)","v":400}]
[{"$error":"#REF!"},null,"➊➋➌それぞれの賃金改善額（見込額）",null,null,null,null,null,null,null,null,null,null,"➊",{"$f":"INDIRECT(O$172&$X582)","v":{"$error":"#REF!"}},"円","➋",{"$f":"INDIRECT(R$172&$X582)","v":{"$error":"#REF!"}},"円","➌",{"$f":"INDIRECT(U$172&$X582)","v":{"$error":"#REF!"}},"円",{"$error":"#REF!"},{"$f":"X581","v":140},{"$f":"COUNTIF($W$181:W582,W582)","v":401}]
[{"$error":"#REF!"},null,null,null,null,null,null,null,null,null,null,null,null,"（",{"$f":"INDIRECT(O$173&$X583)","v":{"$error":"#REF!"}},"人）","（",{"$f":"INDIRECT(R$173&$X583)","v":{"$error":"#REF!"}},"人）","（",{"$f":"INDIRECT(U$173&$X583)","v":{"$error":"#REF!"}},"人）",{"$error":"#REF!"},140,{"$f":"COUNTIF($W$181:W583,W583)","v":402}]
[{"$error":"#REF!"},null,{"$f":"INDIRECT(C$171&$X584)","v":{"$error":"#REF!"}},null,null,null,null,null,null,null,null,null,{"$f":"INDIRECT(M$171&$X584)","v":{"$error":"#REF!"}},{"$f":"INDIRECT(N$171&$X584)","v":{"$error":"#REF!"}},null,null,{"$f":"INDIRECT(Q$171&$X584)","v":{"$error":"#REF!"}},null,"円",{"$f":"INDIRECT(T$171&$X584)","v":{"$error":"#REF!"}},null,"円",{"$error":"#REF!"},{"$f":"X583+1","v":141},{"$f":"COUNTIF($W$181:W584,W584)","v":403}]
[{"$error":"#REF!"},null,"➊➋➌それぞれの賃金改善額（見込額）",null,null,null,null,null,null,null,null,null,null,"➊",{"$f":"INDIRECT(O$172&$X585)","v":{"$error":"#REF!"}},"円","➋",{"$f":"INDIRECT(R$172&$X585)","v":{"$error":"#REF!"}},"円","➌",{"$f":"INDIRECT(U$172&$X585)","v":{"$error":"#REF!"}},"円",{"$error":"#REF!"},{"$f":"X584","v":141},{"$f":"COUNTIF($W$181:W585,W585)","v":404}]
[{"$error":"#REF!"},null,null,null,null,null,null,null,null,null,null,null,null,"（",{"$f":"INDIRECT(O$173&$X586)","v":{"$error":"#REF!"}},"人）","（",{"$f":"INDIRECT(R$173&$X586)","v":{"$error":"#REF!"}},"人）","（",{"$f":"INDIRECT(U$173&$X586)","v":{"$error":"#REF!"}},"人）",{"$error":"#REF!"},141,{"$f":"COUNTIF($W$181:W586,W586)","v":405}]
[{"$error":"#REF!"},null,{"$f":"INDIRECT(C$171&$X587)","v":{"$error":"#REF!"}},null,null,null,null,null,null,null,null,null,{"$f":"INDIRECT(M$171&$X587)","v":{"$error":"#REF!"}},{"$f":"INDIRECT(N$171&$X587)","v":{"$error":"#REF!"}},null,null,{"$f":"INDIRECT(Q$171&$X587)","v":{"$error":"#REF!"}},null,"円",{"$f":"INDIRECT(T$171&$X587)","v":{"$error":"#REF!"}},null,"円",{"$error":"#REF!"},{"$f":"X586+1","v":142},{"$f":"COUNTIF($W$181:W587,W587)","v":406}]
[{"$error":"#REF!"},null,"➊➋➌それぞれの賃金改善額（見込額）",null,null,null,null,null,null,null,null,null,null,"➊",{"$f":"INDIRECT(O$172&$X588)","v":{"$error":"#REF!"}},"円","➋",{"$f":"INDIRECT(R$172&$X588)","v":{"$error":"#REF!"}},"円","➌",{"$f":"INDIRECT(U$172&$X588)","v":{"$error":"#REF!"}},"円",{"$error":"#REF!"},{"$f":"X587","v":142},{"$f":"COUNTIF($W$181:W588,W588)","v":407}]
[{"$error":"#REF!"},null,null,null,null,null,null,null,null,null,null,null,null,"（",{"$f":"INDIRECT(O$173&$X589)","v":{"$error":"#REF!"}},"人）","（",{"$f":"INDIRECT(R$173&$X589)","v":{"$error":"#REF!"}},"人）","（",{"$f":"INDIRECT(U$173&$X589)","v":{"$error":"#REF!"}},"人）",{"$error":"#REF!"},142,{"$f":"COUNTIF($W$181:W589,W589)","v":408}]
[{"$error":"#REF!"},null,{"$f":"INDIRECT(C$171&$X590)","v":{"$error":"#REF!"}},null,null,null,null,null,null,null,null,null,{"$f":"INDIRECT(M$171&$X590)","v":{"$error":"#REF!"}},{"$f":"INDIRECT(N$171&$X590)","v":{"$error":"#REF!"}},null,null,{"$f":"INDIRECT(Q$171&$X590)","v":{"$error":"#REF!"}},null,"円",{"$f":"INDIRECT(T$171&$X590)","v":{"$error":"#REF!"}},null,"円",{"$error":"#REF!"},{"$f":"X589+1","v":143},{"$f":"COUNTIF($W$181:W590,W590)","v":409}]
[{"$error":"#REF!"},null,"➊➋➌それぞれの賃金改善額（見込額）",null,null,null,null,null,null,null,null,null,null,"➊",{"$f":"INDIRECT(O$172&$X591)","v":{"$error":"#REF!"}},"円","➋",{"$f":"INDIRECT(R$172&$X591)","v":{"$error":"#REF!"}},"円","➌",{"$f":"INDIRECT(U$172&$X591)","v":{"$error":"#REF!"}},"円",{"$error":"#REF!"},{"$f":"X590","v":143},{"$f":"COUNTIF($W$181:W591,W591)","v":410}]
[{"$error":"#REF!"},null,null,null,null,null,null,null,null,null,null,null,null,"（",{"$f":"INDIRECT(O$173&$X592)","v":{"$error":"#REF!"}},"人）","（",{"$f":"INDIRECT(R$173&$X592)","v":{"$error":"#REF!"}},"人）","（",{"$f":"INDIRECT(U$173&$X592)","v":{"$error":"#REF!"}},"人）",{"$error":"#REF!"},143,{"$f":"COUNTIF($W$181:W592,W592)","v":411}]
[{"$error":"#REF!"},null,{"$f":"INDIRECT(C$171&$X593)","v":{"$error":"#REF!"}},null,null,null,null,null,null,null,null,null,{"$f":"INDIRECT(M$171&$X593)","v":{"$error":"#REF!"}},{"$f":"INDIRECT(N$171&$X593)","v":{"$error":"#REF!"}},null,null,{"$f":"INDIRECT(Q$171&$X593)","v":{"$error":"#REF!"}},null,"円",{"$f":"INDIRECT(T$171&$X593)","v":{"$error":"#REF!"}},null,"円",{"$error":"#REF!"},{"$f":"X592+1","v":144},{"$f":"COUNTIF($W$181:W593,W593)","v":412}]
[{"$error":"#REF!"},null,"➊➋➌それぞれの賃金改善額（見込額）",null,null,null,null,null,null,null,null,null,null,"➊",{"$f":"INDIRECT(O$172&$X594)","v":{"$error":"#REF!"}},"円","➋",{"$f":"INDIRECT(R$172&$X594)","v":{"$error":"#REF!"}},"円","➌",{"$f":"INDIRECT(U$172&$X594)","v":{"$error":"#REF!"}},"円",{"$error":"#REF!"},{"$f":"X593","v":144},{"$f":"COUNTIF($W$181:W594,W594)","v":413}]
[{"$error":"#REF!"},null,null,null,null,null,null,null,null,null,null,null,null,"（",{"$f":"INDIRECT(O$173&$X595)","v":{"$error":"#REF!"}},"人）","（",{"$f":"INDIRECT(R$173&$X595)","v":{"$error":"#REF!"}},"人）","（",{"$f":"INDIRECT(U$173&$X595)","v":{"$error":"#REF!"}},"人）",{"$error":"#REF!"},144,{"$f":"COUNTIF($W$181:W595,W595)","v":414}]
[{"$error":"#REF!"},null,{"$f":"INDIRECT(C$171&$X596)","v":{"$error":"#REF!"}},null,null,null,null,null,null,null,null,null,{"$f":"INDIRECT(M$171&$X596)","v":{"$error":"#REF!"}},{"$f":"INDIRECT(N$171&$X596)","v":{"$error":"#REF!"}},null,null,{"$f":"INDIRECT(Q$171&$X596)","v":{"$error":"#REF!"}},null,"円",{"$f":"INDIRECT(T$171&$X596)","v":{"$error":"#REF!"}},null,"円",{"$error":"#REF!"},{"$f":"X595+1","v":145},{"$f":"COUNTIF($W$181:W596,W596)","v":415}]
[{"$error":"#REF!"},null,"➊➋➌それぞれの賃金改善額（見込額）",null,null,null,null,null,null,null,null,null,null,"➊",{"$f":"INDIRECT(O$172&$X597)","v":{"$error":"#REF!"}},"円","➋",{"$f":"INDIRECT(R$172&$X597)","v":{"$error":"#REF!"}},"円","➌",{"$f":"INDIRECT(U$172&$X597)","v":{"$error":"#REF!"}},"円",{"$error":"#REF!"},{"$f":"X596","v":145},{"$f":"COUNTIF($W$181:W597,W597)","v":416}]
[{"$error":"#REF!"},null,null,null,null,null,null,null,null,null,null,null,null,"（",{"$f":"INDIRECT(O$173&$X598)","v":{"$error":"#REF!"}},"人）","（",{"$f":"INDIRECT(R$173&$X598)","v":{"$error":"#REF!"}},"人）","（",{"$f":"INDIRECT(U$173&$X598)","v":{"$error":"#REF!"}},"人）",{"$error":"#REF!"},145,{"$f":"COUNTIF($W$181:W598,W598)","v":417}]
[{"$error":"#REF!"},null,{"$f":"INDIRECT(C$171&$X599)","v":{"$error":"#REF!"}},null,null,null,null,null,null,null,null,null,{"$f":"INDIRECT(M$171&$X599)","v":{"$error":"#REF!"}},{"$f":"INDIRECT(N$171&$X599)","v":{"$error":"#REF!"}},null,null,{"$f":"INDIRECT(Q$171&$X599)","v":{"$error":"#REF!"}},null,"円",{"$f":"INDIRECT(T$171&$X599)","v":{"$error":"#REF!"}},null,"円",{"$error":"#REF!"},{"$f":"X598+1","v":146},{"$f":"COUNTIF($W$181:W599,W599)","v":418}]
[{"$error":"#REF!"},null,"➊➋➌それぞれの賃金改善額（見込額）",null,null,null,null,null,null,null,null,null,null,"➊",{"$f":"INDIRECT(O$172&$X600)","v":{"$error":"#REF!"}},"円","➋",{"$f":"INDIRECT(R$172&$X600)","v":{"$error":"#REF!"}},"円","➌",{"$f":"INDIRECT(U$172&$X600)","v":{"$error":"#REF!"}},"円",{"$error":"#REF!"},{"$f":"X599","v":146},{"$f":"COUNTIF($W$181:W600,W600)","v":419}]
[{"$error":"#REF!"},null,null,null,null,null,null,null,null,null,null,null,null,"（",{"$f":"INDIRECT(O$173&$X601)","v":{"$error":"#REF!"}},"人）","（",{"$f":"INDIRECT(R$173&$X601)","v":{"$error":"#REF!"}},"人）","（",{"$f":"INDIRECT(U$173&$X601)","v":{"$error":"#REF!"}},"人）",{"$error":"#REF!"},146,{"$f":"COUNTIF($W$181:W601,W601)","v":420}]
[{"$error":"#REF!"},null,{"$f":"INDIRECT(C$171&$X602)","v":{"$error":"#REF!"}},null,null,null,null,null,null,null,null,null,{"$f":"INDIRECT(M$171&$X602)","v":{"$error":"#REF!"}},{"$f":"INDIRECT(N$171&$X602)","v":{"$error":"#REF!"}},null,null,{"$f":"INDIRECT(Q$171&$X602)","v":{"$error":"#REF!"}},null,"円",{"$f":"INDIRECT(T$171&$X602)","v":{"$error":"#REF!"}},null,"円",{"$error":"#REF!"},{"$f":"X601+1","v":147},{"$f":"COUNTIF($W$181:W602,W602)","v":421}]
[{"$error":"#REF!"},null,"➊➋➌それぞれの賃金改善額（見込額）",null,null,null,null,null,null,null,null,null,null,"➊",{"$f":"INDIRECT(O$172&$X603)","v":{"$error":"#REF!"}},"円","➋",{"$f":"INDIRECT(R$172&$X603)","v":{"$error":"#REF!"}},"円","➌",{"$f":"INDIRECT(U$172&$X603)","v":{"$error":"#REF!"}},"円",{"$error":"#REF!"},{"$f":"X602","v":147},{"$f":"COUNTIF($W$181:W603,W603)","v":422}]
[{"$error":"#REF!"},null,null,null,null,null,null,null,null,null,null,null,null,"（",{"$f":"INDIRECT(O$173&$X604)","v":{"$error":"#REF!"}},"人）","（",{"$f":"INDIRECT(R$173&$X604)","v":{"$error":"#REF!"}},"人）","（",{"$f":"INDIRECT(U$173&$X604)","v":{"$error":"#REF!"}},"人）",{"$error":"#REF!"},147,{"$f":"COUNTIF($W$181:W604,W604)","v":423}]
[{"$error":"#REF!"},null,{"$f":"INDIRECT(C$171&$X605)","v":{"$error":"#REF!"}},null,null,null,null,null,null,null,null,null,{"$f":"INDIRECT(M$171&$X605)","v":{"$error":"#REF!"}},{"$f":"INDIRECT(N$171&$X605)","v":{"$error":"#REF!"}},null,null,{"$f":"INDIRECT(Q$171&$X605)","v":{"$error":"#REF!"}},null,"円",{"$f":"INDIRECT(T$171&$X605)","v":{"$error":"#REF!"}},null,"円",{"$error":"#REF!"},{"$f":"X604+1","v":148},{"$f":"COUNTIF($W$181:W605,W605)","v":424}]
[{"$error":"#REF!"},null,"➊➋➌それぞれの賃金改善額（見込額）",null,null,null,null,null,null,null,null,null,null,"➊",{"$f":"INDIRECT(O$172&$X606)","v":{"$error":"#REF!"}},"円","➋",{"$f":"INDIRECT(R$172&$X606)","v":{"$error":"#REF!"}},"円","➌",{"$f":"INDIRECT(U$172&$X606)","v":{"$error":"#REF!"}},"円",{"$error":"#REF!"},{"$f":"X605","v":148},{"$f":"COUNTIF($W$181:W606,W606)","v":425}]
[{"$error":"#REF!"},null,null,null,null,null,null,null,null,null,null,null,null,"（",{"$f":"INDIRECT(O$173&$X607)","v":{"$error":"#REF!"}},"人）","（",{"$f":"INDIRECT(R$173&$X607)","v":{"$error":"#REF!"}},"人）","（",{"$f":"INDIRECT(U$173&$X607)","v":{"$error":"#REF!"}},"人）",{"$error":"#REF!"},148,{"$f":"COUNTIF($W$181:W607,W607)","v":426}]
[{"$error":"#REF!"},null,{"$f":"INDIRECT(C$171&$X608)","v":{"$error":"#REF!"}},null,null,null,null,null,null,null,null,null,{"$f":"INDIRECT(M$171&$X608)","v":{"$error":"#REF!"}},{"$f":"INDIRECT(N$171&$X608)","v":{"$error":"#REF!"}},null,null,{"$f":"INDIRECT(Q$171&$X608)","v":{"$error":"#REF!"}},null,"円",{"$f":"INDIRECT(T$171&$X608)","v":{"$error":"#REF!"}},null,"円",{"$error":"#REF!"},{"$f":"X607+1","v":149},{"$f":"COUNTIF($W$181:W608,W608)","v":427}]
[{"$error":"#REF!"},null,"➊➋➌それぞれの賃金改善額（見込額）",null,null,null,null,null,null,null,null,null,null,"➊",{"$f":"INDIRECT(O$172&$X609)","v":{"$error":"#REF!"}},"円","➋",{"$f":"INDIRECT(R$172&$X609)","v":{"$error":"#REF!"}},"円","➌",{"$f":"INDIRECT(U$172&$X609)","v":{"$error":"#REF!"}},"円",{"$error":"#REF!"},{"$f":"X608","v":149},{"$f":"COUNTIF($W$181:W609,W609)","v":428}]
[{"$error":"#REF!"},null,null,null,null,null,null,null,null,null,null,null,null,"（",{"$f":"INDIRECT(O$173&$X610)","v":{"$error":"#REF!"}},"人）","（",{"$f":"INDIRECT(R$173&$X610)","v":{"$error":"#REF!"}},"人）","（",{"$f":"INDIRECT(U$173&$X610)","v":{"$error":"#REF!"}},"人）",{"$error":"#REF!"},149,{"$f":"COUNTIF($W$181:W610,W610)","v":429}]
[{"$error":"#REF!"},null,{"$f":"INDIRECT(C$171&$X611)","v":{"$error":"#REF!"}},null,null,null,null,null,null,null,null,null,{"$f":"INDIRECT(M$171&$X611)","v":{"$error":"#REF!"}},{"$f":"INDIRECT(N$171&$X611)","v":{"$error":"#REF!"}},null,null,{"$f":"INDIRECT(Q$171&$X611)","v":{"$error":"#REF!"}},null,"円",{"$f":"INDIRECT(T$171&$X611)","v":{"$error":"#REF!"}},null,"円",{"$error":"#REF!"},{"$f":"X610+1","v":150},{"$f":"COUNTIF($W$181:W611,W611)","v":430}]
[{"$error":"#REF!"},null,"➊➋➌それぞれの賃金改善額（見込額）",null,null,null,null,null,null,null,null,null,null,"➊",{"$f":"INDIRECT(O$172&$X612)","v":{"$error":"#REF!"}},"円","➋",{"$f":"INDIRECT(R$172&$X612)","v":{"$error":"#REF!"}},"円","➌",{"$f":"INDIRECT(U$172&$X612)","v":{"$error":"#REF!"}},"円",{"$error":"#REF!"},{"$f":"X611","v":150},{"$f":"COUNTIF($W$181:W612,W612)","v":431}]
[{"$error":"#REF!"},null,null,null,null,null,null,null,null,null,null,null,null,"（",{"$f":"INDIRECT(O$173&$X613)","v":{"$error":"#REF!"}},"人）","（",{"$f":"INDIRECT(R$173&$X613)","v":{"$error":"#REF!"}},"人）","（",{"$f":"INDIRECT(U$173&$X613)","v":{"$error":"#REF!"}},"人）",{"$error":"#REF!"},150,{"$f":"COUNTIF($W$181:W613,W613)","v":432}]
[{"$error":"#REF!"},null,{"$f":"INDIRECT(C$171&$X614)","v":{"$error":"#REF!"}},null,null,null,null,null,null,null,null,null,{"$f":"INDIRECT(M$171&$X614)","v":{"$error":"#REF!"}},{"$f":"INDIRECT(N$171&$X614)","v":{"$error":"#REF!"}},null,null,{"$f":"INDIRECT(Q$171&$X614)","v":{"$error":"#REF!"}},null,"円",{"$f":"INDIRECT(T$171&$X614)","v":{"$error":"#REF!"}},null,"円",{"$error":"#REF!"},{"$f":"X613+1","v":151},{"$f":"COUNTIF($W$181:W614,W614)","v":433}]
[{"$error":"#REF!"},null,"➊➋➌それぞれの賃金改善額（見込額）",null,null,null,null,null,null,null,null,null,null,"➊",{"$f":"INDIRECT(O$172&$X615)","v":{"$error":"#REF!"}},"円","➋",{"$f":"INDIRECT(R$172&$X615)","v":{"$error":"#REF!"}},"円","➌",{"$f":"INDIRECT(U$172&$X615)","v":{"$error":"#REF!"}},"円",{"$error":"#REF!"},{"$f":"X614","v":151},{"$f":"COUNTIF($W$181:W615,W615)","v":434}]
[{"$error":"#REF!"},null,null,null,null,null,null,null,null,null,null,null,null,"（",{"$f":"INDIRECT(O$173&$X616)","v":{"$error":"#REF!"}},"人）","（",{"$f":"INDIRECT(R$173&$X616)","v":{"$error":"#REF!"}},"人）","（",{"$f":"INDIRECT(U$173&$X616)","v":{"$error":"#REF!"}},"人）",{"$error":"#REF!"},151,{"$f":"COUNTIF($W$181:W616,W616)","v":435}]
[{"$error":"#REF!"},null,{"$f":"INDIRECT(C$171&$X617)","v":{"$error":"#REF!"}},null,null,null,null,null,null,null,null,null,{"$f":"INDIRECT(M$171&$X617)","v":{"$error":"#REF!"}},{"$f":"INDIRECT(N$171&$X617)","v":{"$error":"#REF!"}},null,null,{"$f":"INDIRECT(Q$171&$X617)","v":{"$error":"#REF!"}},null,"円",{"$f":"INDIRECT(T$171&$X617)","v":{"$error":"#REF!"}},null,"円",{"$error":"#REF!"},{"$f":"X616+1","v":152},{"$f":"COUNTIF($W$181:W617,W617)","v":436}]
[{"$error":"#REF!"},null,"➊➋➌それぞれの賃金改善額（見込額）",null,null,null,null,null,null,null,null,null,null,"➊",{"$f":"INDIRECT(O$172&$X618)","v":{"$error":"#REF!"}},"円","➋",{"$f":"INDIRECT(R$172&$X618)","v":{"$error":"#REF!"}},"円","➌",{"$f":"INDIRECT(U$172&$X618)","v":{"$error":"#REF!"}},"円",{"$error":"#REF!"},{"$f":"X617","v":152},{"$f":"COUNTIF($W$181:W618,W618)","v":437}]
[{"$error":"#REF!"},null,null,null,null,null,null,null,null,null,null,null,null,"（",{"$f":"INDIRECT(O$173&$X619)","v":{"$error":"#REF!"}},"人）","（",{"$f":"INDIRECT(R$173&$X619)","v":{"$error":"#REF!"}},"人）","（",{"$f":"INDIRECT(U$173&$X619)","v":{"$error":"#REF!"}},"人）",{"$error":"#REF!"},152,{"$f":"COUNTIF($W$181:W619,W619)","v":438}]
[{"$error":"#REF!"},null,{"$f":"INDIRECT(C$171&$X620)","v":{"$error":"#REF!"}},null,null,null,null,null,null,null,null,null,{"$f":"INDIRECT(M$171&$X620)","v":{"$error":"#REF!"}},{"$f":"INDIRECT(N$171&$X620)","v":{"$error":"#REF!"}},null,null,{"$f":"INDIRECT(Q$171&$X620)","v":{"$error":"#REF!"}},null,"円",{"$f":"INDIRECT(T$171&$X620)","v":{"$error":"#REF!"}},null,"円",{"$error":"#REF!"},{"$f":"X619+1","v":153},{"$f":"COUNTIF($W$181:W620,W620)","v":439}]
[{"$error":"#REF!"},null,"➊➋➌それぞれの賃金改善額（見込額）",null,null,null,null,null,null,null,null,null,null,"➊",{"$f":"INDIRECT(O$172&$X621)","v":{"$error":"#REF!"}},"円","➋",{"$f":"INDIRECT(R$172&$X621)","v":{"$error":"#REF!"}},"円","➌",{"$f":"INDIRECT(U$172&$X621)","v":{"$error":"#REF!"}},"円",{"$error":"#REF!"},{"$f":"X620","v":153},{"$f":"COUNTIF($W$181:W621,W621)","v":440}]
[{"$error":"#REF!"},null,null,null,null,null,null,null,null,null,null,null,null,"（",{"$f":"INDIRECT(O$173&$X622)","v":{"$error":"#REF!"}},"人）","（",{"$f":"INDIRECT(R$173&$X622)","v":{"$error":"#REF!"}},"人）","（",{"$f":"INDIRECT(U$173&$X622)","v":{"$error":"#REF!"}},"人）",{"$error":"#REF!"},153,{"$f":"COUNTIF($W$181:W622,W622)","v":441}]
[{"$error":"#REF!"},null,{"$f":"INDIRECT(C$171&$X623)","v":{"$error":"#REF!"}},null,null,null,null,null,null,null,null,null,{"$f":"INDIRECT(M$171&$X623)","v":{"$error":"#REF!"}},{"$f":"INDIRECT(N$171&$X623)","v":{"$error":"#REF!"}},null,null,{"$f":"INDIRECT(Q$171&$X623)","v":{"$error":"#REF!"}},null,"円",{"$f":"INDIRECT(T$171&$X623)","v":{"$error":"#REF!"}},null,"円",{"$error":"#REF!"},{"$f":"X622+1","v":154},{"$f":"COUNTIF($W$181:W623,W623)","v":442}]
[{"$error":"#REF!"},null,"➊➋➌それぞれの賃金改善額（見込額）",null,null,null,null,null,null,null,null,null,null,"➊",{"$f":"INDIRECT(O$172&$X624)","v":{"$error":"#REF!"}},"円","➋",{"$f":"INDIRECT(R$172&$X624)","v":{"$error":"#REF!"}},"円","➌",{"$f":"INDIRECT(U$172&$X624)","v":{"$error":"#REF!"}},"円",{"$error":"#REF!"},{"$f":"X623","v":154},{"$f":"COUNTIF($W$181:W624,W624)","v":443}]
[{"$error":"#REF!"},null,null,null,null,null,null,null,null,null,null,null,null,"（",{"$f":"INDIRECT(O$173&$X625)","v":{"$error":"#REF!"}},"人）","（",{"$f":"INDIRECT(R$173&$X625)","v":{"$error":"#REF!"}},"人）","（",{"$f":"INDIRECT(U$173&$X625)","v":{"$error":"#REF!"}},"人）",{"$error":"#REF!"},154,{"$f":"COUNTIF($W$181:W625,W625)","v":444}]
[{"$error":"#REF!"},null,{"$f":"INDIRECT(C$171&$X626)","v":{"$error":"#REF!"}},null,null,null,null,null,null,null,null,null,{"$f":"INDIRECT(M$171&$X626)","v":{"$error":"#REF!"}},{"$f":"INDIRECT(N$171&$X626)","v":{"$error":"#REF!"}},null,null,{"$f":"INDIRECT(Q$171&$X626)","v":{"$error":"#REF!"}},null,"円",{"$f":"INDIRECT(T$171&$X626)","v":{"$error":"#REF!"}},null,"円",{"$error":"#REF!"},{"$f":"X625+1","v":155},{"$f":"COUNTIF($W$181:W626,W626)","v":445}]
[{"$error":"#REF!"},null,"➊➋➌それぞれの賃金改善額（見込額）",null,null,null,null,null,null,null,null,null,null,"➊",{"$f":"INDIRECT(O$172&$X627)","v":{"$error":"#REF!"}},"円","➋",{"$f":"INDIRECT(R$172&$X627)","v":{"$error":"#REF!"}},"円","➌",{"$f":"INDIRECT(U$172&$X627)","v":{"$error":"#REF!"}},"円",{"$error":"#REF!"},{"$f":"X626","v":155},{"$f":"COUNTIF($W$181:W627,W627)","v":446}]
[{"$error":"#REF!"},null,null,null,null,null,null,null,null,null,null,null,null,"（",{"$f":"INDIRECT(O$173&$X628)","v":{"$error":"#REF!"}},"人）","（",{"$f":"INDIRECT(R$173&$X628)","v":{"$error":"#REF!"}},"人）","（",{"$f":"INDIRECT(U$173&$X628)","v":{"$error":"#REF!"}},"人）",{"$error":"#REF!"},155,{"$f":"COUNTIF($W$181:W628,W628)","v":447}]
[{"$error":"#REF!"},null,{"$f":"INDIRECT(C$171&$X629)","v":{"$error":"#REF!"}},null,null,null,null,null,null,null,null,null,{"$f":"INDIRECT(M$171&$X629)","v":{"$error":"#REF!"}},{"$f":"INDIRECT(N$171&$X629)","v":{"$error":"#REF!"}},null,null,{"$f":"INDIRECT(Q$171&$X629)","v":{"$error":"#REF!"}},null,"円",{"$f":"INDIRECT(T$171&$X629)","v":{"$error":"#REF!"}},null,"円",{"$error":"#REF!"},{"$f":"X628+1","v":156},{"$f":"COUNTIF($W$181:W629,W629)","v":448}]
[{"$error":"#REF!"},null,"➊➋➌それぞれの賃金改善額（見込額）",null,null,null,null,null,null,null,null,null,null,"➊",{"$f":"INDIRECT(O$172&$X630)","v":{"$error":"#REF!"}},"円","➋",{"$f":"INDIRECT(R$172&$X630)","v":{"$error":"#REF!"}},"円","➌",{"$f":"INDIRECT(U$172&$X630)","v":{"$error":"#REF!"}},"円",{"$error":"#REF!"},{"$f":"X629","v":156},{"$f":"COUNTIF($W$181:W630,W630)","v":449}]
[{"$f":"W631&Y631","v":{"$error":"#REF!"}},null,null,null,null,null,null,null,null,null,null,null,null,"（",{"$f":"INDIRECT(O$173&$X631)","v":{"$error":"#REF!"}},"人）","（",{"$f":"INDIRECT(R$173&$X631)","v":{"$error":"#REF!"}},"人）","（",{"$f":"INDIRECT(U$173&$X631)","v":{"$error":"#REF!"}},"人）",{"$f":"INDIRECT($W$171&X631)","v":{"$error":"#REF!"}},156,{"$f":"COUNTIF($W$181:W631,W631)","v":450}]
[{"$error":"#REF!"},null,{"$f":"INDIRECT(C$171&$X632)","v":{"$error":"#REF!"}},null,null,null,null,null,null,null,null,null,{"$f":"INDIRECT(M$171&$X632)","v":{"$error":"#REF!"}},{"$f":"INDIRECT(N$171&$X632)","v":{"$error":"#REF!"}},null,null,{"$f":"INDIRECT(Q$171&$X632)","v":{"$error":"#REF!"}},null,"円",{"$f":"INDIRECT(T$171&$X632)","v":{"$error":"#REF!"}},null,"円",{"$error":"#REF!"},{"$f":"X631+1","v":157},{"$f":"COUNTIF($W$181:W632,W632)","v":451}]
[{"$error":"#REF!"},null,"➊➋➌それぞれの賃金改善額（見込額）",null,null,null,null,null,null,null,null,null,null,"➊",{"$f":"INDIRECT(O$172&$X633)","v":{"$error":"#REF!"}},"円","➋",{"$f":"INDIRECT(R$172&$X633)","v":{"$error":"#REF!"}},"円","➌",{"$f":"INDIRECT(U$172&$X633)","v":{"$error":"#REF!"}},"円",{"$error":"#REF!"},{"$f":"X632","v":157},{"$f":"COUNTIF($W$181:W633,W633)","v":452}]
[{"$error":"#REF!"},null,null,null,null,null,null,null,null,null,null,null,null,"（",{"$f":"INDIRECT(O$173&$X634)","v":{"$error":"#REF!"}},"人）","（",{"$f":"INDIRECT(R$173&$X634)","v":{"$error":"#REF!"}},"人）","（",{"$f":"INDIRECT(U$173&$X634)","v":{"$error":"#REF!"}},"人）",{"$error":"#REF!"},157,{"$f":"COUNTIF($W$181:W634,W634)","v":453}]
[{"$error":"#REF!"},null,{"$f":"INDIRECT(C$171&$X635)","v":{"$error":"#REF!"}},null,null,null,null,null,null,null,null,null,{"$f":"INDIRECT(M$171&$X635)","v":{"$error":"#REF!"}},{"$f":"INDIRECT(N$171&$X635)","v":{"$error":"#REF!"}},null,null,{"$f":"INDIRECT(Q$171&$X635)","v":{"$error":"#REF!"}},null,"円",{"$f":"INDIRECT(T$171&$X635)","v":{"$error":"#REF!"}},null,"円",{"$error":"#REF!"},{"$f":"X634+1","v":158},{"$f":"COUNTIF($W$181:W635,W635)","v":454}]
[{"$error":"#REF!"},null,"➊➋➌それぞれの賃金改善額（見込額）",null,null,null,null,null,null,null,null,null,null,"➊",{"$f":"INDIRECT(O$172&$X636)","v":{"$error":"#REF!"}},"円","➋",{"$f":"INDIRECT(R$172&$X636)","v":{"$error":"#REF!"}},"円","➌",{"$f":"INDIRECT(U$172&$X636)","v":{"$error":"#REF!"}},"円",{"$error":"#REF!"},{"$f":"X635","v":158},{"$f":"COUNTIF($W$181:W636,W636)","v":455}]
[{"$error":"#REF!"},null,null,null,null,null,null,null,null,null,null,null,null,"（",{"$f":"INDIRECT(O$173&$X637)","v":{"$error":"#REF!"}},"人）","（",{"$f":"INDIRECT(R$173&$X637)","v":{"$error":"#REF!"}},"人）","（",{"$f":"INDIRECT(U$173&$X637)","v":{"$error":"#REF!"}},"人）",{"$error":"#REF!"},158,{"$f":"COUNTIF($W$181:W637,W637)","v":456}]
[{"$error":"#REF!"},null,{"$f":"INDIRECT(C$171&$X638)","v":{"$error":"#REF!"}},null,null,null,null,null,null,null,null,null,{"$f":"INDIRECT(M$171&$X638)","v":{"$error":"#REF!"}},{"$f":"INDIRECT(N$171&$X638)","v":{"$error":"#REF!"}},null,null,{"$f":"INDIRECT(Q$171&$X638)","v":{"$error":"#REF!"}},null,"円",{"$f":"INDIRECT(T$171&$X638)","v":{"$error":"#REF!"}},null,"円",{"$error":"#REF!"},{"$f":"X637+1","v":159},{"$f":"COUNTIF($W$181:W638,W638)","v":457}]
[{"$error":"#REF!"},null,"➊➋➌それぞれの賃金改善額（見込額）",null,null,null,null,null,null,null,null,null,null,"➊",{"$f":"INDIRECT(O$172&$X639)","v":{"$error":"#REF!"}},"円","➋",{"$f":"INDIRECT(R$172&$X639)","v":{"$error":"#REF!"}},"円","➌",{"$f":"INDIRECT(U$172&$X639)","v":{"$error":"#REF!"}},"円",{"$error":"#REF!"},{"$f":"X638","v":159},{"$f":"COUNTIF($W$181:W639,W639)","v":458}]
[{"$error":"#REF!"},null,null,null,null,null,null,null,null,null,null,null,null,"（",{"$f":"INDIRECT(O$173&$X640)","v":{"$error":"#REF!"}},"人）","（",{"$f":"INDIRECT(R$173&$X640)","v":{"$error":"#REF!"}},"人）","（",{"$f":"INDIRECT(U$173&$X640)","v":{"$error":"#REF!"}},"人）",{"$error":"#REF!"},159,{"$f":"COUNTIF($W$181:W640,W640)","v":459}]
[{"$error":"#REF!"},null,{"$f":"INDIRECT(C$171&$X641)","v":{"$error":"#REF!"}},null,null,null,null,null,null,null,null,null,{"$f":"INDIRECT(M$171&$X641)","v":{"$error":"#REF!"}},{"$f":"INDIRECT(N$171&$X641)","v":{"$error":"#REF!"}},null,null,{"$f":"INDIRECT(Q$171&$X641)","v":{"$error":"#REF!"}},null,"円",{"$f":"INDIRECT(T$171&$X641)","v":{"$error":"#REF!"}},null,"円",{"$error":"#REF!"},{"$f":"X640+1","v":160},{"$f":"COUNTIF($W$181:W641,W641)","v":460}]
[{"$error":"#REF!"},null,"➊➋➌それぞれの賃金改善額（見込額）",null,null,null,null,null,null,null,null,null,null,"➊",{"$f":"INDIRECT(O$172&$X642)","v":{"$error":"#REF!"}},"円","➋",{"$f":"INDIRECT(R$172&$X642)","v":{"$error":"#REF!"}},"円","➌",{"$f":"INDIRECT(U$172&$X642)","v":{"$error":"#REF!"}},"円",{"$error":"#REF!"},{"$f":"X641","v":160},{"$f":"COUNTIF($W$181:W642,W642)","v":461}]
[{"$error":"#REF!"},null,null,null,null,null,null,null,null,null,null,null,null,"（",{"$f":"INDIRECT(O$173&$X643)","v":{"$error":"#REF!"}},"人）","（",{"$f":"INDIRECT(R$173&$X643)","v":{"$error":"#REF!"}},"人）","（",{"$f":"INDIRECT(U$173&$X643)","v":{"$error":"#REF!"}},"人）",{"$error":"#REF!"},160,{"$f":"COUNTIF($W$181:W643,W643)","v":462}]
[{"$error":"#REF!"},null,{"$f":"INDIRECT(C$171&$X644)","v":{"$error":"#REF!"}},null,null,null,null,null,null,null,null,null,{"$f":"INDIRECT(M$171&$X644)","v":{"$error":"#REF!"}},{"$f":"INDIRECT(N$171&$X644)","v":{"$error":"#REF!"}},null,null,{"$f":"INDIRECT(Q$171&$X644)","v":{"$error":"#REF!"}},null,"円",{"$f":"INDIRECT(T$171&$X644)","v":{"$error":"#REF!"}},null,"円",{"$error":"#REF!"},{"$f":"X643+1","v":161},{"$f":"COUNTIF($W$181:W644,W644)","v":463}]
[{"$error":"#REF!"},null,"➊➋➌それぞれの賃金改善額（見込額）",null,null,null,null,null,null,null,null,null,null,"➊",{"$f":"INDIRECT(O$172&$X645)","v":{"$error":"#REF!"}},"円","➋",{"$f":"INDIRECT(R$172&$X645)","v":{"$error":"#REF!"}},"円","➌",{"$f":"INDIRECT(U$172&$X645)","v":{"$error":"#REF!"}},"円",{"$error":"#REF!"},{"$f":"X644","v":161},{"$f":"COUNTIF($W$181:W645,W645)","v":464}]
[{"$error":"#REF!"},null,null,null,null,null,null,null,null,null,null,null,null,"（",{"$f":"INDIRECT(O$173&$X646)","v":{"$error":"#REF!"}},"人）","（",{"$f":"INDIRECT(R$173&$X646)","v":{"$error":"#REF!"}},"人）","（",{"$f":"INDIRECT(U$173&$X646)","v":{"$error":"#REF!"}},"人）",{"$error":"#REF!"},161,{"$f":"COUNTIF($W$181:W646,W646)","v":465}]
[{"$error":"#REF!"},null,{"$f":"INDIRECT(C$171&$X647)","v":{"$error":"#REF!"}},null,null,null,null,null,null,null,null,null,{"$f":"INDIRECT(M$171&$X647)","v":{"$error":"#REF!"}},{"$f":"INDIRECT(N$171&$X647)","v":{"$error":"#REF!"}},null,null,{"$f":"INDIRECT(Q$171&$X647)","v":{"$error":"#REF!"}},null,"円",{"$f":"INDIRECT(T$171&$X647)","v":{"$error":"#REF!"}},null,"円",{"$error":"#REF!"},{"$f":"X646+1","v":162},{"$f":"COUNTIF($W$181:W647,W647)","v":466}]
[{"$error":"#REF!"},null,"➊➋➌それぞれの賃金改善額（見込額）",null,null,null,null,null,null,null,null,null,null,"➊",{"$f":"INDIRECT(O$172&$X648)","v":{"$error":"#REF!"}},"円","➋",{"$f":"INDIRECT(R$172&$X648)","v":{"$error":"#REF!"}},"円","➌",{"$f":"INDIRECT(U$172&$X648)","v":{"$error":"#REF!"}},"円",{"$error":"#REF!"},{"$f":"X647","v":162},{"$f":"COUNTIF($W$181:W648,W648)","v":467}]
[{"$error":"#REF!"},null,null,null,null,null,null,null,null,null,null,null,null,"（",{"$f":"INDIRECT(O$173&$X649)","v":{"$error":"#REF!"}},"人）","（",{"$f":"INDIRECT(R$173&$X649)","v":{"$error":"#REF!"}},"人）","（",{"$f":"INDIRECT(U$173&$X649)","v":{"$error":"#REF!"}},"人）",{"$error":"#REF!"},162,{"$f":"COUNTIF($W$181:W649,W649)","v":468}]
[{"$error":"#REF!"},null,{"$f":"INDIRECT(C$171&$X650)","v":{"$error":"#REF!"}},null,null,null,null,null,null,null,null,null,{"$f":"INDIRECT(M$171&$X650)","v":{"$error":"#REF!"}},{"$f":"INDIRECT(N$171&$X650)","v":{"$error":"#REF!"}},null,null,{"$f":"INDIRECT(Q$171&$X650)","v":{"$error":"#REF!"}},null,"円",{"$f":"INDIRECT(T$171&$X650)","v":{"$error":"#REF!"}},null,"円",{"$error":"#REF!"},{"$f":"X649+1","v":163},{"$f":"COUNTIF($W$181:W650,W650)","v":469}]
[{"$error":"#REF!"},null,"➊➋➌それぞれの賃金改善額（見込額）",null,null,null,null,null,null,null,null,null,null,"➊",{"$f":"INDIRECT(O$172&$X651)","v":{"$error":"#REF!"}},"円","➋",{"$f":"INDIRECT(R$172&$X651)","v":{"$error":"#REF!"}},"円","➌",{"$f":"INDIRECT(U$172&$X651)","v":{"$error":"#REF!"}},"円",{"$error":"#REF!"},{"$f":"X650","v":163},{"$f":"COUNTIF($W$181:W651,W651)","v":470}]
[{"$error":"#REF!"},null,null,null,null,null,null,null,null,null,null,null,null,"（",{"$f":"INDIRECT(O$173&$X652)","v":{"$error":"#REF!"}},"人）","（",{"$f":"INDIRECT(R$173&$X652)","v":{"$error":"#REF!"}},"人）","（",{"$f":"INDIRECT(U$173&$X652)","v":{"$error":"#REF!"}},"人）",{"$error":"#REF!"},163,{"$f":"COUNTIF($W$181:W652,W652)","v":471}]
[{"$error":"#REF!"},null,{"$f":"INDIRECT(C$171&$X653)","v":{"$error":"#REF!"}},null,null,null,null,null,null,null,null,null,{"$f":"INDIRECT(M$171&$X653)","v":{"$error":"#REF!"}},{"$f":"INDIRECT(N$171&$X653)","v":{"$error":"#REF!"}},null,null,{"$f":"INDIRECT(Q$171&$X653)","v":{"$error":"#REF!"}},null,"円",{"$f":"INDIRECT(T$171&$X653)","v":{"$error":"#REF!"}},null,"円",{"$error":"#REF!"},{"$f":"X652+1","v":164},{"$f":"COUNTIF($W$181:W653,W653)","v":472}]
[{"$error":"#REF!"},null,"➊➋➌それぞれの賃金改善額（見込額）",null,null,null,null,null,null,null,null,null,null,"➊",{"$f":"INDIRECT(O$172&$X654)","v":{"$error":"#REF!"}},"円","➋",{"$f":"INDIRECT(R$172&$X654)","v":{"$error":"#REF!"}},"円","➌",{"$f":"INDIRECT(U$172&$X654)","v":{"$error":"#REF!"}},"円",{"$error":"#REF!"},{"$f":"X653","v":164},{"$f":"COUNTIF($W$181:W654,W654)","v":473}]
[{"$error":"#REF!"},null,null,null,null,null,null,null,null,null,null,null,null,"（",{"$f":"INDIRECT(O$173&$X655)","v":{"$error":"#REF!"}},"人）","（",{"$f":"INDIRECT(R$173&$X655)","v":{"$error":"#REF!"}},"人）","（",{"$f":"INDIRECT(U$173&$X655)","v":{"$error":"#REF!"}},"人）",{"$error":"#REF!"},164,{"$f":"COUNTIF($W$181:W655,W655)","v":474}]
[{"$error":"#REF!"},null,{"$f":"INDIRECT(C$171&$X656)","v":{"$error":"#REF!"}},null,null,null,null,null,null,null,null,null,{"$f":"INDIRECT(M$171&$X656)","v":{"$error":"#REF!"}},{"$f":"INDIRECT(N$171&$X656)","v":{"$error":"#REF!"}},null,null,{"$f":"INDIRECT(Q$171&$X656)","v":{"$error":"#REF!"}},null,"円",{"$f":"INDIRECT(T$171&$X656)","v":{"$error":"#REF!"}},null,"円",{"$error":"#REF!"},{"$f":"X655+1","v":165},{"$f":"COUNTIF($W$181:W656,W656)","v":475}]
[{"$error":"#REF!"},null,"➊➋➌それぞれの賃金改善額（見込額）",null,null,null,null,null,null,null,null,null,null,"➊",{"$f":"INDIRECT(O$172&$X657)","v":{"$error":"#REF!"}},"円","➋",{"$f":"INDIRECT(R$172&$X657)","v":{"$error":"#REF!"}},"円","➌",{"$f":"INDIRECT(U$172&$X657)","v":{"$error":"#REF!"}},"円",{"$error":"#REF!"},{"$f":"X656","v":165},{"$f":"COUNTIF($W$181:W657,W657)","v":476}]
[{"$error":"#REF!"},null,null,null,null,null,null,null,null,null,null,null,null,"（",{"$f":"INDIRECT(O$173&$X658)","v":{"$error":"#REF!"}},"人）","（",{"$f":"INDIRECT(R$173&$X658)","v":{"$error":"#REF!"}},"人）","（",{"$f":"INDIRECT(U$173&$X658)","v":{"$error":"#REF!"}},"人）",{"$error":"#REF!"},165,{"$f":"COUNTIF($W$181:W658,W658)","v":477}]
[{"$error":"#REF!"},null,{"$f":"INDIRECT(C$171&$X659)","v":{"$error":"#REF!"}},null,null,null,null,null,null,null,null,null,{"$f":"INDIRECT(M$171&$X659)","v":{"$error":"#REF!"}},{"$f":"INDIRECT(N$171&$X659)","v":{"$error":"#REF!"}},null,null,{"$f":"INDIRECT(Q$171&$X659)","v":{"$error":"#REF!"}},null,"円",{"$f":"INDIRECT(T$171&$X659)","v":{"$error":"#REF!"}},null,"円",{"$error":"#REF!"},{"$f":"X658+1","v":166},{"$f":"COUNTIF($W$181:W659,W659)","v":478}]
[{"$error":"#REF!"},null,"➊➋➌それぞれの賃金改善額（見込額）",null,null,null,null,null,null,null,null,null,null,"➊",{"$f":"INDIRECT(O$172&$X660)","v":{"$error":"#REF!"}},"円","➋",{"$f":"INDIRECT(R$172&$X660)","v":{"$error":"#REF!"}},"円","➌",{"$f":"INDIRECT(U$172&$X660)","v":{"$error":"#REF!"}},"円",{"$error":"#REF!"},{"$f":"X659","v":166},{"$f":"COUNTIF($W$181:W660,W660)","v":479}]
[{"$error":"#REF!"},null,null,null,null,null,null,null,null,null,null,null,null,"（",{"$f":"INDIRECT(O$173&$X661)","v":{"$error":"#REF!"}},"人）","（",{"$f":"INDIRECT(R$173&$X661)","v":{"$error":"#REF!"}},"人）","（",{"$f":"INDIRECT(U$173&$X661)","v":{"$error":"#REF!"}},"人）",{"$error":"#REF!"},166,{"$f":"COUNTIF($W$181:W661,W661)","v":480}]
[{"$error":"#REF!"},null,{"$f":"INDIRECT(C$171&$X662)","v":{"$error":"#REF!"}},null,null,null,null,null,null,null,null,null,{"$f":"INDIRECT(M$171&$X662)","v":{"$error":"#REF!"}},{"$f":"INDIRECT(N$171&$X662)","v":{"$error":"#REF!"}},null,null,{"$f":"INDIRECT(Q$171&$X662)","v":{"$error":"#REF!"}},null,"円",{"$f":"INDIRECT(T$171&$X662)","v":{"$error":"#REF!"}},null,"円",{"$error":"#REF!"},{"$f":"X661+1","v":167},{"$f":"COUNTIF($W$181:W662,W662)","v":481}]
[{"$error":"#REF!"},null,"➊➋➌それぞれの賃金改善額（見込額）",null,null,null,null,null,null,null,null,null,null,"➊",{"$f":"INDIRECT(O$172&$X663)","v":{"$error":"#REF!"}},"円","➋",{"$f":"INDIRECT(R$172&$X663)","v":{"$error":"#REF!"}},"円","➌",{"$f":"INDIRECT(U$172&$X663)","v":{"$error":"#REF!"}},"円",{"$error":"#REF!"},{"$f":"X662","v":167},{"$f":"COUNTIF($W$181:W663,W663)","v":482}]
[{"$error":"#REF!"},null,null,null,null,null,null,null,null,null,null,null,null,"（",{"$f":"INDIRECT(O$173&$X664)","v":{"$error":"#REF!"}},"人）","（",{"$f":"INDIRECT(R$173&$X664)","v":{"$error":"#REF!"}},"人）","（",{"$f":"INDIRECT(U$173&$X664)","v":{"$error":"#REF!"}},"人）",{"$error":"#REF!"},167,{"$f":"COUNTIF($W$181:W664,W664)","v":483}]
[{"$error":"#REF!"},null,{"$f":"INDIRECT(C$171&$X665)","v":{"$error":"#REF!"}},null,null,null,null,null,null,null,null,null,{"$f":"INDIRECT(M$171&$X665)","v":{"$error":"#REF!"}},{"$f":"INDIRECT(N$171&$X665)","v":{"$error":"#REF!"}},null,null,{"$f":"INDIRECT(Q$171&$X665)","v":{"$error":"#REF!"}},null,"円",{"$f":"INDIRECT(T$171&$X665)","v":{"$error":"#REF!"}},null,"円",{"$error":"#REF!"},{"$f":"X664+1","v":168},{"$f":"COUNTIF($W$181:W665,W665)","v":484}]
[{"$error":"#REF!"},null,"➊➋➌それぞれの賃金改善額（見込額）",null,null,null,null,null,null,null,null,null,null,"➊",{"$f":"INDIRECT(O$172&$X666)","v":{"$error":"#REF!"}},"円","➋",{"$f":"INDIRECT(R$172&$X666)","v":{"$error":"#REF!"}},"円","➌",{"$f":"INDIRECT(U$172&$X666)","v":{"$error":"#REF!"}},"円",{"$error":"#REF!"},{"$f":"X665","v":168},{"$f":"COUNTIF($W$181:W666,W666)","v":485}]
[{"$error":"#REF!"},null,null,null,null,null,null,null,null,null,null,null,null,"（",{"$f":"INDIRECT(O$173&$X667)","v":{"$error":"#REF!"}},"人）","（",{"$f":"INDIRECT(R$173&$X667)","v":{"$error":"#REF!"}},"人）","（",{"$f":"INDIRECT(U$173&$X667)","v":{"$error":"#REF!"}},"人）",{"$error":"#REF!"},168,{"$f":"COUNTIF($W$181:W667,W667)","v":486}]
[{"$error":"#REF!"},null,{"$f":"INDIRECT(C$171&$X668)","v":{"$error":"#REF!"}},null,null,null,null,null,null,null,null,null,{"$f":"INDIRECT(M$171&$X668)","v":{"$error":"#REF!"}},{"$f":"INDIRECT(N$171&$X668)","v":{"$error":"#REF!"}},null,null,{"$f":"INDIRECT(Q$171&$X668)","v":{"$error":"#REF!"}},null,"円",{"$f":"INDIRECT(T$171&$X668)","v":{"$error":"#REF!"}},null,"円",{"$error":"#REF!"},{"$f":"X667+1","v":169},{"$f":"COUNTIF($W$181:W668,W668)","v":487}]
[{"$error":"#REF!"},null,"➊➋➌それぞれの賃金改善額（見込額）",null,null,null,null,null,null,null,null,null,null,"➊",{"$f":"INDIRECT(O$172&$X669)","v":{"$error":"#REF!"}},"円","➋",{"$f":"INDIRECT(R$172&$X669)","v":{"$error":"#REF!"}},"円","➌",{"$f":"INDIRECT(U$172&$X669)","v":{"$error":"#REF!"}},"円",{"$error":"#REF!"},{"$f":"X668","v":169},{"$f":"COUNTIF($W$181:W669,W669)","v":488}]
[{"$error":"#REF!"},null,null,null,null,null,null,null,null,null,null,null,null,"（",{"$f":"INDIRECT(O$173&$X670)","v":{"$error":"#REF!"}},"人）","（",{"$f":"INDIRECT(R$173&$X670)","v":{"$error":"#REF!"}},"人）","（",{"$f":"INDIRECT(U$173&$X670)","v":{"$error":"#REF!"}},"人）",{"$error":"#REF!"},169,{"$f":"COUNTIF($W$181:W670,W670)","v":489}]
[{"$error":"#REF!"},null,{"$f":"INDIRECT(C$171&$X671)","v":{"$error":"#REF!"}},null,null,null,null,null,null,null,null,null,{"$f":"INDIRECT(M$171&$X671)","v":{"$error":"#REF!"}},{"$f":"INDIRECT(N$171&$X671)","v":{"$error":"#REF!"}},null,null,{"$f":"INDIRECT(Q$171&$X671)","v":{"$error":"#REF!"}},null,"円",{"$f":"INDIRECT(T$171&$X671)","v":{"$error":"#REF!"}},null,"円",{"$error":"#REF!"},{"$f":"X670+1","v":170},{"$f":"COUNTIF($W$181:W671,W671)","v":490}]
[{"$error":"#REF!"},null,"➊➋➌それぞれの賃金改善額（見込額）",null,null,null,null,null,null,null,null,null,null,"➊",{"$f":"INDIRECT(O$172&$X672)","v":{"$error":"#REF!"}},"円","➋",{"$f":"INDIRECT(R$172&$X672)","v":{"$error":"#REF!"}},"円","➌",{"$f":"INDIRECT(U$172&$X672)","v":{"$error":"#REF!"}},"円",{"$error":"#REF!"},{"$f":"X671","v":170},{"$f":"COUNTIF($W$181:W672,W672)","v":491}]
[{"$error":"#REF!"},null,null,null,null,null,null,null,null,null,null,null,null,"（",{"$f":"INDIRECT(O$173&$X673)","v":{"$error":"#REF!"}},"人）","（",{"$f":"INDIRECT(R$173&$X673)","v":{"$error":"#REF!"}},"人）","（",{"$f":"INDIRECT(U$173&$X673)","v":{"$error":"#REF!"}},"人）",{"$error":"#REF!"},170,{"$f":"COUNTIF($W$181:W673,W673)","v":492}]
[{"$error":"#REF!"},null,{"$f":"INDIRECT(C$171&$X674)","v":{"$error":"#REF!"}},null,null,null,null,null,null,null,null,null,{"$f":"INDIRECT(M$171&$X674)","v":{"$error":"#REF!"}},{"$f":"INDIRECT(N$171&$X674)","v":{"$error":"#REF!"}},null,null,{"$f":"INDIRECT(Q$171&$X674)","v":{"$error":"#REF!"}},null,"円",{"$f":"INDIRECT(T$171&$X674)","v":{"$error":"#REF!"}},null,"円",{"$error":"#REF!"},{"$f":"X673+1","v":171},{"$f":"COUNTIF($W$181:W674,W674)","v":493}]
[{"$error":"#REF!"},null,"➊➋➌それぞれの賃金改善額（見込額）",null,null,null,null,null,null,null,null,null,null,"➊",{"$f":"INDIRECT(O$172&$X675)","v":{"$error":"#REF!"}},"円","➋",{"$f":"INDIRECT(R$172&$X675)","v":{"$error":"#REF!"}},"円","➌",{"$f":"INDIRECT(U$172&$X675)","v":{"$error":"#REF!"}},"円",{"$error":"#REF!"},{"$f":"X674","v":171},{"$f":"COUNTIF($W$181:W675,W675)","v":494}]
[{"$error":"#REF!"},null,null,null,null,null,null,null,null,null,null,null,null,"（",{"$f":"INDIRECT(O$173&$X676)","v":{"$error":"#REF!"}},"人）","（",{"$f":"INDIRECT(R$173&$X676)","v":{"$error":"#REF!"}},"人）","（",{"$f":"INDIRECT(U$173&$X676)","v":{"$error":"#REF!"}},"人）",{"$error":"#REF!"},171,{"$f":"COUNTIF($W$181:W676,W676)","v":495}]
[{"$error":"#REF!"},null,{"$f":"INDIRECT(C$171&$X677)","v":{"$error":"#REF!"}},null,null,null,null,null,null,null,null,null,{"$f":"INDIRECT(M$171&$X677)","v":{"$error":"#REF!"}},{"$f":"INDIRECT(N$171&$X677)","v":{"$error":"#REF!"}},null,null,{"$f":"INDIRECT(Q$171&$X677)","v":{"$error":"#REF!"}},null,"円",{"$f":"INDIRECT(T$171&$X677)","v":{"$error":"#REF!"}},null,"円",{"$error":"#REF!"},{"$f":"X676+1","v":172},{"$f":"COUNTIF($W$181:W677,W677)","v":496}]
[{"$error":"#REF!"},null,"➊➋➌それぞれの賃金改善額（見込額）",null,null,null,null,null,null,null,null,null,null,"➊",{"$f":"INDIRECT(O$172&$X678)","v":{"$error":"#REF!"}},"円","➋",{"$f":"INDIRECT(R$172&$X678)","v":{"$error":"#REF!"}},"円","➌",{"$f":"INDIRECT(U$172&$X678)","v":{"$error":"#REF!"}},"円",{"$error":"#REF!"},{"$f":"X677","v":172},{"$f":"COUNTIF($W$181:W678,W678)","v":497}]
[{"$error":"#REF!"},null,null,null,null,null,null,null,null,null,null,null,null,"（",{"$f":"INDIRECT(O$173&$X679)","v":{"$error":"#REF!"}},"人）","（",{"$f":"INDIRECT(R$173&$X679)","v":{"$error":"#REF!"}},"人）","（",{"$f":"INDIRECT(U$173&$X679)","v":{"$error":"#REF!"}},"人）",{"$error":"#REF!"},172,{"$f":"COUNTIF($W$181:W679,W679)","v":498}]
[{"$error":"#REF!"},null,{"$f":"INDIRECT(C$171&$X680)","v":{"$error":"#REF!"}},null,null,null,null,null,null,null,null,null,{"$f":"INDIRECT(M$171&$X680)","v":{"$error":"#REF!"}},{"$f":"INDIRECT(N$171&$X680)","v":{"$error":"#REF!"}},null,null,{"$f":"INDIRECT(Q$171&$X680)","v":{"$error":"#REF!"}},null,"円",{"$f":"INDIRECT(T$171&$X680)","v":{"$error":"#REF!"}},null,"円",{"$error":"#REF!"},{"$f":"X679+1","v":173},{"$f":"COUNTIF($W$181:W680,W680)","v":499}]
[{"$error":"#REF!"},null,"➊➋➌それぞれの賃金改善額（見込額）",null,null,null,null,null,null,null,null,null,null,"➊",{"$f":"INDIRECT(O$172&$X681)","v":{"$error":"#REF!"}},"円","➋",{"$f":"INDIRECT(R$172&$X681)","v":{"$error":"#REF!"}},"円","➌",{"$f":"INDIRECT(U$172&$X681)","v":{"$error":"#REF!"}},"円",{"$error":"#REF!"},{"$f":"X680","v":173},{"$f":"COUNTIF($W$181:W681,W681)","v":500}]
[{"$error":"#REF!"},null,null,null,null,null,null,null,null,null,null,null,null,"（",{"$f":"INDIRECT(O$173&$X682)","v":{"$error":"#REF!"}},"人）","（",{"$f":"INDIRECT(R$173&$X682)","v":{"$error":"#REF!"}},"人）","（",{"$f":"INDIRECT(U$173&$X682)","v":{"$error":"#REF!"}},"人）",{"$error":"#REF!"},173,{"$f":"COUNTIF($W$181:W682,W682)","v":501}]
[{"$error":"#REF!"},null,{"$f":"INDIRECT(C$171&$X683)","v":{"$error":"#REF!"}},null,null,null,null,null,null,null,null,null,{"$f":"INDIRECT(M$171&$X683)","v":{"$error":"#REF!"}},{"$f":"INDIRECT(N$171&$X683)","v":{"$error":"#REF!"}},null,null,{"$f":"INDIRECT(Q$171&$X683)","v":{"$error":"#REF!"}},null,"円",{"$f":"INDIRECT(T$171&$X683)","v":{"$error":"#REF!"}},null,"円",{"$error":"#REF!"},{"$f":"X682+1","v":174},{"$f":"COUNTIF($W$181:W683,W683)","v":502}]
[{"$error":"#REF!"},null,"➊➋➌それぞれの賃金改善額（見込額）",null,null,null,null,null,null,null,null,null,null,"➊",{"$f":"INDIRECT(O$172&$X684)","v":{"$error":"#REF!"}},"円","➋",{"$f":"INDIRECT(R$172&$X684)","v":{"$error":"#REF!"}},"円","➌",{"$f":"INDIRECT(U$172&$X684)","v":{"$error":"#REF!"}},"円",{"$error":"#REF!"},{"$f":"X683","v":174},{"$f":"COUNTIF($W$181:W684,W684)","v":503}]
[{"$error":"#REF!"},null,null,null,null,null,null,null,null,null,null,null,null,"（",{"$f":"INDIRECT(O$173&$X685)","v":{"$error":"#REF!"}},"人）","（",{"$f":"INDIRECT(R$173&$X685)","v":{"$error":"#REF!"}},"人）","（",{"$f":"INDIRECT(U$173&$X685)","v":{"$error":"#REF!"}},"人）",{"$error":"#REF!"},174,{"$f":"COUNTIF($W$181:W685,W685)","v":504}]
[{"$error":"#REF!"},null,{"$f":"INDIRECT(C$171&$X686)","v":{"$error":"#REF!"}},null,null,null,null,null,null,null,null,null,{"$f":"INDIRECT(M$171&$X686)","v":{"$error":"#REF!"}},{"$f":"INDIRECT(N$171&$X686)","v":{"$error":"#REF!"}},null,null,{"$f":"INDIRECT(Q$171&$X686)","v":{"$error":"#REF!"}},null,"円",{"$f":"INDIRECT(T$171&$X686)","v":{"$error":"#REF!"}},null,"円",{"$error":"#REF!"},{"$f":"X685+1","v":175},{"$f":"COUNTIF($W$181:W686,W686)","v":505}]
[{"$error":"#REF!"},null,"➊➋➌それぞれの賃金改善額（見込額）",null,null,null,null,null,null,null,null,null,null,"➊",{"$f":"INDIRECT(O$172&$X687)","v":{"$error":"#REF!"}},"円","➋",{"$f":"INDIRECT(R$172&$X687)","v":{"$error":"#REF!"}},"円","➌",{"$f":"INDIRECT(U$172&$X687)","v":{"$error":"#REF!"}},"円",{"$error":"#REF!"},{"$f":"X686","v":175},{"$f":"COUNTIF($W$181:W687,W687)","v":506}]
[{"$error":"#REF!"},null,null,null,null,null,null,null,null,null,null,null,null,"（",{"$f":"INDIRECT(O$173&$X688)","v":{"$error":"#REF!"}},"人）","（",{"$f":"INDIRECT(R$173&$X688)","v":{"$error":"#REF!"}},"人）","（",{"$f":"INDIRECT(U$173&$X688)","v":{"$error":"#REF!"}},"人）",{"$error":"#REF!"},175,{"$f":"COUNTIF($W$181:W688,W688)","v":507}]
[{"$error":"#REF!"},null,{"$f":"INDIRECT(C$171&$X689)","v":{"$error":"#REF!"}},null,null,null,null,null,null,null,null,null,{"$f":"INDIRECT(M$171&$X689)","v":{"$error":"#REF!"}},{"$f":"INDIRECT(N$171&$X689)","v":{"$error":"#REF!"}},null,null,{"$f":"INDIRECT(Q$171&$X689)","v":{"$error":"#REF!"}},null,"円",{"$f":"INDIRECT(T$171&$X689)","v":{"$error":"#REF!"}},null,"円",{"$error":"#REF!"},{"$f":"X688+1","v":176},{"$f":"COUNTIF($W$181:W689,W689)","v":508}]
[{"$error":"#REF!"},null,"➊➋➌それぞれの賃金改善額（見込額）",null,null,null,null,null,null,null,null,null,null,"➊",{"$f":"INDIRECT(O$172&$X690)","v":{"$error":"#REF!"}},"円","➋",{"$f":"INDIRECT(R$172&$X690)","v":{"$error":"#REF!"}},"円","➌",{"$f":"INDIRECT(U$172&$X690)","v":{"$error":"#REF!"}},"円",{"$error":"#REF!"},{"$f":"X689","v":176},{"$f":"COUNTIF($W$181:W690,W690)","v":509}]
[{"$error":"#REF!"},null,null,null,null,null,null,null,null,null,null,null,null,"（",{"$f":"INDIRECT(O$173&$X691)","v":{"$error":"#REF!"}},"人）","（",{"$f":"INDIRECT(R$173&$X691)","v":{"$error":"#REF!"}},"人）","（",{"$f":"INDIRECT(U$173&$X691)","v":{"$error":"#REF!"}},"人）",{"$error":"#REF!"},176,{"$f":"COUNTIF($W$181:W691,W691)","v":510}]
[{"$error":"#REF!"},null,{"$f":"INDIRECT(C$171&$X692)","v":{"$error":"#REF!"}},null,null,null,null,null,null,null,null,null,{"$f":"INDIRECT(M$171&$X692)","v":{"$error":"#REF!"}},{"$f":"INDIRECT(N$171&$X692)","v":{"$error":"#REF!"}},null,null,{"$f":"INDIRECT(Q$171&$X692)","v":{"$error":"#REF!"}},null,"円",{"$f":"INDIRECT(T$171&$X692)","v":{"$error":"#REF!"}},null,"円",{"$error":"#REF!"},{"$f":"X691+1","v":177},{"$f":"COUNTIF($W$181:W692,W692)","v":511}]
[{"$error":"#REF!"},null,"➊➋➌それぞれの賃金改善額（見込額）",null,null,null,null,null,null,null,null,null,null,"➊",{"$f":"INDIRECT(O$172&$X693)","v":{"$error":"#REF!"}},"円","➋",{"$f":"INDIRECT(R$172&$X693)","v":{"$error":"#REF!"}},"円","➌",{"$f":"INDIRECT(U$172&$X693)","v":{"$error":"#REF!"}},"円",{"$error":"#REF!"},{"$f":"X692","v":177},{"$f":"COUNTIF($W$181:W693,W693)","v":512}]
[{"$error":"#REF!"},null,null,null,null,null,null,null,null,null,null,null,null,"（",{"$f":"INDIRECT(O$173&$X694)","v":{"$error":"#REF!"}},"人）","（",{"$f":"INDIRECT(R$173&$X694)","v":{"$error":"#REF!"}},"人）","（",{"$f":"INDIRECT(U$173&$X694)","v":{"$error":"#REF!"}},"人）",{"$error":"#REF!"},177,{"$f":"COUNTIF($W$181:W694,W694)","v":513}]
[{"$f":"W695&Y695","v":{"$error":"#REF!"}},null,{"$f":"INDIRECT(C$171&$X695)","v":{"$error":"#REF!"}},null,null,null,null,null,null,null,null,null,{"$f":"INDIRECT(M$171&$X695)","v":{"$error":"#REF!"}},{"$f":"INDIRECT(N$171&$X695)","v":{"$error":"#REF!"}},null,null,{"$f":"INDIRECT(Q$171&$X695)","v":{"$error":"#REF!"}},null,"円",{"$f":"INDIRECT(T$171&$X695)","v":{"$error":"#REF!"}},null,"円",{"$f":"INDIRECT($W$171&X695)","v":{"$error":"#REF!"}},{"$f":"X694+1","v":178},{"$f":"COUNTIF($W$181:W695,W695)","v":514}]
[{"$error":"#REF!"},null,"➊➋➌それぞれの賃金改善額（見込額）",null,null,null,null,null,null,null,null,null,null,"➊",{"$f":"INDIRECT(O$172&$X696)","v":{"$error":"#REF!"}},"円","➋",{"$f":"INDIRECT(R$172&$X696)","v":{"$error":"#REF!"}},"円","➌",{"$f":"INDIRECT(U$172&$X696)","v":{"$error":"#REF!"}},"円",{"$error":"#REF!"},{"$f":"X695","v":178},{"$f":"COUNTIF($W$181:W696,W696)","v":515}]
[{"$error":"#REF!"},null,null,null,null,null,null,null,null,null,null,null,null,"（",{"$f":"INDIRECT(O$173&$X697)","v":{"$error":"#REF!"}},"人）","（",{"$f":"INDIRECT(R$173&$X697)","v":{"$error":"#REF!"}},"人）","（",{"$f":"INDIRECT(U$173&$X697)","v":{"$error":"#REF!"}},"人）",{"$error":"#REF!"},178,{"$f":"COUNTIF($W$181:W697,W697)","v":516}]
[{"$error":"#REF!"},null,{"$f":"INDIRECT(C$171&$X698)","v":{"$error":"#REF!"}},null,null,null,null,null,null,null,null,null,{"$f":"INDIRECT(M$171&$X698)","v":{"$error":"#REF!"}},{"$f":"INDIRECT(N$171&$X698)","v":{"$error":"#REF!"}},null,null,{"$f":"INDIRECT(Q$171&$X698)","v":{"$error":"#REF!"}},null,"円",{"$f":"INDIRECT(T$171&$X698)","v":{"$error":"#REF!"}},null,"円",{"$error":"#REF!"},{"$f":"X697+1","v":179},{"$f":"COUNTIF($W$181:W698,W698)","v":517}]
[{"$error":"#REF!"},null,"➊➋➌それぞれの賃金改善額（見込額）",null,null,null,null,null,null,null,null,null,null,"➊",{"$f":"INDIRECT(O$172&$X699)","v":{"$error":"#REF!"}},"円","➋",{"$f":"INDIRECT(R$172&$X699)","v":{"$error":"#REF!"}},"円","➌",{"$f":"INDIRECT(U$172&$X699)","v":{"$error":"#REF!"}},"円",{"$error":"#REF!"},{"$f":"X698","v":179},{"$f":"COUNTIF($W$181:W699,W699)","v":518}]
[{"$error":"#REF!"},null,null,null,null,null,null,null,null,null,null,null,null,"（",{"$f":"INDIRECT(O$173&$X700)","v":{"$error":"#REF!"}},"人）","（",{"$f":"INDIRECT(R$173&$X700)","v":{"$error":"#REF!"}},"人）","（",{"$f":"INDIRECT(U$173&$X700)","v":{"$error":"#REF!"}},"人）",{"$error":"#REF!"},179,{"$f":"COUNTIF($W$181:W700,W700)","v":519}]
[{"$error":"#REF!"},null,{"$f":"INDIRECT(C$171&$X701)","v":{"$error":"#REF!"}},null,null,null,null,null,null,null,null,null,{"$f":"INDIRECT(M$171&$X701)","v":{"$error":"#REF!"}},{"$f":"INDIRECT(N$171&$X701)","v":{"$error":"#REF!"}},null,null,{"$f":"INDIRECT(Q$171&$X701)","v":{"$error":"#REF!"}},null,"円",{"$f":"INDIRECT(T$171&$X701)","v":{"$error":"#REF!"}},null,"円",{"$error":"#REF!"},{"$f":"X700+1","v":180},{"$f":"COUNTIF($W$181:W701,W701)","v":520}]
[{"$error":"#REF!"},null,"➊➋➌それぞれの賃金改善額（見込額）",null,null,null,null,null,null,null,null,null,null,"➊",{"$f":"INDIRECT(O$172&$X702)","v":{"$error":"#REF!"}},"円","➋",{"$f":"INDIRECT(R$172&$X702)","v":{"$error":"#REF!"}},"円","➌",{"$f":"INDIRECT(U$172&$X702)","v":{"$error":"#REF!"}},"円",{"$error":"#REF!"},{"$f":"X701","v":180},{"$f":"COUNTIF($W$181:W702,W702)","v":521}]
[{"$error":"#REF!"},null,null,null,null,null,null,null,null,null,null,null,null,"（",{"$f":"INDIRECT(O$173&$X703)","v":{"$error":"#REF!"}},"人）","（",{"$f":"INDIRECT(R$173&$X703)","v":{"$error":"#REF!"}},"人）","（",{"$f":"INDIRECT(U$173&$X703)","v":{"$error":"#REF!"}},"人）",{"$error":"#REF!"},180,{"$f":"COUNTIF($W$181:W703,W703)","v":522}]
[{"$error":"#REF!"},null,{"$f":"INDIRECT(C$171&$X704)","v":{"$error":"#REF!"}},null,null,null,null,null,null,null,null,null,{"$f":"INDIRECT(M$171&$X704)","v":{"$error":"#REF!"}},{"$f":"INDIRECT(N$171&$X704)","v":{"$error":"#REF!"}},null,null,{"$f":"INDIRECT(Q$171&$X704)","v":{"$error":"#REF!"}},null,"円",{"$f":"INDIRECT(T$171&$X704)","v":{"$error":"#REF!"}},null,"円",{"$error":"#REF!"},{"$f":"X703+1","v":181},{"$f":"COUNTIF($W$181:W704,W704)","v":523}]
[{"$error":"#REF!"},null,"➊➋➌それぞれの賃金改善額（見込額）",null,null,null,null,null,null,null,null,null,null,"➊",{"$f":"INDIRECT(O$172&$X705)","v":{"$error":"#REF!"}},"円","➋",{"$f":"INDIRECT(R$172&$X705)","v":{"$error":"#REF!"}},"円","➌",{"$f":"INDIRECT(U$172&$X705)","v":{"$error":"#REF!"}},"円",{"$error":"#REF!"},{"$f":"X704","v":181},{"$f":"COUNTIF($W$181:W705,W705)","v":524}]
[{"$error":"#REF!"},null,null,null,null,null,null,null,null,null,null,null,null,"（",{"$f":"INDIRECT(O$173&$X706)","v":{"$error":"#REF!"}},"人）","（",{"$f":"INDIRECT(R$173&$X706)","v":{"$error":"#REF!"}},"人）","（",{"$f":"INDIRECT(U$173&$X706)","v":{"$error":"#REF!"}},"人）",{"$error":"#REF!"},181,{"$f":"COUNTIF($W$181:W706,W706)","v":525}]
[{"$error":"#REF!"},null,{"$f":"INDIRECT(C$171&$X707)","v":{"$error":"#REF!"}},null,null,null,null,null,null,null,null,null,{"$f":"INDIRECT(M$171&$X707)","v":{"$error":"#REF!"}},{"$f":"INDIRECT(N$171&$X707)","v":{"$error":"#REF!"}},null,null,{"$f":"INDIRECT(Q$171&$X707)","v":{"$error":"#REF!"}},null,"円",{"$f":"INDIRECT(T$171&$X707)","v":{"$error":"#REF!"}},null,"円",{"$error":"#REF!"},{"$f":"X706+1","v":182},{"$f":"COUNTIF($W$181:W707,W707)","v":526}]
[{"$error":"#REF!"},null,"➊➋➌それぞれの賃金改善額（見込額）",null,null,null,null,null,null,null,null,null,null,"➊",{"$f":"INDIRECT(O$172&$X708)","v":{"$error":"#REF!"}},"円","➋",{"$f":"INDIRECT(R$172&$X708)","v":{"$error":"#REF!"}},"円","➌",{"$f":"INDIRECT(U$172&$X708)","v":{"$error":"#REF!"}},"円",{"$error":"#REF!"},{"$f":"X707","v":182},{"$f":"COUNTIF($W$181:W708,W708)","v":527}]
[{"$error":"#REF!"},null,null,null,null,null,null,null,null,null,null,null,null,"（",{"$f":"INDIRECT(O$173&$X709)","v":{"$error":"#REF!"}},"人）","（",{"$f":"INDIRECT(R$173&$X709)","v":{"$error":"#REF!"}},"人）","（",{"$f":"INDIRECT(U$173&$X709)","v":{"$error":"#REF!"}},"人）",{"$error":"#REF!"},182,{"$f":"COUNTIF($W$181:W709,W709)","v":528}]
[{"$error":"#REF!"},null,{"$f":"INDIRECT(C$171&$X710)","v":{"$error":"#REF!"}},null,null,null,null,null,null,null,null,null,{"$f":"INDIRECT(M$171&$X710)","v":{"$error":"#REF!"}},{"$f":"INDIRECT(N$171&$X710)","v":{"$error":"#REF!"}},null,null,{"$f":"INDIRECT(Q$171&$X710)","v":{"$error":"#REF!"}},null,"円",{"$f":"INDIRECT(T$171&$X710)","v":{"$error":"#REF!"}},null,"円",{"$error":"#REF!"},{"$f":"X709+1","v":183},{"$f":"COUNTIF($W$181:W710,W710)","v":529}]
[{"$error":"#REF!"},null,"➊➋➌それぞれの賃金改善額（見込額）",null,null,null,null,null,null,null,null,null,null,"➊",{"$f":"INDIRECT(O$172&$X711)","v":{"$error":"#REF!"}},"円","➋",{"$f":"INDIRECT(R$172&$X711)","v":{"$error":"#REF!"}},"円","➌",{"$f":"INDIRECT(U$172&$X711)","v":{"$error":"#REF!"}},"円",{"$error":"#REF!"},{"$f":"X710","v":183},{"$f":"COUNTIF($W$181:W711,W711)","v":530}]
[{"$error":"#REF!"},null,null,null,null,null,null,null,null,null,null,null,null,"（",{"$f":"INDIRECT(O$173&$X712)","v":{"$error":"#REF!"}},"人）","（",{"$f":"INDIRECT(R$173&$X712)","v":{"$error":"#REF!"}},"人）","（",{"$f":"INDIRECT(U$173&$X712)","v":{"$error":"#REF!"}},"人）",{"$error":"#REF!"},183,{"$f":"COUNTIF($W$181:W712,W712)","v":531}]
[{"$error":"#REF!"},null,{"$f":"INDIRECT(C$171&$X713)","v":{"$error":"#REF!"}},null,null,null,null,null,null,null,null,null,{"$f":"INDIRECT(M$171&$X713)","v":{"$error":"#REF!"}},{"$f":"INDIRECT(N$171&$X713)","v":{"$error":"#REF!"}},null,null,{"$f":"INDIRECT(Q$171&$X713)","v":{"$error":"#REF!"}},null,"円",{"$f":"INDIRECT(T$171&$X713)","v":{"$error":"#REF!"}},null,"円",{"$error":"#REF!"},{"$f":"X712+1","v":184},{"$f":"COUNTIF($W$181:W713,W713)","v":532}]
[{"$error":"#REF!"},null,"➊➋➌それぞれの賃金改善額（見込額）",null,null,null,null,null,null,null,null,null,null,"➊",{"$f":"INDIRECT(O$172&$X714)","v":{"$error":"#REF!"}},"円","➋",{"$f":"INDIRECT(R$172&$X714)","v":{"$error":"#REF!"}},"円","➌",{"$f":"INDIRECT(U$172&$X714)","v":{"$error":"#REF!"}},"円",{"$error":"#REF!"},{"$f":"X713","v":184},{"$f":"COUNTIF($W$181:W714,W714)","v":533}]
[{"$error":"#REF!"},null,null,null,null,null,null,null,null,null,null,null,null,"（",{"$f":"INDIRECT(O$173&$X715)","v":{"$error":"#REF!"}},"人）","（",{"$f":"INDIRECT(R$173&$X715)","v":{"$error":"#REF!"}},"人）","（",{"$f":"INDIRECT(U$173&$X715)","v":{"$error":"#REF!"}},"人）",{"$error":"#REF!"},184,{"$f":"COUNTIF($W$181:W715,W715)","v":534}]
[{"$error":"#REF!"},null,{"$f":"INDIRECT(C$171&$X716)","v":{"$error":"#REF!"}},null,null,null,null,null,null,null,null,null,{"$f":"INDIRECT(M$171&$X716)","v":{"$error":"#REF!"}},{"$f":"INDIRECT(N$171&$X716)","v":{"$error":"#REF!"}},null,null,{"$f":"INDIRECT(Q$171&$X716)","v":{"$error":"#REF!"}},null,"円",{"$f":"INDIRECT(T$171&$X716)","v":{"$error":"#REF!"}},null,"円",{"$error":"#REF!"},{"$f":"X715+1","v":185},{"$f":"COUNTIF($W$181:W716,W716)","v":535}]
[{"$error":"#REF!"},null,"➊➋➌それぞれの賃金改善額（見込額）",null,null,null,null,null,null,null,null,null,null,"➊",{"$f":"INDIRECT(O$172&$X717)","v":{"$error":"#REF!"}},"円","➋",{"$f":"INDIRECT(R$172&$X717)","v":{"$error":"#REF!"}},"円","➌",{"$f":"INDIRECT(U$172&$X717)","v":{"$error":"#REF!"}},"円",{"$error":"#REF!"},{"$f":"X716","v":185},{"$f":"COUNTIF($W$181:W717,W717)","v":536}]
[{"$error":"#REF!"},null,null,null,null,null,null,null,null,null,null,null,null,"（",{"$f":"INDIRECT(O$173&$X718)","v":{"$error":"#REF!"}},"人）","（",{"$f":"INDIRECT(R$173&$X718)","v":{"$error":"#REF!"}},"人）","（",{"$f":"INDIRECT(U$173&$X718)","v":{"$error":"#REF!"}},"人）",{"$error":"#REF!"},185,{"$f":"COUNTIF($W$181:W718,W718)","v":537}]
[{"$error":"#REF!"},null,{"$f":"INDIRECT(C$171&$X719)","v":{"$error":"#REF!"}},null,null,null,null,null,null,null,null,null,{"$f":"INDIRECT(M$171&$X719)","v":{"$error":"#REF!"}},{"$f":"INDIRECT(N$171&$X719)","v":{"$error":"#REF!"}},null,null,{"$f":"INDIRECT(Q$171&$X719)","v":{"$error":"#REF!"}},null,"円",{"$f":"INDIRECT(T$171&$X719)","v":{"$error":"#REF!"}},null,"円",{"$error":"#REF!"},{"$f":"X718+1","v":186},{"$f":"COUNTIF($W$181:W719,W719)","v":538}]
[{"$error":"#REF!"},null,"➊➋➌それぞれの賃金改善額（見込額）",null,null,null,null,null,null,null,null,null,null,"➊",{"$f":"INDIRECT(O$172&$X720)","v":{"$error":"#REF!"}},"円","➋",{"$f":"INDIRECT(R$172&$X720)","v":{"$error":"#REF!"}},"円","➌",{"$f":"INDIRECT(U$172&$X720)","v":{"$error":"#REF!"}},"円",{"$error":"#REF!"},{"$f":"X719","v":186},{"$f":"COUNTIF($W$181:W720,W720)","v":539}]
[{"$error":"#REF!"},null,null,null,null,null,null,null,null,null,null,null,null,"（",{"$f":"INDIRECT(O$173&$X721)","v":{"$error":"#REF!"}},"人）","（",{"$f":"INDIRECT(R$173&$X721)","v":{"$error":"#REF!"}},"人）","（",{"$f":"INDIRECT(U$173&$X721)","v":{"$error":"#REF!"}},"人）",{"$error":"#REF!"},186,{"$f":"COUNTIF($W$181:W721,W721)","v":540}]
[{"$error":"#REF!"},null,{"$f":"INDIRECT(C$171&$X722)","v":{"$error":"#REF!"}},null,null,null,null,null,null,null,null,null,{"$f":"INDIRECT(M$171&$X722)","v":{"$error":"#REF!"}},{"$f":"INDIRECT(N$171&$X722)","v":{"$error":"#REF!"}},null,null,{"$f":"INDIRECT(Q$171&$X722)","v":{"$error":"#REF!"}},null,"円",{"$f":"INDIRECT(T$171&$X722)","v":{"$error":"#REF!"}},null,"円",{"$error":"#REF!"},{"$f":"X721+1","v":187},{"$f":"COUNTIF($W$181:W722,W722)","v":541}]
[{"$error":"#REF!"},null,"➊➋➌それぞれの賃金改善額（見込額）",null,null,null,null,null,null,null,null,null,null,"➊",{"$f":"INDIRECT(O$172&$X723)","v":{"$error":"#REF!"}},"円","➋",{"$f":"INDIRECT(R$172&$X723)","v":{"$error":"#REF!"}},"円","➌",{"$f":"INDIRECT(U$172&$X723)","v":{"$error":"#REF!"}},"円",{"$error":"#REF!"},{"$f":"X722","v":187},{"$f":"COUNTIF($W$181:W723,W723)","v":542}]
[{"$error":"#REF!"},null,null,null,null,null,null,null,null,null,null,null,null,"（",{"$f":"INDIRECT(O$173&$X724)","v":{"$error":"#REF!"}},"人）","（",{"$f":"INDIRECT(R$173&$X724)","v":{"$error":"#REF!"}},"人）","（",{"$f":"INDIRECT(U$173&$X724)","v":{"$error":"#REF!"}},"人）",{"$error":"#REF!"},187,{"$f":"COUNTIF($W$181:W724,W724)","v":543}]
[{"$error":"#REF!"},null,{"$f":"INDIRECT(C$171&$X725)","v":{"$error":"#REF!"}},null,null,null,null,null,null,null,null,null,{"$f":"INDIRECT(M$171&$X725)","v":{"$error":"#REF!"}},{"$f":"INDIRECT(N$171&$X725)","v":{"$error":"#REF!"}},null,null,{"$f":"INDIRECT(Q$171&$X725)","v":{"$error":"#REF!"}},null,"円",{"$f":"INDIRECT(T$171&$X725)","v":{"$error":"#REF!"}},null,"円",{"$error":"#REF!"},{"$f":"X724+1","v":188},{"$f":"COUNTIF($W$181:W725,W725)","v":544}]
[{"$error":"#REF!"},null,"➊➋➌それぞれの賃金改善額（見込額）",null,null,null,null,null,null,null,null,null,null,"➊",{"$f":"INDIRECT(O$172&$X726)","v":{"$error":"#REF!"}},"円","➋",{"$f":"INDIRECT(R$172&$X726)","v":{"$error":"#REF!"}},"円","➌",{"$f":"INDIRECT(U$172&$X726)","v":{"$error":"#REF!"}},"円",{"$error":"#REF!"},{"$f":"X725","v":188},{"$f":"COUNTIF($W$181:W726,W726)","v":545}]
[{"$error":"#REF!"},null,null,null,null,null,null,null,null,null,null,null,null,"（",{"$f":"INDIRECT(O$173&$X727)","v":{"$error":"#REF!"}},"人）","（",{"$f":"INDIRECT(R$173&$X727)","v":{"$error":"#REF!"}},"人）","（",{"$f":"INDIRECT(U$173&$X727)","v":{"$error":"#REF!"}},"人）",{"$error":"#REF!"},188,{"$f":"COUNTIF($W$181:W727,W727)","v":546}]
[{"$error":"#REF!"},null,{"$f":"INDIRECT(C$171&$X728)","v":{"$error":"#REF!"}},null,null,null,null,null,null,null,null,null,{"$f":"INDIRECT(M$171&$X728)","v":{"$error":"#REF!"}},{"$f":"INDIRECT(N$171&$X728)","v":{"$error":"#REF!"}},null,null,{"$f":"INDIRECT(Q$171&$X728)","v":{"$error":"#REF!"}},null,"円",{"$f":"INDIRECT(T$171&$X728)","v":{"$error":"#REF!"}},null,"円",{"$error":"#REF!"},{"$f":"X727+1","v":189},{"$f":"COUNTIF($W$181:W728,W728)","v":547}]
[{"$error":"#REF!"},null,"➊➋➌それぞれの賃金改善額（見込額）",null,null,null,null,null,null,null,null,null,null,"➊",{"$f":"INDIRECT(O$172&$X729)","v":{"$error":"#REF!"}},"円","➋",{"$f":"INDIRECT(R$172&$X729)","v":{"$error":"#REF!"}},"円","➌",{"$f":"INDIRECT(U$172&$X729)","v":{"$error":"#REF!"}},"円",{"$error":"#REF!"},{"$f":"X728","v":189},{"$f":"COUNTIF($W$181:W729,W729)","v":548}]
[{"$error":"#REF!"},null,null,null,null,null,null,null,null,null,null,null,null,"（",{"$f":"INDIRECT(O$173&$X730)","v":{"$error":"#REF!"}},"人）","（",{"$f":"INDIRECT(R$173&$X730)","v":{"$error":"#REF!"}},"人）","（",{"$f":"INDIRECT(U$173&$X730)","v":{"$error":"#REF!"}},"人）",{"$error":"#REF!"},189,{"$f":"COUNTIF($W$181:W730,W730)","v":549}]
[{"$error":"#REF!"},null,{"$f":"INDIRECT(C$171&$X731)","v":{"$error":"#REF!"}},null,null,null,null,null,null,null,null,null,{"$f":"INDIRECT(M$171&$X731)","v":{"$error":"#REF!"}},{"$f":"INDIRECT(N$171&$X731)","v":{"$error":"#REF!"}},null,null,{"$f":"INDIRECT(Q$171&$X731)","v":{"$error":"#REF!"}},null,"円",{"$f":"INDIRECT(T$171&$X731)","v":{"$error":"#REF!"}},null,"円",{"$error":"#REF!"},{"$f":"X730+1","v":190},{"$f":"COUNTIF($W$181:W731,W731)","v":550}]
[{"$error":"#REF!"},null,"➊➋➌それぞれの賃金改善額（見込額）",null,null,null,null,null,null,null,null,null,null,"➊",{"$f":"INDIRECT(O$172&$X732)","v":{"$error":"#REF!"}},"円","➋",{"$f":"INDIRECT(R$172&$X732)","v":{"$error":"#REF!"}},"円","➌",{"$f":"INDIRECT(U$172&$X732)","v":{"$error":"#REF!"}},"円",{"$error":"#REF!"},{"$f":"X731","v":190},{"$f":"COUNTIF($W$181:W732,W732)","v":551}]
[{"$error":"#REF!"},null,null,null,null,null,null,null,null,null,null,null,null,"（",{"$f":"INDIRECT(O$173&$X733)","v":{"$error":"#REF!"}},"人）","（",{"$f":"INDIRECT(R$173&$X733)","v":{"$error":"#REF!"}},"人）","（",{"$f":"INDIRECT(U$173&$X733)","v":{"$error":"#REF!"}},"人）",{"$error":"#REF!"},190,{"$f":"COUNTIF($W$181:W733,W733)","v":552}]
[{"$error":"#REF!"},null,{"$f":"INDIRECT(C$171&$X734)","v":{"$error":"#REF!"}},null,null,null,null,null,null,null,null,null,{"$f":"INDIRECT(M$171&$X734)","v":{"$error":"#REF!"}},{"$f":"INDIRECT(N$171&$X734)","v":{"$error":"#REF!"}},null,null,{"$f":"INDIRECT(Q$171&$X734)","v":{"$error":"#REF!"}},null,"円",{"$f":"INDIRECT(T$171&$X734)","v":{"$error":"#REF!"}},null,"円",{"$error":"#REF!"},{"$f":"X733+1","v":191},{"$f":"COUNTIF($W$181:W734,W734)","v":553}]
[{"$error":"#REF!"},null,"➊➋➌それぞれの賃金改善額（見込額）",null,null,null,null,null,null,null,null,null,null,"➊",{"$f":"INDIRECT(O$172&$X735)","v":{"$error":"#REF!"}},"円","➋",{"$f":"INDIRECT(R$172&$X735)","v":{"$error":"#REF!"}},"円","➌",{"$f":"INDIRECT(U$172&$X735)","v":{"$error":"#REF!"}},"円",{"$error":"#REF!"},{"$f":"X734","v":191},{"$f":"COUNTIF($W$181:W735,W735)","v":554}]
[{"$error":"#REF!"},null,null,null,null,null,null,null,null,null,null,null,null,"（",{"$f":"INDIRECT(O$173&$X736)","v":{"$error":"#REF!"}},"人）","（",{"$f":"INDIRECT(R$173&$X736)","v":{"$error":"#REF!"}},"人）","（",{"$f":"INDIRECT(U$173&$X736)","v":{"$error":"#REF!"}},"人）",{"$error":"#REF!"},191,{"$f":"COUNTIF($W$181:W736,W736)","v":555}]
[{"$error":"#REF!"},null,{"$f":"INDIRECT(C$171&$X737)","v":{"$error":"#REF!"}},null,null,null,null,null,null,null,null,null,{"$f":"INDIRECT(M$171&$X737)","v":{"$error":"#REF!"}},{"$f":"INDIRECT(N$171&$X737)","v":{"$error":"#REF!"}},null,null,{"$f":"INDIRECT(Q$171&$X737)","v":{"$error":"#REF!"}},null,"円",{"$f":"INDIRECT(T$171&$X737)","v":{"$error":"#REF!"}},null,"円",{"$error":"#REF!"},{"$f":"X736+1","v":192},{"$f":"COUNTIF($W$181:W737,W737)","v":556}]
[{"$error":"#REF!"},null,"➊➋➌それぞれの賃金改善額（見込額）",null,null,null,null,null,null,null,null,null,null,"➊",{"$f":"INDIRECT(O$172&$X738)","v":{"$error":"#REF!"}},"円","➋",{"$f":"INDIRECT(R$172&$X738)","v":{"$error":"#REF!"}},"円","➌",{"$f":"INDIRECT(U$172&$X738)","v":{"$error":"#REF!"}},"円",{"$error":"#REF!"},{"$f":"X737","v":192},{"$f":"COUNTIF($W$181:W738,W738)","v":557}]
[{"$error":"#REF!"},null,null,null,null,null,null,null,null,null,null,null,null,"（",{"$f":"INDIRECT(O$173&$X739)","v":{"$error":"#REF!"}},"人）","（",{"$f":"INDIRECT(R$173&$X739)","v":{"$error":"#REF!"}},"人）","（",{"$f":"INDIRECT(U$173&$X739)","v":{"$error":"#REF!"}},"人）",{"$error":"#REF!"},192,{"$f":"COUNTIF($W$181:W739,W739)","v":558}]
[{"$error":"#REF!"},null,{"$f":"INDIRECT(C$171&$X740)","v":{"$error":"#REF!"}},null,null,null,null,null,null,null,null,null,{"$f":"INDIRECT(M$171&$X740)","v":{"$error":"#REF!"}},{"$f":"INDIRECT(N$171&$X740)","v":{"$error":"#REF!"}},null,null,{"$f":"INDIRECT(Q$171&$X740)","v":{"$error":"#REF!"}},null,"円",{"$f":"INDIRECT(T$171&$X740)","v":{"$error":"#REF!"}},null,"円",{"$error":"#REF!"},{"$f":"X739+1","v":193},{"$f":"COUNTIF($W$181:W740,W740)","v":559}]
[{"$error":"#REF!"},null,"➊➋➌それぞれの賃金改善額（見込額）",null,null,null,null,null,null,null,null,null,null,"➊",{"$f":"INDIRECT(O$172&$X741)","v":{"$error":"#REF!"}},"円","➋",{"$f":"INDIRECT(R$172&$X741)","v":{"$error":"#REF!"}},"円","➌",{"$f":"INDIRECT(U$172&$X741)","v":{"$error":"#REF!"}},"円",{"$error":"#REF!"},{"$f":"X740","v":193},{"$f":"COUNTIF($W$181:W741,W741)","v":560}]
[{"$error":"#REF!"},null,null,null,null,null,null,null,null,null,null,null,null,"（",{"$f":"INDIRECT(O$173&$X742)","v":{"$error":"#REF!"}},"人）","（",{"$f":"INDIRECT(R$173&$X742)","v":{"$error":"#REF!"}},"人）","（",{"$f":"INDIRECT(U$173&$X742)","v":{"$error":"#REF!"}},"人）",{"$error":"#REF!"},193,{"$f":"COUNTIF($W$181:W742,W742)","v":561}]
[{"$error":"#REF!"},null,{"$f":"INDIRECT(C$171&$X743)","v":{"$error":"#REF!"}},null,null,null,null,null,null,null,null,null,{"$f":"INDIRECT(M$171&$X743)","v":{"$error":"#REF!"}},{"$f":"INDIRECT(N$171&$X743)","v":{"$error":"#REF!"}},null,null,{"$f":"INDIRECT(Q$171&$X743)","v":{"$error":"#REF!"}},null,"円",{"$f":"INDIRECT(T$171&$X743)","v":{"$error":"#REF!"}},null,"円",{"$error":"#REF!"},{"$f":"X742+1","v":194},{"$f":"COUNTIF($W$181:W743,W743)","v":562}]
[{"$error":"#REF!"},null,"➊➋➌それぞれの賃金改善額（見込額）",null,null,null,null,null,null,null,null,null,null,"➊",{"$f":"INDIRECT(O$172&$X744)","v":{"$error":"#REF!"}},"円","➋",{"$f":"INDIRECT(R$172&$X744)","v":{"$error":"#REF!"}},"円","➌",{"$f":"INDIRECT(U$172&$X744)","v":{"$error":"#REF!"}},"円",{"$error":"#REF!"},{"$f":"X743","v":194},{"$f":"COUNTIF($W$181:W744,W744)","v":563}]
[{"$error":"#REF!"},null,null,null,null,null,null,null,null,null,null,null,null,"（",{"$f":"INDIRECT(O$173&$X745)","v":{"$error":"#REF!"}},"人）","（",{"$f":"INDIRECT(R$173&$X745)","v":{"$error":"#REF!"}},"人）","（",{"$f":"INDIRECT(U$173&$X745)","v":{"$error":"#REF!"}},"人）",{"$error":"#REF!"},194,{"$f":"COUNTIF($W$181:W745,W745)","v":564}]
[{"$error":"#REF!"},null,{"$f":"INDIRECT(C$171&$X746)","v":{"$error":"#REF!"}},null,null,null,null,null,null,null,null,null,{"$f":"INDIRECT(M$171&$X746)","v":{"$error":"#REF!"}},{"$f":"INDIRECT(N$171&$X746)","v":{"$error":"#REF!"}},null,null,{"$f":"INDIRECT(Q$171&$X746)","v":{"$error":"#REF!"}},null,"円",{"$f":"INDIRECT(T$171&$X746)","v":{"$error":"#REF!"}},null,"円",{"$error":"#REF!"},{"$f":"X745+1","v":195},{"$f":"COUNTIF($W$181:W746,W746)","v":565}]
[{"$error":"#REF!"},null,"➊➋➌それぞれの賃金改善額（見込額）",null,null,null,null,null,null,null,null,null,null,"➊",{"$f":"INDIRECT(O$172&$X747)","v":{"$error":"#REF!"}},"円","➋",{"$f":"INDIRECT(R$172&$X747)","v":{"$error":"#REF!"}},"円","➌",{"$f":"INDIRECT(U$172&$X747)","v":{"$error":"#REF!"}},"円",{"$error":"#REF!"},{"$f":"X746","v":195},{"$f":"COUNTIF($W$181:W747,W747)","v":566}]
[{"$error":"#REF!"},null,null,null,null,null,null,null,null,null,null,null,null,"（",{"$f":"INDIRECT(O$173&$X748)","v":{"$error":"#REF!"}},"人）","（",{"$f":"INDIRECT(R$173&$X748)","v":{"$error":"#REF!"}},"人）","（",{"$f":"INDIRECT(U$173&$X748)","v":{"$error":"#REF!"}},"人）",{"$error":"#REF!"},195,{"$f":"COUNTIF($W$181:W748,W748)","v":567}]
[{"$error":"#REF!"},null,{"$f":"INDIRECT(C$171&$X749)","v":{"$error":"#REF!"}},null,null,null,null,null,null,null,null,null,{"$f":"INDIRECT(M$171&$X749)","v":{"$error":"#REF!"}},{"$f":"INDIRECT(N$171&$X749)","v":{"$error":"#REF!"}},null,null,{"$f":"INDIRECT(Q$171&$X749)","v":{"$error":"#REF!"}},null,"円",{"$f":"INDIRECT(T$171&$X749)","v":{"$error":"#REF!"}},null,"円",{"$error":"#REF!"},{"$f":"X748+1","v":196},{"$f":"COUNTIF($W$181:W749,W749)","v":568}]
[{"$error":"#REF!"},null,"➊➋➌それぞれの賃金改善額（見込額）",null,null,null,null,null,null,null,null,null,null,"➊",{"$f":"INDIRECT(O$172&$X750)","v":{"$error":"#REF!"}},"円","➋",{"$f":"INDIRECT(R$172&$X750)","v":{"$error":"#REF!"}},"円","➌",{"$f":"INDIRECT(U$172&$X750)","v":{"$error":"#REF!"}},"円",{"$error":"#REF!"},{"$f":"X749","v":196},{"$f":"COUNTIF($W$181:W750,W750)","v":569}]
[{"$error":"#REF!"},null,null,null,null,null,null,null,null,null,null,null,null,"（",{"$f":"INDIRECT(O$173&$X751)","v":{"$error":"#REF!"}},"人）","（",{"$f":"INDIRECT(R$173&$X751)","v":{"$error":"#REF!"}},"人）","（",{"$f":"INDIRECT(U$173&$X751)","v":{"$error":"#REF!"}},"人）",{"$error":"#REF!"},196,{"$f":"COUNTIF($W$181:W751,W751)","v":570}]
[{"$error":"#REF!"},null,{"$f":"INDIRECT(C$171&$X752)","v":{"$error":"#REF!"}},null,null,null,null,null,null,null,null,null,{"$f":"INDIRECT(M$171&$X752)","v":{"$error":"#REF!"}},{"$f":"INDIRECT(N$171&$X752)","v":{"$error":"#REF!"}},null,null,{"$f":"INDIRECT(Q$171&$X752)","v":{"$error":"#REF!"}},null,"円",{"$f":"INDIRECT(T$171&$X752)","v":{"$error":"#REF!"}},null,"円",{"$error":"#REF!"},{"$f":"X751+1","v":197},{"$f":"COUNTIF($W$181:W752,W752)","v":571}]
[{"$error":"#REF!"},null,"➊➋➌それぞれの賃金改善額（見込額）",null,null,null,null,null,null,null,null,null,null,"➊",{"$f":"INDIRECT(O$172&$X753)","v":{"$error":"#REF!"}},"円","➋",{"$f":"INDIRECT(R$172&$X753)","v":{"$error":"#REF!"}},"円","➌",{"$f":"INDIRECT(U$172&$X753)","v":{"$error":"#REF!"}},"円",{"$error":"#REF!"},{"$f":"X752","v":197},{"$f":"COUNTIF($W$181:W753,W753)","v":572}]
[{"$error":"#REF!"},null,null,null,null,null,null,null,null,null,null,null,null,"（",{"$f":"INDIRECT(O$173&$X754)","v":{"$error":"#REF!"}},"人）","（",{"$f":"INDIRECT(R$173&$X754)","v":{"$error":"#REF!"}},"人）","（",{"$f":"INDIRECT(U$173&$X754)","v":{"$error":"#REF!"}},"人）",{"$error":"#REF!"},197,{"$f":"COUNTIF($W$181:W754,W754)","v":573}]
[{"$error":"#REF!"},null,{"$f":"INDIRECT(C$171&$X755)","v":{"$error":"#REF!"}},null,null,null,null,null,null,null,null,null,{"$f":"INDIRECT(M$171&$X755)","v":{"$error":"#REF!"}},{"$f":"INDIRECT(N$171&$X755)","v":{"$error":"#REF!"}},null,null,{"$f":"INDIRECT(Q$171&$X755)","v":{"$error":"#REF!"}},null,"円",{"$f":"INDIRECT(T$171&$X755)","v":{"$error":"#REF!"}},null,"円",{"$error":"#REF!"},{"$f":"X754+1","v":198},{"$f":"COUNTIF($W$181:W755,W755)","v":574}]
[{"$error":"#REF!"},null,"➊➋➌それぞれの賃金改善額（見込額）",null,null,null,null,null,null,null,null,null,null,"➊",{"$f":"INDIRECT(O$172&$X756)","v":{"$error":"#REF!"}},"円","➋",{"$f":"INDIRECT(R$172&$X756)","v":{"$error":"#REF!"}},"円","➌",{"$f":"INDIRECT(U$172&$X756)","v":{"$error":"#REF!"}},"円",{"$error":"#REF!"},{"$f":"X755","v":198},{"$f":"COUNTIF($W$181:W756,W756)","v":575}]
[{"$error":"#REF!"},null,null,null,null,null,null,null,null,null,null,null,null,"（",{"$f":"INDIRECT(O$173&$X757)","v":{"$error":"#REF!"}},"人）","（",{"$f":"INDIRECT(R$173&$X757)","v":{"$error":"#REF!"}},"人）","（",{"$f":"INDIRECT(U$173&$X757)","v":{"$error":"#REF!"}},"人）",{"$error":"#REF!"},198,{"$f":"COUNTIF($W$181:W757,W757)","v":576}]
[{"$error":"#REF!"},null,{"$f":"INDIRECT(C$171&$X758)","v":{"$error":"#REF!"}},null,null,null,null,null,null,null,null,null,{"$f":"INDIRECT(M$171&$X758)","v":{"$error":"#REF!"}},{"$f":"INDIRECT(N$171&$X758)","v":{"$error":"#REF!"}},null,null,{"$f":"INDIRECT(Q$171&$X758)","v":{"$error":"#REF!"}},null,"円",{"$f":"INDIRECT(T$171&$X758)","v":{"$error":"#REF!"}},null,"円",{"$error":"#REF!"},{"$f":"X757+1","v":199},{"$f":"COUNTIF($W$181:W758,W758)","v":577}]
[{"$f":"W759&Y759","v":{"$error":"#REF!"}},null,"➊➋➌それぞれの賃金改善額（見込額）",null,null,null,null,null,null,null,null,null,null,"➊",{"$f":"INDIRECT(O$172&$X759)","v":{"$error":"#REF!"}},"円","➋",{"$f":"INDIRECT(R$172&$X759)","v":{"$error":"#REF!"}},"円","➌",{"$f":"INDIRECT(U$172&$X759)","v":{"$error":"#REF!"}},"円",{"$f":"INDIRECT($W$171&X759)","v":{"$error":"#REF!"}},{"$f":"X758","v":199},{"$f":"COUNTIF($W$181:W759,W759)","v":578}]
[{"$error":"#REF!"},null,null,null,null,null,null,null,null,null,null,null,null,"（",{"$f":"INDIRECT(O$173&$X760)","v":{"$error":"#REF!"}},"人）","（",{"$f":"INDIRECT(R$173&$X760)","v":{"$error":"#REF!"}},"人）","（",{"$f":"INDIRECT(U$173&$X760)","v":{"$error":"#REF!"}},"人）",{"$error":"#REF!"},199,{"$f":"COUNTIF($W$181:W760,W760)","v":579}]
[{"$error":"#REF!"},null,{"$f":"INDIRECT(C$171&$X761)","v":{"$error":"#REF!"}},null,null,null,null,null,null,null,null,null,{"$f":"INDIRECT(M$171&$X761)","v":{"$error":"#REF!"}},{"$f":"INDIRECT(N$171&$X761)","v":{"$error":"#REF!"}},null,null,{"$f":"INDIRECT(Q$171&$X761)","v":{"$error":"#REF!"}},null,"円",{"$f":"INDIRECT(T$171&$X761)","v":{"$error":"#REF!"}},null,"円",{"$error":"#REF!"},{"$f":"X760+1","v":200},{"$f":"COUNTIF($W$181:W761,W761)","v":580}]
[{"$error":"#REF!"},null,"➊➋➌それぞれの賃金改善額（見込額）",null,null,null,null,null,null,null,null,null,null,"➊",{"$f":"INDIRECT(O$172&$X762)","v":{"$error":"#REF!"}},"円","➋",{"$f":"INDIRECT(R$172&$X762)","v":{"$error":"#REF!"}},"円","➌",{"$f":"INDIRECT(U$172&$X762)","v":{"$error":"#REF!"}},"円",{"$error":"#REF!"},{"$f":"X761","v":200},{"$f":"COUNTIF($W$181:W762,W762)","v":581}]
[{"$error":"#REF!"},null,null,null,null,null,null,null,null,null,null,null,null,"（",{"$f":"INDIRECT(O$173&$X763)","v":{"$error":"#REF!"}},"人）","（",{"$f":"INDIRECT(R$173&$X763)","v":{"$error":"#REF!"}},"人）","（",{"$f":"INDIRECT(U$173&$X763)","v":{"$error":"#REF!"}},"人）",{"$error":"#REF!"},200,{"$f":"COUNTIF($W$181:W763,W763)","v":582}]
[{"$error":"#REF!"},null,{"$f":"INDIRECT(C$171&$X764)","v":{"$error":"#REF!"}},null,null,null,null,null,null,null,null,null,{"$f":"INDIRECT(M$171&$X764)","v":{"$error":"#REF!"}},{"$f":"INDIRECT(N$171&$X764)","v":{"$error":"#REF!"}},null,null,{"$f":"INDIRECT(Q$171&$X764)","v":{"$error":"#REF!"}},null,"円",{"$f":"INDIRECT(T$171&$X764)","v":{"$error":"#REF!"}},null,"円",{"$error":"#REF!"},{"$f":"X763+1","v":201},{"$f":"COUNTIF($W$181:W764,W764)","v":583}]
[{"$error":"#REF!"},null,"➊➋➌それぞれの賃金改善額（見込額）",null,null,null,null,null,null,null,null,null,null,"➊",{"$f":"INDIRECT(O$172&$X765)","v":{"$error":"#REF!"}},"円","➋",{"$f":"INDIRECT(R$172&$X765)","v":{"$error":"#REF!"}},"円","➌",{"$f":"INDIRECT(U$172&$X765)","v":{"$error":"#REF!"}},"円",{"$error":"#REF!"},{"$f":"X764","v":201},{"$f":"COUNTIF($W$181:W765,W765)","v":584}]
[{"$error":"#REF!"},null,null,null,null,null,null,null,null,null,null,null,null,"（",{"$f":"INDIRECT(O$173&$X766)","v":{"$error":"#REF!"}},"人）","（",{"$f":"INDIRECT(R$173&$X766)","v":{"$error":"#REF!"}},"人）","（",{"$f":"INDIRECT(U$173&$X766)","v":{"$error":"#REF!"}},"人）",{"$error":"#REF!"},201,{"$f":"COUNTIF($W$181:W766,W766)","v":585}]
[{"$error":"#REF!"},null,{"$f":"INDIRECT(C$171&$X767)","v":{"$error":"#REF!"}},null,null,null,null,null,null,null,null,null,{"$f":"INDIRECT(M$171&$X767)","v":{"$error":"#REF!"}},{"$f":"INDIRECT(N$171&$X767)","v":{"$error":"#REF!"}},null,null,{"$f":"INDIRECT(Q$171&$X767)","v":{"$error":"#REF!"}},null,"円",{"$f":"INDIRECT(T$171&$X767)","v":{"$error":"#REF!"}},null,"円",{"$error":"#REF!"},{"$f":"X766+1","v":202},{"$f":"COUNTIF($W$181:W767,W767)","v":586}]
[{"$error":"#REF!"},null,"➊➋➌それぞれの賃金改善額（見込額）",null,null,null,null,null,null,null,null,null,null,"➊",{"$f":"INDIRECT(O$172&$X768)","v":{"$error":"#REF!"}},"円","➋",{"$f":"INDIRECT(R$172&$X768)","v":{"$error":"#REF!"}},"円","➌",{"$f":"INDIRECT(U$172&$X768)","v":{"$error":"#REF!"}},"円",{"$error":"#REF!"},{"$f":"X767","v":202},{"$f":"COUNTIF($W$181:W768,W768)","v":587}]
[{"$error":"#REF!"},null,null,null,null,null,null,null,null,null,null,null,null,"（",{"$f":"INDIRECT(O$173&$X769)","v":{"$error":"#REF!"}},"人）","（",{"$f":"INDIRECT(R$173&$X769)","v":{"$error":"#REF!"}},"人）","（",{"$f":"INDIRECT(U$173&$X769)","v":{"$error":"#REF!"}},"人）",{"$error":"#REF!"},202,{"$f":"COUNTIF($W$181:W769,W769)","v":588}]
[{"$error":"#REF!"},null,{"$f":"INDIRECT(C$171&$X770)","v":{"$error":"#REF!"}},null,null,null,null,null,null,null,null,null,{"$f":"INDIRECT(M$171&$X770)","v":{"$error":"#REF!"}},{"$f":"INDIRECT(N$171&$X770)","v":{"$error":"#REF!"}},null,null,{"$f":"INDIRECT(Q$171&$X770)","v":{"$error":"#REF!"}},null,"円",{"$f":"INDIRECT(T$171&$X770)","v":{"$error":"#REF!"}},null,"円",{"$error":"#REF!"},{"$f":"X769+1","v":203},{"$f":"COUNTIF($W$181:W770,W770)","v":589}]
[{"$error":"#REF!"},null,"➊➋➌それぞれの賃金改善額（見込額）",null,null,null,null,null,null,null,null,null,null,"➊",{"$f":"INDIRECT(O$172&$X771)","v":{"$error":"#REF!"}},"円","➋",{"$f":"INDIRECT(R$172&$X771)","v":{"$error":"#REF!"}},"円","➌",{"$f":"INDIRECT(U$172&$X771)","v":{"$error":"#REF!"}},"円",{"$error":"#REF!"},{"$f":"X770","v":203},{"$f":"COUNTIF($W$181:W771,W771)","v":590}]
[{"$error":"#REF!"},null,null,null,null,null,null,null,null,null,null,null,null,"（",{"$f":"INDIRECT(O$173&$X772)","v":{"$error":"#REF!"}},"人）","（",{"$f":"INDIRECT(R$173&$X772)","v":{"$error":"#REF!"}},"人）","（",{"$f":"INDIRECT(U$173&$X772)","v":{"$error":"#REF!"}},"人）",{"$error":"#REF!"},203,{"$f":"COUNTIF($W$181:W772,W772)","v":591}]
[{"$f":"W773&Y773","v":{"$error":"#REF!"}},null,{"$f":"INDIRECT(C$171&$X773)","v":{"$error":"#REF!"}},null,null,null,null,null,null,null,null,null,{"$f":"INDIRECT(M$171&$X773)","v":{"$error":"#REF!"}},{"$f":"INDIRECT(N$171&$X773)","v":{"$error":"#REF!"}},null,null,{"$f":"INDIRECT(Q$171&$X773)","v":{"$error":"#REF!"}},null,"円",{"$f":"INDIRECT(T$171&$X773)","v":{"$error":"#REF!"}},null,"円",{"$error":"#REF!"},{"$f":"X772+1","v":204},{"$f":"COUNTIF($W$181:W773,W773)","v":592}]
[{"$error":"#REF!"},null,"➊➋➌それぞれの賃金改善額（見込額）",null,null,null,null,null,null,null,null,null,null,"➊",{"$f":"INDIRECT(O$172&$X774)","v":{"$error":"#REF!"}},"円","➋",{"$f":"INDIRECT(R$172&$X774)","v":{"$error":"#REF!"}},"円","➌",{"$f":"INDIRECT(U$172&$X774)","v":{"$error":"#REF!"}},"円",{"$error":"#REF!"},{"$f":"X773","v":204},{"$f":"COUNTIF($W$181:W774,W774)","v":593}]
[{"$error":"#REF!"},null,null,null,null,null,null,null,null,null,null,null,null,"（",{"$f":"INDIRECT(O$173&$X775)","v":{"$error":"#REF!"}},"人）","（",{"$f":"INDIRECT(R$173&$X775)","v":{"$error":"#REF!"}},"人）","（",{"$f":"INDIRECT(U$173&$X775)","v":{"$error":"#REF!"}},"人）",{"$error":"#REF!"},204,{"$f":"COUNTIF($W$181:W775,W775)","v":594}]
[{"$error":"#REF!"},null,{"$f":"INDIRECT(C$171&$X776)","v":{"$error":"#REF!"}},null,null,null,null,null,null,null,null,null,{"$f":"INDIRECT(M$171&$X776)","v":{"$error":"#REF!"}},{"$f":"INDIRECT(N$171&$X776)","v":{"$error":"#REF!"}},null,null,{"$f":"INDIRECT(Q$171&$X776)","v":{"$error":"#REF!"}},null,"円",{"$f":"INDIRECT(T$171&$X776)","v":{"$error":"#REF!"}},null,"円",{"$error":"#REF!"},{"$f":"X775+1","v":205},{"$f":"COUNTIF($W$181:W776,W776)","v":595}]
[{"$error":"#REF!"},null,"➊➋➌それぞれの賃金改善額（見込額）",null,null,null,null,null,null,null,null,null,null,"➊",{"$f":"INDIRECT(O$172&$X777)","v":{"$error":"#REF!"}},"円","➋",{"$f":"INDIRECT(R$172&$X777)","v":{"$error":"#REF!"}},"円","➌",{"$f":"INDIRECT(U$172&$X777)","v":{"$error":"#REF!"}},"円",{"$error":"#REF!"},{"$f":"X776","v":205},{"$f":"COUNTIF($W$181:W777,W777)","v":596}]
[{"$error":"#REF!"},null,null,null,null,null,null,null,null,null,null,null,null,"（",{"$f":"INDIRECT(O$173&$X778)","v":{"$error":"#REF!"}},"人）","（",{"$f":"INDIRECT(R$173&$X778)","v":{"$error":"#REF!"}},"人）","（",{"$f":"INDIRECT(U$173&$X778)","v":{"$error":"#REF!"}},"人）",{"$error":"#REF!"},205,{"$f":"COUNTIF($W$181:W778,W778)","v":597}]
[{"$error":"#REF!"},null,{"$f":"INDIRECT(C$171&$X779)","v":{"$error":"#REF!"}},null,null,null,null,null,null,null,null,null,{"$f":"INDIRECT(M$171&$X779)","v":{"$error":"#REF!"}},{"$f":"INDIRECT(N$171&$X779)","v":{"$error":"#REF!"}},null,null,{"$f":"INDIRECT(Q$171&$X779)","v":{"$error":"#REF!"}},null,"円",{"$f":"INDIRECT(T$171&$X779)","v":{"$error":"#REF!"}},null,"円",{"$error":"#REF!"},{"$f":"X778+1","v":206},{"$f":"COUNTIF($W$181:W779,W779)","v":598}]
[{"$error":"#REF!"},null,"➊➋➌それぞれの賃金改善額（見込額）",null,null,null,null,null,null,null,null,null,null,"➊",{"$f":"INDIRECT(O$172&$X780)","v":{"$error":"#REF!"}},"円","➋",{"$f":"INDIRECT(R$172&$X780)","v":{"$error":"#REF!"}},"円","➌",{"$f":"INDIRECT(U$172&$X780)","v":{"$error":"#REF!"}},"円",{"$error":"#REF!"},{"$f":"X779","v":206},{"$f":"COUNTIF($W$181:W780,W780)","v":599}]
[{"$error":"#REF!"},null,null,null,null,null,null,null,null,null,null,null,null,"（",{"$f":"INDIRECT(O$173&$X781)","v":{"$error":"#REF!"}},"人）","（",{"$f":"INDIRECT(R$173&$X781)","v":{"$error":"#REF!"}},"人）","（",{"$f":"INDIRECT(U$173&$X781)","v":{"$error":"#REF!"}},"人）",{"$error":"#REF!"},206,{"$f":"COUNTIF($W$181:W781,W781)","v":600}]
[{"$error":"#REF!"},null,{"$f":"INDIRECT(C$171&$X782)","v":{"$error":"#REF!"}},null,null,null,null,null,null,null,null,null,{"$f":"INDIRECT(M$171&$X782)","v":{"$error":"#REF!"}},{"$f":"INDIRECT(N$171&$X782)","v":{"$error":"#REF!"}},null,null,{"$f":"INDIRECT(Q$171&$X782)","v":{"$error":"#REF!"}},null,"円",{"$f":"INDIRECT(T$171&$X782)","v":{"$error":"#REF!"}},null,"円",{"$error":"#REF!"},{"$f":"X781+1","v":207},{"$f":"COUNTIF($W$181:W782,W782)","v":601}]
[{"$error":"#REF!"},null,"➊➋➌それぞれの賃金改善額（見込額）",null,null,null,null,null,null,null,null,null,null,"➊",{"$f":"INDIRECT(O$172&$X783)","v":{"$error":"#REF!"}},"円","➋",{"$f":"INDIRECT(R$172&$X783)","v":{"$error":"#REF!"}},"円","➌",{"$f":"INDIRECT(U$172&$X783)","v":{"$error":"#REF!"}},"円",{"$error":"#REF!"},{"$f":"X782","v":207},{"$f":"COUNTIF($W$181:W783,W783)","v":602}]
[{"$error":"#REF!"},null,null,null,null,null,null,null,null,null,null,null,null,"（",{"$f":"INDIRECT(O$173&$X784)","v":{"$error":"#REF!"}},"人）","（",{"$f":"INDIRECT(R$173&$X784)","v":{"$error":"#REF!"}},"人）","（",{"$f":"INDIRECT(U$173&$X784)","v":{"$error":"#REF!"}},"人）",{"$error":"#REF!"},207,{"$f":"COUNTIF($W$181:W784,W784)","v":603}]
[{"$error":"#REF!"},null,{"$f":"INDIRECT(C$171&$X785)","v":{"$error":"#REF!"}},null,null,null,null,null,null,null,null,null,{"$f":"INDIRECT(M$171&$X785)","v":{"$error":"#REF!"}},{"$f":"INDIRECT(N$171&$X785)","v":{"$error":"#REF!"}},null,null,{"$f":"INDIRECT(Q$171&$X785)","v":{"$error":"#REF!"}},null,"円",{"$f":"INDIRECT(T$171&$X785)","v":{"$error":"#REF!"}},null,"円",{"$error":"#REF!"},{"$f":"X784+1","v":208},{"$f":"COUNTIF($W$181:W785,W785)","v":604}]
[{"$error":"#REF!"},null,"➊➋➌それぞれの賃金改善額（見込額）",null,null,null,null,null,null,null,null,null,null,"➊",{"$f":"INDIRECT(O$172&$X786)","v":{"$error":"#REF!"}},"円","➋",{"$f":"INDIRECT(R$172&$X786)","v":{"$error":"#REF!"}},"円","➌",{"$f":"INDIRECT(U$172&$X786)","v":{"$error":"#REF!"}},"円",{"$error":"#REF!"},{"$f":"X785","v":208},{"$f":"COUNTIF($W$181:W786,W786)","v":605}]
[{"$error":"#REF!"},null,null,null,null,null,null,null,null,null,null,null,null,"（",{"$f":"INDIRECT(O$173&$X787)","v":{"$error":"#REF!"}},"人）","（",{"$f":"INDIRECT(R$173&$X787)","v":{"$error":"#REF!"}},"人）","（",{"$f":"INDIRECT(U$173&$X787)","v":{"$error":"#REF!"}},"人）",{"$error":"#REF!"},208,{"$f":"COUNTIF($W$181:W787,W787)","v":606}]
[{"$error":"#REF!"},null,{"$f":"INDIRECT(C$171&$X788)","v":{"$error":"#REF!"}},null,null,null,null,null,null,null,null,null,{"$f":"INDIRECT(M$171&$X788)","v":{"$error":"#REF!"}},{"$f":"INDIRECT(N$171&$X788)","v":{"$error":"#REF!"}},null,null,{"$f":"INDIRECT(Q$171&$X788)","v":{"$error":"#REF!"}},null,"円",{"$f":"INDIRECT(T$171&$X788)","v":{"$error":"#REF!"}},null,"円",{"$error":"#REF!"},{"$f":"X787+1","v":209},{"$f":"COUNTIF($W$181:W788,W788)","v":607}]
[{"$error":"#REF!"},null,"➊➋➌それぞれの賃金改善額（見込額）",null,null,null,null,null,null,null,null,null,null,"➊",{"$f":"INDIRECT(O$172&$X789)","v":{"$error":"#REF!"}},"円","➋",{"$f":"INDIRECT(R$172&$X789)","v":{"$error":"#REF!"}},"円","➌",{"$f":"INDIRECT(U$172&$X789)","v":{"$error":"#REF!"}},"円",{"$error":"#REF!"},{"$f":"X788","v":209},{"$f":"COUNTIF($W$181:W789,W789)","v":608}]
[{"$error":"#REF!"},null,null,null,null,null,null,null,null,null,null,null,null,"（",{"$f":"INDIRECT(O$173&$X790)","v":{"$error":"#REF!"}},"人）","（",{"$f":"INDIRECT(R$173&$X790)","v":{"$error":"#REF!"}},"人）","（",{"$f":"INDIRECT(U$173&$X790)","v":{"$error":"#REF!"}},"人）",{"$error":"#REF!"},209,{"$f":"COUNTIF($W$181:W790,W790)","v":609}]
[{"$error":"#REF!"},null,{"$f":"INDIRECT(C$171&$X791)","v":{"$error":"#REF!"}},null,null,null,null,null,null,null,null,null,{"$f":"INDIRECT(M$171&$X791)","v":{"$error":"#REF!"}},{"$f":"INDIRECT(N$171&$X791)","v":{"$error":"#REF!"}},null,null,{"$f":"INDIRECT(Q$171&$X791)","v":{"$error":"#REF!"}},null,"円",{"$f":"INDIRECT(T$171&$X791)","v":{"$error":"#REF!"}},null,"円",{"$error":"#REF!"},{"$f":"X790+1","v":210},{"$f":"COUNTIF($W$181:W791,W791)","v":610}]
[{"$error":"#REF!"},null,"➊➋➌それぞれの賃金改善額（見込額）",null,null,null,null,null,null,null,null,null,null,"➊",{"$f":"INDIRECT(O$172&$X792)","v":{"$error":"#REF!"}},"円","➋",{"$f":"INDIRECT(R$172&$X792)","v":{"$error":"#REF!"}},"円","➌",{"$f":"INDIRECT(U$172&$X792)","v":{"$error":"#REF!"}},"円",{"$error":"#REF!"},{"$f":"X791","v":210},{"$f":"COUNTIF($W$181:W792,W792)","v":611}]
[{"$error":"#REF!"},null,null,null,null,null,null,null,null,null,null,null,null,"（",{"$f":"INDIRECT(O$173&$X793)","v":{"$error":"#REF!"}},"人）","（",{"$f":"INDIRECT(R$173&$X793)","v":{"$error":"#REF!"}},"人）","（",{"$f":"INDIRECT(U$173&$X793)","v":{"$error":"#REF!"}},"人）",{"$error":"#REF!"},210,{"$f":"COUNTIF($W$181:W793,W793)","v":612}]
[{"$error":"#REF!"},null,{"$f":"INDIRECT(C$171&$X794)","v":{"$error":"#REF!"}},null,null,null,null,null,null,null,null,null,{"$f":"INDIRECT(M$171&$X794)","v":{"$error":"#REF!"}},{"$f":"INDIRECT(N$171&$X794)","v":{"$error":"#REF!"}},null,null,{"$f":"INDIRECT(Q$171&$X794)","v":{"$error":"#REF!"}},null,"円",{"$f":"INDIRECT(T$171&$X794)","v":{"$error":"#REF!"}},null,"円",{"$error":"#REF!"},{"$f":"X793+1","v":211},{"$f":"COUNTIF($W$181:W794,W794)","v":613}]
[{"$error":"#REF!"},null,"➊➋➌それぞれの賃金改善額（見込額）",null,null,null,null,null,null,null,null,null,null,"➊",{"$f":"INDIRECT(O$172&$X795)","v":{"$error":"#REF!"}},"円","➋",{"$f":"INDIRECT(R$172&$X795)","v":{"$error":"#REF!"}},"円","➌",{"$f":"INDIRECT(U$172&$X795)","v":{"$error":"#REF!"}},"円",{"$error":"#REF!"},{"$f":"X794","v":211},{"$f":"COUNTIF($W$181:W795,W795)","v":614}]
[{"$error":"#REF!"},null,null,null,null,null,null,null,null,null,null,null,null,"（",{"$f":"INDIRECT(O$173&$X796)","v":{"$error":"#REF!"}},"人）","（",{"$f":"INDIRECT(R$173&$X796)","v":{"$error":"#REF!"}},"人）","（",{"$f":"INDIRECT(U$173&$X796)","v":{"$error":"#REF!"}},"人）",{"$error":"#REF!"},211,{"$f":"COUNTIF($W$181:W796,W796)","v":615}]
[{"$error":"#REF!"},null,{"$f":"INDIRECT(C$171&$X797)","v":{"$error":"#REF!"}},null,null,null,null,null,null,null,null,null,{"$f":"INDIRECT(M$171&$X797)","v":{"$error":"#REF!"}},{"$f":"INDIRECT(N$171&$X797)","v":{"$error":"#REF!"}},null,null,{"$f":"INDIRECT(Q$171&$X797)","v":{"$error":"#REF!"}},null,"円",{"$f":"INDIRECT(T$171&$X797)","v":{"$error":"#REF!"}},null,"円",{"$error":"#REF!"},{"$f":"X796+1","v":212},{"$f":"COUNTIF($W$181:W797,W797)","v":616}]
[{"$error":"#REF!"},null,"➊➋➌それぞれの賃金改善額（見込額）",null,null,null,null,null,null,null,null,null,null,"➊",{"$f":"INDIRECT(O$172&$X798)","v":{"$error":"#REF!"}},"円","➋",{"$f":"INDIRECT(R$172&$X798)","v":{"$error":"#REF!"}},"円","➌",{"$f":"INDIRECT(U$172&$X798)","v":{"$error":"#REF!"}},"円",{"$error":"#REF!"},{"$f":"X797","v":212},{"$f":"COUNTIF($W$181:W798,W798)","v":617}]
[{"$error":"#REF!"},null,null,null,null,null,null,null,null,null,null,null,null,"（",{"$f":"INDIRECT(O$173&$X799)","v":{"$error":"#REF!"}},"人）","（",{"$f":"INDIRECT(R$173&$X799)","v":{"$error":"#REF!"}},"人）","（",{"$f":"INDIRECT(U$173&$X799)","v":{"$error":"#REF!"}},"人）",{"$error":"#REF!"},212,{"$f":"COUNTIF($W$181:W799,W799)","v":618}]
[{"$error":"#REF!"},null,{"$f":"INDIRECT(C$171&$X800)","v":{"$error":"#REF!"}},null,null,null,null,null,null,null,null,null,{"$f":"INDIRECT(M$171&$X800)","v":{"$error":"#REF!"}},{"$f":"INDIRECT(N$171&$X800)","v":{"$error":"#REF!"}},null,null,{"$f":"INDIRECT(Q$171&$X800)","v":{"$error":"#REF!"}},null,"円",{"$f":"INDIRECT(T$171&$X800)","v":{"$error":"#REF!"}},null,"円",{"$error":"#REF!"},{"$f":"X799+1","v":213},{"$f":"COUNTIF($W$181:W800,W800)","v":619}]
[{"$error":"#REF!"},null,"➊➋➌それぞれの賃金改善額（見込額）",null,null,null,null,null,null,null,null,null,null,"➊",{"$f":"INDIRECT(O$172&$X801)","v":{"$error":"#REF!"}},"円","➋",{"$f":"INDIRECT(R$172&$X801)","v":{"$error":"#REF!"}},"円","➌",{"$f":"INDIRECT(U$172&$X801)","v":{"$error":"#REF!"}},"円",{"$error":"#REF!"},{"$f":"X800","v":213},{"$f":"COUNTIF($W$181:W801,W801)","v":620}]
[{"$error":"#REF!"},null,null,null,null,null,null,null,null,null,null,null,null,"（",{"$f":"INDIRECT(O$173&$X802)","v":{"$error":"#REF!"}},"人）","（",{"$f":"INDIRECT(R$173&$X802)","v":{"$error":"#REF!"}},"人）","（",{"$f":"INDIRECT(U$173&$X802)","v":{"$error":"#REF!"}},"人）",{"$error":"#REF!"},213,{"$f":"COUNTIF($W$181:W802,W802)","v":621}]
[{"$error":"#REF!"},null,{"$f":"INDIRECT(C$171&$X803)","v":{"$error":"#REF!"}},null,null,null,null,null,null,null,null,null,{"$f":"INDIRECT(M$171&$X803)","v":{"$error":"#REF!"}},{"$f":"INDIRECT(N$171&$X803)","v":{"$error":"#REF!"}},null,null,{"$f":"INDIRECT(Q$171&$X803)","v":{"$error":"#REF!"}},null,"円",{"$f":"INDIRECT(T$171&$X803)","v":{"$error":"#REF!"}},null,"円",{"$error":"#REF!"},{"$f":"X802+1","v":214},{"$f":"COUNTIF($W$181:W803,W803)","v":622}]
[{"$error":"#REF!"},null,"➊➋➌それぞれの賃金改善額（見込額）",null,null,null,null,null,null,null,null,null,null,"➊",{"$f":"INDIRECT(O$172&$X804)","v":{"$error":"#REF!"}},"円","➋",{"$f":"INDIRECT(R$172&$X804)","v":{"$error":"#REF!"}},"円","➌",{"$f":"INDIRECT(U$172&$X804)","v":{"$error":"#REF!"}},"円",{"$error":"#REF!"},{"$f":"X803","v":214},{"$f":"COUNTIF($W$181:W804,W804)","v":623}]
[{"$error":"#REF!"},null,null,null,null,null,null,null,null,null,null,null,null,"（",{"$f":"INDIRECT(O$173&$X805)","v":{"$error":"#REF!"}},"人）","（",{"$f":"INDIRECT(R$173&$X805)","v":{"$error":"#REF!"}},"人）","（",{"$f":"INDIRECT(U$173&$X805)","v":{"$error":"#REF!"}},"人）",{"$error":"#REF!"},214,{"$f":"COUNTIF($W$181:W805,W805)","v":624}]
[{"$error":"#REF!"},null,{"$f":"INDIRECT(C$171&$X806)","v":{"$error":"#REF!"}},null,null,null,null,null,null,null,null,null,{"$f":"INDIRECT(M$171&$X806)","v":{"$error":"#REF!"}},{"$f":"INDIRECT(N$171&$X806)","v":{"$error":"#REF!"}},null,null,{"$f":"INDIRECT(Q$171&$X806)","v":{"$error":"#REF!"}},null,"円",{"$f":"INDIRECT(T$171&$X806)","v":{"$error":"#REF!"}},null,"円",{"$error":"#REF!"},{"$f":"X805+1","v":215},{"$f":"COUNTIF($W$181:W806,W806)","v":625}]
[{"$error":"#REF!"},null,"➊➋➌それぞれの賃金改善額（見込額）",null,null,null,null,null,null,null,null,null,null,"➊",{"$f":"INDIRECT(O$172&$X807)","v":{"$error":"#REF!"}},"円","➋",{"$f":"INDIRECT(R$172&$X807)","v":{"$error":"#REF!"}},"円","➌",{"$f":"INDIRECT(U$172&$X807)","v":{"$error":"#REF!"}},"円",{"$error":"#REF!"},{"$f":"X806","v":215},{"$f":"COUNTIF($W$181:W807,W807)","v":626}]
[{"$error":"#REF!"},null,null,null,null,null,null,null,null,null,null,null,null,"（",{"$f":"INDIRECT(O$173&$X808)","v":{"$error":"#REF!"}},"人）","（",{"$f":"INDIRECT(R$173&$X808)","v":{"$error":"#REF!"}},"人）","（",{"$f":"INDIRECT(U$173&$X808)","v":{"$error":"#REF!"}},"人）",{"$error":"#REF!"},215,{"$f":"COUNTIF($W$181:W808,W808)","v":627}]
[{"$error":"#REF!"},null,{"$f":"INDIRECT(C$171&$X809)","v":{"$error":"#REF!"}},null,null,null,null,null,null,null,null,null,{"$f":"INDIRECT(M$171&$X809)","v":{"$error":"#REF!"}},{"$f":"INDIRECT(N$171&$X809)","v":{"$error":"#REF!"}},null,null,{"$f":"INDIRECT(Q$171&$X809)","v":{"$error":"#REF!"}},null,"円",{"$f":"INDIRECT(T$171&$X809)","v":{"$error":"#REF!"}},null,"円",{"$error":"#REF!"},{"$f":"X808+1","v":216},{"$f":"COUNTIF($W$181:W809,W809)","v":628}]
[{"$error":"#REF!"},null,"➊➋➌それぞれの賃金改善額（見込額）",null,null,null,null,null,null,null,null,null,null,"➊",{"$f":"INDIRECT(O$172&$X810)","v":{"$error":"#REF!"}},"円","➋",{"$f":"INDIRECT(R$172&$X810)","v":{"$error":"#REF!"}},"円","➌",{"$f":"INDIRECT(U$172&$X810)","v":{"$error":"#REF!"}},"円",{"$error":"#REF!"},{"$f":"X809","v":216},{"$f":"COUNTIF($W$181:W810,W810)","v":629}]
[{"$error":"#REF!"},null,null,null,null,null,null,null,null,null,null,null,null,"（",{"$f":"INDIRECT(O$173&$X811)","v":{"$error":"#REF!"}},"人）","（",{"$f":"INDIRECT(R$173&$X811)","v":{"$error":"#REF!"}},"人）","（",{"$f":"INDIRECT(U$173&$X811)","v":{"$error":"#REF!"}},"人）",{"$error":"#REF!"},216,{"$f":"COUNTIF($W$181:W811,W811)","v":630}]
[{"$error":"#REF!"},null,{"$f":"INDIRECT(C$171&$X812)","v":{"$error":"#REF!"}},null,null,null,null,null,null,null,null,null,{"$f":"INDIRECT(M$171&$X812)","v":{"$error":"#REF!"}},{"$f":"INDIRECT(N$171&$X812)","v":{"$error":"#REF!"}},null,null,{"$f":"INDIRECT(Q$171&$X812)","v":{"$error":"#REF!"}},null,"円",{"$f":"INDIRECT(T$171&$X812)","v":{"$error":"#REF!"}},null,"円",{"$error":"#REF!"},{"$f":"X811+1","v":217},{"$f":"COUNTIF($W$181:W812,W812)","v":631}]
[{"$error":"#REF!"},null,"➊➋➌それぞれの賃金改善額（見込額）",null,null,null,null,null,null,null,null,null,null,"➊",{"$f":"INDIRECT(O$172&$X813)","v":{"$error":"#REF!"}},"円","➋",{"$f":"INDIRECT(R$172&$X813)","v":{"$error":"#REF!"}},"円","➌",{"$f":"INDIRECT(U$172&$X813)","v":{"$error":"#REF!"}},"円",{"$error":"#REF!"},{"$f":"X812","v":217},{"$f":"COUNTIF($W$181:W813,W813)","v":632}]
[{"$error":"#REF!"},null,null,null,null,null,null,null,null,null,null,null,null,"（",{"$f":"INDIRECT(O$173&$X814)","v":{"$error":"#REF!"}},"人）","（",{"$f":"INDIRECT(R$173&$X814)","v":{"$error":"#REF!"}},"人）","（",{"$f":"INDIRECT(U$173&$X814)","v":{"$error":"#REF!"}},"人）",{"$error":"#REF!"},217,{"$f":"COUNTIF($W$181:W814,W814)","v":633}]
[{"$error":"#REF!"},null,{"$f":"INDIRECT(C$171&$X815)","v":{"$error":"#REF!"}},null,null,null,null,null,null,null,null,null,{"$f":"INDIRECT(M$171&$X815)","v":{"$error":"#REF!"}},{"$f":"INDIRECT(N$171&$X815)","v":{"$error":"#REF!"}},null,null,{"$f":"INDIRECT(Q$171&$X815)","v":{"$error":"#REF!"}},null,"円",{"$f":"INDIRECT(T$171&$X815)","v":{"$error":"#REF!"}},null,"円",{"$error":"#REF!"},{"$f":"X814+1","v":218},{"$f":"COUNTIF($W$181:W815,W815)","v":634}]
[{"$error":"#REF!"},null,"➊➋➌それぞれの賃金改善額（見込額）",null,null,null,null,null,null,null,null,null,null,"➊",{"$f":"INDIRECT(O$172&$X816)","v":{"$error":"#REF!"}},"円","➋",{"$f":"INDIRECT(R$172&$X816)","v":{"$error":"#REF!"}},"円","➌",{"$f":"INDIRECT(U$172&$X816)","v":{"$error":"#REF!"}},"円",{"$error":"#REF!"},{"$f":"X815","v":218},{"$f":"COUNTIF($W$181:W816,W816)","v":635}]
[{"$error":"#REF!"},null,null,null,null,null,null,null,null,null,null,null,null,"（",{"$f":"INDIRECT(O$173&$X817)","v":{"$error":"#REF!"}},"人）","（",{"$f":"INDIRECT(R$173&$X817)","v":{"$error":"#REF!"}},"人）","（",{"$f":"INDIRECT(U$173&$X817)","v":{"$error":"#REF!"}},"人）",{"$error":"#REF!"},218,{"$f":"COUNTIF($W$181:W817,W817)","v":636}]
[{"$error":"#REF!"},null,{"$f":"INDIRECT(C$171&$X818)","v":{"$error":"#REF!"}},null,null,null,null,null,null,null,null,null,{"$f":"INDIRECT(M$171&$X818)","v":{"$error":"#REF!"}},{"$f":"INDIRECT(N$171&$X818)","v":{"$error":"#REF!"}},null,null,{"$f":"INDIRECT(Q$171&$X818)","v":{"$error":"#REF!"}},null,"円",{"$f":"INDIRECT(T$171&$X818)","v":{"$error":"#REF!"}},null,"円",{"$error":"#REF!"},{"$f":"X817+1","v":219},{"$f":"COUNTIF($W$181:W818,W818)","v":637}]
[{"$error":"#REF!"},null,"➊➋➌それぞれの賃金改善額（見込額）",null,null,null,null,null,null,null,null,null,null,"➊",{"$f":"INDIRECT(O$172&$X819)","v":{"$error":"#REF!"}},"円","➋",{"$f":"INDIRECT(R$172&$X819)","v":{"$error":"#REF!"}},"円","➌",{"$f":"INDIRECT(U$172&$X819)","v":{"$error":"#REF!"}},"円",{"$error":"#REF!"},{"$f":"X818","v":219},{"$f":"COUNTIF($W$181:W819,W819)","v":638}]
[{"$error":"#REF!"},null,null,null,null,null,null,null,null,null,null,null,null,"（",{"$f":"INDIRECT(O$173&$X820)","v":{"$error":"#REF!"}},"人）","（",{"$f":"INDIRECT(R$173&$X820)","v":{"$error":"#REF!"}},"人）","（",{"$f":"INDIRECT(U$173&$X820)","v":{"$error":"#REF!"}},"人）",{"$error":"#REF!"},219,{"$f":"COUNTIF($W$181:W820,W820)","v":639}]
[{"$error":"#REF!"},null,{"$f":"INDIRECT(C$171&$X821)","v":{"$error":"#REF!"}},null,null,null,null,null,null,null,null,null,{"$f":"INDIRECT(M$171&$X821)","v":{"$error":"#REF!"}},{"$f":"INDIRECT(N$171&$X821)","v":{"$error":"#REF!"}},null,null,{"$f":"INDIRECT(Q$171&$X821)","v":{"$error":"#REF!"}},null,"円",{"$f":"INDIRECT(T$171&$X821)","v":{"$error":"#REF!"}},null,"円",{"$error":"#REF!"},{"$f":"X820+1","v":220},{"$f":"COUNTIF($W$181:W821,W821)","v":640}]
[{"$error":"#REF!"},null,"➊➋➌それぞれの賃金改善額（見込額）",null,null,null,null,null,null,null,null,null,null,"➊",{"$f":"INDIRECT(O$172&$X822)","v":{"$error":"#REF!"}},"円","➋",{"$f":"INDIRECT(R$172&$X822)","v":{"$error":"#REF!"}},"円","➌",{"$f":"INDIRECT(U$172&$X822)","v":{"$error":"#REF!"}},"円",{"$error":"#REF!"},{"$f":"X821","v":220},{"$f":"COUNTIF($W$181:W822,W822)","v":641}]
[{"$error":"#REF!"},null,null,null,null,null,null,null,null,null,null,null,null,"（",{"$f":"INDIRECT(O$173&$X823)","v":{"$error":"#REF!"}},"人）","（",{"$f":"INDIRECT(R$173&$X823)","v":{"$error":"#REF!"}},"人）","（",{"$f":"INDIRECT(U$173&$X823)","v":{"$error":"#REF!"}},"人）",{"$f":"INDIRECT($W$171&X823)","v":{"$error":"#REF!"}},220,{"$f":"COUNTIF($W$181:W823,W823)","v":642}]
[{"$error":"#REF!"},null,{"$f":"INDIRECT(C$171&$X824)","v":{"$error":"#REF!"}},null,null,null,null,null,null,null,null,null,{"$f":"INDIRECT(M$171&$X824)","v":{"$error":"#REF!"}},{"$f":"INDIRECT(N$171&$X824)","v":{"$error":"#REF!"}},null,null,{"$f":"INDIRECT(Q$171&$X824)","v":{"$error":"#REF!"}},null,"円",{"$f":"INDIRECT(T$171&$X824)","v":{"$error":"#REF!"}},null,"円",{"$error":"#REF!"},{"$f":"X823+1","v":221},{"$f":"COUNTIF($W$181:W824,W824)","v":643}]
[{"$error":"#REF!"},null,"➊➋➌それぞれの賃金改善額（見込額）",null,null,null,null,null,null,null,null,null,null,"➊",{"$f":"INDIRECT(O$172&$X825)","v":{"$error":"#REF!"}},"円","➋",{"$f":"INDIRECT(R$172&$X825)","v":{"$error":"#REF!"}},"円","➌",{"$f":"INDIRECT(U$172&$X825)","v":{"$error":"#REF!"}},"円",{"$error":"#REF!"},{"$f":"X824","v":221},{"$f":"COUNTIF($W$181:W825,W825)","v":644}]
[{"$error":"#REF!"},null,null,null,null,null,null,null,null,null,null,null,null,"（",{"$f":"INDIRECT(O$173&$X826)","v":{"$error":"#REF!"}},"人）","（",{"$f":"INDIRECT(R$173&$X826)","v":{"$error":"#REF!"}},"人）","（",{"$f":"INDIRECT(U$173&$X826)","v":{"$error":"#REF!"}},"人）",{"$error":"#REF!"},221,{"$f":"COUNTIF($W$181:W826,W826)","v":645}]
[{"$error":"#REF!"},null,{"$f":"INDIRECT(C$171&$X827)","v":{"$error":"#REF!"}},null,null,null,null,null,null,null,null,null,{"$f":"INDIRECT(M$171&$X827)","v":{"$error":"#REF!"}},{"$f":"INDIRECT(N$171&$X827)","v":{"$error":"#REF!"}},null,null,{"$f":"INDIRECT(Q$171&$X827)","v":{"$error":"#REF!"}},null,"円",{"$f":"INDIRECT(T$171&$X827)","v":{"$error":"#REF!"}},null,"円",{"$error":"#REF!"},{"$f":"X826+1","v":222},{"$f":"COUNTIF($W$181:W827,W827)","v":646}]
[{"$error":"#REF!"},null,"➊➋➌それぞれの賃金改善額（見込額）",null,null,null,null,null,null,null,null,null,null,"➊",{"$f":"INDIRECT(O$172&$X828)","v":{"$error":"#REF!"}},"円","➋",{"$f":"INDIRECT(R$172&$X828)","v":{"$error":"#REF!"}},"円","➌",{"$f":"INDIRECT(U$172&$X828)","v":{"$error":"#REF!"}},"円",{"$error":"#REF!"},{"$f":"X827","v":222},{"$f":"COUNTIF($W$181:W828,W828)","v":647}]
[{"$error":"#REF!"},null,null,null,null,null,null,null,null,null,null,null,null,"（",{"$f":"INDIRECT(O$173&$X829)","v":{"$error":"#REF!"}},"人）","（",{"$f":"INDIRECT(R$173&$X829)","v":{"$error":"#REF!"}},"人）","（",{"$f":"INDIRECT(U$173&$X829)","v":{"$error":"#REF!"}},"人）",{"$error":"#REF!"},222,{"$f":"COUNTIF($W$181:W829,W829)","v":648}]
[{"$error":"#REF!"},null,{"$f":"INDIRECT(C$171&$X830)","v":{"$error":"#REF!"}},null,null,null,null,null,null,null,null,null,{"$f":"INDIRECT(M$171&$X830)","v":{"$error":"#REF!"}},{"$f":"INDIRECT(N$171&$X830)","v":{"$error":"#REF!"}},null,null,{"$f":"INDIRECT(Q$171&$X830)","v":{"$error":"#REF!"}},null,"円",{"$f":"INDIRECT(T$171&$X830)","v":{"$error":"#REF!"}},null,"円",{"$error":"#REF!"},{"$f":"X829+1","v":223},{"$f":"COUNTIF($W$181:W830,W830)","v":649}]
[{"$error":"#REF!"},null,"➊➋➌それぞれの賃金改善額（見込額）",null,null,null,null,null,null,null,null,null,null,"➊",{"$f":"INDIRECT(O$172&$X831)","v":{"$error":"#REF!"}},"円","➋",{"$f":"INDIRECT(R$172&$X831)","v":{"$error":"#REF!"}},"円","➌",{"$f":"INDIRECT(U$172&$X831)","v":{"$error":"#REF!"}},"円",{"$error":"#REF!"},{"$f":"X830","v":223},{"$f":"COUNTIF($W$181:W831,W831)","v":650}]
[{"$error":"#REF!"},null,null,null,null,null,null,null,null,null,null,null,null,"（",{"$f":"INDIRECT(O$173&$X832)","v":{"$error":"#REF!"}},"人）","（",{"$f":"INDIRECT(R$173&$X832)","v":{"$error":"#REF!"}},"人）","（",{"$f":"INDIRECT(U$173&$X832)","v":{"$error":"#REF!"}},"人）",{"$error":"#REF!"},223,{"$f":"COUNTIF($W$181:W832,W832)","v":651}]
[{"$error":"#REF!"},null,{"$f":"INDIRECT(C$171&$X833)","v":{"$error":"#REF!"}},null,null,null,null,null,null,null,null,null,{"$f":"INDIRECT(M$171&$X833)","v":{"$error":"#REF!"}},{"$f":"INDIRECT(N$171&$X833)","v":{"$error":"#REF!"}},null,null,{"$f":"INDIRECT(Q$171&$X833)","v":{"$error":"#REF!"}},null,"円",{"$f":"INDIRECT(T$171&$X833)","v":{"$error":"#REF!"}},null,"円",{"$error":"#REF!"},{"$f":"X832+1","v":224},{"$f":"COUNTIF($W$181:W833,W833)","v":652}]
[{"$error":"#REF!"},null,"➊➋➌それぞれの賃金改善額（見込額）",null,null,null,null,null,null,null,null,null,null,"➊",{"$f":"INDIRECT(O$172&$X834)","v":{"$error":"#REF!"}},"円","➋",{"$f":"INDIRECT(R$172&$X834)","v":{"$error":"#REF!"}},"円","➌",{"$f":"INDIRECT(U$172&$X834)","v":{"$error":"#REF!"}},"円",{"$error":"#REF!"},{"$f":"X833","v":224},{"$f":"COUNTIF($W$181:W834,W834)","v":653}]
[{"$error":"#REF!"},null,null,null,null,null,null,null,null,null,null,null,null,"（",{"$f":"INDIRECT(O$173&$X835)","v":{"$error":"#REF!"}},"人）","（",{"$f":"INDIRECT(R$173&$X835)","v":{"$error":"#REF!"}},"人）","（",{"$f":"INDIRECT(U$173&$X835)","v":{"$error":"#REF!"}},"人）",{"$error":"#REF!"},224,{"$f":"COUNTIF($W$181:W835,W835)","v":654}]
[{"$error":"#REF!"},null,{"$f":"INDIRECT(C$171&$X836)","v":{"$error":"#REF!"}},null,null,null,null,null,null,null,null,null,{"$f":"INDIRECT(M$171&$X836)","v":{"$error":"#REF!"}},{"$f":"INDIRECT(N$171&$X836)","v":{"$error":"#REF!"}},null,null,{"$f":"INDIRECT(Q$171&$X836)","v":{"$error":"#REF!"}},null,"円",{"$f":"INDIRECT(T$171&$X836)","v":{"$error":"#REF!"}},null,"円",{"$error":"#REF!"},{"$f":"X835+1","v":225},{"$f":"COUNTIF($W$181:W836,W836)","v":655}]
[{"$error":"#REF!"},null,"➊➋➌それぞれの賃金改善額（見込額）",null,null,null,null,null,null,null,null,null,null,"➊",{"$f":"INDIRECT(O$172&$X837)","v":{"$error":"#REF!"}},"円","➋",{"$f":"INDIRECT(R$172&$X837)","v":{"$error":"#REF!"}},"円","➌",{"$f":"INDIRECT(U$172&$X837)","v":{"$error":"#REF!"}},"円",{"$error":"#REF!"},{"$f":"X836","v":225},{"$f":"COUNTIF($W$181:W837,W837)","v":656}]
[{"$error":"#REF!"},null,null,null,null,null,null,null,null,null,null,null,null,"（",{"$f":"INDIRECT(O$173&$X838)","v":{"$error":"#REF!"}},"人）","（",{"$f":"INDIRECT(R$173&$X838)","v":{"$error":"#REF!"}},"人）","（",{"$f":"INDIRECT(U$173&$X838)","v":{"$error":"#REF!"}},"人）",{"$error":"#REF!"},225,{"$f":"COUNTIF($W$181:W838,W838)","v":657}]
[{"$error":"#REF!"},null,{"$f":"INDIRECT(C$171&$X839)","v":{"$error":"#REF!"}},null,null,null,null,null,null,null,null,null,{"$f":"INDIRECT(M$171&$X839)","v":{"$error":"#REF!"}},{"$f":"INDIRECT(N$171&$X839)","v":{"$error":"#REF!"}},null,null,{"$f":"INDIRECT(Q$171&$X839)","v":{"$error":"#REF!"}},null,"円",{"$f":"INDIRECT(T$171&$X839)","v":{"$error":"#REF!"}},null,"円",{"$error":"#REF!"},{"$f":"X838+1","v":226},{"$f":"COUNTIF($W$181:W839,W839)","v":658}]
[{"$error":"#REF!"},null,"➊➋➌それぞれの賃金改善額（見込額）",null,null,null,null,null,null,null,null,null,null,"➊",{"$f":"INDIRECT(O$172&$X840)","v":{"$error":"#REF!"}},"円","➋",{"$f":"INDIRECT(R$172&$X840)","v":{"$error":"#REF!"}},"円","➌",{"$f":"INDIRECT(U$172&$X840)","v":{"$error":"#REF!"}},"円",{"$error":"#REF!"},{"$f":"X839","v":226},{"$f":"COUNTIF($W$181:W840,W840)","v":659}]
[{"$error":"#REF!"},null,null,null,null,null,null,null,null,null,null,null,null,"（",{"$f":"INDIRECT(O$173&$X841)","v":{"$error":"#REF!"}},"人）","（",{"$f":"INDIRECT(R$173&$X841)","v":{"$error":"#REF!"}},"人）","（",{"$f":"INDIRECT(U$173&$X841)","v":{"$error":"#REF!"}},"人）",{"$error":"#REF!"},226,{"$f":"COUNTIF($W$181:W841,W841)","v":660}]
[{"$error":"#REF!"},null,{"$f":"INDIRECT(C$171&$X842)","v":{"$error":"#REF!"}},null,null,null,null,null,null,null,null,null,{"$f":"INDIRECT(M$171&$X842)","v":{"$error":"#REF!"}},{"$f":"INDIRECT(N$171&$X842)","v":{"$error":"#REF!"}},null,null,{"$f":"INDIRECT(Q$171&$X842)","v":{"$error":"#REF!"}},null,"円",{"$f":"INDIRECT(T$171&$X842)","v":{"$error":"#REF!"}},null,"円",{"$error":"#REF!"},{"$f":"X841+1","v":227},{"$f":"COUNTIF($W$181:W842,W842)","v":661}]
[{"$error":"#REF!"},null,"➊➋➌それぞれの賃金改善額（見込額）",null,null,null,null,null,null,null,null,null,null,"➊",{"$f":"INDIRECT(O$172&$X843)","v":{"$error":"#REF!"}},"円","➋",{"$f":"INDIRECT(R$172&$X843)","v":{"$error":"#REF!"}},"円","➌",{"$f":"INDIRECT(U$172&$X843)","v":{"$error":"#REF!"}},"円",{"$error":"#REF!"},{"$f":"X842","v":227},{"$f":"COUNTIF($W$181:W843,W843)","v":662}]
[{"$error":"#REF!"},null,null,null,null,null,null,null,null,null,null,null,null,"（",{"$f":"INDIRECT(O$173&$X844)","v":{"$error":"#REF!"}},"人）","（",{"$f":"INDIRECT(R$173&$X844)","v":{"$error":"#REF!"}},"人）","（",{"$f":"INDIRECT(U$173&$X844)","v":{"$error":"#REF!"}},"人）",{"$error":"#REF!"},227,{"$f":"COUNTIF($W$181:W844,W844)","v":663}]
[{"$error":"#REF!"},null,{"$f":"INDIRECT(C$171&$X845)","v":{"$error":"#REF!"}},null,null,null,null,null,null,null,null,null,{"$f":"INDIRECT(M$171&$X845)","v":{"$error":"#REF!"}},{"$f":"INDIRECT(N$171&$X845)","v":{"$error":"#REF!"}},null,null,{"$f":"INDIRECT(Q$171&$X845)","v":{"$error":"#REF!"}},null,"円",{"$f":"INDIRECT(T$171&$X845)","v":{"$error":"#REF!"}},null,"円",{"$error":"#REF!"},{"$f":"X844+1","v":228},{"$f":"COUNTIF($W$181:W845,W845)","v":664}]
[{"$error":"#REF!"},null,"➊➋➌それぞれの賃金改善額（見込額）",null,null,null,null,null,null,null,null,null,null,"➊",{"$f":"INDIRECT(O$172&$X846)","v":{"$error":"#REF!"}},"円","➋",{"$f":"INDIRECT(R$172&$X846)","v":{"$error":"#REF!"}},"円","➌",{"$f":"INDIRECT(U$172&$X846)","v":{"$error":"#REF!"}},"円",{"$error":"#REF!"},{"$f":"X845","v":228},{"$f":"COUNTIF($W$181:W846,W846)","v":665}]
[{"$error":"#REF!"},null,null,null,null,null,null,null,null,null,null,null,null,"（",{"$f":"INDIRECT(O$173&$X847)","v":{"$error":"#REF!"}},"人）","（",{"$f":"INDIRECT(R$173&$X847)","v":{"$error":"#REF!"}},"人）","（",{"$f":"INDIRECT(U$173&$X847)","v":{"$error":"#REF!"}},"人）",{"$error":"#REF!"},228,{"$f":"COUNTIF($W$181:W847,W847)","v":666}]
[{"$error":"#REF!"},null,{"$f":"INDIRECT(C$171&$X848)","v":{"$error":"#REF!"}},null,null,null,null,null,null,null,null,null,{"$f":"INDIRECT(M$171&$X848)","v":{"$error":"#REF!"}},{"$f":"INDIRECT(N$171&$X848)","v":{"$error":"#REF!"}},null,null,{"$f":"INDIRECT(Q$171&$X848)","v":{"$error":"#REF!"}},null,"円",{"$f":"INDIRECT(T$171&$X848)","v":{"$error":"#REF!"}},null,"円",{"$error":"#REF!"},{"$f":"X847+1","v":229},{"$f":"COUNTIF($W$181:W848,W848)","v":667}]
[{"$error":"#REF!"},null,"➊➋➌それぞれの賃金改善額（見込額）",null,null,null,null,null,null,null,null,null,null,"➊",{"$f":"INDIRECT(O$172&$X849)","v":{"$error":"#REF!"}},"円","➋",{"$f":"INDIRECT(R$172&$X849)","v":{"$error":"#REF!"}},"円","➌",{"$f":"INDIRECT(U$172&$X849)","v":{"$error":"#REF!"}},"円",{"$error":"#REF!"},{"$f":"X848","v":229},{"$f":"COUNTIF($W$181:W849,W849)","v":668}]
[{"$error":"#REF!"},null,null,null,null,null,null,null,null,null,null,null,null,"（",{"$f":"INDIRECT(O$173&$X850)","v":{"$error":"#REF!"}},"人）","（",{"$f":"INDIRECT(R$173&$X850)","v":{"$error":"#REF!"}},"人）","（",{"$f":"INDIRECT(U$173&$X850)","v":{"$error":"#REF!"}},"人）",{"$error":"#REF!"},229,{"$f":"COUNTIF($W$181:W850,W850)","v":669}]
[{"$error":"#REF!"},null,{"$f":"INDIRECT(C$171&$X851)","v":{"$error":"#REF!"}},null,null,null,null,null,null,null,null,null,{"$f":"INDIRECT(M$171&$X851)","v":{"$error":"#REF!"}},{"$f":"INDIRECT(N$171&$X851)","v":{"$error":"#REF!"}},null,null,{"$f":"INDIRECT(Q$171&$X851)","v":{"$error":"#REF!"}},null,"円",{"$f":"INDIRECT(T$171&$X851)","v":{"$error":"#REF!"}},null,"円",{"$error":"#REF!"},{"$f":"X850+1","v":230},{"$f":"COUNTIF($W$181:W851,W851)","v":670}]
[{"$error":"#REF!"},null,"➊➋➌それぞれの賃金改善額（見込額）",null,null,null,null,null,null,null,null,null,null,"➊",{"$f":"INDIRECT(O$172&$X852)","v":{"$error":"#REF!"}},"円","➋",{"$f":"INDIRECT(R$172&$X852)","v":{"$error":"#REF!"}},"円","➌",{"$f":"INDIRECT(U$172&$X852)","v":{"$error":"#REF!"}},"円",{"$error":"#REF!"},{"$f":"X851","v":230},{"$f":"COUNTIF($W$181:W852,W852)","v":671}]
[{"$error":"#REF!"},null,null,null,null,null,null,null,null,null,null,null,null,"（",{"$f":"INDIRECT(O$173&$X853)","v":{"$error":"#REF!"}},"人）","（",{"$f":"INDIRECT(R$173&$X853)","v":{"$error":"#REF!"}},"人）","（",{"$f":"INDIRECT(U$173&$X853)","v":{"$error":"#REF!"}},"人）",{"$error":"#REF!"},230,{"$f":"COUNTIF($W$181:W853,W853)","v":672}]
[{"$error":"#REF!"},null,{"$f":"INDIRECT(C$171&$X854)","v":{"$error":"#REF!"}},null,null,null,null,null,null,null,null,null,{"$f":"INDIRECT(M$171&$X854)","v":{"$error":"#REF!"}},{"$f":"INDIRECT(N$171&$X854)","v":{"$error":"#REF!"}},null,null,{"$f":"INDIRECT(Q$171&$X854)","v":{"$error":"#REF!"}},null,"円",{"$f":"INDIRECT(T$171&$X854)","v":{"$error":"#REF!"}},null,"円",{"$error":"#REF!"},{"$f":"X853+1","v":231},{"$f":"COUNTIF($W$181:W854,W854)","v":673}]
[{"$error":"#REF!"},null,"➊➋➌それぞれの賃金改善額（見込額）",null,null,null,null,null,null,null,null,null,null,"➊",{"$f":"INDIRECT(O$172&$X855)","v":{"$error":"#REF!"}},"円","➋",{"$f":"INDIRECT(R$172&$X855)","v":{"$error":"#REF!"}},"円","➌",{"$f":"INDIRECT(U$172&$X855)","v":{"$error":"#REF!"}},"円",{"$error":"#REF!"},{"$f":"X854","v":231},{"$f":"COUNTIF($W$181:W855,W855)","v":674}]
[{"$error":"#REF!"},null,null,null,null,null,null,null,null,null,null,null,null,"（",{"$f":"INDIRECT(O$173&$X856)","v":{"$error":"#REF!"}},"人）","（",{"$f":"INDIRECT(R$173&$X856)","v":{"$error":"#REF!"}},"人）","（",{"$f":"INDIRECT(U$173&$X856)","v":{"$error":"#REF!"}},"人）",{"$error":"#REF!"},231,{"$f":"COUNTIF($W$181:W856,W856)","v":675}]
[{"$error":"#REF!"},null,{"$f":"INDIRECT(C$171&$X857)","v":{"$error":"#REF!"}},null,null,null,null,null,null,null,null,null,{"$f":"INDIRECT(M$171&$X857)","v":{"$error":"#REF!"}},{"$f":"INDIRECT(N$171&$X857)","v":{"$error":"#REF!"}},null,null,{"$f":"INDIRECT(Q$171&$X857)","v":{"$error":"#REF!"}},null,"円",{"$f":"INDIRECT(T$171&$X857)","v":{"$error":"#REF!"}},null,"円",{"$error":"#REF!"},{"$f":"X856+1","v":232},{"$f":"COUNTIF($W$181:W857,W857)","v":676}]
[{"$error":"#REF!"},null,"➊➋➌それぞれの賃金改善額（見込額）",null,null,null,null,null,null,null,null,null,null,"➊",{"$f":"INDIRECT(O$172&$X858)","v":{"$error":"#REF!"}},"円","➋",{"$f":"INDIRECT(R$172&$X858)","v":{"$error":"#REF!"}},"円","➌",{"$f":"INDIRECT(U$172&$X858)","v":{"$error":"#REF!"}},"円",{"$error":"#REF!"},{"$f":"X857","v":232},{"$f":"COUNTIF($W$181:W858,W858)","v":677}]
[{"$error":"#REF!"},null,null,null,null,null,null,null,null,null,null,null,null,"（",{"$f":"INDIRECT(O$173&$X859)","v":{"$error":"#REF!"}},"人）","（",{"$f":"INDIRECT(R$173&$X859)","v":{"$error":"#REF!"}},"人）","（",{"$f":"INDIRECT(U$173&$X859)","v":{"$error":"#REF!"}},"人）",{"$error":"#REF!"},232,{"$f":"COUNTIF($W$181:W859,W859)","v":678}]
[{"$error":"#REF!"},null,{"$f":"INDIRECT(C$171&$X860)","v":{"$error":"#REF!"}},null,null,null,null,null,null,null,null,null,{"$f":"INDIRECT(M$171&$X860)","v":{"$error":"#REF!"}},{"$f":"INDIRECT(N$171&$X860)","v":{"$error":"#REF!"}},null,null,{"$f":"INDIRECT(Q$171&$X860)","v":{"$error":"#REF!"}},null,"円",{"$f":"INDIRECT(T$171&$X860)","v":{"$error":"#REF!"}},null,"円",{"$error":"#REF!"},{"$f":"X859+1","v":233},{"$f":"COUNTIF($W$181:W860,W860)","v":679}]
[{"$error":"#REF!"},null,"➊➋➌それぞれの賃金改善額（見込額）",null,null,null,null,null,null,null,null,null,null,"➊",{"$f":"INDIRECT(O$172&$X861)","v":{"$error":"#REF!"}},"円","➋",{"$f":"INDIRECT(R$172&$X861)","v":{"$error":"#REF!"}},"円","➌",{"$f":"INDIRECT(U$172&$X861)","v":{"$error":"#REF!"}},"円",{"$error":"#REF!"},{"$f":"X860","v":233},{"$f":"COUNTIF($W$181:W861,W861)","v":680}]
[{"$error":"#REF!"},null,null,null,null,null,null,null,null,null,null,null,null,"（",{"$f":"INDIRECT(O$173&$X862)","v":{"$error":"#REF!"}},"人）","（",{"$f":"INDIRECT(R$173&$X862)","v":{"$error":"#REF!"}},"人）","（",{"$f":"INDIRECT(U$173&$X862)","v":{"$error":"#REF!"}},"人）",{"$error":"#REF!"},233,{"$f":"COUNTIF($W$181:W862,W862)","v":681}]
[{"$error":"#REF!"},null,{"$f":"INDIRECT(C$171&$X863)","v":{"$error":"#REF!"}},null,null,null,null,null,null,null,null,null,{"$f":"INDIRECT(M$171&$X863)","v":{"$error":"#REF!"}},{"$f":"INDIRECT(N$171&$X863)","v":{"$error":"#REF!"}},null,null,{"$f":"INDIRECT(Q$171&$X863)","v":{"$error":"#REF!"}},null,"円",{"$f":"INDIRECT(T$171&$X863)","v":{"$error":"#REF!"}},null,"円",{"$error":"#REF!"},{"$f":"X862+1","v":234},{"$f":"COUNTIF($W$181:W863,W863)","v":682}]
[{"$error":"#REF!"},null,"➊➋➌それぞれの賃金改善額（見込額）",null,null,null,null,null,null,null,null,null,null,"➊",{"$f":"INDIRECT(O$172&$X864)","v":{"$error":"#REF!"}},"円","➋",{"$f":"INDIRECT(R$172&$X864)","v":{"$error":"#REF!"}},"円","➌",{"$f":"INDIRECT(U$172&$X864)","v":{"$error":"#REF!"}},"円",{"$error":"#REF!"},{"$f":"X863","v":234},{"$f":"COUNTIF($W$181:W864,W864)","v":683}]
[{"$error":"#REF!"},null,null,null,null,null,null,null,null,null,null,null,null,"（",{"$f":"INDIRECT(O$173&$X865)","v":{"$error":"#REF!"}},"人）","（",{"$f":"INDIRECT(R$173&$X865)","v":{"$error":"#REF!"}},"人）","（",{"$f":"INDIRECT(U$173&$X865)","v":{"$error":"#REF!"}},"人）",{"$error":"#REF!"},234,{"$f":"COUNTIF($W$181:W865,W865)","v":684}]
[{"$error":"#REF!"},null,{"$f":"INDIRECT(C$171&$X866)","v":{"$error":"#REF!"}},null,null,null,null,null,null,null,null,null,{"$f":"INDIRECT(M$171&$X866)","v":{"$error":"#REF!"}},{"$f":"INDIRECT(N$171&$X866)","v":{"$error":"#REF!"}},null,null,{"$f":"INDIRECT(Q$171&$X866)","v":{"$error":"#REF!"}},null,"円",{"$f":"INDIRECT(T$171&$X866)","v":{"$error":"#REF!"}},null,"円",{"$error":"#REF!"},{"$f":"X865+1","v":235},{"$f":"COUNTIF($W$181:W866,W866)","v":685}]
[{"$error":"#REF!"},null,"➊➋➌それぞれの賃金改善額（見込額）",null,null,null,null,null,null,null,null,null,null,"➊",{"$f":"INDIRECT(O$172&$X867)","v":{"$error":"#REF!"}},"円","➋",{"$f":"INDIRECT(R$172&$X867)","v":{"$error":"#REF!"}},"円","➌",{"$f":"INDIRECT(U$172&$X867)","v":{"$error":"#REF!"}},"円",{"$error":"#REF!"},{"$f":"X866","v":235},{"$f":"COUNTIF($W$181:W867,W867)","v":686}]
[{"$error":"#REF!"},null,null,null,null,null,null,null,null,null,null,null,null,"（",{"$f":"INDIRECT(O$173&$X868)","v":{"$error":"#REF!"}},"人）","（",{"$f":"INDIRECT(R$173&$X868)","v":{"$error":"#REF!"}},"人）","（",{"$f":"INDIRECT(U$173&$X868)","v":{"$error":"#REF!"}},"人）",{"$error":"#REF!"},235,{"$f":"COUNTIF($W$181:W868,W868)","v":687}]
[{"$error":"#REF!"},null,{"$f":"INDIRECT(C$171&$X869)","v":{"$error":"#REF!"}},null,null,null,null,null,null,null,null,null,{"$f":"INDIRECT(M$171&$X869)","v":{"$error":"#REF!"}},{"$f":"INDIRECT(N$171&$X869)","v":{"$error":"#REF!"}},null,null,{"$f":"INDIRECT(Q$171&$X869)","v":{"$error":"#REF!"}},null,"円",{"$f":"INDIRECT(T$171&$X869)","v":{"$error":"#REF!"}},null,"円",{"$error":"#REF!"},{"$f":"X868+1","v":236},{"$f":"COUNTIF($W$181:W869,W869)","v":688}]
[{"$error":"#REF!"},null,"➊➋➌それぞれの賃金改善額（見込額）",null,null,null,null,null,null,null,null,null,null,"➊",{"$f":"INDIRECT(O$172&$X870)","v":{"$error":"#REF!"}},"円","➋",{"$f":"INDIRECT(R$172&$X870)","v":{"$error":"#REF!"}},"円","➌",{"$f":"INDIRECT(U$172&$X870)","v":{"$error":"#REF!"}},"円",{"$error":"#REF!"},{"$f":"X869","v":236},{"$f":"COUNTIF($W$181:W870,W870)","v":689}]
[{"$error":"#REF!"},null,null,null,null,null,null,null,null,null,null,null,null,"（",{"$f":"INDIRECT(O$173&$X871)","v":{"$error":"#REF!"}},"人）","（",{"$f":"INDIRECT(R$173&$X871)","v":{"$error":"#REF!"}},"人）","（",{"$f":"INDIRECT(U$173&$X871)","v":{"$error":"#REF!"}},"人）",{"$error":"#REF!"},236,{"$f":"COUNTIF($W$181:W871,W871)","v":690}]
[{"$error":"#REF!"},null,{"$f":"INDIRECT(C$171&$X872)","v":{"$error":"#REF!"}},null,null,null,null,null,null,null,null,null,{"$f":"INDIRECT(M$171&$X872)","v":{"$error":"#REF!"}},{"$f":"INDIRECT(N$171&$X872)","v":{"$error":"#REF!"}},null,null,{"$f":"INDIRECT(Q$171&$X872)","v":{"$error":"#REF!"}},null,"円",{"$f":"INDIRECT(T$171&$X872)","v":{"$error":"#REF!"}},null,"円",{"$error":"#REF!"},{"$f":"X871+1","v":237},{"$f":"COUNTIF($W$181:W872,W872)","v":691}]
[{"$error":"#REF!"},null,"➊➋➌それぞれの賃金改善額（見込額）",null,null,null,null,null,null,null,null,null,null,"➊",{"$f":"INDIRECT(O$172&$X873)","v":{"$error":"#REF!"}},"円","➋",{"$f":"INDIRECT(R$172&$X873)","v":{"$error":"#REF!"}},"円","➌",{"$f":"INDIRECT(U$172&$X873)","v":{"$error":"#REF!"}},"円",{"$error":"#REF!"},{"$f":"X872","v":237},{"$f":"COUNTIF($W$181:W873,W873)","v":692}]
[{"$error":"#REF!"},null,null,null,null,null,null,null,null,null,null,null,null,"（",{"$f":"INDIRECT(O$173&$X874)","v":{"$error":"#REF!"}},"人）","（",{"$f":"INDIRECT(R$173&$X874)","v":{"$error":"#REF!"}},"人）","（",{"$f":"INDIRECT(U$173&$X874)","v":{"$error":"#REF!"}},"人）",{"$error":"#REF!"},237,{"$f":"COUNTIF($W$181:W874,W874)","v":693}]
[{"$error":"#REF!"},null,{"$f":"INDIRECT(C$171&$X875)","v":{"$error":"#REF!"}},null,null,null,null,null,null,null,null,null,{"$f":"INDIRECT(M$171&$X875)","v":{"$error":"#REF!"}},{"$f":"INDIRECT(N$171&$X875)","v":{"$error":"#REF!"}},null,null,{"$f":"INDIRECT(Q$171&$X875)","v":{"$error":"#REF!"}},null,"円",{"$f":"INDIRECT(T$171&$X875)","v":{"$error":"#REF!"}},null,"円",{"$error":"#REF!"},{"$f":"X874+1","v":238},{"$f":"COUNTIF($W$181:W875,W875)","v":694}]
[{"$error":"#REF!"},null,"➊➋➌それぞれの賃金改善額（見込額）",null,null,null,null,null,null,null,null,null,null,"➊",{"$f":"INDIRECT(O$172&$X876)","v":{"$error":"#REF!"}},"円","➋",{"$f":"INDIRECT(R$172&$X876)","v":{"$error":"#REF!"}},"円","➌",{"$f":"INDIRECT(U$172&$X876)","v":{"$error":"#REF!"}},"円",{"$error":"#REF!"},{"$f":"X875","v":238},{"$f":"COUNTIF($W$181:W876,W876)","v":695}]
[{"$error":"#REF!"},null,null,null,null,null,null,null,null,null,null,null,null,"（",{"$f":"INDIRECT(O$173&$X877)","v":{"$error":"#REF!"}},"人）","（",{"$f":"INDIRECT(R$173&$X877)","v":{"$error":"#REF!"}},"人）","（",{"$f":"INDIRECT(U$173&$X877)","v":{"$error":"#REF!"}},"人）",{"$error":"#REF!"},238,{"$f":"COUNTIF($W$181:W877,W877)","v":696}]
[{"$error":"#REF!"},null,{"$f":"INDIRECT(C$171&$X878)","v":{"$error":"#REF!"}},null,null,null,null,null,null,null,null,null,{"$f":"INDIRECT(M$171&$X878)","v":{"$error":"#REF!"}},{"$f":"INDIRECT(N$171&$X878)","v":{"$error":"#REF!"}},null,null,{"$f":"INDIRECT(Q$171&$X878)","v":{"$error":"#REF!"}},null,"円",{"$f":"INDIRECT(T$171&$X878)","v":{"$error":"#REF!"}},null,"円",{"$error":"#REF!"},{"$f":"X877+1","v":239},{"$f":"COUNTIF($W$181:W878,W878)","v":697}]
[{"$error":"#REF!"},null,"➊➋➌それぞれの賃金改善額（見込額）",null,null,null,null,null,null,null,null,null,null,"➊",{"$f":"INDIRECT(O$172&$X879)","v":{"$error":"#REF!"}},"円","➋",{"$f":"INDIRECT(R$172&$X879)","v":{"$error":"#REF!"}},"円","➌",{"$f":"INDIRECT(U$172&$X879)","v":{"$error":"#REF!"}},"円",{"$error":"#REF!"},{"$f":"X878","v":239},{"$f":"COUNTIF($W$181:W879,W879)","v":698}]
[{"$error":"#REF!"},null,null,null,null,null,null,null,null,null,null,null,null,"（",{"$f":"INDIRECT(O$173&$X880)","v":{"$error":"#REF!"}},"人）","（",{"$f":"INDIRECT(R$173&$X880)","v":{"$error":"#REF!"}},"人）","（",{"$f":"INDIRECT(U$173&$X880)","v":{"$error":"#REF!"}},"人）",{"$error":"#REF!"},239,{"$f":"COUNTIF($W$181:W880,W880)","v":699}]
[{"$error":"#REF!"},null,{"$f":"INDIRECT(C$171&$X881)","v":{"$error":"#REF!"}},null,null,null,null,null,null,null,null,null,{"$f":"INDIRECT(M$171&$X881)","v":{"$error":"#REF!"}},{"$f":"INDIRECT(N$171&$X881)","v":{"$error":"#REF!"}},null,null,{"$f":"INDIRECT(Q$171&$X881)","v":{"$error":"#REF!"}},null,"円",{"$f":"INDIRECT(T$171&$X881)","v":{"$error":"#REF!"}},null,"円",{"$error":"#REF!"},{"$f":"X880+1","v":240},{"$f":"COUNTIF($W$181:W881,W881)","v":700}]
[{"$error":"#REF!"},null,"➊➋➌それぞれの賃金改善額（見込額）",null,null,null,null,null,null,null,null,null,null,"➊",{"$f":"INDIRECT(O$172&$X882)","v":{"$error":"#REF!"}},"円","➋",{"$f":"INDIRECT(R$172&$X882)","v":{"$error":"#REF!"}},"円","➌",{"$f":"INDIRECT(U$172&$X882)","v":{"$error":"#REF!"}},"円",{"$error":"#REF!"},{"$f":"X881","v":240},{"$f":"COUNTIF($W$181:W882,W882)","v":701}]
[{"$error":"#REF!"},null,null,null,null,null,null,null,null,null,null,null,null,"（",{"$f":"INDIRECT(O$173&$X883)","v":{"$error":"#REF!"}},"人）","（",{"$f":"INDIRECT(R$173&$X883)","v":{"$error":"#REF!"}},"人）","（",{"$f":"INDIRECT(U$173&$X883)","v":{"$error":"#REF!"}},"人）",{"$error":"#REF!"},240,{"$f":"COUNTIF($W$181:W883,W883)","v":702}]
[{"$error":"#REF!"},null,{"$f":"INDIRECT(C$171&$X884)","v":{"$error":"#REF!"}},null,null,null,null,null,null,null,null,null,{"$f":"INDIRECT(M$171&$X884)","v":{"$error":"#REF!"}},{"$f":"INDIRECT(N$171&$X884)","v":{"$error":"#REF!"}},null,null,{"$f":"INDIRECT(Q$171&$X884)","v":{"$error":"#REF!"}},null,"円",{"$f":"INDIRECT(T$171&$X884)","v":{"$error":"#REF!"}},null,"円",{"$error":"#REF!"},{"$f":"X883+1","v":241},{"$f":"COUNTIF($W$181:W884,W884)","v":703}]
[{"$error":"#REF!"},null,"➊➋➌それぞれの賃金改善額（見込額）",null,null,null,null,null,null,null,null,null,null,"➊",{"$f":"INDIRECT(O$172&$X885)","v":{"$error":"#REF!"}},"円","➋",{"$f":"INDIRECT(R$172&$X885)","v":{"$error":"#REF!"}},"円","➌",{"$f":"INDIRECT(U$172&$X885)","v":{"$error":"#REF!"}},"円",{"$error":"#REF!"},{"$f":"X884","v":241},{"$f":"COUNTIF($W$181:W885,W885)","v":704}]
[{"$error":"#REF!"},null,null,null,null,null,null,null,null,null,null,null,null,"（",{"$f":"INDIRECT(O$173&$X886)","v":{"$error":"#REF!"}},"人）","（",{"$f":"INDIRECT(R$173&$X886)","v":{"$error":"#REF!"}},"人）","（",{"$f":"INDIRECT(U$173&$X886)","v":{"$error":"#REF!"}},"人）",{"$error":"#REF!"},241,{"$f":"COUNTIF($W$181:W886,W886)","v":705}]
[{"$error":"#REF!"},null,{"$f":"INDIRECT(C$171&$X887)","v":{"$error":"#REF!"}},null,null,null,null,null,null,null,null,null,{"$f":"INDIRECT(M$171&$X887)","v":{"$error":"#REF!"}},{"$f":"INDIRECT(N$171&$X887)","v":{"$error":"#REF!"}},null,null,{"$f":"INDIRECT(Q$171&$X887)","v":{"$error":"#REF!"}},null,"円",{"$f":"INDIRECT(T$171&$X887)","v":{"$error":"#REF!"}},null,"円",{"$f":"INDIRECT($W$171&X887)","v":{"$error":"#REF!"}},{"$f":"X886+1","v":242},{"$f":"COUNTIF($W$181:W887,W887)","v":706}]
[{"$error":"#REF!"},null,"➊➋➌それぞれの賃金改善額（見込額）",null,null,null,null,null,null,null,null,null,null,"➊",{"$f":"INDIRECT(O$172&$X888)","v":{"$error":"#REF!"}},"円","➋",{"$f":"INDIRECT(R$172&$X888)","v":{"$error":"#REF!"}},"円","➌",{"$f":"INDIRECT(U$172&$X888)","v":{"$error":"#REF!"}},"円",{"$error":"#REF!"},{"$f":"X887","v":242},{"$f":"COUNTIF($W$181:W888,W888)","v":707}]
[{"$error":"#REF!"},null,null,null,null,null,null,null,null,null,null,null,null,"（",{"$f":"INDIRECT(O$173&$X889)","v":{"$error":"#REF!"}},"人）","（",{"$f":"INDIRECT(R$173&$X889)","v":{"$error":"#REF!"}},"人）","（",{"$f":"INDIRECT(U$173&$X889)","v":{"$error":"#REF!"}},"人）",{"$error":"#REF!"},242,{"$f":"COUNTIF($W$181:W889,W889)","v":708}]
[{"$error":"#REF!"},null,{"$f":"INDIRECT(C$171&$X890)","v":{"$error":"#REF!"}},null,null,null,null,null,null,null,null,null,{"$f":"INDIRECT(M$171&$X890)","v":{"$error":"#REF!"}},{"$f":"INDIRECT(N$171&$X890)","v":{"$error":"#REF!"}},null,null,{"$f":"INDIRECT(Q$171&$X890)","v":{"$error":"#REF!"}},null,"円",{"$f":"INDIRECT(T$171&$X890)","v":{"$error":"#REF!"}},null,"円",{"$error":"#REF!"},{"$f":"X889+1","v":243},{"$f":"COUNTIF($W$181:W890,W890)","v":709}]
[{"$error":"#REF!"},null,"➊➋➌それぞれの賃金改善額（見込額）",null,null,null,null,null,null,null,null,null,null,"➊",{"$f":"INDIRECT(O$172&$X891)","v":{"$error":"#REF!"}},"円","➋",{"$f":"INDIRECT(R$172&$X891)","v":{"$error":"#REF!"}},"円","➌",{"$f":"INDIRECT(U$172&$X891)","v":{"$error":"#REF!"}},"円",{"$error":"#REF!"},{"$f":"X890","v":243},{"$f":"COUNTIF($W$181:W891,W891)","v":710}]
[{"$error":"#REF!"},null,null,null,null,null,null,null,null,null,null,null,null,"（",{"$f":"INDIRECT(O$173&$X892)","v":{"$error":"#REF!"}},"人）","（",{"$f":"INDIRECT(R$173&$X892)","v":{"$error":"#REF!"}},"人）","（",{"$f":"INDIRECT(U$173&$X892)","v":{"$error":"#REF!"}},"人）",{"$error":"#REF!"},243,{"$f":"COUNTIF($W$181:W892,W892)","v":711}]
[{"$error":"#REF!"},null,{"$f":"INDIRECT(C$171&$X893)","v":{"$error":"#REF!"}},null,null,null,null,null,null,null,null,null,{"$f":"INDIRECT(M$171&$X893)","v":{"$error":"#REF!"}},{"$f":"INDIRECT(N$171&$X893)","v":{"$error":"#REF!"}},null,null,{"$f":"INDIRECT(Q$171&$X893)","v":{"$error":"#REF!"}},null,"円",{"$f":"INDIRECT(T$171&$X893)","v":{"$error":"#REF!"}},null,"円",{"$error":"#REF!"},{"$f":"X892+1","v":244},{"$f":"COUNTIF($W$181:W893,W893)","v":712}]
[{"$error":"#REF!"},null,"➊➋➌それぞれの賃金改善額（見込額）",null,null,null,null,null,null,null,null,null,null,"➊",{"$f":"INDIRECT(O$172&$X894)","v":{"$error":"#REF!"}},"円","➋",{"$f":"INDIRECT(R$172&$X894)","v":{"$error":"#REF!"}},"円","➌",{"$f":"INDIRECT(U$172&$X894)","v":{"$error":"#REF!"}},"円",{"$error":"#REF!"},{"$f":"X893","v":244},{"$f":"COUNTIF($W$181:W894,W894)","v":713}]
[{"$error":"#REF!"},null,null,null,null,null,null,null,null,null,null,null,null,"（",{"$f":"INDIRECT(O$173&$X895)","v":{"$error":"#REF!"}},"人）","（",{"$f":"INDIRECT(R$173&$X895)","v":{"$error":"#REF!"}},"人）","（",{"$f":"INDIRECT(U$173&$X895)","v":{"$error":"#REF!"}},"人）",{"$error":"#REF!"},244,{"$f":"COUNTIF($W$181:W895,W895)","v":714}]
[{"$error":"#REF!"},null,{"$f":"INDIRECT(C$171&$X896)","v":{"$error":"#REF!"}},null,null,null,null,null,null,null,null,null,{"$f":"INDIRECT(M$171&$X896)","v":{"$error":"#REF!"}},{"$f":"INDIRECT(N$171&$X896)","v":{"$error":"#REF!"}},null,null,{"$f":"INDIRECT(Q$171&$X896)","v":{"$error":"#REF!"}},null,"円",{"$f":"INDIRECT(T$171&$X896)","v":{"$error":"#REF!"}},null,"円",{"$error":"#REF!"},{"$f":"X895+1","v":245},{"$f":"COUNTIF($W$181:W896,W896)","v":715}]
[{"$error":"#REF!"},null,"➊➋➌それぞれの賃金改善額（見込額）",null,null,null,null,null,null,null,null,null,null,"➊",{"$f":"INDIRECT(O$172&$X897)","v":{"$error":"#REF!"}},"円","➋",{"$f":"INDIRECT(R$172&$X897)","v":{"$error":"#REF!"}},"円","➌",{"$f":"INDIRECT(U$172&$X897)","v":{"$error":"#REF!"}},"円",{"$error":"#REF!"},{"$f":"X896","v":245},{"$f":"COUNTIF($W$181:W897,W897)","v":716}]
[{"$error":"#REF!"},null,null,null,null,null,null,null,null,null,null,null,null,"（",{"$f":"INDIRECT(O$173&$X898)","v":{"$error":"#REF!"}},"人）","（",{"$f":"INDIRECT(R$173&$X898)","v":{"$error":"#REF!"}},"人）","（",{"$f":"INDIRECT(U$173&$X898)","v":{"$error":"#REF!"}},"人）",{"$error":"#REF!"},245,{"$f":"COUNTIF($W$181:W898,W898)","v":717}]
[{"$error":"#REF!"},null,{"$f":"INDIRECT(C$171&$X899)","v":{"$error":"#REF!"}},null,null,null,null,null,null,null,null,null,{"$f":"INDIRECT(M$171&$X899)","v":{"$error":"#REF!"}},{"$f":"INDIRECT(N$171&$X899)","v":{"$error":"#REF!"}},null,null,{"$f":"INDIRECT(Q$171&$X899)","v":{"$error":"#REF!"}},null,"円",{"$f":"INDIRECT(T$171&$X899)","v":{"$error":"#REF!"}},null,"円",{"$error":"#REF!"},{"$f":"X898+1","v":246},{"$f":"COUNTIF($W$181:W899,W899)","v":718}]
[{"$error":"#REF!"},null,"➊➋➌それぞれの賃金改善額（見込額）",null,null,null,null,null,null,null,null,null,null,"➊",{"$f":"INDIRECT(O$172&$X900)","v":{"$error":"#REF!"}},"円","➋",{"$f":"INDIRECT(R$172&$X900)","v":{"$error":"#REF!"}},"円","➌",{"$f":"INDIRECT(U$172&$X900)","v":{"$error":"#REF!"}},"円",{"$error":"#REF!"},{"$f":"X899","v":246},{"$f":"COUNTIF($W$181:W900,W900)","v":719}]
[{"$error":"#REF!"},null,null,null,null,null,null,null,null,null,null,null,null,"（",{"$f":"INDIRECT(O$173&$X901)","v":{"$error":"#REF!"}},"人）","（",{"$f":"INDIRECT(R$173&$X901)","v":{"$error":"#REF!"}},"人）","（",{"$f":"INDIRECT(U$173&$X901)","v":{"$error":"#REF!"}},"人）",{"$error":"#REF!"},246,{"$f":"COUNTIF($W$181:W901,W901)","v":720}]
[{"$error":"#REF!"},null,{"$f":"INDIRECT(C$171&$X902)","v":{"$error":"#REF!"}},null,null,null,null,null,null,null,null,null,{"$f":"INDIRECT(M$171&$X902)","v":{"$error":"#REF!"}},{"$f":"INDIRECT(N$171&$X902)","v":{"$error":"#REF!"}},null,null,{"$f":"INDIRECT(Q$171&$X902)","v":{"$error":"#REF!"}},null,"円",{"$f":"INDIRECT(T$171&$X902)","v":{"$error":"#REF!"}},null,"円",{"$error":"#REF!"},{"$f":"X901+1","v":247},{"$f":"COUNTIF($W$181:W902,W902)","v":721}]
[{"$error":"#REF!"},null,"➊➋➌それぞれの賃金改善額（見込額）",null,null,null,null,null,null,null,null,null,null,"➊",{"$f":"INDIRECT(O$172&$X903)","v":{"$error":"#REF!"}},"円","➋",{"$f":"INDIRECT(R$172&$X903)","v":{"$error":"#REF!"}},"円","➌",{"$f":"INDIRECT(U$172&$X903)","v":{"$error":"#REF!"}},"円",{"$error":"#REF!"},{"$f":"X902","v":247},{"$f":"COUNTIF($W$181:W903,W903)","v":722}]
[{"$error":"#REF!"},null,null,null,null,null,null,null,null,null,null,null,null,"（",{"$f":"INDIRECT(O$173&$X904)","v":{"$error":"#REF!"}},"人）","（",{"$f":"INDIRECT(R$173&$X904)","v":{"$error":"#REF!"}},"人）","（",{"$f":"INDIRECT(U$173&$X904)","v":{"$error":"#REF!"}},"人）",{"$error":"#REF!"},247,{"$f":"COUNTIF($W$181:W904,W904)","v":723}]
[{"$error":"#REF!"},null,{"$f":"INDIRECT(C$171&$X905)","v":{"$error":"#REF!"}},null,null,null,null,null,null,null,null,null,{"$f":"INDIRECT(M$171&$X905)","v":{"$error":"#REF!"}},{"$f":"INDIRECT(N$171&$X905)","v":{"$error":"#REF!"}},null,null,{"$f":"INDIRECT(Q$171&$X905)","v":{"$error":"#REF!"}},null,"円",{"$f":"INDIRECT(T$171&$X905)","v":{"$error":"#REF!"}},null,"円",{"$error":"#REF!"},{"$f":"X904+1","v":248},{"$f":"COUNTIF($W$181:W905,W905)","v":724}]
[{"$error":"#REF!"},null,"➊➋➌それぞれの賃金改善額（見込額）",null,null,null,null,null,null,null,null,null,null,"➊",{"$f":"INDIRECT(O$172&$X906)","v":{"$error":"#REF!"}},"円","➋",{"$f":"INDIRECT(R$172&$X906)","v":{"$error":"#REF!"}},"円","➌",{"$f":"INDIRECT(U$172&$X906)","v":{"$error":"#REF!"}},"円",{"$error":"#REF!"},{"$f":"X905","v":248},{"$f":"COUNTIF($W$181:W906,W906)","v":725}]
[{"$error":"#REF!"},null,null,null,null,null,null,null,null,null,null,null,null,"（",{"$f":"INDIRECT(O$173&$X907)","v":{"$error":"#REF!"}},"人）","（",{"$f":"INDIRECT(R$173&$X907)","v":{"$error":"#REF!"}},"人）","（",{"$f":"INDIRECT(U$173&$X907)","v":{"$error":"#REF!"}},"人）",{"$error":"#REF!"},248,{"$f":"COUNTIF($W$181:W907,W907)","v":726}]
[{"$error":"#REF!"},null,{"$f":"INDIRECT(C$171&$X908)","v":{"$error":"#REF!"}},null,null,null,null,null,null,null,null,null,{"$f":"INDIRECT(M$171&$X908)","v":{"$error":"#REF!"}},{"$f":"INDIRECT(N$171&$X908)","v":{"$error":"#REF!"}},null,null,{"$f":"INDIRECT(Q$171&$X908)","v":{"$error":"#REF!"}},null,"円",{"$f":"INDIRECT(T$171&$X908)","v":{"$error":"#REF!"}},null,"円",{"$error":"#REF!"},{"$f":"X907+1","v":249},{"$f":"COUNTIF($W$181:W908,W908)","v":727}]
[{"$error":"#REF!"},null,"➊➋➌それぞれの賃金改善額（見込額）",null,null,null,null,null,null,null,null,null,null,"➊",{"$f":"INDIRECT(O$172&$X909)","v":{"$error":"#REF!"}},"円","➋",{"$f":"INDIRECT(R$172&$X909)","v":{"$error":"#REF!"}},"円","➌",{"$f":"INDIRECT(U$172&$X909)","v":{"$error":"#REF!"}},"円",{"$error":"#REF!"},{"$f":"X908","v":249},{"$f":"COUNTIF($W$181:W909,W909)","v":728}]
[{"$error":"#REF!"},null,null,null,null,null,null,null,null,null,null,null,null,"（",{"$f":"INDIRECT(O$173&$X910)","v":{"$error":"#REF!"}},"人）","（",{"$f":"INDIRECT(R$173&$X910)","v":{"$error":"#REF!"}},"人）","（",{"$f":"INDIRECT(U$173&$X910)","v":{"$error":"#REF!"}},"人）",{"$error":"#REF!"},249,{"$f":"COUNTIF($W$181:W910,W910)","v":729}]
[{"$error":"#REF!"},null,{"$f":"INDIRECT(C$171&$X911)","v":{"$error":"#REF!"}},null,null,null,null,null,null,null,null,null,{"$f":"INDIRECT(M$171&$X911)","v":{"$error":"#REF!"}},{"$f":"INDIRECT(N$171&$X911)","v":{"$error":"#REF!"}},null,null,{"$f":"INDIRECT(Q$171&$X911)","v":{"$error":"#REF!"}},null,"円",{"$f":"INDIRECT(T$171&$X911)","v":{"$error":"#REF!"}},null,"円",{"$error":"#REF!"},{"$f":"X910+1","v":250},{"$f":"COUNTIF($W$181:W911,W911)","v":730}]
[{"$error":"#REF!"},null,"➊➋➌それぞれの賃金改善額（見込額）",null,null,null,null,null,null,null,null,null,null,"➊",{"$f":"INDIRECT(O$172&$X912)","v":{"$error":"#REF!"}},"円","➋",{"$f":"INDIRECT(R$172&$X912)","v":{"$error":"#REF!"}},"円","➌",{"$f":"INDIRECT(U$172&$X912)","v":{"$error":"#REF!"}},"円",{"$error":"#REF!"},{"$f":"X911","v":250},{"$f":"COUNTIF($W$181:W912,W912)","v":731}]
[{"$error":"#REF!"},null,null,null,null,null,null,null,null,null,null,null,null,"（",{"$f":"INDIRECT(O$173&$X913)","v":{"$error":"#REF!"}},"人）","（",{"$f":"INDIRECT(R$173&$X913)","v":{"$error":"#REF!"}},"人）","（",{"$f":"INDIRECT(U$173&$X913)","v":{"$error":"#REF!"}},"人）",{"$error":"#REF!"},250,{"$f":"COUNTIF($W$181:W913,W913)","v":732}]
[{"$error":"#REF!"},null,{"$f":"INDIRECT(C$171&$X914)","v":{"$error":"#REF!"}},null,null,null,null,null,null,null,null,null,{"$f":"INDIRECT(M$171&$X914)","v":{"$error":"#REF!"}},{"$f":"INDIRECT(N$171&$X914)","v":{"$error":"#REF!"}},null,null,{"$f":"INDIRECT(Q$171&$X914)","v":{"$error":"#REF!"}},null,"円",{"$f":"INDIRECT(T$171&$X914)","v":{"$error":"#REF!"}},null,"円",{"$error":"#REF!"},{"$f":"X913+1","v":251},{"$f":"COUNTIF($W$181:W914,W914)","v":733}]
[{"$error":"#REF!"},null,"➊➋➌それぞれの賃金改善額（見込額）",null,null,null,null,null,null,null,null,null,null,"➊",{"$f":"INDIRECT(O$172&$X915)","v":{"$error":"#REF!"}},"円","➋",{"$f":"INDIRECT(R$172&$X915)","v":{"$error":"#REF!"}},"円","➌",{"$f":"INDIRECT(U$172&$X915)","v":{"$error":"#REF!"}},"円",{"$error":"#REF!"},{"$f":"X914","v":251},{"$f":"COUNTIF($W$181:W915,W915)","v":734}]
[{"$error":"#REF!"},null,null,null,null,null,null,null,null,null,null,null,null,"（",{"$f":"INDIRECT(O$173&$X916)","v":{"$error":"#REF!"}},"人）","（",{"$f":"INDIRECT(R$173&$X916)","v":{"$error":"#REF!"}},"人）","（",{"$f":"INDIRECT(U$173&$X916)","v":{"$error":"#REF!"}},"人）",{"$error":"#REF!"},251,{"$f":"COUNTIF($W$181:W916,W916)","v":735}]
[{"$error":"#REF!"},null,{"$f":"INDIRECT(C$171&$X917)","v":{"$error":"#REF!"}},null,null,null,null,null,null,null,null,null,{"$f":"INDIRECT(M$171&$X917)","v":{"$error":"#REF!"}},{"$f":"INDIRECT(N$171&$X917)","v":{"$error":"#REF!"}},null,null,{"$f":"INDIRECT(Q$171&$X917)","v":{"$error":"#REF!"}},null,"円",{"$f":"INDIRECT(T$171&$X917)","v":{"$error":"#REF!"}},null,"円",{"$error":"#REF!"},{"$f":"X916+1","v":252},{"$f":"COUNTIF($W$181:W917,W917)","v":736}]
[{"$error":"#REF!"},null,"➊➋➌それぞれの賃金改善額（見込額）",null,null,null,null,null,null,null,null,null,null,"➊",{"$f":"INDIRECT(O$172&$X918)","v":{"$error":"#REF!"}},"円","➋",{"$f":"INDIRECT(R$172&$X918)","v":{"$error":"#REF!"}},"円","➌",{"$f":"INDIRECT(U$172&$X918)","v":{"$error":"#REF!"}},"円",{"$error":"#REF!"},{"$f":"X917","v":252},{"$f":"COUNTIF($W$181:W918,W918)","v":737}]
[{"$error":"#REF!"},null,null,null,null,null,null,null,null,null,null,null,null,"（",{"$f":"INDIRECT(O$173&$X919)","v":{"$error":"#REF!"}},"人）","（",{"$f":"INDIRECT(R$173&$X919)","v":{"$error":"#REF!"}},"人）","（",{"$f":"INDIRECT(U$173&$X919)","v":{"$error":"#REF!"}},"人）",{"$error":"#REF!"},252,{"$f":"COUNTIF($W$181:W919,W919)","v":738}]
[{"$error":"#REF!"},null,{"$f":"INDIRECT(C$171&$X920)","v":{"$error":"#REF!"}},null,null,null,null,null,null,null,null,null,{"$f":"INDIRECT(M$171&$X920)","v":{"$error":"#REF!"}},{"$f":"INDIRECT(N$171&$X920)","v":{"$error":"#REF!"}},null,null,{"$f":"INDIRECT(Q$171&$X920)","v":{"$error":"#REF!"}},null,"円",{"$f":"INDIRECT(T$171&$X920)","v":{"$error":"#REF!"}},null,"円",{"$error":"#REF!"},{"$f":"X919+1","v":253},{"$f":"COUNTIF($W$181:W920,W920)","v":739}]
[{"$error":"#REF!"},null,"➊➋➌それぞれの賃金改善額（見込額）",null,null,null,null,null,null,null,null,null,null,"➊",{"$f":"INDIRECT(O$172&$X921)","v":{"$error":"#REF!"}},"円","➋",{"$f":"INDIRECT(R$172&$X921)","v":{"$error":"#REF!"}},"円","➌",{"$f":"INDIRECT(U$172&$X921)","v":{"$error":"#REF!"}},"円",{"$error":"#REF!"},{"$f":"X920","v":253},{"$f":"COUNTIF($W$181:W921,W921)","v":740}]
[{"$error":"#REF!"},null,null,null,null,null,null,null,null,null,null,null,null,"（",{"$f":"INDIRECT(O$173&$X922)","v":{"$error":"#REF!"}},"人）","（",{"$f":"INDIRECT(R$173&$X922)","v":{"$error":"#REF!"}},"人）","（",{"$f":"INDIRECT(U$173&$X922)","v":{"$error":"#REF!"}},"人）",{"$error":"#REF!"},253,{"$f":"COUNTIF($W$181:W922,W922)","v":741}]
[{"$error":"#REF!"},null,{"$f":"INDIRECT(C$171&$X923)","v":{"$error":"#REF!"}},null,null,null,null,null,null,null,null,null,{"$f":"INDIRECT(M$171&$X923)","v":{"$error":"#REF!"}},{"$f":"INDIRECT(N$171&$X923)","v":{"$error":"#REF!"}},null,null,{"$f":"INDIRECT(Q$171&$X923)","v":{"$error":"#REF!"}},null,"円",{"$f":"INDIRECT(T$171&$X923)","v":{"$error":"#REF!"}},null,"円",{"$error":"#REF!"},{"$f":"X922+1","v":254},{"$f":"COUNTIF($W$181:W923,W923)","v":742}]
[{"$error":"#REF!"},null,"➊➋➌それぞれの賃金改善額（見込額）",null,null,null,null,null,null,null,null,null,null,"➊",{"$f":"INDIRECT(O$172&$X924)","v":{"$error":"#REF!"}},"円","➋",{"$f":"INDIRECT(R$172&$X924)","v":{"$error":"#REF!"}},"円","➌",{"$f":"INDIRECT(U$172&$X924)","v":{"$error":"#REF!"}},"円",{"$error":"#REF!"},{"$f":"X923","v":254},{"$f":"COUNTIF($W$181:W924,W924)","v":743}]
[{"$error":"#REF!"},null,null,null,null,null,null,null,null,null,null,null,null,"（",{"$f":"INDIRECT(O$173&$X925)","v":{"$error":"#REF!"}},"人）","（",{"$f":"INDIRECT(R$173&$X925)","v":{"$error":"#REF!"}},"人）","（",{"$f":"INDIRECT(U$173&$X925)","v":{"$error":"#REF!"}},"人）",{"$error":"#REF!"},254,{"$f":"COUNTIF($W$181:W925,W925)","v":744}]
[{"$error":"#REF!"},null,{"$f":"INDIRECT(C$171&$X926)","v":{"$error":"#REF!"}},null,null,null,null,null,null,null,null,null,{"$f":"INDIRECT(M$171&$X926)","v":{"$error":"#REF!"}},{"$f":"INDIRECT(N$171&$X926)","v":{"$error":"#REF!"}},null,null,{"$f":"INDIRECT(Q$171&$X926)","v":{"$error":"#REF!"}},null,"円",{"$f":"INDIRECT(T$171&$X926)","v":{"$error":"#REF!"}},null,"円",{"$error":"#REF!"},{"$f":"X925+1","v":255},{"$f":"COUNTIF($W$181:W926,W926)","v":745}]
[{"$error":"#REF!"},null,"➊➋➌それぞれの賃金改善額（見込額）",null,null,null,null,null,null,null,null,null,null,"➊",{"$f":"INDIRECT(O$172&$X927)","v":{"$error":"#REF!"}},"円","➋",{"$f":"INDIRECT(R$172&$X927)","v":{"$error":"#REF!"}},"円","➌",{"$f":"INDIRECT(U$172&$X927)","v":{"$error":"#REF!"}},"円",{"$error":"#REF!"},{"$f":"X926","v":255},{"$f":"COUNTIF($W$181:W927,W927)","v":746}]
[{"$error":"#REF!"},null,null,null,null,null,null,null,null,null,null,null,null,"（",{"$f":"INDIRECT(O$173&$X928)","v":{"$error":"#REF!"}},"人）","（",{"$f":"INDIRECT(R$173&$X928)","v":{"$error":"#REF!"}},"人）","（",{"$f":"INDIRECT(U$173&$X928)","v":{"$error":"#REF!"}},"人）",{"$error":"#REF!"},255,{"$f":"COUNTIF($W$181:W928,W928)","v":747}]
[{"$error":"#REF!"},null,{"$f":"INDIRECT(C$171&$X929)","v":{"$error":"#REF!"}},null,null,null,null,null,null,null,null,null,{"$f":"INDIRECT(M$171&$X929)","v":{"$error":"#REF!"}},{"$f":"INDIRECT(N$171&$X929)","v":{"$error":"#REF!"}},null,null,{"$f":"INDIRECT(Q$171&$X929)","v":{"$error":"#REF!"}},null,"円",{"$f":"INDIRECT(T$171&$X929)","v":{"$error":"#REF!"}},null,"円",{"$error":"#REF!"},{"$f":"X928+1","v":256},{"$f":"COUNTIF($W$181:W929,W929)","v":748}]
[{"$error":"#REF!"},null,"➊➋➌それぞれの賃金改善額（見込額）",null,null,null,null,null,null,null,null,null,null,"➊",{"$f":"INDIRECT(O$172&$X930)","v":{"$error":"#REF!"}},"円","➋",{"$f":"INDIRECT(R$172&$X930)","v":{"$error":"#REF!"}},"円","➌",{"$f":"INDIRECT(U$172&$X930)","v":{"$error":"#REF!"}},"円",{"$error":"#REF!"},{"$f":"X929","v":256},{"$f":"COUNTIF($W$181:W930,W930)","v":749}]
[{"$error":"#REF!"},null,null,null,null,null,null,null,null,null,null,null,null,"（",{"$f":"INDIRECT(O$173&$X931)","v":{"$error":"#REF!"}},"人）","（",{"$f":"INDIRECT(R$173&$X931)","v":{"$error":"#REF!"}},"人）","（",{"$f":"INDIRECT(U$173&$X931)","v":{"$error":"#REF!"}},"人）",{"$error":"#REF!"},256,{"$f":"COUNTIF($W$181:W931,W931)","v":750}]
[{"$error":"#REF!"},null,{"$f":"INDIRECT(C$171&$X932)","v":{"$error":"#REF!"}},null,null,null,null,null,null,null,null,null,{"$f":"INDIRECT(M$171&$X932)","v":{"$error":"#REF!"}},{"$f":"INDIRECT(N$171&$X932)","v":{"$error":"#REF!"}},null,null,{"$f":"INDIRECT(Q$171&$X932)","v":{"$error":"#REF!"}},null,"円",{"$f":"INDIRECT(T$171&$X932)","v":{"$error":"#REF!"}},null,"円",{"$error":"#REF!"},{"$f":"X931+1","v":257},{"$f":"COUNTIF($W$181:W932,W932)","v":751}]
[{"$error":"#REF!"},null,"➊➋➌それぞれの賃金改善額（見込額）",null,null,null,null,null,null,null,null,null,null,"➊",{"$f":"INDIRECT(O$172&$X933)","v":{"$error":"#REF!"}},"円","➋",{"$f":"INDIRECT(R$172&$X933)","v":{"$error":"#REF!"}},"円","➌",{"$f":"INDIRECT(U$172&$X933)","v":{"$error":"#REF!"}},"円",{"$error":"#REF!"},{"$f":"X932","v":257},{"$f":"COUNTIF($W$181:W933,W933)","v":752}]
[{"$error":"#REF!"},null,null,null,null,null,null,null,null,null,null,null,null,"（",{"$f":"INDIRECT(O$173&$X934)","v":{"$error":"#REF!"}},"人）","（",{"$f":"INDIRECT(R$173&$X934)","v":{"$error":"#REF!"}},"人）","（",{"$f":"INDIRECT(U$173&$X934)","v":{"$error":"#REF!"}},"人）",{"$error":"#REF!"},257,{"$f":"COUNTIF($W$181:W934,W934)","v":753}]
[{"$error":"#REF!"},null,{"$f":"INDIRECT(C$171&$X935)","v":{"$error":"#REF!"}},null,null,null,null,null,null,null,null,null,{"$f":"INDIRECT(M$171&$X935)","v":{"$error":"#REF!"}},{"$f":"INDIRECT(N$171&$X935)","v":{"$error":"#REF!"}},null,null,{"$f":"INDIRECT(Q$171&$X935)","v":{"$error":"#REF!"}},null,"円",{"$f":"INDIRECT(T$171&$X935)","v":{"$error":"#REF!"}},null,"円",{"$error":"#REF!"},{"$f":"X934+1","v":258},{"$f":"COUNTIF($W$181:W935,W935)","v":754}]
[{"$error":"#REF!"},null,"➊➋➌それぞれの賃金改善額（見込額）",null,null,null,null,null,null,null,null,null,null,"➊",{"$f":"INDIRECT(O$172&$X936)","v":{"$error":"#REF!"}},"円","➋",{"$f":"INDIRECT(R$172&$X936)","v":{"$error":"#REF!"}},"円","➌",{"$f":"INDIRECT(U$172&$X936)","v":{"$error":"#REF!"}},"円",{"$error":"#REF!"},{"$f":"X935","v":258},{"$f":"COUNTIF($W$181:W936,W936)","v":755}]
[{"$error":"#REF!"},null,null,null,null,null,null,null,null,null,null,null,null,"（",{"$f":"INDIRECT(O$173&$X937)","v":{"$error":"#REF!"}},"人）","（",{"$f":"INDIRECT(R$173&$X937)","v":{"$error":"#REF!"}},"人）","（",{"$f":"INDIRECT(U$173&$X937)","v":{"$error":"#REF!"}},"人）",{"$error":"#REF!"},258,{"$f":"COUNTIF($W$181:W937,W937)","v":756}]
[{"$error":"#REF!"},null,{"$f":"INDIRECT(C$171&$X938)","v":{"$error":"#REF!"}},null,null,null,null,null,null,null,null,null,{"$f":"INDIRECT(M$171&$X938)","v":{"$error":"#REF!"}},{"$f":"INDIRECT(N$171&$X938)","v":{"$error":"#REF!"}},null,null,{"$f":"INDIRECT(Q$171&$X938)","v":{"$error":"#REF!"}},null,"円",{"$f":"INDIRECT(T$171&$X938)","v":{"$error":"#REF!"}},null,"円",{"$error":"#REF!"},{"$f":"X937+1","v":259},{"$f":"COUNTIF($W$181:W938,W938)","v":757}]
[{"$error":"#REF!"},null,"➊➋➌それぞれの賃金改善額（見込額）",null,null,null,null,null,null,null,null,null,null,"➊",{"$f":"INDIRECT(O$172&$X939)","v":{"$error":"#REF!"}},"円","➋",{"$f":"INDIRECT(R$172&$X939)","v":{"$error":"#REF!"}},"円","➌",{"$f":"INDIRECT(U$172&$X939)","v":{"$error":"#REF!"}},"円",{"$error":"#REF!"},{"$f":"X938","v":259},{"$f":"COUNTIF($W$181:W939,W939)","v":758}]
[{"$error":"#REF!"},null,null,null,null,null,null,null,null,null,null,null,null,"（",{"$f":"INDIRECT(O$173&$X940)","v":{"$error":"#REF!"}},"人）","（",{"$f":"INDIRECT(R$173&$X940)","v":{"$error":"#REF!"}},"人）","（",{"$f":"INDIRECT(U$173&$X940)","v":{"$error":"#REF!"}},"人）",{"$error":"#REF!"},259,{"$f":"COUNTIF($W$181:W940,W940)","v":759}]
[{"$error":"#REF!"},null,{"$f":"INDIRECT(C$171&$X941)","v":{"$error":"#REF!"}},null,null,null,null,null,null,null,null,null,{"$f":"INDIRECT(M$171&$X941)","v":{"$error":"#REF!"}},{"$f":"INDIRECT(N$171&$X941)","v":{"$error":"#REF!"}},null,null,{"$f":"INDIRECT(Q$171&$X941)","v":{"$error":"#REF!"}},null,"円",{"$f":"INDIRECT(T$171&$X941)","v":{"$error":"#REF!"}},null,"円",{"$error":"#REF!"},{"$f":"X940+1","v":260},{"$f":"COUNTIF($W$181:W941,W941)","v":760}]
[{"$error":"#REF!"},null,"➊➋➌それぞれの賃金改善額（見込額）",null,null,null,null,null,null,null,null,null,null,"➊",{"$f":"INDIRECT(O$172&$X942)","v":{"$error":"#REF!"}},"円","➋",{"$f":"INDIRECT(R$172&$X942)","v":{"$error":"#REF!"}},"円","➌",{"$f":"INDIRECT(U$172&$X942)","v":{"$error":"#REF!"}},"円",{"$error":"#REF!"},{"$f":"X941","v":260},{"$f":"COUNTIF($W$181:W942,W942)","v":761}]
[{"$error":"#REF!"},null,null,null,null,null,null,null,null,null,null,null,null,"（",{"$f":"INDIRECT(O$173&$X943)","v":{"$error":"#REF!"}},"人）","（",{"$f":"INDIRECT(R$173&$X943)","v":{"$error":"#REF!"}},"人）","（",{"$f":"INDIRECT(U$173&$X943)","v":{"$error":"#REF!"}},"人）",{"$error":"#REF!"},260,{"$f":"COUNTIF($W$181:W943,W943)","v":762}]
[{"$error":"#REF!"},null,{"$f":"INDIRECT(C$171&$X944)","v":{"$error":"#REF!"}},null,null,null,null,null,null,null,null,null,{"$f":"INDIRECT(M$171&$X944)","v":{"$error":"#REF!"}},{"$f":"INDIRECT(N$171&$X944)","v":{"$error":"#REF!"}},null,null,{"$f":"INDIRECT(Q$171&$X944)","v":{"$error":"#REF!"}},null,"円",{"$f":"INDIRECT(T$171&$X944)","v":{"$error":"#REF!"}},null,"円",{"$error":"#REF!"},{"$f":"X943+1","v":261},{"$f":"COUNTIF($W$181:W944,W944)","v":763}]
[{"$error":"#REF!"},null,"➊➋➌それぞれの賃金改善額（見込額）",null,null,null,null,null,null,null,null,null,null,"➊",{"$f":"INDIRECT(O$172&$X945)","v":{"$error":"#REF!"}},"円","➋",{"$f":"INDIRECT(R$172&$X945)","v":{"$error":"#REF!"}},"円","➌",{"$f":"INDIRECT(U$172&$X945)","v":{"$error":"#REF!"}},"円",{"$error":"#REF!"},{"$f":"X944","v":261},{"$f":"COUNTIF($W$181:W945,W945)","v":764}]
[{"$error":"#REF!"},null,null,null,null,null,null,null,null,null,null,null,null,"（",{"$f":"INDIRECT(O$173&$X946)","v":{"$error":"#REF!"}},"人）","（",{"$f":"INDIRECT(R$173&$X946)","v":{"$error":"#REF!"}},"人）","（",{"$f":"INDIRECT(U$173&$X946)","v":{"$error":"#REF!"}},"人）",{"$error":"#REF!"},261,{"$f":"COUNTIF($W$181:W946,W946)","v":765}]
[{"$error":"#REF!"},null,{"$f":"INDIRECT(C$171&$X947)","v":{"$error":"#REF!"}},null,null,null,null,null,null,null,null,null,{"$f":"INDIRECT(M$171&$X947)","v":{"$error":"#REF!"}},{"$f":"INDIRECT(N$171&$X947)","v":{"$error":"#REF!"}},null,null,{"$f":"INDIRECT(Q$171&$X947)","v":{"$error":"#REF!"}},null,"円",{"$f":"INDIRECT(T$171&$X947)","v":{"$error":"#REF!"}},null,"円",{"$error":"#REF!"},{"$f":"X946+1","v":262},{"$f":"COUNTIF($W$181:W947,W947)","v":766}]
[{"$error":"#REF!"},null,"➊➋➌それぞれの賃金改善額（見込額）",null,null,null,null,null,null,null,null,null,null,"➊",{"$f":"INDIRECT(O$172&$X948)","v":{"$error":"#REF!"}},"円","➋",{"$f":"INDIRECT(R$172&$X948)","v":{"$error":"#REF!"}},"円","➌",{"$f":"INDIRECT(U$172&$X948)","v":{"$error":"#REF!"}},"円",{"$error":"#REF!"},{"$f":"X947","v":262},{"$f":"COUNTIF($W$181:W948,W948)","v":767}]
[{"$error":"#REF!"},null,null,null,null,null,null,null,null,null,null,null,null,"（",{"$f":"INDIRECT(O$173&$X949)","v":{"$error":"#REF!"}},"人）","（",{"$f":"INDIRECT(R$173&$X949)","v":{"$error":"#REF!"}},"人）","（",{"$f":"INDIRECT(U$173&$X949)","v":{"$error":"#REF!"}},"人）",{"$error":"#REF!"},262,{"$f":"COUNTIF($W$181:W949,W949)","v":768}]
[{"$error":"#REF!"},null,{"$f":"INDIRECT(C$171&$X950)","v":{"$error":"#REF!"}},null,null,null,null,null,null,null,null,null,{"$f":"INDIRECT(M$171&$X950)","v":{"$error":"#REF!"}},{"$f":"INDIRECT(N$171&$X950)","v":{"$error":"#REF!"}},null,null,{"$f":"INDIRECT(Q$171&$X950)","v":{"$error":"#REF!"}},null,"円",{"$f":"INDIRECT(T$171&$X950)","v":{"$error":"#REF!"}},null,"円",{"$error":"#REF!"},{"$f":"X949+1","v":263},{"$f":"COUNTIF($W$181:W950,W950)","v":769}]
[{"$error":"#REF!"},null,"➊➋➌それぞれの賃金改善額（見込額）",null,null,null,null,null,null,null,null,null,null,"➊",{"$f":"INDIRECT(O$172&$X951)","v":{"$error":"#REF!"}},"円","➋",{"$f":"INDIRECT(R$172&$X951)","v":{"$error":"#REF!"}},"円","➌",{"$f":"INDIRECT(U$172&$X951)","v":{"$error":"#REF!"}},"円",{"$f":"INDIRECT($W$171&X951)","v":{"$error":"#REF!"}},{"$f":"X950","v":263},{"$f":"COUNTIF($W$181:W951,W951)","v":770}]
[{"$error":"#REF!"},null,null,null,null,null,null,null,null,null,null,null,null,"（",{"$f":"INDIRECT(O$173&$X952)","v":{"$error":"#REF!"}},"人）","（",{"$f":"INDIRECT(R$173&$X952)","v":{"$error":"#REF!"}},"人）","（",{"$f":"INDIRECT(U$173&$X952)","v":{"$error":"#REF!"}},"人）",{"$error":"#REF!"},263,{"$f":"COUNTIF($W$181:W952,W952)","v":771}]
[{"$error":"#REF!"},null,{"$f":"INDIRECT(C$171&$X953)","v":{"$error":"#REF!"}},null,null,null,null,null,null,null,null,null,{"$f":"INDIRECT(M$171&$X953)","v":{"$error":"#REF!"}},{"$f":"INDIRECT(N$171&$X953)","v":{"$error":"#REF!"}},null,null,{"$f":"INDIRECT(Q$171&$X953)","v":{"$error":"#REF!"}},null,"円",{"$f":"INDIRECT(T$171&$X953)","v":{"$error":"#REF!"}},null,"円",{"$error":"#REF!"},{"$f":"X952+1","v":264},{"$f":"COUNTIF($W$181:W953,W953)","v":772}]
[{"$error":"#REF!"},null,"➊➋➌それぞれの賃金改善額（見込額）",null,null,null,null,null,null,null,null,null,null,"➊",{"$f":"INDIRECT(O$172&$X954)","v":{"$error":"#REF!"}},"円","➋",{"$f":"INDIRECT(R$172&$X954)","v":{"$error":"#REF!"}},"円","➌",{"$f":"INDIRECT(U$172&$X954)","v":{"$error":"#REF!"}},"円",{"$error":"#REF!"},{"$f":"X953","v":264},{"$f":"COUNTIF($W$181:W954,W954)","v":773}]
[{"$error":"#REF!"},null,null,null,null,null,null,null,null,null,null,null,null,"（",{"$f":"INDIRECT(O$173&$X955)","v":{"$error":"#REF!"}},"人）","（",{"$f":"INDIRECT(R$173&$X955)","v":{"$error":"#REF!"}},"人）","（",{"$f":"INDIRECT(U$173&$X955)","v":{"$error":"#REF!"}},"人）",{"$error":"#REF!"},264,{"$f":"COUNTIF($W$181:W955,W955)","v":774}]
[{"$error":"#REF!"},null,{"$f":"INDIRECT(C$171&$X956)","v":{"$error":"#REF!"}},null,null,null,null,null,null,null,null,null,{"$f":"INDIRECT(M$171&$X956)","v":{"$error":"#REF!"}},{"$f":"INDIRECT(N$171&$X956)","v":{"$error":"#REF!"}},null,null,{"$f":"INDIRECT(Q$171&$X956)","v":{"$error":"#REF!"}},null,"円",{"$f":"INDIRECT(T$171&$X956)","v":{"$error":"#REF!"}},null,"円",{"$error":"#REF!"},{"$f":"X955+1","v":265},{"$f":"COUNTIF($W$181:W956,W956)","v":775}]
[{"$error":"#REF!"},null,"➊➋➌それぞれの賃金改善額（見込額）",null,null,null,null,null,null,null,null,null,null,"➊",{"$f":"INDIRECT(O$172&$X957)","v":{"$error":"#REF!"}},"円","➋",{"$f":"INDIRECT(R$172&$X957)","v":{"$error":"#REF!"}},"円","➌",{"$f":"INDIRECT(U$172&$X957)","v":{"$error":"#REF!"}},"円",{"$error":"#REF!"},{"$f":"X956","v":265},{"$f":"COUNTIF($W$181:W957,W957)","v":776}]
[{"$error":"#REF!"},null,null,null,null,null,null,null,null,null,null,null,null,"（",{"$f":"INDIRECT(O$173&$X958)","v":{"$error":"#REF!"}},"人）","（",{"$f":"INDIRECT(R$173&$X958)","v":{"$error":"#REF!"}},"人）","（",{"$f":"INDIRECT(U$173&$X958)","v":{"$error":"#REF!"}},"人）",{"$error":"#REF!"},265,{"$f":"COUNTIF($W$181:W958,W958)","v":777}]
[{"$error":"#REF!"},null,{"$f":"INDIRECT(C$171&$X959)","v":{"$error":"#REF!"}},null,null,null,null,null,null,null,null,null,{"$f":"INDIRECT(M$171&$X959)","v":{"$error":"#REF!"}},{"$f":"INDIRECT(N$171&$X959)","v":{"$error":"#REF!"}},null,null,{"$f":"INDIRECT(Q$171&$X959)","v":{"$error":"#REF!"}},null,"円",{"$f":"INDIRECT(T$171&$X959)","v":{"$error":"#REF!"}},null,"円",{"$error":"#REF!"},{"$f":"X958+1","v":266},{"$f":"COUNTIF($W$181:W959,W959)","v":778}]
[{"$error":"#REF!"},null,"➊➋➌それぞれの賃金改善額（見込額）",null,null,null,null,null,null,null,null,null,null,"➊",{"$f":"INDIRECT(O$172&$X960)","v":{"$error":"#REF!"}},"円","➋",{"$f":"INDIRECT(R$172&$X960)","v":{"$error":"#REF!"}},"円","➌",{"$f":"INDIRECT(U$172&$X960)","v":{"$error":"#REF!"}},"円",{"$error":"#REF!"},{"$f":"X959","v":266},{"$f":"COUNTIF($W$181:W960,W960)","v":779}]
[{"$error":"#REF!"},null,null,null,null,null,null,null,null,null,null,null,null,"（",{"$f":"INDIRECT(O$173&$X961)","v":{"$error":"#REF!"}},"人）","（",{"$f":"INDIRECT(R$173&$X961)","v":{"$error":"#REF!"}},"人）","（",{"$f":"INDIRECT(U$173&$X961)","v":{"$error":"#REF!"}},"人）",{"$error":"#REF!"},266,{"$f":"COUNTIF($W$181:W961,W961)","v":780}]
[{"$error":"#REF!"},null,{"$f":"INDIRECT(C$171&$X962)","v":{"$error":"#REF!"}},null,null,null,null,null,null,null,null,null,{"$f":"INDIRECT(M$171&$X962)","v":{"$error":"#REF!"}},{"$f":"INDIRECT(N$171&$X962)","v":{"$error":"#REF!"}},null,null,{"$f":"INDIRECT(Q$171&$X962)","v":{"$error":"#REF!"}},null,"円",{"$f":"INDIRECT(T$171&$X962)","v":{"$error":"#REF!"}},null,"円",{"$error":"#REF!"},{"$f":"X961+1","v":267},{"$f":"COUNTIF($W$181:W962,W962)","v":781}]
[{"$error":"#REF!"},null,"➊➋➌それぞれの賃金改善額（見込額）",null,null,null,null,null,null,null,null,null,null,"➊",{"$f":"INDIRECT(O$172&$X963)","v":{"$error":"#REF!"}},"円","➋",{"$f":"INDIRECT(R$172&$X963)","v":{"$error":"#REF!"}},"円","➌",{"$f":"INDIRECT(U$172&$X963)","v":{"$error":"#REF!"}},"円",{"$error":"#REF!"},{"$f":"X962","v":267},{"$f":"COUNTIF($W$181:W963,W963)","v":782}]
[{"$error":"#REF!"},null,null,null,null,null,null,null,null,null,null,null,null,"（",{"$f":"INDIRECT(O$173&$X964)","v":{"$error":"#REF!"}},"人）","（",{"$f":"INDIRECT(R$173&$X964)","v":{"$error":"#REF!"}},"人）","（",{"$f":"INDIRECT(U$173&$X964)","v":{"$error":"#REF!"}},"人）",{"$error":"#REF!"},267,{"$f":"COUNTIF($W$181:W964,W964)","v":783}]
[{"$error":"#REF!"},null,{"$f":"INDIRECT(C$171&$X965)","v":{"$error":"#REF!"}},null,null,null,null,null,null,null,null,null,{"$f":"INDIRECT(M$171&$X965)","v":{"$error":"#REF!"}},{"$f":"INDIRECT(N$171&$X965)","v":{"$error":"#REF!"}},null,null,{"$f":"INDIRECT(Q$171&$X965)","v":{"$error":"#REF!"}},null,"円",{"$f":"INDIRECT(T$171&$X965)","v":{"$error":"#REF!"}},null,"円",{"$error":"#REF!"},{"$f":"X964+1","v":268},{"$f":"COUNTIF($W$181:W965,W965)","v":784}]
[{"$error":"#REF!"},null,"➊➋➌それぞれの賃金改善額（見込額）",null,null,null,null,null,null,null,null,null,null,"➊",{"$f":"INDIRECT(O$172&$X966)","v":{"$error":"#REF!"}},"円","➋",{"$f":"INDIRECT(R$172&$X966)","v":{"$error":"#REF!"}},"円","➌",{"$f":"INDIRECT(U$172&$X966)","v":{"$error":"#REF!"}},"円",{"$error":"#REF!"},{"$f":"X965","v":268},{"$f":"COUNTIF($W$181:W966,W966)","v":785}]
[{"$error":"#REF!"},null,null,null,null,null,null,null,null,null,null,null,null,"（",{"$f":"INDIRECT(O$173&$X967)","v":{"$error":"#REF!"}},"人）","（",{"$f":"INDIRECT(R$173&$X967)","v":{"$error":"#REF!"}},"人）","（",{"$f":"INDIRECT(U$173&$X967)","v":{"$error":"#REF!"}},"人）",{"$error":"#REF!"},268,{"$f":"COUNTIF($W$181:W967,W967)","v":786}]
[{"$error":"#REF!"},null,{"$f":"INDIRECT(C$171&$X968)","v":{"$error":"#REF!"}},null,null,null,null,null,null,null,null,null,{"$f":"INDIRECT(M$171&$X968)","v":{"$error":"#REF!"}},{"$f":"INDIRECT(N$171&$X968)","v":{"$error":"#REF!"}},null,null,{"$f":"INDIRECT(Q$171&$X968)","v":{"$error":"#REF!"}},null,"円",{"$f":"INDIRECT(T$171&$X968)","v":{"$error":"#REF!"}},null,"円",{"$error":"#REF!"},{"$f":"X967+1","v":269},{"$f":"COUNTIF($W$181:W968,W968)","v":787}]
[{"$error":"#REF!"},null,"➊➋➌それぞれの賃金改善額（見込額）",null,null,null,null,null,null,null,null,null,null,"➊",{"$f":"INDIRECT(O$172&$X969)","v":{"$error":"#REF!"}},"円","➋",{"$f":"INDIRECT(R$172&$X969)","v":{"$error":"#REF!"}},"円","➌",{"$f":"INDIRECT(U$172&$X969)","v":{"$error":"#REF!"}},"円",{"$error":"#REF!"},{"$f":"X968","v":269},{"$f":"COUNTIF($W$181:W969,W969)","v":788}]
[{"$error":"#REF!"},null,null,null,null,null,null,null,null,null,null,null,null,"（",{"$f":"INDIRECT(O$173&$X970)","v":{"$error":"#REF!"}},"人）","（",{"$f":"INDIRECT(R$173&$X970)","v":{"$error":"#REF!"}},"人）","（",{"$f":"INDIRECT(U$173&$X970)","v":{"$error":"#REF!"}},"人）",{"$error":"#REF!"},269,{"$f":"COUNTIF($W$181:W970,W970)","v":789}]
[{"$error":"#REF!"},null,{"$f":"INDIRECT(C$171&$X971)","v":{"$error":"#REF!"}},null,null,null,null,null,null,null,null,null,{"$f":"INDIRECT(M$171&$X971)","v":{"$error":"#REF!"}},{"$f":"INDIRECT(N$171&$X971)","v":{"$error":"#REF!"}},null,null,{"$f":"INDIRECT(Q$171&$X971)","v":{"$error":"#REF!"}},null,"円",{"$f":"INDIRECT(T$171&$X971)","v":{"$error":"#REF!"}},null,"円",{"$error":"#REF!"},{"$f":"X970+1","v":270},{"$f":"COUNTIF($W$181:W971,W971)","v":790}]
[{"$error":"#REF!"},null,"➊➋➌それぞれの賃金改善額（見込額）",null,null,null,null,null,null,null,null,null,null,"➊",{"$f":"INDIRECT(O$172&$X972)","v":{"$error":"#REF!"}},"円","➋",{"$f":"INDIRECT(R$172&$X972)","v":{"$error":"#REF!"}},"円","➌",{"$f":"INDIRECT(U$172&$X972)","v":{"$error":"#REF!"}},"円",{"$error":"#REF!"},{"$f":"X971","v":270},{"$f":"COUNTIF($W$181:W972,W972)","v":791}]
[{"$error":"#REF!"},null,null,null,null,null,null,null,null,null,null,null,null,"（",{"$f":"INDIRECT(O$173&$X973)","v":{"$error":"#REF!"}},"人）","（",{"$f":"INDIRECT(R$173&$X973)","v":{"$error":"#REF!"}},"人）","（",{"$f":"INDIRECT(U$173&$X973)","v":{"$error":"#REF!"}},"人）",{"$error":"#REF!"},270,{"$f":"COUNTIF($W$181:W973,W973)","v":792}]
[{"$error":"#REF!"},null,{"$f":"INDIRECT(C$171&$X974)","v":{"$error":"#REF!"}},null,null,null,null,null,null,null,null,null,{"$f":"INDIRECT(M$171&$X974)","v":{"$error":"#REF!"}},{"$f":"INDIRECT(N$171&$X974)","v":{"$error":"#REF!"}},null,null,{"$f":"INDIRECT(Q$171&$X974)","v":{"$error":"#REF!"}},null,"円",{"$f":"INDIRECT(T$171&$X974)","v":{"$error":"#REF!"}},null,"円",{"$error":"#REF!"},{"$f":"X973+1","v":271},{"$f":"COUNTIF($W$181:W974,W974)","v":793}]
[{"$error":"#REF!"},null,"➊➋➌それぞれの賃金改善額（見込額）",null,null,null,null,null,null,null,null,null,null,"➊",{"$f":"INDIRECT(O$172&$X975)","v":{"$error":"#REF!"}},"円","➋",{"$f":"INDIRECT(R$172&$X975)","v":{"$error":"#REF!"}},"円","➌",{"$f":"INDIRECT(U$172&$X975)","v":{"$error":"#REF!"}},"円",{"$error":"#REF!"},{"$f":"X974","v":271},{"$f":"COUNTIF($W$181:W975,W975)","v":794}]
[{"$error":"#REF!"},null,null,null,null,null,null,null,null,null,null,null,null,"（",{"$f":"INDIRECT(O$173&$X976)","v":{"$error":"#REF!"}},"人）","（",{"$f":"INDIRECT(R$173&$X976)","v":{"$error":"#REF!"}},"人）","（",{"$f":"INDIRECT(U$173&$X976)","v":{"$error":"#REF!"}},"人）",{"$error":"#REF!"},271,{"$f":"COUNTIF($W$181:W976,W976)","v":795}]
[{"$error":"#REF!"},null,{"$f":"INDIRECT(C$171&$X977)","v":{"$error":"#REF!"}},null,null,null,null,null,null,null,null,null,{"$f":"INDIRECT(M$171&$X977)","v":{"$error":"#REF!"}},{"$f":"INDIRECT(N$171&$X977)","v":{"$error":"#REF!"}},null,null,{"$f":"INDIRECT(Q$171&$X977)","v":{"$error":"#REF!"}},null,"円",{"$f":"INDIRECT(T$171&$X977)","v":{"$error":"#REF!"}},null,"円",{"$error":"#REF!"},{"$f":"X976+1","v":272},{"$f":"COUNTIF($W$181:W977,W977)","v":796}]
[{"$error":"#REF!"},null,"➊➋➌それぞれの賃金改善額（見込額）",null,null,null,null,null,null,null,null,null,null,"➊",{"$f":"INDIRECT(O$172&$X978)","v":{"$error":"#REF!"}},"円","➋",{"$f":"INDIRECT(R$172&$X978)","v":{"$error":"#REF!"}},"円","➌",{"$f":"INDIRECT(U$172&$X978)","v":{"$error":"#REF!"}},"円",{"$error":"#REF!"},{"$f":"X977","v":272},{"$f":"COUNTIF($W$181:W978,W978)","v":797}]
[{"$error":"#REF!"},null,null,null,null,null,null,null,null,null,null,null,null,"（",{"$f":"INDIRECT(O$173&$X979)","v":{"$error":"#REF!"}},"人）","（",{"$f":"INDIRECT(R$173&$X979)","v":{"$error":"#REF!"}},"人）","（",{"$f":"INDIRECT(U$173&$X979)","v":{"$error":"#REF!"}},"人）",{"$error":"#REF!"},272,{"$f":"COUNTIF($W$181:W979,W979)","v":798}]
[{"$error":"#REF!"},null,{"$f":"INDIRECT(C$171&$X980)","v":{"$error":"#REF!"}},null,null,null,null,null,null,null,null,null,{"$f":"INDIRECT(M$171&$X980)","v":{"$error":"#REF!"}},{"$f":"INDIRECT(N$171&$X980)","v":{"$error":"#REF!"}},null,null,{"$f":"INDIRECT(Q$171&$X980)","v":{"$error":"#REF!"}},null,"円",{"$f":"INDIRECT(T$171&$X980)","v":{"$error":"#REF!"}},null,"円",{"$error":"#REF!"},{"$f":"X979+1","v":273},{"$f":"COUNTIF($W$181:W980,W980)","v":799}]
[{"$error":"#REF!"},null,"➊➋➌それぞれの賃金改善額（見込額）",null,null,null,null,null,null,null,null,null,null,"➊",{"$f":"INDIRECT(O$172&$X981)","v":{"$error":"#REF!"}},"円","➋",{"$f":"INDIRECT(R$172&$X981)","v":{"$error":"#REF!"}},"円","➌",{"$f":"INDIRECT(U$172&$X981)","v":{"$error":"#REF!"}},"円",{"$error":"#REF!"},{"$f":"X980","v":273},{"$f":"COUNTIF($W$181:W981,W981)","v":800}]
[{"$error":"#REF!"},null,null,null,null,null,null,null,null,null,null,null,null,"（",{"$f":"INDIRECT(O$173&$X982)","v":{"$error":"#REF!"}},"人）","（",{"$f":"INDIRECT(R$173&$X982)","v":{"$error":"#REF!"}},"人）","（",{"$f":"INDIRECT(U$173&$X982)","v":{"$error":"#REF!"}},"人）",{"$error":"#REF!"},273,{"$f":"COUNTIF($W$181:W982,W982)","v":801}]
[{"$error":"#REF!"},null,{"$f":"INDIRECT(C$171&$X983)","v":{"$error":"#REF!"}},null,null,null,null,null,null,null,null,null,{"$f":"INDIRECT(M$171&$X983)","v":{"$error":"#REF!"}},{"$f":"INDIRECT(N$171&$X983)","v":{"$error":"#REF!"}},null,null,{"$f":"INDIRECT(Q$171&$X983)","v":{"$error":"#REF!"}},null,"円",{"$f":"INDIRECT(T$171&$X983)","v":{"$error":"#REF!"}},null,"円",{"$error":"#REF!"},{"$f":"X982+1","v":274},{"$f":"COUNTIF($W$181:W983,W983)","v":802}]
[{"$error":"#REF!"},null,"➊➋➌それぞれの賃金改善額（見込額）",null,null,null,null,null,null,null,null,null,null,"➊",{"$f":"INDIRECT(O$172&$X984)","v":{"$error":"#REF!"}},"円","➋",{"$f":"INDIRECT(R$172&$X984)","v":{"$error":"#REF!"}},"円","➌",{"$f":"INDIRECT(U$172&$X984)","v":{"$error":"#REF!"}},"円",{"$error":"#REF!"},{"$f":"X983","v":274},{"$f":"COUNTIF($W$181:W984,W984)","v":803}]
[{"$error":"#REF!"},null,null,null,null,null,null,null,null,null,null,null,null,"（",{"$f":"INDIRECT(O$173&$X985)","v":{"$error":"#REF!"}},"人）","（",{"$f":"INDIRECT(R$173&$X985)","v":{"$error":"#REF!"}},"人）","（",{"$f":"INDIRECT(U$173&$X985)","v":{"$error":"#REF!"}},"人）",{"$error":"#REF!"},274,{"$f":"COUNTIF($W$181:W985,W985)","v":804}]
[{"$error":"#REF!"},null,{"$f":"INDIRECT(C$171&$X986)","v":{"$error":"#REF!"}},null,null,null,null,null,null,null,null,null,{"$f":"INDIRECT(M$171&$X986)","v":{"$error":"#REF!"}},{"$f":"INDIRECT(N$171&$X986)","v":{"$error":"#REF!"}},null,null,{"$f":"INDIRECT(Q$171&$X986)","v":{"$error":"#REF!"}},null,"円",{"$f":"INDIRECT(T$171&$X986)","v":{"$error":"#REF!"}},null,"円",{"$error":"#REF!"},{"$f":"X985+1","v":275},{"$f":"COUNTIF($W$181:W986,W986)","v":805}]
[{"$error":"#REF!"},null,"➊➋➌それぞれの賃金改善額（見込額）",null,null,null,null,null,null,null,null,null,null,"➊",{"$f":"INDIRECT(O$172&$X987)","v":{"$error":"#REF!"}},"円","➋",{"$f":"INDIRECT(R$172&$X987)","v":{"$error":"#REF!"}},"円","➌",{"$f":"INDIRECT(U$172&$X987)","v":{"$error":"#REF!"}},"円",{"$error":"#REF!"},{"$f":"X986","v":275},{"$f":"COUNTIF($W$181:W987,W987)","v":806}]
[{"$error":"#REF!"},null,null,null,null,null,null,null,null,null,null,null,null,"（",{"$f":"INDIRECT(O$173&$X988)","v":{"$error":"#REF!"}},"人）","（",{"$f":"INDIRECT(R$173&$X988)","v":{"$error":"#REF!"}},"人）","（",{"$f":"INDIRECT(U$173&$X988)","v":{"$error":"#REF!"}},"人）",{"$error":"#REF!"},275,{"$f":"COUNTIF($W$181:W988,W988)","v":807}]
[{"$error":"#REF!"},null,{"$f":"INDIRECT(C$171&$X989)","v":{"$error":"#REF!"}},null,null,null,null,null,null,null,null,null,{"$f":"INDIRECT(M$171&$X989)","v":{"$error":"#REF!"}},{"$f":"INDIRECT(N$171&$X989)","v":{"$error":"#REF!"}},null,null,{"$f":"INDIRECT(Q$171&$X989)","v":{"$error":"#REF!"}},null,"円",{"$f":"INDIRECT(T$171&$X989)","v":{"$error":"#REF!"}},null,"円",{"$error":"#REF!"},{"$f":"X988+1","v":276},{"$f":"COUNTIF($W$181:W989,W989)","v":808}]
[{"$error":"#REF!"},null,"➊➋➌それぞれの賃金改善額（見込額）",null,null,null,null,null,null,null,null,null,null,"➊",{"$f":"INDIRECT(O$172&$X990)","v":{"$error":"#REF!"}},"円","➋",{"$f":"INDIRECT(R$172&$X990)","v":{"$error":"#REF!"}},"円","➌",{"$f":"INDIRECT(U$172&$X990)","v":{"$error":"#REF!"}},"円",{"$error":"#REF!"},{"$f":"X989","v":276},{"$f":"COUNTIF($W$181:W990,W990)","v":809}]
[{"$error":"#REF!"},null,null,null,null,null,null,null,null,null,null,null,null,"（",{"$f":"INDIRECT(O$173&$X991)","v":{"$error":"#REF!"}},"人）","（",{"$f":"INDIRECT(R$173&$X991)","v":{"$error":"#REF!"}},"人）","（",{"$f":"INDIRECT(U$173&$X991)","v":{"$error":"#REF!"}},"人）",{"$error":"#REF!"},276,{"$f":"COUNTIF($W$181:W991,W991)","v":810}]
[{"$error":"#REF!"},null,{"$f":"INDIRECT(C$171&$X992)","v":{"$error":"#REF!"}},null,null,null,null,null,null,null,null,null,{"$f":"INDIRECT(M$171&$X992)","v":{"$error":"#REF!"}},{"$f":"INDIRECT(N$171&$X992)","v":{"$error":"#REF!"}},null,null,{"$f":"INDIRECT(Q$171&$X992)","v":{"$error":"#REF!"}},null,"円",{"$f":"INDIRECT(T$171&$X992)","v":{"$error":"#REF!"}},null,"円",{"$error":"#REF!"},{"$f":"X991+1","v":277},{"$f":"COUNTIF($W$181:W992,W992)","v":811}]
[{"$error":"#REF!"},null,"➊➋➌それぞれの賃金改善額（見込額）",null,null,null,null,null,null,null,null,null,null,"➊",{"$f":"INDIRECT(O$172&$X993)","v":{"$error":"#REF!"}},"円","➋",{"$f":"INDIRECT(R$172&$X993)","v":{"$error":"#REF!"}},"円","➌",{"$f":"INDIRECT(U$172&$X993)","v":{"$error":"#REF!"}},"円",{"$error":"#REF!"},{"$f":"X992","v":277},{"$f":"COUNTIF($W$181:W993,W993)","v":812}]
[{"$error":"#REF!"},null,null,null,null,null,null,null,null,null,null,null,null,"（",{"$f":"INDIRECT(O$173&$X994)","v":{"$error":"#REF!"}},"人）","（",{"$f":"INDIRECT(R$173&$X994)","v":{"$error":"#REF!"}},"人）","（",{"$f":"INDIRECT(U$173&$X994)","v":{"$error":"#REF!"}},"人）",{"$error":"#REF!"},277,{"$f":"COUNTIF($W$181:W994,W994)","v":813}]
[{"$error":"#REF!"},null,{"$f":"INDIRECT(C$171&$X995)","v":{"$error":"#REF!"}},null,null,null,null,null,null,null,null,null,{"$f":"INDIRECT(M$171&$X995)","v":{"$error":"#REF!"}},{"$f":"INDIRECT(N$171&$X995)","v":{"$error":"#REF!"}},null,null,{"$f":"INDIRECT(Q$171&$X995)","v":{"$error":"#REF!"}},null,"円",{"$f":"INDIRECT(T$171&$X995)","v":{"$error":"#REF!"}},null,"円",{"$error":"#REF!"},{"$f":"X994+1","v":278},{"$f":"COUNTIF($W$181:W995,W995)","v":814}]
[{"$error":"#REF!"},null,"➊➋➌それぞれの賃金改善額（見込額）",null,null,null,null,null,null,null,null,null,null,"➊",{"$f":"INDIRECT(O$172&$X996)","v":{"$error":"#REF!"}},"円","➋",{"$f":"INDIRECT(R$172&$X996)","v":{"$error":"#REF!"}},"円","➌",{"$f":"INDIRECT(U$172&$X996)","v":{"$error":"#REF!"}},"円",{"$error":"#REF!"},{"$f":"X995","v":278},{"$f":"COUNTIF($W$181:W996,W996)","v":815}]
[{"$error":"#REF!"},null,null,null,null,null,null,null,null,null,null,null,null,"（",{"$f":"INDIRECT(O$173&$X997)","v":{"$error":"#REF!"}},"人）","（",{"$f":"INDIRECT(R$173&$X997)","v":{"$error":"#REF!"}},"人）","（",{"$f":"INDIRECT(U$173&$X997)","v":{"$error":"#REF!"}},"人）",{"$error":"#REF!"},278,{"$f":"COUNTIF($W$181:W997,W997)","v":816}]
[{"$error":"#REF!"},null,{"$f":"INDIRECT(C$171&$X998)","v":{"$error":"#REF!"}},null,null,null,null,null,null,null,null,null,{"$f":"INDIRECT(M$171&$X998)","v":{"$error":"#REF!"}},{"$f":"INDIRECT(N$171&$X998)","v":{"$error":"#REF!"}},null,null,{"$f":"INDIRECT(Q$171&$X998)","v":{"$error":"#REF!"}},null,"円",{"$f":"INDIRECT(T$171&$X998)","v":{"$error":"#REF!"}},null,"円",{"$error":"#REF!"},{"$f":"X997+1","v":279},{"$f":"COUNTIF($W$181:W998,W998)","v":817}]
[{"$error":"#REF!"},null,"➊➋➌それぞれの賃金改善額（見込額）",null,null,null,null,null,null,null,null,null,null,"➊",{"$f":"INDIRECT(O$172&$X999)","v":{"$error":"#REF!"}},"円","➋",{"$f":"INDIRECT(R$172&$X999)","v":{"$error":"#REF!"}},"円","➌",{"$f":"INDIRECT(U$172&$X999)","v":{"$error":"#REF!"}},"円",{"$error":"#REF!"},{"$f":"X998","v":279},{"$f":"COUNTIF($W$181:W999,W999)","v":818}]
[{"$error":"#REF!"},null,null,null,null,null,null,null,null,null,null,null,null,"（",{"$f":"INDIRECT(O$173&$X1000)","v":{"$error":"#REF!"}},"人）","（",{"$f":"INDIRECT(R$173&$X1000)","v":{"$error":"#REF!"}},"人）","（",{"$f":"INDIRECT(U$173&$X1000)","v":{"$error":"#REF!"}},"人）",{"$error":"#REF!"},279,{"$f":"COUNTIF($W$181:W1000,W1000)","v":819}]
[{"$error":"#REF!"},null,{"$f":"INDIRECT(C$171&$X1001)","v":{"$error":"#REF!"}},null,null,null,null,null,null,null,null,null,{"$f":"INDIRECT(M$171&$X1001)","v":{"$error":"#REF!"}},{"$f":"INDIRECT(N$171&$X1001)","v":{"$error":"#REF!"}},null,null,{"$f":"INDIRECT(Q$171&$X1001)","v":{"$error":"#REF!"}},null,"円",{"$f":"INDIRECT(T$171&$X1001)","v":{"$error":"#REF!"}},null,"円",{"$error":"#REF!"},{"$f":"X1000+1","v":280},{"$f":"COUNTIF($W$181:W1001,W1001)","v":820}]
[{"$error":"#REF!"},null,"➊➋➌それぞれの賃金改善額（見込額）",null,null,null,null,null,null,null,null,null,null,"➊",{"$f":"INDIRECT(O$172&$X1002)","v":{"$error":"#REF!"}},"円","➋",{"$f":"INDIRECT(R$172&$X1002)","v":{"$error":"#REF!"}},"円","➌",{"$f":"INDIRECT(U$172&$X1002)","v":{"$error":"#REF!"}},"円",{"$error":"#REF!"},{"$f":"X1001","v":280},{"$f":"COUNTIF($W$181:W1002,W1002)","v":821}]
[{"$error":"#REF!"},null,null,null,null,null,null,null,null,null,null,null,null,"（",{"$f":"INDIRECT(O$173&$X1003)","v":{"$error":"#REF!"}},"人）","（",{"$f":"INDIRECT(R$173&$X1003)","v":{"$error":"#REF!"}},"人）","（",{"$f":"INDIRECT(U$173&$X1003)","v":{"$error":"#REF!"}},"人）",{"$error":"#REF!"},280,{"$f":"COUNTIF($W$181:W1003,W1003)","v":822}]
[{"$error":"#REF!"},null,{"$f":"INDIRECT(C$171&$X1004)","v":{"$error":"#REF!"}},null,null,null,null,null,null,null,null,null,{"$f":"INDIRECT(M$171&$X1004)","v":{"$error":"#REF!"}},{"$f":"INDIRECT(N$171&$X1004)","v":{"$error":"#REF!"}},null,null,{"$f":"INDIRECT(Q$171&$X1004)","v":{"$error":"#REF!"}},null,"円",{"$f":"INDIRECT(T$171&$X1004)","v":{"$error":"#REF!"}},null,"円",{"$error":"#REF!"},{"$f":"X1003+1","v":281},{"$f":"COUNTIF($W$181:W1004,W1004)","v":823}]
[{"$error":"#REF!"},null,"➊➋➌それぞれの賃金改善額（見込額）",null,null,null,null,null,null,null,null,null,null,"➊",{"$f":"INDIRECT(O$172&$X1005)","v":{"$error":"#REF!"}},"円","➋",{"$f":"INDIRECT(R$172&$X1005)","v":{"$error":"#REF!"}},"円","➌",{"$f":"INDIRECT(U$172&$X1005)","v":{"$error":"#REF!"}},"円",{"$error":"#REF!"},{"$f":"X1004","v":281},{"$f":"COUNTIF($W$181:W1005,W1005)","v":824}]
[{"$error":"#REF!"},null,null,null,null,null,null,null,null,null,null,null,null,"（",{"$f":"INDIRECT(O$173&$X1006)","v":{"$error":"#REF!"}},"人）","（",{"$f":"INDIRECT(R$173&$X1006)","v":{"$error":"#REF!"}},"人）","（",{"$f":"INDIRECT(U$173&$X1006)","v":{"$error":"#REF!"}},"人）",{"$error":"#REF!"},281,{"$f":"COUNTIF($W$181:W1006,W1006)","v":825}]
[{"$error":"#REF!"},null,{"$f":"INDIRECT(C$171&$X1007)","v":{"$error":"#REF!"}},null,null,null,null,null,null,null,null,null,{"$f":"INDIRECT(M$171&$X1007)","v":{"$error":"#REF!"}},{"$f":"INDIRECT(N$171&$X1007)","v":{"$error":"#REF!"}},null,null,{"$f":"INDIRECT(Q$171&$X1007)","v":{"$error":"#REF!"}},null,"円",{"$f":"INDIRECT(T$171&$X1007)","v":{"$error":"#REF!"}},null,"円",{"$error":"#REF!"},{"$f":"X1006+1","v":282},{"$f":"COUNTIF($W$181:W1007,W1007)","v":826}]
[{"$error":"#REF!"},null,"➊➋➌それぞれの賃金改善額（見込額）",null,null,null,null,null,null,null,null,null,null,"➊",{"$f":"INDIRECT(O$172&$X1008)","v":{"$error":"#REF!"}},"円","➋",{"$f":"INDIRECT(R$172&$X1008)","v":{"$error":"#REF!"}},"円","➌",{"$f":"INDIRECT(U$172&$X1008)","v":{"$error":"#REF!"}},"円",{"$error":"#REF!"},{"$f":"X1007","v":282},{"$f":"COUNTIF($W$181:W1008,W1008)","v":827}]
[{"$error":"#REF!"},null,null,null,null,null,null,null,null,null,null,null,null,"（",{"$f":"INDIRECT(O$173&$X1009)","v":{"$error":"#REF!"}},"人）","（",{"$f":"INDIRECT(R$173&$X1009)","v":{"$error":"#REF!"}},"人）","（",{"$f":"INDIRECT(U$173&$X1009)","v":{"$error":"#REF!"}},"人）",{"$error":"#REF!"},282,{"$f":"COUNTIF($W$181:W1009,W1009)","v":828}]
[{"$error":"#REF!"},null,{"$f":"INDIRECT(C$171&$X1010)","v":{"$error":"#REF!"}},null,null,null,null,null,null,null,null,null,{"$f":"INDIRECT(M$171&$X1010)","v":{"$error":"#REF!"}},{"$f":"INDIRECT(N$171&$X1010)","v":{"$error":"#REF!"}},null,null,{"$f":"INDIRECT(Q$171&$X1010)","v":{"$error":"#REF!"}},null,"円",{"$f":"INDIRECT(T$171&$X1010)","v":{"$error":"#REF!"}},null,"円",{"$error":"#REF!"},{"$f":"X1009+1","v":283},{"$f":"COUNTIF($W$181:W1010,W1010)","v":829}]
[{"$error":"#REF!"},null,"➊➋➌それぞれの賃金改善額（見込額）",null,null,null,null,null,null,null,null,null,null,"➊",{"$f":"INDIRECT(O$172&$X1011)","v":{"$error":"#REF!"}},"円","➋",{"$f":"INDIRECT(R$172&$X1011)","v":{"$error":"#REF!"}},"円","➌",{"$f":"INDIRECT(U$172&$X1011)","v":{"$error":"#REF!"}},"円",{"$error":"#REF!"},{"$f":"X1010","v":283},{"$f":"COUNTIF($W$181:W1011,W1011)","v":830}]
[{"$error":"#REF!"},null,null,null,null,null,null,null,null,null,null,null,null,"（",{"$f":"INDIRECT(O$173&$X1012)","v":{"$error":"#REF!"}},"人）","（",{"$f":"INDIRECT(R$173&$X1012)","v":{"$error":"#REF!"}},"人）","（",{"$f":"INDIRECT(U$173&$X1012)","v":{"$error":"#REF!"}},"人）",{"$error":"#REF!"},283,{"$f":"COUNTIF($W$181:W1012,W1012)","v":831}]
[{"$error":"#REF!"},null,{"$f":"INDIRECT(C$171&$X1013)","v":{"$error":"#REF!"}},null,null,null,null,null,null,null,null,null,{"$f":"INDIRECT(M$171&$X1013)","v":{"$error":"#REF!"}},{"$f":"INDIRECT(N$171&$X1013)","v":{"$error":"#REF!"}},null,null,{"$f":"INDIRECT(Q$171&$X1013)","v":{"$error":"#REF!"}},null,"円",{"$f":"INDIRECT(T$171&$X1013)","v":{"$error":"#REF!"}},null,"円",{"$error":"#REF!"},{"$f":"X1012+1","v":284},{"$f":"COUNTIF($W$181:W1013,W1013)","v":832}]
[{"$error":"#REF!"},null,"➊➋➌それぞれの賃金改善額（見込額）",null,null,null,null,null,null,null,null,null,null,"➊",{"$f":"INDIRECT(O$172&$X1014)","v":{"$error":"#REF!"}},"円","➋",{"$f":"INDIRECT(R$172&$X1014)","v":{"$error":"#REF!"}},"円","➌",{"$f":"INDIRECT(U$172&$X1014)","v":{"$error":"#REF!"}},"円",{"$error":"#REF!"},{"$f":"X1013","v":284},{"$f":"COUNTIF($W$181:W1014,W1014)","v":833}]
[{"$error":"#REF!"},null,null,null,null,null,null,null,null,null,null,null,null,"（",{"$f":"INDIRECT(O$173&$X1015)","v":{"$error":"#REF!"}},"人）","（",{"$f":"INDIRECT(R$173&$X1015)","v":{"$error":"#REF!"}},"人）","（",{"$f":"INDIRECT(U$173&$X1015)","v":{"$error":"#REF!"}},"人）",{"$f":"INDIRECT($W$171&X1015)","v":{"$error":"#REF!"}},284,{"$f":"COUNTIF($W$181:W1015,W1015)","v":834}]
[{"$error":"#REF!"},null,{"$f":"INDIRECT(C$171&$X1016)","v":{"$error":"#REF!"}},null,null,null,null,null,null,null,null,null,{"$f":"INDIRECT(M$171&$X1016)","v":{"$error":"#REF!"}},{"$f":"INDIRECT(N$171&$X1016)","v":{"$error":"#REF!"}},null,null,{"$f":"INDIRECT(Q$171&$X1016)","v":{"$error":"#REF!"}},null,"円",{"$f":"INDIRECT(T$171&$X1016)","v":{"$error":"#REF!"}},null,"円",{"$error":"#REF!"},{"$f":"X1015+1","v":285},{"$f":"COUNTIF($W$181:W1016,W1016)","v":835}]
[{"$error":"#REF!"},null,"➊➋➌それぞれの賃金改善額（見込額）",null,null,null,null,null,null,null,null,null,null,"➊",{"$f":"INDIRECT(O$172&$X1017)","v":{"$error":"#REF!"}},"円","➋",{"$f":"INDIRECT(R$172&$X1017)","v":{"$error":"#REF!"}},"円","➌",{"$f":"INDIRECT(U$172&$X1017)","v":{"$error":"#REF!"}},"円",{"$error":"#REF!"},{"$f":"X1016","v":285},{"$f":"COUNTIF($W$181:W1017,W1017)","v":836}]
[{"$error":"#REF!"},null,null,null,null,null,null,null,null,null,null,null,null,"（",{"$f":"INDIRECT(O$173&$X1018)","v":{"$error":"#REF!"}},"人）","（",{"$f":"INDIRECT(R$173&$X1018)","v":{"$error":"#REF!"}},"人）","（",{"$f":"INDIRECT(U$173&$X1018)","v":{"$error":"#REF!"}},"人）",{"$error":"#REF!"},285,{"$f":"COUNTIF($W$181:W1018,W1018)","v":837}]
[{"$error":"#REF!"},null,{"$f":"INDIRECT(C$171&$X1019)","v":{"$error":"#REF!"}},null,null,null,null,null,null,null,null,null,{"$f":"INDIRECT(M$171&$X1019)","v":{"$error":"#REF!"}},{"$f":"INDIRECT(N$171&$X1019)","v":{"$error":"#REF!"}},null,null,{"$f":"INDIRECT(Q$171&$X1019)","v":{"$error":"#REF!"}},null,"円",{"$f":"INDIRECT(T$171&$X1019)","v":{"$error":"#REF!"}},null,"円",{"$error":"#REF!"},{"$f":"X1018+1","v":286},{"$f":"COUNTIF($W$181:W1019,W1019)","v":838}]
[{"$error":"#REF!"},null,"➊➋➌それぞれの賃金改善額（見込額）",null,null,null,null,null,null,null,null,null,null,"➊",{"$f":"INDIRECT(O$172&$X1020)","v":{"$error":"#REF!"}},"円","➋",{"$f":"INDIRECT(R$172&$X1020)","v":{"$error":"#REF!"}},"円","➌",{"$f":"INDIRECT(U$172&$X1020)","v":{"$error":"#REF!"}},"円",{"$error":"#REF!"},{"$f":"X1019","v":286},{"$f":"COUNTIF($W$181:W1020,W1020)","v":839}]
[{"$error":"#REF!"},null,null,null,null,null,null,null,null,null,null,null,null,"（",{"$f":"INDIRECT(O$173&$X1021)","v":{"$error":"#REF!"}},"人）","（",{"$f":"INDIRECT(R$173&$X1021)","v":{"$error":"#REF!"}},"人）","（",{"$f":"INDIRECT(U$173&$X1021)","v":{"$error":"#REF!"}},"人）",{"$error":"#REF!"},286,{"$f":"COUNTIF($W$181:W1021,W1021)","v":840}]
[{"$error":"#REF!"},null,{"$f":"INDIRECT(C$171&$X1022)","v":{"$error":"#REF!"}},null,null,null,null,null,null,null,null,null,{"$f":"INDIRECT(M$171&$X1022)","v":{"$error":"#REF!"}},{"$f":"INDIRECT(N$171&$X1022)","v":{"$error":"#REF!"}},null,null,{"$f":"INDIRECT(Q$171&$X1022)","v":{"$error":"#REF!"}},null,"円",{"$f":"INDIRECT(T$171&$X1022)","v":{"$error":"#REF!"}},null,"円",{"$error":"#REF!"},{"$f":"X1021+1","v":287},{"$f":"COUNTIF($W$181:W1022,W1022)","v":841}]
[{"$error":"#REF!"},null,"➊➋➌それぞれの賃金改善額（見込額）",null,null,null,null,null,null,null,null,null,null,"➊",{"$f":"INDIRECT(O$172&$X1023)","v":{"$error":"#REF!"}},"円","➋",{"$f":"INDIRECT(R$172&$X1023)","v":{"$error":"#REF!"}},"円","➌",{"$f":"INDIRECT(U$172&$X1023)","v":{"$error":"#REF!"}},"円",{"$error":"#REF!"},{"$f":"X1022","v":287},{"$f":"COUNTIF($W$181:W1023,W1023)","v":842}]
[{"$error":"#REF!"},null,null,null,null,null,null,null,null,null,null,null,null,"（",{"$f":"INDIRECT(O$173&$X1024)","v":{"$error":"#REF!"}},"人）","（",{"$f":"INDIRECT(R$173&$X1024)","v":{"$error":"#REF!"}},"人）","（",{"$f":"INDIRECT(U$173&$X1024)","v":{"$error":"#REF!"}},"人）",{"$error":"#REF!"},287,{"$f":"COUNTIF($W$181:W1024,W1024)","v":843}]
[{"$error":"#REF!"},null,{"$f":"INDIRECT(C$171&$X1025)","v":{"$error":"#REF!"}},null,null,null,null,null,null,null,null,null,{"$f":"INDIRECT(M$171&$X1025)","v":{"$error":"#REF!"}},{"$f":"INDIRECT(N$171&$X1025)","v":{"$error":"#REF!"}},null,null,{"$f":"INDIRECT(Q$171&$X1025)","v":{"$error":"#REF!"}},null,"円",{"$f":"INDIRECT(T$171&$X1025)","v":{"$error":"#REF!"}},null,"円",{"$error":"#REF!"},{"$f":"X1024+1","v":288},{"$f":"COUNTIF($W$181:W1025,W1025)","v":844}]
[{"$error":"#REF!"},null,"➊➋➌それぞれの賃金改善額（見込額）",null,null,null,null,null,null,null,null,null,null,"➊",{"$f":"INDIRECT(O$172&$X1026)","v":{"$error":"#REF!"}},"円","➋",{"$f":"INDIRECT(R$172&$X1026)","v":{"$error":"#REF!"}},"円","➌",{"$f":"INDIRECT(U$172&$X1026)","v":{"$error":"#REF!"}},"円",{"$error":"#REF!"},{"$f":"X1025","v":288},{"$f":"COUNTIF($W$181:W1026,W1026)","v":845}]
[{"$error":"#REF!"},null,null,null,null,null,null,null,null,null,null,null,null,"（",{"$f":"INDIRECT(O$173&$X1027)","v":{"$error":"#REF!"}},"人）","（",{"$f":"INDIRECT(R$173&$X1027)","v":{"$error":"#REF!"}},"人）","（",{"$f":"INDIRECT(U$173&$X1027)","v":{"$error":"#REF!"}},"人）",{"$error":"#REF!"},288,{"$f":"COUNTIF($W$181:W1027,W1027)","v":846}]
[{"$f":"W1028&Y1028","v":{"$error":"#REF!"}},null,{"$f":"INDIRECT(C$171&$X1028)","v":{"$error":"#REF!"}},null,null,null,null,null,null,null,null,null,{"$f":"INDIRECT(M$171&$X1028)","v":{"$error":"#REF!"}},{"$f":"INDIRECT(N$171&$X1028)","v":{"$error":"#REF!"}},null,null,{"$f":"INDIRECT(Q$171&$X1028)","v":{"$error":"#REF!"}},null,"円",{"$f":"INDIRECT(T$171&$X1028)","v":{"$error":"#REF!"}},null,"円",{"$error":"#REF!"},{"$f":"X1027+1","v":289},{"$f":"COUNTIF($W$181:W1028,W1028)","v":847}]
[{"$error":"#REF!"},null,"➊➋➌それぞれの賃金改善額（見込額）",null,null,null,null,null,null,null,null,null,null,"➊",{"$f":"INDIRECT(O$172&$X1029)","v":{"$error":"#REF!"}},"円","➋",{"$f":"INDIRECT(R$172&$X1029)","v":{"$error":"#REF!"}},"円","➌",{"$f":"INDIRECT(U$172&$X1029)","v":{"$error":"#REF!"}},"円",{"$error":"#REF!"},{"$f":"X1028","v":289},{"$f":"COUNTIF($W$181:W1029,W1029)","v":848}]
[{"$error":"#REF!"},null,null,null,null,null,null,null,null,null,null,null,null,"（",{"$f":"INDIRECT(O$173&$X1030)","v":{"$error":"#REF!"}},"人）","（",{"$f":"INDIRECT(R$173&$X1030)","v":{"$error":"#REF!"}},"人）","（",{"$f":"INDIRECT(U$173&$X1030)","v":{"$error":"#REF!"}},"人）",{"$error":"#REF!"},289,{"$f":"COUNTIF($W$181:W1030,W1030)","v":849}]
[{"$error":"#REF!"},null,{"$f":"INDIRECT(C$171&$X1031)","v":{"$error":"#REF!"}},null,null,null,null,null,null,null,null,null,{"$f":"INDIRECT(M$171&$X1031)","v":{"$error":"#REF!"}},{"$f":"INDIRECT(N$171&$X1031)","v":{"$error":"#REF!"}},null,null,{"$f":"INDIRECT(Q$171&$X1031)","v":{"$error":"#REF!"}},null,"円",{"$f":"INDIRECT(T$171&$X1031)","v":{"$error":"#REF!"}},null,"円",{"$error":"#REF!"},{"$f":"X1030+1","v":290},{"$f":"COUNTIF($W$181:W1031,W1031)","v":850}]
[{"$error":"#REF!"},null,"➊➋➌それぞれの賃金改善額（見込額）",null,null,null,null,null,null,null,null,null,null,"➊",{"$f":"INDIRECT(O$172&$X1032)","v":{"$error":"#REF!"}},"円","➋",{"$f":"INDIRECT(R$172&$X1032)","v":{"$error":"#REF!"}},"円","➌",{"$f":"INDIRECT(U$172&$X1032)","v":{"$error":"#REF!"}},"円",{"$error":"#REF!"},{"$f":"X1031","v":290},{"$f":"COUNTIF($W$181:W1032,W1032)","v":851}]
[{"$error":"#REF!"},null,null,null,null,null,null,null,null,null,null,null,null,"（",{"$f":"INDIRECT(O$173&$X1033)","v":{"$error":"#REF!"}},"人）","（",{"$f":"INDIRECT(R$173&$X1033)","v":{"$error":"#REF!"}},"人）","（",{"$f":"INDIRECT(U$173&$X1033)","v":{"$error":"#REF!"}},"人）",{"$error":"#REF!"},290,{"$f":"COUNTIF($W$181:W1033,W1033)","v":852}]
[{"$error":"#REF!"},null,{"$f":"INDIRECT(C$171&$X1034)","v":{"$error":"#REF!"}},null,null,null,null,null,null,null,null,null,{"$f":"INDIRECT(M$171&$X1034)","v":{"$error":"#REF!"}},{"$f":"INDIRECT(N$171&$X1034)","v":{"$error":"#REF!"}},null,null,{"$f":"INDIRECT(Q$171&$X1034)","v":{"$error":"#REF!"}},null,"円",{"$f":"INDIRECT(T$171&$X1034)","v":{"$error":"#REF!"}},null,"円",{"$error":"#REF!"},{"$f":"X1033+1","v":291},{"$f":"COUNTIF($W$181:W1034,W1034)","v":853}]
[{"$error":"#REF!"},null,"➊➋➌それぞれの賃金改善額（見込額）",null,null,null,null,null,null,null,null,null,null,"➊",{"$f":"INDIRECT(O$172&$X1035)","v":{"$error":"#REF!"}},"円","➋",{"$f":"INDIRECT(R$172&$X1035)","v":{"$error":"#REF!"}},"円","➌",{"$f":"INDIRECT(U$172&$X1035)","v":{"$error":"#REF!"}},"円",{"$error":"#REF!"},{"$f":"X1034","v":291},{"$f":"COUNTIF($W$181:W1035,W1035)","v":854}]
[{"$error":"#REF!"},null,null,null,null,null,null,null,null,null,null,null,null,"（",{"$f":"INDIRECT(O$173&$X1036)","v":{"$error":"#REF!"}},"人）","（",{"$f":"INDIRECT(R$173&$X1036)","v":{"$error":"#REF!"}},"人）","（",{"$f":"INDIRECT(U$173&$X1036)","v":{"$error":"#REF!"}},"人）",{"$error":"#REF!"},291,{"$f":"COUNTIF($W$181:W1036,W1036)","v":855}]
[{"$error":"#REF!"},null,{"$f":"INDIRECT(C$171&$X1037)","v":{"$error":"#REF!"}},null,null,null,null,null,null,null,null,null,{"$f":"INDIRECT(M$171&$X1037)","v":{"$error":"#REF!"}},{"$f":"INDIRECT(N$171&$X1037)","v":{"$error":"#REF!"}},null,null,{"$f":"INDIRECT(Q$171&$X1037)","v":{"$error":"#REF!"}},null,"円",{"$f":"INDIRECT(T$171&$X1037)","v":{"$error":"#REF!"}},null,"円",{"$error":"#REF!"},{"$f":"X1036+1","v":292},{"$f":"COUNTIF($W$181:W1037,W1037)","v":856}]
[{"$error":"#REF!"},null,"➊➋➌それぞれの賃金改善額（見込額）",null,null,null,null,null,null,null,null,null,null,"➊",{"$f":"INDIRECT(O$172&$X1038)","v":{"$error":"#REF!"}},"円","➋",{"$f":"INDIRECT(R$172&$X1038)","v":{"$error":"#REF!"}},"円","➌",{"$f":"INDIRECT(U$172&$X1038)","v":{"$error":"#REF!"}},"円",{"$error":"#REF!"},{"$f":"X1037","v":292},{"$f":"COUNTIF($W$181:W1038,W1038)","v":857}]
[{"$error":"#REF!"},null,null,null,null,null,null,null,null,null,null,null,null,"（",{"$f":"INDIRECT(O$173&$X1039)","v":{"$error":"#REF!"}},"人）","（",{"$f":"INDIRECT(R$173&$X1039)","v":{"$error":"#REF!"}},"人）","（",{"$f":"INDIRECT(U$173&$X1039)","v":{"$error":"#REF!"}},"人）",{"$error":"#REF!"},292,{"$f":"COUNTIF($W$181:W1039,W1039)","v":858}]
[{"$error":"#REF!"},null,{"$f":"INDIRECT(C$171&$X1040)","v":{"$error":"#REF!"}},null,null,null,null,null,null,null,null,null,{"$f":"INDIRECT(M$171&$X1040)","v":{"$error":"#REF!"}},{"$f":"INDIRECT(N$171&$X1040)","v":{"$error":"#REF!"}},null,null,{"$f":"INDIRECT(Q$171&$X1040)","v":{"$error":"#REF!"}},null,"円",{"$f":"INDIRECT(T$171&$X1040)","v":{"$error":"#REF!"}},null,"円",{"$error":"#REF!"},{"$f":"X1039+1","v":293},{"$f":"COUNTIF($W$181:W1040,W1040)","v":859}]
[{"$error":"#REF!"},null,"➊➋➌それぞれの賃金改善額（見込額）",null,null,null,null,null,null,null,null,null,null,"➊",{"$f":"INDIRECT(O$172&$X1041)","v":{"$error":"#REF!"}},"円","➋",{"$f":"INDIRECT(R$172&$X1041)","v":{"$error":"#REF!"}},"円","➌",{"$f":"INDIRECT(U$172&$X1041)","v":{"$error":"#REF!"}},"円",{"$error":"#REF!"},{"$f":"X1040","v":293},{"$f":"COUNTIF($W$181:W1041,W1041)","v":860}]
[{"$error":"#REF!"},null,null,null,null,null,null,null,null,null,null,null,null,"（",{"$f":"INDIRECT(O$173&$X1042)","v":{"$error":"#REF!"}},"人）","（",{"$f":"INDIRECT(R$173&$X1042)","v":{"$error":"#REF!"}},"人）","（",{"$f":"INDIRECT(U$173&$X1042)","v":{"$error":"#REF!"}},"人）",{"$error":"#REF!"},293,{"$f":"COUNTIF($W$181:W1042,W1042)","v":861}]
[{"$error":"#REF!"},null,{"$f":"INDIRECT(C$171&$X1043)","v":{"$error":"#REF!"}},null,null,null,null,null,null,null,null,null,{"$f":"INDIRECT(M$171&$X1043)","v":{"$error":"#REF!"}},{"$f":"INDIRECT(N$171&$X1043)","v":{"$error":"#REF!"}},null,null,{"$f":"INDIRECT(Q$171&$X1043)","v":{"$error":"#REF!"}},null,"円",{"$f":"INDIRECT(T$171&$X1043)","v":{"$error":"#REF!"}},null,"円",{"$error":"#REF!"},{"$f":"X1042+1","v":294},{"$f":"COUNTIF($W$181:W1043,W1043)","v":862}]
[{"$error":"#REF!"},null,"➊➋➌それぞれの賃金改善額（見込額）",null,null,null,null,null,null,null,null,null,null,"➊",{"$f":"INDIRECT(O$172&$X1044)","v":{"$error":"#REF!"}},"円","➋",{"$f":"INDIRECT(R$172&$X1044)","v":{"$error":"#REF!"}},"円","➌",{"$f":"INDIRECT(U$172&$X1044)","v":{"$error":"#REF!"}},"円",{"$error":"#REF!"},{"$f":"X1043","v":294},{"$f":"COUNTIF($W$181:W1044,W1044)","v":863}]
[{"$error":"#REF!"},null,null,null,null,null,null,null,null,null,null,null,null,"（",{"$f":"INDIRECT(O$173&$X1045)","v":{"$error":"#REF!"}},"人）","（",{"$f":"INDIRECT(R$173&$X1045)","v":{"$error":"#REF!"}},"人）","（",{"$f":"INDIRECT(U$173&$X1045)","v":{"$error":"#REF!"}},"人）",{"$error":"#REF!"},294,{"$f":"COUNTIF($W$181:W1045,W1045)","v":864}]
[{"$error":"#REF!"},null,{"$f":"INDIRECT(C$171&$X1046)","v":{"$error":"#REF!"}},null,null,null,null,null,null,null,null,null,{"$f":"INDIRECT(M$171&$X1046)","v":{"$error":"#REF!"}},{"$f":"INDIRECT(N$171&$X1046)","v":{"$error":"#REF!"}},null,null,{"$f":"INDIRECT(Q$171&$X1046)","v":{"$error":"#REF!"}},null,"円",{"$f":"INDIRECT(T$171&$X1046)","v":{"$error":"#REF!"}},null,"円",{"$error":"#REF!"},{"$f":"X1045+1","v":295},{"$f":"COUNTIF($W$181:W1046,W1046)","v":865}]
[{"$error":"#REF!"},null,"➊➋➌それぞれの賃金改善額（見込額）",null,null,null,null,null,null,null,null,null,null,"➊",{"$f":"INDIRECT(O$172&$X1047)","v":{"$error":"#REF!"}},"円","➋",{"$f":"INDIRECT(R$172&$X1047)","v":{"$error":"#REF!"}},"円","➌",{"$f":"INDIRECT(U$172&$X1047)","v":{"$error":"#REF!"}},"円",{"$error":"#REF!"},{"$f":"X1046","v":295},{"$f":"COUNTIF($W$181:W1047,W1047)","v":866}]
[{"$error":"#REF!"},null,null,null,null,null,null,null,null,null,null,null,null,"（",{"$f":"INDIRECT(O$173&$X1048)","v":{"$error":"#REF!"}},"人）","（",{"$f":"INDIRECT(R$173&$X1048)","v":{"$error":"#REF!"}},"人）","（",{"$f":"INDIRECT(U$173&$X1048)","v":{"$error":"#REF!"}},"人）",{"$error":"#REF!"},295,{"$f":"COUNTIF($W$181:W1048,W1048)","v":867}]
[{"$error":"#REF!"},null,{"$f":"INDIRECT(C$171&$X1049)","v":{"$error":"#REF!"}},null,null,null,null,null,null,null,null,null,{"$f":"INDIRECT(M$171&$X1049)","v":{"$error":"#REF!"}},{"$f":"INDIRECT(N$171&$X1049)","v":{"$error":"#REF!"}},null,null,{"$f":"INDIRECT(Q$171&$X1049)","v":{"$error":"#REF!"}},null,"円",{"$f":"INDIRECT(T$171&$X1049)","v":{"$error":"#REF!"}},null,"円",{"$error":"#REF!"},{"$f":"X1048+1","v":296},{"$f":"COUNTIF($W$181:W1049,W1049)","v":868}]
[{"$error":"#REF!"},null,"➊➋➌それぞれの賃金改善額（見込額）",null,null,null,null,null,null,null,null,null,null,"➊",{"$f":"INDIRECT(O$172&$X1050)","v":{"$error":"#REF!"}},"円","➋",{"$f":"INDIRECT(R$172&$X1050)","v":{"$error":"#REF!"}},"円","➌",{"$f":"INDIRECT(U$172&$X1050)","v":{"$error":"#REF!"}},"円",{"$error":"#REF!"},{"$f":"X1049","v":296},{"$f":"COUNTIF($W$181:W1050,W1050)","v":869}]
[{"$error":"#REF!"},null,null,null,null,null,null,null,null,null,null,null,null,"（",{"$f":"INDIRECT(O$173&$X1051)","v":{"$error":"#REF!"}},"人）","（",{"$f":"INDIRECT(R$173&$X1051)","v":{"$error":"#REF!"}},"人）","（",{"$f":"INDIRECT(U$173&$X1051)","v":{"$error":"#REF!"}},"人）",{"$error":"#REF!"},296,{"$f":"COUNTIF($W$181:W1051,W1051)","v":870}]
[{"$error":"#REF!"},null,{"$f":"INDIRECT(C$171&$X1052)","v":{"$error":"#REF!"}},null,null,null,null,null,null,null,null,null,{"$f":"INDIRECT(M$171&$X1052)","v":{"$error":"#REF!"}},{"$f":"INDIRECT(N$171&$X1052)","v":{"$error":"#REF!"}},null,null,{"$f":"INDIRECT(Q$171&$X1052)","v":{"$error":"#REF!"}},null,"円",{"$f":"INDIRECT(T$171&$X1052)","v":{"$error":"#REF!"}},null,"円",{"$error":"#REF!"},{"$f":"X1051+1","v":297},{"$f":"COUNTIF($W$181:W1052,W1052)","v":871}]
[{"$error":"#REF!"},null,"➊➋➌それぞれの賃金改善額（見込額）",null,null,null,null,null,null,null,null,null,null,"➊",{"$f":"INDIRECT(O$172&$X1053)","v":{"$error":"#REF!"}},"円","➋",{"$f":"INDIRECT(R$172&$X1053)","v":{"$error":"#REF!"}},"円","➌",{"$f":"INDIRECT(U$172&$X1053)","v":{"$error":"#REF!"}},"円",{"$error":"#REF!"},{"$f":"X1052","v":297},{"$f":"COUNTIF($W$181:W1053,W1053)","v":872}]
[{"$error":"#REF!"},null,null,null,null,null,null,null,null,null,null,null,null,"（",{"$f":"INDIRECT(O$173&$X1054)","v":{"$error":"#REF!"}},"人）","（",{"$f":"INDIRECT(R$173&$X1054)","v":{"$error":"#REF!"}},"人）","（",{"$f":"INDIRECT(U$173&$X1054)","v":{"$error":"#REF!"}},"人）",{"$error":"#REF!"},297,{"$f":"COUNTIF($W$181:W1054,W1054)","v":873}]
[{"$error":"#REF!"},null,{"$f":"INDIRECT(C$171&$X1055)","v":{"$error":"#REF!"}},null,null,null,null,null,null,null,null,null,{"$f":"INDIRECT(M$171&$X1055)","v":{"$error":"#REF!"}},{"$f":"INDIRECT(N$171&$X1055)","v":{"$error":"#REF!"}},null,null,{"$f":"INDIRECT(Q$171&$X1055)","v":{"$error":"#REF!"}},null,"円",{"$f":"INDIRECT(T$171&$X1055)","v":{"$error":"#REF!"}},null,"円",{"$error":"#REF!"},{"$f":"X1054+1","v":298},{"$f":"COUNTIF($W$181:W1055,W1055)","v":874}]
[{"$error":"#REF!"},null,"➊➋➌それぞれの賃金改善額（見込額）",null,null,null,null,null,null,null,null,null,null,"➊",{"$f":"INDIRECT(O$172&$X1056)","v":{"$error":"#REF!"}},"円","➋",{"$f":"INDIRECT(R$172&$X1056)","v":{"$error":"#REF!"}},"円","➌",{"$f":"INDIRECT(U$172&$X1056)","v":{"$error":"#REF!"}},"円",{"$error":"#REF!"},{"$f":"X1055","v":298},{"$f":"COUNTIF($W$181:W1056,W1056)","v":875}]
[{"$error":"#REF!"},null,null,null,null,null,null,null,null,null,null,null,null,"（",{"$f":"INDIRECT(O$173&$X1057)","v":{"$error":"#REF!"}},"人）","（",{"$f":"INDIRECT(R$173&$X1057)","v":{"$error":"#REF!"}},"人）","（",{"$f":"INDIRECT(U$173&$X1057)","v":{"$error":"#REF!"}},"人）",{"$error":"#REF!"},298,{"$f":"COUNTIF($W$181:W1057,W1057)","v":876}]
[{"$error":"#REF!"},null,{"$f":"INDIRECT(C$171&$X1058)","v":{"$error":"#REF!"}},null,null,null,null,null,null,null,null,null,{"$f":"INDIRECT(M$171&$X1058)","v":{"$error":"#REF!"}},{"$f":"INDIRECT(N$171&$X1058)","v":{"$error":"#REF!"}},null,null,{"$f":"INDIRECT(Q$171&$X1058)","v":{"$error":"#REF!"}},null,"円",{"$f":"INDIRECT(T$171&$X1058)","v":{"$error":"#REF!"}},null,"円",{"$error":"#REF!"},{"$f":"X1057+1","v":299},{"$f":"COUNTIF($W$181:W1058,W1058)","v":877}]
[{"$error":"#REF!"},null,"➊➋➌それぞれの賃金改善額（見込額）",null,null,null,null,null,null,null,null,null,null,"➊",{"$f":"INDIRECT(O$172&$X1059)","v":{"$error":"#REF!"}},"円","➋",{"$f":"INDIRECT(R$172&$X1059)","v":{"$error":"#REF!"}},"円","➌",{"$f":"INDIRECT(U$172&$X1059)","v":{"$error":"#REF!"}},"円",{"$error":"#REF!"},{"$f":"X1058","v":299},{"$f":"COUNTIF($W$181:W1059,W1059)","v":878}]
[{"$error":"#REF!"},null,null,null,null,null,null,null,null,null,null,null,null,"（",{"$f":"INDIRECT(O$173&$X1060)","v":{"$error":"#REF!"}},"人）","（",{"$f":"INDIRECT(R$173&$X1060)","v":{"$error":"#REF!"}},"人）","（",{"$f":"INDIRECT(U$173&$X1060)","v":{"$error":"#REF!"}},"人）",{"$error":"#REF!"},299,{"$f":"COUNTIF($W$181:W1060,W1060)","v":879}]
[{"$error":"#REF!"},null,{"$f":"INDIRECT(C$171&$X1061)","v":{"$error":"#REF!"}},null,null,null,null,null,null,null,null,null,{"$f":"INDIRECT(M$171&$X1061)","v":{"$error":"#REF!"}},{"$f":"INDIRECT(N$171&$X1061)","v":{"$error":"#REF!"}},null,null,{"$f":"INDIRECT(Q$171&$X1061)","v":{"$error":"#REF!"}},null,"円",{"$f":"INDIRECT(T$171&$X1061)","v":{"$error":"#REF!"}},null,"円",{"$error":"#REF!"},{"$f":"X1060+1","v":300},{"$f":"COUNTIF($W$181:W1061,W1061)","v":880}]
[{"$error":"#REF!"},null,"➊➋➌それぞれの賃金改善額（見込額）",null,null,null,null,null,null,null,null,null,null,"➊",{"$f":"INDIRECT(O$172&$X1062)","v":{"$error":"#REF!"}},"円","➋",{"$f":"INDIRECT(R$172&$X1062)","v":{"$error":"#REF!"}},"円","➌",{"$f":"INDIRECT(U$172&$X1062)","v":{"$error":"#REF!"}},"円",{"$error":"#REF!"},{"$f":"X1061","v":300},{"$f":"COUNTIF($W$181:W1062,W1062)","v":881}]
[{"$error":"#REF!"},null,null,null,null,null,null,null,null,null,null,null,null,"（",{"$f":"INDIRECT(O$173&$X1063)","v":{"$error":"#REF!"}},"人）","（",{"$f":"INDIRECT(R$173&$X1063)","v":{"$error":"#REF!"}},"人）","（",{"$f":"INDIRECT(U$173&$X1063)","v":{"$error":"#REF!"}},"人）",{"$error":"#REF!"},300,{"$f":"COUNTIF($W$181:W1063,W1063)","v":882}]
[{"$error":"#REF!"},null,{"$f":"INDIRECT(C$171&$X1064)","v":{"$error":"#REF!"}},null,null,null,null,null,null,null,null,null,{"$f":"INDIRECT(M$171&$X1064)","v":{"$error":"#REF!"}},{"$f":"INDIRECT(N$171&$X1064)","v":{"$error":"#REF!"}},null,null,{"$f":"INDIRECT(Q$171&$X1064)","v":{"$error":"#REF!"}},null,"円",{"$f":"INDIRECT(T$171&$X1064)","v":{"$error":"#REF!"}},null,"円",{"$error":"#REF!"},{"$f":"X1063+1","v":301},{"$f":"COUNTIF($W$181:W1064,W1064)","v":883}]
[{"$error":"#REF!"},null,"➊➋➌それぞれの賃金改善額（見込額）",null,null,null,null,null,null,null,null,null,null,"➊",{"$f":"INDIRECT(O$172&$X1065)","v":{"$error":"#REF!"}},"円","➋",{"$f":"INDIRECT(R$172&$X1065)","v":{"$error":"#REF!"}},"円","➌",{"$f":"INDIRECT(U$172&$X1065)","v":{"$error":"#REF!"}},"円",{"$error":"#REF!"},{"$f":"X1064","v":301},{"$f":"COUNTIF($W$181:W1065,W1065)","v":884}]
[{"$error":"#REF!"},null,null,null,null,null,null,null,null,null,null,null,null,"（",{"$f":"INDIRECT(O$173&$X1066)","v":{"$error":"#REF!"}},"人）","（",{"$f":"INDIRECT(R$173&$X1066)","v":{"$error":"#REF!"}},"人）","（",{"$f":"INDIRECT(U$173&$X1066)","v":{"$error":"#REF!"}},"人）",{"$error":"#REF!"},301,{"$f":"COUNTIF($W$181:W1066,W1066)","v":885}]
[{"$error":"#REF!"},null,{"$f":"INDIRECT(C$171&$X1067)","v":{"$error":"#REF!"}},null,null,null,null,null,null,null,null,null,{"$f":"INDIRECT(M$171&$X1067)","v":{"$error":"#REF!"}},{"$f":"INDIRECT(N$171&$X1067)","v":{"$error":"#REF!"}},null,null,{"$f":"INDIRECT(Q$171&$X1067)","v":{"$error":"#REF!"}},null,"円",{"$f":"INDIRECT(T$171&$X1067)","v":{"$error":"#REF!"}},null,"円",{"$error":"#REF!"},{"$f":"X1066+1","v":302},{"$f":"COUNTIF($W$181:W1067,W1067)","v":886}]
[{"$error":"#REF!"},null,"➊➋➌それぞれの賃金改善額（見込額）",null,null,null,null,null,null,null,null,null,null,"➊",{"$f":"INDIRECT(O$172&$X1068)","v":{"$error":"#REF!"}},"円","➋",{"$f":"INDIRECT(R$172&$X1068)","v":{"$error":"#REF!"}},"円","➌",{"$f":"INDIRECT(U$172&$X1068)","v":{"$error":"#REF!"}},"円",{"$error":"#REF!"},{"$f":"X1067","v":302},{"$f":"COUNTIF($W$181:W1068,W1068)","v":887}]
[{"$error":"#REF!"},null,null,null,null,null,null,null,null,null,null,null,null,"（",{"$f":"INDIRECT(O$173&$X1069)","v":{"$error":"#REF!"}},"人）","（",{"$f":"INDIRECT(R$173&$X1069)","v":{"$error":"#REF!"}},"人）","（",{"$f":"INDIRECT(U$173&$X1069)","v":{"$error":"#REF!"}},"人）",{"$error":"#REF!"},302,{"$f":"COUNTIF($W$181:W1069,W1069)","v":888}]
[{"$error":"#REF!"},null,{"$f":"INDIRECT(C$171&$X1070)","v":{"$error":"#REF!"}},null,null,null,null,null,null,null,null,null,{"$f":"INDIRECT(M$171&$X1070)","v":{"$error":"#REF!"}},{"$f":"INDIRECT(N$171&$X1070)","v":{"$error":"#REF!"}},null,null,{"$f":"INDIRECT(Q$171&$X1070)","v":{"$error":"#REF!"}},null,"円",{"$f":"INDIRECT(T$171&$X1070)","v":{"$error":"#REF!"}},null,"円",{"$error":"#REF!"},{"$f":"X1069+1","v":303},{"$f":"COUNTIF($W$181:W1070,W1070)","v":889}]
[{"$error":"#REF!"},null,"➊➋➌それぞれの賃金改善額（見込額）",null,null,null,null,null,null,null,null,null,null,"➊",{"$f":"INDIRECT(O$172&$X1071)","v":{"$error":"#REF!"}},"円","➋",{"$f":"INDIRECT(R$172&$X1071)","v":{"$error":"#REF!"}},"円","➌",{"$f":"INDIRECT(U$172&$X1071)","v":{"$error":"#REF!"}},"円",{"$error":"#REF!"},{"$f":"X1070","v":303},{"$f":"COUNTIF($W$181:W1071,W1071)","v":890}]
[{"$error":"#REF!"},null,null,null,null,null,null,null,null,null,null,null,null,"（",{"$f":"INDIRECT(O$173&$X1072)","v":{"$error":"#REF!"}},"人）","（",{"$f":"INDIRECT(R$173&$X1072)","v":{"$error":"#REF!"}},"人）","（",{"$f":"INDIRECT(U$173&$X1072)","v":{"$error":"#REF!"}},"人）",{"$error":"#REF!"},303,{"$f":"COUNTIF($W$181:W1072,W1072)","v":891}]
[{"$error":"#REF!"},null,{"$f":"INDIRECT(C$171&$X1073)","v":{"$error":"#REF!"}},null,null,null,null,null,null,null,null,null,{"$f":"INDIRECT(M$171&$X1073)","v":{"$error":"#REF!"}},{"$f":"INDIRECT(N$171&$X1073)","v":{"$error":"#REF!"}},null,null,{"$f":"INDIRECT(Q$171&$X1073)","v":{"$error":"#REF!"}},null,"円",{"$f":"INDIRECT(T$171&$X1073)","v":{"$error":"#REF!"}},null,"円",{"$error":"#REF!"},{"$f":"X1072+1","v":304},{"$f":"COUNTIF($W$181:W1073,W1073)","v":892}]
[{"$error":"#REF!"},null,"➊➋➌それぞれの賃金改善額（見込額）",null,null,null,null,null,null,null,null,null,null,"➊",{"$f":"INDIRECT(O$172&$X1074)","v":{"$error":"#REF!"}},"円","➋",{"$f":"INDIRECT(R$172&$X1074)","v":{"$error":"#REF!"}},"円","➌",{"$f":"INDIRECT(U$172&$X1074)","v":{"$error":"#REF!"}},"円",{"$error":"#REF!"},{"$f":"X1073","v":304},{"$f":"COUNTIF($W$181:W1074,W1074)","v":893}]
[{"$error":"#REF!"},null,null,null,null,null,null,null,null,null,null,null,null,"（",{"$f":"INDIRECT(O$173&$X1075)","v":{"$error":"#REF!"}},"人）","（",{"$f":"INDIRECT(R$173&$X1075)","v":{"$error":"#REF!"}},"人）","（",{"$f":"INDIRECT(U$173&$X1075)","v":{"$error":"#REF!"}},"人）",{"$error":"#REF!"},304,{"$f":"COUNTIF($W$181:W1075,W1075)","v":894}]
[{"$error":"#REF!"},null,{"$f":"INDIRECT(C$171&$X1076)","v":{"$error":"#REF!"}},null,null,null,null,null,null,null,null,null,{"$f":"INDIRECT(M$171&$X1076)","v":{"$error":"#REF!"}},{"$f":"INDIRECT(N$171&$X1076)","v":{"$error":"#REF!"}},null,null,{"$f":"INDIRECT(Q$171&$X1076)","v":{"$error":"#REF!"}},null,"円",{"$f":"INDIRECT(T$171&$X1076)","v":{"$error":"#REF!"}},null,"円",{"$error":"#REF!"},{"$f":"X1075+1","v":305},{"$f":"COUNTIF($W$181:W1076,W1076)","v":895}]
[{"$error":"#REF!"},null,"➊➋➌それぞれの賃金改善額（見込額）",null,null,null,null,null,null,null,null,null,null,"➊",{"$f":"INDIRECT(O$172&$X1077)","v":{"$error":"#REF!"}},"円","➋",{"$f":"INDIRECT(R$172&$X1077)","v":{"$error":"#REF!"}},"円","➌",{"$f":"INDIRECT(U$172&$X1077)","v":{"$error":"#REF!"}},"円",{"$error":"#REF!"},{"$f":"X1076","v":305},{"$f":"COUNTIF($W$181:W1077,W1077)","v":896}]
[{"$error":"#REF!"},null,null,null,null,null,null,null,null,null,null,null,null,"（",{"$f":"INDIRECT(O$173&$X1078)","v":{"$error":"#REF!"}},"人）","（",{"$f":"INDIRECT(R$173&$X1078)","v":{"$error":"#REF!"}},"人）","（",{"$f":"INDIRECT(U$173&$X1078)","v":{"$error":"#REF!"}},"人）",{"$error":"#REF!"},305,{"$f":"COUNTIF($W$181:W1078,W1078)","v":897}]
[{"$error":"#REF!"},null,{"$f":"INDIRECT(C$171&$X1079)","v":{"$error":"#REF!"}},null,null,null,null,null,null,null,null,null,{"$f":"INDIRECT(M$171&$X1079)","v":{"$error":"#REF!"}},{"$f":"INDIRECT(N$171&$X1079)","v":{"$error":"#REF!"}},null,null,{"$f":"INDIRECT(Q$171&$X1079)","v":{"$error":"#REF!"}},null,"円",{"$f":"INDIRECT(T$171&$X1079)","v":{"$error":"#REF!"}},null,"円",{"$f":"INDIRECT($W$171&X1079)","v":{"$error":"#REF!"}},{"$f":"X1078+1","v":306},{"$f":"COUNTIF($W$181:W1079,W1079)","v":898}]
[{"$error":"#REF!"},null,"➊➋➌それぞれの賃金改善額（見込額）",null,null,null,null,null,null,null,null,null,null,"➊",{"$f":"INDIRECT(O$172&$X1080)","v":{"$error":"#REF!"}},"円","➋",{"$f":"INDIRECT(R$172&$X1080)","v":{"$error":"#REF!"}},"円","➌",{"$f":"INDIRECT(U$172&$X1080)","v":{"$error":"#REF!"}},"円",{"$error":"#REF!"},{"$f":"X1079","v":306},{"$f":"COUNTIF($W$181:W1080,W1080)","v":899}]
[{"$error":"#REF!"},null,null,null,null,null,null,null,null,null,null,null,null,"（",{"$f":"INDIRECT(O$173&$X1081)","v":{"$error":"#REF!"}},"人）","（",{"$f":"INDIRECT(R$173&$X1081)","v":{"$error":"#REF!"}},"人）","（",{"$f":"INDIRECT(U$173&$X1081)","v":{"$error":"#REF!"}},"人）",{"$error":"#REF!"},306,{"$f":"COUNTIF($W$181:W1081,W1081)","v":900}]
[null,null,"合計",null,null,null,null,null,null,null,null,null,"－","－",null,null,{"$f":"_xlfn.AGGREGATE(9,6,Q182:Q1081)","v":0},null,"円",{"$f":"_xlfn.AGGREGATE(9,6,T182:T1081)","v":0},null,"円"]
[null,null,null,null,null,null,null,null,null,null,null,null,null,null,null,null,"Ａ",null,null,"Ｂ"]
[null,null,"※ 計画書を届け出る指定権者（都道府県又は市区町村）ごとに記載すること。"]
[null,null,"※ A及びBは別紙様式２添付書類２の当該指定権者における金額と一致しなければならない。"]
[]
[null,null,null,null,null,null,null,null,null,null,null,null,null,null,null,null,null,null,"ページ数　　総ページ数\n／"]

{"sheet":"003添付書類２","index":2,"n_rows":194,"n_cols":26,"rows_kept":194,"cut":false,"hidden":false,"merged":[[56,0,56,19],[60,0,60,1],[193,14,195,19],[62,1,62,2],[62,3,62,4],[58,2,58,19],[58,0,58,1],[62,5,62,9],[62,10,62,14],[62,15,62,19],[5,21,7,21],[5,22,7,22],[49,14,51,19],[2,0,2,19],[4,0,4,1],[4,2,4,19],[6,0,6,1],[8,1,8,2],[8,3,8,4],[8,5,8,9],[8,10,8,14],[8,15,8,19]]}
[1,2,3,4,5,6,7,8,9,10,11,12,13,14,15,16,17,18,19,20,null,null,null,null,null,"北海道"]
["別紙様式２（添付書類２）",null,null,null,null,null,null,null,null,null,null,null,null,null,null,null,null,null,null,null,null,null,null,null,null,"青森県"]
["福祉・介護職員等特定処遇改善計画書(届出対象都道府県内一覧表）",null,null,null,null,null,null,null,null,null,null,null,null,null,null,null,null,null,null,null,null,null,null,null,null,"岩手県"]
["                                                                        ",null,null,null,null,null,null,null,null,null,null,null,null,null,null,null,null,null,null,null,null,null,null,null,null,"宮城県"]
["法人名",null,{"$f":"'002添付書類１'!M5","v":0},null,null,null,null,null,null,null,null,null,null,null,null,null,null,null,null,null,null,null,null,null,null,"秋田県"]
[null,null,null,null,null,null,null,null,null,null,null,null,null,null,null,null,null,null,null,null,null,"選択した都道府県","管内指定権者数",null,null,"山形県"]
[null,null,null,null,null,null,null,null,null,null,null,null,null,null,null,null,null,null,null,null,null,null,null,null,null,"福島県"]
[null,null,null,null,null,null,null,null,null,null,null,null,null,null,null,null,null,null,null,null,null,null,null,null,null,"茨城県"]
["指定権者（都道府県・市町村）","福祉・介護職員等特定処遇改善加算の見込額",null,"賃金改善の見込額",null,"➊の賃金改善額（見込額）・人数",null,null,null,null,"➋の賃金改善額（見込額）・人数",null,null,null,null,"➌の賃金改善額（見込額）・人数",null,null,null,null,null,{"$f":"A7","v":0},{"$f":"COUNTIF($W$64:$W$188,V9)","v":0},null,null,"栃木県"]
[{"$f":"W10","v":""},{"$f":"IFERROR(VLOOKUP($A10,$A$64:$T$188,B$1,FALSE),\"\")","v":""},"","","","","","","","","",{"$f":"IFERROR(VLOOKUP($A10,$A$64:$T$188,L$1,FALSE),\"\")","v":""},"","","","","","","","",null,{"$f":"IF($W$9+1<=U64,\"\",U64)","v":""},{"$f":"IFERROR(VLOOKUP($V$9&$V10,$V$64:$X$188,3,FALSE),\"\")","v":""},null,null,"群馬県"]
["","","","","","","","","","","","","","","","","","","","",null,"","",null,null,"埼玉県"]
["","","","","","","","","","","","","","","","","","","","",null,"","",null,null,"千葉県"]
["","","","","","","","","","","","","","","","","","","","",null,"","",null,null,"東京都"]
["","","","","","","","","","","","","","","","","","","","",null,"","",null,null,"神奈川県"]
["","","","","","","","","","","","","","","","","","","","",null,"","",null,null,"新潟県"]
["","","","","","","","","","","","","","","","","","","","",null,"","",null,null,"富山県"]
["","","","","","","","","","","","","","","","","","","","",null,"","",null,null,"石川県"]
["","","","","","","","","","","","","","","","","","","","",null,"","",null,null,"福井県"]
["","","","","","","","","","","","","","","","","","","","",null,"","",null,null,"山梨県"]
["",{"$f":"IFERROR(VLOOKUP($A20,$A$64:$T$188,B$1,FALSE),\"\")","v":""},"","","","","","","","","",{"$f":"IFERROR(VLOOKUP($A20,$A$64:$T$188,L$1,FALSE),\"\")","v":""},"","","","","","","","",null,"","",null,null,"長野県"]
["","","","","","","","","","","","","","","","","","","","",null,"","",null,null,"岐阜県"]
["","","","","","","","","","","","","","","","","","","","",null,"","",null,null,"静岡県"]
["","","","","","","","","","","","","","","","","","","","",null,"","",null,null,"愛知県"]
["","","","","","","","","","","","","","","","","","","","",null,"","",null,null,"三重県"]
["","","","","","","","","","","","","","","","","","","","",null,"","",null,null,"滋賀県"]
["","","","","","","","","","","","","","","","","","","","",null,"","",null,null,"京都府"]
["","","","","","","","","","","","","","","","","","","","",null,"","",null,null,"大阪府"]
["","","","","","","","","","","","","","","","","","","","",null,"","",null,null,"兵庫県"]
["","","","","","","","","","","","","","","","","","","","",null,"","",null,null,"奈良県"]
["",{"$f":"IFERROR(VLOOKUP($A30,$A$64:$T$188,B$1,FALSE),\"\")","v":""},"","","","","","","","","",{"$f":"IFERROR(VLOOKUP($A30,$A$64:$T$188,L$1,FALSE),\"\")","v":""},"","","","","","","","",null,"","",null,null,"和歌山県"]
["","","","","","","","","","","","","","","","","","","","",null,"","",null,null,"鳥取県"]
["","","","","","","","","","","","","","","","","","","","",null,"","",null,null,"島根県"]
["","","","","","","","","","","","","","","","","","","","",null,"","",null,null,"岡山県"]
["","","","","","","","","","","","","","","","","","","","",null,"","",null,null,"広島県"]
["","","","","","","","","","","","","","","","","","","","",null,"","",null,null,"山口県"]
["","","","","","","","","","","","","","","","","","","","",null,"","",null,null,"徳島県"]
["","","","","","","","","","","","","","","","","","","","",null,"","",null,null,"香川県"]
["","","","","","","","","","","","","","","","","","","","",null,"","",null,null,"愛媛県"]
["","","","","","","","","","","","","","","","","","","","",null,"","",null,null,"高知県"]
["","","","","","","","","","","","","","","","","","","","",null,"","",null,null,"福岡県"]
["","","","","","","","","","","","","","","","","","","","",null,"","",null,null,"佐賀県"]
["","","","","","","","","","","","","","","","","","","","",null,"","",null,null,"長崎県"]
[{"$f":"W43","v":""},"","","","","","","","","","","","","","","","","","","",null,"","",null,null,"熊本県"]
[{"$f":"W44","v":""},"","","","","","","","","","","","","","","","","","","",null,"","",null,null,"大分県"]
["合計",{"$f":"SUM(B10:B44)","v":0},"円",{"$f":"SUM(D10:D44)","v":0},"円",{"$f":"SUM(F10:F44)","v":0},"円","（",{"$f":"SUM(I10:I44)","v":0},"人）",{"$f":"SUM(K10:K44)","v":0},"円","（",{"$f":"SUM(N10:N44)","v":0},"人）",{"$f":"SUM(P10:P44)","v":0},"円","（",{"$f":"SUM(S10:S44)","v":0},"人）",null,null,null,null,null,"宮崎県"]
[null,"Ｃ",null,"Ｄ",null,"a",null,null,null,null,"b",null,null,null,null,"c",null,null,null,null,null,null,null,null,null,"鹿児島県"]
["※ C及びDは別紙様式２添付書類３の当該指定権者における金額と一致しなければならない。",null,null,null,null,null,null,null,null,null,null,null,null,null,null,null,null,null,null,null,null,null,null,null,null,"沖縄県"]
["※ Dはaからcの合計と一致しなければならない。"]
[]
[null,null,null,null,null,null,null,null,null,null,null,null,null,null,"ページ数　　総ページ数\n１／１"]
[]
[]
[]
[]
[null,2,null,3,null,5,null,null,4,null,11,null,null,10,null,16,null,null,15]
["別紙様式２（添付書類２）"]
["福祉・介護職員等特定処遇改善計画書(届出対象都道府県内一覧表）　全体版"]
["                                                                        "]
["法人名",null,{"$f":"'002添付書類１'!M177","v":0}]
[]
["都道府県名"]
[]
["指定権者（都道府県・市町村）","福祉・介護職員等特定処遇改善加算の見込額",null,"賃金改善の見込額",null,"➊の賃金改善額（見込額）・人数",null,null,null,null,"➋の賃金改善額（見込額）・人数",null,null,null,null,"➌の賃金改善額（見込額）・人数"]
["北海道",{"$f":"VLOOKUP($A64,'005リスト'!$D$4:$U$128,B$55,FALSE)","v":0},"円",{"$f":"VLOOKUP($A64,'005リスト'!$D$4:$U$128,D$55,FALSE)","v":0},"円",{"$f":"VLOOKUP($A64,'005リスト'!$D$4:$U$128,F$55,FALSE)","v":0},"円","（",{"$f":"VLOOKUP($A64,'005リスト'!$D$4:$U$128,I$55,FALSE)","v":0},"人）",{"$f":"VLOOKUP($A64,'005リスト'!$D$4:$U$128,K$55,FALSE)","v":0},"円","（",{"$f":"VLOOKUP($A64,'005リスト'!$D$4:$U$128,N$55,FALSE)","v":0},"人）",{"$f":"VLOOKUP($A64,'005リスト'!$D$4:$U$128,P$55,FALSE)","v":0},"円","（",{"$f":"VLOOKUP($A64,'005リスト'!$D$4:$U$128,S$55,FALSE)","v":0},"人）",1,"北海道1","北海道","北海道"]
["青森県",{"$f":"VLOOKUP($A65,'005リスト'!$D$4:$U$128,B$55,FALSE)","v":0},"円",{"$f":"VLOOKUP($A65,'005リスト'!$D$4:$U$128,D$55,FALSE)","v":0},"円",{"$f":"VLOOKUP($A65,'005リスト'!$D$4:$U$128,F$55,FALSE)","v":0},"円","（",{"$f":"VLOOKUP($A65,'005リスト'!$D$4:$U$128,I$55,FALSE)","v":0},"人）",{"$f":"VLOOKUP($A65,'005リスト'!$D$4:$U$128,K$55,FALSE)","v":0},"円","（",{"$f":"VLOOKUP($A65,'005リスト'!$D$4:$U$128,N$55,FALSE)","v":0},"人）",{"$f":"VLOOKUP($A65,'005リスト'!$D$4:$U$128,P$55,FALSE)","v":0},"円","（",{"$f":"VLOOKUP($A65,'005リスト'!$D$4:$U$128,S$55,FALSE)","v":0},"人）",2,"青森県1","青森県","青森県"]
["岩手県",{"$f":"VLOOKUP($A66,'005リスト'!$D$4:$U$128,B$55,FALSE)","v":0},"円",{"$f":"VLOOKUP($A66,'005リスト'!$D$4:$U$128,D$55,FALSE)","v":0},"円",{"$f":"VLOOKUP($A66,'005リスト'!$D$4:$U$128,F$55,FALSE)","v":0},"円","（",{"$f":"VLOOKUP($A66,'005リスト'!$D$4:$U$128,I$55,FALSE)","v":0},"人）",{"$f":"VLOOKUP($A66,'005リスト'!$D$4:$U$128,K$55,FALSE)","v":0},"円","（",{"$f":"VLOOKUP($A66,'005リスト'!$D$4:$U$128,N$55,FALSE)","v":0},"人）",{"$f":"VLOOKUP($A66,'005リスト'!$D$4:$U$128,P$55,FALSE)","v":0},"円","（",{"$f":"VLOOKUP($A66,'005リスト'!$D$4:$U$128,S$55,FALSE)","v":0},"人）",3,"岩手県1","岩手県","岩手県"]
["宮城県",{"$f":"VLOOKUP($A67,'005リスト'!$D$4:$U$128,B$55,FALSE)","v":0},"円",{"$f":"VLOOKUP($A67,'005リスト'!$D$4:$U$128,D$55,FALSE)","v":0},"円",{"$f":"VLOOKUP($A67,'005リスト'!$D$4:$U$128,F$55,FALSE)","v":0},"円","（",{"$f":"VLOOKUP($A67,'005リスト'!$D$4:$U$128,I$55,FALSE)","v":0},"人）",{"$f":"VLOOKUP($A67,'005リスト'!$D$4:$U$128,K$55,FALSE)","v":0},"円","（",{"$f":"VLOOKUP($A67,'005リスト'!$D$4:$U$128,N$55,FALSE)","v":0},"人）",{"$f":"VLOOKUP($A67,'005リスト'!$D$4:$U$128,P$55,FALSE)","v":0},"円","（",{"$f":"VLOOKUP($A67,'005リスト'!$D$4:$U$128,S$55,FALSE)","v":0},"人）",4,"宮城県1","宮城県","宮城県"]
["秋田県",{"$f":"VLOOKUP($A68,'005リスト'!$D$4:$U$128,B$55,FALSE)","v":0},"円",{"$f":"VLOOKUP($A68,'005リスト'!$D$4:$U$128,D$55,FALSE)","v":0},"円",{"$f":"VLOOKUP($A68,'005リスト'!$D$4:$U$128,F$55,FALSE)","v":0},"円","（",{"$f":"VLOOKUP($A68,'005リスト'!$D$4:$U$128,I$55,FALSE)","v":0},"人）",{"$f":"VLOOKUP($A68,'005リスト'!$D$4:$U$128,K$55,FALSE)","v":0},"円","（",{"$f":"VLOOKUP($A68,'005リスト'!$D$4:$U$128,N$55,FALSE)","v":0},"人）",{"$f":"VLOOKUP($A68,'005リスト'!$D$4:$U$128,P$55,FALSE)","v":0},"円","（",{"$f":"VLOOKUP($A68,'005リスト'!$D$4:$U$128,S$55,FALSE)","v":0},"人）",5,"秋田県1","秋田県","秋田県"]
["山形県",{"$f":"VLOOKUP($A69,'005リスト'!$D$4:$U$128,B$55,FALSE)","v":0},"円",{"$f":"VLOOKUP($A69,'005リスト'!$D$4:$U$128,D$55,FALSE)","v":0},"円",{"$f":"VLOOKUP($A69,'005リスト'!$D$4:$U$128,F$55,FALSE)","v":0},"円","（",{"$f":"VLOOKUP($A69,'005リスト'!$D$4:$U$128,I$55,FALSE)","v":0},"人）",{"$f":"VLOOKUP($A69,'005リスト'!$D$4:$U$128,K$55,FALSE)","v":0},"円","（",{"$f":"VLOOKUP($A69,'005リスト'!$D$4:$U$128,N$55,FALSE)","v":0},"人）",{"$f":"VLOOKUP($A69,'005リスト'!$D$4:$U$128,P$55,FALSE)","v":0},"円","（",{"$f":"VLOOKUP($A69,'005リスト'!$D$4:$U$128,S$55,FALSE)","v":0},"人）",6,"山形県1","山形県","山形県"]
["福島県",{"$f":"VLOOKUP($A70,'005リスト'!$D$4:$U$128,B$55,FALSE)","v":0},"円",{"$f":"VLOOKUP($A70,'005リスト'!$D$4:$U$128,D$55,FALSE)","v":0},"円",{"$f":"VLOOKUP($A70,'005リスト'!$D$4:$U$128,F$55,FALSE)","v":0},"円","（",{"$f":"VLOOKUP($A70,'005リスト'!$D$4:$U$128,I$55,FALSE)","v":0},"人）",{"$f":"VLOOKUP($A70,'005リスト'!$D$4:$U$128,K$55,FALSE)","v":0},"円","（",{"$f":"VLOOKUP($A70,'005リスト'!$D$4:$U$128,N$55,FALSE)","v":0},"人）",{"$f":"VLOOKUP($A70,'005リスト'!$D$4:$U$128,P$55,FALSE)","v":0},"円","（",{"$f":"VLOOKUP($A70,'005リスト'!$D$4:$U$128,S$55,FALSE)","v":0},"人）",7,"福島県1","福島県","福島県"]
["茨城県",{"$f":"VLOOKUP($A71,'005リスト'!$D$4:$U$128,B$55,FALSE)","v":0},"円",{"$f":"VLOOKUP($A71,'005リスト'!$D$4:$U$128,D$55,FALSE)","v":0},"円",{"$f":"VLOOKUP($A71,'005リスト'!$D$4:$U$128,F$55,FALSE)","v":0},"円","（",{"$f":"VLOOKUP($A71,'005リスト'!$D$4:$U$128,I$55,FALSE)","v":0},"人）",{"$f":"VLOOKUP($A71,'005リスト'!$D$4:$U$128,K$55,FALSE)","v":0},"円","（",{"$f":"VLOOKUP($A71,'005リスト'!$D$4:$U$128,N$55,FALSE)","v":0},"人）",{"$f":"VLOOKUP($A71,'005リスト'!$D$4:$U$128,P$55,FALSE)","v":0},"円","（",{"$f":"VLOOKUP($A71,'005リスト'!$D$4:$U$128,S$55,FALSE)","v":0},"人）",8,"茨城県1","茨城県","茨城県"]
["栃木県",{"$f":"VLOOKUP($A72,'005リスト'!$D$4:$U$128,B$55,FALSE)","v":0},"円",{"$f":"VLOOKUP($A72,'005リスト'!$D$4:$U$128,D$55,FALSE)","v":0},"円",{"$f":"VLOOKUP($A72,'005リスト'!$D$4:$U$128,F$55,FALSE)","v":0},"円","（",{"$f":"VLOOKUP($A72,'005リスト'!$D$4:$U$128,I$55,FALSE)","v":0},"人）",{"$f":"VLOOKUP($A72,'005リスト'!$D$4:$U$128,K$55,FALSE)","v":0},"円","（",{"$f":"VLOOKUP($A72,'005リスト'!$D$4:$U$128,N$55,FALSE)","v":0},"人）",{"$f":"VLOOKUP($A72,'005リスト'!$D$4:$U$128,P$55,FALSE)","v":0},"円","（",{"$f":"VLOOKUP($A72,'005リスト'!$D$4:$U$128,S$55,FALSE)","v":0},"人）",9,"栃木県1","栃木県","栃木県"]
["群馬県",{"$f":"VLOOKUP($A73,'005リスト'!$D$4:$U$128,B$55,FALSE)","v":0},"円",{"$f":"VLOOKUP($A73,'005リスト'!$D$4:$U$128,D$55,FALSE)","v":0},"円",{"$f":"VLOOKUP($A73,'005リスト'!$D$4:$U$128,F$55,FALSE)","v":0},"円","（",{"$f":"VLOOKUP($A73,'005リスト'!$D$4:$U$128,I$55,FALSE)","v":0},"人）",{"$f":"VLOOKUP($A73,'005リスト'!$D$4:$U$128,K$55,FALSE)","v":0},"円","（",{"$f":"VLOOKUP($A73,'005リスト'!$D$4:$U$128,N$55,FALSE)","v":0},"人）",{"$f":"VLOOKUP($A73,'005リスト'!$D$4:$U$128,P$55,FALSE)","v":0},"円","（",{"$f":"VLOOKUP($A73,'005リスト'!$D$4:$U$128,S$55,FALSE)","v":0},"人）",10,"群馬県1","群馬県","群馬県"]
["埼玉県",{"$f":"VLOOKUP($A74,'005リスト'!$D$4:$U$128,B$55,FALSE)","v":0},"円",{"$f":"VLOOKUP($A74,'005リスト'!$D$4:$U$128,D$55,FALSE)","v":0},"円",{"$f":"VLOOKUP($A74,'005リスト'!$D$4:$U$128,F$55,FALSE)","v":0},"円","（",{"$f":"VLOOKUP($A74,'005リスト'!$D$4:$U$128,I$55,FALSE)","v":0},"人）",{"$f":"VLOOKUP($A74,'005リスト'!$D$4:$U$128,K$55,FALSE)","v":0},"円","（",{"$f":"VLOOKUP($A74,'005リスト'!$D$4:$U$128,N$55,FALSE)","v":0},"人）",{"$f":"VLOOKUP($A74,'005リスト'!$D$4:$U$128,P$55,FALSE)","v":0},"円","（",{"$f":"VLOOKUP($A74,'005リスト'!$D$4:$U$128,S$55,FALSE)","v":0},"人）",11,"埼玉県1","埼玉県","埼玉県"]
["千葉県",{"$f":"VLOOKUP($A75,'005リスト'!$D$4:$U$128,B$55,FALSE)","v":0},"円",{"$f":"VLOOKUP($A75,'005リスト'!$D$4:$U$128,D$55,FALSE)","v":0},"円",{"$f":"VLOOKUP($A75,'005リスト'!$D$4:$U$128,F$55,FALSE)","v":0},"円","（",{"$f":"VLOOKUP($A75,'005リスト'!$D$4:$U$128,I$55,FALSE)","v":0},"人）",{"$f":"VLOOKUP($A75,'005リスト'!$D$4:$U$128,K$55,FALSE)","v":0},"円","（",{"$f":"VLOOKUP($A75,'005リスト'!$D$4:$U$128,N$55,FALSE)","v":0},"人）",{"$f":"VLOOKUP($A75,'005リスト'!$D$4:$U$128,P$55,FALSE)","v":0},"円","（",{"$f":"VLOOKUP($A75,'005リスト'!$D$4:$U$128,S$55,FALSE)","v":0},"人）",12,"千葉県1","千葉県","千葉県"]
["東京都",{"$f":"VLOOKUP($A76,'005リスト'!$D$4:$U$128,B$55,FALSE)","v":0},"円",{"$f":"VLOOKUP($A76,'005リスト'!$D$4:$U$128,D$55,FALSE)","v":0},"円",{"$f":"VLOOKUP($A76,'005リスト'!$D$4:$U$128,F$55,FALSE)","v":0},"円","（",{"$f":"VLOOKUP($A76,'005リスト'!$D$4:$U$128,I$55,FALSE)","v":0},"人）",{"$f":"VLOOKUP($A76,'005リスト'!$D$4:$U$128,K$55,FALSE)","v":0},"円","（",{"$f":"VLOOKUP($A76,'005リスト'!$D$4:$U$128,N$55,FALSE)","v":0},"人）",{"$f":"VLOOKUP($A76,'005リスト'!$D$4:$U$128,P$55,FALSE)","v":0},"円","（",{"$f":"VLOOKUP($A76,'005リスト'!$D$4:$U$128,S$55,FALSE)","v":0},"人）",13,"東京都1","東京都","東京都"]
["神奈川県",{"$f":"VLOOKUP($A77,'005リスト'!$D$4:$U$128,B$55,FALSE)","v":0},"円",{"$f":"VLOOKUP($A77,'005リスト'!$D$4:$U$128,D$55,FALSE)","v":0},"円",{"$f":"VLOOKUP($A77,'005リスト'!$D$4:$U$128,F$55,FALSE)","v":0},"円","（",{"$f":"VLOOKUP($A77,'005リスト'!$D$4:$U$128,I$55,FALSE)","v":0},"人）",{"$f":"VLOOKUP($A77,'005リスト'!$D$4:$U$128,K$55,FALSE)","v":0},"円","（",{"$f":"VLOOKUP($A77,'005リスト'!$D$4:$U$128,N$55,FALSE)","v":0},"人）",{"$f":"VLOOKUP($A77,'005リスト'!$D$4:$U$128,P$55,FALSE)","v":0},"円","（",{"$f":"VLOOKUP($A77,'005リスト'!$D$4:$U$128,S$55,FALSE)","v":0},"人）",14,"神奈川県1","神奈川県","神奈川県"]
["新潟県",{"$f":"VLOOKUP($A78,'005リスト'!$D$4:$U$128,B$55,FALSE)","v":0},"円",{"$f":"VLOOKUP($A78,'005リスト'!$D$4:$U$128,D$55,FALSE)","v":0},"円",{"$f":"VLOOKUP($A78,'005リスト'!$D$4:$U$128,F$55,FALSE)","v":0},"円","（",{"$f":"VLOOKUP($A78,'005リスト'!$D$4:$U$128,I$55,FALSE)","v":0},"人）",{"$f":"VLOOKUP($A78,'005リスト'!$D$4:$U$128,K$55,FALSE)","v":0},"円","（",{"$f":"VLOOKUP($A78,'005リスト'!$D$4:$U$128,N$55,FALSE)","v":0},"人）",{"$f":"VLOOKUP($A78,'005リスト'!$D$4:$U$128,P$55,FALSE)","v":0},"円","（",{"$f":"VLOOKUP($A78,'005リスト'!$D$4:$U$128,S$55,FALSE)","v":0},"人）",15,"新潟県1","新潟県","新潟県"]
["富山県",{"$f":"VLOOKUP($A79,'005リスト'!$D$4:$U$128,B$55,FALSE)","v":0},"円",{"$f":"VLOOKUP($A79,'005リスト'!$D$4:$U$128,D$55,FALSE)","v":0},"円",{"$f":"VLOOKUP($A79,'005リスト'!$D$4:$U$128,F$55,FALSE)","v":0},"円","（",{"$f":"VLOOKUP($A79,'005リスト'!$D$4:$U$128,I$55,FALSE)","v":0},"人）",{"$f":"VLOOKUP($A79,'005リスト'!$D$4:$U$128,K$55,FALSE)","v":0},"円","（",{"$f":"VLOOKUP($A79,'005リスト'!$D$4:$U$128,N$55,FALSE)","v":0},"人）",{"$f":"VLOOKUP($A79,'005リスト'!$D$4:$U$128,P$55,FALSE)","v":0},"円","（",{"$f":"VLOOKUP($A79,'005リスト'!$D$4:$U$128,S$55,FALSE)","v":0},"人）",16,"富山県1","富山県","富山県"]
["石川県",{"$f":"VLOOKUP($A80,'005リスト'!$D$4:$U$128,B$55,FALSE)","v":0},"円",{"$f":"VLOOKUP($A80,'005リスト'!$D$4:$U$128,D$55,FALSE)","v":0},"円",{"$f":"VLOOKUP($A80,'005リスト'!$D$4:$U$128,F$55,FALSE)","v":0},"円","（",{"$f":"VLOOKUP($A80,'005リスト'!$D$4:$U$128,I$55,FALSE)","v":0},"人）",{"$f":"VLOOKUP($A80,'005リスト'!$D$4:$U$128,K$55,FALSE)","v":0},"円","（",{"$f":"VLOOKUP($A80,'005リスト'!$D$4:$U$128,N$55,FALSE)","v":0},"人）",{"$f":"VLOOKUP($A80,'005リスト'!$D$4:$U$128,P$55,FALSE)","v":0},"円","（",{"$f":"VLOOKUP($A80,'005リスト'!$D$4:$U$128,S$55,FALSE)","v":0},"人）",17,"石川県1","石川県","石川県"]
["福井県",{"$f":"VLOOKUP($A81,'005リスト'!$D$4:$U$128,B$55,FALSE)","v":0},"円",{"$f":"VLOOKUP($A81,'005リスト'!$D$4:$U$128,D$55,FALSE)","v":0},"円",{"$f":"VLOOKUP($A81,'005リスト'!$D$4:$U$128,F$55,FALSE)","v":0},"円","（",{"$f":"VLOOKUP($A81,'005リスト'!$D$4:$U$128,I$55,FALSE)","v":0},"人）",{"$f":"VLOOKUP($A81,'005リスト'!$D$4:$U$128,K$55,FALSE)","v":0},"円","（",{"$f":"VLOOKUP($A81,'005リスト'!$D$4:$U$128,N$55,FALSE)","v":0},"人）",{"$f":"VLOOKUP($A81,'005リスト'!$D$4:$U$128,P$55,FALSE)","v":0},"円","（",{"$f":"VLOOKUP($A81,'005リスト'!$D$4:$U$128,S$55,FALSE)","v":0},"人）",18,"福井県1","福井県","福井県"]
["山梨県",{"$f":"VLOOKUP($A82,'005リスト'!$D$4:$U$128,B$55,FALSE)","v":0},"円",{"$f":"VLOOKUP($A82,'005リスト'!$D$4:$U$128,D$55,FALSE)","v":0},"円",{"$f":"VLOOKUP($A82,'005リスト'!$D$4:$U$128,F$55,FALSE)","v":0},"円","（",{"$f":"VLOOKUP($A82,'005リスト'!$D$4:$U$128,I$55,FALSE)","v":0},"人）",{"$f":"VLOOKUP($A82,'005リスト'!$D$4:$U$128,K$55,FALSE)","v":0},"円","（",{"$f":"VLOOKUP($A82,'005リスト'!$D$4:$U$128,N$55,FALSE)","v":0},"人）",{"$f":"VLOOKUP($A82,'005リスト'!$D$4:$U$128,P$55,FALSE)","v":0},"円","（",{"$f":"VLOOKUP($A82,'005リスト'!$D$4:$U$128,S$55,FALSE)","v":0},"人）",19,"山梨県1","山梨県","山梨県"]
["長野県",{"$f":"VLOOKUP($A83,'005リスト'!$D$4:$U$128,B$55,FALSE)","v":0},"円",{"$f":"VLOOKUP($A83,'005リスト'!$D$4:$U$128,D$55,FALSE)","v":0},"円",{"$f":"VLOOKUP($A83,'005リスト'!$D$4:$U$128,F$55,FALSE)","v":0},"円","（",{"$f":"VLOOKUP($A83,'005リスト'!$D$4:$U$128,I$55,FALSE)","v":0},"人）",{"$f":"VLOOKUP($A83,'005リスト'!$D$4:$U$128,K$55,FALSE)","v":0},"円","（",{"$f":"VLOOKUP($A83,'005リスト'!$D$4:$U$128,N$55,FALSE)","v":0},"人）",{"$f":"VLOOKUP($A83,'005リスト'!$D$4:$U$128,P$55,FALSE)","v":0},"円","（",{"$f":"VLOOKUP($A83,'005リスト'!$D$4:$U$128,S$55,FALSE)","v":0},"人）",20,"長野県1","長野県","長野県"]
["岐阜県",{"$f":"VLOOKUP($A84,'005リスト'!$D$4:$U$128,B$55,FALSE)","v":0},"円",{"$f":"VLOOKUP($A84,'005リスト'!$D$4:$U$128,D$55,FALSE)","v":0},"円",{"$f":"VLOOKUP($A84,'005リスト'!$D$4:$U$128,F$55,FALSE)","v":0},"円","（",{"$f":"VLOOKUP($A84,'005リスト'!$D$4:$U$128,I$55,FALSE)","v":0},"人）",{"$f":"VLOOKUP($A84,'005リスト'!$D$4:$U$128,K$55,FALSE)","v":0},"円","（",{"$f":"VLOOKUP($A84,'005リスト'!$D$4:$U$128,N$55,FALSE)","v":0},"人）",{"$f":"VLOOKUP($A84,'005リスト'!$D$4:$U$128,P$55,FALSE)","v":0},"円","（",{"$f":"VLOOKUP($A84,'005リスト'!$D$4:$U$128,S$55,FALSE)","v":0},"人）",21,"岐阜県1","岐阜県","岐阜県"]
["静岡県",{"$f":"VLOOKUP($A85,'005リスト'!$D$4:$U$128,B$55,FALSE)","v":0},"円",{"$f":"VLOOKUP($A85,'005リスト'!$D$4:$U$128,D$55,FALSE)","v":0},"円",{"$f":"VLOOKUP($A85,'005リスト'!$D$4:$U$128,F$55,FALSE)","v":0},"円","（",{"$f":"VLOOKUP($A85,'005リスト'!$D$4:$U$128,I$55,FALSE)","v":0},"人）",{"$f":"VLOOKUP($A85,'005リスト'!$D$4:$U$128,K$55,FALSE)","v":0},"円","（",{"$f":"VLOOKUP($A85,'005リスト'!$D$4:$U$128,N$55,FALSE)","v":0},"人）",{"$f":"VLOOKUP($A85,'005リスト'!$D$4:$U$128,P$55,FALSE)","v":0},"円","（",{"$f":"VLOOKUP($A85,'005リスト'!$D$4:$U$128,S$55,FALSE)","v":0},"人）",22,"静岡県1","静岡県","静岡県"]
["愛知県",{"$f":"VLOOKUP($A86,'005リスト'!$D$4:$U$128,B$55,FALSE)","v":0},"円",{"$f":"VLOOKUP($A86,'005リスト'!$D$4:$U$128,D$55,FALSE)","v":0},"円",{"$f":"VLOOKUP($A86,'005リスト'!$D$4:$U$128,F$55,FALSE)","v":0},"円","（",{"$f":"VLOOKUP($A86,'005リスト'!$D$4:$U$128,I$55,FALSE)","v":0},"人）",{"$f":"VLOOKUP($A86,'005リスト'!$D$4:$U$128,K$55,FALSE)","v":0},"円","（",{"$f":"VLOOKUP($A86,'005リスト'!$D$4:$U$128,N$55,FALSE)","v":0},"人）",{"$f":"VLOOKUP($A86,'005リスト'!$D$4:$U$128,P$55,FALSE)","v":0},"円","（",{"$f":"VLOOKUP($A86,'005リスト'!$D$4:$U$128,S$55,FALSE)","v":0},"人）",23,"愛知県1","愛知県","愛知県"]
["三重県",{"$f":"VLOOKUP($A87,'005リスト'!$D$4:$U$128,B$55,FALSE)","v":0},"円",{"$f":"VLOOKUP($A87,'005リスト'!$D$4:$U$128,D$55,FALSE)","v":0},"円",{"$f":"VLOOKUP($A87,'005リスト'!$D$4:$U$128,F$55,FALSE)","v":0},"円","（",{"$f":"VLOOKUP($A87,'005リスト'!$D$4:$U$128,I$55,FALSE)","v":0},"人）",{"$f":"VLOOKUP($A87,'005リスト'!$D$4:$U$128,K$55,FALSE)","v":0},"円","（",{"$f":"VLOOKUP($A87,'005リスト'!$D$4:$U$128,N$55,FALSE)","v":0},"人）",{"$f":"VLOOKUP($A87,'005リスト'!$D$4:$U$128,P$55,FALSE)","v":0},"円","（",{"$f":"VLOOKUP($A87,'005リスト'!$D$4:$U$128,S$55,FALSE)","v":0},"人）",24,"三重県1","三重県","三重県"]
["滋賀県",{"$f":"VLOOKUP($A88,'005リスト'!$D$4:$U$128,B$55,FALSE)","v":0},"円",{"$f":"VLOOKUP($A88,'005リスト'!$D$4:$U$128,D$55,FALSE)","v":0},"円",{"$f":"VLOOKUP($A88,'005リスト'!$D$4:$U$128,F$55,FALSE)","v":0},"円","（",{"$f":"VLOOKUP($A88,'005リスト'!$D$4:$U$128,I$55,FALSE)","v":0},"人）",{"$f":"VLOOKUP($A88,'005リスト'!$D$4:$U$128,K$55,FALSE)","v":0},"円","（",{"$f":"VLOOKUP($A88,'005リスト'!$D$4:$U$128,N$55,FALSE)","v":0},"人）",{"$f":"VLOOKUP($A88,'005リスト'!$D$4:$U$128,P$55,FALSE)","v":0},"円","（",{"$f":"VLOOKUP($A88,'005リスト'!$D$4:$U$128,S$55,FALSE)","v":0},"人）",25,"滋賀県1","滋賀県","滋賀県"]
["京都府",{"$f":"VLOOKUP($A89,'005リスト'!$D$4:$U$128,B$55,FALSE)","v":0},"円",{"$f":"VLOOKUP($A89,'005リスト'!$D$4:$U$128,D$55,FALSE)","v":0},"円",{"$f":"VLOOKUP($A89,'005リスト'!$D$4:$U$128,F$55,FALSE)","v":0},"円","（",{"$f":"VLOOKUP($A89,'005リスト'!$D$4:$U$128,I$55,FALSE)","v":0},"人）",{"$f":"VLOOKUP($A89,'005リスト'!$D$4:$U$128,K$55,FALSE)","v":0},"円","（",{"$f":"VLOOKUP($A89,'005リスト'!$D$4:$U$128,N$55,FALSE)","v":0},"人）",{"$f":"VLOOKUP($A89,'005リスト'!$D$4:$U$128,P$55,FALSE)","v":0},"円","（",{"$f":"VLOOKUP($A89,'005リスト'!$D$4:$U$128,S$55,FALSE)","v":0},"人）",26,"京都府1","京都府","京都府"]
["大阪府",{"$f":"VLOOKUP($A90,'005リスト'!$D$4:$U$128,B$55,FALSE)","v":0},"円",{"$f":"VLOOKUP($A90,'005リスト'!$D$4:$U$128,D$55,FALSE)","v":0},"円",{"$f":"VLOOKUP($A90,'005リスト'!$D$4:$U$128,F$55,FALSE)","v":0},"円","（",{"$f":"VLOOKUP($A90,'005リスト'!$D$4:$U$128,I$55,FALSE)","v":0},"人）",{"$f":"VLOOKUP($A90,'005リスト'!$D$4:$U$128,K$55,FALSE)","v":0},"円","（",{"$f":"VLOOKUP($A90,'005リスト'!$D$4:$U$128,N$55,FALSE)","v":0},"人）",{"$f":"VLOOKUP($A90,'005リスト'!$D$4:$U$128,P$55,FALSE)","v":0},"円","（",{"$f":"VLOOKUP($A90,'005リスト'!$D$4:$U$128,S$55,FALSE)","v":0},"人）",27,"大阪府1","大阪府","大阪府"]
["兵庫県",{"$f":"VLOOKUP($A91,'005リスト'!$D$4:$U$128,B$55,FALSE)","v":0},"円",{"$f":"VLOOKUP($A91,'005リスト'!$D$4:$U$128,D$55,FALSE)","v":0},"円",{"$f":"VLOOKUP($A91,'005リスト'!$D$4:$U$128,F$55,FALSE)","v":0},"円","（",{"$f":"VLOOKUP($A91,'005リスト'!$D$4:$U$128,I$55,FALSE)","v":0},"人）",{"$f":"VLOOKUP($A91,'005リスト'!$D$4:$U$128,K$55,FALSE)","v":0},"円","（",{"$f":"VLOOKUP($A91,'005リスト'!$D$4:$U$128,N$55,FALSE)","v":0},"人）",{"$f":"VLOOKUP($A91,'005リスト'!$D$4:$U$128,P$55,FALSE)","v":0},"円","（",{"$f":"VLOOKUP($A91,'005リスト'!$D$4:$U$128,S$55,FALSE)","v":0},"人）",28,"兵庫県1","兵庫県","兵庫県"]
["奈良県",{"$f":"VLOOKUP($A92,'005リスト'!$D$4:$U$128,B$55,FALSE)","v":0},"円",{"$f":"VLOOKUP($A92,'005リスト'!$D$4:$U$128,D$55,FALSE)","v":0},"円",{"$f":"VLOOKUP($A92,'005リスト'!$D$4:$U$128,F$55,FALSE)","v":0},"円","（",{"$f":"VLOOKUP($A92,'005リスト'!$D$4:$U$128,I$55,FALSE)","v":0},"人）",{"$f":"VLOOKUP($A92,'005リスト'!$D$4:$U$128,K$55,FALSE)","v":0},"円","（",{"$f":"VLOOKUP($A92,'005リスト'!$D$4:$U$128,N$55,FALSE)","v":0},"人）",{"$f":"VLOOKUP($A92,'005リスト'!$D$4:$U$128,P$55,FALSE)","v":0},"円","（",{"$f":"VLOOKUP($A92,'005リスト'!$D$4:$U$128,S$55,FALSE)","v":0},"人）",29,"奈良県1","奈良県","奈良県"]
["和歌山県",{"$f":"VLOOKUP($A93,'005リスト'!$D$4:$U$128,B$55,FALSE)","v":0},"円",{"$f":"VLOOKUP($A93,'005リスト'!$D$4:$U$128,D$55,FALSE)","v":0},"円",{"$f":"VLOOKUP($A93,'005リスト'!$D$4:$U$128,F$55,FALSE)","v":0},"円","（",{"$f":"VLOOKUP($A93,'005リスト'!$D$4:$U$128,I$55,FALSE)","v":0},"人）",{"$f":"VLOOKUP($A93,'005リスト'!$D$4:$U$128,K$55,FALSE)","v":0},"円","（",{"$f":"VLOOKUP($A93,'005リスト'!$D$4:$U$128,N$55,FALSE)","v":0},"人）",{"$f":"VLOOKUP($A93,'005リスト'!$D$4:$U$128,P$55,FALSE)","v":0},"円","（",{"$f":"VLOOKUP($A93,'005リスト'!$D$4:$U$128,S$55,FALSE)","v":0},"人）",30,"和歌山県1","和歌山県","和歌山県"]
["鳥取県",{"$f":"VLOOKUP($A94,'005リスト'!$D$4:$U$128,B$55,FALSE)","v":0},"円",{"$f":"VLOOKUP($A94,'005リスト'!$D$4:$U$128,D$55,FALSE)","v":0},"円",{"$f":"VLOOKUP($A94,'005リスト'!$D$4:$U$128,F$55,FALSE)","v":0},"円","（",{"$f":"VLOOKUP($A94,'005リスト'!$D$4:$U$128,I$55,FALSE)","v":0},"人）",{"$f":"VLOOKUP($A94,'005リスト'!$D$4:$U$128,K$55,FALSE)","v":0},"円","（",{"$f":"VLOOKUP($A94,'005リスト'!$D$4:$U$128,N$55,FALSE)","v":0},"人）",{"$f":"VLOOKUP($A94,'005リスト'!$D$4:$U$128,P$55,FALSE)","v":0},"円","（",{"$f":"VLOOKUP($A94,'005リスト'!$D$4:$U$128,S$55,FALSE)","v":0},"人）",31,"鳥取県1","鳥取県","鳥取県"]
["島根県",{"$f":"VLOOKUP($A95,'005リスト'!$D$4:$U$128,B$55,FALSE)","v":0},"円",{"$f":"VLOOKUP($A95,'005リスト'!$D$4:$U$128,D$55,FALSE)","v":0},"円",{"$f":"VLOOKUP($A95,'005リスト'!$D$4:$U$128,F$55,FALSE)","v":0},"円","（",{"$f":"VLOOKUP($A95,'005リスト'!$D$4:$U$128,I$55,FALSE)","v":0},"人）",{"$f":"VLOOKUP($A95,'005リスト'!$D$4:$U$128,K$55,FALSE)","v":0},"円","（",{"$f":"VLOOKUP($A95,'005リスト'!$D$4:$U$128,N$55,FALSE)","v":0},"人）",{"$f":"VLOOKUP($A95,'005リスト'!$D$4:$U$128,P$55,FALSE)","v":0},"円","（",{"$f":"VLOOKUP($A95,'005リスト'!$D$4:$U$128,S$55,FALSE)","v":0},"人）",32,"島根県1","島根県","島根県"]
["岡山県",{"$f":"VLOOKUP($A96,'005リスト'!$D$4:$U$128,B$55,FALSE)","v":0},"円",{"$f":"VLOOKUP($A96,'005リスト'!$D$4:$U$128,D$55,FALSE)","v":0},"円",{"$f":"VLOOKUP($A96,'005リスト'!$D$4:$U$128,F$55,FALSE)","v":0},"円","（",{"$f":"VLOOKUP($A96,'005リスト'!$D$4:$U$128,I$55,FALSE)","v":0},"人）",{"$f":"VLOOKUP($A96,'005リスト'!$D$4:$U$128,K$55,FALSE)","v":0},"円","（",{"$f":"VLOOKUP($A96,'005リスト'!$D$4:$U$128,N$55,FALSE)","v":0},"人）",{"$f":"VLOOKUP($A96,'005リスト'!$D$4:$U$128,P$55,FALSE)","v":0},"円","（",{"$f":"VLOOKUP($A96,'005リスト'!$D$4:$U$128,S$55,FALSE)","v":0},"人）",33,"岡山県1","岡山県","岡山県"]
["広島県",{"$f":"VLOOKUP($A97,'005リスト'!$D$4:$U$128,B$55,FALSE)","v":0},"円",{"$f":"VLOOKUP($A97,'005リスト'!$D$4:$U$128,D$55,FALSE)","v":0},"円",{"$f":"VLOOKUP($A97,'005リスト'!$D$4:$U$128,F$55,FALSE)","v":0},"円","（",{"$f":"VLOOKUP($A97,'005リスト'!$D$4:$U$128,I$55,FALSE)","v":0},"人）",{"$f":"VLOOKUP($A97,'005リスト'!$D$4:$U$128,K$55,FALSE)","v":0},"円","（",{"$f":"VLOOKUP($A97,'005リスト'!$D$4:$U$128,N$55,FALSE)","v":0},"人）",{"$f":"VLOOKUP($A97,'005リスト'!$D$4:$U$128,P$55,FALSE)","v":0},"円","（",{"$f":"VLOOKUP($A97,'005リスト'!$D$4:$U$128,S$55,FALSE)","v":0},"人）",34,"広島県1","広島県","広島県"]
["山口県",{"$f":"VLOOKUP($A98,'005リスト'!$D$4:$U$128,B$55,FALSE)","v":0},"円",{"$f":"VLOOKUP($A98,'005リスト'!$D$4:$U$128,D$55,FALSE)","v":0},"円",{"$f":"VLOOKUP($A98,'005リスト'!$D$4:$U$128,F$55,FALSE)","v":0},"円","（",{"$f":"VLOOKUP($A98,'005リスト'!$D$4:$U$128,I$55,FALSE)","v":0},"人）",{"$f":"VLOOKUP($A98,'005リスト'!$D$4:$U$128,K$55,FALSE)","v":0},"円","（",{"$f":"VLOOKUP($A98,'005リスト'!$D$4:$U$128,N$55,FALSE)","v":0},"人）",{"$f":"VLOOKUP($A98,'005リスト'!$D$4:$U$128,P$55,FALSE)","v":0},"円","（",{"$f":"VLOOKUP($A98,'005リスト'!$D$4:$U$128,S$55,FALSE)","v":0},"人）",35,"山口県1","山口県","山口県"]
["徳島県",{"$f":"VLOOKUP($A99,'005リスト'!$D$4:$U$128,B$55,FALSE)","v":0},"円",{"$f":"VLOOKUP($A99,'005リスト'!$D$4:$U$128,D$55,FALSE)","v":0},"円",{"$f":"VLOOKUP($A99,'005リスト'!$D$4:$U$128,F$55,FALSE)","v":0},"円","（",{"$f":"VLOOKUP($A99,'005リスト'!$D$4:$U$128,I$55,FALSE)","v":0},"人）",{"$f":"VLOOKUP($A99,'005リスト'!$D$4:$U$128,K$55,FALSE)","v":0},"円","（",{"$f":"VLOOKUP($A99,'005リスト'!$D$4:$U$128,N$55,FALSE)","v":0},"人）",{"$f":"VLOOKUP($A99,'005リスト'!$D$4:$U$128,P$55,FALSE)","v":0},"円","（",{"$f":"VLOOKUP($A99,'005リスト'!$D$4:$U$128,S$55,FALSE)","v":0},"人）",36,"徳島県1","徳島県","徳島県"]
["香川県",{"$f":"VLOOKUP($A100,'005リスト'!$D$4:$U$128,B$55,FALSE)","v":0},"円",{"$f":"VLOOKUP($A100,'005リスト'!$D$4:$U$128,D$55,FALSE)","v":0},"円",{"$f":"VLOOKUP($A100,'005リスト'!$D$4:$U$128,F$55,FALSE)","v":0},"円","（",{"$f":"VLOOKUP($A100,'005リスト'!$D$4:$U$128,I$55,FALSE)","v":0},"人）",{"$f":"VLOOKUP($A100,'005リスト'!$D$4:$U$128,K$55,FALSE)","v":0},"円","（",{"$f":"VLOOKUP($A100,'005リスト'!$D$4:$U$128,N$55,FALSE)","v":0},"人）",{"$f":"VLOOKUP($A100,'005リスト'!$D$4:$U$128,P$55,FALSE)","v":0},"円","（",{"$f":"VLOOKUP($A100,'005リスト'!$D$4:$U$128,S$55,FALSE)","v":0},"人）",37,"香川県1","香川県","香川県"]
["愛媛県",{"$f":"VLOOKUP($A101,'005リスト'!$D$4:$U$128,B$55,FALSE)","v":0},"円",{"$f":"VLOOKUP($A101,'005リスト'!$D$4:$U$128,D$55,FALSE)","v":0},"円",{"$f":"VLOOKUP($A101,'005リスト'!$D$4:$U$128,F$55,FALSE)","v":0},"円","（",{"$f":"VLOOKUP($A101,'005リスト'!$D$4:$U$128,I$55,FALSE)","v":0},"人）",{"$f":"VLOOKUP($A101,'005リスト'!$D$4:$U$128,K$55,FALSE)","v":0},"円","（",{"$f":"VLOOKUP($A101,'005リスト'!$D$4:$U$128,N$55,FALSE)","v":0},"人）",{"$f":"VLOOKUP($A101,'005リスト'!$D$4:$U$128,P$55,FALSE)","v":0},"円","（",{"$f":"VLOOKUP($A101,'005リスト'!$D$4:$U$128,S$55,FALSE)","v":0},"人）",38,"愛媛県1","愛媛県","愛媛県"]
["高知県",{"$f":"VLOOKUP($A102,'005リスト'!$D$4:$U$128,B$55,FALSE)","v":0},"円",{"$f":"VLOOKUP($A102,'005リスト'!$D$4:$U$128,D$55,FALSE)","v":0},"円",{"$f":"VLOOKUP($A102,'005リスト'!$D$4:$U$128,F$55,FALSE)","v":0},"円","（",{"$f":"VLOOKUP($A102,'005リスト'!$D$4:$U$128,I$55,FALSE)","v":0},"人）",{"$f":"VLOOKUP($A102,'005リスト'!$D$4:$U$128,K$55,FALSE)","v":0},"円","（",{"$f":"VLOOKUP($A102,'005リスト'!$D$4:$U$128,N$55,FALSE)","v":0},"人）",{"$f":"VLOOKUP($A102,'005リスト'!$D$4:$U$128,P$55,FALSE)","v":0},"円","（",{"$f":"VLOOKUP($A102,'005リスト'!$D$4:$U$128,S$55,FALSE)","v":0},"人）",39,"高知県1","高知県","高知県"]
["福岡県",{"$f":"VLOOKUP($A103,'005リスト'!$D$4:$U$128,B$55,FALSE)","v":0},"円",{"$f":"VLOOKUP($A103,'005リスト'!$D$4:$U$128,D$55,FALSE)","v":0},"円",{"$f":"VLOOKUP($A103,'005リスト'!$D$4:$U$128,F$55,FALSE)","v":0},"円","（",{"$f":"VLOOKUP($A103,'005リスト'!$D$4:$U$128,I$55,FALSE)","v":0},"人）",{"$f":"VLOOKUP($A103,'005リスト'!$D$4:$U$128,K$55,FALSE)","v":0},"円","（",{"$f":"VLOOKUP($A103,'005リスト'!$D$4:$U$128,N$55,FALSE)","v":0},"人）",{"$f":"VLOOKUP($A103,'005リスト'!$D$4:$U$128,P$55,FALSE)","v":0},"円","（",{"$f":"VLOOKUP($A103,'005リスト'!$D$4:$U$128,S$55,FALSE)","v":0},"人）",40,"福岡県1","福岡県","福岡県"]
["佐賀県",{"$f":"VLOOKUP($A104,'005リスト'!$D$4:$U$128,B$55,FALSE)","v":0},"円",{"$f":"VLOOKUP($A104,'005リスト'!$D$4:$U$128,D$55,FALSE)","v":0},"円",{"$f":"VLOOKUP($A104,'005リスト'!$D$4:$U$128,F$55,FALSE)","v":0},"円","（",{"$f":"VLOOKUP($A104,'005リスト'!$D$4:$U$128,I$55,FALSE)","v":0},"人）",{"$f":"VLOOKUP($A104,'005リスト'!$D$4:$U$128,K$55,FALSE)","v":0},"円","（",{"$f":"VLOOKUP($A104,'005リスト'!$D$4:$U$128,N$55,FALSE)","v":0},"人）",{"$f":"VLOOKUP($A104,'005リスト'!$D$4:$U$128,P$55,FALSE)","v":0},"円","（",{"$f":"VLOOKUP($A104,'005リスト'!$D$4:$U$128,S$55,FALSE)","v":0},"人）",41,"佐賀県1","佐賀県","佐賀県"]
["長崎県",{"$f":"VLOOKUP($A105,'005リスト'!$D$4:$U$128,B$55,FALSE)","v":0},"円",{"$f":"VLOOKUP($A105,'005リスト'!$D$4:$U$128,D$55,FALSE)","v":0},"円",{"$f":"VLOOKUP($A105,'005リスト'!$D$4:$U$128,F$55,FALSE)","v":0},"円","（",{"$f":"VLOOKUP($A105,'005リスト'!$D$4:$U$128,I$55,FALSE)","v":0},"人）",{"$f":"VLOOKUP($A105,'005リスト'!$D$4:$U$128,K$55,FALSE)","v":0},"円","（",{"$f":"VLOOKUP($A105,'005リスト'!$D$4:$U$128,N$55,FALSE)","v":0},"人）",{"$f":"VLOOKUP($A105,'005リスト'!$D$4:$U$128,P$55,FALSE)","v":0},"円","（",{"$f":"VLOOKUP($A105,'005リスト'!$D$4:$U$128,S$55,FALSE)","v":0},"人）",42,"長崎県1","長崎県","長崎県"]
["熊本県",{"$f":"VLOOKUP($A106,'005リスト'!$D$4:$U$128,B$55,FALSE)","v":0},"円",{"$f":"VLOOKUP($A106,'005リスト'!$D$4:$U$128,D$55,FALSE)","v":0},"円",{"$f":"VLOOKUP($A106,'005リスト'!$D$4:$U$128,F$55,FALSE)","v":0},"円","（",{"$f":"VLOOKUP($A106,'005リスト'!$D$4:$U$128,I$55,FALSE)","v":0},"人）",{"$f":"VLOOKUP($A106,'005リスト'!$D$4:$U$128,K$55,FALSE)","v":0},"円","（",{"$f":"VLOOKUP($A106,'005リスト'!$D$4:$U$128,N$55,FALSE)","v":0},"人）",{"$f":"VLOOKUP($A106,'005リスト'!$D$4:$U$128,P$55,FALSE)","v":0},"円","（",{"$f":"VLOOKUP($A106,'005リスト'!$D$4:$U$128,S$55,FALSE)","v":0},"人）",43,"熊本県1","熊本県","熊本県"]
["大分県",{"$f":"VLOOKUP($A107,'005リスト'!$D$4:$U$128,B$55,FALSE)","v":0},"円",{"$f":"VLOOKUP($A107,'005リスト'!$D$4:$U$128,D$55,FALSE)","v":0},"円",{"$f":"VLOOKUP($A107,'005リスト'!$D$4:$U$128,F$55,FALSE)","v":0},"円","（",{"$f":"VLOOKUP($A107,'005リスト'!$D$4:$U$128,I$55,FALSE)","v":0},"人）",{"$f":"VLOOKUP($A107,'005リスト'!$D$4:$U$128,K$55,FALSE)","v":0},"円","（",{"$f":"VLOOKUP($A107,'005リスト'!$D$4:$U$128,N$55,FALSE)","v":0},"人）",{"$f":"VLOOKUP($A107,'005リスト'!$D$4:$U$128,P$55,FALSE)","v":0},"円","（",{"$f":"VLOOKUP($A107,'005リスト'!$D$4:$U$128,S$55,FALSE)","v":0},"人）",44,"大分県1","大分県","大分県"]
["宮崎県",{"$f":"VLOOKUP($A108,'005リスト'!$D$4:$U$128,B$55,FALSE)","v":0},"円",{"$f":"VLOOKUP($A108,'005リスト'!$D$4:$U$128,D$55,FALSE)","v":0},"円",{"$f":"VLOOKUP($A108,'005リスト'!$D$4:$U$128,F$55,FALSE)","v":0},"円","（",{"$f":"VLOOKUP($A108,'005リスト'!$D$4:$U$128,I$55,FALSE)","v":0},"人）",{"$f":"VLOOKUP($A108,'005リスト'!$D$4:$U$128,K$55,FALSE)","v":0},"円","（",{"$f":"VLOOKUP($A108,'005リスト'!$D$4:$U$128,N$55,FALSE)","v":0},"人）",{"$f":"VLOOKUP($A108,'005リスト'!$D$4:$U$128,P$55,FALSE)","v":0},"円","（",{"$f":"VLOOKUP($A108,'005リスト'!$D$4:$U$128,S$55,FALSE)","v":0},"人）",45,"宮崎県1","宮崎県","宮崎県"]
["鹿児島県",{"$f":"VLOOKUP($A109,'005リスト'!$D$4:$U$128,B$55,FALSE)","v":0},"円",{"$f":"VLOOKUP($A109,'005リスト'!$D$4:$U$128,D$55,FALSE)","v":0},"円",{"$f":"VLOOKUP($A109,'005リスト'!$D$4:$U$128,F$55,FALSE)","v":0},"円","（",{"$f":"VLOOKUP($A109,'005リスト'!$D$4:$U$128,I$55,FALSE)","v":0},"人）",{"$f":"VLOOKUP($A109,'005リスト'!$D$4:$U$128,K$55,FALSE)","v":0},"円","（",{"$f":"VLOOKUP($A109,'005リスト'!$D$4:$U$128,N$55,FALSE)","v":0},"人）",{"$f":"VLOOKUP($A109,'005リスト'!$D$4:$U$128,P$55,FALSE)","v":0},"円","（",{"$f":"VLOOKUP($A109,'005リスト'!$D$4:$U$128,S$55,FALSE)","v":0},"人）",46,"鹿児島県1","鹿児島県","鹿児島県"]
["沖縄県",{"$f":"VLOOKUP($A110,'005リスト'!$D$4:$U$128,B$55,FALSE)","v":0},"円",{"$f":"VLOOKUP($A110,'005リスト'!$D$4:$U$128,D$55,FALSE)","v":0},"円",{"$f":"VLOOKUP($A110,'005リスト'!$D$4:$U$128,F$55,FALSE)","v":0},"円","（",{"$f":"VLOOKUP($A110,'005リスト'!$D$4:$U$128,I$55,FALSE)","v":0},"人）",{"$f":"VLOOKUP($A110,'005リスト'!$D$4:$U$128,K$55,FALSE)","v":0},"円","（",{"$f":"VLOOKUP($A110,'005リスト'!$D$4:$U$128,N$55,FALSE)","v":0},"人）",{"$f":"VLOOKUP($A110,'005リスト'!$D$4:$U$128,P$55,FALSE)","v":0},"円","（",{"$f":"VLOOKUP($A110,'005リスト'!$D$4:$U$128,S$55,FALSE)","v":0},"人）",47,"沖縄県1","沖縄県","沖縄県"]
["札幌市",{"$f":"VLOOKUP($A111,'005リスト'!$D$4:$U$128,B$55,FALSE)","v":0},"円",{"$f":"VLOOKUP($A111,'005リスト'!$D$4:$U$128,D$55,FALSE)","v":0},"円",{"$f":"VLOOKUP($A111,'005リスト'!$D$4:$U$128,F$55,FALSE)","v":0},"円","（",{"$f":"VLOOKUP($A111,'005リスト'!$D$4:$U$128,I$55,FALSE)","v":0},"人）",{"$f":"VLOOKUP($A111,'005リスト'!$D$4:$U$128,K$55,FALSE)","v":0},"円","（",{"$f":"VLOOKUP($A111,'005リスト'!$D$4:$U$128,N$55,FALSE)","v":0},"人）",{"$f":"VLOOKUP($A111,'005リスト'!$D$4:$U$128,P$55,FALSE)","v":0},"円","（",{"$f":"VLOOKUP($A111,'005リスト'!$D$4:$U$128,S$55,FALSE)","v":0},"人）",48,"北海道2","北海道","札幌市"]
["仙台市",{"$f":"VLOOKUP($A112,'005リスト'!$D$4:$U$128,B$55,FALSE)","v":0},"円",{"$f":"VLOOKUP($A112,'005リスト'!$D$4:$U$128,D$55,FALSE)","v":0},"円",{"$f":"VLOOKUP($A112,'005リスト'!$D$4:$U$128,F$55,FALSE)","v":0},"円","（",{"$f":"VLOOKUP($A112,'005リスト'!$D$4:$U$128,I$55,FALSE)","v":0},"人）",{"$f":"VLOOKUP($A112,'005リスト'!$D$4:$U$128,K$55,FALSE)","v":0},"円","（",{"$f":"VLOOKUP($A112,'005リスト'!$D$4:$U$128,N$55,FALSE)","v":0},"人）",{"$f":"VLOOKUP($A112,'005リスト'!$D$4:$U$128,P$55,FALSE)","v":0},"円","（",{"$f":"VLOOKUP($A112,'005リスト'!$D$4:$U$128,S$55,FALSE)","v":0},"人）",49,"宮城県2","宮城県","仙台市"]
["さいたま市",{"$f":"VLOOKUP($A113,'005リスト'!$D$4:$U$128,B$55,FALSE)","v":0},"円",{"$f":"VLOOKUP($A113,'005リスト'!$D$4:$U$128,D$55,FALSE)","v":0},"円",{"$f":"VLOOKUP($A113,'005リスト'!$D$4:$U$128,F$55,FALSE)","v":0},"円","（",{"$f":"VLOOKUP($A113,'005リスト'!$D$4:$U$128,I$55,FALSE)","v":0},"人）",{"$f":"VLOOKUP($A113,'005リスト'!$D$4:$U$128,K$55,FALSE)","v":0},"円","（",{"$f":"VLOOKUP($A113,'005リスト'!$D$4:$U$128,N$55,FALSE)","v":0},"人）",{"$f":"VLOOKUP($A113,'005リスト'!$D$4:$U$128,P$55,FALSE)","v":0},"円","（",{"$f":"VLOOKUP($A113,'005リスト'!$D$4:$U$128,S$55,FALSE)","v":0},"人）",50,"埼玉県2","埼玉県","さいたま市"]
["千葉市",{"$f":"VLOOKUP($A114,'005リスト'!$D$4:$U$128,B$55,FALSE)","v":0},"円",{"$f":"VLOOKUP($A114,'005リスト'!$D$4:$U$128,D$55,FALSE)","v":0},"円",{"$f":"VLOOKUP($A114,'005リスト'!$D$4:$U$128,F$55,FALSE)","v":0},"円","（",{"$f":"VLOOKUP($A114,'005リスト'!$D$4:$U$128,I$55,FALSE)","v":0},"人）",{"$f":"VLOOKUP($A114,'005リスト'!$D$4:$U$128,K$55,FALSE)","v":0},"円","（",{"$f":"VLOOKUP($A114,'005リスト'!$D$4:$U$128,N$55,FALSE)","v":0},"人）",{"$f":"VLOOKUP($A114,'005リスト'!$D$4:$U$128,P$55,FALSE)","v":0},"円","（",{"$f":"VLOOKUP($A114,'005リスト'!$D$4:$U$128,S$55,FALSE)","v":0},"人）",51,"千葉県2","千葉県","千葉市"]
["横浜市",{"$f":"VLOOKUP($A115,'005リスト'!$D$4:$U$128,B$55,FALSE)","v":0},"円",{"$f":"VLOOKUP($A115,'005リスト'!$D$4:$U$128,D$55,FALSE)","v":0},"円",{"$f":"VLOOKUP($A115,'005リスト'!$D$4:$U$128,F$55,FALSE)","v":0},"円","（",{"$f":"VLOOKUP($A115,'005リスト'!$D$4:$U$128,I$55,FALSE)","v":0},"人）",{"$f":"VLOOKUP($A115,'005リスト'!$D$4:$U$128,K$55,FALSE)","v":0},"円","（",{"$f":"VLOOKUP($A115,'005リスト'!$D$4:$U$128,N$55,FALSE)","v":0},"人）",{"$f":"VLOOKUP($A115,'005リスト'!$D$4:$U$128,P$55,FALSE)","v":0},"円","（",{"$f":"VLOOKUP($A115,'005リスト'!$D$4:$U$128,S$55,FALSE)","v":0},"人）",52,"神奈川県2","神奈川県","横浜市"]
["川崎市",{"$f":"VLOOKUP($A116,'005リスト'!$D$4:$U$128,B$55,FALSE)","v":0},"円",{"$f":"VLOOKUP($A116,'005リスト'!$D$4:$U$128,D$55,FALSE)","v":0},"円",{"$f":"VLOOKUP($A116,'005リスト'!$D$4:$U$128,F$55,FALSE)","v":0},"円","（",{"$f":"VLOOKUP($A116,'005リスト'!$D$4:$U$128,I$55,FALSE)","v":0},"人）",{"$f":"VLOOKUP($A116,'005リスト'!$D$4:$U$128,K$55,FALSE)","v":0},"円","（",{"$f":"VLOOKUP($A116,'005リスト'!$D$4:$U$128,N$55,FALSE)","v":0},"人）",{"$f":"VLOOKUP($A116,'005リスト'!$D$4:$U$128,P$55,FALSE)","v":0},"円","（",{"$f":"VLOOKUP($A116,'005リスト'!$D$4:$U$128,S$55,FALSE)","v":0},"人）",53,"神奈川県3","神奈川県","川崎市"]
["相模原市",{"$f":"VLOOKUP($A117,'005リスト'!$D$4:$U$128,B$55,FALSE)","v":0},"円",{"$f":"VLOOKUP($A117,'005リスト'!$D$4:$U$128,D$55,FALSE)","v":0},"円",{"$f":"VLOOKUP($A117,'005リスト'!$D$4:$U$128,F$55,FALSE)","v":0},"円","（",{"$f":"VLOOKUP($A117,'005リスト'!$D$4:$U$128,I$55,FALSE)","v":0},"人）",{"$f":"VLOOKUP($A117,'005リスト'!$D$4:$U$128,K$55,FALSE)","v":0},"円","（",{"$f":"VLOOKUP($A117,'005リスト'!$D$4:$U$128,N$55,FALSE)","v":0},"人）",{"$f":"VLOOKUP($A117,'005リスト'!$D$4:$U$128,P$55,FALSE)","v":0},"円","（",{"$f":"VLOOKUP($A117,'005リスト'!$D$4:$U$128,S$55,FALSE)","v":0},"人）",54,"神奈川県4","神奈川県","相模原市"]
["新潟市",{"$f":"VLOOKUP($A118,'005リスト'!$D$4:$U$128,B$55,FALSE)","v":0},"円",{"$f":"VLOOKUP($A118,'005リスト'!$D$4:$U$128,D$55,FALSE)","v":0},"円",{"$f":"VLOOKUP($A118,'005リスト'!$D$4:$U$128,F$55,FALSE)","v":0},"円","（",{"$f":"VLOOKUP($A118,'005リスト'!$D$4:$U$128,I$55,FALSE)","v":0},"人）",{"$f":"VLOOKUP($A118,'005リスト'!$D$4:$U$128,K$55,FALSE)","v":0},"円","（",{"$f":"VLOOKUP($A118,'005リスト'!$D$4:$U$128,N$55,FALSE)","v":0},"人）",{"$f":"VLOOKUP($A118,'005リスト'!$D$4:$U$128,P$55,FALSE)","v":0},"円","（",{"$f":"VLOOKUP($A118,'005リスト'!$D$4:$U$128,S$55,FALSE)","v":0},"人）",55,"新潟県2","新潟県","新潟市"]
["静岡市",{"$f":"VLOOKUP($A119,'005リスト'!$D$4:$U$128,B$55,FALSE)","v":0},"円",{"$f":"VLOOKUP($A119,'005リスト'!$D$4:$U$128,D$55,FALSE)","v":0},"円",{"$f":"VLOOKUP($A119,'005リスト'!$D$4:$U$128,F$55,FALSE)","v":0},"円","（",{"$f":"VLOOKUP($A119,'005リスト'!$D$4:$U$128,I$55,FALSE)","v":0},"人）",{"$f":"VLOOKUP($A119,'005リスト'!$D$4:$U$128,K$55,FALSE)","v":0},"円","（",{"$f":"VLOOKUP($A119,'005リスト'!$D$4:$U$128,N$55,FALSE)","v":0},"人）",{"$f":"VLOOKUP($A119,'005リスト'!$D$4:$U$128,P$55,FALSE)","v":0},"円","（",{"$f":"VLOOKUP($A119,'005リスト'!$D$4:$U$128,S$55,FALSE)","v":0},"人）",56,"静岡県2","静岡県","静岡市"]
["浜松市",{"$f":"VLOOKUP($A120,'005リスト'!$D$4:$U$128,B$55,FALSE)","v":0},"円",{"$f":"VLOOKUP($A120,'005リスト'!$D$4:$U$128,D$55,FALSE)","v":0},"円",{"$f":"VLOOKUP($A120,'005リスト'!$D$4:$U$128,F$55,FALSE)","v":0},"円","（",{"$f":"VLOOKUP($A120,'005リスト'!$D$4:$U$128,I$55,FALSE)","v":0},"人）",{"$f":"VLOOKUP($A120,'005リスト'!$D$4:$U$128,K$55,FALSE)","v":0},"円","（",{"$f":"VLOOKUP($A120,'005リスト'!$D$4:$U$128,N$55,FALSE)","v":0},"人）",{"$f":"VLOOKUP($A120,'005リスト'!$D$4:$U$128,P$55,FALSE)","v":0},"円","（",{"$f":"VLOOKUP($A120,'005リスト'!$D$4:$U$128,S$55,FALSE)","v":0},"人）",57,"静岡県3","静岡県","浜松市"]
["名古屋市",{"$f":"VLOOKUP($A121,'005リスト'!$D$4:$U$128,B$55,FALSE)","v":0},"円",{"$f":"VLOOKUP($A121,'005リスト'!$D$4:$U$128,D$55,FALSE)","v":0},"円",{"$f":"VLOOKUP($A121,'005リスト'!$D$4:$U$128,F$55,FALSE)","v":0},"円","（",{"$f":"VLOOKUP($A121,'005リスト'!$D$4:$U$128,I$55,FALSE)","v":0},"人）",{"$f":"VLOOKUP($A121,'005リスト'!$D$4:$U$128,K$55,FALSE)","v":0},"円","（",{"$f":"VLOOKUP($A121,'005リスト'!$D$4:$U$128,N$55,FALSE)","v":0},"人）",{"$f":"VLOOKUP($A121,'005リスト'!$D$4:$U$128,P$55,FALSE)","v":0},"円","（",{"$f":"VLOOKUP($A121,'005リスト'!$D$4:$U$128,S$55,FALSE)","v":0},"人）",58,"愛知県2","愛知県","名古屋市"]
["京都市",{"$f":"VLOOKUP($A122,'005リスト'!$D$4:$U$128,B$55,FALSE)","v":0},"円",{"$f":"VLOOKUP($A122,'005リスト'!$D$4:$U$128,D$55,FALSE)","v":0},"円",{"$f":"VLOOKUP($A122,'005リスト'!$D$4:$U$128,F$55,FALSE)","v":0},"円","（",{"$f":"VLOOKUP($A122,'005リスト'!$D$4:$U$128,I$55,FALSE)","v":0},"人）",{"$f":"VLOOKUP($A122,'005リスト'!$D$4:$U$128,K$55,FALSE)","v":0},"円","（",{"$f":"VLOOKUP($A122,'005リスト'!$D$4:$U$128,N$55,FALSE)","v":0},"人）",{"$f":"VLOOKUP($A122,'005リスト'!$D$4:$U$128,P$55,FALSE)","v":0},"円","（",{"$f":"VLOOKUP($A122,'005リスト'!$D$4:$U$128,S$55,FALSE)","v":0},"人）",59,"京都府2","京都府","京都市"]
["大阪市",{"$f":"VLOOKUP($A123,'005リスト'!$D$4:$U$128,B$55,FALSE)","v":0},"円",{"$f":"VLOOKUP($A123,'005リスト'!$D$4:$U$128,D$55,FALSE)","v":0},"円",{"$f":"VLOOKUP($A123,'005リスト'!$D$4:$U$128,F$55,FALSE)","v":0},"円","（",{"$f":"VLOOKUP($A123,'005リスト'!$D$4:$U$128,I$55,FALSE)","v":0},"人）",{"$f":"VLOOKUP($A123,'005リスト'!$D$4:$U$128,K$55,FALSE)","v":0},"円","（",{"$f":"VLOOKUP($A123,'005リスト'!$D$4:$U$128,N$55,FALSE)","v":0},"人）",{"$f":"VLOOKUP($A123,'005リスト'!$D$4:$U$128,P$55,FALSE)","v":0},"円","（",{"$f":"VLOOKUP($A123,'005リスト'!$D$4:$U$128,S$55,FALSE)","v":0},"人）",60,"大阪府2","大阪府","大阪市"]
["堺市",{"$f":"VLOOKUP($A124,'005リスト'!$D$4:$U$128,B$55,FALSE)","v":0},"円",{"$f":"VLOOKUP($A124,'005リスト'!$D$4:$U$128,D$55,FALSE)","v":0},"円",{"$f":"VLOOKUP($A124,'005リスト'!$D$4:$U$128,F$55,FALSE)","v":0},"円","（",{"$f":"VLOOKUP($A124,'005リスト'!$D$4:$U$128,I$55,FALSE)","v":0},"人）",{"$f":"VLOOKUP($A124,'005リスト'!$D$4:$U$128,K$55,FALSE)","v":0},"円","（",{"$f":"VLOOKUP($A124,'005リスト'!$D$4:$U$128,N$55,FALSE)","v":0},"人）",{"$f":"VLOOKUP($A124,'005リスト'!$D$4:$U$128,P$55,FALSE)","v":0},"円","（",{"$f":"VLOOKUP($A124,'005リスト'!$D$4:$U$128,S$55,FALSE)","v":0},"人）",61,"大阪府3","大阪府","堺市"]
["神戸市",{"$f":"VLOOKUP($A125,'005リスト'!$D$4:$U$128,B$55,FALSE)","v":0},"円",{"$f":"VLOOKUP($A125,'005リスト'!$D$4:$U$128,D$55,FALSE)","v":0},"円",{"$f":"VLOOKUP($A125,'005リスト'!$D$4:$U$128,F$55,FALSE)","v":0},"円","（",{"$f":"VLOOKUP($A125,'005リスト'!$D$4:$U$128,I$55,FALSE)","v":0},"人）",{"$f":"VLOOKUP($A125,'005リスト'!$D$4:$U$128,K$55,FALSE)","v":0},"円","（",{"$f":"VLOOKUP($A125,'005リスト'!$D$4:$U$128,N$55,FALSE)","v":0},"人）",{"$f":"VLOOKUP($A125,'005リスト'!$D$4:$U$128,P$55,FALSE)","v":0},"円","（",{"$f":"VLOOKUP($A125,'005リスト'!$D$4:$U$128,S$55,FALSE)","v":0},"人）",62,"兵庫県2","兵庫県","神戸市"]
["岡山市",{"$f":"VLOOKUP($A126,'005リスト'!$D$4:$U$128,B$55,FALSE)","v":0},"円",{"$f":"VLOOKUP($A126,'005リスト'!$D$4:$U$128,D$55,FALSE)","v":0},"円",{"$f":"VLOOKUP($A126,'005リスト'!$D$4:$U$128,F$55,FALSE)","v":0},"円","（",{"$f":"VLOOKUP($A126,'005リスト'!$D$4:$U$128,I$55,FALSE)","v":0},"人）",{"$f":"VLOOKUP($A126,'005リスト'!$D$4:$U$128,K$55,FALSE)","v":0},"円","（",{"$f":"VLOOKUP($A126,'005リスト'!$D$4:$U$128,N$55,FALSE)","v":0},"人）",{"$f":"VLOOKUP($A126,'005リスト'!$D$4:$U$128,P$55,FALSE)","v":0},"円","（",{"$f":"VLOOKUP($A126,'005リスト'!$D$4:$U$128,S$55,FALSE)","v":0},"人）",63,"岡山県2","岡山県","岡山市"]
["広島市",{"$f":"VLOOKUP($A127,'005リスト'!$D$4:$U$128,B$55,FALSE)","v":0},"円",{"$f":"VLOOKUP($A127,'005リスト'!$D$4:$U$128,D$55,FALSE)","v":0},"円",{"$f":"VLOOKUP($A127,'005リスト'!$D$4:$U$128,F$55,FALSE)","v":0},"円","（",{"$f":"VLOOKUP($A127,'005リスト'!$D$4:$U$128,I$55,FALSE)","v":0},"人）",{"$f":"VLOOKUP($A127,'005リスト'!$D$4:$U$128,K$55,FALSE)","v":0},"円","（",{"$f":"VLOOKUP($A127,'005リスト'!$D$4:$U$128,N$55,FALSE)","v":0},"人）",{"$f":"VLOOKUP($A127,'005リスト'!$D$4:$U$128,P$55,FALSE)","v":0},"円","（",{"$f":"VLOOKUP($A127,'005リスト'!$D$4:$U$128,S$55,FALSE)","v":0},"人）",64,"広島県2","広島県","広島市"]
["北九州市",{"$f":"VLOOKUP($A128,'005リスト'!$D$4:$U$128,B$55,FALSE)","v":0},"円",{"$f":"VLOOKUP($A128,'005リスト'!$D$4:$U$128,D$55,FALSE)","v":0},"円",{"$f":"VLOOKUP($A128,'005リスト'!$D$4:$U$128,F$55,FALSE)","v":0},"円","（",{"$f":"VLOOKUP($A128,'005リスト'!$D$4:$U$128,I$55,FALSE)","v":0},"人）",{"$f":"VLOOKUP($A128,'005リスト'!$D$4:$U$128,K$55,FALSE)","v":0},"円","（",{"$f":"VLOOKUP($A128,'005リスト'!$D$4:$U$128,N$55,FALSE)","v":0},"人）",{"$f":"VLOOKUP($A128,'005リスト'!$D$4:$U$128,P$55,FALSE)","v":0},"円","（",{"$f":"VLOOKUP($A128,'005リスト'!$D$4:$U$128,S$55,FALSE)","v":0},"人）",65,"福岡県2","福岡県","北九州市"]
["福岡市",{"$f":"VLOOKUP($A129,'005リスト'!$D$4:$U$128,B$55,FALSE)","v":0},"円",{"$f":"VLOOKUP($A129,'005リスト'!$D$4:$U$128,D$55,FALSE)","v":0},"円",{"$f":"VLOOKUP($A129,'005リスト'!$D$4:$U$128,F$55,FALSE)","v":0},"円","（",{"$f":"VLOOKUP($A129,'005リスト'!$D$4:$U$128,I$55,FALSE)","v":0},"人）",{"$f":"VLOOKUP($A129,'005リスト'!$D$4:$U$128,K$55,FALSE)","v":0},"円","（",{"$f":"VLOOKUP($A129,'005リスト'!$D$4:$U$128,N$55,FALSE)","v":0},"人）",{"$f":"VLOOKUP($A129,'005リスト'!$D$4:$U$128,P$55,FALSE)","v":0},"円","（",{"$f":"VLOOKUP($A129,'005リスト'!$D$4:$U$128,S$55,FALSE)","v":0},"人）",66,"福岡県3","福岡県","福岡市"]
["熊本市",{"$f":"VLOOKUP($A130,'005リスト'!$D$4:$U$128,B$55,FALSE)","v":0},"円",{"$f":"VLOOKUP($A130,'005リスト'!$D$4:$U$128,D$55,FALSE)","v":0},"円",{"$f":"VLOOKUP($A130,'005リスト'!$D$4:$U$128,F$55,FALSE)","v":0},"円","（",{"$f":"VLOOKUP($A130,'005リスト'!$D$4:$U$128,I$55,FALSE)","v":0},"人）",{"$f":"VLOOKUP($A130,'005リスト'!$D$4:$U$128,K$55,FALSE)","v":0},"円","（",{"$f":"VLOOKUP($A130,'005リスト'!$D$4:$U$128,N$55,FALSE)","v":0},"人）",{"$f":"VLOOKUP($A130,'005リスト'!$D$4:$U$128,P$55,FALSE)","v":0},"円","（",{"$f":"VLOOKUP($A130,'005リスト'!$D$4:$U$128,S$55,FALSE)","v":0},"人）",67,"熊本県2","熊本県","熊本市"]
["旭川市",{"$f":"VLOOKUP($A131,'005リスト'!$D$4:$U$128,B$55,FALSE)","v":0},"円",{"$f":"VLOOKUP($A131,'005リスト'!$D$4:$U$128,D$55,FALSE)","v":0},"円",{"$f":"VLOOKUP($A131,'005リスト'!$D$4:$U$128,F$55,FALSE)","v":0},"円","（",{"$f":"VLOOKUP($A131,'005リスト'!$D$4:$U$128,I$55,FALSE)","v":0},"人）",{"$f":"VLOOKUP($A131,'005リスト'!$D$4:$U$128,K$55,FALSE)","v":0},"円","（",{"$f":"VLOOKUP($A131,'005リスト'!$D$4:$U$128,N$55,FALSE)","v":0},"人）",{"$f":"VLOOKUP($A131,'005リスト'!$D$4:$U$128,P$55,FALSE)","v":0},"円","（",{"$f":"VLOOKUP($A131,'005リスト'!$D$4:$U$128,S$55,FALSE)","v":0},"人）",68,"北海道3","北海道","旭川市"]
["函館市",{"$f":"VLOOKUP($A132,'005リスト'!$D$4:$U$128,B$55,FALSE)","v":0},"円",{"$f":"VLOOKUP($A132,'005リスト'!$D$4:$U$128,D$55,FALSE)","v":0},"円",{"$f":"VLOOKUP($A132,'005リスト'!$D$4:$U$128,F$55,FALSE)","v":0},"円","（",{"$f":"VLOOKUP($A132,'005リスト'!$D$4:$U$128,I$55,FALSE)","v":0},"人）",{"$f":"VLOOKUP($A132,'005リスト'!$D$4:$U$128,K$55,FALSE)","v":0},"円","（",{"$f":"VLOOKUP($A132,'005リスト'!$D$4:$U$128,N$55,FALSE)","v":0},"人）",{"$f":"VLOOKUP($A132,'005リスト'!$D$4:$U$128,P$55,FALSE)","v":0},"円","（",{"$f":"VLOOKUP($A132,'005リスト'!$D$4:$U$128,S$55,FALSE)","v":0},"人）",69,"北海道4","北海道","函館市"]
["青森市",{"$f":"VLOOKUP($A133,'005リスト'!$D$4:$U$128,B$55,FALSE)","v":0},"円",{"$f":"VLOOKUP($A133,'005リスト'!$D$4:$U$128,D$55,FALSE)","v":0},"円",{"$f":"VLOOKUP($A133,'005リスト'!$D$4:$U$128,F$55,FALSE)","v":0},"円","（",{"$f":"VLOOKUP($A133,'005リスト'!$D$4:$U$128,I$55,FALSE)","v":0},"人）",{"$f":"VLOOKUP($A133,'005リスト'!$D$4:$U$128,K$55,FALSE)","v":0},"円","（",{"$f":"VLOOKUP($A133,'005リスト'!$D$4:$U$128,N$55,FALSE)","v":0},"人）",{"$f":"VLOOKUP($A133,'005リスト'!$D$4:$U$128,P$55,FALSE)","v":0},"円","（",{"$f":"VLOOKUP($A133,'005リスト'!$D$4:$U$128,S$55,FALSE)","v":0},"人）",70,"青森県2","青森県","青森市"]
["八戸市",{"$f":"VLOOKUP($A134,'005リスト'!$D$4:$U$128,B$55,FALSE)","v":0},"円",{"$f":"VLOOKUP($A134,'005リスト'!$D$4:$U$128,D$55,FALSE)","v":0},"円",{"$f":"VLOOKUP($A134,'005リスト'!$D$4:$U$128,F$55,FALSE)","v":0},"円","（",{"$f":"VLOOKUP($A134,'005リスト'!$D$4:$U$128,I$55,FALSE)","v":0},"人）",{"$f":"VLOOKUP($A134,'005リスト'!$D$4:$U$128,K$55,FALSE)","v":0},"円","（",{"$f":"VLOOKUP($A134,'005リスト'!$D$4:$U$128,N$55,FALSE)","v":0},"人）",{"$f":"VLOOKUP($A134,'005リスト'!$D$4:$U$128,P$55,FALSE)","v":0},"円","（",{"$f":"VLOOKUP($A134,'005リスト'!$D$4:$U$128,S$55,FALSE)","v":0},"人）",71,"青森県3","青森県","八戸市"]
["盛岡市",{"$f":"VLOOKUP($A135,'005リスト'!$D$4:$U$128,B$55,FALSE)","v":0},"円",{"$f":"VLOOKUP($A135,'005リスト'!$D$4:$U$128,D$55,FALSE)","v":0},"円",{"$f":"VLOOKUP($A135,'005リスト'!$D$4:$U$128,F$55,FALSE)","v":0},"円","（",{"$f":"VLOOKUP($A135,'005リスト'!$D$4:$U$128,I$55,FALSE)","v":0},"人）",{"$f":"VLOOKUP($A135,'005リスト'!$D$4:$U$128,K$55,FALSE)","v":0},"円","（",{"$f":"VLOOKUP($A135,'005リスト'!$D$4:$U$128,N$55,FALSE)","v":0},"人）",{"$f":"VLOOKUP($A135,'005リスト'!$D$4:$U$128,P$55,FALSE)","v":0},"円","（",{"$f":"VLOOKUP($A135,'005リスト'!$D$4:$U$128,S$55,FALSE)","v":0},"人）",72,"岩手県2","岩手県","盛岡市"]
["秋田市",{"$f":"VLOOKUP($A136,'005リスト'!$D$4:$U$128,B$55,FALSE)","v":0},"円",{"$f":"VLOOKUP($A136,'005リスト'!$D$4:$U$128,D$55,FALSE)","v":0},"円",{"$f":"VLOOKUP($A136,'005リスト'!$D$4:$U$128,F$55,FALSE)","v":0},"円","（",{"$f":"VLOOKUP($A136,'005リスト'!$D$4:$U$128,I$55,FALSE)","v":0},"人）",{"$f":"VLOOKUP($A136,'005リスト'!$D$4:$U$128,K$55,FALSE)","v":0},"円","（",{"$f":"VLOOKUP($A136,'005リスト'!$D$4:$U$128,N$55,FALSE)","v":0},"人）",{"$f":"VLOOKUP($A136,'005リスト'!$D$4:$U$128,P$55,FALSE)","v":0},"円","（",{"$f":"VLOOKUP($A136,'005リスト'!$D$4:$U$128,S$55,FALSE)","v":0},"人）",73,"秋田県2","秋田県","秋田市"]
["山形市",{"$f":"VLOOKUP($A137,'005リスト'!$D$4:$U$128,B$55,FALSE)","v":0},"円",{"$f":"VLOOKUP($A137,'005リスト'!$D$4:$U$128,D$55,FALSE)","v":0},"円",{"$f":"VLOOKUP($A137,'005リスト'!$D$4:$U$128,F$55,FALSE)","v":0},"円","（",{"$f":"VLOOKUP($A137,'005リスト'!$D$4:$U$128,I$55,FALSE)","v":0},"人）",{"$f":"VLOOKUP($A137,'005リスト'!$D$4:$U$128,K$55,FALSE)","v":0},"円","（",{"$f":"VLOOKUP($A137,'005リスト'!$D$4:$U$128,N$55,FALSE)","v":0},"人）",{"$f":"VLOOKUP($A137,'005リスト'!$D$4:$U$128,P$55,FALSE)","v":0},"円","（",{"$f":"VLOOKUP($A137,'005リスト'!$D$4:$U$128,S$55,FALSE)","v":0},"人）",74,"山形県2","山形県","山形市"]
["郡山市",{"$f":"VLOOKUP($A138,'005リスト'!$D$4:$U$128,B$55,FALSE)","v":0},"円",{"$f":"VLOOKUP($A138,'005リスト'!$D$4:$U$128,D$55,FALSE)","v":0},"円",{"$f":"VLOOKUP($A138,'005リスト'!$D$4:$U$128,F$55,FALSE)","v":0},"円","（",{"$f":"VLOOKUP($A138,'005リスト'!$D$4:$U$128,I$55,FALSE)","v":0},"人）",{"$f":"VLOOKUP($A138,'005リスト'!$D$4:$U$128,K$55,FALSE)","v":0},"円","（",{"$f":"VLOOKUP($A138,'005リスト'!$D$4:$U$128,N$55,FALSE)","v":0},"人）",{"$f":"VLOOKUP($A138,'005リスト'!$D$4:$U$128,P$55,FALSE)","v":0},"円","（",{"$f":"VLOOKUP($A138,'005リスト'!$D$4:$U$128,S$55,FALSE)","v":0},"人）",75,"福島県2","福島県","郡山市"]
["いわき市",{"$f":"VLOOKUP($A139,'005リスト'!$D$4:$U$128,B$55,FALSE)","v":0},"円",{"$f":"VLOOKUP($A139,'005リスト'!$D$4:$U$128,D$55,FALSE)","v":0},"円",{"$f":"VLOOKUP($A139,'005リスト'!$D$4:$U$128,F$55,FALSE)","v":0},"円","（",{"$f":"VLOOKUP($A139,'005リスト'!$D$4:$U$128,I$55,FALSE)","v":0},"人）",{"$f":"VLOOKUP($A139,'005リスト'!$D$4:$U$128,K$55,FALSE)","v":0},"円","（",{"$f":"VLOOKUP($A139,'005リスト'!$D$4:$U$128,N$55,FALSE)","v":0},"人）",{"$f":"VLOOKUP($A139,'005リスト'!$D$4:$U$128,P$55,FALSE)","v":0},"円","（",{"$f":"VLOOKUP($A139,'005リスト'!$D$4:$U$128,S$55,FALSE)","v":0},"人）",76,"福島県3","福島県","いわき市"]
["福島市",{"$f":"VLOOKUP($A140,'005リスト'!$D$4:$U$128,B$55,FALSE)","v":0},"円",{"$f":"VLOOKUP($A140,'005リスト'!$D$4:$U$128,D$55,FALSE)","v":0},"円",{"$f":"VLOOKUP($A140,'005リスト'!$D$4:$U$128,F$55,FALSE)","v":0},"円","（",{"$f":"VLOOKUP($A140,'005リスト'!$D$4:$U$128,I$55,FALSE)","v":0},"人）",{"$f":"VLOOKUP($A140,'005リスト'!$D$4:$U$128,K$55,FALSE)","v":0},"円","（",{"$f":"VLOOKUP($A140,'005リスト'!$D$4:$U$128,N$55,FALSE)","v":0},"人）",{"$f":"VLOOKUP($A140,'005リスト'!$D$4:$U$128,P$55,FALSE)","v":0},"円","（",{"$f":"VLOOKUP($A140,'005リスト'!$D$4:$U$128,S$55,FALSE)","v":0},"人）",77,"福島県4","福島県","福島市"]
["宇都宮市",{"$f":"VLOOKUP($A141,'005リスト'!$D$4:$U$128,B$55,FALSE)","v":0},"円",{"$f":"VLOOKUP($A141,'005リスト'!$D$4:$U$128,D$55,FALSE)","v":0},"円",{"$f":"VLOOKUP($A141,'005リスト'!$D$4:$U$128,F$55,FALSE)","v":0},"円","（",{"$f":"VLOOKUP($A141,'005リスト'!$D$4:$U$128,I$55,FALSE)","v":0},"人）",{"$f":"VLOOKUP($A141,'005リスト'!$D$4:$U$128,K$55,FALSE)","v":0},"円","（",{"$f":"VLOOKUP($A141,'005リスト'!$D$4:$U$128,N$55,FALSE)","v":0},"人）",{"$f":"VLOOKUP($A141,'005リスト'!$D$4:$U$128,P$55,FALSE)","v":0},"円","（",{"$f":"VLOOKUP($A141,'005リスト'!$D$4:$U$128,S$55,FALSE)","v":0},"人）",78,"栃木県2","栃木県","宇都宮市"]
["前橋市",{"$f":"VLOOKUP($A142,'005リスト'!$D$4:$U$128,B$55,FALSE)","v":0},"円",{"$f":"VLOOKUP($A142,'005リスト'!$D$4:$U$128,D$55,FALSE)","v":0},"円",{"$f":"VLOOKUP($A142,'005リスト'!$D$4:$U$128,F$55,FALSE)","v":0},"円","（",{"$f":"VLOOKUP($A142,'005リスト'!$D$4:$U$128,I$55,FALSE)","v":0},"人）",{"$f":"VLOOKUP($A142,'005リスト'!$D$4:$U$128,K$55,FALSE)","v":0},"円","（",{"$f":"VLOOKUP($A142,'005リスト'!$D$4:$U$128,N$55,FALSE)","v":0},"人）",{"$f":"VLOOKUP($A142,'005リスト'!$D$4:$U$128,P$55,FALSE)","v":0},"円","（",{"$f":"VLOOKUP($A142,'005リスト'!$D$4:$U$128,S$55,FALSE)","v":0},"人）",79,"群馬県2","群馬県","前橋市"]
["高崎市",{"$f":"VLOOKUP($A143,'005リスト'!$D$4:$U$128,B$55,FALSE)","v":0},"円",{"$f":"VLOOKUP($A143,'005リスト'!$D$4:$U$128,D$55,FALSE)","v":0},"円",{"$f":"VLOOKUP($A143,'005リスト'!$D$4:$U$128,F$55,FALSE)","v":0},"円","（",{"$f":"VLOOKUP($A143,'005リスト'!$D$4:$U$128,I$55,FALSE)","v":0},"人）",{"$f":"VLOOKUP($A143,'005リスト'!$D$4:$U$128,K$55,FALSE)","v":0},"円","（",{"$f":"VLOOKUP($A143,'005リスト'!$D$4:$U$128,N$55,FALSE)","v":0},"人）",{"$f":"VLOOKUP($A143,'005リスト'!$D$4:$U$128,P$55,FALSE)","v":0},"円","（",{"$f":"VLOOKUP($A143,'005リスト'!$D$4:$U$128,S$55,FALSE)","v":0},"人）",80,"群馬県3","群馬県","高崎市"]
["川越市",{"$f":"VLOOKUP($A144,'005リスト'!$D$4:$U$128,B$55,FALSE)","v":0},"円",{"$f":"VLOOKUP($A144,'005リスト'!$D$4:$U$128,D$55,FALSE)","v":0},"円",{"$f":"VLOOKUP($A144,'005リスト'!$D$4:$U$128,F$55,FALSE)","v":0},"円","（",{"$f":"VLOOKUP($A144,'005リスト'!$D$4:$U$128,I$55,FALSE)","v":0},"人）",{"$f":"VLOOKUP($A144,'005リスト'!$D$4:$U$128,K$55,FALSE)","v":0},"円","（",{"$f":"VLOOKUP($A144,'005リスト'!$D$4:$U$128,N$55,FALSE)","v":0},"人）",{"$f":"VLOOKUP($A144,'005リスト'!$D$4:$U$128,P$55,FALSE)","v":0},"円","（",{"$f":"VLOOKUP($A144,'005リスト'!$D$4:$U$128,S$55,FALSE)","v":0},"人）",81,"埼玉県3","埼玉県","川越市"]
["越谷市",{"$f":"VLOOKUP($A145,'005リスト'!$D$4:$U$128,B$55,FALSE)","v":0},"円",{"$f":"VLOOKUP($A145,'005リスト'!$D$4:$U$128,D$55,FALSE)","v":0},"円",{"$f":"VLOOKUP($A145,'005リスト'!$D$4:$U$128,F$55,FALSE)","v":0},"円","（",{"$f":"VLOOKUP($A145,'005リスト'!$D$4:$U$128,I$55,FALSE)","v":0},"人）",{"$f":"VLOOKUP($A145,'005リスト'!$D$4:$U$128,K$55,FALSE)","v":0},"円","（",{"$f":"VLOOKUP($A145,'005リスト'!$D$4:$U$128,N$55,FALSE)","v":0},"人）",{"$f":"VLOOKUP($A145,'005リスト'!$D$4:$U$128,P$55,FALSE)","v":0},"円","（",{"$f":"VLOOKUP($A145,'005リスト'!$D$4:$U$128,S$55,FALSE)","v":0},"人）",82,"埼玉県4","埼玉県","越谷市"]
["川口市",{"$f":"VLOOKUP($A146,'005リスト'!$D$4:$U$128,B$55,FALSE)","v":0},"円",{"$f":"VLOOKUP($A146,'005リスト'!$D$4:$U$128,D$55,FALSE)","v":0},"円",{"$f":"VLOOKUP($A146,'005リスト'!$D$4:$U$128,F$55,FALSE)","v":0},"円","（",{"$f":"VLOOKUP($A146,'005リスト'!$D$4:$U$128,I$55,FALSE)","v":0},"人）",{"$f":"VLOOKUP($A146,'005リスト'!$D$4:$U$128,K$55,FALSE)","v":0},"円","（",{"$f":"VLOOKUP($A146,'005リスト'!$D$4:$U$128,N$55,FALSE)","v":0},"人）",{"$f":"VLOOKUP($A146,'005リスト'!$D$4:$U$128,P$55,FALSE)","v":0},"円","（",{"$f":"VLOOKUP($A146,'005リスト'!$D$4:$U$128,S$55,FALSE)","v":0},"人）",83,"埼玉県5","埼玉県","川口市"]
["船橋市",{"$f":"VLOOKUP($A147,'005リスト'!$D$4:$U$128,B$55,FALSE)","v":0},"円",{"$f":"VLOOKUP($A147,'005リスト'!$D$4:$U$128,D$55,FALSE)","v":0},"円",{"$f":"VLOOKUP($A147,'005リスト'!$D$4:$U$128,F$55,FALSE)","v":0},"円","（",{"$f":"VLOOKUP($A147,'005リスト'!$D$4:$U$128,I$55,FALSE)","v":0},"人）",{"$f":"VLOOKUP($A147,'005リスト'!$D$4:$U$128,K$55,FALSE)","v":0},"円","（",{"$f":"VLOOKUP($A147,'005リスト'!$D$4:$U$128,N$55,FALSE)","v":0},"人）",{"$f":"VLOOKUP($A147,'005リスト'!$D$4:$U$128,P$55,FALSE)","v":0},"円","（",{"$f":"VLOOKUP($A147,'005リスト'!$D$4:$U$128,S$55,FALSE)","v":0},"人）",84,"千葉県3","千葉県","船橋市"]
["柏市",{"$f":"VLOOKUP($A148,'005リスト'!$D$4:$U$128,B$55,FALSE)","v":0},"円",{"$f":"VLOOKUP($A148,'005リスト'!$D$4:$U$128,D$55,FALSE)","v":0},"円",{"$f":"VLOOKUP($A148,'005リスト'!$D$4:$U$128,F$55,FALSE)","v":0},"円","（",{"$f":"VLOOKUP($A148,'005リスト'!$D$4:$U$128,I$55,FALSE)","v":0},"人）",{"$f":"VLOOKUP($A148,'005リスト'!$D$4:$U$128,K$55,FALSE)","v":0},"円","（",{"$f":"VLOOKUP($A148,'005リスト'!$D$4:$U$128,N$55,FALSE)","v":0},"人）",{"$f":"VLOOKUP($A148,'005リスト'!$D$4:$U$128,P$55,FALSE)","v":0},"円","（",{"$f":"VLOOKUP($A148,'005リスト'!$D$4:$U$128,S$55,FALSE)","v":0},"人）",85,"千葉県4","千葉県","柏市"]
["八王子市",{"$f":"VLOOKUP($A149,'005リスト'!$D$4:$U$128,B$55,FALSE)","v":0},"円",{"$f":"VLOOKUP($A149,'005リスト'!$D$4:$U$128,D$55,FALSE)","v":0},"円",{"$f":"VLOOKUP($A149,'005リスト'!$D$4:$U$128,F$55,FALSE)","v":0},"円","（",{"$f":"VLOOKUP($A149,'005リスト'!$D$4:$U$128,I$55,FALSE)","v":0},"人）",{"$f":"VLOOKUP($A149,'005リスト'!$D$4:$U$128,K$55,FALSE)","v":0},"円","（",{"$f":"VLOOKUP($A149,'005リスト'!$D$4:$U$128,N$55,FALSE)","v":0},"人）",{"$f":"VLOOKUP($A149,'005リスト'!$D$4:$U$128,P$55,FALSE)","v":0},"円","（",{"$f":"VLOOKUP($A149,'005リスト'!$D$4:$U$128,S$55,FALSE)","v":0},"人）",86,"東京都2","東京都","八王子市"]
["横須賀市",{"$f":"VLOOKUP($A150,'005リスト'!$D$4:$U$128,B$55,FALSE)","v":0},"円",{"$f":"VLOOKUP($A150,'005リスト'!$D$4:$U$128,D$55,FALSE)","v":0},"円",{"$f":"VLOOKUP($A150,'005リスト'!$D$4:$U$128,F$55,FALSE)","v":0},"円","（",{"$f":"VLOOKUP($A150,'005リスト'!$D$4:$U$128,I$55,FALSE)","v":0},"人）",{"$f":"VLOOKUP($A150,'005リスト'!$D$4:$U$128,K$55,FALSE)","v":0},"円","（",{"$f":"VLOOKUP($A150,'005リスト'!$D$4:$U$128,N$55,FALSE)","v":0},"人）",{"$f":"VLOOKUP($A150,'005リスト'!$D$4:$U$128,P$55,FALSE)","v":0},"円","（",{"$f":"VLOOKUP($A150,'005リスト'!$D$4:$U$128,S$55,FALSE)","v":0},"人）",87,"神奈川県5","神奈川県","横須賀市"]
["富山市",{"$f":"VLOOKUP($A151,'005リスト'!$D$4:$U$128,B$55,FALSE)","v":0},"円",{"$f":"VLOOKUP($A151,'005リスト'!$D$4:$U$128,D$55,FALSE)","v":0},"円",{"$f":"VLOOKUP($A151,'005リスト'!$D$4:$U$128,F$55,FALSE)","v":0},"円","（",{"$f":"VLOOKUP($A151,'005リスト'!$D$4:$U$128,I$55,FALSE)","v":0},"人）",{"$f":"VLOOKUP($A151,'005リスト'!$D$4:$U$128,K$55,FALSE)","v":0},"円","（",{"$f":"VLOOKUP($A151,'005リスト'!$D$4:$U$128,N$55,FALSE)","v":0},"人）",{"$f":"VLOOKUP($A151,'005リスト'!$D$4:$U$128,P$55,FALSE)","v":0},"円","（",{"$f":"VLOOKUP($A151,'005リスト'!$D$4:$U$128,S$55,FALSE)","v":0},"人）",88,"富山県2","富山県","富山市"]
["金沢市",{"$f":"VLOOKUP($A152,'005リスト'!$D$4:$U$128,B$55,FALSE)","v":0},"円",{"$f":"VLOOKUP($A152,'005リスト'!$D$4:$U$128,D$55,FALSE)","v":0},"円",{"$f":"VLOOKUP($A152,'005リスト'!$D$4:$U$128,F$55,FALSE)","v":0},"円","（",{"$f":"VLOOKUP($A152,'005リスト'!$D$4:$U$128,I$55,FALSE)","v":0},"人）",{"$f":"VLOOKUP($A152,'005リスト'!$D$4:$U$128,K$55,FALSE)","v":0},"円","（",{"$f":"VLOOKUP($A152,'005リスト'!$D$4:$U$128,N$55,FALSE)","v":0},"人）",{"$f":"VLOOKUP($A152,'005リスト'!$D$4:$U$128,P$55,FALSE)","v":0},"円","（",{"$f":"VLOOKUP($A152,'005リスト'!$D$4:$U$128,S$55,FALSE)","v":0},"人）",89,"石川県2","石川県","金沢市"]
["福井市",{"$f":"VLOOKUP($A153,'005リスト'!$D$4:$U$128,B$55,FALSE)","v":0},"円",{"$f":"VLOOKUP($A153,'005リスト'!$D$4:$U$128,D$55,FALSE)","v":0},"円",{"$f":"VLOOKUP($A153,'005リスト'!$D$4:$U$128,F$55,FALSE)","v":0},"円","（",{"$f":"VLOOKUP($A153,'005リスト'!$D$4:$U$128,I$55,FALSE)","v":0},"人）",{"$f":"VLOOKUP($A153,'005リスト'!$D$4:$U$128,K$55,FALSE)","v":0},"円","（",{"$f":"VLOOKUP($A153,'005リスト'!$D$4:$U$128,N$55,FALSE)","v":0},"人）",{"$f":"VLOOKUP($A153,'005リスト'!$D$4:$U$128,P$55,FALSE)","v":0},"円","（",{"$f":"VLOOKUP($A153,'005リスト'!$D$4:$U$128,S$55,FALSE)","v":0},"人）",90,"福井県2","福井県","福井市"]
["甲府市",{"$f":"VLOOKUP($A154,'005リスト'!$D$4:$U$128,B$55,FALSE)","v":0},"円",{"$f":"VLOOKUP($A154,'005リスト'!$D$4:$U$128,D$55,FALSE)","v":0},"円",{"$f":"VLOOKUP($A154,'005リスト'!$D$4:$U$128,F$55,FALSE)","v":0},"円","（",{"$f":"VLOOKUP($A154,'005リスト'!$D$4:$U$128,I$55,FALSE)","v":0},"人）",{"$f":"VLOOKUP($A154,'005リスト'!$D$4:$U$128,K$55,FALSE)","v":0},"円","（",{"$f":"VLOOKUP($A154,'005リスト'!$D$4:$U$128,N$55,FALSE)","v":0},"人）",{"$f":"VLOOKUP($A154,'005リスト'!$D$4:$U$128,P$55,FALSE)","v":0},"円","（",{"$f":"VLOOKUP($A154,'005リスト'!$D$4:$U$128,S$55,FALSE)","v":0},"人）",91,"山梨県2","山梨県","甲府市"]
["長野市",{"$f":"VLOOKUP($A155,'005リスト'!$D$4:$U$128,B$55,FALSE)","v":0},"円",{"$f":"VLOOKUP($A155,'005リスト'!$D$4:$U$128,D$55,FALSE)","v":0},"円",{"$f":"VLOOKUP($A155,'005リスト'!$D$4:$U$128,F$55,FALSE)","v":0},"円","（",{"$f":"VLOOKUP($A155,'005リスト'!$D$4:$U$128,I$55,FALSE)","v":0},"人）",{"$f":"VLOOKUP($A155,'005リスト'!$D$4:$U$128,K$55,FALSE)","v":0},"円","（",{"$f":"VLOOKUP($A155,'005リスト'!$D$4:$U$128,N$55,FALSE)","v":0},"人）",{"$f":"VLOOKUP($A155,'005リスト'!$D$4:$U$128,P$55,FALSE)","v":0},"円","（",{"$f":"VLOOKUP($A155,'005リスト'!$D$4:$U$128,S$55,FALSE)","v":0},"人）",92,"長野県2","長野県","長野市"]
["岐阜市",{"$f":"VLOOKUP($A156,'005リスト'!$D$4:$U$128,B$55,FALSE)","v":0},"円",{"$f":"VLOOKUP($A156,'005リスト'!$D$4:$U$128,D$55,FALSE)","v":0},"円",{"$f":"VLOOKUP($A156,'005リスト'!$D$4:$U$128,F$55,FALSE)","v":0},"円","（",{"$f":"VLOOKUP($A156,'005リスト'!$D$4:$U$128,I$55,FALSE)","v":0},"人）",{"$f":"VLOOKUP($A156,'005リスト'!$D$4:$U$128,K$55,FALSE)","v":0},"円","（",{"$f":"VLOOKUP($A156,'005リスト'!$D$4:$U$128,N$55,FALSE)","v":0},"人）",{"$f":"VLOOKUP($A156,'005リスト'!$D$4:$U$128,P$55,FALSE)","v":0},"円","（",{"$f":"VLOOKUP($A156,'005リスト'!$D$4:$U$128,S$55,FALSE)","v":0},"人）",93,"岐阜県2","岐阜県","岐阜市"]
["豊橋市",{"$f":"VLOOKUP($A157,'005リスト'!$D$4:$U$128,B$55,FALSE)","v":0},"円",{"$f":"VLOOKUP($A157,'005リスト'!$D$4:$U$128,D$55,FALSE)","v":0},"円",{"$f":"VLOOKUP($A157,'005リスト'!$D$4:$U$128,F$55,FALSE)","v":0},"円","（",{"$f":"VLOOKUP($A157,'005リスト'!$D$4:$U$128,I$55,FALSE)","v":0},"人）",{"$f":"VLOOKUP($A157,'005リスト'!$D$4:$U$128,K$55,FALSE)","v":0},"円","（",{"$f":"VLOOKUP($A157,'005リスト'!$D$4:$U$128,N$55,FALSE)","v":0},"人）",{"$f":"VLOOKUP($A157,'005リスト'!$D$4:$U$128,P$55,FALSE)","v":0},"円","（",{"$f":"VLOOKUP($A157,'005リスト'!$D$4:$U$128,S$55,FALSE)","v":0},"人）",94,"愛知県3","愛知県","豊橋市"]
["豊田市",{"$f":"VLOOKUP($A158,'005リスト'!$D$4:$U$128,B$55,FALSE)","v":0},"円",{"$f":"VLOOKUP($A158,'005リスト'!$D$4:$U$128,D$55,FALSE)","v":0},"円",{"$f":"VLOOKUP($A158,'005リスト'!$D$4:$U$128,F$55,FALSE)","v":0},"円","（",{"$f":"VLOOKUP($A158,'005リスト'!$D$4:$U$128,I$55,FALSE)","v":0},"人）",{"$f":"VLOOKUP($A158,'005リスト'!$D$4:$U$128,K$55,FALSE)","v":0},"円","（",{"$f":"VLOOKUP($A158,'005リスト'!$D$4:$U$128,N$55,FALSE)","v":0},"人）",{"$f":"VLOOKUP($A158,'005リスト'!$D$4:$U$128,P$55,FALSE)","v":0},"円","（",{"$f":"VLOOKUP($A158,'005リスト'!$D$4:$U$128,S$55,FALSE)","v":0},"人）",95,"愛知県4","愛知県","豊田市"]
["岡崎市",{"$f":"VLOOKUP($A159,'005リスト'!$D$4:$U$128,B$55,FALSE)","v":0},"円",{"$f":"VLOOKUP($A159,'005リスト'!$D$4:$U$128,D$55,FALSE)","v":0},"円",{"$f":"VLOOKUP($A159,'005リスト'!$D$4:$U$128,F$55,FALSE)","v":0},"円","（",{"$f":"VLOOKUP($A159,'005リスト'!$D$4:$U$128,I$55,FALSE)","v":0},"人）",{"$f":"VLOOKUP($A159,'005リスト'!$D$4:$U$128,K$55,FALSE)","v":0},"円","（",{"$f":"VLOOKUP($A159,'005リスト'!$D$4:$U$128,N$55,FALSE)","v":0},"人）",{"$f":"VLOOKUP($A159,'005リスト'!$D$4:$U$128,P$55,FALSE)","v":0},"円","（",{"$f":"VLOOKUP($A159,'005リスト'!$D$4:$U$128,S$55,FALSE)","v":0},"人）",96,"愛知県5","愛知県","岡崎市"]
["大津市",{"$f":"VLOOKUP($A160,'005リスト'!$D$4:$U$128,B$55,FALSE)","v":0},"円",{"$f":"VLOOKUP($A160,'005リスト'!$D$4:$U$128,D$55,FALSE)","v":0},"円",{"$f":"VLOOKUP($A160,'005リスト'!$D$4:$U$128,F$55,FALSE)","v":0},"円","（",{"$f":"VLOOKUP($A160,'005リスト'!$D$4:$U$128,I$55,FALSE)","v":0},"人）",{"$f":"VLOOKUP($A160,'005リスト'!$D$4:$U$128,K$55,FALSE)","v":0},"円","（",{"$f":"VLOOKUP($A160,'005リスト'!$D$4:$U$128,N$55,FALSE)","v":0},"人）",{"$f":"VLOOKUP($A160,'005リスト'!$D$4:$U$128,P$55,FALSE)","v":0},"円","（",{"$f":"VLOOKUP($A160,'005リスト'!$D$4:$U$128,S$55,FALSE)","v":0},"人）",97,"滋賀県2","滋賀県","大津市"]
["高槻市",{"$f":"VLOOKUP($A161,'005リスト'!$D$4:$U$128,B$55,FALSE)","v":0},"円",{"$f":"VLOOKUP($A161,'005リスト'!$D$4:$U$128,D$55,FALSE)","v":0},"円",{"$f":"VLOOKUP($A161,'005リスト'!$D$4:$U$128,F$55,FALSE)","v":0},"円","（",{"$f":"VLOOKUP($A161,'005リスト'!$D$4:$U$128,I$55,FALSE)","v":0},"人）",{"$f":"VLOOKUP($A161,'005リスト'!$D$4:$U$128,K$55,FALSE)","v":0},"円","（",{"$f":"VLOOKUP($A161,'005リスト'!$D$4:$U$128,N$55,FALSE)","v":0},"人）",{"$f":"VLOOKUP($A161,'005リスト'!$D$4:$U$128,P$55,FALSE)","v":0},"円","（",{"$f":"VLOOKUP($A161,'005リスト'!$D$4:$U$128,S$55,FALSE)","v":0},"人）",98,"大阪府4","大阪府","高槻市"]
["東大阪市",{"$f":"VLOOKUP($A162,'005リスト'!$D$4:$U$128,B$55,FALSE)","v":0},"円",{"$f":"VLOOKUP($A162,'005リスト'!$D$4:$U$128,D$55,FALSE)","v":0},"円",{"$f":"VLOOKUP($A162,'005リスト'!$D$4:$U$128,F$55,FALSE)","v":0},"円","（",{"$f":"VLOOKUP($A162,'005リスト'!$D$4:$U$128,I$55,FALSE)","v":0},"人）",{"$f":"VLOOKUP($A162,'005リスト'!$D$4:$U$128,K$55,FALSE)","v":0},"円","（",{"$f":"VLOOKUP($A162,'005リスト'!$D$4:$U$128,N$55,FALSE)","v":0},"人）",{"$f":"VLOOKUP($A162,'005リスト'!$D$4:$U$128,P$55,FALSE)","v":0},"円","（",{"$f":"VLOOKUP($A162,'005リスト'!$D$4:$U$128,S$55,FALSE)","v":0},"人）",99,"大阪府5","大阪府","東大阪市"]
["豊中市",{"$f":"VLOOKUP($A163,'005リスト'!$D$4:$U$128,B$55,FALSE)","v":0},"円",{"$f":"VLOOKUP($A163,'005リスト'!$D$4:$U$128,D$55,FALSE)","v":0},"円",{"$f":"VLOOKUP($A163,'005リスト'!$D$4:$U$128,F$55,FALSE)","v":0},"円","（",{"$f":"VLOOKUP($A163,'005リスト'!$D$4:$U$128,I$55,FALSE)","v":0},"人）",{"$f":"VLOOKUP($A163,'005リスト'!$D$4:$U$128,K$55,FALSE)","v":0},"円","（",{"$f":"VLOOKUP($A163,'005リスト'!$D$4:$U$128,N$55,FALSE)","v":0},"人）",{"$f":"VLOOKUP($A163,'005リスト'!$D$4:$U$128,P$55,FALSE)","v":0},"円","（",{"$f":"VLOOKUP($A163,'005リスト'!$D$4:$U$128,S$55,FALSE)","v":0},"人）",100,"大阪府6","大阪府","豊中市"]
["枚方市",{"$f":"VLOOKUP($A164,'005リスト'!$D$4:$U$128,B$55,FALSE)","v":0},"円",{"$f":"VLOOKUP($A164,'005リスト'!$D$4:$U$128,D$55,FALSE)","v":0},"円",{"$f":"VLOOKUP($A164,'005リスト'!$D$4:$U$128,F$55,FALSE)","v":0},"円","（",{"$f":"VLOOKUP($A164,'005リスト'!$D$4:$U$128,I$55,FALSE)","v":0},"人）",{"$f":"VLOOKUP($A164,'005リスト'!$D$4:$U$128,K$55,FALSE)","v":0},"円","（",{"$f":"VLOOKUP($A164,'005リスト'!$D$4:$U$128,N$55,FALSE)","v":0},"人）",{"$f":"VLOOKUP($A164,'005リスト'!$D$4:$U$128,P$55,FALSE)","v":0},"円","（",{"$f":"VLOOKUP($A164,'005リスト'!$D$4:$U$128,S$55,FALSE)","v":0},"人）",101,"大阪府7","大阪府","枚方市"]
["八尾市",{"$f":"VLOOKUP($A165,'005リスト'!$D$4:$U$128,B$55,FALSE)","v":0},"円",{"$f":"VLOOKUP($A165,'005リスト'!$D$4:$U$128,D$55,FALSE)","v":0},"円",{"$f":"VLOOKUP($A165,'005リスト'!$D$4:$U$128,F$55,FALSE)","v":0},"円","（",{"$f":"VLOOKUP($A165,'005リスト'!$D$4:$U$128,I$55,FALSE)","v":0},"人）",{"$f":"VLOOKUP($A165,'005リスト'!$D$4:$U$128,K$55,FALSE)","v":0},"円","（",{"$f":"VLOOKUP($A165,'005リスト'!$D$4:$U$128,N$55,FALSE)","v":0},"人）",{"$f":"VLOOKUP($A165,'005リスト'!$D$4:$U$128,P$55,FALSE)","v":0},"円","（",{"$f":"VLOOKUP($A165,'005リスト'!$D$4:$U$128,S$55,FALSE)","v":0},"人）",102,"大阪府8","大阪府","八尾市"]
["寝屋川市",{"$f":"VLOOKUP($A166,'005リスト'!$D$4:$U$128,B$55,FALSE)","v":0},"円",{"$f":"VLOOKUP($A166,'005リスト'!$D$4:$U$128,D$55,FALSE)","v":0},"円",{"$f":"VLOOKUP($A166,'005リスト'!$D$4:$U$128,F$55,FALSE)","v":0},"円","（",{"$f":"VLOOKUP($A166,'005リスト'!$D$4:$U$128,I$55,FALSE)","v":0},"人）",{"$f":"VLOOKUP($A166,'005リスト'!$D$4:$U$128,K$55,FALSE)","v":0},"円","（",{"$f":"VLOOKUP($A166,'005リスト'!$D$4:$U$128,N$55,FALSE)","v":0},"人）",{"$f":"VLOOKUP($A166,'005リスト'!$D$4:$U$128,P$55,FALSE)","v":0},"円","（",{"$f":"VLOOKUP($A166,'005リスト'!$D$4:$U$128,S$55,FALSE)","v":0},"人）",103,"大阪府9","大阪府","寝屋川市"]
["姫路市",{"$f":"VLOOKUP($A167,'005リスト'!$D$4:$U$128,B$55,FALSE)","v":0},"円",{"$f":"VLOOKUP($A167,'005リスト'!$D$4:$U$128,D$55,FALSE)","v":0},"円",{"$f":"VLOOKUP($A167,'005リスト'!$D$4:$U$128,F$55,FALSE)","v":0},"円","（",{"$f":"VLOOKUP($A167,'005リスト'!$D$4:$U$128,I$55,FALSE)","v":0},"人）",{"$f":"VLOOKUP($A167,'005リスト'!$D$4:$U$128,K$55,FALSE)","v":0},"円","（",{"$f":"VLOOKUP($A167,'005リスト'!$D$4:$U$128,N$55,FALSE)","v":0},"人）",{"$f":"VLOOKUP($A167,'005リスト'!$D$4:$U$128,P$55,FALSE)","v":0},"円","（",{"$f":"VLOOKUP($A167,'005リスト'!$D$4:$U$128,S$55,FALSE)","v":0},"人）",104,"兵庫県3","兵庫県","姫路市"]
["西宮市",{"$f":"VLOOKUP($A168,'005リスト'!$D$4:$U$128,B$55,FALSE)","v":0},"円",{"$f":"VLOOKUP($A168,'005リスト'!$D$4:$U$128,D$55,FALSE)","v":0},"円",{"$f":"VLOOKUP($A168,'005リスト'!$D$4:$U$128,F$55,FALSE)","v":0},"円","（",{"$f":"VLOOKUP($A168,'005リスト'!$D$4:$U$128,I$55,FALSE)","v":0},"人）",{"$f":"VLOOKUP($A168,'005リスト'!$D$4:$U$128,K$55,FALSE)","v":0},"円","（",{"$f":"VLOOKUP($A168,'005リスト'!$D$4:$U$128,N$55,FALSE)","v":0},"人）",{"$f":"VLOOKUP($A168,'005リスト'!$D$4:$U$128,P$55,FALSE)","v":0},"円","（",{"$f":"VLOOKUP($A168,'005リスト'!$D$4:$U$128,S$55,FALSE)","v":0},"人）",105,"兵庫県4","兵庫県","西宮市"]
["尼崎市",{"$f":"VLOOKUP($A169,'005リスト'!$D$4:$U$128,B$55,FALSE)","v":0},"円",{"$f":"VLOOKUP($A169,'005リスト'!$D$4:$U$128,D$55,FALSE)","v":0},"円",{"$f":"VLOOKUP($A169,'005リスト'!$D$4:$U$128,F$55,FALSE)","v":0},"円","（",{"$f":"VLOOKUP($A169,'005リスト'!$D$4:$U$128,I$55,FALSE)","v":0},"人）",{"$f":"VLOOKUP($A169,'005リスト'!$D$4:$U$128,K$55,FALSE)","v":0},"円","（",{"$f":"VLOOKUP($A169,'005リスト'!$D$4:$U$128,N$55,FALSE)","v":0},"人）",{"$f":"VLOOKUP($A169,'005リスト'!$D$4:$U$128,P$55,FALSE)","v":0},"円","（",{"$f":"VLOOKUP($A169,'005リスト'!$D$4:$U$128,S$55,FALSE)","v":0},"人）",106,"兵庫県5","兵庫県","尼崎市"]
["明石市",{"$f":"VLOOKUP($A170,'005リスト'!$D$4:$U$128,B$55,FALSE)","v":0},"円",{"$f":"VLOOKUP($A170,'005リスト'!$D$4:$U$128,D$55,FALSE)","v":0},"円",{"$f":"VLOOKUP($A170,'005リスト'!$D$4:$U$128,F$55,FALSE)","v":0},"円","（",{"$f":"VLOOKUP($A170,'005リスト'!$D$4:$U$128,I$55,FALSE)","v":0},"人）",{"$f":"VLOOKUP($A170,'005リスト'!$D$4:$U$128,K$55,FALSE)","v":0},"円","（",{"$f":"VLOOKUP($A170,'005リスト'!$D$4:$U$128,N$55,FALSE)","v":0},"人）",{"$f":"VLOOKUP($A170,'005リスト'!$D$4:$U$128,P$55,FALSE)","v":0},"円","（",{"$f":"VLOOKUP($A170,'005リスト'!$D$4:$U$128,S$55,FALSE)","v":0},"人）",107,"兵庫県6","兵庫県","明石市"]
["奈良市",{"$f":"VLOOKUP($A171,'005リスト'!$D$4:$U$128,B$55,FALSE)","v":0},"円",{"$f":"VLOOKUP($A171,'005リスト'!$D$4:$U$128,D$55,FALSE)","v":0},"円",{"$f":"VLOOKUP($A171,'005リスト'!$D$4:$U$128,F$55,FALSE)","v":0},"円","（",{"$f":"VLOOKUP($A171,'005リスト'!$D$4:$U$128,I$55,FALSE)","v":0},"人）",{"$f":"VLOOKUP($A171,'005リスト'!$D$4:$U$128,K$55,FALSE)","v":0},"円","（",{"$f":"VLOOKUP($A171,'005リスト'!$D$4:$U$128,N$55,FALSE)","v":0},"人）",{"$f":"VLOOKUP($A171,'005リスト'!$D$4:$U$128,P$55,FALSE)","v":0},"円","（",{"$f":"VLOOKUP($A171,'005リスト'!$D$4:$U$128,S$55,FALSE)","v":0},"人）",108,"奈良県2","奈良県","奈良市"]
["和歌山市",{"$f":"VLOOKUP($A172,'005リスト'!$D$4:$U$128,B$55,FALSE)","v":0},"円",{"$f":"VLOOKUP($A172,'005リスト'!$D$4:$U$128,D$55,FALSE)","v":0},"円",{"$f":"VLOOKUP($A172,'005リスト'!$D$4:$U$128,F$55,FALSE)","v":0},"円","（",{"$f":"VLOOKUP($A172,'005リスト'!$D$4:$U$128,I$55,FALSE)","v":0},"人）",{"$f":"VLOOKUP($A172,'005リスト'!$D$4:$U$128,K$55,FALSE)","v":0},"円","（",{"$f":"VLOOKUP($A172,'005リスト'!$D$4:$U$128,N$55,FALSE)","v":0},"人）",{"$f":"VLOOKUP($A172,'005リスト'!$D$4:$U$128,P$55,FALSE)","v":0},"円","（",{"$f":"VLOOKUP($A172,'005リスト'!$D$4:$U$128,S$55,FALSE)","v":0},"人）",109,"和歌山県2","和歌山県","和歌山市"]
["鳥取市",{"$f":"VLOOKUP($A173,'005リスト'!$D$4:$U$128,B$55,FALSE)","v":0},"円",{"$f":"VLOOKUP($A173,'005リスト'!$D$4:$U$128,D$55,FALSE)","v":0},"円",{"$f":"VLOOKUP($A173,'005リスト'!$D$4:$U$128,F$55,FALSE)","v":0},"円","（",{"$f":"VLOOKUP($A173,'005リスト'!$D$4:$U$128,I$55,FALSE)","v":0},"人）",{"$f":"VLOOKUP($A173,'005リスト'!$D$4:$U$128,K$55,FALSE)","v":0},"円","（",{"$f":"VLOOKUP($A173,'005リスト'!$D$4:$U$128,N$55,FALSE)","v":0},"人）",{"$f":"VLOOKUP($A173,'005リスト'!$D$4:$U$128,P$55,FALSE)","v":0},"円","（",{"$f":"VLOOKUP($A173,'005リスト'!$D$4:$U$128,S$55,FALSE)","v":0},"人）",110,"鳥取県2","鳥取県","鳥取市"]
["松江市",{"$f":"VLOOKUP($A174,'005リスト'!$D$4:$U$128,B$55,FALSE)","v":0},"円",{"$f":"VLOOKUP($A174,'005リスト'!$D$4:$U$128,D$55,FALSE)","v":0},"円",{"$f":"VLOOKUP($A174,'005リスト'!$D$4:$U$128,F$55,FALSE)","v":0},"円","（",{"$f":"VLOOKUP($A174,'005リスト'!$D$4:$U$128,I$55,FALSE)","v":0},"人）",{"$f":"VLOOKUP($A174,'005リスト'!$D$4:$U$128,K$55,FALSE)","v":0},"円","（",{"$f":"VLOOKUP($A174,'005リスト'!$D$4:$U$128,N$55,FALSE)","v":0},"人）",{"$f":"VLOOKUP($A174,'005リスト'!$D$4:$U$128,P$55,FALSE)","v":0},"円","（",{"$f":"VLOOKUP($A174,'005リスト'!$D$4:$U$128,S$55,FALSE)","v":0},"人）",111,"島根県2","島根県","松江市"]
["倉敷市",{"$f":"VLOOKUP($A175,'005リスト'!$D$4:$U$128,B$55,FALSE)","v":0},"円",{"$f":"VLOOKUP($A175,'005リスト'!$D$4:$U$128,D$55,FALSE)","v":0},"円",{"$f":"VLOOKUP($A175,'005リスト'!$D$4:$U$128,F$55,FALSE)","v":0},"円","（",{"$f":"VLOOKUP($A175,'005リスト'!$D$4:$U$128,I$55,FALSE)","v":0},"人）",{"$f":"VLOOKUP($A175,'005リスト'!$D$4:$U$128,K$55,FALSE)","v":0},"円","（",{"$f":"VLOOKUP($A175,'005リスト'!$D$4:$U$128,N$55,FALSE)","v":0},"人）",{"$f":"VLOOKUP($A175,'005リスト'!$D$4:$U$128,P$55,FALSE)","v":0},"円","（",{"$f":"VLOOKUP($A175,'005リスト'!$D$4:$U$128,S$55,FALSE)","v":0},"人）",112,"岡山県3","岡山県","倉敷市"]
["福山市",{"$f":"VLOOKUP($A176,'005リスト'!$D$4:$U$128,B$55,FALSE)","v":0},"円",{"$f":"VLOOKUP($A176,'005リスト'!$D$4:$U$128,D$55,FALSE)","v":0},"円",{"$f":"VLOOKUP($A176,'005リスト'!$D$4:$U$128,F$55,FALSE)","v":0},"円","（",{"$f":"VLOOKUP($A176,'005リスト'!$D$4:$U$128,I$55,FALSE)","v":0},"人）",{"$f":"VLOOKUP($A176,'005リスト'!$D$4:$U$128,K$55,FALSE)","v":0},"円","（",{"$f":"VLOOKUP($A176,'005リスト'!$D$4:$U$128,N$55,FALSE)","v":0},"人）",{"$f":"VLOOKUP($A176,'005リスト'!$D$4:$U$128,P$55,FALSE)","v":0},"円","（",{"$f":"VLOOKUP($A176,'005リスト'!$D$4:$U$128,S$55,FALSE)","v":0},"人）",113,"広島県3","広島県","福山市"]
["呉市",{"$f":"VLOOKUP($A177,'005リスト'!$D$4:$U$128,B$55,FALSE)","v":0},"円",{"$f":"VLOOKUP($A177,'005リスト'!$D$4:$U$128,D$55,FALSE)","v":0},"円",{"$f":"VLOOKUP($A177,'005リスト'!$D$4:$U$128,F$55,FALSE)","v":0},"円","（",{"$f":"VLOOKUP($A177,'005リスト'!$D$4:$U$128,I$55,FALSE)","v":0},"人）",{"$f":"VLOOKUP($A177,'005リスト'!$D$4:$U$128,K$55,FALSE)","v":0},"円","（",{"$f":"VLOOKUP($A177,'005リスト'!$D$4:$U$128,N$55,FALSE)","v":0},"人）",{"$f":"VLOOKUP($A177,'005リスト'!$D$4:$U$128,P$55,FALSE)","v":0},"円","（",{"$f":"VLOOKUP($A177,'005リスト'!$D$4:$U$128,S$55,FALSE)","v":0},"人）",114,"広島県4","広島県","呉市"]
["下関市",{"$f":"VLOOKUP($A178,'005リスト'!$D$4:$U$128,B$55,FALSE)","v":0},"円",{"$f":"VLOOKUP($A178,'005リスト'!$D$4:$U$128,D$55,FALSE)","v":0},"円",{"$f":"VLOOKUP($A178,'005リスト'!$D$4:$U$128,F$55,FALSE)","v":0},"円","（",{"$f":"VLOOKUP($A178,'005リスト'!$D$4:$U$128,I$55,FALSE)","v":0},"人）",{"$f":"VLOOKUP($A178,'005リスト'!$D$4:$U$128,K$55,FALSE)","v":0},"円","（",{"$f":"VLOOKUP($A178,'005リスト'!$D$4:$U$128,N$55,FALSE)","v":0},"人）",{"$f":"VLOOKUP($A178,'005リスト'!$D$4:$U$128,P$55,FALSE)","v":0},"円","（",{"$f":"VLOOKUP($A178,'005リスト'!$D$4:$U$128,S$55,FALSE)","v":0},"人）",115,"山口県2","山口県","下関市"]
["高松市",{"$f":"VLOOKUP($A179,'005リスト'!$D$4:$U$128,B$55,FALSE)","v":0},"円",{"$f":"VLOOKUP($A179,'005リスト'!$D$4:$U$128,D$55,FALSE)","v":0},"円",{"$f":"VLOOKUP($A179,'005リスト'!$D$4:$U$128,F$55,FALSE)","v":0},"円","（",{"$f":"VLOOKUP($A179,'005リスト'!$D$4:$U$128,I$55,FALSE)","v":0},"人）",{"$f":"VLOOKUP($A179,'005リスト'!$D$4:$U$128,K$55,FALSE)","v":0},"円","（",{"$f":"VLOOKUP($A179,'005リスト'!$D$4:$U$128,N$55,FALSE)","v":0},"人）",{"$f":"VLOOKUP($A179,'005リスト'!$D$4:$U$128,P$55,FALSE)","v":0},"円","（",{"$f":"VLOOKUP($A179,'005リスト'!$D$4:$U$128,S$55,FALSE)","v":0},"人）",116,"香川県2","香川県","高松市"]
["松山市",{"$f":"VLOOKUP($A180,'005リスト'!$D$4:$U$128,B$55,FALSE)","v":0},"円",{"$f":"VLOOKUP($A180,'005リスト'!$D$4:$U$128,D$55,FALSE)","v":0},"円",{"$f":"VLOOKUP($A180,'005リスト'!$D$4:$U$128,F$55,FALSE)","v":0},"円","（",{"$f":"VLOOKUP($A180,'005リスト'!$D$4:$U$128,I$55,FALSE)","v":0},"人）",{"$f":"VLOOKUP($A180,'005リスト'!$D$4:$U$128,K$55,FALSE)","v":0},"円","（",{"$f":"VLOOKUP($A180,'005リスト'!$D$4:$U$128,N$55,FALSE)","v":0},"人）",{"$f":"VLOOKUP($A180,'005リスト'!$D$4:$U$128,P$55,FALSE)","v":0},"円","（",{"$f":"VLOOKUP($A180,'005リスト'!$D$4:$U$128,S$55,FALSE)","v":0},"人）",117,"愛媛県2","愛媛県","松山市"]
["高知市",{"$f":"VLOOKUP($A181,'005リスト'!$D$4:$U$128,B$55,FALSE)","v":0},"円",{"$f":"VLOOKUP($A181,'005リスト'!$D$4:$U$128,D$55,FALSE)","v":0},"円",{"$f":"VLOOKUP($A181,'005リスト'!$D$4:$U$128,F$55,FALSE)","v":0},"円","（",{"$f":"VLOOKUP($A181,'005リスト'!$D$4:$U$128,I$55,FALSE)","v":0},"人）",{"$f":"VLOOKUP($A181,'005リスト'!$D$4:$U$128,K$55,FALSE)","v":0},"円","（",{"$f":"VLOOKUP($A181,'005リスト'!$D$4:$U$128,N$55,FALSE)","v":0},"人）",{"$f":"VLOOKUP($A181,'005リスト'!$D$4:$U$128,P$55,FALSE)","v":0},"円","（",{"$f":"VLOOKUP($A181,'005リスト'!$D$4:$U$128,S$55,FALSE)","v":0},"人）",118,"高知県2","高知県","高知市"]
["久留米市",{"$f":"VLOOKUP($A182,'005リスト'!$D$4:$U$128,B$55,FALSE)","v":0},"円",{"$f":"VLOOKUP($A182,'005リスト'!$D$4:$U$128,D$55,FALSE)","v":0},"円",{"$f":"VLOOKUP($A182,'005リスト'!$D$4:$U$128,F$55,FALSE)","v":0},"円","（",{"$f":"VLOOKUP($A182,'005リスト'!$D$4:$U$128,I$55,FALSE)","v":0},"人）",{"$f":"VLOOKUP($A182,'005リスト'!$D$4:$U$128,K$55,FALSE)","v":0},"円","（",{"$f":"VLOOKUP($A182,'005リスト'!$D$4:$U$128,N$55,FALSE)","v":0},"人）",{"$f":"VLOOKUP($A182,'005リスト'!$D$4:$U$128,P$55,FALSE)","v":0},"円","（",{"$f":"VLOOKUP($A182,'005リスト'!$D$4:$U$128,S$55,FALSE)","v":0},"人）",119,"福岡県4","福岡県","久留米市"]
["長崎市",{"$f":"VLOOKUP($A183,'005リスト'!$D$4:$U$128,B$55,FALSE)","v":0},"円",{"$f":"VLOOKUP($A183,'005リスト'!$D$4:$U$128,D$55,FALSE)","v":0},"円",{"$f":"VLOOKUP($A183,'005リスト'!$D$4:$U$128,F$55,FALSE)","v":0},"円","（",{"$f":"VLOOKUP($A183,'005リスト'!$D$4:$U$128,I$55,FALSE)","v":0},"人）",{"$f":"VLOOKUP($A183,'005リスト'!$D$4:$U$128,K$55,FALSE)","v":0},"円","（",{"$f":"VLOOKUP($A183,'005リスト'!$D$4:$U$128,N$55,FALSE)","v":0},"人）",{"$f":"VLOOKUP($A183,'005リスト'!$D$4:$U$128,P$55,FALSE)","v":0},"円","（",{"$f":"VLOOKUP($A183,'005リスト'!$D$4:$U$128,S$55,FALSE)","v":0},"人）",120,"長崎県2","長崎県","長崎市"]
["佐世保市",{"$f":"VLOOKUP($A184,'005リスト'!$D$4:$U$128,B$55,FALSE)","v":0},"円",{"$f":"VLOOKUP($A184,'005リスト'!$D$4:$U$128,D$55,FALSE)","v":0},"円",{"$f":"VLOOKUP($A184,'005リスト'!$D$4:$U$128,F$55,FALSE)","v":0},"円","（",{"$f":"VLOOKUP($A184,'005リスト'!$D$4:$U$128,I$55,FALSE)","v":0},"人）",{"$f":"VLOOKUP($A184,'005リスト'!$D$4:$U$128,K$55,FALSE)","v":0},"円","（",{"$f":"VLOOKUP($A184,'005リスト'!$D$4:$U$128,N$55,FALSE)","v":0},"人）",{"$f":"VLOOKUP($A184,'005リスト'!$D$4:$U$128,P$55,FALSE)","v":0},"円","（",{"$f":"VLOOKUP($A184,'005リスト'!$D$4:$U$128,S$55,FALSE)","v":0},"人）",121,"長崎県3","長崎県","佐世保市"]
["大分市",{"$f":"VLOOKUP($A185,'005リスト'!$D$4:$U$128,B$55,FALSE)","v":0},"円",{"$f":"VLOOKUP($A185,'005リスト'!$D$4:$U$128,D$55,FALSE)","v":0},"円",{"$f":"VLOOKUP($A185,'005リスト'!$D$4:$U$128,F$55,FALSE)","v":0},"円","（",{"$f":"VLOOKUP($A185,'005リスト'!$D$4:$U$128,I$55,FALSE)","v":0},"人）",{"$f":"VLOOKUP($A185,'005リスト'!$D$4:$U$128,K$55,FALSE)","v":0},"円","（",{"$f":"VLOOKUP($A185,'005リスト'!$D$4:$U$128,N$55,FALSE)","v":0},"人）",{"$f":"VLOOKUP($A185,'005リスト'!$D$4:$U$128,P$55,FALSE)","v":0},"円","（",{"$f":"VLOOKUP($A185,'005リスト'!$D$4:$U$128,S$55,FALSE)","v":0},"人）",122,"大分県2","大分県","大分市"]
["宮崎市",{"$f":"VLOOKUP($A186,'005リスト'!$D$4:$U$128,B$55,FALSE)","v":0},"円",{"$f":"VLOOKUP($A186,'005リスト'!$D$4:$U$128,D$55,FALSE)","v":0},"円",{"$f":"VLOOKUP($A186,'005リスト'!$D$4:$U$128,F$55,FALSE)","v":0},"円","（",{"$f":"VLOOKUP($A186,'005リスト'!$D$4:$U$128,I$55,FALSE)","v":0},"人）",{"$f":"VLOOKUP($A186,'005リスト'!$D$4:$U$128,K$55,FALSE)","v":0},"円","（",{"$f":"VLOOKUP($A186,'005リスト'!$D$4:$U$128,N$55,FALSE)","v":0},"人）",{"$f":"VLOOKUP($A186,'005リスト'!$D$4:$U$128,P$55,FALSE)","v":0},"円","（",{"$f":"VLOOKUP($A186,'005リスト'!$D$4:$U$128,S$55,FALSE)","v":0},"人）",123,"宮崎県2","宮崎県","宮崎市"]
["鹿児島市",{"$f":"VLOOKUP($A187,'005リスト'!$D$4:$U$128,B$55,FALSE)","v":0},"円",{"$f":"VLOOKUP($A187,'005リスト'!$D$4:$U$128,D$55,FALSE)","v":0},"円",{"$f":"VLOOKUP($A187,'005リスト'!$D$4:$U$128,F$55,FALSE)","v":0},"円","（",{"$f":"VLOOKUP($A187,'005リスト'!$D$4:$U$128,I$55,FALSE)","v":0},"人）",{"$f":"VLOOKUP($A187,'005リスト'!$D$4:$U$128,K$55,FALSE)","v":0},"円","（",{"$f":"VLOOKUP($A187,'005リスト'!$D$4:$U$128,N$55,FALSE)","v":0},"人）",{"$f":"VLOOKUP($A187,'005リスト'!$D$4:$U$128,P$55,FALSE)","v":0},"円","（",{"$f":"VLOOKUP($A187,'005リスト'!$D$4:$U$128,S$55,FALSE)","v":0},"人）",124,"鹿児島県2","鹿児島県","鹿児島市"]
["那覇市",{"$f":"VLOOKUP($A188,'005リスト'!$D$4:$U$128,B$55,FALSE)","v":0},"円",{"$f":"VLOOKUP($A188,'005リスト'!$D$4:$U$128,D$55,FALSE)","v":0},"円",{"$f":"VLOOKUP($A188,'005リスト'!$D$4:$U$128,F$55,FALSE)","v":0},"円","（",{"$f":"VLOOKUP($A188,'005リスト'!$D$4:$U$128,I$55,FALSE)","v":0},"人）",{"$f":"VLOOKUP($A188,'005リスト'!$D$4:$U$128,K$55,FALSE)","v":0},"円","（",{"$f":"VLOOKUP($A188,'005リスト'!$D$4:$U$128,N$55,FALSE)","v":0},"人）",{"$f":"VLOOKUP($A188,'005リスト'!$D$4:$U$128,P$55,FALSE)","v":0},"円","（",{"$f":"VLOOKUP($A188,'005リスト'!$D$4:$U$128,S$55,FALSE)","v":0},"人）",125,"沖縄県2","沖縄県","那覇市"]
["合計",{"$f":"SUM(B64:B188)","v":0},"円",{"$f":"SUM(D64:D188)","v":0},"円",{"$f":"SUM(F64:F188)","v":0},"円","（",{"$f":"SUM(I64:I188)","v":0},"人）",{"$f":"SUM(K64:K188)","v":0},"円","（",{"$f":"SUM(N64:N188)","v":0},"人）",{"$f":"SUM(P64:P188)","v":0},"円","（",{"$f":"SUM(S64:S188)","v":0},"人）"]
[null,"Ｃ",null,"Ｄ",null,"a",null,null,null,null,"b",null,null,null,null,"c"]
["※ C及びDは別紙様式２添付書類３の当該指定権者における金額と一致しなければならない。"]
["※ Dはaからcの合計と一致しなければならない。"]
[]
[null,null,null,null,null,null,null,null,null,null,null,null,null,null,"ページ数　　総ページ数\n／"]

{"sheet":"004添付書類３","index":3,"n_rows":58,"n_cols":20,"rows_kept":58,"cut":false,"hidden":false,"merged":[[2,0,2,19],[4,0,4,1],[4,2,4,19],[6,1,6,2],[6,3,6,4],[6,5,6,9],[6,10,6,14],[6,15,6,19]]}
[null,2,null,3,null,5,null,null,4,null,11,null,null,10,null,16,null,null,15]
["別紙様式２（添付書類３）"]
["福祉・介護職員等特定処遇改善計画書(都道府県状況一覧表）"]
["                                                                        "]
["法人名",null,{"$f":"'002添付書類１'!M5","v":0}]
[]
["都道府県","福祉・介護職員等特定処遇改善加算の見込額",null,"賃金改善の見込額",null,"➊の賃金改善額（見込額）・人数",null,null,null,null,"➋の賃金改善額（見込額）・人数",null,null,null,null,"➌の賃金改善額（見込額）・人数"]
["北海道",{"$f":"VLOOKUP($A8,'005リスト'!$W$4:$AN$50,B$1,FALSE)","v":0},"円",{"$f":"VLOOKUP($A8,'005リスト'!$W$4:$AN$50,D$1,FALSE)","v":0},"円",{"$f":"VLOOKUP($A8,'005リスト'!$W$4:$AN$50,F$1,FALSE)","v":0},"円","（",{"$f":"VLOOKUP($A8,'005リスト'!$W$4:$AN$50,I$1,FALSE)","v":0},"人）",{"$f":"VLOOKUP($A8,'005リスト'!$W$4:$AN$50,K$1,FALSE)","v":0},"円","（",{"$f":"VLOOKUP($A8,'005リスト'!$W$4:$AN$50,N$1,FALSE)","v":0},"人）",{"$f":"VLOOKUP($A8,'005リスト'!$W$4:$AN$50,P$1,FALSE)","v":0},"円","（",{"$f":"VLOOKUP($A8,'005リスト'!$W$4:$AN$50,S$1,FALSE)","v":0},"人）"]
["青森県",{"$f":"VLOOKUP($A9,'005リスト'!$W$4:$AN$50,B$1,FALSE)","v":0},"円",{"$f":"VLOOKUP($A9,'005リスト'!$W$4:$AN$50,D$1,FALSE)","v":0},"円",{"$f":"VLOOKUP($A9,'005リスト'!$W$4:$AN$50,F$1,FALSE)","v":0},"円","（",{"$f":"VLOOKUP($A9,'005リスト'!$W$4:$AN$50,I$1,FALSE)","v":0},"人）",{"$f":"VLOOKUP($A9,'005リスト'!$W$4:$AN$50,K$1,FALSE)","v":0},"円","（",{"$f":"VLOOKUP($A9,'005リスト'!$W$4:$AN$50,N$1,FALSE)","v":0},"人）",{"$f":"VLOOKUP($A9,'005リスト'!$W$4:$AN$50,P$1,FALSE)","v":0},"円","（",{"$f":"VLOOKUP($A9,'005リスト'!$W$4:$AN$50,S$1,FALSE)","v":0},"人）"]
["岩手県",{"$f":"VLOOKUP($A10,'005リスト'!$W$4:$AN$50,B$1,FALSE)","v":0},"円",{"$f":"VLOOKUP($A10,'005リスト'!$W$4:$AN$50,D$1,FALSE)","v":0},"円",{"$f":"VLOOKUP($A10,'005リスト'!$W$4:$AN$50,F$1,FALSE)","v":0},"円","（",{"$f":"VLOOKUP($A10,'005リスト'!$W$4:$AN$50,I$1,FALSE)","v":0},"人）",{"$f":"VLOOKUP($A10,'005リスト'!$W$4:$AN$50,K$1,FALSE)","v":0},"円","（",{"$f":"VLOOKUP($A10,'005リスト'!$W$4:$AN$50,N$1,FALSE)","v":0},"人）",{"$f":"VLOOKUP($A10,'005リスト'!$W$4:$AN$50,P$1,FALSE)","v":0},"円","（",{"$f":"VLOOKUP($A10,'005リスト'!$W$4:$AN$50,S$1,FALSE)","v":0},"人）"]
["宮城県",{"$f":"VLOOKUP($A11,'005リスト'!$W$4:$AN$50,B$1,FALSE)","v":0},"円",{"$f":"VLOOKUP($A11,'005リスト'!$W$4:$AN$50,D$1,FALSE)","v":0},"円",{"$f":"VLOOKUP($A11,'005リスト'!$W$4:$AN$50,F$1,FALSE)","v":0},"円","（",{"$f":"VLOOKUP($A11,'005リスト'!$W$4:$AN$50,I$1,FALSE)","v":0},"人）",{"$f":"VLOOKUP($A11,'005リスト'!$W$4:$AN$50,K$1,FALSE)","v":0},"円","（",{"$f":"VLOOKUP($A11,'005リスト'!$W$4:$AN$50,N$1,FALSE)","v":0},"人）",{"$f":"VLOOKUP($A11,'005リスト'!$W$4:$AN$50,P$1,FALSE)","v":0},"円","（",{"$f":"VLOOKUP($A11,'005リスト'!$W$4:$AN$50,S$1,FALSE)","v":0},"人）"]
["秋田県",{"$f":"VLOOKUP($A12,'005リスト'!$W$4:$AN$50,B$1,FALSE)","v":0},"円",{"$f":"VLOOKUP($A12,'005リスト'!$W$4:$AN$50,D$1,FALSE)","v":0},"円",{"$f":"VLOOKUP($A12,'005リスト'!$W$4:$AN$50,F$1,FALSE)","v":0},"円","（",{"$f":"VLOOKUP($A12,'005リスト'!$W$4:$AN$50,I$1,FALSE)","v":0},"人）",{"$f":"VLOOKUP($A12,'005リスト'!$W$4:$AN$50,K$1,FALSE)","v":0},"円","（",{"$f":"VLOOKUP($A12,'005リスト'!$W$4:$AN$50,N$1,FALSE)","v":0},"人）",{"$f":"VLOOKUP($A12,'005リスト'!$W$4:$AN$50,P$1,FALSE)","v":0},"円","（",{"$f":"VLOOKUP($A12,'005リスト'!$W$4:$AN$50,S$1,FALSE)","v":0},"人）"]
["山形県",{"$f":"VLOOKUP($A13,'005リスト'!$W$4:$AN$50,B$1,FALSE)","v":0},"円",{"$f":"VLOOKUP($A13,'005リスト'!$W$4:$AN$50,D$1,FALSE)","v":0},"円",{"$f":"VLOOKUP($A13,'005リスト'!$W$4:$AN$50,F$1,FALSE)","v":0},"円","（",{"$f":"VLOOKUP($A13,'005リスト'!$W$4:$AN$50,I$1,FALSE)","v":0},"人）",{"$f":"VLOOKUP($A13,'005リスト'!$W$4:$AN$50,K$1,FALSE)","v":0},"円","（",{"$f":"VLOOKUP($A13,'005リスト'!$W$4:$AN$50,N$1,FALSE)","v":0},"人）",{"$f":"VLOOKUP($A13,'005リスト'!$W$4:$AN$50,P$1,FALSE)","v":0},"円","（",{"$f":"VLOOKUP($A13,'005リスト'!$W$4:$AN$50,S$1,FALSE)","v":0},"人）"]
["福島県",{"$f":"VLOOKUP($A14,'005リスト'!$W$4:$AN$50,B$1,FALSE)","v":0},"円",{"$f":"VLOOKUP($A14,'005リスト'!$W$4:$AN$50,D$1,FALSE)","v":0},"円",{"$f":"VLOOKUP($A14,'005リスト'!$W$4:$AN$50,F$1,FALSE)","v":0},"円","（",{"$f":"VLOOKUP($A14,'005リスト'!$W$4:$AN$50,I$1,FALSE)","v":0},"人）",{"$f":"VLOOKUP($A14,'005リスト'!$W$4:$AN$50,K$1,FALSE)","v":0},"円","（",{"$f":"VLOOKUP($A14,'005リスト'!$W$4:$AN$50,N$1,FALSE)","v":0},"人）",{"$f":"VLOOKUP($A14,'005リスト'!$W$4:$AN$50,P$1,FALSE)","v":0},"円","（",{"$f":"VLOOKUP($A14,'005リスト'!$W$4:$AN$50,S$1,FALSE)","v":0},"人）"]
["茨城県",{"$f":"VLOOKUP($A15,'005リスト'!$W$4:$AN$50,B$1,FALSE)","v":0},"円",{"$f":"VLOOKUP($A15,'005リスト'!$W$4:$AN$50,D$1,FALSE)","v":0},"円",{"$f":"VLOOKUP($A15,'005リスト'!$W$4:$AN$50,F$1,FALSE)","v":0},"円","（",{"$f":"VLOOKUP($A15,'005リスト'!$W$4:$AN$50,I$1,FALSE)","v":0},"人）",{"$f":"VLOOKUP($A15,'005リスト'!$W$4:$AN$50,K$1,FALSE)","v":0},"円","（",{"$f":"VLOOKUP($A15,'005リスト'!$W$4:$AN$50,N$1,FALSE)","v":0},"人）",{"$f":"VLOOKUP($A15,'005リスト'!$W$4:$AN$50,P$1,FALSE)","v":0},"円","（",{"$f":"VLOOKUP($A15,'005リスト'!$W$4:$AN$50,S$1,FALSE)","v":0},"人）"]
["栃木県",{"$f":"VLOOKUP($A16,'005リスト'!$W$4:$AN$50,B$1,FALSE)","v":0},"円",{"$f":"VLOOKUP($A16,'005リスト'!$W$4:$AN$50,D$1,FALSE)","v":0},"円",{"$f":"VLOOKUP($A16,'005リスト'!$W$4:$AN$50,F$1,FALSE)","v":0},"円","（",{"$f":"VLOOKUP($A16,'005リスト'!$W$4:$AN$50,I$1,FALSE)","v":0},"人）",{"$f":"VLOOKUP($A16,'005リスト'!$W$4:$AN$50,K$1,FALSE)","v":0},"円","（",{"$f":"VLOOKUP($A16,'005リスト'!$W$4:$AN$50,N$1,FALSE)","v":0},"人）",{"$f":"VLOOKUP($A16,'005リスト'!$W$4:$AN$50,P$1,FALSE)","v":0},"円","（",{"$f":"VLOOKUP($A16,'005リスト'!$W$4:$AN$50,S$1,FALSE)","v":0},"人）"]
["群馬県",{"$f":"VLOOKUP($A17,'005リスト'!$W$4:$AN$50,B$1,FALSE)","v":0},"円",{"$f":"VLOOKUP($A17,'005リスト'!$W$4:$AN$50,D$1,FALSE)","v":0},"円",{"$f":"VLOOKUP($A17,'005リスト'!$W$4:$AN$50,F$1,FALSE)","v":0},"円","（",{"$f":"VLOOKUP($A17,'005リスト'!$W$4:$AN$50,I$1,FALSE)","v":0},"人）",{"$f":"VLOOKUP($A17,'005リスト'!$W$4:$AN$50,K$1,FALSE)","v":0},"円","（",{"$f":"VLOOKUP($A17,'005リスト'!$W$4:$AN$50,N$1,FALSE)","v":0},"人）",{"$f":"VLOOKUP($A17,'005リスト'!$W$4:$AN$50,P$1,FALSE)","v":0},"円","（",{"$f":"VLOOKUP($A17,'005リスト'!$W$4:$AN$50,S$1,FALSE)","v":0},"人）"]
["埼玉県",{"$f":"VLOOKUP($A18,'005リスト'!$W$4:$AN$50,B$1,FALSE)","v":0},"円",{"$f":"VLOOKUP($A18,'005リスト'!$W$4:$AN$50,D$1,FALSE)","v":0},"円",{"$f":"VLOOKUP($A18,'005リスト'!$W$4:$AN$50,F$1,FALSE)","v":0},"円","（",{"$f":"VLOOKUP($A18,'005リスト'!$W$4:$AN$50,I$1,FALSE)","v":0},"人）",{"$f":"VLOOKUP($A18,'005リスト'!$W$4:$AN$50,K$1,FALSE)","v":0},"円","（",{"$f":"VLOOKUP($A18,'005リスト'!$W$4:$AN$50,N$1,FALSE)","v":0},"人）",{"$f":"VLOOKUP($A18,'005リスト'!$W$4:$AN$50,P$1,FALSE)","v":0},"円","（",{"$f":"VLOOKUP($A18,'005リスト'!$W$4:$AN$50,S$1,FALSE)","v":0},"人）"]
["千葉県",{"$f":"VLOOKUP($A19,'005リスト'!$W$4:$AN$50,B$1,FALSE)","v":0},"円",{"$f":"VLOOKUP($A19,'005リスト'!$W$4:$AN$50,D$1,FALSE)","v":0},"円",{"$f":"VLOOKUP($A19,'005リスト'!$W$4:$AN$50,F$1,FALSE)","v":0},"円","（",{"$f":"VLOOKUP($A19,'005リスト'!$W$4:$AN$50,I$1,FALSE)","v":0},"人）",{"$f":"VLOOKUP($A19,'005リスト'!$W$4:$AN$50,K$1,FALSE)","v":0},"円","（",{"$f":"VLOOKUP($A19,'005リスト'!$W$4:$AN$50,N$1,FALSE)","v":0},"人）",{"$f":"VLOOKUP($A19,'005リスト'!$W$4:$AN$50,P$1,FALSE)","v":0},"円","（",{"$f":"VLOOKUP($A19,'005リスト'!$W$4:$AN$50,S$1,FALSE)","v":0},"人）"]
["東京都",{"$f":"VLOOKUP($A20,'005リスト'!$W$4:$AN$50,B$1,FALSE)","v":0},"円",{"$f":"VLOOKUP($A20,'005リスト'!$W$4:$AN$50,D$1,FALSE)","v":0},"円",{"$f":"VLOOKUP($A20,'005リスト'!$W$4:$AN$50,F$1,FALSE)","v":0},"円","（",{"$f":"VLOOKUP($A20,'005リスト'!$W$4:$AN$50,I$1,FALSE)","v":0},"人）",{"$f":"VLOOKUP($A20,'005リスト'!$W$4:$AN$50,K$1,FALSE)","v":0},"円","（",{"$f":"VLOOKUP($A20,'005リスト'!$W$4:$AN$50,N$1,FALSE)","v":0},"人）",{"$f":"VLOOKUP($A20,'005リスト'!$W$4:$AN$50,P$1,FALSE)","v":0},"円","（",{"$f":"VLOOKUP($A20,'005リスト'!$W$4:$AN$50,S$1,FALSE)","v":0},"人）"]
["神奈川県",{"$f":"VLOOKUP($A21,'005リスト'!$W$4:$AN$50,B$1,FALSE)","v":0},"円",{"$f":"VLOOKUP($A21,'005リスト'!$W$4:$AN$50,D$1,FALSE)","v":0},"円",{"$f":"VLOOKUP($A21,'005リスト'!$W$4:$AN$50,F$1,FALSE)","v":0},"円","（",{"$f":"VLOOKUP($A21,'005リスト'!$W$4:$AN$50,I$1,FALSE)","v":0},"人）",{"$f":"VLOOKUP($A21,'005リスト'!$W$4:$AN$50,K$1,FALSE)","v":0},"円","（",{"$f":"VLOOKUP($A21,'005リスト'!$W$4:$AN$50,N$1,FALSE)","v":0},"人）",{"$f":"VLOOKUP($A21,'005リスト'!$W$4:$AN$50,P$1,FALSE)","v":0},"円","（",{"$f":"VLOOKUP($A21,'005リスト'!$W$4:$AN$50,S$1,FALSE)","v":0},"人）"]
["新潟県",{"$f":"VLOOKUP($A22,'005リスト'!$W$4:$AN$50,B$1,FALSE)","v":0},"円",{"$f":"VLOOKUP($A22,'005リスト'!$W$4:$AN$50,D$1,FALSE)","v":0},"円",{"$f":"VLOOKUP($A22,'005リスト'!$W$4:$AN$50,F$1,FALSE)","v":0},"円","（",{"$f":"VLOOKUP($A22,'005リスト'!$W$4:$AN$50,I$1,FALSE)","v":0},"人）",{"$f":"VLOOKUP($A22,'005リスト'!$W$4:$AN$50,K$1,FALSE)","v":0},"円","（",{"$f":"VLOOKUP($A22,'005リスト'!$W$4:$AN$50,N$1,FALSE)","v":0},"人）",{"$f":"VLOOKUP($A22,'005リスト'!$W$4:$AN$50,P$1,FALSE)","v":0},"円","（",{"$f":"VLOOKUP($A22,'005リスト'!$W$4:$AN$50,S$1,FALSE)","v":0},"人）"]
["富山県",{"$f":"VLOOKUP($A23,'005リスト'!$W$4:$AN$50,B$1,FALSE)","v":0},"円",{"$f":"VLOOKUP($A23,'005リスト'!$W$4:$AN$50,D$1,FALSE)","v":0},"円",{"$f":"VLOOKUP($A23,'005リスト'!$W$4:$AN$50,F$1,FALSE)","v":0},"円","（",{"$f":"VLOOKUP($A23,'005リスト'!$W$4:$AN$50,I$1,FALSE)","v":0},"人）",{"$f":"VLOOKUP($A23,'005リスト'!$W$4:$AN$50,K$1,FALSE)","v":0},"円","（",{"$f":"VLOOKUP($A23,'005リスト'!$W$4:$AN$50,N$1,FALSE)","v":0},"人）",{"$f":"VLOOKUP($A23,'005リスト'!$W$4:$AN$50,P$1,FALSE)","v":0},"円","（",{"$f":"VLOOKUP($A23,'005リスト'!$W$4:$AN$50,S$1,FALSE)","v":0},"人）"]
["石川県",{"$f":"VLOOKUP($A24,'005リスト'!$W$4:$AN$50,B$1,FALSE)","v":0},"円",{"$f":"VLOOKUP($A24,'005リスト'!$W$4:$AN$50,D$1,FALSE)","v":0},"円",{"$f":"VLOOKUP($A24,'005リスト'!$W$4:$AN$50,F$1,FALSE)","v":0},"円","（",{"$f":"VLOOKUP($A24,'005リスト'!$W$4:$AN$50,I$1,FALSE)","v":0},"人）",{"$f":"VLOOKUP($A24,'005リスト'!$W$4:$AN$50,K$1,FALSE)","v":0},"円","（",{"$f":"VLOOKUP($A24,'005リスト'!$W$4:$AN$50,N$1,FALSE)","v":0},"人）",{"$f":"VLOOKUP($A24,'005リスト'!$W$4:$AN$50,P$1,FALSE)","v":0},"円","（",{"$f":"VLOOKUP($A24,'005リスト'!$W$4:$AN$50,S$1,FALSE)","v":0},"人）"]
["福井県",{"$f":"VLOOKUP($A25,'005リスト'!$W$4:$AN$50,B$1,FALSE)","v":0},"円",{"$f":"VLOOKUP($A25,'005リスト'!$W$4:$AN$50,D$1,FALSE)","v":0},"円",{"$f":"VLOOKUP($A25,'005リスト'!$W$4:$AN$50,F$1,FALSE)","v":0},"円","（",{"$f":"VLOOKUP($A25,'005リスト'!$W$4:$AN$50,I$1,FALSE)","v":0},"人）",{"$f":"VLOOKUP($A25,'005リスト'!$W$4:$AN$50,K$1,FALSE)","v":0},"円","（",{"$f":"VLOOKUP($A25,'005リスト'!$W$4:$AN$50,N$1,FALSE)","v":0},"人）",{"$f":"VLOOKUP($A25,'005リスト'!$W$4:$AN$50,P$1,FALSE)","v":0},"円","（",{"$f":"VLOOKUP($A25,'005リスト'!$W$4:$AN$50,S$1,FALSE)","v":0},"人）"]
["山梨県",{"$f":"VLOOKUP($A26,'005リスト'!$W$4:$AN$50,B$1,FALSE)","v":0},"円",{"$f":"VLOOKUP($A26,'005リスト'!$W$4:$AN$50,D$1,FALSE)","v":0},"円",{"$f":"VLOOKUP($A26,'005リスト'!$W$4:$AN$50,F$1,FALSE)","v":0},"円","（",{"$f":"VLOOKUP($A26,'005リスト'!$W$4:$AN$50,I$1,FALSE)","v":0},"人）",{"$f":"VLOOKUP($A26,'005リスト'!$W$4:$AN$50,K$1,FALSE)","v":0},"円","（",{"$f":"VLOOKUP($A26,'005リスト'!$W$4:$AN$50,N$1,FALSE)","v":0},"人）",{"$f":"VLOOKUP($A26,'005リスト'!$W$4:$AN$50,P$1,FALSE)","v":0},"円","（",{"$f":"VLOOKUP($A26,'005リスト'!$W$4:$AN$50,S$1,FALSE)","v":0},"人）"]
["長野県",{"$f":"VLOOKUP($A27,'005リスト'!$W$4:$AN$50,B$1,FALSE)","v":0},"円",{"$f":"VLOOKUP($A27,'005リスト'!$W$4:$AN$50,D$1,FALSE)","v":0},"円",{"$f":"VLOOKUP($A27,'005リスト'!$W$4:$AN$50,F$1,FALSE)","v":0},"円","（",{"$f":"VLOOKUP($A27,'005リスト'!$W$4:$AN$50,I$1,FALSE)","v":0},"人）",{"$f":"VLOOKUP($A27,'005リスト'!$W$4:$AN$50,K$1,FALSE)","v":0},"円","（",{"$f":"VLOOKUP($A27,'005リスト'!$W$4:$AN$50,N$1,FALSE)","v":0},"人）",{"$f":"VLOOKUP($A27,'005リスト'!$W$4:$AN$50,P$1,FALSE)","v":0},"円","（",{"$f":"VLOOKUP($A27,'005リスト'!$W$4:$AN$50,S$1,FALSE)","v":0},"人）"]
["岐阜県",{"$f":"VLOOKUP($A28,'005リスト'!$W$4:$AN$50,B$1,FALSE)","v":0},"円",{"$f":"VLOOKUP($A28,'005リスト'!$W$4:$AN$50,D$1,FALSE)","v":0},"円",{"$f":"VLOOKUP($A28,'005リスト'!$W$4:$AN$50,F$1,FALSE)","v":0},"円","（",{"$f":"VLOOKUP($A28,'005リスト'!$W$4:$AN$50,I$1,FALSE)","v":0},"人）",{"$f":"VLOOKUP($A28,'005リスト'!$W$4:$AN$50,K$1,FALSE)","v":0},"円","（",{"$f":"VLOOKUP($A28,'005リスト'!$W$4:$AN$50,N$1,FALSE)","v":0},"人）",{"$f":"VLOOKUP($A28,'005リスト'!$W$4:$AN$50,P$1,FALSE)","v":0},"円","（",{"$f":"VLOOKUP($A28,'005リスト'!$W$4:$AN$50,S$1,FALSE)","v":0},"人）"]
["静岡県",{"$f":"VLOOKUP($A29,'005リスト'!$W$4:$AN$50,B$1,FALSE)","v":0},"円",{"$f":"VLOOKUP($A29,'005リスト'!$W$4:$AN$50,D$1,FALSE)","v":0},"円",{"$f":"VLOOKUP($A29,'005リスト'!$W$4:$AN$50,F$1,FALSE)","v":0},"円","（",{"$f":"VLOOKUP($A29,'005リスト'!$W$4:$AN$50,I$1,FALSE)","v":0},"人）",{"$f":"VLOOKUP($A29,'005リスト'!$W$4:$AN$50,K$1,FALSE)","v":0},"円","（",{"$f":"VLOOKUP($A29,'005リスト'!$W$4:$AN$50,N$1,FALSE)","v":0},"人）",{"$f":"VLOOKUP($A29,'005リスト'!$W$4:$AN$50,P$1,FALSE)","v":0},"円","（",{"$f":"VLOOKUP($A29,'005リスト'!$W$4:$AN$50,S$1,FALSE)","v":0},"人）"]
["愛知県",{"$f":"VLOOKUP($A30,'005リスト'!$W$4:$AN$50,B$1,FALSE)","v":0},"円",{"$f":"VLOOKUP($A30,'005リスト'!$W$4:$AN$50,D$1,FALSE)","v":0},"円",{"$f":"VLOOKUP($A30,'005リスト'!$W$4:$AN$50,F$1,FALSE)","v":0},"円","（",{"$f":"VLOOKUP($A30,'005リスト'!$W$4:$AN$50,I$1,FALSE)","v":0},"人）",{"$f":"VLOOKUP($A30,'005リスト'!$W$4:$AN$50,K$1,FALSE)","v":0},"円","（",{"$f":"VLOOKUP($A30,'005リスト'!$W$4:$AN$50,N$1,FALSE)","v":0},"人）",{"$f":"VLOOKUP($A30,'005リスト'!$W$4:$AN$50,P$1,FALSE)","v":0},"円","（",{"$f":"VLOOKUP($A30,'005リスト'!$W$4:$AN$50,S$1,FALSE)","v":0},"人）"]
["三重県",{"$f":"VLOOKUP($A31,'005リスト'!$W$4:$AN$50,B$1,FALSE)","v":0},"円",{"$f":"VLOOKUP($A31,'005リスト'!$W$4:$AN$50,D$1,FALSE)","v":0},"円",{"$f":"VLOOKUP($A31,'005リスト'!$W$4:$AN$50,F$1,FALSE)","v":0},"円","（",{"$f":"VLOOKUP($A31,'005リスト'!$W$4:$AN$50,I$1,FALSE)","v":0},"人）",{"$f":"VLOOKUP($A31,'005リスト'!$W$4:$AN$50,K$1,FALSE)","v":0},"円","（",{"$f":"VLOOKUP($A31,'005リスト'!$W$4:$AN$50,N$1,FALSE)","v":0},"人）",{"$f":"VLOOKUP($A31,'005リスト'!$W$4:$AN$50,P$1,FALSE)","v":0},"円","（",{"$f":"VLOOKUP($A31,'005リスト'!$W$4:$AN$50,S$1,FALSE)","v":0},"人）"]
["滋賀県",{"$f":"VLOOKUP($A32,'005リスト'!$W$4:$AN$50,B$1,FALSE)","v":0},"円",{"$f":"VLOOKUP($A32,'005リスト'!$W$4:$AN$50,D$1,FALSE)","v":0},"円",{"$f":"VLOOKUP($A32,'005リスト'!$W$4:$AN$50,F$1,FALSE)","v":0},"円","（",{"$f":"VLOOKUP($A32,'005リスト'!$W$4:$AN$50,I$1,FALSE)","v":0},"人）",{"$f":"VLOOKUP($A32,'005リスト'!$W$4:$AN$50,K$1,FALSE)","v":0},"円","（",{"$f":"VLOOKUP($A32,'005リスト'!$W$4:$AN$50,N$1,FALSE)","v":0},"人）",{"$f":"VLOOKUP($A32,'005リスト'!$W$4:$AN$50,P$1,FALSE)","v":0},"円","（",{"$f":"VLOOKUP($A32,'005リスト'!$W$4:$AN$50,S$1,FALSE)","v":0},"人）"]
["京都府",{"$f":"VLOOKUP($A33,'005リスト'!$W$4:$AN$50,B$1,FALSE)","v":0},"円",{"$f":"VLOOKUP($A33,'005リスト'!$W$4:$AN$50,D$1,FALSE)","v":0},"円",{"$f":"VLOOKUP($A33,'005リスト'!$W$4:$AN$50,F$1,FALSE)","v":0},"円","（",{"$f":"VLOOKUP($A33,'005リスト'!$W$4:$AN$50,I$1,FALSE)","v":0},"人）",{"$f":"VLOOKUP($A33,'005リスト'!$W$4:$AN$50,K$1,FALSE)","v":0},"円","（",{"$f":"VLOOKUP($A33,'005リスト'!$W$4:$AN$50,N$1,FALSE)","v":0},"人）",{"$f":"VLOOKUP($A33,'005リスト'!$W$4:$AN$50,P$1,FALSE)","v":0},"円","（",{"$f":"VLOOKUP($A33,'005リスト'!$W$4:$AN$50,S$1,FALSE)","v":0},"人）"]
["大阪府",{"$f":"VLOOKUP($A34,'005リスト'!$W$4:$AN$50,B$1,FALSE)","v":0},"円",{"$f":"VLOOKUP($A34,'005リスト'!$W$4:$AN$50,D$1,FALSE)","v":0},"円",{"$f":"VLOOKUP($A34,'005リスト'!$W$4:$AN$50,F$1,FALSE)","v":0},"円","（",{"$f":"VLOOKUP($A34,'005リスト'!$W$4:$AN$50,I$1,FALSE)","v":0},"人）",{"$f":"VLOOKUP($A34,'005リスト'!$W$4:$AN$50,K$1,FALSE)","v":0},"円","（",{"$f":"VLOOKUP($A34,'005リスト'!$W$4:$AN$50,N$1,FALSE)","v":0},"人）",{"$f":"VLOOKUP($A34,'005リスト'!$W$4:$AN$50,P$1,FALSE)","v":0},"円","（",{"$f":"VLOOKUP($A34,'005リスト'!$W$4:$AN$50,S$1,FALSE)","v":0},"人）"]
["兵庫県",{"$f":"VLOOKUP($A35,'005リスト'!$W$4:$AN$50,B$1,FALSE)","v":0},"円",{"$f":"VLOOKUP($A35,'005リスト'!$W$4:$AN$50,D$1,FALSE)","v":0},"円",{"$f":"VLOOKUP($A35,'005リスト'!$W$4:$AN$50,F$1,FALSE)","v":0},"円","（",{"$f":"VLOOKUP($A35,'005リスト'!$W$4:$AN$50,I$1,FALSE)","v":0},"人）",{"$f":"VLOOKUP($A35,'005リスト'!$W$4:$AN$50,K$1,FALSE)","v":0},"円","（",{"$f":"VLOOKUP($A35,'005リスト'!$W$4:$AN$50,N$1,FALSE)","v":0},"人）",{"$f":"VLOOKUP($A35,'005リスト'!$W$4:$AN$50,P$1,FALSE)","v":0},"円","（",{"$f":"VLOOKUP($A35,'005リスト'!$W$4:$AN$50,S$1,FALSE)","v":0},"人）"]
["奈良県",{"$f":"VLOOKUP($A36,'005リスト'!$W$4:$AN$50,B$1,FALSE)","v":0},"円",{"$f":"VLOOKUP($A36,'005リスト'!$W$4:$AN$50,D$1,FALSE)","v":0},"円",{"$f":"VLOOKUP($A36,'005リスト'!$W$4:$AN$50,F$1,FALSE)","v":0},"円","（",{"$f":"VLOOKUP($A36,'005リスト'!$W$4:$AN$50,I$1,FALSE)","v":0},"人）",{"$f":"VLOOKUP($A36,'005リスト'!$W$4:$AN$50,K$1,FALSE)","v":0},"円","（",{"$f":"VLOOKUP($A36,'005リスト'!$W$4:$AN$50,N$1,FALSE)","v":0},"人）",{"$f":"VLOOKUP($A36,'005リスト'!$W$4:$AN$50,P$1,FALSE)","v":0},"円","（",{"$f":"VLOOKUP($A36,'005リスト'!$W$4:$AN$50,S$1,FALSE)","v":0},"人）"]
["和歌山県",{"$f":"VLOOKUP($A37,'005リスト'!$W$4:$AN$50,B$1,FALSE)","v":0},"円",{"$f":"VLOOKUP($A37,'005リスト'!$W$4:$AN$50,D$1,FALSE)","v":0},"円",{"$f":"VLOOKUP($A37,'005リスト'!$W$4:$AN$50,F$1,FALSE)","v":0},"円","（",{"$f":"VLOOKUP($A37,'005リスト'!$W$4:$AN$50,I$1,FALSE)","v":0},"人）",{"$f":"VLOOKUP($A37,'005リスト'!$W$4:$AN$50,K$1,FALSE)","v":0},"円","（",{"$f":"VLOOKUP($A37,'005リスト'!$W$4:$AN$50,N$1,FALSE)","v":0},"人）",{"$f":"VLOOKUP($A37,'005リスト'!$W$4:$AN$50,P$1,FALSE)","v":0},"円","（",{"$f":"VLOOKUP($A37,'005リスト'!$W$4:$AN$50,S$1,FALSE)","v":0},"人）"]
["鳥取県",{"$f":"VLOOKUP($A38,'005リスト'!$W$4:$AN$50,B$1,FALSE)","v":0},"円",{"$f":"VLOOKUP($A38,'005リスト'!$W$4:$AN$50,D$1,FALSE)","v":0},"円",{"$f":"VLOOKUP($A38,'005リスト'!$W$4:$AN$50,F$1,FALSE)","v":0},"円","（",{"$f":"VLOOKUP($A38,'005リスト'!$W$4:$AN$50,I$1,FALSE)","v":0},"人）",{"$f":"VLOOKUP($A38,'005リスト'!$W$4:$AN$50,K$1,FALSE)","v":0},"円","（",{"$f":"VLOOKUP($A38,'005リスト'!$W$4:$AN$50,N$1,FALSE)","v":0},"人）",{"$f":"VLOOKUP($A38,'005リスト'!$W$4:$AN$50,P$1,FALSE)","v":0},"円","（",{"$f":"VLOOKUP($A38,'005リスト'!$W$4:$AN$50,S$1,FALSE)","v":0},"人）"]
["島根県",{"$f":"VLOOKUP($A39,'005リスト'!$W$4:$AN$50,B$1,FALSE)","v":0},"円",{"$f":"VLOOKUP($A39,'005リスト'!$W$4:$AN$50,D$1,FALSE)","v":0},"円",{"$f":"VLOOKUP($A39,'005リスト'!$W$4:$AN$50,F$1,FALSE)","v":0},"円","（",{"$f":"VLOOKUP($A39,'005リスト'!$W$4:$AN$50,I$1,FALSE)","v":0},"人）",{"$f":"VLOOKUP($A39,'005リスト'!$W$4:$AN$50,K$1,FALSE)","v":0},"円","（",{"$f":"VLOOKUP($A39,'005リスト'!$W$4:$AN$50,N$1,FALSE)","v":0},"人）",{"$f":"VLOOKUP($A39,'005リスト'!$W$4:$AN$50,P$1,FALSE)","v":0},"円","（",{"$f":"VLOOKUP($A39,'005リスト'!$W$4:$AN$50,S$1,FALSE)","v":0},"人）"]
["岡山県",{"$f":"VLOOKUP($A40,'005リスト'!$W$4:$AN$50,B$1,FALSE)","v":0},"円",{"$f":"VLOOKUP($A40,'005リスト'!$W$4:$AN$50,D$1,FALSE)","v":0},"円",{"$f":"VLOOKUP($A40,'005リスト'!$W$4:$AN$50,F$1,FALSE)","v":0},"円","（",{"$f":"VLOOKUP($A40,'005リスト'!$W$4:$AN$50,I$1,FALSE)","v":0},"人）",{"$f":"VLOOKUP($A40,'005リスト'!$W$4:$AN$50,K$1,FALSE)","v":0},"円","（",{"$f":"VLOOKUP($A40,'005リスト'!$W$4:$AN$50,N$1,FALSE)","v":0},"人）",{"$f":"VLOOKUP($A40,'005リスト'!$W$4:$AN$50,P$1,FALSE)","v":0},"円","（",{"$f":"VLOOKUP($A40,'005リスト'!$W$4:$AN$50,S$1,FALSE)","v":0},"人）"]
["広島県",{"$f":"VLOOKUP($A41,'005リスト'!$W$4:$AN$50,B$1,FALSE)","v":0},"円",{"$f":"VLOOKUP($A41,'005リスト'!$W$4:$AN$50,D$1,FALSE)","v":0},"円",{"$f":"VLOOKUP($A41,'005リスト'!$W$4:$AN$50,F$1,FALSE)","v":0},"円","（",{"$f":"VLOOKUP($A41,'005リスト'!$W$4:$AN$50,I$1,FALSE)","v":0},"人）",{"$f":"VLOOKUP($A41,'005リスト'!$W$4:$AN$50,K$1,FALSE)","v":0},"円","（",{"$f":"VLOOKUP($A41,'005リスト'!$W$4:$AN$50,N$1,FALSE)","v":0},"人）",{"$f":"VLOOKUP($A41,'005リスト'!$W$4:$AN$50,P$1,FALSE)","v":0},"円","（",{"$f":"VLOOKUP($A41,'005リスト'!$W$4:$AN$50,S$1,FALSE)","v":0},"人）"]
["山口県",{"$f":"VLOOKUP($A42,'005リスト'!$W$4:$AN$50,B$1,FALSE)","v":0},"円",{"$f":"VLOOKUP($A42,'005リスト'!$W$4:$AN$50,D$1,FALSE)","v":0},"円",{"$f":"VLOOKUP($A42,'005リスト'!$W$4:$AN$50,F$1,FALSE)","v":0},"円","（",{"$f":"VLOOKUP($A42,'005リスト'!$W$4:$AN$50,I$1,FALSE)","v":0},"人）",{"$f":"VLOOKUP($A42,'005リスト'!$W$4:$AN$50,K$1,FALSE)","v":0},"円","（",{"$f":"VLOOKUP($A42,'005リスト'!$W$4:$AN$50,N$1,FALSE)","v":0},"人）",{"$f":"VLOOKUP($A42,'005リスト'!$W$4:$AN$50,P$1,FALSE)","v":0},"円","（",{"$f":"VLOOKUP($A42,'005リスト'!$W$4:$AN$50,S$1,FALSE)","v":0},"人）"]
["徳島県",{"$f":"VLOOKUP($A43,'005リスト'!$W$4:$AN$50,B$1,FALSE)","v":0},"円",{"$f":"VLOOKUP($A43,'005リスト'!$W$4:$AN$50,D$1,FALSE)","v":0},"円",{"$f":"VLOOKUP($A43,'005リスト'!$W$4:$AN$50,F$1,FALSE)","v":0},"円","（",{"$f":"VLOOKUP($A43,'005リスト'!$W$4:$AN$50,I$1,FALSE)","v":0},"人）",{"$f":"VLOOKUP($A43,'005リスト'!$W$4:$AN$50,K$1,FALSE)","v":0},"円","（",{"$f":"VLOOKUP($A43,'005リスト'!$W$4:$AN$50,N$1,FALSE)","v":0},"人）",{"$f":"VLOOKUP($A43,'005リスト'!$W$4:$AN$50,P$1,FALSE)","v":0},"円","（",{"$f":"VLOOKUP($A43,'005リスト'!$W$4:$AN$50,S$1,FALSE)","v":0},"人）"]
["香川県",{"$f":"VLOOKUP($A44,'005リスト'!$W$4:$AN$50,B$1,FALSE)","v":0},"円",{"$f":"VLOOKUP($A44,'005リスト'!$W$4:$AN$50,D$1,FALSE)","v":0},"円",{"$f":"VLOOKUP($A44,'005リスト'!$W$4:$AN$50,F$1,FALSE)","v":0},"円","（",{"$f":"VLOOKUP($A44,'005リスト'!$W$4:$AN$50,I$1,FALSE)","v":0},"人）",{"$f":"VLOOKUP($A44,'005リスト'!$W$4:$AN$50,K$1,FALSE)","v":0},"円","（",{"$f":"VLOOKUP($A44,'005リスト'!$W$4:$AN$50,N$1,FALSE)","v":0},"人）",{"$f":"VLOOKUP($A44,'005リスト'!$W$4:$AN$50,P$1,FALSE)","v":0},"円","（",{"$f":"VLOOKUP($A44,'005リスト'!$W$4:$AN$50,S$1,FALSE)","v":0},"人）"]
["愛媛県",{"$f":"VLOOKUP($A45,'005リスト'!$W$4:$AN$50,B$1,FALSE)","v":0},"円",{"$f":"VLOOKUP($A45,'005リスト'!$W$4:$AN$50,D$1,FALSE)","v":0},"円",{"$f":"VLOOKUP($A45,'005リスト'!$W$4:$AN$50,F$1,FALSE)","v":0},"円","（",{"$f":"VLOOKUP($A45,'005リスト'!$W$4:$AN$50,I$1,FALSE)","v":0},"人）",{"$f":"VLOOKUP($A45,'005リスト'!$W$4:$AN$50,K$1,FALSE)","v":0},"円","（",{"$f":"VLOOKUP($A45,'005リスト'!$W$4:$AN$50,N$1,FALSE)","v":0},"人）",{"$f":"VLOOKUP($A45,'005リスト'!$W$4:$AN$50,P$1,FALSE)","v":0},"円","（",{"$f":"VLOOKUP($A45,'005リスト'!$W$4:$AN$50,S$1,FALSE)","v":0},"人）"]
["高知県",{"$f":"VLOOKUP($A46,'005リスト'!$W$4:$AN$50,B$1,FALSE)","v":0},"円",{"$f":"VLOOKUP($A46,'005リスト'!$W$4:$AN$50,D$1,FALSE)","v":0},"円",{"$f":"VLOOKUP($A46,'005リスト'!$W$4:$AN$50,F$1,FALSE)","v":0},"円","（",{"$f":"VLOOKUP($A46,'005リスト'!$W$4:$AN$50,I$1,FALSE)","v":0},"人）",{"$f":"VLOOKUP($A46,'005リスト'!$W$4:$AN$50,K$1,FALSE)","v":0},"円","（",{"$f":"VLOOKUP($A46,'005リスト'!$W$4:$AN$50,N$1,FALSE)","v":0},"人）",{"$f":"VLOOKUP($A46,'005リスト'!$W$4:$AN$50,P$1,FALSE)","v":0},"円","（",{"$f":"VLOOKUP($A46,'005リスト'!$W$4:$AN$50,S$1,FALSE)","v":0},"人）"]
["福岡県",{"$f":"VLOOKUP($A47,'005リスト'!$W$4:$AN$50,B$1,FALSE)","v":0},"円",{"$f":"VLOOKUP($A47,'005リスト'!$W$4:$AN$50,D$1,FALSE)","v":0},"円",{"$f":"VLOOKUP($A47,'005リスト'!$W$4:$AN$50,F$1,FALSE)","v":0},"円","（",{"$f":"VLOOKUP($A47,'005リスト'!$W$4:$AN$50,I$1,FALSE)","v":0},"人）",{"$f":"VLOOKUP($A47,'005リスト'!$W$4:$AN$50,K$1,FALSE)","v":0},"円","（",{"$f":"VLOOKUP($A47,'005リスト'!$W$4:$AN$50,N$1,FALSE)","v":0},"人）",{"$f":"VLOOKUP($A47,'005リスト'!$W$4:$AN$50,P$1,FALSE)","v":0},"円","（",{"$f":"VLOOKUP($A47,'005リスト'!$W$4:$AN$50,S$1,FALSE)","v":0},"人）"]
["佐賀県",{"$f":"VLOOKUP($A48,'005リスト'!$W$4:$AN$50,B$1,FALSE)","v":0},"円",{"$f":"VLOOKUP($A48,'005リスト'!$W$4:$AN$50,D$1,FALSE)","v":0},"円",{"$f":"VLOOKUP($A48,'005リスト'!$W$4:$AN$50,F$1,FALSE)","v":0},"円","（",{"$f":"VLOOKUP($A48,'005リスト'!$W$4:$AN$50,I$1,FALSE)","v":0},"人）",{"$f":"VLOOKUP($A48,'005リスト'!$W$4:$AN$50,K$1,FALSE)","v":0},"円","（",{"$f":"VLOOKUP($A48,'005リスト'!$W$4:$AN$50,N$1,FALSE)","v":0},"人）",{"$f":"VLOOKUP($A48,'005リスト'!$W$4:$AN$50,P$1,FALSE)","v":0},"円","（",{"$f":"VLOOKUP($A48,'005リスト'!$W$4:$AN$50,S$1,FALSE)","v":0},"人）"]
["長崎県",{"$f":"VLOOKUP($A49,'005リスト'!$W$4:$AN$50,B$1,FALSE)","v":0},"円",{"$f":"VLOOKUP($A49,'005リスト'!$W$4:$AN$50,D$1,FALSE)","v":0},"円",{"$f":"VLOOKUP($A49,'005リスト'!$W$4:$AN$50,F$1,FALSE)","v":0},"円","（",{"$f":"VLOOKUP($A49,'005リスト'!$W$4:$AN$50,I$1,FALSE)","v":0},"人）",{"$f":"VLOOKUP($A49,'005リスト'!$W$4:$AN$50,K$1,FALSE)","v":0},"円","（",{"$f":"VLOOKUP($A49,'005リスト'!$W$4:$AN$50,N$1,FALSE)","v":0},"人）",{"$f":"VLOOKUP($A49,'005リスト'!$W$4:$AN$50,P$1,FALSE)","v":0},"円","（",{"$f":"VLOOKUP($A49,'005リスト'!$W$4:$AN$50,S$1,FALSE)","v":0},"人）"]
["熊本県",{"$f":"VLOOKUP($A50,'005リスト'!$W$4:$AN$50,B$1,FALSE)","v":0},"円",{"$f":"VLOOKUP($A50,'005リスト'!$W$4:$AN$50,D$1,FALSE)","v":0},"円",{"$f":"VLOOKUP($A50,'005リスト'!$W$4:$AN$50,F$1,FALSE)","v":0},"円","（",{"$f":"VLOOKUP($A50,'005リスト'!$W$4:$AN$50,I$1,FALSE)","v":0},"人）",{"$f":"VLOOKUP($A50,'005リスト'!$W$4:$AN$50,K$1,FALSE)","v":0},"円","（",{"$f":"VLOOKUP($A50,'005リスト'!$W$4:$AN$50,N$1,FALSE)","v":0},"人）",{"$f":"VLOOKUP($A50,'005リスト'!$W$4:$AN$50,P$1,FALSE)","v":0},"円","（",{"$f":"VLOOKUP($A50,'005リスト'!$W$4:$AN$50,S$1,FALSE)","v":0},"人）"]
["大分県",{"$f":"VLOOKUP($A51,'005リスト'!$W$4:$AN$50,B$1,FALSE)","v":0},"円",{"$f":"VLOOKUP($A51,'005リスト'!$W$4:$AN$50,D$1,FALSE)","v":0},"円",{"$f":"VLOOKUP($A51,'005リスト'!$W$4:$AN$50,F$1,FALSE)","v":0},"円","（",{"$f":"VLOOKUP($A51,'005リスト'!$W$4:$AN$50,I$1,FALSE)","v":0},"人）",{"$f":"VLOOKUP($A51,'005リスト'!$W$4:$AN$50,K$1,FALSE)","v":0},"円","（",{"$f":"VLOOKUP($A51,'005リスト'!$W$4:$AN$50,N$1,FALSE)","v":0},"人）",{"$f":"VLOOKUP($A51,'005リスト'!$W$4:$AN$50,P$1,FALSE)","v":0},"円","（",{"$f":"VLOOKUP($A51,'005リスト'!$W$4:$AN$50,S$1,FALSE)","v":0},"人）"]
["宮崎県",{"$f":"VLOOKUP($A52,'005リスト'!$W$4:$AN$50,B$1,FALSE)","v":0},"円",{"$f":"VLOOKUP($A52,'005リスト'!$W$4:$AN$50,D$1,FALSE)","v":0},"円",{"$f":"VLOOKUP($A52,'005リスト'!$W$4:$AN$50,F$1,FALSE)","v":0},"円","（",{"$f":"VLOOKUP($A52,'005リスト'!$W$4:$AN$50,I$1,FALSE)","v":0},"人）",{"$f":"VLOOKUP($A52,'005リスト'!$W$4:$AN$50,K$1,FALSE)","v":0},"円","（",{"$f":"VLOOKUP($A52,'005リスト'!$W$4:$AN$50,N$1,FALSE)","v":0},"人）",{"$f":"VLOOKUP($A52,'005リスト'!$W$4:$AN$50,P$1,FALSE)","v":0},"円","（",{"$f":"VLOOKUP($A52,'005リスト'!$W$4:$AN$50,S$1,FALSE)","v":0},"人）"]
["鹿児島県",{"$f":"VLOOKUP($A53,'005リスト'!$W$4:$AN$50,B$1,FALSE)","v":0},"円",{"$f":"VLOOKUP($A53,'005リスト'!$W$4:$AN$50,D$1,FALSE)","v":0},"円",{"$f":"VLOOKUP($A53,'005リスト'!$W$4:$AN$50,F$1,FALSE)","v":0},"円","（",{"$f":"VLOOKUP($A53,'005リスト'!$W$4:$AN$50,I$1,FALSE)","v":0},"人）",{"$f":"VLOOKUP($A53,'005リスト'!$W$4:$AN$50,K$1,FALSE)","v":0},"円","（",{"$f":"VLOOKUP($A53,'005リスト'!$W$4:$AN$50,N$1,FALSE)","v":0},"人）",{"$f":"VLOOKUP($A53,'005リスト'!$W$4:$AN$50,P$1,FALSE)","v":0},"円","（",{"$f":"VLOOKUP($A53,'005リスト'!$W$4:$AN$50,S$1,FALSE)","v":0},"人）"]
["沖縄県",{"$f":"VLOOKUP($A54,'005リスト'!$W$4:$AN$50,B$1,FALSE)","v":0},"円",{"$f":"VLOOKUP($A54,'005リスト'!$W$4:$AN$50,D$1,FALSE)","v":0},"円",{"$f":"VLOOKUP($A54,'005リスト'!$W$4:$AN$50,F$1,FALSE)","v":0},"円","（",{"$f":"VLOOKUP($A54,'005リスト'!$W$4:$AN$50,I$1,FALSE)","v":0},"人）",{"$f":"VLOOKUP($A54,'005リスト'!$W$4:$AN$50,K$1,FALSE)","v":0},"円","（",{"$f":"VLOOKUP($A54,'005リスト'!$W$4:$AN$50,N$1,FALSE)","v":0},"人）",{"$f":"VLOOKUP($A54,'005リスト'!$W$4:$AN$50,P$1,FALSE)","v":0},"円","（",{"$f":"VLOOKUP($A54,'005リスト'!$W$4:$AN$50,S$1,FALSE)","v":0},"人）"]
["合計",{"$f":"SUM(B8:B54)","v":0},"円",{"$f":"SUM(D8:D54)","v":0},"円",{"$f":"SUM(F8:F54)","v":0},"円","（",{"$f":"SUM(I8:I54)","v":0},"人）",{"$f":"SUM(K8:K54)","v":0},"円","（",{"$f":"SUM(N8:N54)","v":0},"人）",{"$f":"SUM(P8:P54)","v":0},"円","（",{"$f":"SUM(S8:S54)","v":0},"人）"]
[null,"Ｅ",null,"Ｆ",null,"d",null,null,null,null,"e",null,null,null,null,"f"]
["※ FはEを上回らなければならない。"]
["※ Fはdからfの合計と一致しなければならない。"]

{"sheet":"005リスト","index":4,"n_rows":128,"n_cols":40,"rows_kept":128,"cut":false,"hidden":false,"merged":[]}
[null,null,null,1,2,3,4,5,6,7,8,9,10,11,12,13,14,15,16,17,18,null,1,2,3,4,5,6,7,8,9,10,11,12,13,14,15,16,17,18]
[null,null,"令和元年",null,null,null,null,null,null,null,null,null,null,null,null,null,null,null,null,null,null,null,null,"006各シート集約!$F$7:$F$106",null,"006各シート集約!$I$7:$I$106","006各シート集約!$J$7:$J$106","006各シート集約!$K$7:$K$106","006各シート集約!$L$7:$L$106","006各シート集約!$M$7:$M$106","006各シート集約!$N$7:$N$106","006各シート集約!$O$7:$O$106","006各シート集約!$P$7:$P$106","006各シート集約!$Q$7:$Q$106","006各シート集約!$R$7:$R$106","006各シート集約!$S$7:$S$106","006各シート集約!$T$7:$T$106","006各シート集約!$U$7:$U$106","006各シート集約!$V$7:$V$106","006各シート集約!$W$7:$W$106"]
[null,"都道府県",null,"★指定権者","特定加算額","賃金改善額","➊職員分類人数","➊賃金改善額","➊改善前賃金","➊改善後賃金","➊月額８万円または年収440万円の人数","➊賃金改善をした実人数","➋職員分類人数","➋賃金改善額","➋改善前賃金","➋改善後賃金","➋賃金改善をした実人数","➌職員分類人数","➌賃金改善額","➌改善前賃金","➌改善後賃金",null,"★都道府県","特定加算額","賃金改善額","➊職員分類人数","➊賃金改善額","➊改善前賃金","➊改善後賃金","➊月額８万円または年収440万円の人数","➊賃金改善をした実人数","➋職員分類人数","➋賃金改善額","➋改善前賃金","➋改善後賃金","➋賃金改善をした実人数","➌職員分類人数","➌賃金改善額","➌改善前賃金","➌改善後賃金"]
[1,"北海道","都道府県","北海道",{"$f":"SUMIF('006各シート集約'!$H$7:$H$306,$D4,'006各シート集約'!F$7:F$306)","v":0},{"$f":"SUMIF('006各シート集約'!$H$7:$H$306,$D4,'006各シート集約'!G$7:G$306)","v":0},{"$f":"SUMIF('006各シート集約'!$H$7:$H$306,$D4,'006各シート集約'!J$7:J$306)","v":0},{"$f":"SUMIF('006各シート集約'!$H$7:$H$306,$D4,'006各シート集約'!K$7:K$306)","v":0},{"$f":"SUMIF('006各シート集約'!$H$7:$H$306,$D4,'006各シート集約'!L$7:L$306)","v":0},{"$f":"SUMIF('006各シート集約'!$H$7:$H$306,$D4,'006各シート集約'!M$7:M$306)","v":0},{"$f":"SUMIF('006各シート集約'!$H$7:$H$306,$D4,'006各シート集約'!N$7:N$306)","v":0},{"$f":"SUMIF('006各シート集約'!$H$7:$H$306,$D4,'006各シート集約'!O$7:O$306)","v":0},{"$f":"SUMIF('006各シート集約'!$H$7:$H$306,$D4,'006各シート集約'!P$7:P$306)","v":0},{"$f":"SUMIF('006各シート集約'!$H$7:$H$306,$D4,'006各シート集約'!Q$7:Q$306)","v":0},{"$f":"SUMIF('006各シート集約'!$H$7:$H$306,$D4,'006各シート集約'!R$7:R$306)","v":0},{"$f":"SUMIF('006各シート集約'!$H$7:$H$306,$D4,'006各シート集約'!S$7:S$306)","v":0},{"$f":"SUMIF('006各シート集約'!$H$7:$H$306,$D4,'006各シート集約'!T$7:T$306)","v":0},{"$f":"SUMIF('006各シート集約'!$H$7:$H$306,$D4,'006各シート集約'!U$7:U$306)","v":0},{"$f":"SUMIF('006各シート集約'!$H$7:$H$306,$D4,'006各シート集約'!V$7:V$306)","v":0},{"$f":"SUMIF('006各シート集約'!$H$7:$H$306,$D4,'006各シート集約'!W$7:W$306)","v":0},{"$f":"SUMIF('006各シート集約'!$H$7:$H$306,$D4,'006各シート集約'!X$7:X$306)","v":0},null,"北海道",{"$f":"SUMIF('006各シート集約'!$I$7:$I$306,$W4,'006各シート集約'!F$7:F$306)","v":0},{"$f":"SUMIF('006各シート集約'!$I$7:$I$306,$W4,'006各シート集約'!G$7:G$306)","v":0},{"$f":"SUMIF('006各シート集約'!$I$7:$I$306,$W4,'006各シート集約'!J$7:J$306)","v":0},{"$f":"SUMIF('006各シート集約'!$I$7:$I$306,$W4,'006各シート集約'!K$7:K$306)","v":0},{"$f":"SUMIF('006各シート集約'!$I$7:$I$306,$W4,'006各シート集約'!L$7:L$306)","v":0},{"$f":"SUMIF('006各シート集約'!$I$7:$I$306,$W4,'006各シート集約'!M$7:M$306)","v":0},{"$f":"SUMIF('006各シート集約'!$I$7:$I$306,$W4,'006各シート集約'!N$7:N$306)","v":0},{"$f":"SUMIF('006各シート集約'!$I$7:$I$306,$W4,'006各シート集約'!O$7:O$306)","v":0},{"$f":"SUMIF('006各シート集約'!$I$7:$I$306,$W4,'006各シート集約'!P$7:P$306)","v":0},{"$f":"SUMIF('006各シート集約'!$I$7:$I$306,$W4,'006各シート集約'!Q$7:Q$306)","v":0},{"$f":"SUMIF('006各シート集約'!$I$7:$I$306,$W4,'006各シート集約'!R$7:R$306)","v":0},{"$f":"SUMIF('006各シート集約'!$I$7:$I$306,$W4,'006各シート集約'!S$7:S$306)","v":0},{"$f":"SUMIF('006各シート集約'!$I$7:$I$306,$W4,'006各シート集約'!T$7:T$306)","v":0},{"$f":"SUMIF('006各シート集約'!$I$7:$I$306,$W4,'006各シート集約'!U$7:U$306)","v":0},{"$f":"SUMIF('006各シート集約'!$I$7:$I$306,$W4,'006各シート集約'!V$7:V$306)","v":0},{"$f":"SUMIF('006各シート集約'!$I$7:$I$306,$W4,'006各シート集約'!W$7:W$306)","v":0},{"$f":"SUMIF('006各シート集約'!$I$7:$I$306,$W4,'006各シート集約'!X$7:X$306)","v":0}]
[2,"青森県",null,"青森県",{"$f":"SUMIF('006各シート集約'!$H$7:$H$306,$D5,'006各シート集約'!F$7:F$306)","v":0},{"$f":"SUMIF('006各シート集約'!$H$7:$H$306,$D5,'006各シート集約'!G$7:G$306)","v":0},{"$f":"SUMIF('006各シート集約'!$H$7:$H$306,$D5,'006各シート集約'!J$7:J$306)","v":0},{"$f":"SUMIF('006各シート集約'!$H$7:$H$306,$D5,'006各シート集約'!K$7:K$306)","v":0},{"$f":"SUMIF('006各シート集約'!$H$7:$H$306,$D5,'006各シート集約'!L$7:L$306)","v":0},{"$f":"SUMIF('006各シート集約'!$H$7:$H$306,$D5,'006各シート集約'!M$7:M$306)","v":0},{"$f":"SUMIF('006各シート集約'!$H$7:$H$306,$D5,'006各シート集約'!N$7:N$306)","v":0},{"$f":"SUMIF('006各シート集約'!$H$7:$H$306,$D5,'006各シート集約'!O$7:O$306)","v":0},{"$f":"SUMIF('006各シート集約'!$H$7:$H$306,$D5,'006各シート集約'!P$7:P$306)","v":0},{"$f":"SUMIF('006各シート集約'!$H$7:$H$306,$D5,'006各シート集約'!Q$7:Q$306)","v":0},{"$f":"SUMIF('006各シート集約'!$H$7:$H$306,$D5,'006各シート集約'!R$7:R$306)","v":0},{"$f":"SUMIF('006各シート集約'!$H$7:$H$306,$D5,'006各シート集約'!S$7:S$306)","v":0},{"$f":"SUMIF('006各シート集約'!$H$7:$H$306,$D5,'006各シート集約'!T$7:T$306)","v":0},{"$f":"SUMIF('006各シート集約'!$H$7:$H$306,$D5,'006各シート集約'!U$7:U$306)","v":0},{"$f":"SUMIF('006各シート集約'!$H$7:$H$306,$D5,'006各シート集約'!V$7:V$306)","v":0},{"$f":"SUMIF('006各シート集約'!$H$7:$H$306,$D5,'006各シート集約'!W$7:W$306)","v":0},{"$f":"SUMIF('006各シート集約'!$H$7:$H$306,$D5,'006各シート集約'!X$7:X$306)","v":0},null,"青森県",{"$f":"SUMIF('006各シート集約'!$I$7:$I$306,$W5,'006各シート集約'!F$7:F$306)","v":0},{"$f":"SUMIF('006各シート集約'!$I$7:$I$306,$W5,'006各シート集約'!G$7:G$306)","v":0},{"$f":"SUMIF('006各シート集約'!$I$7:$I$306,$W5,'006各シート集約'!J$7:J$306)","v":0},{"$f":"SUMIF('006各シート集約'!$I$7:$I$306,$W5,'006各シート集約'!K$7:K$306)","v":0},{"$f":"SUMIF('006各シート集約'!$I$7:$I$306,$W5,'006各シート集約'!L$7:L$306)","v":0},{"$f":"SUMIF('006各シート集約'!$I$7:$I$306,$W5,'006各シート集約'!M$7:M$306)","v":0},{"$f":"SUMIF('006各シート集約'!$I$7:$I$306,$W5,'006各シート集約'!N$7:N$306)","v":0},{"$f":"SUMIF('006各シート集約'!$I$7:$I$306,$W5,'006各シート集約'!O$7:O$306)","v":0},{"$f":"SUMIF('006各シート集約'!$I$7:$I$306,$W5,'006各シート集約'!P$7:P$306)","v":0},{"$f":"SUMIF('006各シート集約'!$I$7:$I$306,$W5,'006各シート集約'!Q$7:Q$306)","v":0},{"$f":"SUMIF('006各シート集約'!$I$7:$I$306,$W5,'006各シート集約'!R$7:R$306)","v":0},{"$f":"SUMIF('006各シート集約'!$I$7:$I$306,$W5,'006各シート集約'!S$7:S$306)","v":0},{"$f":"SUMIF('006各シート集約'!$I$7:$I$306,$W5,'006各シート集約'!T$7:T$306)","v":0},{"$f":"SUMIF('006各シート集約'!$I$7:$I$306,$W5,'006各シート集約'!U$7:U$306)","v":0},{"$f":"SUMIF('006各シート集約'!$I$7:$I$306,$W5,'006各シート集約'!V$7:V$306)","v":0},{"$f":"SUMIF('006各シート集約'!$I$7:$I$306,$W5,'006各シート集約'!W$7:W$306)","v":0},{"$f":"SUMIF('006各シート集約'!$I$7:$I$306,$W5,'006各シート集約'!X$7:X$306)","v":0}]
[3,"岩手県",null,"岩手県",{"$f":"SUMIF('006各シート集約'!$H$7:$H$306,$D6,'006各シート集約'!F$7:F$306)","v":0},{"$f":"SUMIF('006各シート集約'!$H$7:$H$306,$D6,'006各シート集約'!G$7:G$306)","v":0},{"$f":"SUMIF('006各シート集約'!$H$7:$H$306,$D6,'006各シート集約'!J$7:J$306)","v":0},{"$f":"SUMIF('006各シート集約'!$H$7:$H$306,$D6,'006各シート集約'!K$7:K$306)","v":0},{"$f":"SUMIF('006各シート集約'!$H$7:$H$306,$D6,'006各シート集約'!L$7:L$306)","v":0},{"$f":"SUMIF('006各シート集約'!$H$7:$H$306,$D6,'006各シート集約'!M$7:M$306)","v":0},{"$f":"SUMIF('006各シート集約'!$H$7:$H$306,$D6,'006各シート集約'!N$7:N$306)","v":0},{"$f":"SUMIF('006各シート集約'!$H$7:$H$306,$D6,'006各シート集約'!O$7:O$306)","v":0},{"$f":"SUMIF('006各シート集約'!$H$7:$H$306,$D6,'006各シート集約'!P$7:P$306)","v":0},{"$f":"SUMIF('006各シート集約'!$H$7:$H$306,$D6,'006各シート集約'!Q$7:Q$306)","v":0},{"$f":"SUMIF('006各シート集約'!$H$7:$H$306,$D6,'006各シート集約'!R$7:R$306)","v":0},{"$f":"SUMIF('006各シート集約'!$H$7:$H$306,$D6,'006各シート集約'!S$7:S$306)","v":0},{"$f":"SUMIF('006各シート集約'!$H$7:$H$306,$D6,'006各シート集約'!T$7:T$306)","v":0},{"$f":"SUMIF('006各シート集約'!$H$7:$H$306,$D6,'006各シート集約'!U$7:U$306)","v":0},{"$f":"SUMIF('006各シート集約'!$H$7:$H$306,$D6,'006各シート集約'!V$7:V$306)","v":0},{"$f":"SUMIF('006各シート集約'!$H$7:$H$306,$D6,'006各シート集約'!W$7:W$306)","v":0},{"$f":"SUMIF('006各シート集約'!$H$7:$H$306,$D6,'006各シート集約'!X$7:X$306)","v":0},null,"岩手県",{"$f":"SUMIF('006各シート集約'!$I$7:$I$306,$W6,'006各シート集約'!F$7:F$306)","v":0},{"$f":"SUMIF('006各シート集約'!$I$7:$I$306,$W6,'006各シート集約'!G$7:G$306)","v":0},{"$f":"SUMIF('006各シート集約'!$I$7:$I$306,$W6,'006各シート集約'!J$7:J$306)","v":0},{"$f":"SUMIF('006各シート集約'!$I$7:$I$306,$W6,'006各シート集約'!K$7:K$306)","v":0},{"$f":"SUMIF('006各シート集約'!$I$7:$I$306,$W6,'006各シート集約'!L$7:L$306)","v":0},{"$f":"SUMIF('006各シート集約'!$I$7:$I$306,$W6,'006各シート集約'!M$7:M$306)","v":0},{"$f":"SUMIF('006各シート集約'!$I$7:$I$306,$W6,'006各シート集約'!N$7:N$306)","v":0},{"$f":"SUMIF('006各シート集約'!$I$7:$I$306,$W6,'006各シート集約'!O$7:O$306)","v":0},{"$f":"SUMIF('006各シート集約'!$I$7:$I$306,$W6,'006各シート集約'!P$7:P$306)","v":0},{"$f":"SUMIF('006各シート集約'!$I$7:$I$306,$W6,'006各シート集約'!Q$7:Q$306)","v":0},{"$f":"SUMIF('006各シート集約'!$I$7:$I$306,$W6,'006各シート集約'!R$7:R$306)","v":0},{"$f":"SUMIF('006各シート集約'!$I$7:$I$306,$W6,'006各シート集約'!S$7:S$306)","v":0},{"$f":"SUMIF('006各シート集約'!$I$7:$I$306,$W6,'006各シート集約'!T$7:T$306)","v":0},{"$f":"SUMIF('006各シート集約'!$I$7:$I$306,$W6,'006各シート集約'!U$7:U$306)","v":0},{"$f":"SUMIF('006各シート集約'!$I$7:$I$306,$W6,'006各シート集約'!V$7:V$306)","v":0},{"$f":"SUMIF('006各シート集約'!$I$7:$I$306,$W6,'006各シート集約'!W$7:W$306)","v":0},{"$f":"SUMIF('006各シート集約'!$I$7:$I$306,$W6,'006各シート集約'!X$7:X$306)","v":0}]
[4,"宮城県",null,"宮城県",{"$f":"SUMIF('006各シート集約'!$H$7:$H$306,$D7,'006各シート集約'!F$7:F$306)","v":0},{"$f":"SUMIF('006各シート集約'!$H$7:$H$306,$D7,'006各シート集約'!G$7:G$306)","v":0},{"$f":"SUMIF('006各シート集約'!$H$7:$H$306,$D7,'006各シート集約'!J$7:J$306)","v":0},{"$f":"SUMIF('006各シート集約'!$H$7:$H$306,$D7,'006各シート集約'!K$7:K$306)","v":0},{"$f":"SUMIF('006各シート集約'!$H$7:$H$306,$D7,'006各シート集約'!L$7:L$306)","v":0},{"$f":"SUMIF('006各シート集約'!$H$7:$H$306,$D7,'006各シート集約'!M$7:M$306)","v":0},{"$f":"SUMIF('006各シート集約'!$H$7:$H$306,$D7,'006各シート集約'!N$7:N$306)","v":0},{"$f":"SUMIF('006各シート集約'!$H$7:$H$306,$D7,'006各シート集約'!O$7:O$306)","v":0},{"$f":"SUMIF('006各シート集約'!$H$7:$H$306,$D7,'006各シート集約'!P$7:P$306)","v":0},{"$f":"SUMIF('006各シート集約'!$H$7:$H$306,$D7,'006各シート集約'!Q$7:Q$306)","v":0},{"$f":"SUMIF('006各シート集約'!$H$7:$H$306,$D7,'006各シート集約'!R$7:R$306)","v":0},{"$f":"SUMIF('006各シート集約'!$H$7:$H$306,$D7,'006各シート集約'!S$7:S$306)","v":0},{"$f":"SUMIF('006各シート集約'!$H$7:$H$306,$D7,'006各シート集約'!T$7:T$306)","v":0},{"$f":"SUMIF('006各シート集約'!$H$7:$H$306,$D7,'006各シート集約'!U$7:U$306)","v":0},{"$f":"SUMIF('006各シート集約'!$H$7:$H$306,$D7,'006各シート集約'!V$7:V$306)","v":0},{"$f":"SUMIF('006各シート集約'!$H$7:$H$306,$D7,'006各シート集約'!W$7:W$306)","v":0},{"$f":"SUMIF('006各シート集約'!$H$7:$H$306,$D7,'006各シート集約'!X$7:X$306)","v":0},null,"宮城県",{"$f":"SUMIF('006各シート集約'!$I$7:$I$306,$W7,'006各シート集約'!F$7:F$306)","v":0},{"$f":"SUMIF('006各シート集約'!$I$7:$I$306,$W7,'006各シート集約'!G$7:G$306)","v":0},{"$f":"SUMIF('006各シート集約'!$I$7:$I$306,$W7,'006各シート集約'!J$7:J$306)","v":0},{"$f":"SUMIF('006各シート集約'!$I$7:$I$306,$W7,'006各シート集約'!K$7:K$306)","v":0},{"$f":"SUMIF('006各シート集約'!$I$7:$I$306,$W7,'006各シート集約'!L$7:L$306)","v":0},{"$f":"SUMIF('006各シート集約'!$I$7:$I$306,$W7,'006各シート集約'!M$7:M$306)","v":0},{"$f":"SUMIF('006各シート集約'!$I$7:$I$306,$W7,'006各シート集約'!N$7:N$306)","v":0},{"$f":"SUMIF('006各シート集約'!$I$7:$I$306,$W7,'006各シート集約'!O$7:O$306)","v":0},{"$f":"SUMIF('006各シート集約'!$I$7:$I$306,$W7,'006各シート集約'!P$7:P$306)","v":0},{"$f":"SUMIF('006各シート集約'!$I$7:$I$306,$W7,'006各シート集約'!Q$7:Q$306)","v":0},{"$f":"SUMIF('006各シート集約'!$I$7:$I$306,$W7,'006各シート集約'!R$7:R$306)","v":0},{"$f":"SUMIF('006各シート集約'!$I$7:$I$306,$W7,'006各シート集約'!S$7:S$306)","v":0},{"$f":"SUMIF('006各シート集約'!$I$7:$I$306,$W7,'006各シート集約'!T$7:T$306)","v":0},{"$f":"SUMIF('006各シート集約'!$I$7:$I$306,$W7,'006各シート集約'!U$7:U$306)","v":0},{"$f":"SUMIF('006各シート集約'!$I$7:$I$306,$W7,'006各シート集約'!V$7:V$306)","v":0},{"$f":"SUMIF('006各シート集約'!$I$7:$I$306,$W7,'006各シート集約'!W$7:W$306)","v":0},{"$f":"SUMIF('006各シート集約'!$I$7:$I$306,$W7,'006各シート集約'!X$7:X$306)","v":0}]
[5,"秋田県",null,"秋田県",{"$f":"SUMIF('006各シート集約'!$H$7:$H$306,$D8,'006各シート集約'!F$7:F$306)","v":0},{"$f":"SUMIF('006各シート集約'!$H$7:$H$306,$D8,'006各シート集約'!G$7:G$306)","v":0},{"$f":"SUMIF('006各シート集約'!$H$7:$H$306,$D8,'006各シート集約'!J$7:J$306)","v":0},{"$f":"SUMIF('006各シート集約'!$H$7:$H$306,$D8,'006各シート集約'!K$7:K$306)","v":0},{"$f":"SUMIF('006各シート集約'!$H$7:$H$306,$D8,'006各シート集約'!L$7:L$306)","v":0},{"$f":"SUMIF('006各シート集約'!$H$7:$H$306,$D8,'006各シート集約'!M$7:M$306)","v":0},{"$f":"SUMIF('006各シート集約'!$H$7:$H$306,$D8,'006各シート集約'!N$7:N$306)","v":0},{"$f":"SUMIF('006各シート集約'!$H$7:$H$306,$D8,'006各シート集約'!O$7:O$306)","v":0},{"$f":"SUMIF('006各シート集約'!$H$7:$H$306,$D8,'006各シート集約'!P$7:P$306)","v":0},{"$f":"SUMIF('006各シート集約'!$H$7:$H$306,$D8,'006各シート集約'!Q$7:Q$306)","v":0},{"$f":"SUMIF('006各シート集約'!$H$7:$H$306,$D8,'006各シート集約'!R$7:R$306)","v":0},{"$f":"SUMIF('006各シート集約'!$H$7:$H$306,$D8,'006各シート集約'!S$7:S$306)","v":0},{"$f":"SUMIF('006各シート集約'!$H$7:$H$306,$D8,'006各シート集約'!T$7:T$306)","v":0},{"$f":"SUMIF('006各シート集約'!$H$7:$H$306,$D8,'006各シート集約'!U$7:U$306)","v":0},{"$f":"SUMIF('006各シート集約'!$H$7:$H$306,$D8,'006各シート集約'!V$7:V$306)","v":0},{"$f":"SUMIF('006各シート集約'!$H$7:$H$306,$D8,'006各シート集約'!W$7:W$306)","v":0},{"$f":"SUMIF('006各シート集約'!$H$7:$H$306,$D8,'006各シート集約'!X$7:X$306)","v":0},null,"秋田県",{"$f":"SUMIF('006各シート集約'!$I$7:$I$306,$W8,'006各シート集約'!F$7:F$306)","v":0},{"$f":"SUMIF('006各シート集約'!$I$7:$I$306,$W8,'006各シート集約'!G$7:G$306)","v":0},{"$f":"SUMIF('006各シート集約'!$I$7:$I$306,$W8,'006各シート集約'!J$7:J$306)","v":0},{"$f":"SUMIF('006各シート集約'!$I$7:$I$306,$W8,'006各シート集約'!K$7:K$306)","v":0},{"$f":"SUMIF('006各シート集約'!$I$7:$I$306,$W8,'006各シート集約'!L$7:L$306)","v":0},{"$f":"SUMIF('006各シート集約'!$I$7:$I$306,$W8,'006各シート集約'!M$7:M$306)","v":0},{"$f":"SUMIF('006各シート集約'!$I$7:$I$306,$W8,'006各シート集約'!N$7:N$306)","v":0},{"$f":"SUMIF('006各シート集約'!$I$7:$I$306,$W8,'006各シート集約'!O$7:O$306)","v":0},{"$f":"SUMIF('006各シート集約'!$I$7:$I$306,$W8,'006各シート集約'!P$7:P$306)","v":0},{"$f":"SUMIF('006各シート集約'!$I$7:$I$306,$W8,'006各シート集約'!Q$7:Q$306)","v":0},{"$f":"SUMIF('006各シート集約'!$I$7:$I$306,$W8,'006各シート集約'!R$7:R$306)","v":0},{"$f":"SUMIF('006各シート集約'!$I$7:$I$306,$W8,'006各シート集約'!S$7:S$306)","v":0},{"$f":"SUMIF('006各シート集約'!$I$7:$I$306,$W8,'006各シート集約'!T$7:T$306)","v":0},{"$f":"SUMIF('006各シート集約'!$I$7:$I$306,$W8,'006各シート集約'!U$7:U$306)","v":0},{"$f":"SUMIF('006各シート集約'!$I$7:$I$306,$W8,'006各シート集約'!V$7:V$306)","v":0},{"$f":"SUMIF('006各シート集約'!$I$7:$I$306,$W8,'006各シート集約'!W$7:W$306)","v":0},{"$f":"SUMIF('006各シート集約'!$I$7:$I$306,$W8,'006各シート集約'!X$7:X$306)","v":0}]
[6,"山形県",null,"山形県",{"$f":"SUMIF('006各シート集約'!$H$7:$H$306,$D9,'006各シート集約'!F$7:F$306)","v":0},{"$f":"SUMIF('006各シート集約'!$H$7:$H$306,$D9,'006各シート集約'!G$7:G$306)","v":0},{"$f":"SUMIF('006各シート集約'!$H$7:$H$306,$D9,'006各シート集約'!J$7:J$306)","v":0},{"$f":"SUMIF('006各シート集約'!$H$7:$H$306,$D9,'006各シート集約'!K$7:K$306)","v":0},{"$f":"SUMIF('006各シート集約'!$H$7:$H$306,$D9,'006各シート集約'!L$7:L$306)","v":0},{"$f":"SUMIF('006各シート集約'!$H$7:$H$306,$D9,'006各シート集約'!M$7:M$306)","v":0},{"$f":"SUMIF('006各シート集約'!$H$7:$H$306,$D9,'006各シート集約'!N$7:N$306)","v":0},{"$f":"SUMIF('006各シート集約'!$H$7:$H$306,$D9,'006各シート集約'!O$7:O$306)","v":0},{"$f":"SUMIF('006各シート集約'!$H$7:$H$306,$D9,'006各シート集約'!P$7:P$306)","v":0},{"$f":"SUMIF('006各シート集約'!$H$7:$H$306,$D9,'006各シート集約'!Q$7:Q$306)","v":0},{"$f":"SUMIF('006各シート集約'!$H$7:$H$306,$D9,'006各シート集約'!R$7:R$306)","v":0},{"$f":"SUMIF('006各シート集約'!$H$7:$H$306,$D9,'006各シート集約'!S$7:S$306)","v":0},{"$f":"SUMIF('006各シート集約'!$H$7:$H$306,$D9,'006各シート集約'!T$7:T$306)","v":0},{"$f":"SUMIF('006各シート集約'!$H$7:$H$306,$D9,'006各シート集約'!U$7:U$306)","v":0},{"$f":"SUMIF('006各シート集約'!$H$7:$H$306,$D9,'006各シート集約'!V$7:V$306)","v":0},{"$f":"SUMIF('006各シート集約'!$H$7:$H$306,$D9,'006各シート集約'!W$7:W$306)","v":0},{"$f":"SUMIF('006各シート集約'!$H$7:$H$306,$D9,'006各シート集約'!X$7:X$306)","v":0},null,"山形県",{"$f":"SUMIF('006各シート集約'!$I$7:$I$306,$W9,'006各シート集約'!F$7:F$306)","v":0},{"$f":"SUMIF('006各シート集約'!$I$7:$I$306,$W9,'006各シート集約'!G$7:G$306)","v":0},{"$f":"SUMIF('006各シート集約'!$I$7:$I$306,$W9,'006各シート集約'!J$7:J$306)","v":0},{"$f":"SUMIF('006各シート集約'!$I$7:$I$306,$W9,'006各シート集約'!K$7:K$306)","v":0},{"$f":"SUMIF('006各シート集約'!$I$7:$I$306,$W9,'006各シート集約'!L$7:L$306)","v":0},{"$f":"SUMIF('006各シート集約'!$I$7:$I$306,$W9,'006各シート集約'!M$7:M$306)","v":0},{"$f":"SUMIF('006各シート集約'!$I$7:$I$306,$W9,'006各シート集約'!N$7:N$306)","v":0},{"$f":"SUMIF('006各シート集約'!$I$7:$I$306,$W9,'006各シート集約'!O$7:O$306)","v":0},{"$f":"SUMIF('006各シート集約'!$I$7:$I$306,$W9,'006各シート集約'!P$7:P$306)","v":0},{"$f":"SUMIF('006各シート集約'!$I$7:$I$306,$W9,'006各シート集約'!Q$7:Q$306)","v":0},{"$f":"SUMIF('006各シート集約'!$I$7:$I$306,$W9,'006各シート集約'!R$7:R$306)","v":0},{"$f":"SUMIF('006各シート集約'!$I$7:$I$306,$W9,'006各シート集約'!S$7:S$306)","v":0},{"$f":"SUMIF('006各シート集約'!$I$7:$I$306,$W9,'006各シート集約'!T$7:T$306)","v":0},{"$f":"SUMIF('006各シート集約'!$I$7:$I$306,$W9,'006各シート集約'!U$7:U$306)","v":0},{"$f":"SUMIF('006各シート集約'!$I$7:$I$306,$W9,'006各シート集約'!V$7:V$306)","v":0},{"$f":"SUMIF('006各シート集約'!$I$7:$I$306,$W9,'006各シート集約'!W$7:W$306)","v":0},{"$f":"SUMIF('006各シート集約'!$I$7:$I$306,$W9,'006各シート集約'!X$7:X$306)","v":0}]
[7,"福島県",null,"福島県",{"$f":"SUMIF('006各シート集約'!$H$7:$H$306,$D10,'006各シート集約'!F$7:F$306)","v":0},{"$f":"SUMIF('006各シート集約'!$H$7:$H$306,$D10,'006各シート集約'!G$7:G$306)","v":0},{"$f":"SUMIF('006各シート集約'!$H$7:$H$306,$D10,'006各シート集約'!J$7:J$306)","v":0},{"$f":"SUMIF('006各シート集約'!$H$7:$H$306,$D10,'006各シート集約'!K$7:K$306)","v":0},{"$f":"SUMIF('006各シート集約'!$H$7:$H$306,$D10,'006各シート集約'!L$7:L$306)","v":0},{"$f":"SUMIF('006各シート集約'!$H$7:$H$306,$D10,'006各シート集約'!M$7:M$306)","v":0},{"$f":"SUMIF('006各シート集約'!$H$7:$H$306,$D10,'006各シート集約'!N$7:N$306)","v":0},{"$f":"SUMIF('006各シート集約'!$H$7:$H$306,$D10,'006各シート集約'!O$7:O$306)","v":0},{"$f":"SUMIF('006各シート集約'!$H$7:$H$306,$D10,'006各シート集約'!P$7:P$306)","v":0},{"$f":"SUMIF('006各シート集約'!$H$7:$H$306,$D10,'006各シート集約'!Q$7:Q$306)","v":0},{"$f":"SUMIF('006各シート集約'!$H$7:$H$306,$D10,'006各シート集約'!R$7:R$306)","v":0},{"$f":"SUMIF('006各シート集約'!$H$7:$H$306,$D10,'006各シート集約'!S$7:S$306)","v":0},{"$f":"SUMIF('006各シート集約'!$H$7:$H$306,$D10,'006各シート集約'!T$7:T$306)","v":0},{"$f":"SUMIF('006各シート集約'!$H$7:$H$306,$D10,'006各シート集約'!U$7:U$306)","v":0},{"$f":"SUMIF('006各シート集約'!$H$7:$H$306,$D10,'006各シート集約'!V$7:V$306)","v":0},{"$f":"SUMIF('006各シート集約'!$H$7:$H$306,$D10,'006各シート集約'!W$7:W$306)","v":0},{"$f":"SUMIF('006各シート集約'!$H$7:$H$306,$D10,'006各シート集約'!X$7:X$306)","v":0},null,"福島県",{"$f":"SUMIF('006各シート集約'!$I$7:$I$306,$W10,'006各シート集約'!F$7:F$306)","v":0},{"$f":"SUMIF('006各シート集約'!$I$7:$I$306,$W10,'006各シート集約'!G$7:G$306)","v":0},{"$f":"SUMIF('006各シート集約'!$I$7:$I$306,$W10,'006各シート集約'!J$7:J$306)","v":0},{"$f":"SUMIF('006各シート集約'!$I$7:$I$306,$W10,'006各シート集約'!K$7:K$306)","v":0},{"$f":"SUMIF('006各シート集約'!$I$7:$I$306,$W10,'006各シート集約'!L$7:L$306)","v":0},{"$f":"SUMIF('006各シート集約'!$I$7:$I$306,$W10,'006各シート集約'!M$7:M$306)","v":0},{"$f":"SUMIF('006各シート集約'!$I$7:$I$306,$W10,'006各シート集約'!N$7:N$306)","v":0},{"$f":"SUMIF('006各シート集約'!$I$7:$I$306,$W10,'006各シート集約'!O$7:O$306)","v":0},{"$f":"SUMIF('006各シート集約'!$I$7:$I$306,$W10,'006各シート集約'!P$7:P$306)","v":0},{"$f":"SUMIF('006各シート集約'!$I$7:$I$306,$W10,'006各シート集約'!Q$7:Q$306)","v":0},{"$f":"SUMIF('006各シート集約'!$I$7:$I$306,$W10,'006各シート集約'!R$7:R$306)","v":0},{"$f":"SUMIF('006各シート集約'!$I$7:$I$306,$W10,'006各シート集約'!S$7:S$306)","v":0},{"$f":"SUMIF('006各シート集約'!$I$7:$I$306,$W10,'006各シート集約'!T$7:T$306)","v":0},{"$f":"SUMIF('006各シート集約'!$I$7:$I$306,$W10,'006各シート集約'!U$7:U$306)","v":0},{"$f":"SUMIF('006各シート集約'!$I$7:$I$306,$W10,'006各シート集約'!V$7:V$306)","v":0},{"$f":"SUMIF('006各シート集約'!$I$7:$I$306,$W10,'006各シート集約'!W$7:W$306)","v":0},{"$f":"SUMIF('006各シート集約'!$I$7:$I$306,$W10,'006各シート集約'!X$7:X$306)","v":0}]
[8,"茨城県",null,"茨城県",{"$f":"SUMIF('006各シート集約'!$H$7:$H$306,$D11,'006各シート集約'!F$7:F$306)","v":0},{"$f":"SUMIF('006各シート集約'!$H$7:$H$306,$D11,'006各シート集約'!G$7:G$306)","v":0},{"$f":"SUMIF('006各シート集約'!$H$7:$H$306,$D11,'006各シート集約'!J$7:J$306)","v":0},{"$f":"SUMIF('006各シート集約'!$H$7:$H$306,$D11,'006各シート集約'!K$7:K$306)","v":0},{"$f":"SUMIF('006各シート集約'!$H$7:$H$306,$D11,'006各シート集約'!L$7:L$306)","v":0},{"$f":"SUMIF('006各シート集約'!$H$7:$H$306,$D11,'006各シート集約'!M$7:M$306)","v":0},{"$f":"SUMIF('006各シート集約'!$H$7:$H$306,$D11,'006各シート集約'!N$7:N$306)","v":0},{"$f":"SUMIF('006各シート集約'!$H$7:$H$306,$D11,'006各シート集約'!O$7:O$306)","v":0},{"$f":"SUMIF('006各シート集約'!$H$7:$H$306,$D11,'006各シート集約'!P$7:P$306)","v":0},{"$f":"SUMIF('006各シート集約'!$H$7:$H$306,$D11,'006各シート集約'!Q$7:Q$306)","v":0},{"$f":"SUMIF('006各シート集約'!$H$7:$H$306,$D11,'006各シート集約'!R$7:R$306)","v":0},{"$f":"SUMIF('006各シート集約'!$H$7:$H$306,$D11,'006各シート集約'!S$7:S$306)","v":0},{"$f":"SUMIF('006各シート集約'!$H$7:$H$306,$D11,'006各シート集約'!T$7:T$306)","v":0},{"$f":"SUMIF('006各シート集約'!$H$7:$H$306,$D11,'006各シート集約'!U$7:U$306)","v":0},{"$f":"SUMIF('006各シート集約'!$H$7:$H$306,$D11,'006各シート集約'!V$7:V$306)","v":0},{"$f":"SUMIF('006各シート集約'!$H$7:$H$306,$D11,'006各シート集約'!W$7:W$306)","v":0},{"$f":"SUMIF('006各シート集約'!$H$7:$H$306,$D11,'006各シート集約'!X$7:X$306)","v":0},null,"茨城県",{"$f":"SUMIF('006各シート集約'!$I$7:$I$306,$W11,'006各シート集約'!F$7:F$306)","v":0},{"$f":"SUMIF('006各シート集約'!$I$7:$I$306,$W11,'006各シート集約'!G$7:G$306)","v":0},{"$f":"SUMIF('006各シート集約'!$I$7:$I$306,$W11,'006各シート集約'!J$7:J$306)","v":0},{"$f":"SUMIF('006各シート集約'!$I$7:$I$306,$W11,'006各シート集約'!K$7:K$306)","v":0},{"$f":"SUMIF('006各シート集約'!$I$7:$I$306,$W11,'006各シート集約'!L$7:L$306)","v":0},{"$f":"SUMIF('006各シート集約'!$I$7:$I$306,$W11,'006各シート集約'!M$7:M$306)","v":0},{"$f":"SUMIF('006各シート集約'!$I$7:$I$306,$W11,'006各シート集約'!N$7:N$306)","v":0},{"$f":"SUMIF('006各シート集約'!$I$7:$I$306,$W11,'006各シート集約'!O$7:O$306)","v":0},{"$f":"SUMIF('006各シート集約'!$I$7:$I$306,$W11,'006各シート集約'!P$7:P$306)","v":0},{"$f":"SUMIF('006各シート集約'!$I$7:$I$306,$W11,'006各シート集約'!Q$7:Q$306)","v":0},{"$f":"SUMIF('006各シート集約'!$I$7:$I$306,$W11,'006各シート集約'!R$7:R$306)","v":0},{"$f":"SUMIF('006各シート集約'!$I$7:$I$306,$W11,'006各シート集約'!S$7:S$306)","v":0},{"$f":"SUMIF('006各シート集約'!$I$7:$I$306,$W11,'006各シート集約'!T$7:T$306)","v":0},{"$f":"SUMIF('006各シート集約'!$I$7:$I$306,$W11,'006各シート集約'!U$7:U$306)","v":0},{"$f":"SUMIF('006各シート集約'!$I$7:$I$306,$W11,'006各シート集約'!V$7:V$306)","v":0},{"$f":"SUMIF('006各シート集約'!$I$7:$I$306,$W11,'006各シート集約'!W$7:W$306)","v":0},{"$f":"SUMIF('006各シート集約'!$I$7:$I$306,$W11,'006各シート集約'!X$7:X$306)","v":0}]
[9,"栃木県",null,"栃木県",{"$f":"SUMIF('006各シート集約'!$H$7:$H$306,$D12,'006各シート集約'!F$7:F$306)","v":0},{"$f":"SUMIF('006各シート集約'!$H$7:$H$306,$D12,'006各シート集約'!G$7:G$306)","v":0},{"$f":"SUMIF('006各シート集約'!$H$7:$H$306,$D12,'006各シート集約'!J$7:J$306)","v":0},{"$f":"SUMIF('006各シート集約'!$H$7:$H$306,$D12,'006各シート集約'!K$7:K$306)","v":0},{"$f":"SUMIF('006各シート集約'!$H$7:$H$306,$D12,'006各シート集約'!L$7:L$306)","v":0},{"$f":"SUMIF('006各シート集約'!$H$7:$H$306,$D12,'006各シート集約'!M$7:M$306)","v":0},{"$f":"SUMIF('006各シート集約'!$H$7:$H$306,$D12,'006各シート集約'!N$7:N$306)","v":0},{"$f":"SUMIF('006各シート集約'!$H$7:$H$306,$D12,'006各シート集約'!O$7:O$306)","v":0},{"$f":"SUMIF('006各シート集約'!$H$7:$H$306,$D12,'006各シート集約'!P$7:P$306)","v":0},{"$f":"SUMIF('006各シート集約'!$H$7:$H$306,$D12,'006各シート集約'!Q$7:Q$306)","v":0},{"$f":"SUMIF('006各シート集約'!$H$7:$H$306,$D12,'006各シート集約'!R$7:R$306)","v":0},{"$f":"SUMIF('006各シート集約'!$H$7:$H$306,$D12,'006各シート集約'!S$7:S$306)","v":0},{"$f":"SUMIF('006各シート集約'!$H$7:$H$306,$D12,'006各シート集約'!T$7:T$306)","v":0},{"$f":"SUMIF('006各シート集約'!$H$7:$H$306,$D12,'006各シート集約'!U$7:U$306)","v":0},{"$f":"SUMIF('006各シート集約'!$H$7:$H$306,$D12,'006各シート集約'!V$7:V$306)","v":0},{"$f":"SUMIF('006各シート集約'!$H$7:$H$306,$D12,'006各シート集約'!W$7:W$306)","v":0},{"$f":"SUMIF('006各シート集約'!$H$7:$H$306,$D12,'006各シート集約'!X$7:X$306)","v":0},null,"栃木県",{"$f":"SUMIF('006各シート集約'!$I$7:$I$306,$W12,'006各シート集約'!F$7:F$306)","v":0},{"$f":"SUMIF('006各シート集約'!$I$7:$I$306,$W12,'006各シート集約'!G$7:G$306)","v":0},{"$f":"SUMIF('006各シート集約'!$I$7:$I$306,$W12,'006各シート集約'!J$7:J$306)","v":0},{"$f":"SUMIF('006各シート集約'!$I$7:$I$306,$W12,'006各シート集約'!K$7:K$306)","v":0},{"$f":"SUMIF('006各シート集約'!$I$7:$I$306,$W12,'006各シート集約'!L$7:L$306)","v":0},{"$f":"SUMIF('006各シート集約'!$I$7:$I$306,$W12,'006各シート集約'!M$7:M$306)","v":0},{"$f":"SUMIF('006各シート集約'!$I$7:$I$306,$W12,'006各シート集約'!N$7:N$306)","v":0},{"$f":"SUMIF('006各シート集約'!$I$7:$I$306,$W12,'006各シート集約'!O$7:O$306)","v":0},{"$f":"SUMIF('006各シート集約'!$I$7:$I$306,$W12,'006各シート集約'!P$7:P$306)","v":0},{"$f":"SUMIF('006各シート集約'!$I$7:$I$306,$W12,'006各シート集約'!Q$7:Q$306)","v":0},{"$f":"SUMIF('006各シート集約'!$I$7:$I$306,$W12,'006各シート集約'!R$7:R$306)","v":0},{"$f":"SUMIF('006各シート集約'!$I$7:$I$306,$W12,'006各シート集約'!S$7:S$306)","v":0},{"$f":"SUMIF('006各シート集約'!$I$7:$I$306,$W12,'006各シート集約'!T$7:T$306)","v":0},{"$f":"SUMIF('006各シート集約'!$I$7:$I$306,$W12,'006各シート集約'!U$7:U$306)","v":0},{"$f":"SUMIF('006各シート集約'!$I$7:$I$306,$W12,'006各シート集約'!V$7:V$306)","v":0},{"$f":"SUMIF('006各シート集約'!$I$7:$I$306,$W12,'006各シート集約'!W$7:W$306)","v":0},{"$f":"SUMIF('006各シート集約'!$I$7:$I$306,$W12,'006各シート集約'!X$7:X$306)","v":0}]
[10,"群馬県",null,"群馬県",{"$f":"SUMIF('006各シート集約'!$H$7:$H$306,$D13,'006各シート集約'!F$7:F$306)","v":0},{"$f":"SUMIF('006各シート集約'!$H$7:$H$306,$D13,'006各シート集約'!G$7:G$306)","v":0},{"$f":"SUMIF('006各シート集約'!$H$7:$H$306,$D13,'006各シート集約'!J$7:J$306)","v":0},{"$f":"SUMIF('006各シート集約'!$H$7:$H$306,$D13,'006各シート集約'!K$7:K$306)","v":0},{"$f":"SUMIF('006各シート集約'!$H$7:$H$306,$D13,'006各シート集約'!L$7:L$306)","v":0},{"$f":"SUMIF('006各シート集約'!$H$7:$H$306,$D13,'006各シート集約'!M$7:M$306)","v":0},{"$f":"SUMIF('006各シート集約'!$H$7:$H$306,$D13,'006各シート集約'!N$7:N$306)","v":0},{"$f":"SUMIF('006各シート集約'!$H$7:$H$306,$D13,'006各シート集約'!O$7:O$306)","v":0},{"$f":"SUMIF('006各シート集約'!$H$7:$H$306,$D13,'006各シート集約'!P$7:P$306)","v":0},{"$f":"SUMIF('006各シート集約'!$H$7:$H$306,$D13,'006各シート集約'!Q$7:Q$306)","v":0},{"$f":"SUMIF('006各シート集約'!$H$7:$H$306,$D13,'006各シート集約'!R$7:R$306)","v":0},{"$f":"SUMIF('006各シート集約'!$H$7:$H$306,$D13,'006各シート集約'!S$7:S$306)","v":0},{"$f":"SUMIF('006各シート集約'!$H$7:$H$306,$D13,'006各シート集約'!T$7:T$306)","v":0},{"$f":"SUMIF('006各シート集約'!$H$7:$H$306,$D13,'006各シート集約'!U$7:U$306)","v":0},{"$f":"SUMIF('006各シート集約'!$H$7:$H$306,$D13,'006各シート集約'!V$7:V$306)","v":0},{"$f":"SUMIF('006各シート集約'!$H$7:$H$306,$D13,'006各シート集約'!W$7:W$306)","v":0},{"$f":"SUMIF('006各シート集約'!$H$7:$H$306,$D13,'006各シート集約'!X$7:X$306)","v":0},null,"群馬県",{"$f":"SUMIF('006各シート集約'!$I$7:$I$306,$W13,'006各シート集約'!F$7:F$306)","v":0},{"$f":"SUMIF('006各シート集約'!$I$7:$I$306,$W13,'006各シート集約'!G$7:G$306)","v":0},{"$f":"SUMIF('006各シート集約'!$I$7:$I$306,$W13,'006各シート集約'!J$7:J$306)","v":0},{"$f":"SUMIF('006各シート集約'!$I$7:$I$306,$W13,'006各シート集約'!K$7:K$306)","v":0},{"$f":"SUMIF('006各シート集約'!$I$7:$I$306,$W13,'006各シート集約'!L$7:L$306)","v":0},{"$f":"SUMIF('006各シート集約'!$I$7:$I$306,$W13,'006各シート集約'!M$7:M$306)","v":0},{"$f":"SUMIF('006各シート集約'!$I$7:$I$306,$W13,'006各シート集約'!N$7:N$306)","v":0},{"$f":"SUMIF('006各シート集約'!$I$7:$I$306,$W13,'006各シート集約'!O$7:O$306)","v":0},{"$f":"SUMIF('006各シート集約'!$I$7:$I$306,$W13,'006各シート集約'!P$7:P$306)","v":0},{"$f":"SUMIF('006各シート集約'!$I$7:$I$306,$W13,'006各シート集約'!Q$7:Q$306)","v":0},{"$f":"SUMIF('006各シート集約'!$I$7:$I$306,$W13,'006各シート集約'!R$7:R$306)","v":0},{"$f":"SUMIF('006各シート集約'!$I$7:$I$306,$W13,'006各シート集約'!S$7:S$306)","v":0},{"$f":"SUMIF('006各シート集約'!$I$7:$I$306,$W13,'006各シート集約'!T$7:T$306)","v":0},{"$f":"SUMIF('006各シート集約'!$I$7:$I$306,$W13,'006各シート集約'!U$7:U$306)","v":0},{"$f":"SUMIF('006各シート集約'!$I$7:$I$306,$W13,'006各シート集約'!V$7:V$306)","v":0},{"$f":"SUMIF('006各シート集約'!$I$7:$I$306,$W13,'006各シート集約'!W$7:W$306)","v":0},{"$f":"SUMIF('006各シート集約'!$I$7:$I$306,$W13,'006各シート集約'!X$7:X$306)","v":0}]
[11,"埼玉県",null,"埼玉県",{"$f":"SUMIF('006各シート集約'!$H$7:$H$306,$D14,'006各シート集約'!F$7:F$306)","v":0},{"$f":"SUMIF('006各シート集約'!$H$7:$H$306,$D14,'006各シート集約'!G$7:G$306)","v":0},{"$f":"SUMIF('006各シート集約'!$H$7:$H$306,$D14,'006各シート集約'!J$7:J$306)","v":0},{"$f":"SUMIF('006各シート集約'!$H$7:$H$306,$D14,'006各シート集約'!K$7:K$306)","v":0},{"$f":"SUMIF('006各シート集約'!$H$7:$H$306,$D14,'006各シート集約'!L$7:L$306)","v":0},{"$f":"SUMIF('006各シート集約'!$H$7:$H$306,$D14,'006各シート集約'!M$7:M$306)","v":0},{"$f":"SUMIF('006各シート集約'!$H$7:$H$306,$D14,'006各シート集約'!N$7:N$306)","v":0},{"$f":"SUMIF('006各シート集約'!$H$7:$H$306,$D14,'006各シート集約'!O$7:O$306)","v":0},{"$f":"SUMIF('006各シート集約'!$H$7:$H$306,$D14,'006各シート集約'!P$7:P$306)","v":0},{"$f":"SUMIF('006各シート集約'!$H$7:$H$306,$D14,'006各シート集約'!Q$7:Q$306)","v":0},{"$f":"SUMIF('006各シート集約'!$H$7:$H$306,$D14,'006各シート集約'!R$7:R$306)","v":0},{"$f":"SUMIF('006各シート集約'!$H$7:$H$306,$D14,'006各シート集約'!S$7:S$306)","v":0},{"$f":"SUMIF('006各シート集約'!$H$7:$H$306,$D14,'006各シート集約'!T$7:T$306)","v":0},{"$f":"SUMIF('006各シート集約'!$H$7:$H$306,$D14,'006各シート集約'!U$7:U$306)","v":0},{"$f":"SUMIF('006各シート集約'!$H$7:$H$306,$D14,'006各シート集約'!V$7:V$306)","v":0},{"$f":"SUMIF('006各シート集約'!$H$7:$H$306,$D14,'006各シート集約'!W$7:W$306)","v":0},{"$f":"SUMIF('006各シート集約'!$H$7:$H$306,$D14,'006各シート集約'!X$7:X$306)","v":0},null,"埼玉県",{"$f":"SUMIF('006各シート集約'!$I$7:$I$306,$W14,'006各シート集約'!F$7:F$306)","v":0},{"$f":"SUMIF('006各シート集約'!$I$7:$I$306,$W14,'006各シート集約'!G$7:G$306)","v":0},{"$f":"SUMIF('006各シート集約'!$I$7:$I$306,$W14,'006各シート集約'!J$7:J$306)","v":0},{"$f":"SUMIF('006各シート集約'!$I$7:$I$306,$W14,'006各シート集約'!K$7:K$306)","v":0},{"$f":"SUMIF('006各シート集約'!$I$7:$I$306,$W14,'006各シート集約'!L$7:L$306)","v":0},{"$f":"SUMIF('006各シート集約'!$I$7:$I$306,$W14,'006各シート集約'!M$7:M$306)","v":0},{"$f":"SUMIF('006各シート集約'!$I$7:$I$306,$W14,'006各シート集約'!N$7:N$306)","v":0},{"$f":"SUMIF('006各シート集約'!$I$7:$I$306,$W14,'006各シート集約'!O$7:O$306)","v":0},{"$f":"SUMIF('006各シート集約'!$I$7:$I$306,$W14,'006各シート集約'!P$7:P$306)","v":0},{"$f":"SUMIF('006各シート集約'!$I$7:$I$306,$W14,'006各シート集約'!Q$7:Q$306)","v":0},{"$f":"SUMIF('006各シート集約'!$I$7:$I$306,$W14,'006各シート集約'!R$7:R$306)","v":0},{"$f":"SUMIF('006各シート集約'!$I$7:$I$306,$W14,'006各シート集約'!S$7:S$306)","v":0},{"$f":"SUMIF('006各シート集約'!$I$7:$I$306,$W14,'006各シート集約'!T$7:T$306)","v":0},{"$f":"SUMIF('006各シート集約'!$I$7:$I$306,$W14,'006各シート集約'!U$7:U$306)","v":0},{"$f":"SUMIF('006各シート集約'!$I$7:$I$306,$W14,'006各シート集約'!V$7:V$306)","v":0},{"$f":"SUMIF('006各シート集約'!$I$7:$I$306,$W14,'006各シート集約'!W$7:W$306)","v":0},{"$f":"SUMIF('006各シート集約'!$I$7:$I$306,$W14,'006各シート集約'!X$7:X$306)","v":0}]
[12,"千葉県",null,"千葉県",{"$f":"SUMIF('006各シート集約'!$H$7:$H$306,$D15,'006各シート集約'!F$7:F$306)","v":0},{"$f":"SUMIF('006各シート集約'!$H$7:$H$306,$D15,'006各シート集約'!G$7:G$306)","v":0},{"$f":"SUMIF('006各シート集約'!$H$7:$H$306,$D15,'006各シート集約'!J$7:J$306)","v":0},{"$f":"SUMIF('006各シート集約'!$H$7:$H$306,$D15,'006各シート集約'!K$7:K$306)","v":0},{"$f":"SUMIF('006各シート集約'!$H$7:$H$306,$D15,'006各シート集約'!L$7:L$306)","v":0},{"$f":"SUMIF('006各シート集約'!$H$7:$H$306,$D15,'006各シート集約'!M$7:M$306)","v":0},{"$f":"SUMIF('006各シート集約'!$H$7:$H$306,$D15,'006各シート集約'!N$7:N$306)","v":0},{"$f":"SUMIF('006各シート集約'!$H$7:$H$306,$D15,'006各シート集約'!O$7:O$306)","v":0},{"$f":"SUMIF('006各シート集約'!$H$7:$H$306,$D15,'006各シート集約'!P$7:P$306)","v":0},{"$f":"SUMIF('006各シート集約'!$H$7:$H$306,$D15,'006各シート集約'!Q$7:Q$306)","v":0},{"$f":"SUMIF('006各シート集約'!$H$7:$H$306,$D15,'006各シート集約'!R$7:R$306)","v":0},{"$f":"SUMIF('006各シート集約'!$H$7:$H$306,$D15,'006各シート集約'!S$7:S$306)","v":0},{"$f":"SUMIF('006各シート集約'!$H$7:$H$306,$D15,'006各シート集約'!T$7:T$306)","v":0},{"$f":"SUMIF('006各シート集約'!$H$7:$H$306,$D15,'006各シート集約'!U$7:U$306)","v":0},{"$f":"SUMIF('006各シート集約'!$H$7:$H$306,$D15,'006各シート集約'!V$7:V$306)","v":0},{"$f":"SUMIF('006各シート集約'!$H$7:$H$306,$D15,'006各シート集約'!W$7:W$306)","v":0},{"$f":"SUMIF('006各シート集約'!$H$7:$H$306,$D15,'006各シート集約'!X$7:X$306)","v":0},null,"千葉県",{"$f":"SUMIF('006各シート集約'!$I$7:$I$306,$W15,'006各シート集約'!F$7:F$306)","v":0},{"$f":"SUMIF('006各シート集約'!$I$7:$I$306,$W15,'006各シート集約'!G$7:G$306)","v":0},{"$f":"SUMIF('006各シート集約'!$I$7:$I$306,$W15,'006各シート集約'!J$7:J$306)","v":0},{"$f":"SUMIF('006各シート集約'!$I$7:$I$306,$W15,'006各シート集約'!K$7:K$306)","v":0},{"$f":"SUMIF('006各シート集約'!$I$7:$I$306,$W15,'006各シート集約'!L$7:L$306)","v":0},{"$f":"SUMIF('006各シート集約'!$I$7:$I$306,$W15,'006各シート集約'!M$7:M$306)","v":0},{"$f":"SUMIF('006各シート集約'!$I$7:$I$306,$W15,'006各シート集約'!N$7:N$306)","v":0},{"$f":"SUMIF('006各シート集約'!$I$7:$I$306,$W15,'006各シート集約'!O$7:O$306)","v":0},{"$f":"SUMIF('006各シート集約'!$I$7:$I$306,$W15,'006各シート集約'!P$7:P$306)","v":0},{"$f":"SUMIF('006各シート集約'!$I$7:$I$306,$W15,'006各シート集約'!Q$7:Q$306)","v":0},{"$f":"SUMIF('006各シート集約'!$I$7:$I$306,$W15,'006各シート集約'!R$7:R$306)","v":0},{"$f":"SUMIF('006各シート集約'!$I$7:$I$306,$W15,'006各シート集約'!S$7:S$306)","v":0},{"$f":"SUMIF('006各シート集約'!$I$7:$I$306,$W15,'006各シート集約'!T$7:T$306)","v":0},{"$f":"SUMIF('006各シート集約'!$I$7:$I$306,$W15,'006各シート集約'!U$7:U$306)","v":0},{"$f":"SUMIF('006各シート集約'!$I$7:$I$306,$W15,'006各シート集約'!V$7:V$306)","v":0},{"$f":"SUMIF('006各シート集約'!$I$7:$I$306,$W15,'006各シート集約'!W$7:W$306)","v":0},{"$f":"SUMIF('006各シート集約'!$I$7:$I$306,$W15,'006各シート集約'!X$7:X$306)","v":0}]
[13,"東京都",null,"東京都",{"$f":"SUMIF('006各シート集約'!$H$7:$H$306,$D16,'006各シート集約'!F$7:F$306)","v":0},{"$f":"SUMIF('006各シート集約'!$H$7:$H$306,$D16,'006各シート集約'!G$7:G$306)","v":0},{"$f":"SUMIF('006各シート集約'!$H$7:$H$306,$D16,'006各シート集約'!J$7:J$306)","v":0},{"$f":"SUMIF('006各シート集約'!$H$7:$H$306,$D16,'006各シート集約'!K$7:K$306)","v":0},{"$f":"SUMIF('006各シート集約'!$H$7:$H$306,$D16,'006各シート集約'!L$7:L$306)","v":0},{"$f":"SUMIF('006各シート集約'!$H$7:$H$306,$D16,'006各シート集約'!M$7:M$306)","v":0},{"$f":"SUMIF('006各シート集約'!$H$7:$H$306,$D16,'006各シート集約'!N$7:N$306)","v":0},{"$f":"SUMIF('006各シート集約'!$H$7:$H$306,$D16,'006各シート集約'!O$7:O$306)","v":0},{"$f":"SUMIF('006各シート集約'!$H$7:$H$306,$D16,'006各シート集約'!P$7:P$306)","v":0},{"$f":"SUMIF('006各シート集約'!$H$7:$H$306,$D16,'006各シート集約'!Q$7:Q$306)","v":0},{"$f":"SUMIF('006各シート集約'!$H$7:$H$306,$D16,'006各シート集約'!R$7:R$306)","v":0},{"$f":"SUMIF('006各シート集約'!$H$7:$H$306,$D16,'006各シート集約'!S$7:S$306)","v":0},{"$f":"SUMIF('006各シート集約'!$H$7:$H$306,$D16,'006各シート集約'!T$7:T$306)","v":0},{"$f":"SUMIF('006各シート集約'!$H$7:$H$306,$D16,'006各シート集約'!U$7:U$306)","v":0},{"$f":"SUMIF('006各シート集約'!$H$7:$H$306,$D16,'006各シート集約'!V$7:V$306)","v":0},{"$f":"SUMIF('006各シート集約'!$H$7:$H$306,$D16,'006各シート集約'!W$7:W$306)","v":0},{"$f":"SUMIF('006各シート集約'!$H$7:$H$306,$D16,'006各シート集約'!X$7:X$306)","v":0},null,"東京都",{"$f":"SUMIF('006各シート集約'!$I$7:$I$306,$W16,'006各シート集約'!F$7:F$306)","v":0},{"$f":"SUMIF('006各シート集約'!$I$7:$I$306,$W16,'006各シート集約'!G$7:G$306)","v":0},{"$f":"SUMIF('006各シート集約'!$I$7:$I$306,$W16,'006各シート集約'!J$7:J$306)","v":0},{"$f":"SUMIF('006各シート集約'!$I$7:$I$306,$W16,'006各シート集約'!K$7:K$306)","v":0},{"$f":"SUMIF('006各シート集約'!$I$7:$I$306,$W16,'006各シート集約'!L$7:L$306)","v":0},{"$f":"SUMIF('006各シート集約'!$I$7:$I$306,$W16,'006各シート集約'!M$7:M$306)","v":0},{"$f":"SUMIF('006各シート集約'!$I$7:$I$306,$W16,'006各シート集約'!N$7:N$306)","v":0},{"$f":"SUMIF('006各シート集約'!$I$7:$I$306,$W16,'006各シート集約'!O$7:O$306)","v":0},{"$f":"SUMIF('006各シート集約'!$I$7:$I$306,$W16,'006各シート集約'!P$7:P$306)","v":0},{"$f":"SUMIF('006各シート集約'!$I$7:$I$306,$W16,'006各シート集約'!Q$7:Q$306)","v":0},{"$f":"SUMIF('006各シート集約'!$I$7:$I$306,$W16,'006各シート集約'!R$7:R$306)","v":0},{"$f":"SUMIF('006各シート集約'!$I$7:$I$306,$W16,'006各シート集約'!S$7:S$306)","v":0},{"$f":"SUMIF('006各シート集約'!$I$7:$I$306,$W16,'006各シート集約'!T$7:T$306)","v":0},{"$f":"SUMIF('006各シート集約'!$I$7:$I$306,$W16,'006各シート集約'!U$7:U$306)","v":0},{"$f":"SUMIF('006各シート集約'!$I$7:$I$306,$W16,'006各シート集約'!V$7:V$306)","v":0},{"$f":"SUMIF('006各シート集約'!$I$7:$I$306,$W16,'006各シート集約'!W$7:W$306)","v":0},{"$f":"SUMIF('006各シート集約'!$I$7:$I$306,$W16,'006各シート集約'!X$7:X$306)","v":0}]
[14,"神奈川県",null,"神奈川県",{"$f":"SUMIF('006各シート集約'!$H$7:$H$306,$D17,'006各シート集約'!F$7:F$306)","v":0},{"$f":"SUMIF('006各シート集約'!$H$7:$H$306,$D17,'006各シート集約'!G$7:G$306)","v":0},{"$f":"SUMIF('006各シート集約'!$H$7:$H$306,$D17,'006各シート集約'!J$7:J$306)","v":0},{"$f":"SUMIF('006各シート集約'!$H$7:$H$306,$D17,'006各シート集約'!K$7:K$306)","v":0},{"$f":"SUMIF('006各シート集約'!$H$7:$H$306,$D17,'006各シート集約'!L$7:L$306)","v":0},{"$f":"SUMIF('006各シート集約'!$H$7:$H$306,$D17,'006各シート集約'!M$7:M$306)","v":0},{"$f":"SUMIF('006各シート集約'!$H$7:$H$306,$D17,'006各シート集約'!N$7:N$306)","v":0},{"$f":"SUMIF('006各シート集約'!$H$7:$H$306,$D17,'006各シート集約'!O$7:O$306)","v":0},{"$f":"SUMIF('006各シート集約'!$H$7:$H$306,$D17,'006各シート集約'!P$7:P$306)","v":0},{"$f":"SUMIF('006各シート集約'!$H$7:$H$306,$D17,'006各シート集約'!Q$7:Q$306)","v":0},{"$f":"SUMIF('006各シート集約'!$H$7:$H$306,$D17,'006各シート集約'!R$7:R$306)","v":0},{"$f":"SUMIF('006各シート集約'!$H$7:$H$306,$D17,'006各シート集約'!S$7:S$306)","v":0},{"$f":"SUMIF('006各シート集約'!$H$7:$H$306,$D17,'006各シート集約'!T$7:T$306)","v":0},{"$f":"SUMIF('006各シート集約'!$H$7:$H$306,$D17,'006各シート集約'!U$7:U$306)","v":0},{"$f":"SUMIF('006各シート集約'!$H$7:$H$306,$D17,'006各シート集約'!V$7:V$306)","v":0},{"$f":"SUMIF('006各シート集約'!$H$7:$H$306,$D17,'006各シート集約'!W$7:W$306)","v":0},{"$f":"SUMIF('006各シート集約'!$H$7:$H$306,$D17,'006各シート集約'!X$7:X$306)","v":0},null,"神奈川県",{"$f":"SUMIF('006各シート集約'!$I$7:$I$306,$W17,'006各シート集約'!F$7:F$306)","v":0},{"$f":"SUMIF('006各シート集約'!$I$7:$I$306,$W17,'006各シート集約'!G$7:G$306)","v":0},{"$f":"SUMIF('006各シート集約'!$I$7:$I$306,$W17,'006各シート集約'!J$7:J$306)","v":0},{"$f":"SUMIF('006各シート集約'!$I$7:$I$306,$W17,'006各シート集約'!K$7:K$306)","v":0},{"$f":"SUMIF('006各シート集約'!$I$7:$I$306,$W17,'006各シート集約'!L$7:L$306)","v":0},{"$f":"SUMIF('006各シート集約'!$I$7:$I$306,$W17,'006各シート集約'!M$7:M$306)","v":0},{"$f":"SUMIF('006各シート集約'!$I$7:$I$306,$W17,'006各シート集約'!N$7:N$306)","v":0},{"$f":"SUMIF('006各シート集約'!$I$7:$I$306,$W17,'006各シート集約'!O$7:O$306)","v":0},{"$f":"SUMIF('006各シート集約'!$I$7:$I$306,$W17,'006各シート集約'!P$7:P$306)","v":0},{"$f":"SUMIF('006各シート集約'!$I$7:$I$306,$W17,'006各シート集約'!Q$7:Q$306)","v":0},{"$f":"SUMIF('006各シート集約'!$I$7:$I$306,$W17,'006各シート集約'!R$7:R$306)","v":0},{"$f":"SUMIF('006各シート集約'!$I$7:$I$306,$W17,'006各シート集約'!S$7:S$306)","v":0},{"$f":"SUMIF('006各シート集約'!$I$7:$I$306,$W17,'006各シート集約'!T$7:T$306)","v":0},{"$f":"SUMIF('006各シート集約'!$I$7:$I$306,$W17,'006各シート集約'!U$7:U$306)","v":0},{"$f":"SUMIF('006各シート集約'!$I$7:$I$306,$W17,'006各シート集約'!V$7:V$306)","v":0},{"$f":"SUMIF('006各シート集約'!$I$7:$I$306,$W17,'006各シート集約'!W$7:W$306)","v":0},{"$f":"SUMIF('006各シート集約'!$I$7:$I$306,$W17,'006各シート集約'!X$7:X$306)","v":0}]
[15,"新潟県",null,"新潟県",{"$f":"SUMIF('006各シート集約'!$H$7:$H$306,$D18,'006各シート集約'!F$7:F$306)","v":0},{"$f":"SUMIF('006各シート集約'!$H$7:$H$306,$D18,'006各シート集約'!G$7:G$306)","v":0},{"$f":"SUMIF('006各シート集約'!$H$7:$H$306,$D18,'006各シート集約'!J$7:J$306)","v":0},{"$f":"SUMIF('006各シート集約'!$H$7:$H$306,$D18,'006各シート集約'!K$7:K$306)","v":0},{"$f":"SUMIF('006各シート集約'!$H$7:$H$306,$D18,'006各シート集約'!L$7:L$306)","v":0},{"$f":"SUMIF('006各シート集約'!$H$7:$H$306,$D18,'006各シート集約'!M$7:M$306)","v":0},{"$f":"SUMIF('006各シート集約'!$H$7:$H$306,$D18,'006各シート集約'!N$7:N$306)","v":0},{"$f":"SUMIF('006各シート集約'!$H$7:$H$306,$D18,'006各シート集約'!O$7:O$306)","v":0},{"$f":"SUMIF('006各シート集約'!$H$7:$H$306,$D18,'006各シート集約'!P$7:P$306)","v":0},{"$f":"SUMIF('006各シート集約'!$H$7:$H$306,$D18,'006各シート集約'!Q$7:Q$306)","v":0},{"$f":"SUMIF('006各シート集約'!$H$7:$H$306,$D18,'006各シート集約'!R$7:R$306)","v":0},{"$f":"SUMIF('006各シート集約'!$H$7:$H$306,$D18,'006各シート集約'!S$7:S$306)","v":0},{"$f":"SUMIF('006各シート集約'!$H$7:$H$306,$D18,'006各シート集約'!T$7:T$306)","v":0},{"$f":"SUMIF('006各シート集約'!$H$7:$H$306,$D18,'006各シート集約'!U$7:U$306)","v":0},{"$f":"SUMIF('006各シート集約'!$H$7:$H$306,$D18,'006各シート集約'!V$7:V$306)","v":0},{"$f":"SUMIF('006各シート集約'!$H$7:$H$306,$D18,'006各シート集約'!W$7:W$306)","v":0},{"$f":"SUMIF('006各シート集約'!$H$7:$H$306,$D18,'006各シート集約'!X$7:X$306)","v":0},null,"新潟県",{"$f":"SUMIF('006各シート集約'!$I$7:$I$306,$W18,'006各シート集約'!F$7:F$306)","v":0},{"$f":"SUMIF('006各シート集約'!$I$7:$I$306,$W18,'006各シート集約'!G$7:G$306)","v":0},{"$f":"SUMIF('006各シート集約'!$I$7:$I$306,$W18,'006各シート集約'!J$7:J$306)","v":0},{"$f":"SUMIF('006各シート集約'!$I$7:$I$306,$W18,'006各シート集約'!K$7:K$306)","v":0},{"$f":"SUMIF('006各シート集約'!$I$7:$I$306,$W18,'006各シート集約'!L$7:L$306)","v":0},{"$f":"SUMIF('006各シート集約'!$I$7:$I$306,$W18,'006各シート集約'!M$7:M$306)","v":0},{"$f":"SUMIF('006各シート集約'!$I$7:$I$306,$W18,'006各シート集約'!N$7:N$306)","v":0},{"$f":"SUMIF('006各シート集約'!$I$7:$I$306,$W18,'006各シート集約'!O$7:O$306)","v":0},{"$f":"SUMIF('006各シート集約'!$I$7:$I$306,$W18,'006各シート集約'!P$7:P$306)","v":0},{"$f":"SUMIF('006各シート集約'!$I$7:$I$306,$W18,'006各シート集約'!Q$7:Q$306)","v":0},{"$f":"SUMIF('006各シート集約'!$I$7:$I$306,$W18,'006各シート集約'!R$7:R$306)","v":0},{"$f":"SUMIF('006各シート集約'!$I$7:$I$306,$W18,'006各シート集約'!S$7:S$306)","v":0},{"$f":"SUMIF('006各シート集約'!$I$7:$I$306,$W18,'006各シート集約'!T$7:T$306)","v":0},{"$f":"SUMIF('006各シート集約'!$I$7:$I$306,$W18,'006各シート集約'!U$7:U$306)","v":0},{"$f":"SUMIF('006各シート集約'!$I$7:$I$306,$W18,'006各シート集約'!V$7:V$306)","v":0},{"$f":"SUMIF('006各シート集約'!$I$7:$I$306,$W18,'006各シート集約'!W$7:W$306)","v":0},{"$f":"SUMIF('006各シート集約'!$I$7:$I$306,$W18,'006各シート集約'!X$7:X$306)","v":0}]
[16,"富山県",null,"富山県",{"$f":"SUMIF('006各シート集約'!$H$7:$H$306,$D19,'006各シート集約'!F$7:F$306)","v":0},{"$f":"SUMIF('006各シート集約'!$H$7:$H$306,$D19,'006各シート集約'!G$7:G$306)","v":0},{"$f":"SUMIF('006各シート集約'!$H$7:$H$306,$D19,'006各シート集約'!J$7:J$306)","v":0},{"$f":"SUMIF('006各シート集約'!$H$7:$H$306,$D19,'006各シート集約'!K$7:K$306)","v":0},{"$f":"SUMIF('006各シート集約'!$H$7:$H$306,$D19,'006各シート集約'!L$7:L$306)","v":0},{"$f":"SUMIF('006各シート集約'!$H$7:$H$306,$D19,'006各シート集約'!M$7:M$306)","v":0},{"$f":"SUMIF('006各シート集約'!$H$7:$H$306,$D19,'006各シート集約'!N$7:N$306)","v":0},{"$f":"SUMIF('006各シート集約'!$H$7:$H$306,$D19,'006各シート集約'!O$7:O$306)","v":0},{"$f":"SUMIF('006各シート集約'!$H$7:$H$306,$D19,'006各シート集約'!P$7:P$306)","v":0},{"$f":"SUMIF('006各シート集約'!$H$7:$H$306,$D19,'006各シート集約'!Q$7:Q$306)","v":0},{"$f":"SUMIF('006各シート集約'!$H$7:$H$306,$D19,'006各シート集約'!R$7:R$306)","v":0},{"$f":"SUMIF('006各シート集約'!$H$7:$H$306,$D19,'006各シート集約'!S$7:S$306)","v":0},{"$f":"SUMIF('006各シート集約'!$H$7:$H$306,$D19,'006各シート集約'!T$7:T$306)","v":0},{"$f":"SUMIF('006各シート集約'!$H$7:$H$306,$D19,'006各シート集約'!U$7:U$306)","v":0},{"$f":"SUMIF('006各シート集約'!$H$7:$H$306,$D19,'006各シート集約'!V$7:V$306)","v":0},{"$f":"SUMIF('006各シート集約'!$H$7:$H$306,$D19,'006各シート集約'!W$7:W$306)","v":0},{"$f":"SUMIF('006各シート集約'!$H$7:$H$306,$D19,'006各シート集約'!X$7:X$306)","v":0},null,"富山県",{"$f":"SUMIF('006各シート集約'!$I$7:$I$306,$W19,'006各シート集約'!F$7:F$306)","v":0},{"$f":"SUMIF('006各シート集約'!$I$7:$I$306,$W19,'006各シート集約'!G$7:G$306)","v":0},{"$f":"SUMIF('006各シート集約'!$I$7:$I$306,$W19,'006各シート集約'!J$7:J$306)","v":0},{"$f":"SUMIF('006各シート集約'!$I$7:$I$306,$W19,'006各シート集約'!K$7:K$306)","v":0},{"$f":"SUMIF('006各シート集約'!$I$7:$I$306,$W19,'006各シート集約'!L$7:L$306)","v":0},{"$f":"SUMIF('006各シート集約'!$I$7:$I$306,$W19,'006各シート集約'!M$7:M$306)","v":0},{"$f":"SUMIF('006各シート集約'!$I$7:$I$306,$W19,'006各シート集約'!N$7:N$306)","v":0},{"$f":"SUMIF('006各シート集約'!$I$7:$I$306,$W19,'006各シート集約'!O$7:O$306)","v":0},{"$f":"SUMIF('006各シート集約'!$I$7:$I$306,$W19,'006各シート集約'!P$7:P$306)","v":0},{"$f":"SUMIF('006各シート集約'!$I$7:$I$306,$W19,'006各シート集約'!Q$7:Q$306)","v":0},{"$f":"SUMIF('006各シート集約'!$I$7:$I$306,$W19,'006各シート集約'!R$7:R$306)","v":0},{"$f":"SUMIF('006各シート集約'!$I$7:$I$306,$W19,'006各シート集約'!S$7:S$306)","v":0},{"$f":"SUMIF('006各シート集約'!$I$7:$I$306,$W19,'006各シート集約'!T$7:T$306)","v":0},{"$f":"SUMIF('006各シート集約'!$I$7:$I$306,$W19,'006各シート集約'!U$7:U$306)","v":0},{"$f":"SUMIF('006各シート集約'!$I$7:$I$306,$W19,'006各シート集約'!V$7:V$306)","v":0},{"$f":"SUMIF('006各シート集約'!$I$7:$I$306,$W19,'006各シート集約'!W$7:W$306)","v":0},{"$f":"SUMIF('006各シート集約'!$I$7:$I$306,$W19,'006各シート集約'!X$7:X$306)","v":0}]
[17,"石川県",null,"石川県",{"$f":"SUMIF('006各シート集約'!$H$7:$H$306,$D20,'006各シート集約'!F$7:F$306)","v":0},{"$f":"SUMIF('006各シート集約'!$H$7:$H$306,$D20,'006各シート集約'!G$7:G$306)","v":0},{"$f":"SUMIF('006各シート集約'!$H$7:$H$306,$D20,'006各シート集約'!J$7:J$306)","v":0},{"$f":"SUMIF('006各シート集約'!$H$7:$H$306,$D20,'006各シート集約'!K$7:K$306)","v":0},{"$f":"SUMIF('006各シート集約'!$H$7:$H$306,$D20,'006各シート集約'!L$7:L$306)","v":0},{"$f":"SUMIF('006各シート集約'!$H$7:$H$306,$D20,'006各シート集約'!M$7:M$306)","v":0},{"$f":"SUMIF('006各シート集約'!$H$7:$H$306,$D20,'006各シート集約'!N$7:N$306)","v":0},{"$f":"SUMIF('006各シート集約'!$H$7:$H$306,$D20,'006各シート集約'!O$7:O$306)","v":0},{"$f":"SUMIF('006各シート集約'!$H$7:$H$306,$D20,'006各シート集約'!P$7:P$306)","v":0},{"$f":"SUMIF('006各シート集約'!$H$7:$H$306,$D20,'006各シート集約'!Q$7:Q$306)","v":0},{"$f":"SUMIF('006各シート集約'!$H$7:$H$306,$D20,'006各シート集約'!R$7:R$306)","v":0},{"$f":"SUMIF('006各シート集約'!$H$7:$H$306,$D20,'006各シート集約'!S$7:S$306)","v":0},{"$f":"SUMIF('006各シート集約'!$H$7:$H$306,$D20,'006各シート集約'!T$7:T$306)","v":0},{"$f":"SUMIF('006各シート集約'!$H$7:$H$306,$D20,'006各シート集約'!U$7:U$306)","v":0},{"$f":"SUMIF('006各シート集約'!$H$7:$H$306,$D20,'006各シート集約'!V$7:V$306)","v":0},{"$f":"SUMIF('006各シート集約'!$H$7:$H$306,$D20,'006各シート集約'!W$7:W$306)","v":0},{"$f":"SUMIF('006各シート集約'!$H$7:$H$306,$D20,'006各シート集約'!X$7:X$306)","v":0},null,"石川県",{"$f":"SUMIF('006各シート集約'!$I$7:$I$306,$W20,'006各シート集約'!F$7:F$306)","v":0},{"$f":"SUMIF('006各シート集約'!$I$7:$I$306,$W20,'006各シート集約'!G$7:G$306)","v":0},{"$f":"SUMIF('006各シート集約'!$I$7:$I$306,$W20,'006各シート集約'!J$7:J$306)","v":0},{"$f":"SUMIF('006各シート集約'!$I$7:$I$306,$W20,'006各シート集約'!K$7:K$306)","v":0},{"$f":"SUMIF('006各シート集約'!$I$7:$I$306,$W20,'006各シート集約'!L$7:L$306)","v":0},{"$f":"SUMIF('006各シート集約'!$I$7:$I$306,$W20,'006各シート集約'!M$7:M$306)","v":0},{"$f":"SUMIF('006各シート集約'!$I$7:$I$306,$W20,'006各シート集約'!N$7:N$306)","v":0},{"$f":"SUMIF('006各シート集約'!$I$7:$I$306,$W20,'006各シート集約'!O$7:O$306)","v":0},{"$f":"SUMIF('006各シート集約'!$I$7:$I$306,$W20,'006各シート集約'!P$7:P$306)","v":0},{"$f":"SUMIF('006各シート集約'!$I$7:$I$306,$W20,'006各シート集約'!Q$7:Q$306)","v":0},{"$f":"SUMIF('006各シート集約'!$I$7:$I$306,$W20,'006各シート集約'!R$7:R$306)","v":0},{"$f":"SUMIF('006各シート集約'!$I$7:$I$306,$W20,'006各シート集約'!S$7:S$306)","v":0},{"$f":"SUMIF('006各シート集約'!$I$7:$I$306,$W20,'006各シート集約'!T$7:T$306)","v":0},{"$f":"SUMIF('006各シート集約'!$I$7:$I$306,$W20,'006各シート集約'!U$7:U$306)","v":0},{"$f":"SUMIF('006各シート集約'!$I$7:$I$306,$W20,'006各シート集約'!V$7:V$306)","v":0},{"$f":"SUMIF('006各シート集約'!$I$7:$I$306,$W20,'006各シート集約'!W$7:W$306)","v":0},{"$f":"SUMIF('006各シート集約'!$I$7:$I$306,$W20,'006各シート集約'!X$7:X$306)","v":0}]
[18,"福井県",null,"福井県",{"$f":"SUMIF('006各シート集約'!$H$7:$H$306,$D21,'006各シート集約'!F$7:F$306)","v":0},{"$f":"SUMIF('006各シート集約'!$H$7:$H$306,$D21,'006各シート集約'!G$7:G$306)","v":0},{"$f":"SUMIF('006各シート集約'!$H$7:$H$306,$D21,'006各シート集約'!J$7:J$306)","v":0},{"$f":"SUMIF('006各シート集約'!$H$7:$H$306,$D21,'006各シート集約'!K$7:K$306)","v":0},{"$f":"SUMIF('006各シート集約'!$H$7:$H$306,$D21,'006各シート集約'!L$7:L$306)","v":0},{"$f":"SUMIF('006各シート集約'!$H$7:$H$306,$D21,'006各シート集約'!M$7:M$306)","v":0},{"$f":"SUMIF('006各シート集約'!$H$7:$H$306,$D21,'006各シート集約'!N$7:N$306)","v":0},{"$f":"SUMIF('006各シート集約'!$H$7:$H$306,$D21,'006各シート集約'!O$7:O$306)","v":0},{"$f":"SUMIF('006各シート集約'!$H$7:$H$306,$D21,'006各シート集約'!P$7:P$306)","v":0},{"$f":"SUMIF('006各シート集約'!$H$7:$H$306,$D21,'006各シート集約'!Q$7:Q$306)","v":0},{"$f":"SUMIF('006各シート集約'!$H$7:$H$306,$D21,'006各シート集約'!R$7:R$306)","v":0},{"$f":"SUMIF('006各シート集約'!$H$7:$H$306,$D21,'006各シート集約'!S$7:S$306)","v":0},{"$f":"SUMIF('006各シート集約'!$H$7:$H$306,$D21,'006各シート集約'!T$7:T$306)","v":0},{"$f":"SUMIF('006各シート集約'!$H$7:$H$306,$D21,'006各シート集約'!U$7:U$306)","v":0},{"$f":"SUMIF('006各シート集約'!$H$7:$H$306,$D21,'006各シート集約'!V$7:V$306)","v":0},{"$f":"SUMIF('006各シート集約'!$H$7:$H$306,$D21,'006各シート集約'!W$7:W$306)","v":0},{"$f":"SUMIF('006各シート集約'!$H$7:$H$306,$D21,'006各シート集約'!X$7:X$306)","v":0},null,"福井県",{"$f":"SUMIF('006各シート集約'!$I$7:$I$306,$W21,'006各シート集約'!F$7:F$306)","v":0},{"$f":"SUMIF('006各シート集約'!$I$7:$I$306,$W21,'006各シート集約'!G$7:G$306)","v":0},{"$f":"SUMIF('006各シート集約'!$I$7:$I$306,$W21,'006各シート集約'!J$7:J$306)","v":0},{"$f":"SUMIF('006各シート集約'!$I$7:$I$306,$W21,'006各シート集約'!K$7:K$306)","v":0},{"$f":"SUMIF('006各シート集約'!$I$7:$I$306,$W21,'006各シート集約'!L$7:L$306)","v":0},{"$f":"SUMIF('006各シート集約'!$I$7:$I$306,$W21,'006各シート集約'!M$7:M$306)","v":0},{"$f":"SUMIF('006各シート集約'!$I$7:$I$306,$W21,'006各シート集約'!N$7:N$306)","v":0},{"$f":"SUMIF('006各シート集約'!$I$7:$I$306,$W21,'006各シート集約'!O$7:O$306)","v":0},{"$f":"SUMIF('006各シート集約'!$I$7:$I$306,$W21,'006各シート集約'!P$7:P$306)","v":0},{"$f":"SUMIF('006各シート集約'!$I$7:$I$306,$W21,'006各シート集約'!Q$7:Q$306)","v":0},{"$f":"SUMIF('006各シート集約'!$I$7:$I$306,$W21,'006各シート集約'!R$7:R$306)","v":0},{"$f":"SUMIF('006各シート集約'!$I$7:$I$306,$W21,'006各シート集約'!S$7:S$306)","v":0},{"$f":"SUMIF('006各シート集約'!$I$7:$I$306,$W21,'006各シート集約'!T$7:T$306)","v":0},{"$f":"SUMIF('006各シート集約'!$I$7:$I$306,$W21,'006各シート集約'!U$7:U$306)","v":0},{"$f":"SUMIF('006各シート集約'!$I$7:$I$306,$W21,'006各シート集約'!V$7:V$306)","v":0},{"$f":"SUMIF('006各シート集約'!$I$7:$I$306,$W21,'006各シート集約'!W$7:W$306)","v":0},{"$f":"SUMIF('006各シート集約'!$I$7:$I$306,$W21,'006各シート集約'!X$7:X$306)","v":0}]
[19,"山梨県",null,"山梨県",{"$f":"SUMIF('006各シート集約'!$H$7:$H$306,$D22,'006各シート集約'!F$7:F$306)","v":0},{"$f":"SUMIF('006各シート集約'!$H$7:$H$306,$D22,'006各シート集約'!G$7:G$306)","v":0},{"$f":"SUMIF('006各シート集約'!$H$7:$H$306,$D22,'006各シート集約'!J$7:J$306)","v":0},{"$f":"SUMIF('006各シート集約'!$H$7:$H$306,$D22,'006各シート集約'!K$7:K$306)","v":0},{"$f":"SUMIF('006各シート集約'!$H$7:$H$306,$D22,'006各シート集約'!L$7:L$306)","v":0},{"$f":"SUMIF('006各シート集約'!$H$7:$H$306,$D22,'006各シート集約'!M$7:M$306)","v":0},{"$f":"SUMIF('006各シート集約'!$H$7:$H$306,$D22,'006各シート集約'!N$7:N$306)","v":0},{"$f":"SUMIF('006各シート集約'!$H$7:$H$306,$D22,'006各シート集約'!O$7:O$306)","v":0},{"$f":"SUMIF('006各シート集約'!$H$7:$H$306,$D22,'006各シート集約'!P$7:P$306)","v":0},{"$f":"SUMIF('006各シート集約'!$H$7:$H$306,$D22,'006各シート集約'!Q$7:Q$306)","v":0},{"$f":"SUMIF('006各シート集約'!$H$7:$H$306,$D22,'006各シート集約'!R$7:R$306)","v":0},{"$f":"SUMIF('006各シート集約'!$H$7:$H$306,$D22,'006各シート集約'!S$7:S$306)","v":0},{"$f":"SUMIF('006各シート集約'!$H$7:$H$306,$D22,'006各シート集約'!T$7:T$306)","v":0},{"$f":"SUMIF('006各シート集約'!$H$7:$H$306,$D22,'006各シート集約'!U$7:U$306)","v":0},{"$f":"SUMIF('006各シート集約'!$H$7:$H$306,$D22,'006各シート集約'!V$7:V$306)","v":0},{"$f":"SUMIF('006各シート集約'!$H$7:$H$306,$D22,'006各シート集約'!W$7:W$306)","v":0},{"$f":"SUMIF('006各シート集約'!$H$7:$H$306,$D22,'006各シート集約'!X$7:X$306)","v":0},null,"山梨県",{"$f":"SUMIF('006各シート集約'!$I$7:$I$306,$W22,'006各シート集約'!F$7:F$306)","v":0},{"$f":"SUMIF('006各シート集約'!$I$7:$I$306,$W22,'006各シート集約'!G$7:G$306)","v":0},{"$f":"SUMIF('006各シート集約'!$I$7:$I$306,$W22,'006各シート集約'!J$7:J$306)","v":0},{"$f":"SUMIF('006各シート集約'!$I$7:$I$306,$W22,'006各シート集約'!K$7:K$306)","v":0},{"$f":"SUMIF('006各シート集約'!$I$7:$I$306,$W22,'006各シート集約'!L$7:L$306)","v":0},{"$f":"SUMIF('006各シート集約'!$I$7:$I$306,$W22,'006各シート集約'!M$7:M$306)","v":0},{"$f":"SUMIF('006各シート集約'!$I$7:$I$306,$W22,'006各シート集約'!N$7:N$306)","v":0},{"$f":"SUMIF('006各シート集約'!$I$7:$I$306,$W22,'006各シート集約'!O$7:O$306)","v":0},{"$f":"SUMIF('006各シート集約'!$I$7:$I$306,$W22,'006各シート集約'!P$7:P$306)","v":0},{"$f":"SUMIF('006各シート集約'!$I$7:$I$306,$W22,'006各シート集約'!Q$7:Q$306)","v":0},{"$f":"SUMIF('006各シート集約'!$I$7:$I$306,$W22,'006各シート集約'!R$7:R$306)","v":0},{"$f":"SUMIF('006各シート集約'!$I$7:$I$306,$W22,'006各シート集約'!S$7:S$306)","v":0},{"$f":"SUMIF('006各シート集約'!$I$7:$I$306,$W22,'006各シート集約'!T$7:T$306)","v":0},{"$f":"SUMIF('006各シート集約'!$I$7:$I$306,$W22,'006各シート集約'!U$7:U$306)","v":0},{"$f":"SUMIF('006各シート集約'!$I$7:$I$306,$W22,'006各シート集約'!V$7:V$306)","v":0},{"$f":"SUMIF('006各シート集約'!$I$7:$I$306,$W22,'006各シート集約'!W$7:W$306)","v":0},{"$f":"SUMIF('006各シート集約'!$I$7:$I$306,$W22,'006各シート集約'!X$7:X$306)","v":0}]
[20,"長野県",null,"長野県",{"$f":"SUMIF('006各シート集約'!$H$7:$H$306,$D23,'006各シート集約'!F$7:F$306)","v":0},{"$f":"SUMIF('006各シート集約'!$H$7:$H$306,$D23,'006各シート集約'!G$7:G$306)","v":0},{"$f":"SUMIF('006各シート集約'!$H$7:$H$306,$D23,'006各シート集約'!J$7:J$306)","v":0},{"$f":"SUMIF('006各シート集約'!$H$7:$H$306,$D23,'006各シート集約'!K$7:K$306)","v":0},{"$f":"SUMIF('006各シート集約'!$H$7:$H$306,$D23,'006各シート集約'!L$7:L$306)","v":0},{"$f":"SUMIF('006各シート集約'!$H$7:$H$306,$D23,'006各シート集約'!M$7:M$306)","v":0},{"$f":"SUMIF('006各シート集約'!$H$7:$H$306,$D23,'006各シート集約'!N$7:N$306)","v":0},{"$f":"SUMIF('006各シート集約'!$H$7:$H$306,$D23,'006各シート集約'!O$7:O$306)","v":0},{"$f":"SUMIF('006各シート集約'!$H$7:$H$306,$D23,'006各シート集約'!P$7:P$306)","v":0},{"$f":"SUMIF('006各シート集約'!$H$7:$H$306,$D23,'006各シート集約'!Q$7:Q$306)","v":0},{"$f":"SUMIF('006各シート集約'!$H$7:$H$306,$D23,'006各シート集約'!R$7:R$306)","v":0},{"$f":"SUMIF('006各シート集約'!$H$7:$H$306,$D23,'006各シート集約'!S$7:S$306)","v":0},{"$f":"SUMIF('006各シート集約'!$H$7:$H$306,$D23,'006各シート集約'!T$7:T$306)","v":0},{"$f":"SUMIF('006各シート集約'!$H$7:$H$306,$D23,'006各シート集約'!U$7:U$306)","v":0},{"$f":"SUMIF('006各シート集約'!$H$7:$H$306,$D23,'006各シート集約'!V$7:V$306)","v":0},{"$f":"SUMIF('006各シート集約'!$H$7:$H$306,$D23,'006各シート集約'!W$7:W$306)","v":0},{"$f":"SUMIF('006各シート集約'!$H$7:$H$306,$D23,'006各シート集約'!X$7:X$306)","v":0},null,"長野県",{"$f":"SUMIF('006各シート集約'!$I$7:$I$306,$W23,'006各シート集約'!F$7:F$306)","v":0},{"$f":"SUMIF('006各シート集約'!$I$7:$I$306,$W23,'006各シート集約'!G$7:G$306)","v":0},{"$f":"SUMIF('006各シート集約'!$I$7:$I$306,$W23,'006各シート集約'!J$7:J$306)","v":0},{"$f":"SUMIF('006各シート集約'!$I$7:$I$306,$W23,'006各シート集約'!K$7:K$306)","v":0},{"$f":"SUMIF('006各シート集約'!$I$7:$I$306,$W23,'006各シート集約'!L$7:L$306)","v":0},{"$f":"SUMIF('006各シート集約'!$I$7:$I$306,$W23,'006各シート集約'!M$7:M$306)","v":0},{"$f":"SUMIF('006各シート集約'!$I$7:$I$306,$W23,'006各シート集約'!N$7:N$306)","v":0},{"$f":"SUMIF('006各シート集約'!$I$7:$I$306,$W23,'006各シート集約'!O$7:O$306)","v":0},{"$f":"SUMIF('006各シート集約'!$I$7:$I$306,$W23,'006各シート集約'!P$7:P$306)","v":0},{"$f":"SUMIF('006各シート集約'!$I$7:$I$306,$W23,'006各シート集約'!Q$7:Q$306)","v":0},{"$f":"SUMIF('006各シート集約'!$I$7:$I$306,$W23,'006各シート集約'!R$7:R$306)","v":0},{"$f":"SUMIF('006各シート集約'!$I$7:$I$306,$W23,'006各シート集約'!S$7:S$306)","v":0},{"$f":"SUMIF('006各シート集約'!$I$7:$I$306,$W23,'006各シート集約'!T$7:T$306)","v":0},{"$f":"SUMIF('006各シート集約'!$I$7:$I$306,$W23,'006各シート集約'!U$7:U$306)","v":0},{"$f":"SUMIF('006各シート集約'!$I$7:$I$306,$W23,'006各シート集約'!V$7:V$306)","v":0},{"$f":"SUMIF('006各シート集約'!$I$7:$I$306,$W23,'006各シート集約'!W$7:W$306)","v":0},{"$f":"SUMIF('006各シート集約'!$I$7:$I$306,$W23,'006各シート集約'!X$7:X$306)","v":0}]
[21,"岐阜県",null,"岐阜県",{"$f":"SUMIF('006各シート集約'!$H$7:$H$306,$D24,'006各シート集約'!F$7:F$306)","v":0},{"$f":"SUMIF('006各シート集約'!$H$7:$H$306,$D24,'006各シート集約'!G$7:G$306)","v":0},{"$f":"SUMIF('006各シート集約'!$H$7:$H$306,$D24,'006各シート集約'!J$7:J$306)","v":0},{"$f":"SUMIF('006各シート集約'!$H$7:$H$306,$D24,'006各シート集約'!K$7:K$306)","v":0},{"$f":"SUMIF('006各シート集約'!$H$7:$H$306,$D24,'006各シート集約'!L$7:L$306)","v":0},{"$f":"SUMIF('006各シート集約'!$H$7:$H$306,$D24,'006各シート集約'!M$7:M$306)","v":0},{"$f":"SUMIF('006各シート集約'!$H$7:$H$306,$D24,'006各シート集約'!N$7:N$306)","v":0},{"$f":"SUMIF('006各シート集約'!$H$7:$H$306,$D24,'006各シート集約'!O$7:O$306)","v":0},{"$f":"SUMIF('006各シート集約'!$H$7:$H$306,$D24,'006各シート集約'!P$7:P$306)","v":0},{"$f":"SUMIF('006各シート集約'!$H$7:$H$306,$D24,'006各シート集約'!Q$7:Q$306)","v":0},{"$f":"SUMIF('006各シート集約'!$H$7:$H$306,$D24,'006各シート集約'!R$7:R$306)","v":0},{"$f":"SUMIF('006各シート集約'!$H$7:$H$306,$D24,'006各シート集約'!S$7:S$306)","v":0},{"$f":"SUMIF('006各シート集約'!$H$7:$H$306,$D24,'006各シート集約'!T$7:T$306)","v":0},{"$f":"SUMIF('006各シート集約'!$H$7:$H$306,$D24,'006各シート集約'!U$7:U$306)","v":0},{"$f":"SUMIF('006各シート集約'!$H$7:$H$306,$D24,'006各シート集約'!V$7:V$306)","v":0},{"$f":"SUMIF('006各シート集約'!$H$7:$H$306,$D24,'006各シート集約'!W$7:W$306)","v":0},{"$f":"SUMIF('006各シート集約'!$H$7:$H$306,$D24,'006各シート集約'!X$7:X$306)","v":0},null,"岐阜県",{"$f":"SUMIF('006各シート集約'!$I$7:$I$306,$W24,'006各シート集約'!F$7:F$306)","v":0},{"$f":"SUMIF('006各シート集約'!$I$7:$I$306,$W24,'006各シート集約'!G$7:G$306)","v":0},{"$f":"SUMIF('006各シート集約'!$I$7:$I$306,$W24,'006各シート集約'!J$7:J$306)","v":0},{"$f":"SUMIF('006各シート集約'!$I$7:$I$306,$W24,'006各シート集約'!K$7:K$306)","v":0},{"$f":"SUMIF('006各シート集約'!$I$7:$I$306,$W24,'006各シート集約'!L$7:L$306)","v":0},{"$f":"SUMIF('006各シート集約'!$I$7:$I$306,$W24,'006各シート集約'!M$7:M$306)","v":0},{"$f":"SUMIF('006各シート集約'!$I$7:$I$306,$W24,'006各シート集約'!N$7:N$306)","v":0},{"$f":"SUMIF('006各シート集約'!$I$7:$I$306,$W24,'006各シート集約'!O$7:O$306)","v":0},{"$f":"SUMIF('006各シート集約'!$I$7:$I$306,$W24,'006各シート集約'!P$7:P$306)","v":0},{"$f":"SUMIF('006各シート集約'!$I$7:$I$306,$W24,'006各シート集約'!Q$7:Q$306)","v":0},{"$f":"SUMIF('006各シート集約'!$I$7:$I$306,$W24,'006各シート集約'!R$7:R$306)","v":0},{"$f":"SUMIF('006各シート集約'!$I$7:$I$306,$W24,'006各シート集約'!S$7:S$306)","v":0},{"$f":"SUMIF('006各シート集約'!$I$7:$I$306,$W24,'006各シート集約'!T$7:T$306)","v":0},{"$f":"SUMIF('006各シート集約'!$I$7:$I$306,$W24,'006各シート集約'!U$7:U$306)","v":0},{"$f":"SUMIF('006各シート集約'!$I$7:$I$306,$W24,'006各シート集約'!V$7:V$306)","v":0},{"$f":"SUMIF('006各シート集約'!$I$7:$I$306,$W24,'006各シート集約'!W$7:W$306)","v":0},{"$f":"SUMIF('006各シート集約'!$I$7:$I$306,$W24,'006各シート集約'!X$7:X$306)","v":0}]
[22,"静岡県",null,"静岡県",{"$f":"SUMIF('006各シート集約'!$H$7:$H$306,$D25,'006各シート集約'!F$7:F$306)","v":0},{"$f":"SUMIF('006各シート集約'!$H$7:$H$306,$D25,'006各シート集約'!G$7:G$306)","v":0},{"$f":"SUMIF('006各シート集約'!$H$7:$H$306,$D25,'006各シート集約'!J$7:J$306)","v":0},{"$f":"SUMIF('006各シート集約'!$H$7:$H$306,$D25,'006各シート集約'!K$7:K$306)","v":0},{"$f":"SUMIF('006各シート集約'!$H$7:$H$306,$D25,'006各シート集約'!L$7:L$306)","v":0},{"$f":"SUMIF('006各シート集約'!$H$7:$H$306,$D25,'006各シート集約'!M$7:M$306)","v":0},{"$f":"SUMIF('006各シート集約'!$H$7:$H$306,$D25,'006各シート集約'!N$7:N$306)","v":0},{"$f":"SUMIF('006各シート集約'!$H$7:$H$306,$D25,'006各シート集約'!O$7:O$306)","v":0},{"$f":"SUMIF('006各シート集約'!$H$7:$H$306,$D25,'006各シート集約'!P$7:P$306)","v":0},{"$f":"SUMIF('006各シート集約'!$H$7:$H$306,$D25,'006各シート集約'!Q$7:Q$306)","v":0},{"$f":"SUMIF('006各シート集約'!$H$7:$H$306,$D25,'006各シート集約'!R$7:R$306)","v":0},{"$f":"SUMIF('006各シート集約'!$H$7:$H$306,$D25,'006各シート集約'!S$7:S$306)","v":0},{"$f":"SUMIF('006各シート集約'!$H$7:$H$306,$D25,'006各シート集約'!T$7:T$306)","v":0},{"$f":"SUMIF('006各シート集約'!$H$7:$H$306,$D25,'006各シート集約'!U$7:U$306)","v":0},{"$f":"SUMIF('006各シート集約'!$H$7:$H$306,$D25,'006各シート集約'!V$7:V$306)","v":0},{"$f":"SUMIF('006各シート集約'!$H$7:$H$306,$D25,'006各シート集約'!W$7:W$306)","v":0},{"$f":"SUMIF('006各シート集約'!$H$7:$H$306,$D25,'006各シート集約'!X$7:X$306)","v":0},null,"静岡県",{"$f":"SUMIF('006各シート集約'!$I$7:$I$306,$W25,'006各シート集約'!F$7:F$306)","v":0},{"$f":"SUMIF('006各シート集約'!$I$7:$I$306,$W25,'006各シート集約'!G$7:G$306)","v":0},{"$f":"SUMIF('006各シート集約'!$I$7:$I$306,$W25,'006各シート集約'!J$7:J$306)","v":0},{"$f":"SUMIF('006各シート集約'!$I$7:$I$306,$W25,'006各シート集約'!K$7:K$306)","v":0},{"$f":"SUMIF('006各シート集約'!$I$7:$I$306,$W25,'006各シート集約'!L$7:L$306)","v":0},{"$f":"SUMIF('006各シート集約'!$I$7:$I$306,$W25,'006各シート集約'!M$7:M$306)","v":0},{"$f":"SUMIF('006各シート集約'!$I$7:$I$306,$W25,'006各シート集約'!N$7:N$306)","v":0},{"$f":"SUMIF('006各シート集約'!$I$7:$I$306,$W25,'006各シート集約'!O$7:O$306)","v":0},{"$f":"SUMIF('006各シート集約'!$I$7:$I$306,$W25,'006各シート集約'!P$7:P$306)","v":0},{"$f":"SUMIF('006各シート集約'!$I$7:$I$306,$W25,'006各シート集約'!Q$7:Q$306)","v":0},{"$f":"SUMIF('006各シート集約'!$I$7:$I$306,$W25,'006各シート集約'!R$7:R$306)","v":0},{"$f":"SUMIF('006各シート集約'!$I$7:$I$306,$W25,'006各シート集約'!S$7:S$306)","v":0},{"$f":"SUMIF('006各シート集約'!$I$7:$I$306,$W25,'006各シート集約'!T$7:T$306)","v":0},{"$f":"SUMIF('006各シート集約'!$I$7:$I$306,$W25,'006各シート集約'!U$7:U$306)","v":0},{"$f":"SUMIF('006各シート集約'!$I$7:$I$306,$W25,'006各シート集約'!V$7:V$306)","v":0},{"$f":"SUMIF('006各シート集約'!$I$7:$I$306,$W25,'006各シート集約'!W$7:W$306)","v":0},{"$f":"SUMIF('006各シート集約'!$I$7:$I$306,$W25,'006各シート集約'!X$7:X$306)","v":0}]
[23,"愛知県",null,"愛知県",{"$f":"SUMIF('006各シート集約'!$H$7:$H$306,$D26,'006各シート集約'!F$7:F$306)","v":0},{"$f":"SUMIF('006各シート集約'!$H$7:$H$306,$D26,'006各シート集約'!G$7:G$306)","v":0},{"$f":"SUMIF('006各シート集約'!$H$7:$H$306,$D26,'006各シート集約'!J$7:J$306)","v":0},{"$f":"SUMIF('006各シート集約'!$H$7:$H$306,$D26,'006各シート集約'!K$7:K$306)","v":0},{"$f":"SUMIF('006各シート集約'!$H$7:$H$306,$D26,'006各シート集約'!L$7:L$306)","v":0},{"$f":"SUMIF('006各シート集約'!$H$7:$H$306,$D26,'006各シート集約'!M$7:M$306)","v":0},{"$f":"SUMIF('006各シート集約'!$H$7:$H$306,$D26,'006各シート集約'!N$7:N$306)","v":0},{"$f":"SUMIF('006各シート集約'!$H$7:$H$306,$D26,'006各シート集約'!O$7:O$306)","v":0},{"$f":"SUMIF('006各シート集約'!$H$7:$H$306,$D26,'006各シート集約'!P$7:P$306)","v":0},{"$f":"SUMIF('006各シート集約'!$H$7:$H$306,$D26,'006各シート集約'!Q$7:Q$306)","v":0},{"$f":"SUMIF('006各シート集約'!$H$7:$H$306,$D26,'006各シート集約'!R$7:R$306)","v":0},{"$f":"SUMIF('006各シート集約'!$H$7:$H$306,$D26,'006各シート集約'!S$7:S$306)","v":0},{"$f":"SUMIF('006各シート集約'!$H$7:$H$306,$D26,'006各シート集約'!T$7:T$306)","v":0},{"$f":"SUMIF('006各シート集約'!$H$7:$H$306,$D26,'006各シート集約'!U$7:U$306)","v":0},{"$f":"SUMIF('006各シート集約'!$H$7:$H$306,$D26,'006各シート集約'!V$7:V$306)","v":0},{"$f":"SUMIF('006各シート集約'!$H$7:$H$306,$D26,'006各シート集約'!W$7:W$306)","v":0},{"$f":"SUMIF('006各シート集約'!$H$7:$H$306,$D26,'006各シート集約'!X$7:X$306)","v":0},null,"愛知県",{"$f":"SUMIF('006各シート集約'!$I$7:$I$306,$W26,'006各シート集約'!F$7:F$306)","v":0},{"$f":"SUMIF('006各シート集約'!$I$7:$I$306,$W26,'006各シート集約'!G$7:G$306)","v":0},{"$f":"SUMIF('006各シート集約'!$I$7:$I$306,$W26,'006各シート集約'!J$7:J$306)","v":0},{"$f":"SUMIF('006各シート集約'!$I$7:$I$306,$W26,'006各シート集約'!K$7:K$306)","v":0},{"$f":"SUMIF('006各シート集約'!$I$7:$I$306,$W26,'006各シート集約'!L$7:L$306)","v":0},{"$f":"SUMIF('006各シート集約'!$I$7:$I$306,$W26,'006各シート集約'!M$7:M$306)","v":0},{"$f":"SUMIF('006各シート集約'!$I$7:$I$306,$W26,'006各シート集約'!N$7:N$306)","v":0},{"$f":"SUMIF('006各シート集約'!$I$7:$I$306,$W26,'006各シート集約'!O$7:O$306)","v":0},{"$f":"SUMIF('006各シート集約'!$I$7:$I$306,$W26,'006各シート集約'!P$7:P$306)","v":0},{"$f":"SUMIF('006各シート集約'!$I$7:$I$306,$W26,'006各シート集約'!Q$7:Q$306)","v":0},{"$f":"SUMIF('006各シート集約'!$I$7:$I$306,$W26,'006各シート集約'!R$7:R$306)","v":0},{"$f":"SUMIF('006各シート集約'!$I$7:$I$306,$W26,'006各シート集約'!S$7:S$306)","v":0},{"$f":"SUMIF('006各シート集約'!$I$7:$I$306,$W26,'006各シート集約'!T$7:T$306)","v":0},{"$f":"SUMIF('006各シート集約'!$I$7:$I$306,$W26,'006各シート集約'!U$7:U$306)","v":0},{"$f":"SUMIF('006各シート集約'!$I$7:$I$306,$W26,'006各シート集約'!V$7:V$306)","v":0},{"$f":"SUMIF('006各シート集約'!$I$7:$I$306,$W26,'006各シート集約'!W$7:W$306)","v":0},{"$f":"SUMIF('006各シート集約'!$I$7:$I$306,$W26,'006各シート集約'!X$7:X$306)","v":0}]
[24,"三重県",null,"三重県",{"$f":"SUMIF('006各シート集約'!$H$7:$H$306,$D27,'006各シート集約'!F$7:F$306)","v":0},{"$f":"SUMIF('006各シート集約'!$H$7:$H$306,$D27,'006各シート集約'!G$7:G$306)","v":0},{"$f":"SUMIF('006各シート集約'!$H$7:$H$306,$D27,'006各シート集約'!J$7:J$306)","v":0},{"$f":"SUMIF('006各シート集約'!$H$7:$H$306,$D27,'006各シート集約'!K$7:K$306)","v":0},{"$f":"SUMIF('006各シート集約'!$H$7:$H$306,$D27,'006各シート集約'!L$7:L$306)","v":0},{"$f":"SUMIF('006各シート集約'!$H$7:$H$306,$D27,'006各シート集約'!M$7:M$306)","v":0},{"$f":"SUMIF('006各シート集約'!$H$7:$H$306,$D27,'006各シート集約'!N$7:N$306)","v":0},{"$f":"SUMIF('006各シート集約'!$H$7:$H$306,$D27,'006各シート集約'!O$7:O$306)","v":0},{"$f":"SUMIF('006各シート集約'!$H$7:$H$306,$D27,'006各シート集約'!P$7:P$306)","v":0},{"$f":"SUMIF('006各シート集約'!$H$7:$H$306,$D27,'006各シート集約'!Q$7:Q$306)","v":0},{"$f":"SUMIF('006各シート集約'!$H$7:$H$306,$D27,'006各シート集約'!R$7:R$306)","v":0},{"$f":"SUMIF('006各シート集約'!$H$7:$H$306,$D27,'006各シート集約'!S$7:S$306)","v":0},{"$f":"SUMIF('006各シート集約'!$H$7:$H$306,$D27,'006各シート集約'!T$7:T$306)","v":0},{"$f":"SUMIF('006各シート集約'!$H$7:$H$306,$D27,'006各シート集約'!U$7:U$306)","v":0},{"$f":"SUMIF('006各シート集約'!$H$7:$H$306,$D27,'006各シート集約'!V$7:V$306)","v":0},{"$f":"SUMIF('006各シート集約'!$H$7:$H$306,$D27,'006各シート集約'!W$7:W$306)","v":0},{"$f":"SUMIF('006各シート集約'!$H$7:$H$306,$D27,'006各シート集約'!X$7:X$306)","v":0},null,"三重県",{"$f":"SUMIF('006各シート集約'!$I$7:$I$306,$W27,'006各シート集約'!F$7:F$306)","v":0},{"$f":"SUMIF('006各シート集約'!$I$7:$I$306,$W27,'006各シート集約'!G$7:G$306)","v":0},{"$f":"SUMIF('006各シート集約'!$I$7:$I$306,$W27,'006各シート集約'!J$7:J$306)","v":0},{"$f":"SUMIF('006各シート集約'!$I$7:$I$306,$W27,'006各シート集約'!K$7:K$306)","v":0},{"$f":"SUMIF('006各シート集約'!$I$7:$I$306,$W27,'006各シート集約'!L$7:L$306)","v":0},{"$f":"SUMIF('006各シート集約'!$I$7:$I$306,$W27,'006各シート集約'!M$7:M$306)","v":0},{"$f":"SUMIF('006各シート集約'!$I$7:$I$306,$W27,'006各シート集約'!N$7:N$306)","v":0},{"$f":"SUMIF('006各シート集約'!$I$7:$I$306,$W27,'006各シート集約'!O$7:O$306)","v":0},{"$f":"SUMIF('006各シート集約'!$I$7:$I$306,$W27,'006各シート集約'!P$7:P$306)","v":0},{"$f":"SUMIF('006各シート集約'!$I$7:$I$306,$W27,'006各シート集約'!Q$7:Q$306)","v":0},{"$f":"SUMIF('006各シート集約'!$I$7:$I$306,$W27,'006各シート集約'!R$7:R$306)","v":0},{"$f":"SUMIF('006各シート集約'!$I$7:$I$306,$W27,'006各シート集約'!S$7:S$306)","v":0},{"$f":"SUMIF('006各シート集約'!$I$7:$I$306,$W27,'006各シート集約'!T$7:T$306)","v":0},{"$f":"SUMIF('006各シート集約'!$I$7:$I$306,$W27,'006各シート集約'!U$7:U$306)","v":0},{"$f":"SUMIF('006各シート集約'!$I$7:$I$306,$W27,'006各シート集約'!V$7:V$306)","v":0},{"$f":"SUMIF('006各シート集約'!$I$7:$I$306,$W27,'006各シート集約'!W$7:W$306)","v":0},{"$f":"SUMIF('006各シート集約'!$I$7:$I$306,$W27,'006各シート集約'!X$7:X$306)","v":0}]
[25,"滋賀県",null,"滋賀県",{"$f":"SUMIF('006各シート集約'!$H$7:$H$306,$D28,'006各シート集約'!F$7:F$306)","v":0},{"$f":"SUMIF('006各シート集約'!$H$7:$H$306,$D28,'006各シート集約'!G$7:G$306)","v":0},{"$f":"SUMIF('006各シート集約'!$H$7:$H$306,$D28,'006各シート集約'!J$7:J$306)","v":0},{"$f":"SUMIF('006各シート集約'!$H$7:$H$306,$D28,'006各シート集約'!K$7:K$306)","v":0},{"$f":"SUMIF('006各シート集約'!$H$7:$H$306,$D28,'006各シート集約'!L$7:L$306)","v":0},{"$f":"SUMIF('006各シート集約'!$H$7:$H$306,$D28,'006各シート集約'!M$7:M$306)","v":0},{"$f":"SUMIF('006各シート集約'!$H$7:$H$306,$D28,'006各シート集約'!N$7:N$306)","v":0},{"$f":"SUMIF('006各シート集約'!$H$7:$H$306,$D28,'006各シート集約'!O$7:O$306)","v":0},{"$f":"SUMIF('006各シート集約'!$H$7:$H$306,$D28,'006各シート集約'!P$7:P$306)","v":0},{"$f":"SUMIF('006各シート集約'!$H$7:$H$306,$D28,'006各シート集約'!Q$7:Q$306)","v":0},{"$f":"SUMIF('006各シート集約'!$H$7:$H$306,$D28,'006各シート集約'!R$7:R$306)","v":0},{"$f":"SUMIF('006各シート集約'!$H$7:$H$306,$D28,'006各シート集約'!S$7:S$306)","v":0},{"$f":"SUMIF('006各シート集約'!$H$7:$H$306,$D28,'006各シート集約'!T$7:T$306)","v":0},{"$f":"SUMIF('006各シート集約'!$H$7:$H$306,$D28,'006各シート集約'!U$7:U$306)","v":0},{"$f":"SUMIF('006各シート集約'!$H$7:$H$306,$D28,'006各シート集約'!V$7:V$306)","v":0},{"$f":"SUMIF('006各シート集約'!$H$7:$H$306,$D28,'006各シート集約'!W$7:W$306)","v":0},{"$f":"SUMIF('006各シート集約'!$H$7:$H$306,$D28,'006各シート集約'!X$7:X$306)","v":0},null,"滋賀県",{"$f":"SUMIF('006各シート集約'!$I$7:$I$306,$W28,'006各シート集約'!F$7:F$306)","v":0},{"$f":"SUMIF('006各シート集約'!$I$7:$I$306,$W28,'006各シート集約'!G$7:G$306)","v":0},{"$f":"SUMIF('006各シート集約'!$I$7:$I$306,$W28,'006各シート集約'!J$7:J$306)","v":0},{"$f":"SUMIF('006各シート集約'!$I$7:$I$306,$W28,'006各シート集約'!K$7:K$306)","v":0},{"$f":"SUMIF('006各シート集約'!$I$7:$I$306,$W28,'006各シート集約'!L$7:L$306)","v":0},{"$f":"SUMIF('006各シート集約'!$I$7:$I$306,$W28,'006各シート集約'!M$7:M$306)","v":0},{"$f":"SUMIF('006各シート集約'!$I$7:$I$306,$W28,'006各シート集約'!N$7:N$306)","v":0},{"$f":"SUMIF('006各シート集約'!$I$7:$I$306,$W28,'006各シート集約'!O$7:O$306)","v":0},{"$f":"SUMIF('006各シート集約'!$I$7:$I$306,$W28,'006各シート集約'!P$7:P$306)","v":0},{"$f":"SUMIF('006各シート集約'!$I$7:$I$306,$W28,'006各シート集約'!Q$7:Q$306)","v":0},{"$f":"SUMIF('006各シート集約'!$I$7:$I$306,$W28,'006各シート集約'!R$7:R$306)","v":0},{"$f":"SUMIF('006各シート集約'!$I$7:$I$306,$W28,'006各シート集約'!S$7:S$306)","v":0},{"$f":"SUMIF('006各シート集約'!$I$7:$I$306,$W28,'006各シート集約'!T$7:T$306)","v":0},{"$f":"SUMIF('006各シート集約'!$I$7:$I$306,$W28,'006各シート集約'!U$7:U$306)","v":0},{"$f":"SUMIF('006各シート集約'!$I$7:$I$306,$W28,'006各シート集約'!V$7:V$306)","v":0},{"$f":"SUMIF('006各シート集約'!$I$7:$I$306,$W28,'006各シート集約'!W$7:W$306)","v":0},{"$f":"SUMIF('006各シート集約'!$I$7:$I$306,$W28,'006各シート集約'!X$7:X$306)","v":0}]
[26,"京都府",null,"京都府",{"$f":"SUMIF('006各シート集約'!$H$7:$H$306,$D29,'006各シート集約'!F$7:F$306)","v":0},{"$f":"SUMIF('006各シート集約'!$H$7:$H$306,$D29,'006各シート集約'!G$7:G$306)","v":0},{"$f":"SUMIF('006各シート集約'!$H$7:$H$306,$D29,'006各シート集約'!J$7:J$306)","v":0},{"$f":"SUMIF('006各シート集約'!$H$7:$H$306,$D29,'006各シート集約'!K$7:K$306)","v":0},{"$f":"SUMIF('006各シート集約'!$H$7:$H$306,$D29,'006各シート集約'!L$7:L$306)","v":0},{"$f":"SUMIF('006各シート集約'!$H$7:$H$306,$D29,'006各シート集約'!M$7:M$306)","v":0},{"$f":"SUMIF('006各シート集約'!$H$7:$H$306,$D29,'006各シート集約'!N$7:N$306)","v":0},{"$f":"SUMIF('006各シート集約'!$H$7:$H$306,$D29,'006各シート集約'!O$7:O$306)","v":0},{"$f":"SUMIF('006各シート集約'!$H$7:$H$306,$D29,'006各シート集約'!P$7:P$306)","v":0},{"$f":"SUMIF('006各シート集約'!$H$7:$H$306,$D29,'006各シート集約'!Q$7:Q$306)","v":0},{"$f":"SUMIF('006各シート集約'!$H$7:$H$306,$D29,'006各シート集約'!R$7:R$306)","v":0},{"$f":"SUMIF('006各シート集約'!$H$7:$H$306,$D29,'006各シート集約'!S$7:S$306)","v":0},{"$f":"SUMIF('006各シート集約'!$H$7:$H$306,$D29,'006各シート集約'!T$7:T$306)","v":0},{"$f":"SUMIF('006各シート集約'!$H$7:$H$306,$D29,'006各シート集約'!U$7:U$306)","v":0},{"$f":"SUMIF('006各シート集約'!$H$7:$H$306,$D29,'006各シート集約'!V$7:V$306)","v":0},{"$f":"SUMIF('006各シート集約'!$H$7:$H$306,$D29,'006各シート集約'!W$7:W$306)","v":0},{"$f":"SUMIF('006各シート集約'!$H$7:$H$306,$D29,'006各シート集約'!X$7:X$306)","v":0},null,"京都府",{"$f":"SUMIF('006各シート集約'!$I$7:$I$306,$W29,'006各シート集約'!F$7:F$306)","v":0},{"$f":"SUMIF('006各シート集約'!$I$7:$I$306,$W29,'006各シート集約'!G$7:G$306)","v":0},{"$f":"SUMIF('006各シート集約'!$I$7:$I$306,$W29,'006各シート集約'!J$7:J$306)","v":0},{"$f":"SUMIF('006各シート集約'!$I$7:$I$306,$W29,'006各シート集約'!K$7:K$306)","v":0},{"$f":"SUMIF('006各シート集約'!$I$7:$I$306,$W29,'006各シート集約'!L$7:L$306)","v":0},{"$f":"SUMIF('006各シート集約'!$I$7:$I$306,$W29,'006各シート集約'!M$7:M$306)","v":0},{"$f":"SUMIF('006各シート集約'!$I$7:$I$306,$W29,'006各シート集約'!N$7:N$306)","v":0},{"$f":"SUMIF('006各シート集約'!$I$7:$I$306,$W29,'006各シート集約'!O$7:O$306)","v":0},{"$f":"SUMIF('006各シート集約'!$I$7:$I$306,$W29,'006各シート集約'!P$7:P$306)","v":0},{"$f":"SUMIF('006各シート集約'!$I$7:$I$306,$W29,'006各シート集約'!Q$7:Q$306)","v":0},{"$f":"SUMIF('006各シート集約'!$I$7:$I$306,$W29,'006各シート集約'!R$7:R$306)","v":0},{"$f":"SUMIF('006各シート集約'!$I$7:$I$306,$W29,'006各シート集約'!S$7:S$306)","v":0},{"$f":"SUMIF('006各シート集約'!$I$7:$I$306,$W29,'006各シート集約'!T$7:T$306)","v":0},{"$f":"SUMIF('006各シート集約'!$I$7:$I$306,$W29,'006各シート集約'!U$7:U$306)","v":0},{"$f":"SUMIF('006各シート集約'!$I$7:$I$306,$W29,'006各シート集約'!V$7:V$306)","v":0},{"$f":"SUMIF('006各シート集約'!$I$7:$I$306,$W29,'006各シート集約'!W$7:W$306)","v":0},{"$f":"SUMIF('006各シート集約'!$I$7:$I$306,$W29,'006各シート集約'!X$7:X$306)","v":0}]
[27,"大阪府",null,"大阪府",{"$f":"SUMIF('006各シート集約'!$H$7:$H$306,$D30,'006各シート集約'!F$7:F$306)","v":0},{"$f":"SUMIF('006各シート集約'!$H$7:$H$306,$D30,'006各シート集約'!G$7:G$306)","v":0},{"$f":"SUMIF('006各シート集約'!$H$7:$H$306,$D30,'006各シート集約'!J$7:J$306)","v":0},{"$f":"SUMIF('006各シート集約'!$H$7:$H$306,$D30,'006各シート集約'!K$7:K$306)","v":0},{"$f":"SUMIF('006各シート集約'!$H$7:$H$306,$D30,'006各シート集約'!L$7:L$306)","v":0},{"$f":"SUMIF('006各シート集約'!$H$7:$H$306,$D30,'006各シート集約'!M$7:M$306)","v":0},{"$f":"SUMIF('006各シート集約'!$H$7:$H$306,$D30,'006各シート集約'!N$7:N$306)","v":0},{"$f":"SUMIF('006各シート集約'!$H$7:$H$306,$D30,'006各シート集約'!O$7:O$306)","v":0},{"$f":"SUMIF('006各シート集約'!$H$7:$H$306,$D30,'006各シート集約'!P$7:P$306)","v":0},{"$f":"SUMIF('006各シート集約'!$H$7:$H$306,$D30,'006各シート集約'!Q$7:Q$306)","v":0},{"$f":"SUMIF('006各シート集約'!$H$7:$H$306,$D30,'006各シート集約'!R$7:R$306)","v":0},{"$f":"SUMIF('006各シート集約'!$H$7:$H$306,$D30,'006各シート集約'!S$7:S$306)","v":0},{"$f":"SUMIF('006各シート集約'!$H$7:$H$306,$D30,'006各シート集約'!T$7:T$306)","v":0},{"$f":"SUMIF('006各シート集約'!$H$7:$H$306,$D30,'006各シート集約'!U$7:U$306)","v":0},{"$f":"SUMIF('006各シート集約'!$H$7:$H$306,$D30,'006各シート集約'!V$7:V$306)","v":0},{"$f":"SUMIF('006各シート集約'!$H$7:$H$306,$D30,'006各シート集約'!W$7:W$306)","v":0},{"$f":"SUMIF('006各シート集約'!$H$7:$H$306,$D30,'006各シート集約'!X$7:X$306)","v":0},null,"大阪府",{"$f":"SUMIF('006各シート集約'!$I$7:$I$306,$W30,'006各シート集約'!F$7:F$306)","v":0},{"$f":"SUMIF('006各シート集約'!$I$7:$I$306,$W30,'006各シート集約'!G$7:G$306)","v":0},{"$f":"SUMIF('006各シート集約'!$I$7:$I$306,$W30,'006各シート集約'!J$7:J$306)","v":0},{"$f":"SUMIF('006各シート集約'!$I$7:$I$306,$W30,'006各シート集約'!K$7:K$306)","v":0},{"$f":"SUMIF('006各シート集約'!$I$7:$I$306,$W30,'006各シート集約'!L$7:L$306)","v":0},{"$f":"SUMIF('006各シート集約'!$I$7:$I$306,$W30,'006各シート集約'!M$7:M$306)","v":0},{"$f":"SUMIF('006各シート集約'!$I$7:$I$306,$W30,'006各シート集約'!N$7:N$306)","v":0},{"$f":"SUMIF('006各シート集約'!$I$7:$I$306,$W30,'006各シート集約'!O$7:O$306)","v":0},{"$f":"SUMIF('006各シート集約'!$I$7:$I$306,$W30,'006各シート集約'!P$7:P$306)","v":0},{"$f":"SUMIF('006各シート集約'!$I$7:$I$306,$W30,'006各シート集約'!Q$7:Q$306)","v":0},{"$f":"SUMIF('006各シート集約'!$I$7:$I$306,$W30,'006各シート集約'!R$7:R$306)","v":0},{"$f":"SUMIF('006各シート集約'!$I$7:$I$306,$W30,'006各シート集約'!S$7:S$306)","v":0},{"$f":"SUMIF('006各シート集約'!$I$7:$I$306,$W30,'006各シート集約'!T$7:T$306)","v":0},{"$f":"SUMIF('006各シート集約'!$I$7:$I$306,$W30,'006各シート集約'!U$7:U$306)","v":0},{"$f":"SUMIF('006各シート集約'!$I$7:$I$306,$W30,'006各シート集約'!V$7:V$306)","v":0},{"$f":"SUMIF('006各シート集約'!$I$7:$I$306,$W30,'006各シート集約'!W$7:W$306)","v":0},{"$f":"SUMIF('006各シート集約'!$I$7:$I$306,$W30,'006各シート集約'!X$7:X$306)","v":0}]
[28,"兵庫県",null,"兵庫県",{"$f":"SUMIF('006各シート集約'!$H$7:$H$306,$D31,'006各シート集約'!F$7:F$306)","v":0},{"$f":"SUMIF('006各シート集約'!$H$7:$H$306,$D31,'006各シート集約'!G$7:G$306)","v":0},{"$f":"SUMIF('006各シート集約'!$H$7:$H$306,$D31,'006各シート集約'!J$7:J$306)","v":0},{"$f":"SUMIF('006各シート集約'!$H$7:$H$306,$D31,'006各シート集約'!K$7:K$306)","v":0},{"$f":"SUMIF('006各シート集約'!$H$7:$H$306,$D31,'006各シート集約'!L$7:L$306)","v":0},{"$f":"SUMIF('006各シート集約'!$H$7:$H$306,$D31,'006各シート集約'!M$7:M$306)","v":0},{"$f":"SUMIF('006各シート集約'!$H$7:$H$306,$D31,'006各シート集約'!N$7:N$306)","v":0},{"$f":"SUMIF('006各シート集約'!$H$7:$H$306,$D31,'006各シート集約'!O$7:O$306)","v":0},{"$f":"SUMIF('006各シート集約'!$H$7:$H$306,$D31,'006各シート集約'!P$7:P$306)","v":0},{"$f":"SUMIF('006各シート集約'!$H$7:$H$306,$D31,'006各シート集約'!Q$7:Q$306)","v":0},{"$f":"SUMIF('006各シート集約'!$H$7:$H$306,$D31,'006各シート集約'!R$7:R$306)","v":0},{"$f":"SUMIF('006各シート集約'!$H$7:$H$306,$D31,'006各シート集約'!S$7:S$306)","v":0},{"$f":"SUMIF('006各シート集約'!$H$7:$H$306,$D31,'006各シート集約'!T$7:T$306)","v":0},{"$f":"SUMIF('006各シート集約'!$H$7:$H$306,$D31,'006各シート集約'!U$7:U$306)","v":0},{"$f":"SUMIF('006各シート集約'!$H$7:$H$306,$D31,'006各シート集約'!V$7:V$306)","v":0},{"$f":"SUMIF('006各シート集約'!$H$7:$H$306,$D31,'006各シート集約'!W$7:W$306)","v":0},{"$f":"SUMIF('006各シート集約'!$H$7:$H$306,$D31,'006各シート集約'!X$7:X$306)","v":0},null,"兵庫県",{"$f":"SUMIF('006各シート集約'!$I$7:$I$306,$W31,'006各シート集約'!F$7:F$306)","v":0},{"$f":"SUMIF('006各シート集約'!$I$7:$I$306,$W31,'006各シート集約'!G$7:G$306)","v":0},{"$f":"SUMIF('006各シート集約'!$I$7:$I$306,$W31,'006各シート集約'!J$7:J$306)","v":0},{"$f":"SUMIF('006各シート集約'!$I$7:$I$306,$W31,'006各シート集約'!K$7:K$306)","v":0},{"$f":"SUMIF('006各シート集約'!$I$7:$I$306,$W31,'006各シート集約'!L$7:L$306)","v":0},{"$f":"SUMIF('006各シート集約'!$I$7:$I$306,$W31,'006各シート集約'!M$7:M$306)","v":0},{"$f":"SUMIF('006各シート集約'!$I$7:$I$306,$W31,'006各シート集約'!N$7:N$306)","v":0},{"$f":"SUMIF('006各シート集約'!$I$7:$I$306,$W31,'006各シート集約'!O$7:O$306)","v":0},{"$f":"SUMIF('006各シート集約'!$I$7:$I$306,$W31,'006各シート集約'!P$7:P$306)","v":0},{"$f":"SUMIF('006各シート集約'!$I$7:$I$306,$W31,'006各シート集約'!Q$7:Q$306)","v":0},{"$f":"SUMIF('006各シート集約'!$I$7:$I$306,$W31,'006各シート集約'!R$7:R$306)","v":0},{"$f":"SUMIF('006各シート集約'!$I$7:$I$306,$W31,'006各シート集約'!S$7:S$306)","v":0},{"$f":"SUMIF('006各シート集約'!$I$7:$I$306,$W31,'006各シート集約'!T$7:T$306)","v":0},{"$f":"SUMIF('006各シート集約'!$I$7:$I$306,$W31,'006各シート集約'!U$7:U$306)","v":0},{"$f":"SUMIF('006各シート集約'!$I$7:$I$306,$W31,'006各シート集約'!V$7:V$306)","v":0},{"$f":"SUMIF('006各シート集約'!$I$7:$I$306,$W31,'006各シート集約'!W$7:W$306)","v":0},{"$f":"SUMIF('006各シート集約'!$I$7:$I$306,$W31,'006各シート集約'!X$7:X$306)","v":0}]
[29,"奈良県",null,"奈良県",{"$f":"SUMIF('006各シート集約'!$H$7:$H$306,$D32,'006各シート集約'!F$7:F$306)","v":0},{"$f":"SUMIF('006各シート集約'!$H$7:$H$306,$D32,'006各シート集約'!G$7:G$306)","v":0},{"$f":"SUMIF('006各シート集約'!$H$7:$H$306,$D32,'006各シート集約'!J$7:J$306)","v":0},{"$f":"SUMIF('006各シート集約'!$H$7:$H$306,$D32,'006各シート集約'!K$7:K$306)","v":0},{"$f":"SUMIF('006各シート集約'!$H$7:$H$306,$D32,'006各シート集約'!L$7:L$306)","v":0},{"$f":"SUMIF('006各シート集約'!$H$7:$H$306,$D32,'006各シート集約'!M$7:M$306)","v":0},{"$f":"SUMIF('006各シート集約'!$H$7:$H$306,$D32,'006各シート集約'!N$7:N$306)","v":0},{"$f":"SUMIF('006各シート集約'!$H$7:$H$306,$D32,'006各シート集約'!O$7:O$306)","v":0},{"$f":"SUMIF('006各シート集約'!$H$7:$H$306,$D32,'006各シート集約'!P$7:P$306)","v":0},{"$f":"SUMIF('006各シート集約'!$H$7:$H$306,$D32,'006各シート集約'!Q$7:Q$306)","v":0},{"$f":"SUMIF('006各シート集約'!$H$7:$H$306,$D32,'006各シート集約'!R$7:R$306)","v":0},{"$f":"SUMIF('006各シート集約'!$H$7:$H$306,$D32,'006各シート集約'!S$7:S$306)","v":0},{"$f":"SUMIF('006各シート集約'!$H$7:$H$306,$D32,'006各シート集約'!T$7:T$306)","v":0},{"$f":"SUMIF('006各シート集約'!$H$7:$H$306,$D32,'006各シート集約'!U$7:U$306)","v":0},{"$f":"SUMIF('006各シート集約'!$H$7:$H$306,$D32,'006各シート集約'!V$7:V$306)","v":0},{"$f":"SUMIF('006各シート集約'!$H$7:$H$306,$D32,'006各シート集約'!W$7:W$306)","v":0},{"$f":"SUMIF('006各シート集約'!$H$7:$H$306,$D32,'006各シート集約'!X$7:X$306)","v":0},null,"奈良県",{"$f":"SUMIF('006各シート集約'!$I$7:$I$306,$W32,'006各シート集約'!F$7:F$306)","v":0},{"$f":"SUMIF('006各シート集約'!$I$7:$I$306,$W32,'006各シート集約'!G$7:G$306)","v":0},{"$f":"SUMIF('006各シート集約'!$I$7:$I$306,$W32,'006各シート集約'!J$7:J$306)","v":0},{"$f":"SUMIF('006各シート集約'!$I$7:$I$306,$W32,'006各シート集約'!K$7:K$306)","v":0},{"$f":"SUMIF('006各シート集約'!$I$7:$I$306,$W32,'006各シート集約'!L$7:L$306)","v":0},{"$f":"SUMIF('006各シート集約'!$I$7:$I$306,$W32,'006各シート集約'!M$7:M$306)","v":0},{"$f":"SUMIF('006各シート集約'!$I$7:$I$306,$W32,'006各シート集約'!N$7:N$306)","v":0},{"$f":"SUMIF('006各シート集約'!$I$7:$I$306,$W32,'006各シート集約'!O$7:O$306)","v":0},{"$f":"SUMIF('006各シート集約'!$I$7:$I$306,$W32,'006各シート集約'!P$7:P$306)","v":0},{"$f":"SUMIF('006各シート集約'!$I$7:$I$306,$W32,'006各シート集約'!Q$7:Q$306)","v":0},{"$f":"SUMIF('006各シート集約'!$I$7:$I$306,$W32,'006各シート集約'!R$7:R$306)","v":0},{"$f":"SUMIF('006各シート集約'!$I$7:$I$306,$W32,'006各シート集約'!S$7:S$306)","v":0},{"$f":"SUMIF('006各シート集約'!$I$7:$I$306,$W32,'006各シート集約'!T$7:T$306)","v":0},{"$f":"SUMIF('006各シート集約'!$I$7:$I$306,$W32,'006各シート集約'!U$7:U$306)","v":0},{"$f":"SUMIF('006各シート集約'!$I$7:$I$306,$W32,'006各シート集約'!V$7:V$306)","v":0},{"$f":"SUMIF('006各シート集約'!$I$7:$I$306,$W32,'006各シート集約'!W$7:W$306)","v":0},{"$f":"SUMIF('006各シート集約'!$I$7:$I$306,$W32,'006各シート集約'!X$7:X$306)","v":0}]
[30,"和歌山県",null,"和歌山県",{"$f":"SUMIF('006各シート集約'!$H$7:$H$306,$D33,'006各シート集約'!F$7:F$306)","v":0},{"$f":"SUMIF('006各シート集約'!$H$7:$H$306,$D33,'006各シート集約'!G$7:G$306)","v":0},{"$f":"SUMIF('006各シート集約'!$H$7:$H$306,$D33,'006各シート集約'!J$7:J$306)","v":0},{"$f":"SUMIF('006各シート集約'!$H$7:$H$306,$D33,'006各シート集約'!K$7:K$306)","v":0},{"$f":"SUMIF('006各シート集約'!$H$7:$H$306,$D33,'006各シート集約'!L$7:L$306)","v":0},{"$f":"SUMIF('006各シート集約'!$H$7:$H$306,$D33,'006各シート集約'!M$7:M$306)","v":0},{"$f":"SUMIF('006各シート集約'!$H$7:$H$306,$D33,'006各シート集約'!N$7:N$306)","v":0},{"$f":"SUMIF('006各シート集約'!$H$7:$H$306,$D33,'006各シート集約'!O$7:O$306)","v":0},{"$f":"SUMIF('006各シート集約'!$H$7:$H$306,$D33,'006各シート集約'!P$7:P$306)","v":0},{"$f":"SUMIF('006各シート集約'!$H$7:$H$306,$D33,'006各シート集約'!Q$7:Q$306)","v":0},{"$f":"SUMIF('006各シート集約'!$H$7:$H$306,$D33,'006各シート集約'!R$7:R$306)","v":0},{"$f":"SUMIF('006各シート集約'!$H$7:$H$306,$D33,'006各シート集約'!S$7:S$306)","v":0},{"$f":"SUMIF('006各シート集約'!$H$7:$H$306,$D33,'006各シート集約'!T$7:T$306)","v":0},{"$f":"SUMIF('006各シート集約'!$H$7:$H$306,$D33,'006各シート集約'!U$7:U$306)","v":0},{"$f":"SUMIF('006各シート集約'!$H$7:$H$306,$D33,'006各シート集約'!V$7:V$306)","v":0},{"$f":"SUMIF('006各シート集約'!$H$7:$H$306,$D33,'006各シート集約'!W$7:W$306)","v":0},{"$f":"SUMIF('006各シート集約'!$H$7:$H$306,$D33,'006各シート集約'!X$7:X$306)","v":0},null,"和歌山県",{"$f":"SUMIF('006各シート集約'!$I$7:$I$306,$W33,'006各シート集約'!F$7:F$306)","v":0},{"$f":"SUMIF('006各シート集約'!$I$7:$I$306,$W33,'006各シート集約'!G$7:G$306)","v":0},{"$f":"SUMIF('006各シート集約'!$I$7:$I$306,$W33,'006各シート集約'!J$7:J$306)","v":0},{"$f":"SUMIF('006各シート集約'!$I$7:$I$306,$W33,'006各シート集約'!K$7:K$306)","v":0},{"$f":"SUMIF('006各シート集約'!$I$7:$I$306,$W33,'006各シート集約'!L$7:L$306)","v":0},{"$f":"SUMIF('006各シート集約'!$I$7:$I$306,$W33,'006各シート集約'!M$7:M$306)","v":0},{"$f":"SUMIF('006各シート集約'!$I$7:$I$306,$W33,'006各シート集約'!N$7:N$306)","v":0},{"$f":"SUMIF('006各シート集約'!$I$7:$I$306,$W33,'006各シート集約'!O$7:O$306)","v":0},{"$f":"SUMIF('006各シート集約'!$I$7:$I$306,$W33,'006各シート集約'!P$7:P$306)","v":0},{"$f":"SUMIF('006各シート集約'!$I$7:$I$306,$W33,'006各シート集約'!Q$7:Q$306)","v":0},{"$f":"SUMIF('006各シート集約'!$I$7:$I$306,$W33,'006各シート集約'!R$7:R$306)","v":0},{"$f":"SUMIF('006各シート集約'!$I$7:$I$306,$W33,'006各シート集約'!S$7:S$306)","v":0},{"$f":"SUMIF('006各シート集約'!$I$7:$I$306,$W33,'006各シート集約'!T$7:T$306)","v":0},{"$f":"SUMIF('006各シート集約'!$I$7:$I$306,$W33,'006各シート集約'!U$7:U$306)","v":0},{"$f":"SUMIF('006各シート集約'!$I$7:$I$306,$W33,'006各シート集約'!V$7:V$306)","v":0},{"$f":"SUMIF('006各シート集約'!$I$7:$I$306,$W33,'006各シート集約'!W$7:W$306)","v":0},{"$f":"SUMIF('006各シート集約'!$I$7:$I$306,$W33,'006各シート集約'!X$7:X$306)","v":0}]
[31,"鳥取県",null,"鳥取県",{"$f":"SUMIF('006各シート集約'!$H$7:$H$306,$D34,'006各シート集約'!F$7:F$306)","v":0},{"$f":"SUMIF('006各シート集約'!$H$7:$H$306,$D34,'006各シート集約'!G$7:G$306)","v":0},{"$f":"SUMIF('006各シート集約'!$H$7:$H$306,$D34,'006各シート集約'!J$7:J$306)","v":0},{"$f":"SUMIF('006各シート集約'!$H$7:$H$306,$D34,'006各シート集約'!K$7:K$306)","v":0},{"$f":"SUMIF('006各シート集約'!$H$7:$H$306,$D34,'006各シート集約'!L$7:L$306)","v":0},{"$f":"SUMIF('006各シート集約'!$H$7:$H$306,$D34,'006各シート集約'!M$7:M$306)","v":0},{"$f":"SUMIF('006各シート集約'!$H$7:$H$306,$D34,'006各シート集約'!N$7:N$306)","v":0},{"$f":"SUMIF('006各シート集約'!$H$7:$H$306,$D34,'006各シート集約'!O$7:O$306)","v":0},{"$f":"SUMIF('006各シート集約'!$H$7:$H$306,$D34,'006各シート集約'!P$7:P$306)","v":0},{"$f":"SUMIF('006各シート集約'!$H$7:$H$306,$D34,'006各シート集約'!Q$7:Q$306)","v":0},{"$f":"SUMIF('006各シート集約'!$H$7:$H$306,$D34,'006各シート集約'!R$7:R$306)","v":0},{"$f":"SUMIF('006各シート集約'!$H$7:$H$306,$D34,'006各シート集約'!S$7:S$306)","v":0},{"$f":"SUMIF('006各シート集約'!$H$7:$H$306,$D34,'006各シート集約'!T$7:T$306)","v":0},{"$f":"SUMIF('006各シート集約'!$H$7:$H$306,$D34,'006各シート集約'!U$7:U$306)","v":0},{"$f":"SUMIF('006各シート集約'!$H$7:$H$306,$D34,'006各シート集約'!V$7:V$306)","v":0},{"$f":"SUMIF('006各シート集約'!$H$7:$H$306,$D34,'006各シート集約'!W$7:W$306)","v":0},{"$f":"SUMIF('006各シート集約'!$H$7:$H$306,$D34,'006各シート集約'!X$7:X$306)","v":0},null,"鳥取県",{"$f":"SUMIF('006各シート集約'!$I$7:$I$306,$W34,'006各シート集約'!F$7:F$306)","v":0},{"$f":"SUMIF('006各シート集約'!$I$7:$I$306,$W34,'006各シート集約'!G$7:G$306)","v":0},{"$f":"SUMIF('006各シート集約'!$I$7:$I$306,$W34,'006各シート集約'!J$7:J$306)","v":0},{"$f":"SUMIF('006各シート集約'!$I$7:$I$306,$W34,'006各シート集約'!K$7:K$306)","v":0},{"$f":"SUMIF('006各シート集約'!$I$7:$I$306,$W34,'006各シート集約'!L$7:L$306)","v":0},{"$f":"SUMIF('006各シート集約'!$I$7:$I$306,$W34,'006各シート集約'!M$7:M$306)","v":0},{"$f":"SUMIF('006各シート集約'!$I$7:$I$306,$W34,'006各シート集約'!N$7:N$306)","v":0},{"$f":"SUMIF('006各シート集約'!$I$7:$I$306,$W34,'006各シート集約'!O$7:O$306)","v":0},{"$f":"SUMIF('006各シート集約'!$I$7:$I$306,$W34,'006各シート集約'!P$7:P$306)","v":0},{"$f":"SUMIF('006各シート集約'!$I$7:$I$306,$W34,'006各シート集約'!Q$7:Q$306)","v":0},{"$f":"SUMIF('006各シート集約'!$I$7:$I$306,$W34,'006各シート集約'!R$7:R$306)","v":0},{"$f":"SUMIF('006各シート集約'!$I$7:$I$306,$W34,'006各シート集約'!S$7:S$306)","v":0},{"$f":"SUMIF('006各シート集約'!$I$7:$I$306,$W34,'006各シート集約'!T$7:T$306)","v":0},{"$f":"SUMIF('006各シート集約'!$I$7:$I$306,$W34,'006各シート集約'!U$7:U$306)","v":0},{"$f":"SUMIF('006各シート集約'!$I$7:$I$306,$W34,'006各シート集約'!V$7:V$306)","v":0},{"$f":"SUMIF('006各シート集約'!$I$7:$I$306,$W34,'006各シート集約'!W$7:W$306)","v":0},{"$f":"SUMIF('006各シート集約'!$I$7:$I$306,$W34,'006各シート集約'!X$7:X$306)","v":0}]
[32,"島根県",null,"島根県",{"$f":"SUMIF('006各シート集約'!$H$7:$H$306,$D35,'006各シート集約'!F$7:F$306)","v":0},{"$f":"SUMIF('006各シート集約'!$H$7:$H$306,$D35,'006各シート集約'!G$7:G$306)","v":0},{"$f":"SUMIF('006各シート集約'!$H$7:$H$306,$D35,'006各シート集約'!J$7:J$306)","v":0},{"$f":"SUMIF('006各シート集約'!$H$7:$H$306,$D35,'006各シート集約'!K$7:K$306)","v":0},{"$f":"SUMIF('006各シート集約'!$H$7:$H$306,$D35,'006各シート集約'!L$7:L$306)","v":0},{"$f":"SUMIF('006各シート集約'!$H$7:$H$306,$D35,'006各シート集約'!M$7:M$306)","v":0},{"$f":"SUMIF('006各シート集約'!$H$7:$H$306,$D35,'006各シート集約'!N$7:N$306)","v":0},{"$f":"SUMIF('006各シート集約'!$H$7:$H$306,$D35,'006各シート集約'!O$7:O$306)","v":0},{"$f":"SUMIF('006各シート集約'!$H$7:$H$306,$D35,'006各シート集約'!P$7:P$306)","v":0},{"$f":"SUMIF('006各シート集約'!$H$7:$H$306,$D35,'006各シート集約'!Q$7:Q$306)","v":0},{"$f":"SUMIF('006各シート集約'!$H$7:$H$306,$D35,'006各シート集約'!R$7:R$306)","v":0},{"$f":"SUMIF('006各シート集約'!$H$7:$H$306,$D35,'006各シート集約'!S$7:S$306)","v":0},{"$f":"SUMIF('006各シート集約'!$H$7:$H$306,$D35,'006各シート集約'!T$7:T$306)","v":0},{"$f":"SUMIF('006各シート集約'!$H$7:$H$306,$D35,'006各シート集約'!U$7:U$306)","v":0},{"$f":"SUMIF('006各シート集約'!$H$7:$H$306,$D35,'006各シート集約'!V$7:V$306)","v":0},{"$f":"SUMIF('006各シート集約'!$H$7:$H$306,$D35,'006各シート集約'!W$7:W$306)","v":0},{"$f":"SUMIF('006各シート集約'!$H$7:$H$306,$D35,'006各シート集約'!X$7:X$306)","v":0},null,"島根県",{"$f":"SUMIF('006各シート集約'!$I$7:$I$306,$W35,'006各シート集約'!F$7:F$306)","v":0},{"$f":"SUMIF('006各シート集約'!$I$7:$I$306,$W35,'006各シート集約'!G$7:G$306)","v":0},{"$f":"SUMIF('006各シート集約'!$I$7:$I$306,$W35,'006各シート集約'!J$7:J$306)","v":0},{"$f":"SUMIF('006各シート集約'!$I$7:$I$306,$W35,'006各シート集約'!K$7:K$306)","v":0},{"$f":"SUMIF('006各シート集約'!$I$7:$I$306,$W35,'006各シート集約'!L$7:L$306)","v":0},{"$f":"SUMIF('006各シート集約'!$I$7:$I$306,$W35,'006各シート集約'!M$7:M$306)","v":0},{"$f":"SUMIF('006各シート集約'!$I$7:$I$306,$W35,'006各シート集約'!N$7:N$306)","v":0},{"$f":"SUMIF('006各シート集約'!$I$7:$I$306,$W35,'006各シート集約'!O$7:O$306)","v":0},{"$f":"SUMIF('006各シート集約'!$I$7:$I$306,$W35,'006各シート集約'!P$7:P$306)","v":0},{"$f":"SUMIF('006各シート集約'!$I$7:$I$306,$W35,'006各シート集約'!Q$7:Q$306)","v":0},{"$f":"SUMIF('006各シート集約'!$I$7:$I$306,$W35,'006各シート集約'!R$7:R$306)","v":0},{"$f":"SUMIF('006各シート集約'!$I$7:$I$306,$W35,'006各シート集約'!S$7:S$306)","v":0},{"$f":"SUMIF('006各シート集約'!$I$7:$I$306,$W35,'006各シート集約'!T$7:T$306)","v":0},{"$f":"SUMIF('006各シート集約'!$I$7:$I$306,$W35,'006各シート集約'!U$7:U$306)","v":0},{"$f":"SUMIF('006各シート集約'!$I$7:$I$306,$W35,'006各シート集約'!V$7:V$306)","v":0},{"$f":"SUMIF('006各シート集約'!$I$7:$I$306,$W35,'006各シート集約'!W$7:W$306)","v":0},{"$f":"SUMIF('006各シート集約'!$I$7:$I$306,$W35,'006各シート集約'!X$7:X$306)","v":0}]
[33,"岡山県",null,"岡山県",{"$f":"SUMIF('006各シート集約'!$H$7:$H$306,$D36,'006各シート集約'!F$7:F$306)","v":0},{"$f":"SUMIF('006各シート集約'!$H$7:$H$306,$D36,'006各シート集約'!G$7:G$306)","v":0},{"$f":"SUMIF('006各シート集約'!$H$7:$H$306,$D36,'006各シート集約'!J$7:J$306)","v":0},{"$f":"SUMIF('006各シート集約'!$H$7:$H$306,$D36,'006各シート集約'!K$7:K$306)","v":0},{"$f":"SUMIF('006各シート集約'!$H$7:$H$306,$D36,'006各シート集約'!L$7:L$306)","v":0},{"$f":"SUMIF('006各シート集約'!$H$7:$H$306,$D36,'006各シート集約'!M$7:M$306)","v":0},{"$f":"SUMIF('006各シート集約'!$H$7:$H$306,$D36,'006各シート集約'!N$7:N$306)","v":0},{"$f":"SUMIF('006各シート集約'!$H$7:$H$306,$D36,'006各シート集約'!O$7:O$306)","v":0},{"$f":"SUMIF('006各シート集約'!$H$7:$H$306,$D36,'006各シート集約'!P$7:P$306)","v":0},{"$f":"SUMIF('006各シート集約'!$H$7:$H$306,$D36,'006各シート集約'!Q$7:Q$306)","v":0},{"$f":"SUMIF('006各シート集約'!$H$7:$H$306,$D36,'006各シート集約'!R$7:R$306)","v":0},{"$f":"SUMIF('006各シート集約'!$H$7:$H$306,$D36,'006各シート集約'!S$7:S$306)","v":0},{"$f":"SUMIF('006各シート集約'!$H$7:$H$306,$D36,'006各シート集約'!T$7:T$306)","v":0},{"$f":"SUMIF('006各シート集約'!$H$7:$H$306,$D36,'006各シート集約'!U$7:U$306)","v":0},{"$f":"SUMIF('006各シート集約'!$H$7:$H$306,$D36,'006各シート集約'!V$7:V$306)","v":0},{"$f":"SUMIF('006各シート集約'!$H$7:$H$306,$D36,'006各シート集約'!W$7:W$306)","v":0},{"$f":"SUMIF('006各シート集約'!$H$7:$H$306,$D36,'006各シート集約'!X$7:X$306)","v":0},null,"岡山県",{"$f":"SUMIF('006各シート集約'!$I$7:$I$306,$W36,'006各シート集約'!F$7:F$306)","v":0},{"$f":"SUMIF('006各シート集約'!$I$7:$I$306,$W36,'006各シート集約'!G$7:G$306)","v":0},{"$f":"SUMIF('006各シート集約'!$I$7:$I$306,$W36,'006各シート集約'!J$7:J$306)","v":0},{"$f":"SUMIF('006各シート集約'!$I$7:$I$306,$W36,'006各シート集約'!K$7:K$306)","v":0},{"$f":"SUMIF('006各シート集約'!$I$7:$I$306,$W36,'006各シート集約'!L$7:L$306)","v":0},{"$f":"SUMIF('006各シート集約'!$I$7:$I$306,$W36,'006各シート集約'!M$7:M$306)","v":0},{"$f":"SUMIF('006各シート集約'!$I$7:$I$306,$W36,'006各シート集約'!N$7:N$306)","v":0},{"$f":"SUMIF('006各シート集約'!$I$7:$I$306,$W36,'006各シート集約'!O$7:O$306)","v":0},{"$f":"SUMIF('006各シート集約'!$I$7:$I$306,$W36,'006各シート集約'!P$7:P$306)","v":0},{"$f":"SUMIF('006各シート集約'!$I$7:$I$306,$W36,'006各シート集約'!Q$7:Q$306)","v":0},{"$f":"SUMIF('006各シート集約'!$I$7:$I$306,$W36,'006各シート集約'!R$7:R$306)","v":0},{"$f":"SUMIF('006各シート集約'!$I$7:$I$306,$W36,'006各シート集約'!S$7:S$306)","v":0},{"$f":"SUMIF('006各シート集約'!$I$7:$I$306,$W36,'006各シート集約'!T$7:T$306)","v":0},{"$f":"SUMIF('006各シート集約'!$I$7:$I$306,$W36,'006各シート集約'!U$7:U$306)","v":0},{"$f":"SUMIF('006各シート集約'!$I$7:$I$306,$W36,'006各シート集約'!V$7:V$306)","v":0},{"$f":"SUMIF('006各シート集約'!$I$7:$I$306,$W36,'006各シート集約'!W$7:W$306)","v":0},{"$f":"SUMIF('006各シート集約'!$I$7:$I$306,$W36,'006各シート集約'!X$7:X$306)","v":0}]
[34,"広島県",null,"広島県",{"$f":"SUMIF('006各シート集約'!$H$7:$H$306,$D37,'006各シート集約'!F$7:F$306)","v":0},{"$f":"SUMIF('006各シート集約'!$H$7:$H$306,$D37,'006各シート集約'!G$7:G$306)","v":0},{"$f":"SUMIF('006各シート集約'!$H$7:$H$306,$D37,'006各シート集約'!J$7:J$306)","v":0},{"$f":"SUMIF('006各シート集約'!$H$7:$H$306,$D37,'006各シート集約'!K$7:K$306)","v":0},{"$f":"SUMIF('006各シート集約'!$H$7:$H$306,$D37,'006各シート集約'!L$7:L$306)","v":0},{"$f":"SUMIF('006各シート集約'!$H$7:$H$306,$D37,'006各シート集約'!M$7:M$306)","v":0},{"$f":"SUMIF('006各シート集約'!$H$7:$H$306,$D37,'006各シート集約'!N$7:N$306)","v":0},{"$f":"SUMIF('006各シート集約'!$H$7:$H$306,$D37,'006各シート集約'!O$7:O$306)","v":0},{"$f":"SUMIF('006各シート集約'!$H$7:$H$306,$D37,'006各シート集約'!P$7:P$306)","v":0},{"$f":"SUMIF('006各シート集約'!$H$7:$H$306,$D37,'006各シート集約'!Q$7:Q$306)","v":0},{"$f":"SUMIF('006各シート集約'!$H$7:$H$306,$D37,'006各シート集約'!R$7:R$306)","v":0},{"$f":"SUMIF('006各シート集約'!$H$7:$H$306,$D37,'006各シート集約'!S$7:S$306)","v":0},{"$f":"SUMIF('006各シート集約'!$H$7:$H$306,$D37,'006各シート集約'!T$7:T$306)","v":0},{"$f":"SUMIF('006各シート集約'!$H$7:$H$306,$D37,'006各シート集約'!U$7:U$306)","v":0},{"$f":"SUMIF('006各シート集約'!$H$7:$H$306,$D37,'006各シート集約'!V$7:V$306)","v":0},{"$f":"SUMIF('006各シート集約'!$H$7:$H$306,$D37,'006各シート集約'!W$7:W$306)","v":0},{"$f":"SUMIF('006各シート集約'!$H$7:$H$306,$D37,'006各シート集約'!X$7:X$306)","v":0},null,"広島県",{"$f":"SUMIF('006各シート集約'!$I$7:$I$306,$W37,'006各シート集約'!F$7:F$306)","v":0},{"$f":"SUMIF('006各シート集約'!$I$7:$I$306,$W37,'006各シート集約'!G$7:G$306)","v":0},{"$f":"SUMIF('006各シート集約'!$I$7:$I$306,$W37,'006各シート集約'!J$7:J$306)","v":0},{"$f":"SUMIF('006各シート集約'!$I$7:$I$306,$W37,'006各シート集約'!K$7:K$306)","v":0},{"$f":"SUMIF('006各シート集約'!$I$7:$I$306,$W37,'006各シート集約'!L$7:L$306)","v":0},{"$f":"SUMIF('006各シート集約'!$I$7:$I$306,$W37,'006各シート集約'!M$7:M$306)","v":0},{"$f":"SUMIF('006各シート集約'!$I$7:$I$306,$W37,'006各シート集約'!N$7:N$306)","v":0},{"$f":"SUMIF('006各シート集約'!$I$7:$I$306,$W37,'006各シート集約'!O$7:O$306)","v":0},{"$f":"SUMIF('006各シート集約'!$I$7:$I$306,$W37,'006各シート集約'!P$7:P$306)","v":0},{"$f":"SUMIF('006各シート集約'!$I$7:$I$306,$W37,'006各シート集約'!Q$7:Q$306)","v":0},{"$f":"SUMIF('006各シート集約'!$I$7:$I$306,$W37,'006各シート集約'!R$7:R$306)","v":0},{"$f":"SUMIF('006各シート集約'!$I$7:$I$306,$W37,'006各シート集約'!S$7:S$306)","v":0},{"$f":"SUMIF('006各シート集約'!$I$7:$I$306,$W37,'006各シート集約'!T$7:T$306)","v":0},{"$f":"SUMIF('006各シート集約'!$I$7:$I$306,$W37,'006各シート集約'!U$7:U$306)","v":0},{"$f":"SUMIF('006各シート集約'!$I$7:$I$306,$W37,'006各シート集約'!V$7:V$306)","v":0},{"$f":"SUMIF('006各シート集約'!$I$7:$I$306,$W37,'006各シート集約'!W$7:W$306)","v":0},{"$f":"SUMIF('006各シート集約'!$I$7:$I$306,$W37,'006各シート集約'!X$7:X$306)","v":0}]
[35,"山口県",null,"山口県",{"$f":"SUMIF('006各シート集約'!$H$7:$H$306,$D38,'006各シート集約'!F$7:F$306)","v":0},{"$f":"SUMIF('006各シート集約'!$H$7:$H$306,$D38,'006各シート集約'!G$7:G$306)","v":0},{"$f":"SUMIF('006各シート集約'!$H$7:$H$306,$D38,'006各シート集約'!J$7:J$306)","v":0},{"$f":"SUMIF('006各シート集約'!$H$7:$H$306,$D38,'006各シート集約'!K$7:K$306)","v":0},{"$f":"SUMIF('006各シート集約'!$H$7:$H$306,$D38,'006各シート集約'!L$7:L$306)","v":0},{"$f":"SUMIF('006各シート集約'!$H$7:$H$306,$D38,'006各シート集約'!M$7:M$306)","v":0},{"$f":"SUMIF('006各シート集約'!$H$7:$H$306,$D38,'006各シート集約'!N$7:N$306)","v":0},{"$f":"SUMIF('006各シート集約'!$H$7:$H$306,$D38,'006各シート集約'!O$7:O$306)","v":0},{"$f":"SUMIF('006各シート集約'!$H$7:$H$306,$D38,'006各シート集約'!P$7:P$306)","v":0},{"$f":"SUMIF('006各シート集約'!$H$7:$H$306,$D38,'006各シート集約'!Q$7:Q$306)","v":0},{"$f":"SUMIF('006各シート集約'!$H$7:$H$306,$D38,'006各シート集約'!R$7:R$306)","v":0},{"$f":"SUMIF('006各シート集約'!$H$7:$H$306,$D38,'006各シート集約'!S$7:S$306)","v":0},{"$f":"SUMIF('006各シート集約'!$H$7:$H$306,$D38,'006各シート集約'!T$7:T$306)","v":0},{"$f":"SUMIF('006各シート集約'!$H$7:$H$306,$D38,'006各シート集約'!U$7:U$306)","v":0},{"$f":"SUMIF('006各シート集約'!$H$7:$H$306,$D38,'006各シート集約'!V$7:V$306)","v":0},{"$f":"SUMIF('006各シート集約'!$H$7:$H$306,$D38,'006各シート集約'!W$7:W$306)","v":0},{"$f":"SUMIF('006各シート集約'!$H$7:$H$306,$D38,'006各シート集約'!X$7:X$306)","v":0},null,"山口県",{"$f":"SUMIF('006各シート集約'!$I$7:$I$306,$W38,'006各シート集約'!F$7:F$306)","v":0},{"$f":"SUMIF('006各シート集約'!$I$7:$I$306,$W38,'006各シート集約'!G$7:G$306)","v":0},{"$f":"SUMIF('006各シート集約'!$I$7:$I$306,$W38,'006各シート集約'!J$7:J$306)","v":0},{"$f":"SUMIF('006各シート集約'!$I$7:$I$306,$W38,'006各シート集約'!K$7:K$306)","v":0},{"$f":"SUMIF('006各シート集約'!$I$7:$I$306,$W38,'006各シート集約'!L$7:L$306)","v":0},{"$f":"SUMIF('006各シート集約'!$I$7:$I$306,$W38,'006各シート集約'!M$7:M$306)","v":0},{"$f":"SUMIF('006各シート集約'!$I$7:$I$306,$W38,'006各シート集約'!N$7:N$306)","v":0},{"$f":"SUMIF('006各シート集約'!$I$7:$I$306,$W38,'006各シート集約'!O$7:O$306)","v":0},{"$f":"SUMIF('006各シート集約'!$I$7:$I$306,$W38,'006各シート集約'!P$7:P$306)","v":0},{"$f":"SUMIF('006各シート集約'!$I$7:$I$306,$W38,'006各シート集約'!Q$7:Q$306)","v":0},{"$f":"SUMIF('006各シート集約'!$I$7:$I$306,$W38,'006各シート集約'!R$7:R$306)","v":0},{"$f":"SUMIF('006各シート集約'!$I$7:$I$306,$W38,'006各シート集約'!S$7:S$306)","v":0},{"$f":"SUMIF('006各シート集約'!$I$7:$I$306,$W38,'006各シート集約'!T$7:T$306)","v":0},{"$f":"SUMIF('006各シート集約'!$I$7:$I$306,$W38,'006各シート集約'!U$7:U$306)","v":0},{"$f":"SUMIF('006各シート集約'!$I$7:$I$306,$W38,'006各シート集約'!V$7:V$306)","v":0},{"$f":"SUMIF('006各シート集約'!$I$7:$I$306,$W38,'006各シート集約'!W$7:W$306)","v":0},{"$f":"SUMIF('006各シート集約'!$I$7:$I$306,$W38,'006各シート集約'!X$7:X$306)","v":0}]
[36,"徳島県",null,"徳島県",{"$f":"SUMIF('006各シート集約'!$H$7:$H$306,$D39,'006各シート集約'!F$7:F$306)","v":0},{"$f":"SUMIF('006各シート集約'!$H$7:$H$306,$D39,'006各シート集約'!G$7:G$306)","v":0},{"$f":"SUMIF('006各シート集約'!$H$7:$H$306,$D39,'006各シート集約'!J$7:J$306)","v":0},{"$f":"SUMIF('006各シート集約'!$H$7:$H$306,$D39,'006各シート集約'!K$7:K$306)","v":0},{"$f":"SUMIF('006各シート集約'!$H$7:$H$306,$D39,'006各シート集約'!L$7:L$306)","v":0},{"$f":"SUMIF('006各シート集約'!$H$7:$H$306,$D39,'006各シート集約'!M$7:M$306)","v":0},{"$f":"SUMIF('006各シート集約'!$H$7:$H$306,$D39,'006各シート集約'!N$7:N$306)","v":0},{"$f":"SUMIF('006各シート集約'!$H$7:$H$306,$D39,'006各シート集約'!O$7:O$306)","v":0},{"$f":"SUMIF('006各シート集約'!$H$7:$H$306,$D39,'006各シート集約'!P$7:P$306)","v":0},{"$f":"SUMIF('006各シート集約'!$H$7:$H$306,$D39,'006各シート集約'!Q$7:Q$306)","v":0},{"$f":"SUMIF('006各シート集約'!$H$7:$H$306,$D39,'006各シート集約'!R$7:R$306)","v":0},{"$f":"SUMIF('006各シート集約'!$H$7:$H$306,$D39,'006各シート集約'!S$7:S$306)","v":0},{"$f":"SUMIF('006各シート集約'!$H$7:$H$306,$D39,'006各シート集約'!T$7:T$306)","v":0},{"$f":"SUMIF('006各シート集約'!$H$7:$H$306,$D39,'006各シート集約'!U$7:U$306)","v":0},{"$f":"SUMIF('006各シート集約'!$H$7:$H$306,$D39,'006各シート集約'!V$7:V$306)","v":0},{"$f":"SUMIF('006各シート集約'!$H$7:$H$306,$D39,'006各シート集約'!W$7:W$306)","v":0},{"$f":"SUMIF('006各シート集約'!$H$7:$H$306,$D39,'006各シート集約'!X$7:X$306)","v":0},null,"徳島県",{"$f":"SUMIF('006各シート集約'!$I$7:$I$306,$W39,'006各シート集約'!F$7:F$306)","v":0},{"$f":"SUMIF('006各シート集約'!$I$7:$I$306,$W39,'006各シート集約'!G$7:G$306)","v":0},{"$f":"SUMIF('006各シート集約'!$I$7:$I$306,$W39,'006各シート集約'!J$7:J$306)","v":0},{"$f":"SUMIF('006各シート集約'!$I$7:$I$306,$W39,'006各シート集約'!K$7:K$306)","v":0},{"$f":"SUMIF('006各シート集約'!$I$7:$I$306,$W39,'006各シート集約'!L$7:L$306)","v":0},{"$f":"SUMIF('006各シート集約'!$I$7:$I$306,$W39,'006各シート集約'!M$7:M$306)","v":0},{"$f":"SUMIF('006各シート集約'!$I$7:$I$306,$W39,'006各シート集約'!N$7:N$306)","v":0},{"$f":"SUMIF('006各シート集約'!$I$7:$I$306,$W39,'006各シート集約'!O$7:O$306)","v":0},{"$f":"SUMIF('006各シート集約'!$I$7:$I$306,$W39,'006各シート集約'!P$7:P$306)","v":0},{"$f":"SUMIF('006各シート集約'!$I$7:$I$306,$W39,'006各シート集約'!Q$7:Q$306)","v":0},{"$f":"SUMIF('006各シート集約'!$I$7:$I$306,$W39,'006各シート集約'!R$7:R$306)","v":0},{"$f":"SUMIF('006各シート集約'!$I$7:$I$306,$W39,'006各シート集約'!S$7:S$306)","v":0},{"$f":"SUMIF('006各シート集約'!$I$7:$I$306,$W39,'006各シート集約'!T$7:T$306)","v":0},{"$f":"SUMIF('006各シート集約'!$I$7:$I$306,$W39,'006各シート集約'!U$7:U$306)","v":0},{"$f":"SUMIF('006各シート集約'!$I$7:$I$306,$W39,'006各シート集約'!V$7:V$306)","v":0},{"$f":"SUMIF('006各シート集約'!$I$7:$I$306,$W39,'006各シート集約'!W$7:W$306)","v":0},{"$f":"SUMIF('006各シート集約'!$I$7:$I$306,$W39,'006各シート集約'!X$7:X$306)","v":0}]
[37,"香川県",null,"香川県",{"$f":"SUMIF('006各シート集約'!$H$7:$H$306,$D40,'006各シート集約'!F$7:F$306)","v":0},{"$f":"SUMIF('006各シート集約'!$H$7:$H$306,$D40,'006各シート集約'!G$7:G$306)","v":0},{"$f":"SUMIF('006各シート集約'!$H$7:$H$306,$D40,'006各シート集約'!J$7:J$306)","v":0},{"$f":"SUMIF('006各シート集約'!$H$7:$H$306,$D40,'006各シート集約'!K$7:K$306)","v":0},{"$f":"SUMIF('006各シート集約'!$H$7:$H$306,$D40,'006各シート集約'!L$7:L$306)","v":0},{"$f":"SUMIF('006各シート集約'!$H$7:$H$306,$D40,'006各シート集約'!M$7:M$306)","v":0},{"$f":"SUMIF('006各シート集約'!$H$7:$H$306,$D40,'006各シート集約'!N$7:N$306)","v":0},{"$f":"SUMIF('006各シート集約'!$H$7:$H$306,$D40,'006各シート集約'!O$7:O$306)","v":0},{"$f":"SUMIF('006各シート集約'!$H$7:$H$306,$D40,'006各シート集約'!P$7:P$306)","v":0},{"$f":"SUMIF('006各シート集約'!$H$7:$H$306,$D40,'006各シート集約'!Q$7:Q$306)","v":0},{"$f":"SUMIF('006各シート集約'!$H$7:$H$306,$D40,'006各シート集約'!R$7:R$306)","v":0},{"$f":"SUMIF('006各シート集約'!$H$7:$H$306,$D40,'006各シート集約'!S$7:S$306)","v":0},{"$f":"SUMIF('006各シート集約'!$H$7:$H$306,$D40,'006各シート集約'!T$7:T$306)","v":0},{"$f":"SUMIF('006各シート集約'!$H$7:$H$306,$D40,'006各シート集約'!U$7:U$306)","v":0},{"$f":"SUMIF('006各シート集約'!$H$7:$H$306,$D40,'006各シート集約'!V$7:V$306)","v":0},{"$f":"SUMIF('006各シート集約'!$H$7:$H$306,$D40,'006各シート集約'!W$7:W$306)","v":0},{"$f":"SUMIF('006各シート集約'!$H$7:$H$306,$D40,'006各シート集約'!X$7:X$306)","v":0},null,"香川県",{"$f":"SUMIF('006各シート集約'!$I$7:$I$306,$W40,'006各シート集約'!F$7:F$306)","v":0},{"$f":"SUMIF('006各シート集約'!$I$7:$I$306,$W40,'006各シート集約'!G$7:G$306)","v":0},{"$f":"SUMIF('006各シート集約'!$I$7:$I$306,$W40,'006各シート集約'!J$7:J$306)","v":0},{"$f":"SUMIF('006各シート集約'!$I$7:$I$306,$W40,'006各シート集約'!K$7:K$306)","v":0},{"$f":"SUMIF('006各シート集約'!$I$7:$I$306,$W40,'006各シート集約'!L$7:L$306)","v":0},{"$f":"SUMIF('006各シート集約'!$I$7:$I$306,$W40,'006各シート集約'!M$7:M$306)","v":0},{"$f":"SUMIF('006各シート集約'!$I$7:$I$306,$W40,'006各シート集約'!N$7:N$306)","v":0},{"$f":"SUMIF('006各シート集約'!$I$7:$I$306,$W40,'006各シート集約'!O$7:O$306)","v":0},{"$f":"SUMIF('006各シート集約'!$I$7:$I$306,$W40,'006各シート集約'!P$7:P$306)","v":0},{"$f":"SUMIF('006各シート集約'!$I$7:$I$306,$W40,'006各シート集約'!Q$7:Q$306)","v":0},{"$f":"SUMIF('006各シート集約'!$I$7:$I$306,$W40,'006各シート集約'!R$7:R$306)","v":0},{"$f":"SUMIF('006各シート集約'!$I$7:$I$306,$W40,'006各シート集約'!S$7:S$306)","v":0},{"$f":"SUMIF('006各シート集約'!$I$7:$I$306,$W40,'006各シート集約'!T$7:T$306)","v":0},{"$f":"SUMIF('006各シート集約'!$I$7:$I$306,$W40,'006各シート集約'!U$7:U$306)","v":0},{"$f":"SUMIF('006各シート集約'!$I$7:$I$306,$W40,'006各シート集約'!V$7:V$306)","v":0},{"$f":"SUMIF('006各シート集約'!$I$7:$I$306,$W40,'006各シート集約'!W$7:W$306)","v":0},{"$f":"SUMIF('006各シート集約'!$I$7:$I$306,$W40,'006各シート集約'!X$7:X$306)","v":0}]
[38,"愛媛県",null,"愛媛県",{"$f":"SUMIF('006各シート集約'!$H$7:$H$306,$D41,'006各シート集約'!F$7:F$306)","v":0},{"$f":"SUMIF('006各シート集約'!$H$7:$H$306,$D41,'006各シート集約'!G$7:G$306)","v":0},{"$f":"SUMIF('006各シート集約'!$H$7:$H$306,$D41,'006各シート集約'!J$7:J$306)","v":0},{"$f":"SUMIF('006各シート集約'!$H$7:$H$306,$D41,'006各シート集約'!K$7:K$306)","v":0},{"$f":"SUMIF('006各シート集約'!$H$7:$H$306,$D41,'006各シート集約'!L$7:L$306)","v":0},{"$f":"SUMIF('006各シート集約'!$H$7:$H$306,$D41,'006各シート集約'!M$7:M$306)","v":0},{"$f":"SUMIF('006各シート集約'!$H$7:$H$306,$D41,'006各シート集約'!N$7:N$306)","v":0},{"$f":"SUMIF('006各シート集約'!$H$7:$H$306,$D41,'006各シート集約'!O$7:O$306)","v":0},{"$f":"SUMIF('006各シート集約'!$H$7:$H$306,$D41,'006各シート集約'!P$7:P$306)","v":0},{"$f":"SUMIF('006各シート集約'!$H$7:$H$306,$D41,'006各シート集約'!Q$7:Q$306)","v":0},{"$f":"SUMIF('006各シート集約'!$H$7:$H$306,$D41,'006各シート集約'!R$7:R$306)","v":0},{"$f":"SUMIF('006各シート集約'!$H$7:$H$306,$D41,'006各シート集約'!S$7:S$306)","v":0},{"$f":"SUMIF('006各シート集約'!$H$7:$H$306,$D41,'006各シート集約'!T$7:T$306)","v":0},{"$f":"SUMIF('006各シート集約'!$H$7:$H$306,$D41,'006各シート集約'!U$7:U$306)","v":0},{"$f":"SUMIF('006各シート集約'!$H$7:$H$306,$D41,'006各シート集約'!V$7:V$306)","v":0},{"$f":"SUMIF('006各シート集約'!$H$7:$H$306,$D41,'006各シート集約'!W$7:W$306)","v":0},{"$f":"SUMIF('006各シート集約'!$H$7:$H$306,$D41,'006各シート集約'!X$7:X$306)","v":0},null,"愛媛県",{"$f":"SUMIF('006各シート集約'!$I$7:$I$306,$W41,'006各シート集約'!F$7:F$306)","v":0},{"$f":"SUMIF('006各シート集約'!$I$7:$I$306,$W41,'006各シート集約'!G$7:G$306)","v":0},{"$f":"SUMIF('006各シート集約'!$I$7:$I$306,$W41,'006各シート集約'!J$7:J$306)","v":0},{"$f":"SUMIF('006各シート集約'!$I$7:$I$306,$W41,'006各シート集約'!K$7:K$306)","v":0},{"$f":"SUMIF('006各シート集約'!$I$7:$I$306,$W41,'006各シート集約'!L$7:L$306)","v":0},{"$f":"SUMIF('006各シート集約'!$I$7:$I$306,$W41,'006各シート集約'!M$7:M$306)","v":0},{"$f":"SUMIF('006各シート集約'!$I$7:$I$306,$W41,'006各シート集約'!N$7:N$306)","v":0},{"$f":"SUMIF('006各シート集約'!$I$7:$I$306,$W41,'006各シート集約'!O$7:O$306)","v":0},{"$f":"SUMIF('006各シート集約'!$I$7:$I$306,$W41,'006各シート集約'!P$7:P$306)","v":0},{"$f":"SUMIF('006各シート集約'!$I$7:$I$306,$W41,'006各シート集約'!Q$7:Q$306)","v":0},{"$f":"SUMIF('006各シート集約'!$I$7:$I$306,$W41,'006各シート集約'!R$7:R$306)","v":0},{"$f":"SUMIF('006各シート集約'!$I$7:$I$306,$W41,'006各シート集約'!S$7:S$306)","v":0},{"$f":"SUMIF('006各シート集約'!$I$7:$I$306,$W41,'006各シート集約'!T$7:T$306)","v":0},{"$f":"SUMIF('006各シート集約'!$I$7:$I$306,$W41,'006各シート集約'!U$7:U$306)","v":0},{"$f":"SUMIF('006各シート集約'!$I$7:$I$306,$W41,'006各シート集約'!V$7:V$306)","v":0},{"$f":"SUMIF('006各シート集約'!$I$7:$I$306,$W41,'006各シート集約'!W$7:W$306)","v":0},{"$f":"SUMIF('006各シート集約'!$I$7:$I$306,$W41,'006各シート集約'!X$7:X$306)","v":0}]
[39,"高知県",null,"高知県",{"$f":"SUMIF('006各シート集約'!$H$7:$H$306,$D42,'006各シート集約'!F$7:F$306)","v":0},{"$f":"SUMIF('006各シート集約'!$H$7:$H$306,$D42,'006各シート集約'!G$7:G$306)","v":0},{"$f":"SUMIF('006各シート集約'!$H$7:$H$306,$D42,'006各シート集約'!J$7:J$306)","v":0},{"$f":"SUMIF('006各シート集約'!$H$7:$H$306,$D42,'006各シート集約'!K$7:K$306)","v":0},{"$f":"SUMIF('006各シート集約'!$H$7:$H$306,$D42,'006各シート集約'!L$7:L$306)","v":0},{"$f":"SUMIF('006各シート集約'!$H$7:$H$306,$D42,'006各シート集約'!M$7:M$306)","v":0},{"$f":"SUMIF('006各シート集約'!$H$7:$H$306,$D42,'006各シート集約'!N$7:N$306)","v":0},{"$f":"SUMIF('006各シート集約'!$H$7:$H$306,$D42,'006各シート集約'!O$7:O$306)","v":0},{"$f":"SUMIF('006各シート集約'!$H$7:$H$306,$D42,'006各シート集約'!P$7:P$306)","v":0},{"$f":"SUMIF('006各シート集約'!$H$7:$H$306,$D42,'006各シート集約'!Q$7:Q$306)","v":0},{"$f":"SUMIF('006各シート集約'!$H$7:$H$306,$D42,'006各シート集約'!R$7:R$306)","v":0},{"$f":"SUMIF('006各シート集約'!$H$7:$H$306,$D42,'006各シート集約'!S$7:S$306)","v":0},{"$f":"SUMIF('006各シート集約'!$H$7:$H$306,$D42,'006各シート集約'!T$7:T$306)","v":0},{"$f":"SUMIF('006各シート集約'!$H$7:$H$306,$D42,'006各シート集約'!U$7:U$306)","v":0},{"$f":"SUMIF('006各シート集約'!$H$7:$H$306,$D42,'006各シート集約'!V$7:V$306)","v":0},{"$f":"SUMIF('006各シート集約'!$H$7:$H$306,$D42,'006各シート集約'!W$7:W$306)","v":0},{"$f":"SUMIF('006各シート集約'!$H$7:$H$306,$D42,'006各シート集約'!X$7:X$306)","v":0},null,"高知県",{"$f":"SUMIF('006各シート集約'!$I$7:$I$306,$W42,'006各シート集約'!F$7:F$306)","v":0},{"$f":"SUMIF('006各シート集約'!$I$7:$I$306,$W42,'006各シート集約'!G$7:G$306)","v":0},{"$f":"SUMIF('006各シート集約'!$I$7:$I$306,$W42,'006各シート集約'!J$7:J$306)","v":0},{"$f":"SUMIF('006各シート集約'!$I$7:$I$306,$W42,'006各シート集約'!K$7:K$306)","v":0},{"$f":"SUMIF('006各シート集約'!$I$7:$I$306,$W42,'006各シート集約'!L$7:L$306)","v":0},{"$f":"SUMIF('006各シート集約'!$I$7:$I$306,$W42,'006各シート集約'!M$7:M$306)","v":0},{"$f":"SUMIF('006各シート集約'!$I$7:$I$306,$W42,'006各シート集約'!N$7:N$306)","v":0},{"$f":"SUMIF('006各シート集約'!$I$7:$I$306,$W42,'006各シート集約'!O$7:O$306)","v":0},{"$f":"SUMIF('006各シート集約'!$I$7:$I$306,$W42,'006各シート集約'!P$7:P$306)","v":0},{"$f":"SUMIF('006各シート集約'!$I$7:$I$306,$W42,'006各シート集約'!Q$7:Q$306)","v":0},{"$f":"SUMIF('006各シート集約'!$I$7:$I$306,$W42,'006各シート集約'!R$7:R$306)","v":0},{"$f":"SUMIF('006各シート集約'!$I$7:$I$306,$W42,'006各シート集約'!S$7:S$306)","v":0},{"$f":"SUMIF('006各シート集約'!$I$7:$I$306,$W42,'006各シート集約'!T$7:T$306)","v":0},{"$f":"SUMIF('006各シート集約'!$I$7:$I$306,$W42,'006各シート集約'!U$7:U$306)","v":0},{"$f":"SUMIF('006各シート集約'!$I$7:$I$306,$W42,'006各シート集約'!V$7:V$306)","v":0},{"$f":"SUMIF('006各シート集約'!$I$7:$I$306,$W42,'006各シート集約'!W$7:W$306)","v":0},{"$f":"SUMIF('006各シート集約'!$I$7:$I$306,$W42,'006各シート集約'!X$7:X$306)","v":0}]
[40,"福岡県",null,"福岡県",{"$f":"SUMIF('006各シート集約'!$H$7:$H$306,$D43,'006各シート集約'!F$7:F$306)","v":0},{"$f":"SUMIF('006各シート集約'!$H$7:$H$306,$D43,'006各シート集約'!G$7:G$306)","v":0},{"$f":"SUMIF('006各シート集約'!$H$7:$H$306,$D43,'006各シート集約'!J$7:J$306)","v":0},{"$f":"SUMIF('006各シート集約'!$H$7:$H$306,$D43,'006各シート集約'!K$7:K$306)","v":0},{"$f":"SUMIF('006各シート集約'!$H$7:$H$306,$D43,'006各シート集約'!L$7:L$306)","v":0},{"$f":"SUMIF('006各シート集約'!$H$7:$H$306,$D43,'006各シート集約'!M$7:M$306)","v":0},{"$f":"SUMIF('006各シート集約'!$H$7:$H$306,$D43,'006各シート集約'!N$7:N$306)","v":0},{"$f":"SUMIF('006各シート集約'!$H$7:$H$306,$D43,'006各シート集約'!O$7:O$306)","v":0},{"$f":"SUMIF('006各シート集約'!$H$7:$H$306,$D43,'006各シート集約'!P$7:P$306)","v":0},{"$f":"SUMIF('006各シート集約'!$H$7:$H$306,$D43,'006各シート集約'!Q$7:Q$306)","v":0},{"$f":"SUMIF('006各シート集約'!$H$7:$H$306,$D43,'006各シート集約'!R$7:R$306)","v":0},{"$f":"SUMIF('006各シート集約'!$H$7:$H$306,$D43,'006各シート集約'!S$7:S$306)","v":0},{"$f":"SUMIF('006各シート集約'!$H$7:$H$306,$D43,'006各シート集約'!T$7:T$306)","v":0},{"$f":"SUMIF('006各シート集約'!$H$7:$H$306,$D43,'006各シート集約'!U$7:U$306)","v":0},{"$f":"SUMIF('006各シート集約'!$H$7:$H$306,$D43,'006各シート集約'!V$7:V$306)","v":0},{"$f":"SUMIF('006各シート集約'!$H$7:$H$306,$D43,'006各シート集約'!W$7:W$306)","v":0},{"$f":"SUMIF('006各シート集約'!$H$7:$H$306,$D43,'006各シート集約'!X$7:X$306)","v":0},null,"福岡県",{"$f":"SUMIF('006各シート集約'!$I$7:$I$306,$W43,'006各シート集約'!F$7:F$306)","v":0},{"$f":"SUMIF('006各シート集約'!$I$7:$I$306,$W43,'006各シート集約'!G$7:G$306)","v":0},{"$f":"SUMIF('006各シート集約'!$I$7:$I$306,$W43,'006各シート集約'!J$7:J$306)","v":0},{"$f":"SUMIF('006各シート集約'!$I$7:$I$306,$W43,'006各シート集約'!K$7:K$306)","v":0},{"$f":"SUMIF('006各シート集約'!$I$7:$I$306,$W43,'006各シート集約'!L$7:L$306)","v":0},{"$f":"SUMIF('006各シート集約'!$I$7:$I$306,$W43,'006各シート集約'!M$7:M$306)","v":0},{"$f":"SUMIF('006各シート集約'!$I$7:$I$306,$W43,'006各シート集約'!N$7:N$306)","v":0},{"$f":"SUMIF('006各シート集約'!$I$7:$I$306,$W43,'006各シート集約'!O$7:O$306)","v":0},{"$f":"SUMIF('006各シート集約'!$I$7:$I$306,$W43,'006各シート集約'!P$7:P$306)","v":0},{"$f":"SUMIF('006各シート集約'!$I$7:$I$306,$W43,'006各シート集約'!Q$7:Q$306)","v":0},{"$f":"SUMIF('006各シート集約'!$I$7:$I$306,$W43,'006各シート集約'!R$7:R$306)","v":0},{"$f":"SUMIF('006各シート集約'!$I$7:$I$306,$W43,'006各シート集約'!S$7:S$306)","v":0},{"$f":"SUMIF('006各シート集約'!$I$7:$I$306,$W43,'006各シート集約'!T$7:T$306)","v":0},{"$f":"SUMIF('006各シート集約'!$I$7:$I$306,$W43,'006各シート集約'!U$7:U$306)","v":0},{"$f":"SUMIF('006各シート集約'!$I$7:$I$306,$W43,'006各シート集約'!V$7:V$306)","v":0},{"$f":"SUMIF('006各シート集約'!$I$7:$I$306,$W43,'006各シート集約'!W$7:W$306)","v":0},{"$f":"SUMIF('006各シート集約'!$I$7:$I$306,$W43,'006各シート集約'!X$7:X$306)","v":0}]
[41,"佐賀県",null,"佐賀県",{"$f":"SUMIF('006各シート集約'!$H$7:$H$306,$D44,'006各シート集約'!F$7:F$306)","v":0},{"$f":"SUMIF('006各シート集約'!$H$7:$H$306,$D44,'006各シート集約'!G$7:G$306)","v":0},{"$f":"SUMIF('006各シート集約'!$H$7:$H$306,$D44,'006各シート集約'!J$7:J$306)","v":0},{"$f":"SUMIF('006各シート集約'!$H$7:$H$306,$D44,'006各シート集約'!K$7:K$306)","v":0},{"$f":"SUMIF('006各シート集約'!$H$7:$H$306,$D44,'006各シート集約'!L$7:L$306)","v":0},{"$f":"SUMIF('006各シート集約'!$H$7:$H$306,$D44,'006各シート集約'!M$7:M$306)","v":0},{"$f":"SUMIF('006各シート集約'!$H$7:$H$306,$D44,'006各シート集約'!N$7:N$306)","v":0},{"$f":"SUMIF('006各シート集約'!$H$7:$H$306,$D44,'006各シート集約'!O$7:O$306)","v":0},{"$f":"SUMIF('006各シート集約'!$H$7:$H$306,$D44,'006各シート集約'!P$7:P$306)","v":0},{"$f":"SUMIF('006各シート集約'!$H$7:$H$306,$D44,'006各シート集約'!Q$7:Q$306)","v":0},{"$f":"SUMIF('006各シート集約'!$H$7:$H$306,$D44,'006各シート集約'!R$7:R$306)","v":0},{"$f":"SUMIF('006各シート集約'!$H$7:$H$306,$D44,'006各シート集約'!S$7:S$306)","v":0},{"$f":"SUMIF('006各シート集約'!$H$7:$H$306,$D44,'006各シート集約'!T$7:T$306)","v":0},{"$f":"SUMIF('006各シート集約'!$H$7:$H$306,$D44,'006各シート集約'!U$7:U$306)","v":0},{"$f":"SUMIF('006各シート集約'!$H$7:$H$306,$D44,'006各シート集約'!V$7:V$306)","v":0},{"$f":"SUMIF('006各シート集約'!$H$7:$H$306,$D44,'006各シート集約'!W$7:W$306)","v":0},{"$f":"SUMIF('006各シート集約'!$H$7:$H$306,$D44,'006各シート集約'!X$7:X$306)","v":0},null,"佐賀県",{"$f":"SUMIF('006各シート集約'!$I$7:$I$306,$W44,'006各シート集約'!F$7:F$306)","v":0},{"$f":"SUMIF('006各シート集約'!$I$7:$I$306,$W44,'006各シート集約'!G$7:G$306)","v":0},{"$f":"SUMIF('006各シート集約'!$I$7:$I$306,$W44,'006各シート集約'!J$7:J$306)","v":0},{"$f":"SUMIF('006各シート集約'!$I$7:$I$306,$W44,'006各シート集約'!K$7:K$306)","v":0},{"$f":"SUMIF('006各シート集約'!$I$7:$I$306,$W44,'006各シート集約'!L$7:L$306)","v":0},{"$f":"SUMIF('006各シート集約'!$I$7:$I$306,$W44,'006各シート集約'!M$7:M$306)","v":0},{"$f":"SUMIF('006各シート集約'!$I$7:$I$306,$W44,'006各シート集約'!N$7:N$306)","v":0},{"$f":"SUMIF('006各シート集約'!$I$7:$I$306,$W44,'006各シート集約'!O$7:O$306)","v":0},{"$f":"SUMIF('006各シート集約'!$I$7:$I$306,$W44,'006各シート集約'!P$7:P$306)","v":0},{"$f":"SUMIF('006各シート集約'!$I$7:$I$306,$W44,'006各シート集約'!Q$7:Q$306)","v":0},{"$f":"SUMIF('006各シート集約'!$I$7:$I$306,$W44,'006各シート集約'!R$7:R$306)","v":0},{"$f":"SUMIF('006各シート集約'!$I$7:$I$306,$W44,'006各シート集約'!S$7:S$306)","v":0},{"$f":"SUMIF('006各シート集約'!$I$7:$I$306,$W44,'006各シート集約'!T$7:T$306)","v":0},{"$f":"SUMIF('006各シート集約'!$I$7:$I$306,$W44,'006各シート集約'!U$7:U$306)","v":0},{"$f":"SUMIF('006各シート集約'!$I$7:$I$306,$W44,'006各シート集約'!V$7:V$306)","v":0},{"$f":"SUMIF('006各シート集約'!$I$7:$I$306,$W44,'006各シート集約'!W$7:W$306)","v":0},{"$f":"SUMIF('006各シート集約'!$I$7:$I$306,$W44,'006各シート集約'!X$7:X$306)","v":0}]
[42,"長崎県",null,"長崎県",{"$f":"SUMIF('006各シート集約'!$H$7:$H$306,$D45,'006各シート集約'!F$7:F$306)","v":0},{"$f":"SUMIF('006各シート集約'!$H$7:$H$306,$D45,'006各シート集約'!G$7:G$306)","v":0},{"$f":"SUMIF('006各シート集約'!$H$7:$H$306,$D45,'006各シート集約'!J$7:J$306)","v":0},{"$f":"SUMIF('006各シート集約'!$H$7:$H$306,$D45,'006各シート集約'!K$7:K$306)","v":0},{"$f":"SUMIF('006各シート集約'!$H$7:$H$306,$D45,'006各シート集約'!L$7:L$306)","v":0},{"$f":"SUMIF('006各シート集約'!$H$7:$H$306,$D45,'006各シート集約'!M$7:M$306)","v":0},{"$f":"SUMIF('006各シート集約'!$H$7:$H$306,$D45,'006各シート集約'!N$7:N$306)","v":0},{"$f":"SUMIF('006各シート集約'!$H$7:$H$306,$D45,'006各シート集約'!O$7:O$306)","v":0},{"$f":"SUMIF('006各シート集約'!$H$7:$H$306,$D45,'006各シート集約'!P$7:P$306)","v":0},{"$f":"SUMIF('006各シート集約'!$H$7:$H$306,$D45,'006各シート集約'!Q$7:Q$306)","v":0},{"$f":"SUMIF('006各シート集約'!$H$7:$H$306,$D45,'006各シート集約'!R$7:R$306)","v":0},{"$f":"SUMIF('006各シート集約'!$H$7:$H$306,$D45,'006各シート集約'!S$7:S$306)","v":0},{"$f":"SUMIF('006各シート集約'!$H$7:$H$306,$D45,'006各シート集約'!T$7:T$306)","v":0},{"$f":"SUMIF('006各シート集約'!$H$7:$H$306,$D45,'006各シート集約'!U$7:U$306)","v":0},{"$f":"SUMIF('006各シート集約'!$H$7:$H$306,$D45,'006各シート集約'!V$7:V$306)","v":0},{"$f":"SUMIF('006各シート集約'!$H$7:$H$306,$D45,'006各シート集約'!W$7:W$306)","v":0},{"$f":"SUMIF('006各シート集約'!$H$7:$H$306,$D45,'006各シート集約'!X$7:X$306)","v":0},null,"長崎県",{"$f":"SUMIF('006各シート集約'!$I$7:$I$306,$W45,'006各シート集約'!F$7:F$306)","v":0},{"$f":"SUMIF('006各シート集約'!$I$7:$I$306,$W45,'006各シート集約'!G$7:G$306)","v":0},{"$f":"SUMIF('006各シート集約'!$I$7:$I$306,$W45,'006各シート集約'!J$7:J$306)","v":0},{"$f":"SUMIF('006各シート集約'!$I$7:$I$306,$W45,'006各シート集約'!K$7:K$306)","v":0},{"$f":"SUMIF('006各シート集約'!$I$7:$I$306,$W45,'006各シート集約'!L$7:L$306)","v":0},{"$f":"SUMIF('006各シート集約'!$I$7:$I$306,$W45,'006各シート集約'!M$7:M$306)","v":0},{"$f":"SUMIF('006各シート集約'!$I$7:$I$306,$W45,'006各シート集約'!N$7:N$306)","v":0},{"$f":"SUMIF('006各シート集約'!$I$7:$I$306,$W45,'006各シート集約'!O$7:O$306)","v":0},{"$f":"SUMIF('006各シート集約'!$I$7:$I$306,$W45,'006各シート集約'!P$7:P$306)","v":0},{"$f":"SUMIF('006各シート集約'!$I$7:$I$306,$W45,'006各シート集約'!Q$7:Q$306)","v":0},{"$f":"SUMIF('006各シート集約'!$I$7:$I$306,$W45,'006各シート集約'!R$7:R$306)","v":0},{"$f":"SUMIF('006各シート集約'!$I$7:$I$306,$W45,'006各シート集約'!S$7:S$306)","v":0},{"$f":"SUMIF('006各シート集約'!$I$7:$I$306,$W45,'006各シート集約'!T$7:T$306)","v":0},{"$f":"SUMIF('006各シート集約'!$I$7:$I$306,$W45,'006各シート集約'!U$7:U$306)","v":0},{"$f":"SUMIF('006各シート集約'!$I$7:$I$306,$W45,'006各シート集約'!V$7:V$306)","v":0},{"$f":"SUMIF('006各シート集約'!$I$7:$I$306,$W45,'006各シート集約'!W$7:W$306)","v":0},{"$f":"SUMIF('006各シート集約'!$I$7:$I$306,$W45,'006各シート集約'!X$7:X$306)","v":0}]
[43,"熊本県",null,"熊本県",{"$f":"SUMIF('006各シート集約'!$H$7:$H$306,$D46,'006各シート集約'!F$7:F$306)","v":0},{"$f":"SUMIF('006各シート集約'!$H$7:$H$306,$D46,'006各シート集約'!G$7:G$306)","v":0},{"$f":"SUMIF('006各シート集約'!$H$7:$H$306,$D46,'006各シート集約'!J$7:J$306)","v":0},{"$f":"SUMIF('006各シート集約'!$H$7:$H$306,$D46,'006各シート集約'!K$7:K$306)","v":0},{"$f":"SUMIF('006各シート集約'!$H$7:$H$306,$D46,'006各シート集約'!L$7:L$306)","v":0},{"$f":"SUMIF('006各シート集約'!$H$7:$H$306,$D46,'006各シート集約'!M$7:M$306)","v":0},{"$f":"SUMIF('006各シート集約'!$H$7:$H$306,$D46,'006各シート集約'!N$7:N$306)","v":0},{"$f":"SUMIF('006各シート集約'!$H$7:$H$306,$D46,'006各シート集約'!O$7:O$306)","v":0},{"$f":"SUMIF('006各シート集約'!$H$7:$H$306,$D46,'006各シート集約'!P$7:P$306)","v":0},{"$f":"SUMIF('006各シート集約'!$H$7:$H$306,$D46,'006各シート集約'!Q$7:Q$306)","v":0},{"$f":"SUMIF('006各シート集約'!$H$7:$H$306,$D46,'006各シート集約'!R$7:R$306)","v":0},{"$f":"SUMIF('006各シート集約'!$H$7:$H$306,$D46,'006各シート集約'!S$7:S$306)","v":0},{"$f":"SUMIF('006各シート集約'!$H$7:$H$306,$D46,'006各シート集約'!T$7:T$306)","v":0},{"$f":"SUMIF('006各シート集約'!$H$7:$H$306,$D46,'006各シート集約'!U$7:U$306)","v":0},{"$f":"SUMIF('006各シート集約'!$H$7:$H$306,$D46,'006各シート集約'!V$7:V$306)","v":0},{"$f":"SUMIF('006各シート集約'!$H$7:$H$306,$D46,'006各シート集約'!W$7:W$306)","v":0},{"$f":"SUMIF('006各シート集約'!$H$7:$H$306,$D46,'006各シート集約'!X$7:X$306)","v":0},null,"熊本県",{"$f":"SUMIF('006各シート集約'!$I$7:$I$306,$W46,'006各シート集約'!F$7:F$306)","v":0},{"$f":"SUMIF('006各シート集約'!$I$7:$I$306,$W46,'006各シート集約'!G$7:G$306)","v":0},{"$f":"SUMIF('006各シート集約'!$I$7:$I$306,$W46,'006各シート集約'!J$7:J$306)","v":0},{"$f":"SUMIF('006各シート集約'!$I$7:$I$306,$W46,'006各シート集約'!K$7:K$306)","v":0},{"$f":"SUMIF('006各シート集約'!$I$7:$I$306,$W46,'006各シート集約'!L$7:L$306)","v":0},{"$f":"SUMIF('006各シート集約'!$I$7:$I$306,$W46,'006各シート集約'!M$7:M$306)","v":0},{"$f":"SUMIF('006各シート集約'!$I$7:$I$306,$W46,'006各シート集約'!N$7:N$306)","v":0},{"$f":"SUMIF('006各シート集約'!$I$7:$I$306,$W46,'006各シート集約'!O$7:O$306)","v":0},{"$f":"SUMIF('006各シート集約'!$I$7:$I$306,$W46,'006各シート集約'!P$7:P$306)","v":0},{"$f":"SUMIF('006各シート集約'!$I$7:$I$306,$W46,'006各シート集約'!Q$7:Q$306)","v":0},{"$f":"SUMIF('006各シート集約'!$I$7:$I$306,$W46,'006各シート集約'!R$7:R$306)","v":0},{"$f":"SUMIF('006各シート集約'!$I$7:$I$306,$W46,'006各シート集約'!S$7:S$306)","v":0},{"$f":"SUMIF('006各シート集約'!$I$7:$I$306,$W46,'006各シート集約'!T$7:T$306)","v":0},{"$f":"SUMIF('006各シート集約'!$I$7:$I$306,$W46,'006各シート集約'!U$7:U$306)","v":0},{"$f":"SUMIF('006各シート集約'!$I$7:$I$306,$W46,'006各シート集約'!V$7:V$306)","v":0},{"$f":"SUMIF('006各シート集約'!$I$7:$I$306,$W46,'006各シート集約'!W$7:W$306)","v":0},{"$f":"SUMIF('006各シート集約'!$I$7:$I$306,$W46,'006各シート集約'!X$7:X$306)","v":0}]
[44,"大分県",null,"大分県",{"$f":"SUMIF('006各シート集約'!$H$7:$H$306,$D47,'006各シート集約'!F$7:F$306)","v":0},{"$f":"SUMIF('006各シート集約'!$H$7:$H$306,$D47,'006各シート集約'!G$7:G$306)","v":0},{"$f":"SUMIF('006各シート集約'!$H$7:$H$306,$D47,'006各シート集約'!J$7:J$306)","v":0},{"$f":"SUMIF('006各シート集約'!$H$7:$H$306,$D47,'006各シート集約'!K$7:K$306)","v":0},{"$f":"SUMIF('006各シート集約'!$H$7:$H$306,$D47,'006各シート集約'!L$7:L$306)","v":0},{"$f":"SUMIF('006各シート集約'!$H$7:$H$306,$D47,'006各シート集約'!M$7:M$306)","v":0},{"$f":"SUMIF('006各シート集約'!$H$7:$H$306,$D47,'006各シート集約'!N$7:N$306)","v":0},{"$f":"SUMIF('006各シート集約'!$H$7:$H$306,$D47,'006各シート集約'!O$7:O$306)","v":0},{"$f":"SUMIF('006各シート集約'!$H$7:$H$306,$D47,'006各シート集約'!P$7:P$306)","v":0},{"$f":"SUMIF('006各シート集約'!$H$7:$H$306,$D47,'006各シート集約'!Q$7:Q$306)","v":0},{"$f":"SUMIF('006各シート集約'!$H$7:$H$306,$D47,'006各シート集約'!R$7:R$306)","v":0},{"$f":"SUMIF('006各シート集約'!$H$7:$H$306,$D47,'006各シート集約'!S$7:S$306)","v":0},{"$f":"SUMIF('006各シート集約'!$H$7:$H$306,$D47,'006各シート集約'!T$7:T$306)","v":0},{"$f":"SUMIF('006各シート集約'!$H$7:$H$306,$D47,'006各シート集約'!U$7:U$306)","v":0},{"$f":"SUMIF('006各シート集約'!$H$7:$H$306,$D47,'006各シート集約'!V$7:V$306)","v":0},{"$f":"SUMIF('006各シート集約'!$H$7:$H$306,$D47,'006各シート集約'!W$7:W$306)","v":0},{"$f":"SUMIF('006各シート集約'!$H$7:$H$306,$D47,'006各シート集約'!X$7:X$306)","v":0},null,"大分県",{"$f":"SUMIF('006各シート集約'!$I$7:$I$306,$W47,'006各シート集約'!F$7:F$306)","v":0},{"$f":"SUMIF('006各シート集約'!$I$7:$I$306,$W47,'006各シート集約'!G$7:G$306)","v":0},{"$f":"SUMIF('006各シート集約'!$I$7:$I$306,$W47,'006各シート集約'!J$7:J$306)","v":0},{"$f":"SUMIF('006各シート集約'!$I$7:$I$306,$W47,'006各シート集約'!K$7:K$306)","v":0},{"$f":"SUMIF('006各シート集約'!$I$7:$I$306,$W47,'006各シート集約'!L$7:L$306)","v":0},{"$f":"SUMIF('006各シート集約'!$I$7:$I$306,$W47,'006各シート集約'!M$7:M$306)","v":0},{"$f":"SUMIF('006各シート集約'!$I$7:$I$306,$W47,'006各シート集約'!N$7:N$306)","v":0},{"$f":"SUMIF('006各シート集約'!$I$7:$I$306,$W47,'006各シート集約'!O$7:O$306)","v":0},{"$f":"SUMIF('006各シート集約'!$I$7:$I$306,$W47,'006各シート集約'!P$7:P$306)","v":0},{"$f":"SUMIF('006各シート集約'!$I$7:$I$306,$W47,'006各シート集約'!Q$7:Q$306)","v":0},{"$f":"SUMIF('006各シート集約'!$I$7:$I$306,$W47,'006各シート集約'!R$7:R$306)","v":0},{"$f":"SUMIF('006各シート集約'!$I$7:$I$306,$W47,'006各シート集約'!S$7:S$306)","v":0},{"$f":"SUMIF('006各シート集約'!$I$7:$I$306,$W47,'006各シート集約'!T$7:T$306)","v":0},{"$f":"SUMIF('006各シート集約'!$I$7:$I$306,$W47,'006各シート集約'!U$7:U$306)","v":0},{"$f":"SUMIF('006各シート集約'!$I$7:$I$306,$W47,'006各シート集約'!V$7:V$306)","v":0},{"$f":"SUMIF('006各シート集約'!$I$7:$I$306,$W47,'006各シート集約'!W$7:W$306)","v":0},{"$f":"SUMIF('006各シート集約'!$I$7:$I$306,$W47,'006各シート集約'!X$7:X$306)","v":0}]
[45,"宮崎県",null,"宮崎県",{"$f":"SUMIF('006各シート集約'!$H$7:$H$306,$D48,'006各シート集約'!F$7:F$306)","v":0},{"$f":"SUMIF('006各シート集約'!$H$7:$H$306,$D48,'006各シート集約'!G$7:G$306)","v":0},{"$f":"SUMIF('006各シート集約'!$H$7:$H$306,$D48,'006各シート集約'!J$7:J$306)","v":0},{"$f":"SUMIF('006各シート集約'!$H$7:$H$306,$D48,'006各シート集約'!K$7:K$306)","v":0},{"$f":"SUMIF('006各シート集約'!$H$7:$H$306,$D48,'006各シート集約'!L$7:L$306)","v":0},{"$f":"SUMIF('006各シート集約'!$H$7:$H$306,$D48,'006各シート集約'!M$7:M$306)","v":0},{"$f":"SUMIF('006各シート集約'!$H$7:$H$306,$D48,'006各シート集約'!N$7:N$306)","v":0},{"$f":"SUMIF('006各シート集約'!$H$7:$H$306,$D48,'006各シート集約'!O$7:O$306)","v":0},{"$f":"SUMIF('006各シート集約'!$H$7:$H$306,$D48,'006各シート集約'!P$7:P$306)","v":0},{"$f":"SUMIF('006各シート集約'!$H$7:$H$306,$D48,'006各シート集約'!Q$7:Q$306)","v":0},{"$f":"SUMIF('006各シート集約'!$H$7:$H$306,$D48,'006各シート集約'!R$7:R$306)","v":0},{"$f":"SUMIF('006各シート集約'!$H$7:$H$306,$D48,'006各シート集約'!S$7:S$306)","v":0},{"$f":"SUMIF('006各シート集約'!$H$7:$H$306,$D48,'006各シート集約'!T$7:T$306)","v":0},{"$f":"SUMIF('006各シート集約'!$H$7:$H$306,$D48,'006各シート集約'!U$7:U$306)","v":0},{"$f":"SUMIF('006各シート集約'!$H$7:$H$306,$D48,'006各シート集約'!V$7:V$306)","v":0},{"$f":"SUMIF('006各シート集約'!$H$7:$H$306,$D48,'006各シート集約'!W$7:W$306)","v":0},{"$f":"SUMIF('006各シート集約'!$H$7:$H$306,$D48,'006各シート集約'!X$7:X$306)","v":0},null,"宮崎県",{"$f":"SUMIF('006各シート集約'!$I$7:$I$306,$W48,'006各シート集約'!F$7:F$306)","v":0},{"$f":"SUMIF('006各シート集約'!$I$7:$I$306,$W48,'006各シート集約'!G$7:G$306)","v":0},{"$f":"SUMIF('006各シート集約'!$I$7:$I$306,$W48,'006各シート集約'!J$7:J$306)","v":0},{"$f":"SUMIF('006各シート集約'!$I$7:$I$306,$W48,'006各シート集約'!K$7:K$306)","v":0},{"$f":"SUMIF('006各シート集約'!$I$7:$I$306,$W48,'006各シート集約'!L$7:L$306)","v":0},{"$f":"SUMIF('006各シート集約'!$I$7:$I$306,$W48,'006各シート集約'!M$7:M$306)","v":0},{"$f":"SUMIF('006各シート集約'!$I$7:$I$306,$W48,'006各シート集約'!N$7:N$306)","v":0},{"$f":"SUMIF('006各シート集約'!$I$7:$I$306,$W48,'006各シート集約'!O$7:O$306)","v":0},{"$f":"SUMIF('006各シート集約'!$I$7:$I$306,$W48,'006各シート集約'!P$7:P$306)","v":0},{"$f":"SUMIF('006各シート集約'!$I$7:$I$306,$W48,'006各シート集約'!Q$7:Q$306)","v":0},{"$f":"SUMIF('006各シート集約'!$I$7:$I$306,$W48,'006各シート集約'!R$7:R$306)","v":0},{"$f":"SUMIF('006各シート集約'!$I$7:$I$306,$W48,'006各シート集約'!S$7:S$306)","v":0},{"$f":"SUMIF('006各シート集約'!$I$7:$I$306,$W48,'006各シート集約'!T$7:T$306)","v":0},{"$f":"SUMIF('006各シート集約'!$I$7:$I$306,$W48,'006各シート集約'!U$7:U$306)","v":0},{"$f":"SUMIF('006各シート集約'!$I$7:$I$306,$W48,'006各シート集約'!V$7:V$306)","v":0},{"$f":"SUMIF('006各シート集約'!$I$7:$I$306,$W48,'006各シート集約'!W$7:W$306)","v":0},{"$f":"SUMIF('006各シート集約'!$I$7:$I$306,$W48,'006各シート集約'!X$7:X$306)","v":0}]
[46,"鹿児島県",null,"鹿児島県",{"$f":"SUMIF('006各シート集約'!$H$7:$H$306,$D49,'006各シート集約'!F$7:F$306)","v":0},{"$f":"SUMIF('006各シート集約'!$H$7:$H$306,$D49,'006各シート集約'!G$7:G$306)","v":0},{"$f":"SUMIF('006各シート集約'!$H$7:$H$306,$D49,'006各シート集約'!J$7:J$306)","v":0},{"$f":"SUMIF('006各シート集約'!$H$7:$H$306,$D49,'006各シート集約'!K$7:K$306)","v":0},{"$f":"SUMIF('006各シート集約'!$H$7:$H$306,$D49,'006各シート集約'!L$7:L$306)","v":0},{"$f":"SUMIF('006各シート集約'!$H$7:$H$306,$D49,'006各シート集約'!M$7:M$306)","v":0},{"$f":"SUMIF('006各シート集約'!$H$7:$H$306,$D49,'006各シート集約'!N$7:N$306)","v":0},{"$f":"SUMIF('006各シート集約'!$H$7:$H$306,$D49,'006各シート集約'!O$7:O$306)","v":0},{"$f":"SUMIF('006各シート集約'!$H$7:$H$306,$D49,'006各シート集約'!P$7:P$306)","v":0},{"$f":"SUMIF('006各シート集約'!$H$7:$H$306,$D49,'006各シート集約'!Q$7:Q$306)","v":0},{"$f":"SUMIF('006各シート集約'!$H$7:$H$306,$D49,'006各シート集約'!R$7:R$306)","v":0},{"$f":"SUMIF('006各シート集約'!$H$7:$H$306,$D49,'006各シート集約'!S$7:S$306)","v":0},{"$f":"SUMIF('006各シート集約'!$H$7:$H$306,$D49,'006各シート集約'!T$7:T$306)","v":0},{"$f":"SUMIF('006各シート集約'!$H$7:$H$306,$D49,'006各シート集約'!U$7:U$306)","v":0},{"$f":"SUMIF('006各シート集約'!$H$7:$H$306,$D49,'006各シート集約'!V$7:V$306)","v":0},{"$f":"SUMIF('006各シート集約'!$H$7:$H$306,$D49,'006各シート集約'!W$7:W$306)","v":0},{"$f":"SUMIF('006各シート集約'!$H$7:$H$306,$D49,'006各シート集約'!X$7:X$306)","v":0},null,"鹿児島県",{"$f":"SUMIF('006各シート集約'!$I$7:$I$306,$W49,'006各シート集約'!F$7:F$306)","v":0},{"$f":"SUMIF('006各シート集約'!$I$7:$I$306,$W49,'006各シート集約'!G$7:G$306)","v":0},{"$f":"SUMIF('006各シート集約'!$I$7:$I$306,$W49,'006各シート集約'!J$7:J$306)","v":0},{"$f":"SUMIF('006各シート集約'!$I$7:$I$306,$W49,'006各シート集約'!K$7:K$306)","v":0},{"$f":"SUMIF('006各シート集約'!$I$7:$I$306,$W49,'006各シート集約'!L$7:L$306)","v":0},{"$f":"SUMIF('006各シート集約'!$I$7:$I$306,$W49,'006各シート集約'!M$7:M$306)","v":0},{"$f":"SUMIF('006各シート集約'!$I$7:$I$306,$W49,'006各シート集約'!N$7:N$306)","v":0},{"$f":"SUMIF('006各シート集約'!$I$7:$I$306,$W49,'006各シート集約'!O$7:O$306)","v":0},{"$f":"SUMIF('006各シート集約'!$I$7:$I$306,$W49,'006各シート集約'!P$7:P$306)","v":0},{"$f":"SUMIF('006各シート集約'!$I$7:$I$306,$W49,'006各シート集約'!Q$7:Q$306)","v":0},{"$f":"SUMIF('006各シート集約'!$I$7:$I$306,$W49,'006各シート集約'!R$7:R$306)","v":0},{"$f":"SUMIF('006各シート集約'!$I$7:$I$306,$W49,'006各シート集約'!S$7:S$306)","v":0},{"$f":"SUMIF('006各シート集約'!$I$7:$I$306,$W49,'006各シート集約'!T$7:T$306)","v":0},{"$f":"SUMIF('006各シート集約'!$I$7:$I$306,$W49,'006各シート集約'!U$7:U$306)","v":0},{"$f":"SUMIF('006各シート集約'!$I$7:$I$306,$W49,'006各シート集約'!V$7:V$306)","v":0},{"$f":"SUMIF('006各シート集約'!$I$7:$I$306,$W49,'006各シート集約'!W$7:W$306)","v":0},{"$f":"SUMIF('006各シート集約'!$I$7:$I$306,$W49,'006各シート集約'!X$7:X$306)","v":0}]
[47,"沖縄県",null,"沖縄県",{"$f":"SUMIF('006各シート集約'!$H$7:$H$306,$D50,'006各シート集約'!F$7:F$306)","v":0},{"$f":"SUMIF('006各シート集約'!$H$7:$H$306,$D50,'006各シート集約'!G$7:G$306)","v":0},{"$f":"SUMIF('006各シート集約'!$H$7:$H$306,$D50,'006各シート集約'!J$7:J$306)","v":0},{"$f":"SUMIF('006各シート集約'!$H$7:$H$306,$D50,'006各シート集約'!K$7:K$306)","v":0},{"$f":"SUMIF('006各シート集約'!$H$7:$H$306,$D50,'006各シート集約'!L$7:L$306)","v":0},{"$f":"SUMIF('006各シート集約'!$H$7:$H$306,$D50,'006各シート集約'!M$7:M$306)","v":0},{"$f":"SUMIF('006各シート集約'!$H$7:$H$306,$D50,'006各シート集約'!N$7:N$306)","v":0},{"$f":"SUMIF('006各シート集約'!$H$7:$H$306,$D50,'006各シート集約'!O$7:O$306)","v":0},{"$f":"SUMIF('006各シート集約'!$H$7:$H$306,$D50,'006各シート集約'!P$7:P$306)","v":0},{"$f":"SUMIF('006各シート集約'!$H$7:$H$306,$D50,'006各シート集約'!Q$7:Q$306)","v":0},{"$f":"SUMIF('006各シート集約'!$H$7:$H$306,$D50,'006各シート集約'!R$7:R$306)","v":0},{"$f":"SUMIF('006各シート集約'!$H$7:$H$306,$D50,'006各シート集約'!S$7:S$306)","v":0},{"$f":"SUMIF('006各シート集約'!$H$7:$H$306,$D50,'006各シート集約'!T$7:T$306)","v":0},{"$f":"SUMIF('006各シート集約'!$H$7:$H$306,$D50,'006各シート集約'!U$7:U$306)","v":0},{"$f":"SUMIF('006各シート集約'!$H$7:$H$306,$D50,'006各シート集約'!V$7:V$306)","v":0},{"$f":"SUMIF('006各シート集約'!$H$7:$H$306,$D50,'006各シート集約'!W$7:W$306)","v":0},{"$f":"SUMIF('006各シート集約'!$H$7:$H$306,$D50,'006各シート集約'!X$7:X$306)","v":0},null,"沖縄県",{"$f":"SUMIF('006各シート集約'!$I$7:$I$306,$W50,'006各シート集約'!F$7:F$306)","v":0},{"$f":"SUMIF('006各シート集約'!$I$7:$I$306,$W50,'006各シート集約'!G$7:G$306)","v":0},{"$f":"SUMIF('006各シート集約'!$I$7:$I$306,$W50,'006各シート集約'!J$7:J$306)","v":0},{"$f":"SUMIF('006各シート集約'!$I$7:$I$306,$W50,'006各シート集約'!K$7:K$306)","v":0},{"$f":"SUMIF('006各シート集約'!$I$7:$I$306,$W50,'006各シート集約'!L$7:L$306)","v":0},{"$f":"SUMIF('006各シート集約'!$I$7:$I$306,$W50,'006各シート集約'!M$7:M$306)","v":0},{"$f":"SUMIF('006各シート集約'!$I$7:$I$306,$W50,'006各シート集約'!N$7:N$306)","v":0},{"$f":"SUMIF('006各シート集約'!$I$7:$I$306,$W50,'006各シート集約'!O$7:O$306)","v":0},{"$f":"SUMIF('006各シート集約'!$I$7:$I$306,$W50,'006各シート集約'!P$7:P$306)","v":0},{"$f":"SUMIF('006各シート集約'!$I$7:$I$306,$W50,'006各シート集約'!Q$7:Q$306)","v":0},{"$f":"SUMIF('006各シート集約'!$I$7:$I$306,$W50,'006各シート集約'!R$7:R$306)","v":0},{"$f":"SUMIF('006各シート集約'!$I$7:$I$306,$W50,'006各シート集約'!S$7:S$306)","v":0},{"$f":"SUMIF('006各シート集約'!$I$7:$I$306,$W50,'006各シート集約'!T$7:T$306)","v":0},{"$f":"SUMIF('006各シート集約'!$I$7:$I$306,$W50,'006各シート集約'!U$7:U$306)","v":0},{"$f":"SUMIF('006各シート集約'!$I$7:$I$306,$W50,'006各シート集約'!V$7:V$306)","v":0},{"$f":"SUMIF('006各シート集約'!$I$7:$I$306,$W50,'006各シート集約'!W$7:W$306)","v":0},{"$f":"SUMIF('006各シート集約'!$I$7:$I$306,$W50,'006各シート集約'!X$7:X$306)","v":0}]
[48,"北海道","指定都市","札幌市",{"$f":"SUMIF('006各シート集約'!$H$7:$H$306,$D51,'006各シート集約'!F$7:F$306)","v":0},{"$f":"SUMIF('006各シート集約'!$H$7:$H$306,$D51,'006各シート集約'!G$7:G$306)","v":0},{"$f":"SUMIF('006各シート集約'!$H$7:$H$306,$D51,'006各シート集約'!J$7:J$306)","v":0},{"$f":"SUMIF('006各シート集約'!$H$7:$H$306,$D51,'006各シート集約'!K$7:K$306)","v":0},{"$f":"SUMIF('006各シート集約'!$H$7:$H$306,$D51,'006各シート集約'!L$7:L$306)","v":0},{"$f":"SUMIF('006各シート集約'!$H$7:$H$306,$D51,'006各シート集約'!M$7:M$306)","v":0},{"$f":"SUMIF('006各シート集約'!$H$7:$H$306,$D51,'006各シート集約'!N$7:N$306)","v":0},{"$f":"SUMIF('006各シート集約'!$H$7:$H$306,$D51,'006各シート集約'!O$7:O$306)","v":0},{"$f":"SUMIF('006各シート集約'!$H$7:$H$306,$D51,'006各シート集約'!P$7:P$306)","v":0},{"$f":"SUMIF('006各シート集約'!$H$7:$H$306,$D51,'006各シート集約'!Q$7:Q$306)","v":0},{"$f":"SUMIF('006各シート集約'!$H$7:$H$306,$D51,'006各シート集約'!R$7:R$306)","v":0},{"$f":"SUMIF('006各シート集約'!$H$7:$H$306,$D51,'006各シート集約'!S$7:S$306)","v":0},{"$f":"SUMIF('006各シート集約'!$H$7:$H$306,$D51,'006各シート集約'!T$7:T$306)","v":0},{"$f":"SUMIF('006各シート集約'!$H$7:$H$306,$D51,'006各シート集約'!U$7:U$306)","v":0},{"$f":"SUMIF('006各シート集約'!$H$7:$H$306,$D51,'006各シート集約'!V$7:V$306)","v":0},{"$f":"SUMIF('006各シート集約'!$H$7:$H$306,$D51,'006各シート集約'!W$7:W$306)","v":0},{"$f":"SUMIF('006各シート集約'!$H$7:$H$306,$D51,'006各シート集約'!X$7:X$306)","v":0}]
[49,"宮城県",null,"仙台市",{"$f":"SUMIF('006各シート集約'!$H$7:$H$306,$D52,'006各シート集約'!F$7:F$306)","v":0},{"$f":"SUMIF('006各シート集約'!$H$7:$H$306,$D52,'006各シート集約'!G$7:G$306)","v":0},{"$f":"SUMIF('006各シート集約'!$H$7:$H$306,$D52,'006各シート集約'!J$7:J$306)","v":0},{"$f":"SUMIF('006各シート集約'!$H$7:$H$306,$D52,'006各シート集約'!K$7:K$306)","v":0},{"$f":"SUMIF('006各シート集約'!$H$7:$H$306,$D52,'006各シート集約'!L$7:L$306)","v":0},{"$f":"SUMIF('006各シート集約'!$H$7:$H$306,$D52,'006各シート集約'!M$7:M$306)","v":0},{"$f":"SUMIF('006各シート集約'!$H$7:$H$306,$D52,'006各シート集約'!N$7:N$306)","v":0},{"$f":"SUMIF('006各シート集約'!$H$7:$H$306,$D52,'006各シート集約'!O$7:O$306)","v":0},{"$f":"SUMIF('006各シート集約'!$H$7:$H$306,$D52,'006各シート集約'!P$7:P$306)","v":0},{"$f":"SUMIF('006各シート集約'!$H$7:$H$306,$D52,'006各シート集約'!Q$7:Q$306)","v":0},{"$f":"SUMIF('006各シート集約'!$H$7:$H$306,$D52,'006各シート集約'!R$7:R$306)","v":0},{"$f":"SUMIF('006各シート集約'!$H$7:$H$306,$D52,'006各シート集約'!S$7:S$306)","v":0},{"$f":"SUMIF('006各シート集約'!$H$7:$H$306,$D52,'006各シート集約'!T$7:T$306)","v":0},{"$f":"SUMIF('006各シート集約'!$H$7:$H$306,$D52,'006各シート集約'!U$7:U$306)","v":0},{"$f":"SUMIF('006各シート集約'!$H$7:$H$306,$D52,'006各シート集約'!V$7:V$306)","v":0},{"$f":"SUMIF('006各シート集約'!$H$7:$H$306,$D52,'006各シート集約'!W$7:W$306)","v":0},{"$f":"SUMIF('006各シート集約'!$H$7:$H$306,$D52,'006各シート集約'!X$7:X$306)","v":0}]
[50,"埼玉県",null,"さいたま市",{"$f":"SUMIF('006各シート集約'!$H$7:$H$306,$D53,'006各シート集約'!F$7:F$306)","v":0},{"$f":"SUMIF('006各シート集約'!$H$7:$H$306,$D53,'006各シート集約'!G$7:G$306)","v":0},{"$f":"SUMIF('006各シート集約'!$H$7:$H$306,$D53,'006各シート集約'!J$7:J$306)","v":0},{"$f":"SUMIF('006各シート集約'!$H$7:$H$306,$D53,'006各シート集約'!K$7:K$306)","v":0},{"$f":"SUMIF('006各シート集約'!$H$7:$H$306,$D53,'006各シート集約'!L$7:L$306)","v":0},{"$f":"SUMIF('006各シート集約'!$H$7:$H$306,$D53,'006各シート集約'!M$7:M$306)","v":0},{"$f":"SUMIF('006各シート集約'!$H$7:$H$306,$D53,'006各シート集約'!N$7:N$306)","v":0},{"$f":"SUMIF('006各シート集約'!$H$7:$H$306,$D53,'006各シート集約'!O$7:O$306)","v":0},{"$f":"SUMIF('006各シート集約'!$H$7:$H$306,$D53,'006各シート集約'!P$7:P$306)","v":0},{"$f":"SUMIF('006各シート集約'!$H$7:$H$306,$D53,'006各シート集約'!Q$7:Q$306)","v":0},{"$f":"SUMIF('006各シート集約'!$H$7:$H$306,$D53,'006各シート集約'!R$7:R$306)","v":0},{"$f":"SUMIF('006各シート集約'!$H$7:$H$306,$D53,'006各シート集約'!S$7:S$306)","v":0},{"$f":"SUMIF('006各シート集約'!$H$7:$H$306,$D53,'006各シート集約'!T$7:T$306)","v":0},{"$f":"SUMIF('006各シート集約'!$H$7:$H$306,$D53,'006各シート集約'!U$7:U$306)","v":0},{"$f":"SUMIF('006各シート集約'!$H$7:$H$306,$D53,'006各シート集約'!V$7:V$306)","v":0},{"$f":"SUMIF('006各シート集約'!$H$7:$H$306,$D53,'006各シート集約'!W$7:W$306)","v":0},{"$f":"SUMIF('006各シート集約'!$H$7:$H$306,$D53,'006各シート集約'!X$7:X$306)","v":0}]
[51,"千葉県",null,"千葉市",{"$f":"SUMIF('006各シート集約'!$H$7:$H$306,$D54,'006各シート集約'!F$7:F$306)","v":0},{"$f":"SUMIF('006各シート集約'!$H$7:$H$306,$D54,'006各シート集約'!G$7:G$306)","v":0},{"$f":"SUMIF('006各シート集約'!$H$7:$H$306,$D54,'006各シート集約'!J$7:J$306)","v":0},{"$f":"SUMIF('006各シート集約'!$H$7:$H$306,$D54,'006各シート集約'!K$7:K$306)","v":0},{"$f":"SUMIF('006各シート集約'!$H$7:$H$306,$D54,'006各シート集約'!L$7:L$306)","v":0},{"$f":"SUMIF('006各シート集約'!$H$7:$H$306,$D54,'006各シート集約'!M$7:M$306)","v":0},{"$f":"SUMIF('006各シート集約'!$H$7:$H$306,$D54,'006各シート集約'!N$7:N$306)","v":0},{"$f":"SUMIF('006各シート集約'!$H$7:$H$306,$D54,'006各シート集約'!O$7:O$306)","v":0},{"$f":"SUMIF('006各シート集約'!$H$7:$H$306,$D54,'006各シート集約'!P$7:P$306)","v":0},{"$f":"SUMIF('006各シート集約'!$H$7:$H$306,$D54,'006各シート集約'!Q$7:Q$306)","v":0},{"$f":"SUMIF('006各シート集約'!$H$7:$H$306,$D54,'006各シート集約'!R$7:R$306)","v":0},{"$f":"SUMIF('006各シート集約'!$H$7:$H$306,$D54,'006各シート集約'!S$7:S$306)","v":0},{"$f":"SUMIF('006各シート集約'!$H$7:$H$306,$D54,'006各シート集約'!T$7:T$306)","v":0},{"$f":"SUMIF('006各シート集約'!$H$7:$H$306,$D54,'006各シート集約'!U$7:U$306)","v":0},{"$f":"SUMIF('006各シート集約'!$H$7:$H$306,$D54,'006各シート集約'!V$7:V$306)","v":0},{"$f":"SUMIF('006各シート集約'!$H$7:$H$306,$D54,'006各シート集約'!W$7:W$306)","v":0},{"$f":"SUMIF('006各シート集約'!$H$7:$H$306,$D54,'006各シート集約'!X$7:X$306)","v":0}]
[52,"神奈川県",null,"横浜市",{"$f":"SUMIF('006各シート集約'!$H$7:$H$306,$D55,'006各シート集約'!F$7:F$306)","v":0},{"$f":"SUMIF('006各シート集約'!$H$7:$H$306,$D55,'006各シート集約'!G$7:G$306)","v":0},{"$f":"SUMIF('006各シート集約'!$H$7:$H$306,$D55,'006各シート集約'!J$7:J$306)","v":0},{"$f":"SUMIF('006各シート集約'!$H$7:$H$306,$D55,'006各シート集約'!K$7:K$306)","v":0},{"$f":"SUMIF('006各シート集約'!$H$7:$H$306,$D55,'006各シート集約'!L$7:L$306)","v":0},{"$f":"SUMIF('006各シート集約'!$H$7:$H$306,$D55,'006各シート集約'!M$7:M$306)","v":0},{"$f":"SUMIF('006各シート集約'!$H$7:$H$306,$D55,'006各シート集約'!N$7:N$306)","v":0},{"$f":"SUMIF('006各シート集約'!$H$7:$H$306,$D55,'006各シート集約'!O$7:O$306)","v":0},{"$f":"SUMIF('006各シート集約'!$H$7:$H$306,$D55,'006各シート集約'!P$7:P$306)","v":0},{"$f":"SUMIF('006各シート集約'!$H$7:$H$306,$D55,'006各シート集約'!Q$7:Q$306)","v":0},{"$f":"SUMIF('006各シート集約'!$H$7:$H$306,$D55,'006各シート集約'!R$7:R$306)","v":0},{"$f":"SUMIF('006各シート集約'!$H$7:$H$306,$D55,'006各シート集約'!S$7:S$306)","v":0},{"$f":"SUMIF('006各シート集約'!$H$7:$H$306,$D55,'006各シート集約'!T$7:T$306)","v":0},{"$f":"SUMIF('006各シート集約'!$H$7:$H$306,$D55,'006各シート集約'!U$7:U$306)","v":0},{"$f":"SUMIF('006各シート集約'!$H$7:$H$306,$D55,'006各シート集約'!V$7:V$306)","v":0},{"$f":"SUMIF('006各シート集約'!$H$7:$H$306,$D55,'006各シート集約'!W$7:W$306)","v":0},{"$f":"SUMIF('006各シート集約'!$H$7:$H$306,$D55,'006各シート集約'!X$7:X$306)","v":0}]
[53,"神奈川県",null,"川崎市",{"$f":"SUMIF('006各シート集約'!$H$7:$H$306,$D56,'006各シート集約'!F$7:F$306)","v":0},{"$f":"SUMIF('006各シート集約'!$H$7:$H$306,$D56,'006各シート集約'!G$7:G$306)","v":0},{"$f":"SUMIF('006各シート集約'!$H$7:$H$306,$D56,'006各シート集約'!J$7:J$306)","v":0},{"$f":"SUMIF('006各シート集約'!$H$7:$H$306,$D56,'006各シート集約'!K$7:K$306)","v":0},{"$f":"SUMIF('006各シート集約'!$H$7:$H$306,$D56,'006各シート集約'!L$7:L$306)","v":0},{"$f":"SUMIF('006各シート集約'!$H$7:$H$306,$D56,'006各シート集約'!M$7:M$306)","v":0},{"$f":"SUMIF('006各シート集約'!$H$7:$H$306,$D56,'006各シート集約'!N$7:N$306)","v":0},{"$f":"SUMIF('006各シート集約'!$H$7:$H$306,$D56,'006各シート集約'!O$7:O$306)","v":0},{"$f":"SUMIF('006各シート集約'!$H$7:$H$306,$D56,'006各シート集約'!P$7:P$306)","v":0},{"$f":"SUMIF('006各シート集約'!$H$7:$H$306,$D56,'006各シート集約'!Q$7:Q$306)","v":0},{"$f":"SUMIF('006各シート集約'!$H$7:$H$306,$D56,'006各シート集約'!R$7:R$306)","v":0},{"$f":"SUMIF('006各シート集約'!$H$7:$H$306,$D56,'006各シート集約'!S$7:S$306)","v":0},{"$f":"SUMIF('006各シート集約'!$H$7:$H$306,$D56,'006各シート集約'!T$7:T$306)","v":0},{"$f":"SUMIF('006各シート集約'!$H$7:$H$306,$D56,'006各シート集約'!U$7:U$306)","v":0},{"$f":"SUMIF('006各シート集約'!$H$7:$H$306,$D56,'006各シート集約'!V$7:V$306)","v":0},{"$f":"SUMIF('006各シート集約'!$H$7:$H$306,$D56,'006各シート集約'!W$7:W$306)","v":0},{"$f":"SUMIF('006各シート集約'!$H$7:$H$306,$D56,'006各シート集約'!X$7:X$306)","v":0}]
[54,"神奈川県",null,"相模原市",{"$f":"SUMIF('006各シート集約'!$H$7:$H$306,$D57,'006各シート集約'!F$7:F$306)","v":0},{"$f":"SUMIF('006各シート集約'!$H$7:$H$306,$D57,'006各シート集約'!G$7:G$306)","v":0},{"$f":"SUMIF('006各シート集約'!$H$7:$H$306,$D57,'006各シート集約'!J$7:J$306)","v":0},{"$f":"SUMIF('006各シート集約'!$H$7:$H$306,$D57,'006各シート集約'!K$7:K$306)","v":0},{"$f":"SUMIF('006各シート集約'!$H$7:$H$306,$D57,'006各シート集約'!L$7:L$306)","v":0},{"$f":"SUMIF('006各シート集約'!$H$7:$H$306,$D57,'006各シート集約'!M$7:M$306)","v":0},{"$f":"SUMIF('006各シート集約'!$H$7:$H$306,$D57,'006各シート集約'!N$7:N$306)","v":0},{"$f":"SUMIF('006各シート集約'!$H$7:$H$306,$D57,'006各シート集約'!O$7:O$306)","v":0},{"$f":"SUMIF('006各シート集約'!$H$7:$H$306,$D57,'006各シート集約'!P$7:P$306)","v":0},{"$f":"SUMIF('006各シート集約'!$H$7:$H$306,$D57,'006各シート集約'!Q$7:Q$306)","v":0},{"$f":"SUMIF('006各シート集約'!$H$7:$H$306,$D57,'006各シート集約'!R$7:R$306)","v":0},{"$f":"SUMIF('006各シート集約'!$H$7:$H$306,$D57,'006各シート集約'!S$7:S$306)","v":0},{"$f":"SUMIF('006各シート集約'!$H$7:$H$306,$D57,'006各シート集約'!T$7:T$306)","v":0},{"$f":"SUMIF('006各シート集約'!$H$7:$H$306,$D57,'006各シート集約'!U$7:U$306)","v":0},{"$f":"SUMIF('006各シート集約'!$H$7:$H$306,$D57,'006各シート集約'!V$7:V$306)","v":0},{"$f":"SUMIF('006各シート集約'!$H$7:$H$306,$D57,'006各シート集約'!W$7:W$306)","v":0},{"$f":"SUMIF('006各シート集約'!$H$7:$H$306,$D57,'006各シート集約'!X$7:X$306)","v":0}]
[55,"新潟県",null,"新潟市",{"$f":"SUMIF('006各シート集約'!$H$7:$H$306,$D58,'006各シート集約'!F$7:F$306)","v":0},{"$f":"SUMIF('006各シート集約'!$H$7:$H$306,$D58,'006各シート集約'!G$7:G$306)","v":0},{"$f":"SUMIF('006各シート集約'!$H$7:$H$306,$D58,'006各シート集約'!J$7:J$306)","v":0},{"$f":"SUMIF('006各シート集約'!$H$7:$H$306,$D58,'006各シート集約'!K$7:K$306)","v":0},{"$f":"SUMIF('006各シート集約'!$H$7:$H$306,$D58,'006各シート集約'!L$7:L$306)","v":0},{"$f":"SUMIF('006各シート集約'!$H$7:$H$306,$D58,'006各シート集約'!M$7:M$306)","v":0},{"$f":"SUMIF('006各シート集約'!$H$7:$H$306,$D58,'006各シート集約'!N$7:N$306)","v":0},{"$f":"SUMIF('006各シート集約'!$H$7:$H$306,$D58,'006各シート集約'!O$7:O$306)","v":0},{"$f":"SUMIF('006各シート集約'!$H$7:$H$306,$D58,'006各シート集約'!P$7:P$306)","v":0},{"$f":"SUMIF('006各シート集約'!$H$7:$H$306,$D58,'006各シート集約'!Q$7:Q$306)","v":0},{"$f":"SUMIF('006各シート集約'!$H$7:$H$306,$D58,'006各シート集約'!R$7:R$306)","v":0},{"$f":"SUMIF('006各シート集約'!$H$7:$H$306,$D58,'006各シート集約'!S$7:S$306)","v":0},{"$f":"SUMIF('006各シート集約'!$H$7:$H$306,$D58,'006各シート集約'!T$7:T$306)","v":0},{"$f":"SUMIF('006各シート集約'!$H$7:$H$306,$D58,'006各シート集約'!U$7:U$306)","v":0},{"$f":"SUMIF('006各シート集約'!$H$7:$H$306,$D58,'006各シート集約'!V$7:V$306)","v":0},{"$f":"SUMIF('006各シート集約'!$H$7:$H$306,$D58,'006各シート集約'!W$7:W$306)","v":0},{"$f":"SUMIF('006各シート集約'!$H$7:$H$306,$D58,'006各シート集約'!X$7:X$306)","v":0}]
[56,"静岡県",null,"静岡市",{"$f":"SUMIF('006各シート集約'!$H$7:$H$306,$D59,'006各シート集約'!F$7:F$306)","v":0},{"$f":"SUMIF('006各シート集約'!$H$7:$H$306,$D59,'006各シート集約'!G$7:G$306)","v":0},{"$f":"SUMIF('006各シート集約'!$H$7:$H$306,$D59,'006各シート集約'!J$7:J$306)","v":0},{"$f":"SUMIF('006各シート集約'!$H$7:$H$306,$D59,'006各シート集約'!K$7:K$306)","v":0},{"$f":"SUMIF('006各シート集約'!$H$7:$H$306,$D59,'006各シート集約'!L$7:L$306)","v":0},{"$f":"SUMIF('006各シート集約'!$H$7:$H$306,$D59,'006各シート集約'!M$7:M$306)","v":0},{"$f":"SUMIF('006各シート集約'!$H$7:$H$306,$D59,'006各シート集約'!N$7:N$306)","v":0},{"$f":"SUMIF('006各シート集約'!$H$7:$H$306,$D59,'006各シート集約'!O$7:O$306)","v":0},{"$f":"SUMIF('006各シート集約'!$H$7:$H$306,$D59,'006各シート集約'!P$7:P$306)","v":0},{"$f":"SUMIF('006各シート集約'!$H$7:$H$306,$D59,'006各シート集約'!Q$7:Q$306)","v":0},{"$f":"SUMIF('006各シート集約'!$H$7:$H$306,$D59,'006各シート集約'!R$7:R$306)","v":0},{"$f":"SUMIF('006各シート集約'!$H$7:$H$306,$D59,'006各シート集約'!S$7:S$306)","v":0},{"$f":"SUMIF('006各シート集約'!$H$7:$H$306,$D59,'006各シート集約'!T$7:T$306)","v":0},{"$f":"SUMIF('006各シート集約'!$H$7:$H$306,$D59,'006各シート集約'!U$7:U$306)","v":0},{"$f":"SUMIF('006各シート集約'!$H$7:$H$306,$D59,'006各シート集約'!V$7:V$306)","v":0},{"$f":"SUMIF('006各シート集約'!$H$7:$H$306,$D59,'006各シート集約'!W$7:W$306)","v":0},{"$f":"SUMIF('006各シート集約'!$H$7:$H$306,$D59,'006各シート集約'!X$7:X$306)","v":0}]
[57,"静岡県",null,"浜松市",{"$f":"SUMIF('006各シート集約'!$H$7:$H$306,$D60,'006各シート集約'!F$7:F$306)","v":0},{"$f":"SUMIF('006各シート集約'!$H$7:$H$306,$D60,'006各シート集約'!G$7:G$306)","v":0},{"$f":"SUMIF('006各シート集約'!$H$7:$H$306,$D60,'006各シート集約'!J$7:J$306)","v":0},{"$f":"SUMIF('006各シート集約'!$H$7:$H$306,$D60,'006各シート集約'!K$7:K$306)","v":0},{"$f":"SUMIF('006各シート集約'!$H$7:$H$306,$D60,'006各シート集約'!L$7:L$306)","v":0},{"$f":"SUMIF('006各シート集約'!$H$7:$H$306,$D60,'006各シート集約'!M$7:M$306)","v":0},{"$f":"SUMIF('006各シート集約'!$H$7:$H$306,$D60,'006各シート集約'!N$7:N$306)","v":0},{"$f":"SUMIF('006各シート集約'!$H$7:$H$306,$D60,'006各シート集約'!O$7:O$306)","v":0},{"$f":"SUMIF('006各シート集約'!$H$7:$H$306,$D60,'006各シート集約'!P$7:P$306)","v":0},{"$f":"SUMIF('006各シート集約'!$H$7:$H$306,$D60,'006各シート集約'!Q$7:Q$306)","v":0},{"$f":"SUMIF('006各シート集約'!$H$7:$H$306,$D60,'006各シート集約'!R$7:R$306)","v":0},{"$f":"SUMIF('006各シート集約'!$H$7:$H$306,$D60,'006各シート集約'!S$7:S$306)","v":0},{"$f":"SUMIF('006各シート集約'!$H$7:$H$306,$D60,'006各シート集約'!T$7:T$306)","v":0},{"$f":"SUMIF('006各シート集約'!$H$7:$H$306,$D60,'006各シート集約'!U$7:U$306)","v":0},{"$f":"SUMIF('006各シート集約'!$H$7:$H$306,$D60,'006各シート集約'!V$7:V$306)","v":0},{"$f":"SUMIF('006各シート集約'!$H$7:$H$306,$D60,'006各シート集約'!W$7:W$306)","v":0},{"$f":"SUMIF('006各シート集約'!$H$7:$H$306,$D60,'006各シート集約'!X$7:X$306)","v":0}]
[58,"愛知県",null,"名古屋市",{"$f":"SUMIF('006各シート集約'!$H$7:$H$306,$D61,'006各シート集約'!F$7:F$306)","v":0},{"$f":"SUMIF('006各シート集約'!$H$7:$H$306,$D61,'006各シート集約'!G$7:G$306)","v":0},{"$f":"SUMIF('006各シート集約'!$H$7:$H$306,$D61,'006各シート集約'!J$7:J$306)","v":0},{"$f":"SUMIF('006各シート集約'!$H$7:$H$306,$D61,'006各シート集約'!K$7:K$306)","v":0},{"$f":"SUMIF('006各シート集約'!$H$7:$H$306,$D61,'006各シート集約'!L$7:L$306)","v":0},{"$f":"SUMIF('006各シート集約'!$H$7:$H$306,$D61,'006各シート集約'!M$7:M$306)","v":0},{"$f":"SUMIF('006各シート集約'!$H$7:$H$306,$D61,'006各シート集約'!N$7:N$306)","v":0},{"$f":"SUMIF('006各シート集約'!$H$7:$H$306,$D61,'006各シート集約'!O$7:O$306)","v":0},{"$f":"SUMIF('006各シート集約'!$H$7:$H$306,$D61,'006各シート集約'!P$7:P$306)","v":0},{"$f":"SUMIF('006各シート集約'!$H$7:$H$306,$D61,'006各シート集約'!Q$7:Q$306)","v":0},{"$f":"SUMIF('006各シート集約'!$H$7:$H$306,$D61,'006各シート集約'!R$7:R$306)","v":0},{"$f":"SUMIF('006各シート集約'!$H$7:$H$306,$D61,'006各シート集約'!S$7:S$306)","v":0},{"$f":"SUMIF('006各シート集約'!$H$7:$H$306,$D61,'006各シート集約'!T$7:T$306)","v":0},{"$f":"SUMIF('006各シート集約'!$H$7:$H$306,$D61,'006各シート集約'!U$7:U$306)","v":0},{"$f":"SUMIF('006各シート集約'!$H$7:$H$306,$D61,'006各シート集約'!V$7:V$306)","v":0},{"$f":"SUMIF('006各シート集約'!$H$7:$H$306,$D61,'006各シート集約'!W$7:W$306)","v":0},{"$f":"SUMIF('006各シート集約'!$H$7:$H$306,$D61,'006各シート集約'!X$7:X$306)","v":0}]
[59,"京都府",null,"京都市",{"$f":"SUMIF('006各シート集約'!$H$7:$H$306,$D62,'006各シート集約'!F$7:F$306)","v":0},{"$f":"SUMIF('006各シート集約'!$H$7:$H$306,$D62,'006各シート集約'!G$7:G$306)","v":0},{"$f":"SUMIF('006各シート集約'!$H$7:$H$306,$D62,'006各シート集約'!J$7:J$306)","v":0},{"$f":"SUMIF('006各シート集約'!$H$7:$H$306,$D62,'006各シート集約'!K$7:K$306)","v":0},{"$f":"SUMIF('006各シート集約'!$H$7:$H$306,$D62,'006各シート集約'!L$7:L$306)","v":0},{"$f":"SUMIF('006各シート集約'!$H$7:$H$306,$D62,'006各シート集約'!M$7:M$306)","v":0},{"$f":"SUMIF('006各シート集約'!$H$7:$H$306,$D62,'006各シート集約'!N$7:N$306)","v":0},{"$f":"SUMIF('006各シート集約'!$H$7:$H$306,$D62,'006各シート集約'!O$7:O$306)","v":0},{"$f":"SUMIF('006各シート集約'!$H$7:$H$306,$D62,'006各シート集約'!P$7:P$306)","v":0},{"$f":"SUMIF('006各シート集約'!$H$7:$H$306,$D62,'006各シート集約'!Q$7:Q$306)","v":0},{"$f":"SUMIF('006各シート集約'!$H$7:$H$306,$D62,'006各シート集約'!R$7:R$306)","v":0},{"$f":"SUMIF('006各シート集約'!$H$7:$H$306,$D62,'006各シート集約'!S$7:S$306)","v":0},{"$f":"SUMIF('006各シート集約'!$H$7:$H$306,$D62,'006各シート集約'!T$7:T$306)","v":0},{"$f":"SUMIF('006各シート集約'!$H$7:$H$306,$D62,'006各シート集約'!U$7:U$306)","v":0},{"$f":"SUMIF('006各シート集約'!$H$7:$H$306,$D62,'006各シート集約'!V$7:V$306)","v":0},{"$f":"SUMIF('006各シート集約'!$H$7:$H$306,$D62,'006各シート集約'!W$7:W$306)","v":0},{"$f":"SUMIF('006各シート集約'!$H$7:$H$306,$D62,'006各シート集約'!X$7:X$306)","v":0}]
[60,"大阪府",null,"大阪市",{"$f":"SUMIF('006各シート集約'!$H$7:$H$306,$D63,'006各シート集約'!F$7:F$306)","v":0},{"$f":"SUMIF('006各シート集約'!$H$7:$H$306,$D63,'006各シート集約'!G$7:G$306)","v":0},{"$f":"SUMIF('006各シート集約'!$H$7:$H$306,$D63,'006各シート集約'!J$7:J$306)","v":0},{"$f":"SUMIF('006各シート集約'!$H$7:$H$306,$D63,'006各シート集約'!K$7:K$306)","v":0},{"$f":"SUMIF('006各シート集約'!$H$7:$H$306,$D63,'006各シート集約'!L$7:L$306)","v":0},{"$f":"SUMIF('006各シート集約'!$H$7:$H$306,$D63,'006各シート集約'!M$7:M$306)","v":0},{"$f":"SUMIF('006各シート集約'!$H$7:$H$306,$D63,'006各シート集約'!N$7:N$306)","v":0},{"$f":"SUMIF('006各シート集約'!$H$7:$H$306,$D63,'006各シート集約'!O$7:O$306)","v":0},{"$f":"SUMIF('006各シート集約'!$H$7:$H$306,$D63,'006各シート集約'!P$7:P$306)","v":0},{"$f":"SUMIF('006各シート集約'!$H$7:$H$306,$D63,'006各シート集約'!Q$7:Q$306)","v":0},{"$f":"SUMIF('006各シート集約'!$H$7:$H$306,$D63,'006各シート集約'!R$7:R$306)","v":0},{"$f":"SUMIF('006各シート集約'!$H$7:$H$306,$D63,'006各シート集約'!S$7:S$306)","v":0},{"$f":"SUMIF('006各シート集約'!$H$7:$H$306,$D63,'006各シート集約'!T$7:T$306)","v":0},{"$f":"SUMIF('006各シート集約'!$H$7:$H$306,$D63,'006各シート集約'!U$7:U$306)","v":0},{"$f":"SUMIF('006各シート集約'!$H$7:$H$306,$D63,'006各シート集約'!V$7:V$306)","v":0},{"$f":"SUMIF('006各シート集約'!$H$7:$H$306,$D63,'006各シート集約'!W$7:W$306)","v":0},{"$f":"SUMIF('006各シート集約'!$H$7:$H$306,$D63,'006各シート集約'!X$7:X$306)","v":0}]
[61,"大阪府",null,"堺市",{"$f":"SUMIF('006各シート集約'!$H$7:$H$306,$D64,'006各シート集約'!F$7:F$306)","v":0},{"$f":"SUMIF('006各シート集約'!$H$7:$H$306,$D64,'006各シート集約'!G$7:G$306)","v":0},{"$f":"SUMIF('006各シート集約'!$H$7:$H$306,$D64,'006各シート集約'!J$7:J$306)","v":0},{"$f":"SUMIF('006各シート集約'!$H$7:$H$306,$D64,'006各シート集約'!K$7:K$306)","v":0},{"$f":"SUMIF('006各シート集約'!$H$7:$H$306,$D64,'006各シート集約'!L$7:L$306)","v":0},{"$f":"SUMIF('006各シート集約'!$H$7:$H$306,$D64,'006各シート集約'!M$7:M$306)","v":0},{"$f":"SUMIF('006各シート集約'!$H$7:$H$306,$D64,'006各シート集約'!N$7:N$306)","v":0},{"$f":"SUMIF('006各シート集約'!$H$7:$H$306,$D64,'006各シート集約'!O$7:O$306)","v":0},{"$f":"SUMIF('006各シート集約'!$H$7:$H$306,$D64,'006各シート集約'!P$7:P$306)","v":0},{"$f":"SUMIF('006各シート集約'!$H$7:$H$306,$D64,'006各シート集約'!Q$7:Q$306)","v":0},{"$f":"SUMIF('006各シート集約'!$H$7:$H$306,$D64,'006各シート集約'!R$7:R$306)","v":0},{"$f":"SUMIF('006各シート集約'!$H$7:$H$306,$D64,'006各シート集約'!S$7:S$306)","v":0},{"$f":"SUMIF('006各シート集約'!$H$7:$H$306,$D64,'006各シート集約'!T$7:T$306)","v":0},{"$f":"SUMIF('006各シート集約'!$H$7:$H$306,$D64,'006各シート集約'!U$7:U$306)","v":0},{"$f":"SUMIF('006各シート集約'!$H$7:$H$306,$D64,'006各シート集約'!V$7:V$306)","v":0},{"$f":"SUMIF('006各シート集約'!$H$7:$H$306,$D64,'006各シート集約'!W$7:W$306)","v":0},{"$f":"SUMIF('006各シート集約'!$H$7:$H$306,$D64,'006各シート集約'!X$7:X$306)","v":0}]
[62,"兵庫県",null,"神戸市",{"$f":"SUMIF('006各シート集約'!$H$7:$H$306,$D65,'006各シート集約'!F$7:F$306)","v":0},{"$f":"SUMIF('006各シート集約'!$H$7:$H$306,$D65,'006各シート集約'!G$7:G$306)","v":0},{"$f":"SUMIF('006各シート集約'!$H$7:$H$306,$D65,'006各シート集約'!J$7:J$306)","v":0},{"$f":"SUMIF('006各シート集約'!$H$7:$H$306,$D65,'006各シート集約'!K$7:K$306)","v":0},{"$f":"SUMIF('006各シート集約'!$H$7:$H$306,$D65,'006各シート集約'!L$7:L$306)","v":0},{"$f":"SUMIF('006各シート集約'!$H$7:$H$306,$D65,'006各シート集約'!M$7:M$306)","v":0},{"$f":"SUMIF('006各シート集約'!$H$7:$H$306,$D65,'006各シート集約'!N$7:N$306)","v":0},{"$f":"SUMIF('006各シート集約'!$H$7:$H$306,$D65,'006各シート集約'!O$7:O$306)","v":0},{"$f":"SUMIF('006各シート集約'!$H$7:$H$306,$D65,'006各シート集約'!P$7:P$306)","v":0},{"$f":"SUMIF('006各シート集約'!$H$7:$H$306,$D65,'006各シート集約'!Q$7:Q$306)","v":0},{"$f":"SUMIF('006各シート集約'!$H$7:$H$306,$D65,'006各シート集約'!R$7:R$306)","v":0},{"$f":"SUMIF('006各シート集約'!$H$7:$H$306,$D65,'006各シート集約'!S$7:S$306)","v":0},{"$f":"SUMIF('006各シート集約'!$H$7:$H$306,$D65,'006各シート集約'!T$7:T$306)","v":0},{"$f":"SUMIF('006各シート集約'!$H$7:$H$306,$D65,'006各シート集約'!U$7:U$306)","v":0},{"$f":"SUMIF('006各シート集約'!$H$7:$H$306,$D65,'006各シート集約'!V$7:V$306)","v":0},{"$f":"SUMIF('006各シート集約'!$H$7:$H$306,$D65,'006各シート集約'!W$7:W$306)","v":0},{"$f":"SUMIF('006各シート集約'!$H$7:$H$306,$D65,'006各シート集約'!X$7:X$306)","v":0}]
[63,"岡山県",null,"岡山市",{"$f":"SUMIF('006各シート集約'!$H$7:$H$306,$D66,'006各シート集約'!F$7:F$306)","v":0},{"$f":"SUMIF('006各シート集約'!$H$7:$H$306,$D66,'006各シート集約'!G$7:G$306)","v":0},{"$f":"SUMIF('006各シート集約'!$H$7:$H$306,$D66,'006各シート集約'!J$7:J$306)","v":0},{"$f":"SUMIF('006各シート集約'!$H$7:$H$306,$D66,'006各シート集約'!K$7:K$306)","v":0},{"$f":"SUMIF('006各シート集約'!$H$7:$H$306,$D66,'006各シート集約'!L$7:L$306)","v":0},{"$f":"SUMIF('006各シート集約'!$H$7:$H$306,$D66,'006各シート集約'!M$7:M$306)","v":0},{"$f":"SUMIF('006各シート集約'!$H$7:$H$306,$D66,'006各シート集約'!N$7:N$306)","v":0},{"$f":"SUMIF('006各シート集約'!$H$7:$H$306,$D66,'006各シート集約'!O$7:O$306)","v":0},{"$f":"SUMIF('006各シート集約'!$H$7:$H$306,$D66,'006各シート集約'!P$7:P$306)","v":0},{"$f":"SUMIF('006各シート集約'!$H$7:$H$306,$D66,'006各シート集約'!Q$7:Q$306)","v":0},{"$f":"SUMIF('006各シート集約'!$H$7:$H$306,$D66,'006各シート集約'!R$7:R$306)","v":0},{"$f":"SUMIF('006各シート集約'!$H$7:$H$306,$D66,'006各シート集約'!S$7:S$306)","v":0},{"$f":"SUMIF('006各シート集約'!$H$7:$H$306,$D66,'006各シート集約'!T$7:T$306)","v":0},{"$f":"SUMIF('006各シート集約'!$H$7:$H$306,$D66,'006各シート集約'!U$7:U$306)","v":0},{"$f":"SUMIF('006各シート集約'!$H$7:$H$306,$D66,'006各シート集約'!V$7:V$306)","v":0},{"$f":"SUMIF('006各シート集約'!$H$7:$H$306,$D66,'006各シート集約'!W$7:W$306)","v":0},{"$f":"SUMIF('006各シート集約'!$H$7:$H$306,$D66,'006各シート集約'!X$7:X$306)","v":0}]
[64,"広島県",null,"広島市",{"$f":"SUMIF('006各シート集約'!$H$7:$H$306,$D67,'006各シート集約'!F$7:F$306)","v":0},{"$f":"SUMIF('006各シート集約'!$H$7:$H$306,$D67,'006各シート集約'!G$7:G$306)","v":0},{"$f":"SUMIF('006各シート集約'!$H$7:$H$306,$D67,'006各シート集約'!J$7:J$306)","v":0},{"$f":"SUMIF('006各シート集約'!$H$7:$H$306,$D67,'006各シート集約'!K$7:K$306)","v":0},{"$f":"SUMIF('006各シート集約'!$H$7:$H$306,$D67,'006各シート集約'!L$7:L$306)","v":0},{"$f":"SUMIF('006各シート集約'!$H$7:$H$306,$D67,'006各シート集約'!M$7:M$306)","v":0},{"$f":"SUMIF('006各シート集約'!$H$7:$H$306,$D67,'006各シート集約'!N$7:N$306)","v":0},{"$f":"SUMIF('006各シート集約'!$H$7:$H$306,$D67,'006各シート集約'!O$7:O$306)","v":0},{"$f":"SUMIF('006各シート集約'!$H$7:$H$306,$D67,'006各シート集約'!P$7:P$306)","v":0},{"$f":"SUMIF('006各シート集約'!$H$7:$H$306,$D67,'006各シート集約'!Q$7:Q$306)","v":0},{"$f":"SUMIF('006各シート集約'!$H$7:$H$306,$D67,'006各シート集約'!R$7:R$306)","v":0},{"$f":"SUMIF('006各シート集約'!$H$7:$H$306,$D67,'006各シート集約'!S$7:S$306)","v":0},{"$f":"SUMIF('006各シート集約'!$H$7:$H$306,$D67,'006各シート集約'!T$7:T$306)","v":0},{"$f":"SUMIF('006各シート集約'!$H$7:$H$306,$D67,'006各シート集約'!U$7:U$306)","v":0},{"$f":"SUMIF('006各シート集約'!$H$7:$H$306,$D67,'006各シート集約'!V$7:V$306)","v":0},{"$f":"SUMIF('006各シート集約'!$H$7:$H$306,$D67,'006各シート集約'!W$7:W$306)","v":0},{"$f":"SUMIF('006各シート集約'!$H$7:$H$306,$D67,'006各シート集約'!X$7:X$306)","v":0}]
[65,"福岡県",null,"北九州市",{"$f":"SUMIF('006各シート集約'!$H$7:$H$306,$D68,'006各シート集約'!F$7:F$306)","v":0},{"$f":"SUMIF('006各シート集約'!$H$7:$H$306,$D68,'006各シート集約'!G$7:G$306)","v":0},{"$f":"SUMIF('006各シート集約'!$H$7:$H$306,$D68,'006各シート集約'!J$7:J$306)","v":0},{"$f":"SUMIF('006各シート集約'!$H$7:$H$306,$D68,'006各シート集約'!K$7:K$306)","v":0},{"$f":"SUMIF('006各シート集約'!$H$7:$H$306,$D68,'006各シート集約'!L$7:L$306)","v":0},{"$f":"SUMIF('006各シート集約'!$H$7:$H$306,$D68,'006各シート集約'!M$7:M$306)","v":0},{"$f":"SUMIF('006各シート集約'!$H$7:$H$306,$D68,'006各シート集約'!N$7:N$306)","v":0},{"$f":"SUMIF('006各シート集約'!$H$7:$H$306,$D68,'006各シート集約'!O$7:O$306)","v":0},{"$f":"SUMIF('006各シート集約'!$H$7:$H$306,$D68,'006各シート集約'!P$7:P$306)","v":0},{"$f":"SUMIF('006各シート集約'!$H$7:$H$306,$D68,'006各シート集約'!Q$7:Q$306)","v":0},{"$f":"SUMIF('006各シート集約'!$H$7:$H$306,$D68,'006各シート集約'!R$7:R$306)","v":0},{"$f":"SUMIF('006各シート集約'!$H$7:$H$306,$D68,'006各シート集約'!S$7:S$306)","v":0},{"$f":"SUMIF('006各シート集約'!$H$7:$H$306,$D68,'006各シート集約'!T$7:T$306)","v":0},{"$f":"SUMIF('006各シート集約'!$H$7:$H$306,$D68,'006各シート集約'!U$7:U$306)","v":0},{"$f":"SUMIF('006各シート集約'!$H$7:$H$306,$D68,'006各シート集約'!V$7:V$306)","v":0},{"$f":"SUMIF('006各シート集約'!$H$7:$H$306,$D68,'006各シート集約'!W$7:W$306)","v":0},{"$f":"SUMIF('006各シート集約'!$H$7:$H$306,$D68,'006各シート集約'!X$7:X$306)","v":0}]
[66,"福岡県",null,"福岡市",{"$f":"SUMIF('006各シート集約'!$H$7:$H$306,$D69,'006各シート集約'!F$7:F$306)","v":0},{"$f":"SUMIF('006各シート集約'!$H$7:$H$306,$D69,'006各シート集約'!G$7:G$306)","v":0},{"$f":"SUMIF('006各シート集約'!$H$7:$H$306,$D69,'006各シート集約'!J$7:J$306)","v":0},{"$f":"SUMIF('006各シート集約'!$H$7:$H$306,$D69,'006各シート集約'!K$7:K$306)","v":0},{"$f":"SUMIF('006各シート集約'!$H$7:$H$306,$D69,'006各シート集約'!L$7:L$306)","v":0},{"$f":"SUMIF('006各シート集約'!$H$7:$H$306,$D69,'006各シート集約'!M$7:M$306)","v":0},{"$f":"SUMIF('006各シート集約'!$H$7:$H$306,$D69,'006各シート集約'!N$7:N$306)","v":0},{"$f":"SUMIF('006各シート集約'!$H$7:$H$306,$D69,'006各シート集約'!O$7:O$306)","v":0},{"$f":"SUMIF('006各シート集約'!$H$7:$H$306,$D69,'006各シート集約'!P$7:P$306)","v":0},{"$f":"SUMIF('006各シート集約'!$H$7:$H$306,$D69,'006各シート集約'!Q$7:Q$306)","v":0},{"$f":"SUMIF('006各シート集約'!$H$7:$H$306,$D69,'006各シート集約'!R$7:R$306)","v":0},{"$f":"SUMIF('006各シート集約'!$H$7:$H$306,$D69,'006各シート集約'!S$7:S$306)","v":0},{"$f":"SUMIF('006各シート集約'!$H$7:$H$306,$D69,'006各シート集約'!T$7:T$306)","v":0},{"$f":"SUMIF('006各シート集約'!$H$7:$H$306,$D69,'006各シート集約'!U$7:U$306)","v":0},{"$f":"SUMIF('006各シート集約'!$H$7:$H$306,$D69,'006各シート集約'!V$7:V$306)","v":0},{"$f":"SUMIF('006各シート集約'!$H$7:$H$306,$D69,'006各シート集約'!W$7:W$306)","v":0},{"$f":"SUMIF('006各シート集約'!$H$7:$H$306,$D69,'006各シート集約'!X$7:X$306)","v":0}]
[67,"熊本県",null,"熊本市",{"$f":"SUMIF('006各シート集約'!$H$7:$H$306,$D70,'006各シート集約'!F$7:F$306)","v":0},{"$f":"SUMIF('006各シート集約'!$H$7:$H$306,$D70,'006各シート集約'!G$7:G$306)","v":0},{"$f":"SUMIF('006各シート集約'!$H$7:$H$306,$D70,'006各シート集約'!J$7:J$306)","v":0},{"$f":"SUMIF('006各シート集約'!$H$7:$H$306,$D70,'006各シート集約'!K$7:K$306)","v":0},{"$f":"SUMIF('006各シート集約'!$H$7:$H$306,$D70,'006各シート集約'!L$7:L$306)","v":0},{"$f":"SUMIF('006各シート集約'!$H$7:$H$306,$D70,'006各シート集約'!M$7:M$306)","v":0},{"$f":"SUMIF('006各シート集約'!$H$7:$H$306,$D70,'006各シート集約'!N$7:N$306)","v":0},{"$f":"SUMIF('006各シート集約'!$H$7:$H$306,$D70,'006各シート集約'!O$7:O$306)","v":0},{"$f":"SUMIF('006各シート集約'!$H$7:$H$306,$D70,'006各シート集約'!P$7:P$306)","v":0},{"$f":"SUMIF('006各シート集約'!$H$7:$H$306,$D70,'006各シート集約'!Q$7:Q$306)","v":0},{"$f":"SUMIF('006各シート集約'!$H$7:$H$306,$D70,'006各シート集約'!R$7:R$306)","v":0},{"$f":"SUMIF('006各シート集約'!$H$7:$H$306,$D70,'006各シート集約'!S$7:S$306)","v":0},{"$f":"SUMIF('006各シート集約'!$H$7:$H$306,$D70,'006各シート集約'!T$7:T$306)","v":0},{"$f":"SUMIF('006各シート集約'!$H$7:$H$306,$D70,'006各シート集約'!U$7:U$306)","v":0},{"$f":"SUMIF('006各シート集約'!$H$7:$H$306,$D70,'006各シート集約'!V$7:V$306)","v":0},{"$f":"SUMIF('006各シート集約'!$H$7:$H$306,$D70,'006各シート集約'!W$7:W$306)","v":0},{"$f":"SUMIF('006各シート集約'!$H$7:$H$306,$D70,'006各シート集約'!X$7:X$306)","v":0}]
[68,"北海道","中核市","旭川市",{"$f":"SUMIF('006各シート集約'!$H$7:$H$306,$D71,'006各シート集約'!F$7:F$306)","v":0},{"$f":"SUMIF('006各シート集約'!$H$7:$H$306,$D71,'006各シート集約'!G$7:G$306)","v":0},{"$f":"SUMIF('006各シート集約'!$H$7:$H$306,$D71,'006各シート集約'!J$7:J$306)","v":0},{"$f":"SUMIF('006各シート集約'!$H$7:$H$306,$D71,'006各シート集約'!K$7:K$306)","v":0},{"$f":"SUMIF('006各シート集約'!$H$7:$H$306,$D71,'006各シート集約'!L$7:L$306)","v":0},{"$f":"SUMIF('006各シート集約'!$H$7:$H$306,$D71,'006各シート集約'!M$7:M$306)","v":0},{"$f":"SUMIF('006各シート集約'!$H$7:$H$306,$D71,'006各シート集約'!N$7:N$306)","v":0},{"$f":"SUMIF('006各シート集約'!$H$7:$H$306,$D71,'006各シート集約'!O$7:O$306)","v":0},{"$f":"SUMIF('006各シート集約'!$H$7:$H$306,$D71,'006各シート集約'!P$7:P$306)","v":0},{"$f":"SUMIF('006各シート集約'!$H$7:$H$306,$D71,'006各シート集約'!Q$7:Q$306)","v":0},{"$f":"SUMIF('006各シート集約'!$H$7:$H$306,$D71,'006各シート集約'!R$7:R$306)","v":0},{"$f":"SUMIF('006各シート集約'!$H$7:$H$306,$D71,'006各シート集約'!S$7:S$306)","v":0},{"$f":"SUMIF('006各シート集約'!$H$7:$H$306,$D71,'006各シート集約'!T$7:T$306)","v":0},{"$f":"SUMIF('006各シート集約'!$H$7:$H$306,$D71,'006各シート集約'!U$7:U$306)","v":0},{"$f":"SUMIF('006各シート集約'!$H$7:$H$306,$D71,'006各シート集約'!V$7:V$306)","v":0},{"$f":"SUMIF('006各シート集約'!$H$7:$H$306,$D71,'006各シート集約'!W$7:W$306)","v":0},{"$f":"SUMIF('006各シート集約'!$H$7:$H$306,$D71,'006各シート集約'!X$7:X$306)","v":0}]
[69,"北海道",null,"函館市",{"$f":"SUMIF('006各シート集約'!$H$7:$H$306,$D72,'006各シート集約'!F$7:F$306)","v":0},{"$f":"SUMIF('006各シート集約'!$H$7:$H$306,$D72,'006各シート集約'!G$7:G$306)","v":0},{"$f":"SUMIF('006各シート集約'!$H$7:$H$306,$D72,'006各シート集約'!J$7:J$306)","v":0},{"$f":"SUMIF('006各シート集約'!$H$7:$H$306,$D72,'006各シート集約'!K$7:K$306)","v":0},{"$f":"SUMIF('006各シート集約'!$H$7:$H$306,$D72,'006各シート集約'!L$7:L$306)","v":0},{"$f":"SUMIF('006各シート集約'!$H$7:$H$306,$D72,'006各シート集約'!M$7:M$306)","v":0},{"$f":"SUMIF('006各シート集約'!$H$7:$H$306,$D72,'006各シート集約'!N$7:N$306)","v":0},{"$f":"SUMIF('006各シート集約'!$H$7:$H$306,$D72,'006各シート集約'!O$7:O$306)","v":0},{"$f":"SUMIF('006各シート集約'!$H$7:$H$306,$D72,'006各シート集約'!P$7:P$306)","v":0},{"$f":"SUMIF('006各シート集約'!$H$7:$H$306,$D72,'006各シート集約'!Q$7:Q$306)","v":0},{"$f":"SUMIF('006各シート集約'!$H$7:$H$306,$D72,'006各シート集約'!R$7:R$306)","v":0},{"$f":"SUMIF('006各シート集約'!$H$7:$H$306,$D72,'006各シート集約'!S$7:S$306)","v":0},{"$f":"SUMIF('006各シート集約'!$H$7:$H$306,$D72,'006各シート集約'!T$7:T$306)","v":0},{"$f":"SUMIF('006各シート集約'!$H$7:$H$306,$D72,'006各シート集約'!U$7:U$306)","v":0},{"$f":"SUMIF('006各シート集約'!$H$7:$H$306,$D72,'006各シート集約'!V$7:V$306)","v":0},{"$f":"SUMIF('006各シート集約'!$H$7:$H$306,$D72,'006各シート集約'!W$7:W$306)","v":0},{"$f":"SUMIF('006各シート集約'!$H$7:$H$306,$D72,'006各シート集約'!X$7:X$306)","v":0}]
[70,"青森県",null,"青森市",{"$f":"SUMIF('006各シート集約'!$H$7:$H$306,$D73,'006各シート集約'!F$7:F$306)","v":0},{"$f":"SUMIF('006各シート集約'!$H$7:$H$306,$D73,'006各シート集約'!G$7:G$306)","v":0},{"$f":"SUMIF('006各シート集約'!$H$7:$H$306,$D73,'006各シート集約'!J$7:J$306)","v":0},{"$f":"SUMIF('006各シート集約'!$H$7:$H$306,$D73,'006各シート集約'!K$7:K$306)","v":0},{"$f":"SUMIF('006各シート集約'!$H$7:$H$306,$D73,'006各シート集約'!L$7:L$306)","v":0},{"$f":"SUMIF('006各シート集約'!$H$7:$H$306,$D73,'006各シート集約'!M$7:M$306)","v":0},{"$f":"SUMIF('006各シート集約'!$H$7:$H$306,$D73,'006各シート集約'!N$7:N$306)","v":0},{"$f":"SUMIF('006各シート集約'!$H$7:$H$306,$D73,'006各シート集約'!O$7:O$306)","v":0},{"$f":"SUMIF('006各シート集約'!$H$7:$H$306,$D73,'006各シート集約'!P$7:P$306)","v":0},{"$f":"SUMIF('006各シート集約'!$H$7:$H$306,$D73,'006各シート集約'!Q$7:Q$306)","v":0},{"$f":"SUMIF('006各シート集約'!$H$7:$H$306,$D73,'006各シート集約'!R$7:R$306)","v":0},{"$f":"SUMIF('006各シート集約'!$H$7:$H$306,$D73,'006各シート集約'!S$7:S$306)","v":0},{"$f":"SUMIF('006各シート集約'!$H$7:$H$306,$D73,'006各シート集約'!T$7:T$306)","v":0},{"$f":"SUMIF('006各シート集約'!$H$7:$H$306,$D73,'006各シート集約'!U$7:U$306)","v":0},{"$f":"SUMIF('006各シート集約'!$H$7:$H$306,$D73,'006各シート集約'!V$7:V$306)","v":0},{"$f":"SUMIF('006各シート集約'!$H$7:$H$306,$D73,'006各シート集約'!W$7:W$306)","v":0},{"$f":"SUMIF('006各シート集約'!$H$7:$H$306,$D73,'006各シート集約'!X$7:X$306)","v":0}]
[71,"青森県",null,"八戸市",{"$f":"SUMIF('006各シート集約'!$H$7:$H$306,$D74,'006各シート集約'!F$7:F$306)","v":0},{"$f":"SUMIF('006各シート集約'!$H$7:$H$306,$D74,'006各シート集約'!G$7:G$306)","v":0},{"$f":"SUMIF('006各シート集約'!$H$7:$H$306,$D74,'006各シート集約'!J$7:J$306)","v":0},{"$f":"SUMIF('006各シート集約'!$H$7:$H$306,$D74,'006各シート集約'!K$7:K$306)","v":0},{"$f":"SUMIF('006各シート集約'!$H$7:$H$306,$D74,'006各シート集約'!L$7:L$306)","v":0},{"$f":"SUMIF('006各シート集約'!$H$7:$H$306,$D74,'006各シート集約'!M$7:M$306)","v":0},{"$f":"SUMIF('006各シート集約'!$H$7:$H$306,$D74,'006各シート集約'!N$7:N$306)","v":0},{"$f":"SUMIF('006各シート集約'!$H$7:$H$306,$D74,'006各シート集約'!O$7:O$306)","v":0},{"$f":"SUMIF('006各シート集約'!$H$7:$H$306,$D74,'006各シート集約'!P$7:P$306)","v":0},{"$f":"SUMIF('006各シート集約'!$H$7:$H$306,$D74,'006各シート集約'!Q$7:Q$306)","v":0},{"$f":"SUMIF('006各シート集約'!$H$7:$H$306,$D74,'006各シート集約'!R$7:R$306)","v":0},{"$f":"SUMIF('006各シート集約'!$H$7:$H$306,$D74,'006各シート集約'!S$7:S$306)","v":0},{"$f":"SUMIF('006各シート集約'!$H$7:$H$306,$D74,'006各シート集約'!T$7:T$306)","v":0},{"$f":"SUMIF('006各シート集約'!$H$7:$H$306,$D74,'006各シート集約'!U$7:U$306)","v":0},{"$f":"SUMIF('006各シート集約'!$H$7:$H$306,$D74,'006各シート集約'!V$7:V$306)","v":0},{"$f":"SUMIF('006各シート集約'!$H$7:$H$306,$D74,'006各シート集約'!W$7:W$306)","v":0},{"$f":"SUMIF('006各シート集約'!$H$7:$H$306,$D74,'006各シート集約'!X$7:X$306)","v":0}]
[72,"岩手県",null,"盛岡市",{"$f":"SUMIF('006各シート集約'!$H$7:$H$306,$D75,'006各シート集約'!F$7:F$306)","v":0},{"$f":"SUMIF('006各シート集約'!$H$7:$H$306,$D75,'006各シート集約'!G$7:G$306)","v":0},{"$f":"SUMIF('006各シート集約'!$H$7:$H$306,$D75,'006各シート集約'!J$7:J$306)","v":0},{"$f":"SUMIF('006各シート集約'!$H$7:$H$306,$D75,'006各シート集約'!K$7:K$306)","v":0},{"$f":"SUMIF('006各シート集約'!$H$7:$H$306,$D75,'006各シート集約'!L$7:L$306)","v":0},{"$f":"SUMIF('006各シート集約'!$H$7:$H$306,$D75,'006各シート集約'!M$7:M$306)","v":0},{"$f":"SUMIF('006各シート集約'!$H$7:$H$306,$D75,'006各シート集約'!N$7:N$306)","v":0},{"$f":"SUMIF('006各シート集約'!$H$7:$H$306,$D75,'006各シート集約'!O$7:O$306)","v":0},{"$f":"SUMIF('006各シート集約'!$H$7:$H$306,$D75,'006各シート集約'!P$7:P$306)","v":0},{"$f":"SUMIF('006各シート集約'!$H$7:$H$306,$D75,'006各シート集約'!Q$7:Q$306)","v":0},{"$f":"SUMIF('006各シート集約'!$H$7:$H$306,$D75,'006各シート集約'!R$7:R$306)","v":0},{"$f":"SUMIF('006各シート集約'!$H$7:$H$306,$D75,'006各シート集約'!S$7:S$306)","v":0},{"$f":"SUMIF('006各シート集約'!$H$7:$H$306,$D75,'006各シート集約'!T$7:T$306)","v":0},{"$f":"SUMIF('006各シート集約'!$H$7:$H$306,$D75,'006各シート集約'!U$7:U$306)","v":0},{"$f":"SUMIF('006各シート集約'!$H$7:$H$306,$D75,'006各シート集約'!V$7:V$306)","v":0},{"$f":"SUMIF('006各シート集約'!$H$7:$H$306,$D75,'006各シート集約'!W$7:W$306)","v":0},{"$f":"SUMIF('006各シート集約'!$H$7:$H$306,$D75,'006各シート集約'!X$7:X$306)","v":0}]
[73,"秋田県",null,"秋田市",{"$f":"SUMIF('006各シート集約'!$H$7:$H$306,$D76,'006各シート集約'!F$7:F$306)","v":0},{"$f":"SUMIF('006各シート集約'!$H$7:$H$306,$D76,'006各シート集約'!G$7:G$306)","v":0},{"$f":"SUMIF('006各シート集約'!$H$7:$H$306,$D76,'006各シート集約'!J$7:J$306)","v":0},{"$f":"SUMIF('006各シート集約'!$H$7:$H$306,$D76,'006各シート集約'!K$7:K$306)","v":0},{"$f":"SUMIF('006各シート集約'!$H$7:$H$306,$D76,'006各シート集約'!L$7:L$306)","v":0},{"$f":"SUMIF('006各シート集約'!$H$7:$H$306,$D76,'006各シート集約'!M$7:M$306)","v":0},{"$f":"SUMIF('006各シート集約'!$H$7:$H$306,$D76,'006各シート集約'!N$7:N$306)","v":0},{"$f":"SUMIF('006各シート集約'!$H$7:$H$306,$D76,'006各シート集約'!O$7:O$306)","v":0},{"$f":"SUMIF('006各シート集約'!$H$7:$H$306,$D76,'006各シート集約'!P$7:P$306)","v":0},{"$f":"SUMIF('006各シート集約'!$H$7:$H$306,$D76,'006各シート集約'!Q$7:Q$306)","v":0},{"$f":"SUMIF('006各シート集約'!$H$7:$H$306,$D76,'006各シート集約'!R$7:R$306)","v":0},{"$f":"SUMIF('006各シート集約'!$H$7:$H$306,$D76,'006各シート集約'!S$7:S$306)","v":0},{"$f":"SUMIF('006各シート集約'!$H$7:$H$306,$D76,'006各シート集約'!T$7:T$306)","v":0},{"$f":"SUMIF('006各シート集約'!$H$7:$H$306,$D76,'006各シート集約'!U$7:U$306)","v":0},{"$f":"SUMIF('006各シート集約'!$H$7:$H$306,$D76,'006各シート集約'!V$7:V$306)","v":0},{"$f":"SUMIF('006各シート集約'!$H$7:$H$306,$D76,'006各シート集約'!W$7:W$306)","v":0},{"$f":"SUMIF('006各シート集約'!$H$7:$H$306,$D76,'006各シート集約'!X$7:X$306)","v":0}]
[74,"山形県",null,"山形市",{"$f":"SUMIF('006各シート集約'!$H$7:$H$306,$D77,'006各シート集約'!F$7:F$306)","v":0},{"$f":"SUMIF('006各シート集約'!$H$7:$H$306,$D77,'006各シート集約'!G$7:G$306)","v":0},{"$f":"SUMIF('006各シート集約'!$H$7:$H$306,$D77,'006各シート集約'!J$7:J$306)","v":0},{"$f":"SUMIF('006各シート集約'!$H$7:$H$306,$D77,'006各シート集約'!K$7:K$306)","v":0},{"$f":"SUMIF('006各シート集約'!$H$7:$H$306,$D77,'006各シート集約'!L$7:L$306)","v":0},{"$f":"SUMIF('006各シート集約'!$H$7:$H$306,$D77,'006各シート集約'!M$7:M$306)","v":0},{"$f":"SUMIF('006各シート集約'!$H$7:$H$306,$D77,'006各シート集約'!N$7:N$306)","v":0},{"$f":"SUMIF('006各シート集約'!$H$7:$H$306,$D77,'006各シート集約'!O$7:O$306)","v":0},{"$f":"SUMIF('006各シート集約'!$H$7:$H$306,$D77,'006各シート集約'!P$7:P$306)","v":0},{"$f":"SUMIF('006各シート集約'!$H$7:$H$306,$D77,'006各シート集約'!Q$7:Q$306)","v":0},{"$f":"SUMIF('006各シート集約'!$H$7:$H$306,$D77,'006各シート集約'!R$7:R$306)","v":0},{"$f":"SUMIF('006各シート集約'!$H$7:$H$306,$D77,'006各シート集約'!S$7:S$306)","v":0},{"$f":"SUMIF('006各シート集約'!$H$7:$H$306,$D77,'006各シート集約'!T$7:T$306)","v":0},{"$f":"SUMIF('006各シート集約'!$H$7:$H$306,$D77,'006各シート集約'!U$7:U$306)","v":0},{"$f":"SUMIF('006各シート集約'!$H$7:$H$306,$D77,'006各シート集約'!V$7:V$306)","v":0},{"$f":"SUMIF('006各シート集約'!$H$7:$H$306,$D77,'006各シート集約'!W$7:W$306)","v":0},{"$f":"SUMIF('006各シート集約'!$H$7:$H$306,$D77,'006各シート集約'!X$7:X$306)","v":0}]
[75,"福島県",null,"郡山市",{"$f":"SUMIF('006各シート集約'!$H$7:$H$306,$D78,'006各シート集約'!F$7:F$306)","v":0},{"$f":"SUMIF('006各シート集約'!$H$7:$H$306,$D78,'006各シート集約'!G$7:G$306)","v":0},{"$f":"SUMIF('006各シート集約'!$H$7:$H$306,$D78,'006各シート集約'!J$7:J$306)","v":0},{"$f":"SUMIF('006各シート集約'!$H$7:$H$306,$D78,'006各シート集約'!K$7:K$306)","v":0},{"$f":"SUMIF('006各シート集約'!$H$7:$H$306,$D78,'006各シート集約'!L$7:L$306)","v":0},{"$f":"SUMIF('006各シート集約'!$H$7:$H$306,$D78,'006各シート集約'!M$7:M$306)","v":0},{"$f":"SUMIF('006各シート集約'!$H$7:$H$306,$D78,'006各シート集約'!N$7:N$306)","v":0},{"$f":"SUMIF('006各シート集約'!$H$7:$H$306,$D78,'006各シート集約'!O$7:O$306)","v":0},{"$f":"SUMIF('006各シート集約'!$H$7:$H$306,$D78,'006各シート集約'!P$7:P$306)","v":0},{"$f":"SUMIF('006各シート集約'!$H$7:$H$306,$D78,'006各シート集約'!Q$7:Q$306)","v":0},{"$f":"SUMIF('006各シート集約'!$H$7:$H$306,$D78,'006各シート集約'!R$7:R$306)","v":0},{"$f":"SUMIF('006各シート集約'!$H$7:$H$306,$D78,'006各シート集約'!S$7:S$306)","v":0},{"$f":"SUMIF('006各シート集約'!$H$7:$H$306,$D78,'006各シート集約'!T$7:T$306)","v":0},{"$f":"SUMIF('006各シート集約'!$H$7:$H$306,$D78,'006各シート集約'!U$7:U$306)","v":0},{"$f":"SUMIF('006各シート集約'!$H$7:$H$306,$D78,'006各シート集約'!V$7:V$306)","v":0},{"$f":"SUMIF('006各シート集約'!$H$7:$H$306,$D78,'006各シート集約'!W$7:W$306)","v":0},{"$f":"SUMIF('006各シート集約'!$H$7:$H$306,$D78,'006各シート集約'!X$7:X$306)","v":0}]
[76,"福島県",null,"いわき市",{"$f":"SUMIF('006各シート集約'!$H$7:$H$306,$D79,'006各シート集約'!F$7:F$306)","v":0},{"$f":"SUMIF('006各シート集約'!$H$7:$H$306,$D79,'006各シート集約'!G$7:G$306)","v":0},{"$f":"SUMIF('006各シート集約'!$H$7:$H$306,$D79,'006各シート集約'!J$7:J$306)","v":0},{"$f":"SUMIF('006各シート集約'!$H$7:$H$306,$D79,'006各シート集約'!K$7:K$306)","v":0},{"$f":"SUMIF('006各シート集約'!$H$7:$H$306,$D79,'006各シート集約'!L$7:L$306)","v":0},{"$f":"SUMIF('006各シート集約'!$H$7:$H$306,$D79,'006各シート集約'!M$7:M$306)","v":0},{"$f":"SUMIF('006各シート集約'!$H$7:$H$306,$D79,'006各シート集約'!N$7:N$306)","v":0},{"$f":"SUMIF('006各シート集約'!$H$7:$H$306,$D79,'006各シート集約'!O$7:O$306)","v":0},{"$f":"SUMIF('006各シート集約'!$H$7:$H$306,$D79,'006各シート集約'!P$7:P$306)","v":0},{"$f":"SUMIF('006各シート集約'!$H$7:$H$306,$D79,'006各シート集約'!Q$7:Q$306)","v":0},{"$f":"SUMIF('006各シート集約'!$H$7:$H$306,$D79,'006各シート集約'!R$7:R$306)","v":0},{"$f":"SUMIF('006各シート集約'!$H$7:$H$306,$D79,'006各シート集約'!S$7:S$306)","v":0},{"$f":"SUMIF('006各シート集約'!$H$7:$H$306,$D79,'006各シート集約'!T$7:T$306)","v":0},{"$f":"SUMIF('006各シート集約'!$H$7:$H$306,$D79,'006各シート集約'!U$7:U$306)","v":0},{"$f":"SUMIF('006各シート集約'!$H$7:$H$306,$D79,'006各シート集約'!V$7:V$306)","v":0},{"$f":"SUMIF('006各シート集約'!$H$7:$H$306,$D79,'006各シート集約'!W$7:W$306)","v":0},{"$f":"SUMIF('006各シート集約'!$H$7:$H$306,$D79,'006各シート集約'!X$7:X$306)","v":0}]
[77,"福島県",null,"福島市",{"$f":"SUMIF('006各シート集約'!$H$7:$H$306,$D80,'006各シート集約'!F$7:F$306)","v":0},{"$f":"SUMIF('006各シート集約'!$H$7:$H$306,$D80,'006各シート集約'!G$7:G$306)","v":0},{"$f":"SUMIF('006各シート集約'!$H$7:$H$306,$D80,'006各シート集約'!J$7:J$306)","v":0},{"$f":"SUMIF('006各シート集約'!$H$7:$H$306,$D80,'006各シート集約'!K$7:K$306)","v":0},{"$f":"SUMIF('006各シート集約'!$H$7:$H$306,$D80,'006各シート集約'!L$7:L$306)","v":0},{"$f":"SUMIF('006各シート集約'!$H$7:$H$306,$D80,'006各シート集約'!M$7:M$306)","v":0},{"$f":"SUMIF('006各シート集約'!$H$7:$H$306,$D80,'006各シート集約'!N$7:N$306)","v":0},{"$f":"SUMIF('006各シート集約'!$H$7:$H$306,$D80,'006各シート集約'!O$7:O$306)","v":0},{"$f":"SUMIF('006各シート集約'!$H$7:$H$306,$D80,'006各シート集約'!P$7:P$306)","v":0},{"$f":"SUMIF('006各シート集約'!$H$7:$H$306,$D80,'006各シート集約'!Q$7:Q$306)","v":0},{"$f":"SUMIF('006各シート集約'!$H$7:$H$306,$D80,'006各シート集約'!R$7:R$306)","v":0},{"$f":"SUMIF('006各シート集約'!$H$7:$H$306,$D80,'006各シート集約'!S$7:S$306)","v":0},{"$f":"SUMIF('006各シート集約'!$H$7:$H$306,$D80,'006各シート集約'!T$7:T$306)","v":0},{"$f":"SUMIF('006各シート集約'!$H$7:$H$306,$D80,'006各シート集約'!U$7:U$306)","v":0},{"$f":"SUMIF('006各シート集約'!$H$7:$H$306,$D80,'006各シート集約'!V$7:V$306)","v":0},{"$f":"SUMIF('006各シート集約'!$H$7:$H$306,$D80,'006各シート集約'!W$7:W$306)","v":0},{"$f":"SUMIF('006各シート集約'!$H$7:$H$306,$D80,'006各シート集約'!X$7:X$306)","v":0}]
[78,"栃木県",null,"宇都宮市",{"$f":"SUMIF('006各シート集約'!$H$7:$H$306,$D81,'006各シート集約'!F$7:F$306)","v":0},{"$f":"SUMIF('006各シート集約'!$H$7:$H$306,$D81,'006各シート集約'!G$7:G$306)","v":0},{"$f":"SUMIF('006各シート集約'!$H$7:$H$306,$D81,'006各シート集約'!J$7:J$306)","v":0},{"$f":"SUMIF('006各シート集約'!$H$7:$H$306,$D81,'006各シート集約'!K$7:K$306)","v":0},{"$f":"SUMIF('006各シート集約'!$H$7:$H$306,$D81,'006各シート集約'!L$7:L$306)","v":0},{"$f":"SUMIF('006各シート集約'!$H$7:$H$306,$D81,'006各シート集約'!M$7:M$306)","v":0},{"$f":"SUMIF('006各シート集約'!$H$7:$H$306,$D81,'006各シート集約'!N$7:N$306)","v":0},{"$f":"SUMIF('006各シート集約'!$H$7:$H$306,$D81,'006各シート集約'!O$7:O$306)","v":0},{"$f":"SUMIF('006各シート集約'!$H$7:$H$306,$D81,'006各シート集約'!P$7:P$306)","v":0},{"$f":"SUMIF('006各シート集約'!$H$7:$H$306,$D81,'006各シート集約'!Q$7:Q$306)","v":0},{"$f":"SUMIF('006各シート集約'!$H$7:$H$306,$D81,'006各シート集約'!R$7:R$306)","v":0},{"$f":"SUMIF('006各シート集約'!$H$7:$H$306,$D81,'006各シート集約'!S$7:S$306)","v":0},{"$f":"SUMIF('006各シート集約'!$H$7:$H$306,$D81,'006各シート集約'!T$7:T$306)","v":0},{"$f":"SUMIF('006各シート集約'!$H$7:$H$306,$D81,'006各シート集約'!U$7:U$306)","v":0},{"$f":"SUMIF('006各シート集約'!$H$7:$H$306,$D81,'006各シート集約'!V$7:V$306)","v":0},{"$f":"SUMIF('006各シート集約'!$H$7:$H$306,$D81,'006各シート集約'!W$7:W$306)","v":0},{"$f":"SUMIF('006各シート集約'!$H$7:$H$306,$D81,'006各シート集約'!X$7:X$306)","v":0}]
[79,"群馬県",null,"前橋市",{"$f":"SUMIF('006各シート集約'!$H$7:$H$306,$D82,'006各シート集約'!F$7:F$306)","v":0},{"$f":"SUMIF('006各シート集約'!$H$7:$H$306,$D82,'006各シート集約'!G$7:G$306)","v":0},{"$f":"SUMIF('006各シート集約'!$H$7:$H$306,$D82,'006各シート集約'!J$7:J$306)","v":0},{"$f":"SUMIF('006各シート集約'!$H$7:$H$306,$D82,'006各シート集約'!K$7:K$306)","v":0},{"$f":"SUMIF('006各シート集約'!$H$7:$H$306,$D82,'006各シート集約'!L$7:L$306)","v":0},{"$f":"SUMIF('006各シート集約'!$H$7:$H$306,$D82,'006各シート集約'!M$7:M$306)","v":0},{"$f":"SUMIF('006各シート集約'!$H$7:$H$306,$D82,'006各シート集約'!N$7:N$306)","v":0},{"$f":"SUMIF('006各シート集約'!$H$7:$H$306,$D82,'006各シート集約'!O$7:O$306)","v":0},{"$f":"SUMIF('006各シート集約'!$H$7:$H$306,$D82,'006各シート集約'!P$7:P$306)","v":0},{"$f":"SUMIF('006各シート集約'!$H$7:$H$306,$D82,'006各シート集約'!Q$7:Q$306)","v":0},{"$f":"SUMIF('006各シート集約'!$H$7:$H$306,$D82,'006各シート集約'!R$7:R$306)","v":0},{"$f":"SUMIF('006各シート集約'!$H$7:$H$306,$D82,'006各シート集約'!S$7:S$306)","v":0},{"$f":"SUMIF('006各シート集約'!$H$7:$H$306,$D82,'006各シート集約'!T$7:T$306)","v":0},{"$f":"SUMIF('006各シート集約'!$H$7:$H$306,$D82,'006各シート集約'!U$7:U$306)","v":0},{"$f":"SUMIF('006各シート集約'!$H$7:$H$306,$D82,'006各シート集約'!V$7:V$306)","v":0},{"$f":"SUMIF('006各シート集約'!$H$7:$H$306,$D82,'006各シート集約'!W$7:W$306)","v":0},{"$f":"SUMIF('006各シート集約'!$H$7:$H$306,$D82,'006各シート集約'!X$7:X$306)","v":0}]
[80,"群馬県",null,"高崎市",{"$f":"SUMIF('006各シート集約'!$H$7:$H$306,$D83,'006各シート集約'!F$7:F$306)","v":0},{"$f":"SUMIF('006各シート集約'!$H$7:$H$306,$D83,'006各シート集約'!G$7:G$306)","v":0},{"$f":"SUMIF('006各シート集約'!$H$7:$H$306,$D83,'006各シート集約'!J$7:J$306)","v":0},{"$f":"SUMIF('006各シート集約'!$H$7:$H$306,$D83,'006各シート集約'!K$7:K$306)","v":0},{"$f":"SUMIF('006各シート集約'!$H$7:$H$306,$D83,'006各シート集約'!L$7:L$306)","v":0},{"$f":"SUMIF('006各シート集約'!$H$7:$H$306,$D83,'006各シート集約'!M$7:M$306)","v":0},{"$f":"SUMIF('006各シート集約'!$H$7:$H$306,$D83,'006各シート集約'!N$7:N$306)","v":0},{"$f":"SUMIF('006各シート集約'!$H$7:$H$306,$D83,'006各シート集約'!O$7:O$306)","v":0},{"$f":"SUMIF('006各シート集約'!$H$7:$H$306,$D83,'006各シート集約'!P$7:P$306)","v":0},{"$f":"SUMIF('006各シート集約'!$H$7:$H$306,$D83,'006各シート集約'!Q$7:Q$306)","v":0},{"$f":"SUMIF('006各シート集約'!$H$7:$H$306,$D83,'006各シート集約'!R$7:R$306)","v":0},{"$f":"SUMIF('006各シート集約'!$H$7:$H$306,$D83,'006各シート集約'!S$7:S$306)","v":0},{"$f":"SUMIF('006各シート集約'!$H$7:$H$306,$D83,'006各シート集約'!T$7:T$306)","v":0},{"$f":"SUMIF('006各シート集約'!$H$7:$H$306,$D83,'006各シート集約'!U$7:U$306)","v":0},{"$f":"SUMIF('006各シート集約'!$H$7:$H$306,$D83,'006各シート集約'!V$7:V$306)","v":0},{"$f":"SUMIF('006各シート集約'!$H$7:$H$306,$D83,'006各シート集約'!W$7:W$306)","v":0},{"$f":"SUMIF('006各シート集約'!$H$7:$H$306,$D83,'006各シート集約'!X$7:X$306)","v":0}]
[81,"埼玉県",null,"川越市",{"$f":"SUMIF('006各シート集約'!$H$7:$H$306,$D84,'006各シート集約'!F$7:F$306)","v":0},{"$f":"SUMIF('006各シート集約'!$H$7:$H$306,$D84,'006各シート集約'!G$7:G$306)","v":0},{"$f":"SUMIF('006各シート集約'!$H$7:$H$306,$D84,'006各シート集約'!J$7:J$306)","v":0},{"$f":"SUMIF('006各シート集約'!$H$7:$H$306,$D84,'006各シート集約'!K$7:K$306)","v":0},{"$f":"SUMIF('006各シート集約'!$H$7:$H$306,$D84,'006各シート集約'!L$7:L$306)","v":0},{"$f":"SUMIF('006各シート集約'!$H$7:$H$306,$D84,'006各シート集約'!M$7:M$306)","v":0},{"$f":"SUMIF('006各シート集約'!$H$7:$H$306,$D84,'006各シート集約'!N$7:N$306)","v":0},{"$f":"SUMIF('006各シート集約'!$H$7:$H$306,$D84,'006各シート集約'!O$7:O$306)","v":0},{"$f":"SUMIF('006各シート集約'!$H$7:$H$306,$D84,'006各シート集約'!P$7:P$306)","v":0},{"$f":"SUMIF('006各シート集約'!$H$7:$H$306,$D84,'006各シート集約'!Q$7:Q$306)","v":0},{"$f":"SUMIF('006各シート集約'!$H$7:$H$306,$D84,'006各シート集約'!R$7:R$306)","v":0},{"$f":"SUMIF('006各シート集約'!$H$7:$H$306,$D84,'006各シート集約'!S$7:S$306)","v":0},{"$f":"SUMIF('006各シート集約'!$H$7:$H$306,$D84,'006各シート集約'!T$7:T$306)","v":0},{"$f":"SUMIF('006各シート集約'!$H$7:$H$306,$D84,'006各シート集約'!U$7:U$306)","v":0},{"$f":"SUMIF('006各シート集約'!$H$7:$H$306,$D84,'006各シート集約'!V$7:V$306)","v":0},{"$f":"SUMIF('006各シート集約'!$H$7:$H$306,$D84,'006各シート集約'!W$7:W$306)","v":0},{"$f":"SUMIF('006各シート集約'!$H$7:$H$306,$D84,'006各シート集約'!X$7:X$306)","v":0}]
[82,"埼玉県",null,"越谷市",{"$f":"SUMIF('006各シート集約'!$H$7:$H$306,$D85,'006各シート集約'!F$7:F$306)","v":0},{"$f":"SUMIF('006各シート集約'!$H$7:$H$306,$D85,'006各シート集約'!G$7:G$306)","v":0},{"$f":"SUMIF('006各シート集約'!$H$7:$H$306,$D85,'006各シート集約'!J$7:J$306)","v":0},{"$f":"SUMIF('006各シート集約'!$H$7:$H$306,$D85,'006各シート集約'!K$7:K$306)","v":0},{"$f":"SUMIF('006各シート集約'!$H$7:$H$306,$D85,'006各シート集約'!L$7:L$306)","v":0},{"$f":"SUMIF('006各シート集約'!$H$7:$H$306,$D85,'006各シート集約'!M$7:M$306)","v":0},{"$f":"SUMIF('006各シート集約'!$H$7:$H$306,$D85,'006各シート集約'!N$7:N$306)","v":0},{"$f":"SUMIF('006各シート集約'!$H$7:$H$306,$D85,'006各シート集約'!O$7:O$306)","v":0},{"$f":"SUMIF('006各シート集約'!$H$7:$H$306,$D85,'006各シート集約'!P$7:P$306)","v":0},{"$f":"SUMIF('006各シート集約'!$H$7:$H$306,$D85,'006各シート集約'!Q$7:Q$306)","v":0},{"$f":"SUMIF('006各シート集約'!$H$7:$H$306,$D85,'006各シート集約'!R$7:R$306)","v":0},{"$f":"SUMIF('006各シート集約'!$H$7:$H$306,$D85,'006各シート集約'!S$7:S$306)","v":0},{"$f":"SUMIF('006各シート集約'!$H$7:$H$306,$D85,'006各シート集約'!T$7:T$306)","v":0},{"$f":"SUMIF('006各シート集約'!$H$7:$H$306,$D85,'006各シート集約'!U$7:U$306)","v":0},{"$f":"SUMIF('006各シート集約'!$H$7:$H$306,$D85,'006各シート集約'!V$7:V$306)","v":0},{"$f":"SUMIF('006各シート集約'!$H$7:$H$306,$D85,'006各シート集約'!W$7:W$306)","v":0},{"$f":"SUMIF('006各シート集約'!$H$7:$H$306,$D85,'006各シート集約'!X$7:X$306)","v":0}]
[83,"埼玉県",null,"川口市",{"$f":"SUMIF('006各シート集約'!$H$7:$H$306,$D86,'006各シート集約'!F$7:F$306)","v":0},{"$f":"SUMIF('006各シート集約'!$H$7:$H$306,$D86,'006各シート集約'!G$7:G$306)","v":0},{"$f":"SUMIF('006各シート集約'!$H$7:$H$306,$D86,'006各シート集約'!J$7:J$306)","v":0},{"$f":"SUMIF('006各シート集約'!$H$7:$H$306,$D86,'006各シート集約'!K$7:K$306)","v":0},{"$f":"SUMIF('006各シート集約'!$H$7:$H$306,$D86,'006各シート集約'!L$7:L$306)","v":0},{"$f":"SUMIF('006各シート集約'!$H$7:$H$306,$D86,'006各シート集約'!M$7:M$306)","v":0},{"$f":"SUMIF('006各シート集約'!$H$7:$H$306,$D86,'006各シート集約'!N$7:N$306)","v":0},{"$f":"SUMIF('006各シート集約'!$H$7:$H$306,$D86,'006各シート集約'!O$7:O$306)","v":0},{"$f":"SUMIF('006各シート集約'!$H$7:$H$306,$D86,'006各シート集約'!P$7:P$306)","v":0},{"$f":"SUMIF('006各シート集約'!$H$7:$H$306,$D86,'006各シート集約'!Q$7:Q$306)","v":0},{"$f":"SUMIF('006各シート集約'!$H$7:$H$306,$D86,'006各シート集約'!R$7:R$306)","v":0},{"$f":"SUMIF('006各シート集約'!$H$7:$H$306,$D86,'006各シート集約'!S$7:S$306)","v":0},{"$f":"SUMIF('006各シート集約'!$H$7:$H$306,$D86,'006各シート集約'!T$7:T$306)","v":0},{"$f":"SUMIF('006各シート集約'!$H$7:$H$306,$D86,'006各シート集約'!U$7:U$306)","v":0},{"$f":"SUMIF('006各シート集約'!$H$7:$H$306,$D86,'006各シート集約'!V$7:V$306)","v":0},{"$f":"SUMIF('006各シート集約'!$H$7:$H$306,$D86,'006各シート集約'!W$7:W$306)","v":0},{"$f":"SUMIF('006各シート集約'!$H$7:$H$306,$D86,'006各シート集約'!X$7:X$306)","v":0}]
[84,"千葉県",null,"船橋市",{"$f":"SUMIF('006各シート集約'!$H$7:$H$306,$D87,'006各シート集約'!F$7:F$306)","v":0},{"$f":"SUMIF('006各シート集約'!$H$7:$H$306,$D87,'006各シート集約'!G$7:G$306)","v":0},{"$f":"SUMIF('006各シート集約'!$H$7:$H$306,$D87,'006各シート集約'!J$7:J$306)","v":0},{"$f":"SUMIF('006各シート集約'!$H$7:$H$306,$D87,'006各シート集約'!K$7:K$306)","v":0},{"$f":"SUMIF('006各シート集約'!$H$7:$H$306,$D87,'006各シート集約'!L$7:L$306)","v":0},{"$f":"SUMIF('006各シート集約'!$H$7:$H$306,$D87,'006各シート集約'!M$7:M$306)","v":0},{"$f":"SUMIF('006各シート集約'!$H$7:$H$306,$D87,'006各シート集約'!N$7:N$306)","v":0},{"$f":"SUMIF('006各シート集約'!$H$7:$H$306,$D87,'006各シート集約'!O$7:O$306)","v":0},{"$f":"SUMIF('006各シート集約'!$H$7:$H$306,$D87,'006各シート集約'!P$7:P$306)","v":0},{"$f":"SUMIF('006各シート集約'!$H$7:$H$306,$D87,'006各シート集約'!Q$7:Q$306)","v":0},{"$f":"SUMIF('006各シート集約'!$H$7:$H$306,$D87,'006各シート集約'!R$7:R$306)","v":0},{"$f":"SUMIF('006各シート集約'!$H$7:$H$306,$D87,'006各シート集約'!S$7:S$306)","v":0},{"$f":"SUMIF('006各シート集約'!$H$7:$H$306,$D87,'006各シート集約'!T$7:T$306)","v":0},{"$f":"SUMIF('006各シート集約'!$H$7:$H$306,$D87,'006各シート集約'!U$7:U$306)","v":0},{"$f":"SUMIF('006各シート集約'!$H$7:$H$306,$D87,'006各シート集約'!V$7:V$306)","v":0},{"$f":"SUMIF('006各シート集約'!$H$7:$H$306,$D87,'006各シート集約'!W$7:W$306)","v":0},{"$f":"SUMIF('006各シート集約'!$H$7:$H$306,$D87,'006各シート集約'!X$7:X$306)","v":0}]
[85,"千葉県",null,"柏市",{"$f":"SUMIF('006各シート集約'!$H$7:$H$306,$D88,'006各シート集約'!F$7:F$306)","v":0},{"$f":"SUMIF('006各シート集約'!$H$7:$H$306,$D88,'006各シート集約'!G$7:G$306)","v":0},{"$f":"SUMIF('006各シート集約'!$H$7:$H$306,$D88,'006各シート集約'!J$7:J$306)","v":0},{"$f":"SUMIF('006各シート集約'!$H$7:$H$306,$D88,'006各シート集約'!K$7:K$306)","v":0},{"$f":"SUMIF('006各シート集約'!$H$7:$H$306,$D88,'006各シート集約'!L$7:L$306)","v":0},{"$f":"SUMIF('006各シート集約'!$H$7:$H$306,$D88,'006各シート集約'!M$7:M$306)","v":0},{"$f":"SUMIF('006各シート集約'!$H$7:$H$306,$D88,'006各シート集約'!N$7:N$306)","v":0},{"$f":"SUMIF('006各シート集約'!$H$7:$H$306,$D88,'006各シート集約'!O$7:O$306)","v":0},{"$f":"SUMIF('006各シート集約'!$H$7:$H$306,$D88,'006各シート集約'!P$7:P$306)","v":0},{"$f":"SUMIF('006各シート集約'!$H$7:$H$306,$D88,'006各シート集約'!Q$7:Q$306)","v":0},{"$f":"SUMIF('006各シート集約'!$H$7:$H$306,$D88,'006各シート集約'!R$7:R$306)","v":0},{"$f":"SUMIF('006各シート集約'!$H$7:$H$306,$D88,'006各シート集約'!S$7:S$306)","v":0},{"$f":"SUMIF('006各シート集約'!$H$7:$H$306,$D88,'006各シート集約'!T$7:T$306)","v":0},{"$f":"SUMIF('006各シート集約'!$H$7:$H$306,$D88,'006各シート集約'!U$7:U$306)","v":0},{"$f":"SUMIF('006各シート集約'!$H$7:$H$306,$D88,'006各シート集約'!V$7:V$306)","v":0},{"$f":"SUMIF('006各シート集約'!$H$7:$H$306,$D88,'006各シート集約'!W$7:W$306)","v":0},{"$f":"SUMIF('006各シート集約'!$H$7:$H$306,$D88,'006各シート集約'!X$7:X$306)","v":0}]
[86,"東京都",null,"八王子市",{"$f":"SUMIF('006各シート集約'!$H$7:$H$306,$D89,'006各シート集約'!F$7:F$306)","v":0},{"$f":"SUMIF('006各シート集約'!$H$7:$H$306,$D89,'006各シート集約'!G$7:G$306)","v":0},{"$f":"SUMIF('006各シート集約'!$H$7:$H$306,$D89,'006各シート集約'!J$7:J$306)","v":0},{"$f":"SUMIF('006各シート集約'!$H$7:$H$306,$D89,'006各シート集約'!K$7:K$306)","v":0},{"$f":"SUMIF('006各シート集約'!$H$7:$H$306,$D89,'006各シート集約'!L$7:L$306)","v":0},{"$f":"SUMIF('006各シート集約'!$H$7:$H$306,$D89,'006各シート集約'!M$7:M$306)","v":0},{"$f":"SUMIF('006各シート集約'!$H$7:$H$306,$D89,'006各シート集約'!N$7:N$306)","v":0},{"$f":"SUMIF('006各シート集約'!$H$7:$H$306,$D89,'006各シート集約'!O$7:O$306)","v":0},{"$f":"SUMIF('006各シート集約'!$H$7:$H$306,$D89,'006各シート集約'!P$7:P$306)","v":0},{"$f":"SUMIF('006各シート集約'!$H$7:$H$306,$D89,'006各シート集約'!Q$7:Q$306)","v":0},{"$f":"SUMIF('006各シート集約'!$H$7:$H$306,$D89,'006各シート集約'!R$7:R$306)","v":0},{"$f":"SUMIF('006各シート集約'!$H$7:$H$306,$D89,'006各シート集約'!S$7:S$306)","v":0},{"$f":"SUMIF('006各シート集約'!$H$7:$H$306,$D89,'006各シート集約'!T$7:T$306)","v":0},{"$f":"SUMIF('006各シート集約'!$H$7:$H$306,$D89,'006各シート集約'!U$7:U$306)","v":0},{"$f":"SUMIF('006各シート集約'!$H$7:$H$306,$D89,'006各シート集約'!V$7:V$306)","v":0},{"$f":"SUMIF('006各シート集約'!$H$7:$H$306,$D89,'006各シート集約'!W$7:W$306)","v":0},{"$f":"SUMIF('006各シート集約'!$H$7:$H$306,$D89,'006各シート集約'!X$7:X$306)","v":0}]
[87,"神奈川県",null,"横須賀市",{"$f":"SUMIF('006各シート集約'!$H$7:$H$306,$D90,'006各シート集約'!F$7:F$306)","v":0},{"$f":"SUMIF('006各シート集約'!$H$7:$H$306,$D90,'006各シート集約'!G$7:G$306)","v":0},{"$f":"SUMIF('006各シート集約'!$H$7:$H$306,$D90,'006各シート集約'!J$7:J$306)","v":0},{"$f":"SUMIF('006各シート集約'!$H$7:$H$306,$D90,'006各シート集約'!K$7:K$306)","v":0},{"$f":"SUMIF('006各シート集約'!$H$7:$H$306,$D90,'006各シート集約'!L$7:L$306)","v":0},{"$f":"SUMIF('006各シート集約'!$H$7:$H$306,$D90,'006各シート集約'!M$7:M$306)","v":0},{"$f":"SUMIF('006各シート集約'!$H$7:$H$306,$D90,'006各シート集約'!N$7:N$306)","v":0},{"$f":"SUMIF('006各シート集約'!$H$7:$H$306,$D90,'006各シート集約'!O$7:O$306)","v":0},{"$f":"SUMIF('006各シート集約'!$H$7:$H$306,$D90,'006各シート集約'!P$7:P$306)","v":0},{"$f":"SUMIF('006各シート集約'!$H$7:$H$306,$D90,'006各シート集約'!Q$7:Q$306)","v":0},{"$f":"SUMIF('006各シート集約'!$H$7:$H$306,$D90,'006各シート集約'!R$7:R$306)","v":0},{"$f":"SUMIF('006各シート集約'!$H$7:$H$306,$D90,'006各シート集約'!S$7:S$306)","v":0},{"$f":"SUMIF('006各シート集約'!$H$7:$H$306,$D90,'006各シート集約'!T$7:T$306)","v":0},{"$f":"SUMIF('006各シート集約'!$H$7:$H$306,$D90,'006各シート集約'!U$7:U$306)","v":0},{"$f":"SUMIF('006各シート集約'!$H$7:$H$306,$D90,'006各シート集約'!V$7:V$306)","v":0},{"$f":"SUMIF('006各シート集約'!$H$7:$H$306,$D90,'006各シート集約'!W$7:W$306)","v":0},{"$f":"SUMIF('006各シート集約'!$H$7:$H$306,$D90,'006各シート集約'!X$7:X$306)","v":0}]
[88,"富山県",null,"富山市",{"$f":"SUMIF('006各シート集約'!$H$7:$H$306,$D91,'006各シート集約'!F$7:F$306)","v":0},{"$f":"SUMIF('006各シート集約'!$H$7:$H$306,$D91,'006各シート集約'!G$7:G$306)","v":0},{"$f":"SUMIF('006各シート集約'!$H$7:$H$306,$D91,'006各シート集約'!J$7:J$306)","v":0},{"$f":"SUMIF('006各シート集約'!$H$7:$H$306,$D91,'006各シート集約'!K$7:K$306)","v":0},{"$f":"SUMIF('006各シート集約'!$H$7:$H$306,$D91,'006各シート集約'!L$7:L$306)","v":0},{"$f":"SUMIF('006各シート集約'!$H$7:$H$306,$D91,'006各シート集約'!M$7:M$306)","v":0},{"$f":"SUMIF('006各シート集約'!$H$7:$H$306,$D91,'006各シート集約'!N$7:N$306)","v":0},{"$f":"SUMIF('006各シート集約'!$H$7:$H$306,$D91,'006各シート集約'!O$7:O$306)","v":0},{"$f":"SUMIF('006各シート集約'!$H$7:$H$306,$D91,'006各シート集約'!P$7:P$306)","v":0},{"$f":"SUMIF('006各シート集約'!$H$7:$H$306,$D91,'006各シート集約'!Q$7:Q$306)","v":0},{"$f":"SUMIF('006各シート集約'!$H$7:$H$306,$D91,'006各シート集約'!R$7:R$306)","v":0},{"$f":"SUMIF('006各シート集約'!$H$7:$H$306,$D91,'006各シート集約'!S$7:S$306)","v":0},{"$f":"SUMIF('006各シート集約'!$H$7:$H$306,$D91,'006各シート集約'!T$7:T$306)","v":0},{"$f":"SUMIF('006各シート集約'!$H$7:$H$306,$D91,'006各シート集約'!U$7:U$306)","v":0},{"$f":"SUMIF('006各シート集約'!$H$7:$H$306,$D91,'006各シート集約'!V$7:V$306)","v":0},{"$f":"SUMIF('006各シート集約'!$H$7:$H$306,$D91,'006各シート集約'!W$7:W$306)","v":0},{"$f":"SUMIF('006各シート集約'!$H$7:$H$306,$D91,'006各シート集約'!X$7:X$306)","v":0}]
[89,"石川県",null,"金沢市",{"$f":"SUMIF('006各シート集約'!$H$7:$H$306,$D92,'006各シート集約'!F$7:F$306)","v":0},{"$f":"SUMIF('006各シート集約'!$H$7:$H$306,$D92,'006各シート集約'!G$7:G$306)","v":0},{"$f":"SUMIF('006各シート集約'!$H$7:$H$306,$D92,'006各シート集約'!J$7:J$306)","v":0},{"$f":"SUMIF('006各シート集約'!$H$7:$H$306,$D92,'006各シート集約'!K$7:K$306)","v":0},{"$f":"SUMIF('006各シート集約'!$H$7:$H$306,$D92,'006各シート集約'!L$7:L$306)","v":0},{"$f":"SUMIF('006各シート集約'!$H$7:$H$306,$D92,'006各シート集約'!M$7:M$306)","v":0},{"$f":"SUMIF('006各シート集約'!$H$7:$H$306,$D92,'006各シート集約'!N$7:N$306)","v":0},{"$f":"SUMIF('006各シート集約'!$H$7:$H$306,$D92,'006各シート集約'!O$7:O$306)","v":0},{"$f":"SUMIF('006各シート集約'!$H$7:$H$306,$D92,'006各シート集約'!P$7:P$306)","v":0},{"$f":"SUMIF('006各シート集約'!$H$7:$H$306,$D92,'006各シート集約'!Q$7:Q$306)","v":0},{"$f":"SUMIF('006各シート集約'!$H$7:$H$306,$D92,'006各シート集約'!R$7:R$306)","v":0},{"$f":"SUMIF('006各シート集約'!$H$7:$H$306,$D92,'006各シート集約'!S$7:S$306)","v":0},{"$f":"SUMIF('006各シート集約'!$H$7:$H$306,$D92,'006各シート集約'!T$7:T$306)","v":0},{"$f":"SUMIF('006各シート集約'!$H$7:$H$306,$D92,'006各シート集約'!U$7:U$306)","v":0},{"$f":"SUMIF('006各シート集約'!$H$7:$H$306,$D92,'006各シート集約'!V$7:V$306)","v":0},{"$f":"SUMIF('006各シート集約'!$H$7:$H$306,$D92,'006各シート集約'!W$7:W$306)","v":0},{"$f":"SUMIF('006各シート集約'!$H$7:$H$306,$D92,'006各シート集約'!X$7:X$306)","v":0}]
[90,"福井県",null,"福井市",{"$f":"SUMIF('006各シート集約'!$H$7:$H$306,$D93,'006各シート集約'!F$7:F$306)","v":0},{"$f":"SUMIF('006各シート集約'!$H$7:$H$306,$D93,'006各シート集約'!G$7:G$306)","v":0},{"$f":"SUMIF('006各シート集約'!$H$7:$H$306,$D93,'006各シート集約'!J$7:J$306)","v":0},{"$f":"SUMIF('006各シート集約'!$H$7:$H$306,$D93,'006各シート集約'!K$7:K$306)","v":0},{"$f":"SUMIF('006各シート集約'!$H$7:$H$306,$D93,'006各シート集約'!L$7:L$306)","v":0},{"$f":"SUMIF('006各シート集約'!$H$7:$H$306,$D93,'006各シート集約'!M$7:M$306)","v":0},{"$f":"SUMIF('006各シート集約'!$H$7:$H$306,$D93,'006各シート集約'!N$7:N$306)","v":0},{"$f":"SUMIF('006各シート集約'!$H$7:$H$306,$D93,'006各シート集約'!O$7:O$306)","v":0},{"$f":"SUMIF('006各シート集約'!$H$7:$H$306,$D93,'006各シート集約'!P$7:P$306)","v":0},{"$f":"SUMIF('006各シート集約'!$H$7:$H$306,$D93,'006各シート集約'!Q$7:Q$306)","v":0},{"$f":"SUMIF('006各シート集約'!$H$7:$H$306,$D93,'006各シート集約'!R$7:R$306)","v":0},{"$f":"SUMIF('006各シート集約'!$H$7:$H$306,$D93,'006各シート集約'!S$7:S$306)","v":0},{"$f":"SUMIF('006各シート集約'!$H$7:$H$306,$D93,'006各シート集約'!T$7:T$306)","v":0},{"$f":"SUMIF('006各シート集約'!$H$7:$H$306,$D93,'006各シート集約'!U$7:U$306)","v":0},{"$f":"SUMIF('006各シート集約'!$H$7:$H$306,$D93,'006各シート集約'!V$7:V$306)","v":0},{"$f":"SUMIF('006各シート集約'!$H$7:$H$306,$D93,'006各シート集約'!W$7:W$306)","v":0},{"$f":"SUMIF('006各シート集約'!$H$7:$H$306,$D93,'006各シート集約'!X$7:X$306)","v":0}]
[91,"山梨県",null,"甲府市",{"$f":"SUMIF('006各シート集約'!$H$7:$H$306,$D94,'006各シート集約'!F$7:F$306)","v":0},{"$f":"SUMIF('006各シート集約'!$H$7:$H$306,$D94,'006各シート集約'!G$7:G$306)","v":0},{"$f":"SUMIF('006各シート集約'!$H$7:$H$306,$D94,'006各シート集約'!J$7:J$306)","v":0},{"$f":"SUMIF('006各シート集約'!$H$7:$H$306,$D94,'006各シート集約'!K$7:K$306)","v":0},{"$f":"SUMIF('006各シート集約'!$H$7:$H$306,$D94,'006各シート集約'!L$7:L$306)","v":0},{"$f":"SUMIF('006各シート集約'!$H$7:$H$306,$D94,'006各シート集約'!M$7:M$306)","v":0},{"$f":"SUMIF('006各シート集約'!$H$7:$H$306,$D94,'006各シート集約'!N$7:N$306)","v":0},{"$f":"SUMIF('006各シート集約'!$H$7:$H$306,$D94,'006各シート集約'!O$7:O$306)","v":0},{"$f":"SUMIF('006各シート集約'!$H$7:$H$306,$D94,'006各シート集約'!P$7:P$306)","v":0},{"$f":"SUMIF('006各シート集約'!$H$7:$H$306,$D94,'006各シート集約'!Q$7:Q$306)","v":0},{"$f":"SUMIF('006各シート集約'!$H$7:$H$306,$D94,'006各シート集約'!R$7:R$306)","v":0},{"$f":"SUMIF('006各シート集約'!$H$7:$H$306,$D94,'006各シート集約'!S$7:S$306)","v":0},{"$f":"SUMIF('006各シート集約'!$H$7:$H$306,$D94,'006各シート集約'!T$7:T$306)","v":0},{"$f":"SUMIF('006各シート集約'!$H$7:$H$306,$D94,'006各シート集約'!U$7:U$306)","v":0},{"$f":"SUMIF('006各シート集約'!$H$7:$H$306,$D94,'006各シート集約'!V$7:V$306)","v":0},{"$f":"SUMIF('006各シート集約'!$H$7:$H$306,$D94,'006各シート集約'!W$7:W$306)","v":0},{"$f":"SUMIF('006各シート集約'!$H$7:$H$306,$D94,'006各シート集約'!X$7:X$306)","v":0}]
[92,"長野県",null,"長野市",{"$f":"SUMIF('006各シート集約'!$H$7:$H$306,$D95,'006各シート集約'!F$7:F$306)","v":0},{"$f":"SUMIF('006各シート集約'!$H$7:$H$306,$D95,'006各シート集約'!G$7:G$306)","v":0},{"$f":"SUMIF('006各シート集約'!$H$7:$H$306,$D95,'006各シート集約'!J$7:J$306)","v":0},{"$f":"SUMIF('006各シート集約'!$H$7:$H$306,$D95,'006各シート集約'!K$7:K$306)","v":0},{"$f":"SUMIF('006各シート集約'!$H$7:$H$306,$D95,'006各シート集約'!L$7:L$306)","v":0},{"$f":"SUMIF('006各シート集約'!$H$7:$H$306,$D95,'006各シート集約'!M$7:M$306)","v":0},{"$f":"SUMIF('006各シート集約'!$H$7:$H$306,$D95,'006各シート集約'!N$7:N$306)","v":0},{"$f":"SUMIF('006各シート集約'!$H$7:$H$306,$D95,'006各シート集約'!O$7:O$306)","v":0},{"$f":"SUMIF('006各シート集約'!$H$7:$H$306,$D95,'006各シート集約'!P$7:P$306)","v":0},{"$f":"SUMIF('006各シート集約'!$H$7:$H$306,$D95,'006各シート集約'!Q$7:Q$306)","v":0},{"$f":"SUMIF('006各シート集約'!$H$7:$H$306,$D95,'006各シート集約'!R$7:R$306)","v":0},{"$f":"SUMIF('006各シート集約'!$H$7:$H$306,$D95,'006各シート集約'!S$7:S$306)","v":0},{"$f":"SUMIF('006各シート集約'!$H$7:$H$306,$D95,'006各シート集約'!T$7:T$306)","v":0},{"$f":"SUMIF('006各シート集約'!$H$7:$H$306,$D95,'006各シート集約'!U$7:U$306)","v":0},{"$f":"SUMIF('006各シート集約'!$H$7:$H$306,$D95,'006各シート集約'!V$7:V$306)","v":0},{"$f":"SUMIF('006各シート集約'!$H$7:$H$306,$D95,'006各シート集約'!W$7:W$306)","v":0},{"$f":"SUMIF('006各シート集約'!$H$7:$H$306,$D95,'006各シート集約'!X$7:X$306)","v":0}]
[93,"岐阜県",null,"岐阜市",{"$f":"SUMIF('006各シート集約'!$H$7:$H$306,$D96,'006各シート集約'!F$7:F$306)","v":0},{"$f":"SUMIF('006各シート集約'!$H$7:$H$306,$D96,'006各シート集約'!G$7:G$306)","v":0},{"$f":"SUMIF('006各シート集約'!$H$7:$H$306,$D96,'006各シート集約'!J$7:J$306)","v":0},{"$f":"SUMIF('006各シート集約'!$H$7:$H$306,$D96,'006各シート集約'!K$7:K$306)","v":0},{"$f":"SUMIF('006各シート集約'!$H$7:$H$306,$D96,'006各シート集約'!L$7:L$306)","v":0},{"$f":"SUMIF('006各シート集約'!$H$7:$H$306,$D96,'006各シート集約'!M$7:M$306)","v":0},{"$f":"SUMIF('006各シート集約'!$H$7:$H$306,$D96,'006各シート集約'!N$7:N$306)","v":0},{"$f":"SUMIF('006各シート集約'!$H$7:$H$306,$D96,'006各シート集約'!O$7:O$306)","v":0},{"$f":"SUMIF('006各シート集約'!$H$7:$H$306,$D96,'006各シート集約'!P$7:P$306)","v":0},{"$f":"SUMIF('006各シート集約'!$H$7:$H$306,$D96,'006各シート集約'!Q$7:Q$306)","v":0},{"$f":"SUMIF('006各シート集約'!$H$7:$H$306,$D96,'006各シート集約'!R$7:R$306)","v":0},{"$f":"SUMIF('006各シート集約'!$H$7:$H$306,$D96,'006各シート集約'!S$7:S$306)","v":0},{"$f":"SUMIF('006各シート集約'!$H$7:$H$306,$D96,'006各シート集約'!T$7:T$306)","v":0},{"$f":"SUMIF('006各シート集約'!$H$7:$H$306,$D96,'006各シート集約'!U$7:U$306)","v":0},{"$f":"SUMIF('006各シート集約'!$H$7:$H$306,$D96,'006各シート集約'!V$7:V$306)","v":0},{"$f":"SUMIF('006各シート集約'!$H$7:$H$306,$D96,'006各シート集約'!W$7:W$306)","v":0},{"$f":"SUMIF('006各シート集約'!$H$7:$H$306,$D96,'006各シート集約'!X$7:X$306)","v":0}]
[94,"愛知県",null,"豊橋市",{"$f":"SUMIF('006各シート集約'!$H$7:$H$306,$D97,'006各シート集約'!F$7:F$306)","v":0},{"$f":"SUMIF('006各シート集約'!$H$7:$H$306,$D97,'006各シート集約'!G$7:G$306)","v":0},{"$f":"SUMIF('006各シート集約'!$H$7:$H$306,$D97,'006各シート集約'!J$7:J$306)","v":0},{"$f":"SUMIF('006各シート集約'!$H$7:$H$306,$D97,'006各シート集約'!K$7:K$306)","v":0},{"$f":"SUMIF('006各シート集約'!$H$7:$H$306,$D97,'006各シート集約'!L$7:L$306)","v":0},{"$f":"SUMIF('006各シート集約'!$H$7:$H$306,$D97,'006各シート集約'!M$7:M$306)","v":0},{"$f":"SUMIF('006各シート集約'!$H$7:$H$306,$D97,'006各シート集約'!N$7:N$306)","v":0},{"$f":"SUMIF('006各シート集約'!$H$7:$H$306,$D97,'006各シート集約'!O$7:O$306)","v":0},{"$f":"SUMIF('006各シート集約'!$H$7:$H$306,$D97,'006各シート集約'!P$7:P$306)","v":0},{"$f":"SUMIF('006各シート集約'!$H$7:$H$306,$D97,'006各シート集約'!Q$7:Q$306)","v":0},{"$f":"SUMIF('006各シート集約'!$H$7:$H$306,$D97,'006各シート集約'!R$7:R$306)","v":0},{"$f":"SUMIF('006各シート集約'!$H$7:$H$306,$D97,'006各シート集約'!S$7:S$306)","v":0},{"$f":"SUMIF('006各シート集約'!$H$7:$H$306,$D97,'006各シート集約'!T$7:T$306)","v":0},{"$f":"SUMIF('006各シート集約'!$H$7:$H$306,$D97,'006各シート集約'!U$7:U$306)","v":0},{"$f":"SUMIF('006各シート集約'!$H$7:$H$306,$D97,'006各シート集約'!V$7:V$306)","v":0},{"$f":"SUMIF('006各シート集約'!$H$7:$H$306,$D97,'006各シート集約'!W$7:W$306)","v":0},{"$f":"SUMIF('006各シート集約'!$H$7:$H$306,$D97,'006各シート集約'!X$7:X$306)","v":0}]
[95,"愛知県",null,"豊田市",{"$f":"SUMIF('006各シート集約'!$H$7:$H$306,$D98,'006各シート集約'!F$7:F$306)","v":0},{"$f":"SUMIF('006各シート集約'!$H$7:$H$306,$D98,'006各シート集約'!G$7:G$306)","v":0},{"$f":"SUMIF('006各シート集約'!$H$7:$H$306,$D98,'006各シート集約'!J$7:J$306)","v":0},{"$f":"SUMIF('006各シート集約'!$H$7:$H$306,$D98,'006各シート集約'!K$7:K$306)","v":0},{"$f":"SUMIF('006各シート集約'!$H$7:$H$306,$D98,'006各シート集約'!L$7:L$306)","v":0},{"$f":"SUMIF('006各シート集約'!$H$7:$H$306,$D98,'006各シート集約'!M$7:M$306)","v":0},{"$f":"SUMIF('006各シート集約'!$H$7:$H$306,$D98,'006各シート集約'!N$7:N$306)","v":0},{"$f":"SUMIF('006各シート集約'!$H$7:$H$306,$D98,'006各シート集約'!O$7:O$306)","v":0},{"$f":"SUMIF('006各シート集約'!$H$7:$H$306,$D98,'006各シート集約'!P$7:P$306)","v":0},{"$f":"SUMIF('006各シート集約'!$H$7:$H$306,$D98,'006各シート集約'!Q$7:Q$306)","v":0},{"$f":"SUMIF('006各シート集約'!$H$7:$H$306,$D98,'006各シート集約'!R$7:R$306)","v":0},{"$f":"SUMIF('006各シート集約'!$H$7:$H$306,$D98,'006各シート集約'!S$7:S$306)","v":0},{"$f":"SUMIF('006各シート集約'!$H$7:$H$306,$D98,'006各シート集約'!T$7:T$306)","v":0},{"$f":"SUMIF('006各シート集約'!$H$7:$H$306,$D98,'006各シート集約'!U$7:U$306)","v":0},{"$f":"SUMIF('006各シート集約'!$H$7:$H$306,$D98,'006各シート集約'!V$7:V$306)","v":0},{"$f":"SUMIF('006各シート集約'!$H$7:$H$306,$D98,'006各シート集約'!W$7:W$306)","v":0},{"$f":"SUMIF('006各シート集約'!$H$7:$H$306,$D98,'006各シート集約'!X$7:X$306)","v":0}]
[96,"愛知県",null,"岡崎市",{"$f":"SUMIF('006各シート集約'!$H$7:$H$306,$D99,'006各シート集約'!F$7:F$306)","v":0},{"$f":"SUMIF('006各シート集約'!$H$7:$H$306,$D99,'006各シート集約'!G$7:G$306)","v":0},{"$f":"SUMIF('006各シート集約'!$H$7:$H$306,$D99,'006各シート集約'!J$7:J$306)","v":0},{"$f":"SUMIF('006各シート集約'!$H$7:$H$306,$D99,'006各シート集約'!K$7:K$306)","v":0},{"$f":"SUMIF('006各シート集約'!$H$7:$H$306,$D99,'006各シート集約'!L$7:L$306)","v":0},{"$f":"SUMIF('006各シート集約'!$H$7:$H$306,$D99,'006各シート集約'!M$7:M$306)","v":0},{"$f":"SUMIF('006各シート集約'!$H$7:$H$306,$D99,'006各シート集約'!N$7:N$306)","v":0},{"$f":"SUMIF('006各シート集約'!$H$7:$H$306,$D99,'006各シート集約'!O$7:O$306)","v":0},{"$f":"SUMIF('006各シート集約'!$H$7:$H$306,$D99,'006各シート集約'!P$7:P$306)","v":0},{"$f":"SUMIF('006各シート集約'!$H$7:$H$306,$D99,'006各シート集約'!Q$7:Q$306)","v":0},{"$f":"SUMIF('006各シート集約'!$H$7:$H$306,$D99,'006各シート集約'!R$7:R$306)","v":0},{"$f":"SUMIF('006各シート集約'!$H$7:$H$306,$D99,'006各シート集約'!S$7:S$306)","v":0},{"$f":"SUMIF('006各シート集約'!$H$7:$H$306,$D99,'006各シート集約'!T$7:T$306)","v":0},{"$f":"SUMIF('006各シート集約'!$H$7:$H$306,$D99,'006各シート集約'!U$7:U$306)","v":0},{"$f":"SUMIF('006各シート集約'!$H$7:$H$306,$D99,'006各シート集約'!V$7:V$306)","v":0},{"$f":"SUMIF('006各シート集約'!$H$7:$H$306,$D99,'006各シート集約'!W$7:W$306)","v":0},{"$f":"SUMIF('006各シート集約'!$H$7:$H$306,$D99,'006各シート集約'!X$7:X$306)","v":0}]
[97,"滋賀県",null,"大津市",{"$f":"SUMIF('006各シート集約'!$H$7:$H$306,$D100,'006各シート集約'!F$7:F$306)","v":0},{"$f":"SUMIF('006各シート集約'!$H$7:$H$306,$D100,'006各シート集約'!G$7:G$306)","v":0},{"$f":"SUMIF('006各シート集約'!$H$7:$H$306,$D100,'006各シート集約'!J$7:J$306)","v":0},{"$f":"SUMIF('006各シート集約'!$H$7:$H$306,$D100,'006各シート集約'!K$7:K$306)","v":0},{"$f":"SUMIF('006各シート集約'!$H$7:$H$306,$D100,'006各シート集約'!L$7:L$306)","v":0},{"$f":"SUMIF('006各シート集約'!$H$7:$H$306,$D100,'006各シート集約'!M$7:M$306)","v":0},{"$f":"SUMIF('006各シート集約'!$H$7:$H$306,$D100,'006各シート集約'!N$7:N$306)","v":0},{"$f":"SUMIF('006各シート集約'!$H$7:$H$306,$D100,'006各シート集約'!O$7:O$306)","v":0},{"$f":"SUMIF('006各シート集約'!$H$7:$H$306,$D100,'006各シート集約'!P$7:P$306)","v":0},{"$f":"SUMIF('006各シート集約'!$H$7:$H$306,$D100,'006各シート集約'!Q$7:Q$306)","v":0},{"$f":"SUMIF('006各シート集約'!$H$7:$H$306,$D100,'006各シート集約'!R$7:R$306)","v":0},{"$f":"SUMIF('006各シート集約'!$H$7:$H$306,$D100,'006各シート集約'!S$7:S$306)","v":0},{"$f":"SUMIF('006各シート集約'!$H$7:$H$306,$D100,'006各シート集約'!T$7:T$306)","v":0},{"$f":"SUMIF('006各シート集約'!$H$7:$H$306,$D100,'006各シート集約'!U$7:U$306)","v":0},{"$f":"SUMIF('006各シート集約'!$H$7:$H$306,$D100,'006各シート集約'!V$7:V$306)","v":0},{"$f":"SUMIF('006各シート集約'!$H$7:$H$306,$D100,'006各シート集約'!W$7:W$306)","v":0},{"$f":"SUMIF('006各シート集約'!$H$7:$H$306,$D100,'006各シート集約'!X$7:X$306)","v":0}]
[98,"大阪府",null,"高槻市",{"$f":"SUMIF('006各シート集約'!$H$7:$H$306,$D101,'006各シート集約'!F$7:F$306)","v":0},{"$f":"SUMIF('006各シート集約'!$H$7:$H$306,$D101,'006各シート集約'!G$7:G$306)","v":0},{"$f":"SUMIF('006各シート集約'!$H$7:$H$306,$D101,'006各シート集約'!J$7:J$306)","v":0},{"$f":"SUMIF('006各シート集約'!$H$7:$H$306,$D101,'006各シート集約'!K$7:K$306)","v":0},{"$f":"SUMIF('006各シート集約'!$H$7:$H$306,$D101,'006各シート集約'!L$7:L$306)","v":0},{"$f":"SUMIF('006各シート集約'!$H$7:$H$306,$D101,'006各シート集約'!M$7:M$306)","v":0},{"$f":"SUMIF('006各シート集約'!$H$7:$H$306,$D101,'006各シート集約'!N$7:N$306)","v":0},{"$f":"SUMIF('006各シート集約'!$H$7:$H$306,$D101,'006各シート集約'!O$7:O$306)","v":0},{"$f":"SUMIF('006各シート集約'!$H$7:$H$306,$D101,'006各シート集約'!P$7:P$306)","v":0},{"$f":"SUMIF('006各シート集約'!$H$7:$H$306,$D101,'006各シート集約'!Q$7:Q$306)","v":0},{"$f":"SUMIF('006各シート集約'!$H$7:$H$306,$D101,'006各シート集約'!R$7:R$306)","v":0},{"$f":"SUMIF('006各シート集約'!$H$7:$H$306,$D101,'006各シート集約'!S$7:S$306)","v":0},{"$f":"SUMIF('006各シート集約'!$H$7:$H$306,$D101,'006各シート集約'!T$7:T$306)","v":0},{"$f":"SUMIF('006各シート集約'!$H$7:$H$306,$D101,'006各シート集約'!U$7:U$306)","v":0},{"$f":"SUMIF('006各シート集約'!$H$7:$H$306,$D101,'006各シート集約'!V$7:V$306)","v":0},{"$f":"SUMIF('006各シート集約'!$H$7:$H$306,$D101,'006各シート集約'!W$7:W$306)","v":0},{"$f":"SUMIF('006各シート集約'!$H$7:$H$306,$D101,'006各シート集約'!X$7:X$306)","v":0}]
[99,"大阪府",null,"東大阪市",{"$f":"SUMIF('006各シート集約'!$H$7:$H$306,$D102,'006各シート集約'!F$7:F$306)","v":0},{"$f":"SUMIF('006各シート集約'!$H$7:$H$306,$D102,'006各シート集約'!G$7:G$306)","v":0},{"$f":"SUMIF('006各シート集約'!$H$7:$H$306,$D102,'006各シート集約'!J$7:J$306)","v":0},{"$f":"SUMIF('006各シート集約'!$H$7:$H$306,$D102,'006各シート集約'!K$7:K$306)","v":0},{"$f":"SUMIF('006各シート集約'!$H$7:$H$306,$D102,'006各シート集約'!L$7:L$306)","v":0},{"$f":"SUMIF('006各シート集約'!$H$7:$H$306,$D102,'006各シート集約'!M$7:M$306)","v":0},{"$f":"SUMIF('006各シート集約'!$H$7:$H$306,$D102,'006各シート集約'!N$7:N$306)","v":0},{"$f":"SUMIF('006各シート集約'!$H$7:$H$306,$D102,'006各シート集約'!O$7:O$306)","v":0},{"$f":"SUMIF('006各シート集約'!$H$7:$H$306,$D102,'006各シート集約'!P$7:P$306)","v":0},{"$f":"SUMIF('006各シート集約'!$H$7:$H$306,$D102,'006各シート集約'!Q$7:Q$306)","v":0},{"$f":"SUMIF('006各シート集約'!$H$7:$H$306,$D102,'006各シート集約'!R$7:R$306)","v":0},{"$f":"SUMIF('006各シート集約'!$H$7:$H$306,$D102,'006各シート集約'!S$7:S$306)","v":0},{"$f":"SUMIF('006各シート集約'!$H$7:$H$306,$D102,'006各シート集約'!T$7:T$306)","v":0},{"$f":"SUMIF('006各シート集約'!$H$7:$H$306,$D102,'006各シート集約'!U$7:U$306)","v":0},{"$f":"SUMIF('006各シート集約'!$H$7:$H$306,$D102,'006各シート集約'!V$7:V$306)","v":0},{"$f":"SUMIF('006各シート集約'!$H$7:$H$306,$D102,'006各シート集約'!W$7:W$306)","v":0},{"$f":"SUMIF('006各シート集約'!$H$7:$H$306,$D102,'006各シート集約'!X$7:X$306)","v":0}]
[100,"大阪府",null,"豊中市",{"$f":"SUMIF('006各シート集約'!$H$7:$H$306,$D103,'006各シート集約'!F$7:F$306)","v":0},{"$f":"SUMIF('006各シート集約'!$H$7:$H$306,$D103,'006各シート集約'!G$7:G$306)","v":0},{"$f":"SUMIF('006各シート集約'!$H$7:$H$306,$D103,'006各シート集約'!J$7:J$306)","v":0},{"$f":"SUMIF('006各シート集約'!$H$7:$H$306,$D103,'006各シート集約'!K$7:K$306)","v":0},{"$f":"SUMIF('006各シート集約'!$H$7:$H$306,$D103,'006各シート集約'!L$7:L$306)","v":0},{"$f":"SUMIF('006各シート集約'!$H$7:$H$306,$D103,'006各シート集約'!M$7:M$306)","v":0},{"$f":"SUMIF('006各シート集約'!$H$7:$H$306,$D103,'006各シート集約'!N$7:N$306)","v":0},{"$f":"SUMIF('006各シート集約'!$H$7:$H$306,$D103,'006各シート集約'!O$7:O$306)","v":0},{"$f":"SUMIF('006各シート集約'!$H$7:$H$306,$D103,'006各シート集約'!P$7:P$306)","v":0},{"$f":"SUMIF('006各シート集約'!$H$7:$H$306,$D103,'006各シート集約'!Q$7:Q$306)","v":0},{"$f":"SUMIF('006各シート集約'!$H$7:$H$306,$D103,'006各シート集約'!R$7:R$306)","v":0},{"$f":"SUMIF('006各シート集約'!$H$7:$H$306,$D103,'006各シート集約'!S$7:S$306)","v":0},{"$f":"SUMIF('006各シート集約'!$H$7:$H$306,$D103,'006各シート集約'!T$7:T$306)","v":0},{"$f":"SUMIF('006各シート集約'!$H$7:$H$306,$D103,'006各シート集約'!U$7:U$306)","v":0},{"$f":"SUMIF('006各シート集約'!$H$7:$H$306,$D103,'006各シート集約'!V$7:V$306)","v":0},{"$f":"SUMIF('006各シート集約'!$H$7:$H$306,$D103,'006各シート集約'!W$7:W$306)","v":0},{"$f":"SUMIF('006各シート集約'!$H$7:$H$306,$D103,'006各シート集約'!X$7:X$306)","v":0}]
[101,"大阪府",null,"枚方市",{"$f":"SUMIF('006各シート集約'!$H$7:$H$306,$D104,'006各シート集約'!F$7:F$306)","v":0},{"$f":"SUMIF('006各シート集約'!$H$7:$H$306,$D104,'006各シート集約'!G$7:G$306)","v":0},{"$f":"SUMIF('006各シート集約'!$H$7:$H$306,$D104,'006各シート集約'!J$7:J$306)","v":0},{"$f":"SUMIF('006各シート集約'!$H$7:$H$306,$D104,'006各シート集約'!K$7:K$306)","v":0},{"$f":"SUMIF('006各シート集約'!$H$7:$H$306,$D104,'006各シート集約'!L$7:L$306)","v":0},{"$f":"SUMIF('006各シート集約'!$H$7:$H$306,$D104,'006各シート集約'!M$7:M$306)","v":0},{"$f":"SUMIF('006各シート集約'!$H$7:$H$306,$D104,'006各シート集約'!N$7:N$306)","v":0},{"$f":"SUMIF('006各シート集約'!$H$7:$H$306,$D104,'006各シート集約'!O$7:O$306)","v":0},{"$f":"SUMIF('006各シート集約'!$H$7:$H$306,$D104,'006各シート集約'!P$7:P$306)","v":0},{"$f":"SUMIF('006各シート集約'!$H$7:$H$306,$D104,'006各シート集約'!Q$7:Q$306)","v":0},{"$f":"SUMIF('006各シート集約'!$H$7:$H$306,$D104,'006各シート集約'!R$7:R$306)","v":0},{"$f":"SUMIF('006各シート集約'!$H$7:$H$306,$D104,'006各シート集約'!S$7:S$306)","v":0},{"$f":"SUMIF('006各シート集約'!$H$7:$H$306,$D104,'006各シート集約'!T$7:T$306)","v":0},{"$f":"SUMIF('006各シート集約'!$H$7:$H$306,$D104,'006各シート集約'!U$7:U$306)","v":0},{"$f":"SUMIF('006各シート集約'!$H$7:$H$306,$D104,'006各シート集約'!V$7:V$306)","v":0},{"$f":"SUMIF('006各シート集約'!$H$7:$H$306,$D104,'006各シート集約'!W$7:W$306)","v":0},{"$f":"SUMIF('006各シート集約'!$H$7:$H$306,$D104,'006各シート集約'!X$7:X$306)","v":0}]
[102,"大阪府",null,"八尾市",{"$f":"SUMIF('006各シート集約'!$H$7:$H$306,$D105,'006各シート集約'!F$7:F$306)","v":0},{"$f":"SUMIF('006各シート集約'!$H$7:$H$306,$D105,'006各シート集約'!G$7:G$306)","v":0},{"$f":"SUMIF('006各シート集約'!$H$7:$H$306,$D105,'006各シート集約'!J$7:J$306)","v":0},{"$f":"SUMIF('006各シート集約'!$H$7:$H$306,$D105,'006各シート集約'!K$7:K$306)","v":0},{"$f":"SUMIF('006各シート集約'!$H$7:$H$306,$D105,'006各シート集約'!L$7:L$306)","v":0},{"$f":"SUMIF('006各シート集約'!$H$7:$H$306,$D105,'006各シート集約'!M$7:M$306)","v":0},{"$f":"SUMIF('006各シート集約'!$H$7:$H$306,$D105,'006各シート集約'!N$7:N$306)","v":0},{"$f":"SUMIF('006各シート集約'!$H$7:$H$306,$D105,'006各シート集約'!O$7:O$306)","v":0},{"$f":"SUMIF('006各シート集約'!$H$7:$H$306,$D105,'006各シート集約'!P$7:P$306)","v":0},{"$f":"SUMIF('006各シート集約'!$H$7:$H$306,$D105,'006各シート集約'!Q$7:Q$306)","v":0},{"$f":"SUMIF('006各シート集約'!$H$7:$H$306,$D105,'006各シート集約'!R$7:R$306)","v":0},{"$f":"SUMIF('006各シート集約'!$H$7:$H$306,$D105,'006各シート集約'!S$7:S$306)","v":0},{"$f":"SUMIF('006各シート集約'!$H$7:$H$306,$D105,'006各シート集約'!T$7:T$306)","v":0},{"$f":"SUMIF('006各シート集約'!$H$7:$H$306,$D105,'006各シート集約'!U$7:U$306)","v":0},{"$f":"SUMIF('006各シート集約'!$H$7:$H$306,$D105,'006各シート集約'!V$7:V$306)","v":0},{"$f":"SUMIF('006各シート集約'!$H$7:$H$306,$D105,'006各シート集約'!W$7:W$306)","v":0},{"$f":"SUMIF('006各シート集約'!$H$7:$H$306,$D105,'006各シート集約'!X$7:X$306)","v":0}]
[103,"大阪府",null,"寝屋川市",{"$f":"SUMIF('006各シート集約'!$H$7:$H$306,$D106,'006各シート集約'!F$7:F$306)","v":0},{"$f":"SUMIF('006各シート集約'!$H$7:$H$306,$D106,'006各シート集約'!G$7:G$306)","v":0},{"$f":"SUMIF('006各シート集約'!$H$7:$H$306,$D106,'006各シート集約'!J$7:J$306)","v":0},{"$f":"SUMIF('006各シート集約'!$H$7:$H$306,$D106,'006各シート集約'!K$7:K$306)","v":0},{"$f":"SUMIF('006各シート集約'!$H$7:$H$306,$D106,'006各シート集約'!L$7:L$306)","v":0},{"$f":"SUMIF('006各シート集約'!$H$7:$H$306,$D106,'006各シート集約'!M$7:M$306)","v":0},{"$f":"SUMIF('006各シート集約'!$H$7:$H$306,$D106,'006各シート集約'!N$7:N$306)","v":0},{"$f":"SUMIF('006各シート集約'!$H$7:$H$306,$D106,'006各シート集約'!O$7:O$306)","v":0},{"$f":"SUMIF('006各シート集約'!$H$7:$H$306,$D106,'006各シート集約'!P$7:P$306)","v":0},{"$f":"SUMIF('006各シート集約'!$H$7:$H$306,$D106,'006各シート集約'!Q$7:Q$306)","v":0},{"$f":"SUMIF('006各シート集約'!$H$7:$H$306,$D106,'006各シート集約'!R$7:R$306)","v":0},{"$f":"SUMIF('006各シート集約'!$H$7:$H$306,$D106,'006各シート集約'!S$7:S$306)","v":0},{"$f":"SUMIF('006各シート集約'!$H$7:$H$306,$D106,'006各シート集約'!T$7:T$306)","v":0},{"$f":"SUMIF('006各シート集約'!$H$7:$H$306,$D106,'006各シート集約'!U$7:U$306)","v":0},{"$f":"SUMIF('006各シート集約'!$H$7:$H$306,$D106,'006各シート集約'!V$7:V$306)","v":0},{"$f":"SUMIF('006各シート集約'!$H$7:$H$306,$D106,'006各シート集約'!W$7:W$306)","v":0},{"$f":"SUMIF('006各シート集約'!$H$7:$H$306,$D106,'006各シート集約'!X$7:X$306)","v":0}]
[104,"兵庫県",null,"姫路市",{"$f":"SUMIF('006各シート集約'!$H$7:$H$306,$D107,'006各シート集約'!F$7:F$306)","v":0},{"$f":"SUMIF('006各シート集約'!$H$7:$H$306,$D107,'006各シート集約'!G$7:G$306)","v":0},{"$f":"SUMIF('006各シート集約'!$H$7:$H$306,$D107,'006各シート集約'!J$7:J$306)","v":0},{"$f":"SUMIF('006各シート集約'!$H$7:$H$306,$D107,'006各シート集約'!K$7:K$306)","v":0},{"$f":"SUMIF('006各シート集約'!$H$7:$H$306,$D107,'006各シート集約'!L$7:L$306)","v":0},{"$f":"SUMIF('006各シート集約'!$H$7:$H$306,$D107,'006各シート集約'!M$7:M$306)","v":0},{"$f":"SUMIF('006各シート集約'!$H$7:$H$306,$D107,'006各シート集約'!N$7:N$306)","v":0},{"$f":"SUMIF('006各シート集約'!$H$7:$H$306,$D107,'006各シート集約'!O$7:O$306)","v":0},{"$f":"SUMIF('006各シート集約'!$H$7:$H$306,$D107,'006各シート集約'!P$7:P$306)","v":0},{"$f":"SUMIF('006各シート集約'!$H$7:$H$306,$D107,'006各シート集約'!Q$7:Q$306)","v":0},{"$f":"SUMIF('006各シート集約'!$H$7:$H$306,$D107,'006各シート集約'!R$7:R$306)","v":0},{"$f":"SUMIF('006各シート集約'!$H$7:$H$306,$D107,'006各シート集約'!S$7:S$306)","v":0},{"$f":"SUMIF('006各シート集約'!$H$7:$H$306,$D107,'006各シート集約'!T$7:T$306)","v":0},{"$f":"SUMIF('006各シート集約'!$H$7:$H$306,$D107,'006各シート集約'!U$7:U$306)","v":0},{"$f":"SUMIF('006各シート集約'!$H$7:$H$306,$D107,'006各シート集約'!V$7:V$306)","v":0},{"$f":"SUMIF('006各シート集約'!$H$7:$H$306,$D107,'006各シート集約'!W$7:W$306)","v":0},{"$f":"SUMIF('006各シート集約'!$H$7:$H$306,$D107,'006各シート集約'!X$7:X$306)","v":0}]
[105,"兵庫県",null,"西宮市",{"$f":"SUMIF('006各シート集約'!$H$7:$H$306,$D108,'006各シート集約'!F$7:F$306)","v":0},{"$f":"SUMIF('006各シート集約'!$H$7:$H$306,$D108,'006各シート集約'!G$7:G$306)","v":0},{"$f":"SUMIF('006各シート集約'!$H$7:$H$306,$D108,'006各シート集約'!J$7:J$306)","v":0},{"$f":"SUMIF('006各シート集約'!$H$7:$H$306,$D108,'006各シート集約'!K$7:K$306)","v":0},{"$f":"SUMIF('006各シート集約'!$H$7:$H$306,$D108,'006各シート集約'!L$7:L$306)","v":0},{"$f":"SUMIF('006各シート集約'!$H$7:$H$306,$D108,'006各シート集約'!M$7:M$306)","v":0},{"$f":"SUMIF('006各シート集約'!$H$7:$H$306,$D108,'006各シート集約'!N$7:N$306)","v":0},{"$f":"SUMIF('006各シート集約'!$H$7:$H$306,$D108,'006各シート集約'!O$7:O$306)","v":0},{"$f":"SUMIF('006各シート集約'!$H$7:$H$306,$D108,'006各シート集約'!P$7:P$306)","v":0},{"$f":"SUMIF('006各シート集約'!$H$7:$H$306,$D108,'006各シート集約'!Q$7:Q$306)","v":0},{"$f":"SUMIF('006各シート集約'!$H$7:$H$306,$D108,'006各シート集約'!R$7:R$306)","v":0},{"$f":"SUMIF('006各シート集約'!$H$7:$H$306,$D108,'006各シート集約'!S$7:S$306)","v":0},{"$f":"SUMIF('006各シート集約'!$H$7:$H$306,$D108,'006各シート集約'!T$7:T$306)","v":0},{"$f":"SUMIF('006各シート集約'!$H$7:$H$306,$D108,'006各シート集約'!U$7:U$306)","v":0},{"$f":"SUMIF('006各シート集約'!$H$7:$H$306,$D108,'006各シート集約'!V$7:V$306)","v":0},{"$f":"SUMIF('006各シート集約'!$H$7:$H$306,$D108,'006各シート集約'!W$7:W$306)","v":0},{"$f":"SUMIF('006各シート集約'!$H$7:$H$306,$D108,'006各シート集約'!X$7:X$306)","v":0}]
[106,"兵庫県",null,"尼崎市",{"$f":"SUMIF('006各シート集約'!$H$7:$H$306,$D109,'006各シート集約'!F$7:F$306)","v":0},{"$f":"SUMIF('006各シート集約'!$H$7:$H$306,$D109,'006各シート集約'!G$7:G$306)","v":0},{"$f":"SUMIF('006各シート集約'!$H$7:$H$306,$D109,'006各シート集約'!J$7:J$306)","v":0},{"$f":"SUMIF('006各シート集約'!$H$7:$H$306,$D109,'006各シート集約'!K$7:K$306)","v":0},{"$f":"SUMIF('006各シート集約'!$H$7:$H$306,$D109,'006各シート集約'!L$7:L$306)","v":0},{"$f":"SUMIF('006各シート集約'!$H$7:$H$306,$D109,'006各シート集約'!M$7:M$306)","v":0},{"$f":"SUMIF('006各シート集約'!$H$7:$H$306,$D109,'006各シート集約'!N$7:N$306)","v":0},{"$f":"SUMIF('006各シート集約'!$H$7:$H$306,$D109,'006各シート集約'!O$7:O$306)","v":0},{"$f":"SUMIF('006各シート集約'!$H$7:$H$306,$D109,'006各シート集約'!P$7:P$306)","v":0},{"$f":"SUMIF('006各シート集約'!$H$7:$H$306,$D109,'006各シート集約'!Q$7:Q$306)","v":0},{"$f":"SUMIF('006各シート集約'!$H$7:$H$306,$D109,'006各シート集約'!R$7:R$306)","v":0},{"$f":"SUMIF('006各シート集約'!$H$7:$H$306,$D109,'006各シート集約'!S$7:S$306)","v":0},{"$f":"SUMIF('006各シート集約'!$H$7:$H$306,$D109,'006各シート集約'!T$7:T$306)","v":0},{"$f":"SUMIF('006各シート集約'!$H$7:$H$306,$D109,'006各シート集約'!U$7:U$306)","v":0},{"$f":"SUMIF('006各シート集約'!$H$7:$H$306,$D109,'006各シート集約'!V$7:V$306)","v":0},{"$f":"SUMIF('006各シート集約'!$H$7:$H$306,$D109,'006各シート集約'!W$7:W$306)","v":0},{"$f":"SUMIF('006各シート集約'!$H$7:$H$306,$D109,'006各シート集約'!X$7:X$306)","v":0}]
[107,"兵庫県",null,"明石市",{"$f":"SUMIF('006各シート集約'!$H$7:$H$306,$D110,'006各シート集約'!F$7:F$306)","v":0},{"$f":"SUMIF('006各シート集約'!$H$7:$H$306,$D110,'006各シート集約'!G$7:G$306)","v":0},{"$f":"SUMIF('006各シート集約'!$H$7:$H$306,$D110,'006各シート集約'!J$7:J$306)","v":0},{"$f":"SUMIF('006各シート集約'!$H$7:$H$306,$D110,'006各シート集約'!K$7:K$306)","v":0},{"$f":"SUMIF('006各シート集約'!$H$7:$H$306,$D110,'006各シート集約'!L$7:L$306)","v":0},{"$f":"SUMIF('006各シート集約'!$H$7:$H$306,$D110,'006各シート集約'!M$7:M$306)","v":0},{"$f":"SUMIF('006各シート集約'!$H$7:$H$306,$D110,'006各シート集約'!N$7:N$306)","v":0},{"$f":"SUMIF('006各シート集約'!$H$7:$H$306,$D110,'006各シート集約'!O$7:O$306)","v":0},{"$f":"SUMIF('006各シート集約'!$H$7:$H$306,$D110,'006各シート集約'!P$7:P$306)","v":0},{"$f":"SUMIF('006各シート集約'!$H$7:$H$306,$D110,'006各シート集約'!Q$7:Q$306)","v":0},{"$f":"SUMIF('006各シート集約'!$H$7:$H$306,$D110,'006各シート集約'!R$7:R$306)","v":0},{"$f":"SUMIF('006各シート集約'!$H$7:$H$306,$D110,'006各シート集約'!S$7:S$306)","v":0},{"$f":"SUMIF('006各シート集約'!$H$7:$H$306,$D110,'006各シート集約'!T$7:T$306)","v":0},{"$f":"SUMIF('006各シート集約'!$H$7:$H$306,$D110,'006各シート集約'!U$7:U$306)","v":0},{"$f":"SUMIF('006各シート集約'!$H$7:$H$306,$D110,'006各シート集約'!V$7:V$306)","v":0},{"$f":"SUMIF('006各シート集約'!$H$7:$H$306,$D110,'006各シート集約'!W$7:W$306)","v":0},{"$f":"SUMIF('006各シート集約'!$H$7:$H$306,$D110,'006各シート集約'!X$7:X$306)","v":0}]
[108,"奈良県",null,"奈良市",{"$f":"SUMIF('006各シート集約'!$H$7:$H$306,$D111,'006各シート集約'!F$7:F$306)","v":0},{"$f":"SUMIF('006各シート集約'!$H$7:$H$306,$D111,'006各シート集約'!G$7:G$306)","v":0},{"$f":"SUMIF('006各シート集約'!$H$7:$H$306,$D111,'006各シート集約'!J$7:J$306)","v":0},{"$f":"SUMIF('006各シート集約'!$H$7:$H$306,$D111,'006各シート集約'!K$7:K$306)","v":0},{"$f":"SUMIF('006各シート集約'!$H$7:$H$306,$D111,'006各シート集約'!L$7:L$306)","v":0},{"$f":"SUMIF('006各シート集約'!$H$7:$H$306,$D111,'006各シート集約'!M$7:M$306)","v":0},{"$f":"SUMIF('006各シート集約'!$H$7:$H$306,$D111,'006各シート集約'!N$7:N$306)","v":0},{"$f":"SUMIF('006各シート集約'!$H$7:$H$306,$D111,'006各シート集約'!O$7:O$306)","v":0},{"$f":"SUMIF('006各シート集約'!$H$7:$H$306,$D111,'006各シート集約'!P$7:P$306)","v":0},{"$f":"SUMIF('006各シート集約'!$H$7:$H$306,$D111,'006各シート集約'!Q$7:Q$306)","v":0},{"$f":"SUMIF('006各シート集約'!$H$7:$H$306,$D111,'006各シート集約'!R$7:R$306)","v":0},{"$f":"SUMIF('006各シート集約'!$H$7:$H$306,$D111,'006各シート集約'!S$7:S$306)","v":0},{"$f":"SUMIF('006各シート集約'!$H$7:$H$306,$D111,'006各シート集約'!T$7:T$306)","v":0},{"$f":"SUMIF('006各シート集約'!$H$7:$H$306,$D111,'006各シート集約'!U$7:U$306)","v":0},{"$f":"SUMIF('006各シート集約'!$H$7:$H$306,$D111,'006各シート集約'!V$7:V$306)","v":0},{"$f":"SUMIF('006各シート集約'!$H$7:$H$306,$D111,'006各シート集約'!W$7:W$306)","v":0},{"$f":"SUMIF('006各シート集約'!$H$7:$H$306,$D111,'006各シート集約'!X$7:X$306)","v":0}]
[109,"和歌山県",null,"和歌山市",{"$f":"SUMIF('006各シート集約'!$H$7:$H$306,$D112,'006各シート集約'!F$7:F$306)","v":0},{"$f":"SUMIF('006各シート集約'!$H$7:$H$306,$D112,'006各シート集約'!G$7:G$306)","v":0},{"$f":"SUMIF('006各シート集約'!$H$7:$H$306,$D112,'006各シート集約'!J$7:J$306)","v":0},{"$f":"SUMIF('006各シート集約'!$H$7:$H$306,$D112,'006各シート集約'!K$7:K$306)","v":0},{"$f":"SUMIF('006各シート集約'!$H$7:$H$306,$D112,'006各シート集約'!L$7:L$306)","v":0},{"$f":"SUMIF('006各シート集約'!$H$7:$H$306,$D112,'006各シート集約'!M$7:M$306)","v":0},{"$f":"SUMIF('006各シート集約'!$H$7:$H$306,$D112,'006各シート集約'!N$7:N$306)","v":0},{"$f":"SUMIF('006各シート集約'!$H$7:$H$306,$D112,'006各シート集約'!O$7:O$306)","v":0},{"$f":"SUMIF('006各シート集約'!$H$7:$H$306,$D112,'006各シート集約'!P$7:P$306)","v":0},{"$f":"SUMIF('006各シート集約'!$H$7:$H$306,$D112,'006各シート集約'!Q$7:Q$306)","v":0},{"$f":"SUMIF('006各シート集約'!$H$7:$H$306,$D112,'006各シート集約'!R$7:R$306)","v":0},{"$f":"SUMIF('006各シート集約'!$H$7:$H$306,$D112,'006各シート集約'!S$7:S$306)","v":0},{"$f":"SUMIF('006各シート集約'!$H$7:$H$306,$D112,'006各シート集約'!T$7:T$306)","v":0},{"$f":"SUMIF('006各シート集約'!$H$7:$H$306,$D112,'006各シート集約'!U$7:U$306)","v":0},{"$f":"SUMIF('006各シート集約'!$H$7:$H$306,$D112,'006各シート集約'!V$7:V$306)","v":0},{"$f":"SUMIF('006各シート集約'!$H$7:$H$306,$D112,'006各シート集約'!W$7:W$306)","v":0},{"$f":"SUMIF('006各シート集約'!$H$7:$H$306,$D112,'006各シート集約'!X$7:X$306)","v":0}]
[110,"鳥取県",null,"鳥取市",{"$f":"SUMIF('006各シート集約'!$H$7:$H$306,$D113,'006各シート集約'!F$7:F$306)","v":0},{"$f":"SUMIF('006各シート集約'!$H$7:$H$306,$D113,'006各シート集約'!G$7:G$306)","v":0},{"$f":"SUMIF('006各シート集約'!$H$7:$H$306,$D113,'006各シート集約'!J$7:J$306)","v":0},{"$f":"SUMIF('006各シート集約'!$H$7:$H$306,$D113,'006各シート集約'!K$7:K$306)","v":0},{"$f":"SUMIF('006各シート集約'!$H$7:$H$306,$D113,'006各シート集約'!L$7:L$306)","v":0},{"$f":"SUMIF('006各シート集約'!$H$7:$H$306,$D113,'006各シート集約'!M$7:M$306)","v":0},{"$f":"SUMIF('006各シート集約'!$H$7:$H$306,$D113,'006各シート集約'!N$7:N$306)","v":0},{"$f":"SUMIF('006各シート集約'!$H$7:$H$306,$D113,'006各シート集約'!O$7:O$306)","v":0},{"$f":"SUMIF('006各シート集約'!$H$7:$H$306,$D113,'006各シート集約'!P$7:P$306)","v":0},{"$f":"SUMIF('006各シート集約'!$H$7:$H$306,$D113,'006各シート集約'!Q$7:Q$306)","v":0},{"$f":"SUMIF('006各シート集約'!$H$7:$H$306,$D113,'006各シート集約'!R$7:R$306)","v":0},{"$f":"SUMIF('006各シート集約'!$H$7:$H$306,$D113,'006各シート集約'!S$7:S$306)","v":0},{"$f":"SUMIF('006各シート集約'!$H$7:$H$306,$D113,'006各シート集約'!T$7:T$306)","v":0},{"$f":"SUMIF('006各シート集約'!$H$7:$H$306,$D113,'006各シート集約'!U$7:U$306)","v":0},{"$f":"SUMIF('006各シート集約'!$H$7:$H$306,$D113,'006各シート集約'!V$7:V$306)","v":0},{"$f":"SUMIF('006各シート集約'!$H$7:$H$306,$D113,'006各シート集約'!W$7:W$306)","v":0},{"$f":"SUMIF('006各シート集約'!$H$7:$H$306,$D113,'006各シート集約'!X$7:X$306)","v":0}]
[111,"島根県",null,"松江市",{"$f":"SUMIF('006各シート集約'!$H$7:$H$306,$D114,'006各シート集約'!F$7:F$306)","v":0},{"$f":"SUMIF('006各シート集約'!$H$7:$H$306,$D114,'006各シート集約'!G$7:G$306)","v":0},{"$f":"SUMIF('006各シート集約'!$H$7:$H$306,$D114,'006各シート集約'!J$7:J$306)","v":0},{"$f":"SUMIF('006各シート集約'!$H$7:$H$306,$D114,'006各シート集約'!K$7:K$306)","v":0},{"$f":"SUMIF('006各シート集約'!$H$7:$H$306,$D114,'006各シート集約'!L$7:L$306)","v":0},{"$f":"SUMIF('006各シート集約'!$H$7:$H$306,$D114,'006各シート集約'!M$7:M$306)","v":0},{"$f":"SUMIF('006各シート集約'!$H$7:$H$306,$D114,'006各シート集約'!N$7:N$306)","v":0},{"$f":"SUMIF('006各シート集約'!$H$7:$H$306,$D114,'006各シート集約'!O$7:O$306)","v":0},{"$f":"SUMIF('006各シート集約'!$H$7:$H$306,$D114,'006各シート集約'!P$7:P$306)","v":0},{"$f":"SUMIF('006各シート集約'!$H$7:$H$306,$D114,'006各シート集約'!Q$7:Q$306)","v":0},{"$f":"SUMIF('006各シート集約'!$H$7:$H$306,$D114,'006各シート集約'!R$7:R$306)","v":0},{"$f":"SUMIF('006各シート集約'!$H$7:$H$306,$D114,'006各シート集約'!S$7:S$306)","v":0},{"$f":"SUMIF('006各シート集約'!$H$7:$H$306,$D114,'006各シート集約'!T$7:T$306)","v":0},{"$f":"SUMIF('006各シート集約'!$H$7:$H$306,$D114,'006各シート集約'!U$7:U$306)","v":0},{"$f":"SUMIF('006各シート集約'!$H$7:$H$306,$D114,'006各シート集約'!V$7:V$306)","v":0},{"$f":"SUMIF('006各シート集約'!$H$7:$H$306,$D114,'006各シート集約'!W$7:W$306)","v":0},{"$f":"SUMIF('006各シート集約'!$H$7:$H$306,$D114,'006各シート集約'!X$7:X$306)","v":0}]
[112,"岡山県",null,"倉敷市",{"$f":"SUMIF('006各シート集約'!$H$7:$H$306,$D115,'006各シート集約'!F$7:F$306)","v":0},{"$f":"SUMIF('006各シート集約'!$H$7:$H$306,$D115,'006各シート集約'!G$7:G$306)","v":0},{"$f":"SUMIF('006各シート集約'!$H$7:$H$306,$D115,'006各シート集約'!J$7:J$306)","v":0},{"$f":"SUMIF('006各シート集約'!$H$7:$H$306,$D115,'006各シート集約'!K$7:K$306)","v":0},{"$f":"SUMIF('006各シート集約'!$H$7:$H$306,$D115,'006各シート集約'!L$7:L$306)","v":0},{"$f":"SUMIF('006各シート集約'!$H$7:$H$306,$D115,'006各シート集約'!M$7:M$306)","v":0},{"$f":"SUMIF('006各シート集約'!$H$7:$H$306,$D115,'006各シート集約'!N$7:N$306)","v":0},{"$f":"SUMIF('006各シート集約'!$H$7:$H$306,$D115,'006各シート集約'!O$7:O$306)","v":0},{"$f":"SUMIF('006各シート集約'!$H$7:$H$306,$D115,'006各シート集約'!P$7:P$306)","v":0},{"$f":"SUMIF('006各シート集約'!$H$7:$H$306,$D115,'006各シート集約'!Q$7:Q$306)","v":0},{"$f":"SUMIF('006各シート集約'!$H$7:$H$306,$D115,'006各シート集約'!R$7:R$306)","v":0},{"$f":"SUMIF('006各シート集約'!$H$7:$H$306,$D115,'006各シート集約'!S$7:S$306)","v":0},{"$f":"SUMIF('006各シート集約'!$H$7:$H$306,$D115,'006各シート集約'!T$7:T$306)","v":0},{"$f":"SUMIF('006各シート集約'!$H$7:$H$306,$D115,'006各シート集約'!U$7:U$306)","v":0},{"$f":"SUMIF('006各シート集約'!$H$7:$H$306,$D115,'006各シート集約'!V$7:V$306)","v":0},{"$f":"SUMIF('006各シート集約'!$H$7:$H$306,$D115,'006各シート集約'!W$7:W$306)","v":0},{"$f":"SUMIF('006各シート集約'!$H$7:$H$306,$D115,'006各シート集約'!X$7:X$306)","v":0}]
[113,"広島県",null,"福山市",{"$f":"SUMIF('006各シート集約'!$H$7:$H$306,$D116,'006各シート集約'!F$7:F$306)","v":0},{"$f":"SUMIF('006各シート集約'!$H$7:$H$306,$D116,'006各シート集約'!G$7:G$306)","v":0},{"$f":"SUMIF('006各シート集約'!$H$7:$H$306,$D116,'006各シート集約'!J$7:J$306)","v":0},{"$f":"SUMIF('006各シート集約'!$H$7:$H$306,$D116,'006各シート集約'!K$7:K$306)","v":0},{"$f":"SUMIF('006各シート集約'!$H$7:$H$306,$D116,'006各シート集約'!L$7:L$306)","v":0},{"$f":"SUMIF('006各シート集約'!$H$7:$H$306,$D116,'006各シート集約'!M$7:M$306)","v":0},{"$f":"SUMIF('006各シート集約'!$H$7:$H$306,$D116,'006各シート集約'!N$7:N$306)","v":0},{"$f":"SUMIF('006各シート集約'!$H$7:$H$306,$D116,'006各シート集約'!O$7:O$306)","v":0},{"$f":"SUMIF('006各シート集約'!$H$7:$H$306,$D116,'006各シート集約'!P$7:P$306)","v":0},{"$f":"SUMIF('006各シート集約'!$H$7:$H$306,$D116,'006各シート集約'!Q$7:Q$306)","v":0},{"$f":"SUMIF('006各シート集約'!$H$7:$H$306,$D116,'006各シート集約'!R$7:R$306)","v":0},{"$f":"SUMIF('006各シート集約'!$H$7:$H$306,$D116,'006各シート集約'!S$7:S$306)","v":0},{"$f":"SUMIF('006各シート集約'!$H$7:$H$306,$D116,'006各シート集約'!T$7:T$306)","v":0},{"$f":"SUMIF('006各シート集約'!$H$7:$H$306,$D116,'006各シート集約'!U$7:U$306)","v":0},{"$f":"SUMIF('006各シート集約'!$H$7:$H$306,$D116,'006各シート集約'!V$7:V$306)","v":0},{"$f":"SUMIF('006各シート集約'!$H$7:$H$306,$D116,'006各シート集約'!W$7:W$306)","v":0},{"$f":"SUMIF('006各シート集約'!$H$7:$H$306,$D116,'006各シート集約'!X$7:X$306)","v":0}]
[114,"広島県",null,"呉市",{"$f":"SUMIF('006各シート集約'!$H$7:$H$306,$D117,'006各シート集約'!F$7:F$306)","v":0},{"$f":"SUMIF('006各シート集約'!$H$7:$H$306,$D117,'006各シート集約'!G$7:G$306)","v":0},{"$f":"SUMIF('006各シート集約'!$H$7:$H$306,$D117,'006各シート集約'!J$7:J$306)","v":0},{"$f":"SUMIF('006各シート集約'!$H$7:$H$306,$D117,'006各シート集約'!K$7:K$306)","v":0},{"$f":"SUMIF('006各シート集約'!$H$7:$H$306,$D117,'006各シート集約'!L$7:L$306)","v":0},{"$f":"SUMIF('006各シート集約'!$H$7:$H$306,$D117,'006各シート集約'!M$7:M$306)","v":0},{"$f":"SUMIF('006各シート集約'!$H$7:$H$306,$D117,'006各シート集約'!N$7:N$306)","v":0},{"$f":"SUMIF('006各シート集約'!$H$7:$H$306,$D117,'006各シート集約'!O$7:O$306)","v":0},{"$f":"SUMIF('006各シート集約'!$H$7:$H$306,$D117,'006各シート集約'!P$7:P$306)","v":0},{"$f":"SUMIF('006各シート集約'!$H$7:$H$306,$D117,'006各シート集約'!Q$7:Q$306)","v":0},{"$f":"SUMIF('006各シート集約'!$H$7:$H$306,$D117,'006各シート集約'!R$7:R$306)","v":0},{"$f":"SUMIF('006各シート集約'!$H$7:$H$306,$D117,'006各シート集約'!S$7:S$306)","v":0},{"$f":"SUMIF('006各シート集約'!$H$7:$H$306,$D117,'006各シート集約'!T$7:T$306)","v":0},{"$f":"SUMIF('006各シート集約'!$H$7:$H$306,$D117,'006各シート集約'!U$7:U$306)","v":0},{"$f":"SUMIF('006各シート集約'!$H$7:$H$306,$D117,'006各シート集約'!V$7:V$306)","v":0},{"$f":"SUMIF('006各シート集約'!$H$7:$H$306,$D117,'006各シート集約'!W$7:W$306)","v":0},{"$f":"SUMIF('006各シート集約'!$H$7:$H$306,$D117,'006各シート集約'!X$7:X$306)","v":0}]
[115,"山口県",null,"下関市",{"$f":"SUMIF('006各シート集約'!$H$7:$H$306,$D118,'006各シート集約'!F$7:F$306)","v":0},{"$f":"SUMIF('006各シート集約'!$H$7:$H$306,$D118,'006各シート集約'!G$7:G$306)","v":0},{"$f":"SUMIF('006各シート集約'!$H$7:$H$306,$D118,'006各シート集約'!J$7:J$306)","v":0},{"$f":"SUMIF('006各シート集約'!$H$7:$H$306,$D118,'006各シート集約'!K$7:K$306)","v":0},{"$f":"SUMIF('006各シート集約'!$H$7:$H$306,$D118,'006各シート集約'!L$7:L$306)","v":0},{"$f":"SUMIF('006各シート集約'!$H$7:$H$306,$D118,'006各シート集約'!M$7:M$306)","v":0},{"$f":"SUMIF('006各シート集約'!$H$7:$H$306,$D118,'006各シート集約'!N$7:N$306)","v":0},{"$f":"SUMIF('006各シート集約'!$H$7:$H$306,$D118,'006各シート集約'!O$7:O$306)","v":0},{"$f":"SUMIF('006各シート集約'!$H$7:$H$306,$D118,'006各シート集約'!P$7:P$306)","v":0},{"$f":"SUMIF('006各シート集約'!$H$7:$H$306,$D118,'006各シート集約'!Q$7:Q$306)","v":0},{"$f":"SUMIF('006各シート集約'!$H$7:$H$306,$D118,'006各シート集約'!R$7:R$306)","v":0},{"$f":"SUMIF('006各シート集約'!$H$7:$H$306,$D118,'006各シート集約'!S$7:S$306)","v":0},{"$f":"SUMIF('006各シート集約'!$H$7:$H$306,$D118,'006各シート集約'!T$7:T$306)","v":0},{"$f":"SUMIF('006各シート集約'!$H$7:$H$306,$D118,'006各シート集約'!U$7:U$306)","v":0},{"$f":"SUMIF('006各シート集約'!$H$7:$H$306,$D118,'006各シート集約'!V$7:V$306)","v":0},{"$f":"SUMIF('006各シート集約'!$H$7:$H$306,$D118,'006各シート集約'!W$7:W$306)","v":0},{"$f":"SUMIF('006各シート集約'!$H$7:$H$306,$D118,'006各シート集約'!X$7:X$306)","v":0}]
[116,"香川県",null,"高松市",{"$f":"SUMIF('006各シート集約'!$H$7:$H$306,$D119,'006各シート集約'!F$7:F$306)","v":0},{"$f":"SUMIF('006各シート集約'!$H$7:$H$306,$D119,'006各シート集約'!G$7:G$306)","v":0},{"$f":"SUMIF('006各シート集約'!$H$7:$H$306,$D119,'006各シート集約'!J$7:J$306)","v":0},{"$f":"SUMIF('006各シート集約'!$H$7:$H$306,$D119,'006各シート集約'!K$7:K$306)","v":0},{"$f":"SUMIF('006各シート集約'!$H$7:$H$306,$D119,'006各シート集約'!L$7:L$306)","v":0},{"$f":"SUMIF('006各シート集約'!$H$7:$H$306,$D119,'006各シート集約'!M$7:M$306)","v":0},{"$f":"SUMIF('006各シート集約'!$H$7:$H$306,$D119,'006各シート集約'!N$7:N$306)","v":0},{"$f":"SUMIF('006各シート集約'!$H$7:$H$306,$D119,'006各シート集約'!O$7:O$306)","v":0},{"$f":"SUMIF('006各シート集約'!$H$7:$H$306,$D119,'006各シート集約'!P$7:P$306)","v":0},{"$f":"SUMIF('006各シート集約'!$H$7:$H$306,$D119,'006各シート集約'!Q$7:Q$306)","v":0},{"$f":"SUMIF('006各シート集約'!$H$7:$H$306,$D119,'006各シート集約'!R$7:R$306)","v":0},{"$f":"SUMIF('006各シート集約'!$H$7:$H$306,$D119,'006各シート集約'!S$7:S$306)","v":0},{"$f":"SUMIF('006各シート集約'!$H$7:$H$306,$D119,'006各シート集約'!T$7:T$306)","v":0},{"$f":"SUMIF('006各シート集約'!$H$7:$H$306,$D119,'006各シート集約'!U$7:U$306)","v":0},{"$f":"SUMIF('006各シート集約'!$H$7:$H$306,$D119,'006各シート集約'!V$7:V$306)","v":0},{"$f":"SUMIF('006各シート集約'!$H$7:$H$306,$D119,'006各シート集約'!W$7:W$306)","v":0},{"$f":"SUMIF('006各シート集約'!$H$7:$H$306,$D119,'006各シート集約'!X$7:X$306)","v":0}]
[117,"愛媛県",null,"松山市",{"$f":"SUMIF('006各シート集約'!$H$7:$H$306,$D120,'006各シート集約'!F$7:F$306)","v":0},{"$f":"SUMIF('006各シート集約'!$H$7:$H$306,$D120,'006各シート集約'!G$7:G$306)","v":0},{"$f":"SUMIF('006各シート集約'!$H$7:$H$306,$D120,'006各シート集約'!J$7:J$306)","v":0},{"$f":"SUMIF('006各シート集約'!$H$7:$H$306,$D120,'006各シート集約'!K$7:K$306)","v":0},{"$f":"SUMIF('006各シート集約'!$H$7:$H$306,$D120,'006各シート集約'!L$7:L$306)","v":0},{"$f":"SUMIF('006各シート集約'!$H$7:$H$306,$D120,'006各シート集約'!M$7:M$306)","v":0},{"$f":"SUMIF('006各シート集約'!$H$7:$H$306,$D120,'006各シート集約'!N$7:N$306)","v":0},{"$f":"SUMIF('006各シート集約'!$H$7:$H$306,$D120,'006各シート集約'!O$7:O$306)","v":0},{"$f":"SUMIF('006各シート集約'!$H$7:$H$306,$D120,'006各シート集約'!P$7:P$306)","v":0},{"$f":"SUMIF('006各シート集約'!$H$7:$H$306,$D120,'006各シート集約'!Q$7:Q$306)","v":0},{"$f":"SUMIF('006各シート集約'!$H$7:$H$306,$D120,'006各シート集約'!R$7:R$306)","v":0},{"$f":"SUMIF('006各シート集約'!$H$7:$H$306,$D120,'006各シート集約'!S$7:S$306)","v":0},{"$f":"SUMIF('006各シート集約'!$H$7:$H$306,$D120,'006各シート集約'!T$7:T$306)","v":0},{"$f":"SUMIF('006各シート集約'!$H$7:$H$306,$D120,'006各シート集約'!U$7:U$306)","v":0},{"$f":"SUMIF('006各シート集約'!$H$7:$H$306,$D120,'006各シート集約'!V$7:V$306)","v":0},{"$f":"SUMIF('006各シート集約'!$H$7:$H$306,$D120,'006各シート集約'!W$7:W$306)","v":0},{"$f":"SUMIF('006各シート集約'!$H$7:$H$306,$D120,'006各シート集約'!X$7:X$306)","v":0}]
[118,"高知県",null,"高知市",{"$f":"SUMIF('006各シート集約'!$H$7:$H$306,$D121,'006各シート集約'!F$7:F$306)","v":0},{"$f":"SUMIF('006各シート集約'!$H$7:$H$306,$D121,'006各シート集約'!G$7:G$306)","v":0},{"$f":"SUMIF('006各シート集約'!$H$7:$H$306,$D121,'006各シート集約'!J$7:J$306)","v":0},{"$f":"SUMIF('006各シート集約'!$H$7:$H$306,$D121,'006各シート集約'!K$7:K$306)","v":0},{"$f":"SUMIF('006各シート集約'!$H$7:$H$306,$D121,'006各シート集約'!L$7:L$306)","v":0},{"$f":"SUMIF('006各シート集約'!$H$7:$H$306,$D121,'006各シート集約'!M$7:M$306)","v":0},{"$f":"SUMIF('006各シート集約'!$H$7:$H$306,$D121,'006各シート集約'!N$7:N$306)","v":0},{"$f":"SUMIF('006各シート集約'!$H$7:$H$306,$D121,'006各シート集約'!O$7:O$306)","v":0},{"$f":"SUMIF('006各シート集約'!$H$7:$H$306,$D121,'006各シート集約'!P$7:P$306)","v":0},{"$f":"SUMIF('006各シート集約'!$H$7:$H$306,$D121,'006各シート集約'!Q$7:Q$306)","v":0},{"$f":"SUMIF('006各シート集約'!$H$7:$H$306,$D121,'006各シート集約'!R$7:R$306)","v":0},{"$f":"SUMIF('006各シート集約'!$H$7:$H$306,$D121,'006各シート集約'!S$7:S$306)","v":0},{"$f":"SUMIF('006各シート集約'!$H$7:$H$306,$D121,'006各シート集約'!T$7:T$306)","v":0},{"$f":"SUMIF('006各シート集約'!$H$7:$H$306,$D121,'006各シート集約'!U$7:U$306)","v":0},{"$f":"SUMIF('006各シート集約'!$H$7:$H$306,$D121,'006各シート集約'!V$7:V$306)","v":0},{"$f":"SUMIF('006各シート集約'!$H$7:$H$306,$D121,'006各シート集約'!W$7:W$306)","v":0},{"$f":"SUMIF('006各シート集約'!$H$7:$H$306,$D121,'006各シート集約'!X$7:X$306)","v":0}]
[119,"福岡県",null,"久留米市",{"$f":"SUMIF('006各シート集約'!$H$7:$H$306,$D122,'006各シート集約'!F$7:F$306)","v":0},{"$f":"SUMIF('006各シート集約'!$H$7:$H$306,$D122,'006各シート集約'!G$7:G$306)","v":0},{"$f":"SUMIF('006各シート集約'!$H$7:$H$306,$D122,'006各シート集約'!J$7:J$306)","v":0},{"$f":"SUMIF('006各シート集約'!$H$7:$H$306,$D122,'006各シート集約'!K$7:K$306)","v":0},{"$f":"SUMIF('006各シート集約'!$H$7:$H$306,$D122,'006各シート集約'!L$7:L$306)","v":0},{"$f":"SUMIF('006各シート集約'!$H$7:$H$306,$D122,'006各シート集約'!M$7:M$306)","v":0},{"$f":"SUMIF('006各シート集約'!$H$7:$H$306,$D122,'006各シート集約'!N$7:N$306)","v":0},{"$f":"SUMIF('006各シート集約'!$H$7:$H$306,$D122,'006各シート集約'!O$7:O$306)","v":0},{"$f":"SUMIF('006各シート集約'!$H$7:$H$306,$D122,'006各シート集約'!P$7:P$306)","v":0},{"$f":"SUMIF('006各シート集約'!$H$7:$H$306,$D122,'006各シート集約'!Q$7:Q$306)","v":0},{"$f":"SUMIF('006各シート集約'!$H$7:$H$306,$D122,'006各シート集約'!R$7:R$306)","v":0},{"$f":"SUMIF('006各シート集約'!$H$7:$H$306,$D122,'006各シート集約'!S$7:S$306)","v":0},{"$f":"SUMIF('006各シート集約'!$H$7:$H$306,$D122,'006各シート集約'!T$7:T$306)","v":0},{"$f":"SUMIF('006各シート集約'!$H$7:$H$306,$D122,'006各シート集約'!U$7:U$306)","v":0},{"$f":"SUMIF('006各シート集約'!$H$7:$H$306,$D122,'006各シート集約'!V$7:V$306)","v":0},{"$f":"SUMIF('006各シート集約'!$H$7:$H$306,$D122,'006各シート集約'!W$7:W$306)","v":0},{"$f":"SUMIF('006各シート集約'!$H$7:$H$306,$D122,'006各シート集約'!X$7:X$306)","v":0}]
[120,"長崎県",null,"長崎市",{"$f":"SUMIF('006各シート集約'!$H$7:$H$306,$D123,'006各シート集約'!F$7:F$306)","v":0},{"$f":"SUMIF('006各シート集約'!$H$7:$H$306,$D123,'006各シート集約'!G$7:G$306)","v":0},{"$f":"SUMIF('006各シート集約'!$H$7:$H$306,$D123,'006各シート集約'!J$7:J$306)","v":0},{"$f":"SUMIF('006各シート集約'!$H$7:$H$306,$D123,'006各シート集約'!K$7:K$306)","v":0},{"$f":"SUMIF('006各シート集約'!$H$7:$H$306,$D123,'006各シート集約'!L$7:L$306)","v":0},{"$f":"SUMIF('006各シート集約'!$H$7:$H$306,$D123,'006各シート集約'!M$7:M$306)","v":0},{"$f":"SUMIF('006各シート集約'!$H$7:$H$306,$D123,'006各シート集約'!N$7:N$306)","v":0},{"$f":"SUMIF('006各シート集約'!$H$7:$H$306,$D123,'006各シート集約'!O$7:O$306)","v":0},{"$f":"SUMIF('006各シート集約'!$H$7:$H$306,$D123,'006各シート集約'!P$7:P$306)","v":0},{"$f":"SUMIF('006各シート集約'!$H$7:$H$306,$D123,'006各シート集約'!Q$7:Q$306)","v":0},{"$f":"SUMIF('006各シート集約'!$H$7:$H$306,$D123,'006各シート集約'!R$7:R$306)","v":0},{"$f":"SUMIF('006各シート集約'!$H$7:$H$306,$D123,'006各シート集約'!S$7:S$306)","v":0},{"$f":"SUMIF('006各シート集約'!$H$7:$H$306,$D123,'006各シート集約'!T$7:T$306)","v":0},{"$f":"SUMIF('006各シート集約'!$H$7:$H$306,$D123,'006各シート集約'!U$7:U$306)","v":0},{"$f":"SUMIF('006各シート集約'!$H$7:$H$306,$D123,'006各シート集約'!V$7:V$306)","v":0},{"$f":"SUMIF('006各シート集約'!$H$7:$H$306,$D123,'006各シート集約'!W$7:W$306)","v":0},{"$f":"SUMIF('006各シート集約'!$H$7:$H$306,$D123,'006各シート集約'!X$7:X$306)","v":0}]
[121,"長崎県",null,"佐世保市",{"$f":"SUMIF('006各シート集約'!$H$7:$H$306,$D124,'006各シート集約'!F$7:F$306)","v":0},{"$f":"SUMIF('006各シート集約'!$H$7:$H$306,$D124,'006各シート集約'!G$7:G$306)","v":0},{"$f":"SUMIF('006各シート集約'!$H$7:$H$306,$D124,'006各シート集約'!J$7:J$306)","v":0},{"$f":"SUMIF('006各シート集約'!$H$7:$H$306,$D124,'006各シート集約'!K$7:K$306)","v":0},{"$f":"SUMIF('006各シート集約'!$H$7:$H$306,$D124,'006各シート集約'!L$7:L$306)","v":0},{"$f":"SUMIF('006各シート集約'!$H$7:$H$306,$D124,'006各シート集約'!M$7:M$306)","v":0},{"$f":"SUMIF('006各シート集約'!$H$7:$H$306,$D124,'006各シート集約'!N$7:N$306)","v":0},{"$f":"SUMIF('006各シート集約'!$H$7:$H$306,$D124,'006各シート集約'!O$7:O$306)","v":0},{"$f":"SUMIF('006各シート集約'!$H$7:$H$306,$D124,'006各シート集約'!P$7:P$306)","v":0},{"$f":"SUMIF('006各シート集約'!$H$7:$H$306,$D124,'006各シート集約'!Q$7:Q$306)","v":0},{"$f":"SUMIF('006各シート集約'!$H$7:$H$306,$D124,'006各シート集約'!R$7:R$306)","v":0},{"$f":"SUMIF('006各シート集約'!$H$7:$H$306,$D124,'006各シート集約'!S$7:S$306)","v":0},{"$f":"SUMIF('006各シート集約'!$H$7:$H$306,$D124,'006各シート集約'!T$7:T$306)","v":0},{"$f":"SUMIF('006各シート集約'!$H$7:$H$306,$D124,'006各シート集約'!U$7:U$306)","v":0},{"$f":"SUMIF('006各シート集約'!$H$7:$H$306,$D124,'006各シート集約'!V$7:V$306)","v":0},{"$f":"SUMIF('006各シート集約'!$H$7:$H$306,$D124,'006各シート集約'!W$7:W$306)","v":0},{"$f":"SUMIF('006各シート集約'!$H$7:$H$306,$D124,'006各シート集約'!X$7:X$306)","v":0}]
[122,"大分県",null,"大分市",{"$f":"SUMIF('006各シート集約'!$H$7:$H$306,$D125,'006各シート集約'!F$7:F$306)","v":0},{"$f":"SUMIF('006各シート集約'!$H$7:$H$306,$D125,'006各シート集約'!G$7:G$306)","v":0},{"$f":"SUMIF('006各シート集約'!$H$7:$H$306,$D125,'006各シート集約'!J$7:J$306)","v":0},{"$f":"SUMIF('006各シート集約'!$H$7:$H$306,$D125,'006各シート集約'!K$7:K$306)","v":0},{"$f":"SUMIF('006各シート集約'!$H$7:$H$306,$D125,'006各シート集約'!L$7:L$306)","v":0},{"$f":"SUMIF('006各シート集約'!$H$7:$H$306,$D125,'006各シート集約'!M$7:M$306)","v":0},{"$f":"SUMIF('006各シート集約'!$H$7:$H$306,$D125,'006各シート集約'!N$7:N$306)","v":0},{"$f":"SUMIF('006各シート集約'!$H$7:$H$306,$D125,'006各シート集約'!O$7:O$306)","v":0},{"$f":"SUMIF('006各シート集約'!$H$7:$H$306,$D125,'006各シート集約'!P$7:P$306)","v":0},{"$f":"SUMIF('006各シート集約'!$H$7:$H$306,$D125,'006各シート集約'!Q$7:Q$306)","v":0},{"$f":"SUMIF('006各シート集約'!$H$7:$H$306,$D125,'006各シート集約'!R$7:R$306)","v":0},{"$f":"SUMIF('006各シート集約'!$H$7:$H$306,$D125,'006各シート集約'!S$7:S$306)","v":0},{"$f":"SUMIF('006各シート集約'!$H$7:$H$306,$D125,'006各シート集約'!T$7:T$306)","v":0},{"$f":"SUMIF('006各シート集約'!$H$7:$H$306,$D125,'006各シート集約'!U$7:U$306)","v":0},{"$f":"SUMIF('006各シート集約'!$H$7:$H$306,$D125,'006各シート集約'!V$7:V$306)","v":0},{"$f":"SUMIF('006各シート集約'!$H$7:$H$306,$D125,'006各シート集約'!W$7:W$306)","v":0},{"$f":"SUMIF('006各シート集約'!$H$7:$H$306,$D125,'006各シート集約'!X$7:X$306)","v":0}]
[123,"宮崎県",null,"宮崎市",{"$f":"SUMIF('006各シート集約'!$H$7:$H$306,$D126,'006各シート集約'!F$7:F$306)","v":0},{"$f":"SUMIF('006各シート集約'!$H$7:$H$306,$D126,'006各シート集約'!G$7:G$306)","v":0},{"$f":"SUMIF('006各シート集約'!$H$7:$H$306,$D126,'006各シート集約'!J$7:J$306)","v":0},{"$f":"SUMIF('006各シート集約'!$H$7:$H$306,$D126,'006各シート集約'!K$7:K$306)","v":0},{"$f":"SUMIF('006各シート集約'!$H$7:$H$306,$D126,'006各シート集約'!L$7:L$306)","v":0},{"$f":"SUMIF('006各シート集約'!$H$7:$H$306,$D126,'006各シート集約'!M$7:M$306)","v":0},{"$f":"SUMIF('006各シート集約'!$H$7:$H$306,$D126,'006各シート集約'!N$7:N$306)","v":0},{"$f":"SUMIF('006各シート集約'!$H$7:$H$306,$D126,'006各シート集約'!O$7:O$306)","v":0},{"$f":"SUMIF('006各シート集約'!$H$7:$H$306,$D126,'006各シート集約'!P$7:P$306)","v":0},{"$f":"SUMIF('006各シート集約'!$H$7:$H$306,$D126,'006各シート集約'!Q$7:Q$306)","v":0},{"$f":"SUMIF('006各シート集約'!$H$7:$H$306,$D126,'006各シート集約'!R$7:R$306)","v":0},{"$f":"SUMIF('006各シート集約'!$H$7:$H$306,$D126,'006各シート集約'!S$7:S$306)","v":0},{"$f":"SUMIF('006各シート集約'!$H$7:$H$306,$D126,'006各シート集約'!T$7:T$306)","v":0},{"$f":"SUMIF('006各シート集約'!$H$7:$H$306,$D126,'006各シート集約'!U$7:U$306)","v":0},{"$f":"SUMIF('006各シート集約'!$H$7:$H$306,$D126,'006各シート集約'!V$7:V$306)","v":0},{"$f":"SUMIF('006各シート集約'!$H$7:$H$306,$D126,'006各シート集約'!W$7:W$306)","v":0},{"$f":"SUMIF('006各シート集約'!$H$7:$H$306,$D126,'006各シート集約'!X$7:X$306)","v":0}]
[124,"鹿児島県",null,"鹿児島市",{"$f":"SUMIF('006各シート集約'!$H$7:$H$306,$D127,'006各シート集約'!F$7:F$306)","v":0},{"$f":"SUMIF('006各シート集約'!$H$7:$H$306,$D127,'006各シート集約'!G$7:G$306)","v":0},{"$f":"SUMIF('006各シート集約'!$H$7:$H$306,$D127,'006各シート集約'!J$7:J$306)","v":0},{"$f":"SUMIF('006各シート集約'!$H$7:$H$306,$D127,'006各シート集約'!K$7:K$306)","v":0},{"$f":"SUMIF('006各シート集約'!$H$7:$H$306,$D127,'006各シート集約'!L$7:L$306)","v":0},{"$f":"SUMIF('006各シート集約'!$H$7:$H$306,$D127,'006各シート集約'!M$7:M$306)","v":0},{"$f":"SUMIF('006各シート集約'!$H$7:$H$306,$D127,'006各シート集約'!N$7:N$306)","v":0},{"$f":"SUMIF('006各シート集約'!$H$7:$H$306,$D127,'006各シート集約'!O$7:O$306)","v":0},{"$f":"SUMIF('006各シート集約'!$H$7:$H$306,$D127,'006各シート集約'!P$7:P$306)","v":0},{"$f":"SUMIF('006各シート集約'!$H$7:$H$306,$D127,'006各シート集約'!Q$7:Q$306)","v":0},{"$f":"SUMIF('006各シート集約'!$H$7:$H$306,$D127,'006各シート集約'!R$7:R$306)","v":0},{"$f":"SUMIF('006各シート集約'!$H$7:$H$306,$D127,'006各シート集約'!S$7:S$306)","v":0},{"$f":"SUMIF('006各シート集約'!$H$7:$H$306,$D127,'006各シート集約'!T$7:T$306)","v":0},{"$f":"SUMIF('006各シート集約'!$H$7:$H$306,$D127,'006各シート集約'!U$7:U$306)","v":0},{"$f":"SUMIF('006各シート集約'!$H$7:$H$306,$D127,'006各シート集約'!V$7:V$306)","v":0},{"$f":"SUMIF('006各シート集約'!$H$7:$H$306,$D127,'006各シート集約'!W$7:W$306)","v":0},{"$f":"SUMIF('006各シート集約'!$H$7:$H$306,$D127,'006各シート集約'!X$7:X$306)","v":0}]
[125,"沖縄県",null,"那覇市",{"$f":"SUMIF('006各シート集約'!$H$7:$H$306,$D128,'006各シート集約'!F$7:F$306)","v":0},{"$f":"SUMIF('006各シート集約'!$H$7:$H$306,$D128,'006各シート集約'!G$7:G$306)","v":0},{"$f":"SUMIF('006各シート集約'!$H$7:$H$306,$D128,'006各シート集約'!J$7:J$306)","v":0},{"$f":"SUMIF('006各シート集約'!$H$7:$H$306,$D128,'006各シート集約'!K$7:K$306)","v":0},{"$f":"SUMIF('006各シート集約'!$H$7:$H$306,$D128,'006各シート集約'!L$7:L$306)","v":0},{"$f":"SUMIF('006各シート集約'!$H$7:$H$306,$D128,'006各シート集約'!M$7:M$306)","v":0},{"$f":"SUMIF('006各シート集約'!$H$7:$H$306,$D128,'006各シート集約'!N$7:N$306)","v":0},{"$f":"SUMIF('006各シート集約'!$H$7:$H$306,$D128,'006各シート集約'!O$7:O$306)","v":0},{"$f":"SUMIF('006各シート集約'!$H$7:$H$306,$D128,'006各シート集約'!P$7:P$306)","v":0},{"$f":"SUMIF('006各シート集約'!$H$7:$H$306,$D128,'006各シート集約'!Q$7:Q$306)","v":0},{"$f":"SUMIF('006各シート集約'!$H$7:$H$306,$D128,'006各シート集約'!R$7:R$306)","v":0},{"$f":"SUMIF('006各シート集約'!$H$7:$H$306,$D128,'006各シート集約'!S$7:S$306)","v":0},{"$f":"SUMIF('006各シート集約'!$H$7:$H$306,$D128,'006各シート集約'!T$7:T$306)","v":0},{"$f":"SUMIF('006各シート集約'!$H$7:$H$306,$D128,'006各シート集約'!U$7:U$306)","v":0},{"$f":"SUMIF('006各シート集約'!$H$7:$H$306,$D128,'006各シート集約'!V$7:V$306)","v":0},{"$f":"SUMIF('006各シート集約'!$H$7:$H$306,$D128,'006各シート集約'!W$7:W$306)","v":0},{"$f":"SUMIF('006各シート集約'!$H$7:$H$306,$D128,'006各シート集約'!X$7:X$306)","v":0}]

{"sheet":"006各シート集約","index":5,"n_rows":306,"n_cols":28,"rows_kept":306,"cut":false,"hidden":false,"merged":[]}
[null,null,"!B3","!D3","!E3","!F3","!G3","!H3","!I3","!C7","!D7","!E7","!F7","!G7","!H7","!C10","!D10","!E10","!F10","!H10","!C13","!D13","!E13","!F13","!G13","!H13","!J3"]
[null,1,2,3,4,5,6,7,8,9,10,11,12,13,14,15,16,17,18,19,20,21,22,23,24,25,26]
[null,"シート名","事業所番号","事業所の名称","サービス名","特定加算額","賃金改善額","指定権者","都道府県","➊職員分類人数","➊賃金改善額","➊改善前賃金","➊改善後賃金","➊月額８万円または年収440万円の人数","➊賃金改善をした実人数","➋職員分類人数","➋賃金改善額","➋改善前賃金","➋改善後賃金","➋賃金改善をした実人数","➌職員分類人数","➌賃金改善額","➌改善前賃金","➌改善後賃金","➌最も高額な者の賃金","➌賃金改善をした実人数","特定加算の区分"]
["合計",null,null,null,null,{"$f":"_xlfn.AGGREGATE(9,6,F$7:F$306)","v":0},null,null,null,{"$f":"_xlfn.AGGREGATE(9,6,J$7:J$306)","v":0},0,0,0,0,0,0,0,0,0,0,0,0,0,0,{"$f":"_xlfn.AGGREGATE(4,6,Y$7:Y$306)","v":0},{"$f":"_xlfn.AGGREGATE(9,6,Z$7:Z$306)","v":0},{"$f":"IFERROR(COUNTIF($AA$7:$AA$306,AB4),\"\")","v":0},"Ⅰ"]
[null,null,null,null,null,null,null,null,null,null,null,null,null,null,null,null,null,null,null,null,null,null,null,null,null,null,{"$f":"IFERROR(COUNTIF($AA$7:$AA$306,AB5),\"\")","v":0},"Ⅱ"]
["No.",null,null,null,null,null,null,null,null,null,null,null,null,null,null,null,null,null,null,null,null,null,null,null,null,null,{"$f":"IFERROR(COUNTIF($AA$7:$AA$306,AB6),\"\")","v":0},"区分なし"]
[1,{"$f":"SUBSTITUTE(INDEX(book,ROW()),\"[\"&doc&\"]\",\"\")","v":{"$error":"#REF!"}},{"$f":"INDIRECT(\"’\"&$B7&\"’\"&C$1)","v":{"$error":"#REF!"}},{"$f":"INDIRECT(\"’\"&$B7&\"’\"&D$1)","v":{"$error":"#REF!"}},{"$error":"#REF!"},{"$error":"#REF!"},{"$f":"INDIRECT(\"’\"&$B7&\"’\"&G$1)","v":{"$error":"#REF!"}},{"$error":"#REF!"},{"$error":"#REF!"},{"$error":"#REF!"},{"$error":"#REF!"},{"$error":"#REF!"},{"$error":"#REF!"},{"$error":"#REF!"},{"$error":"#REF!"},{"$error":"#REF!"},{"$error":"#REF!"},{"$error":"#REF!"},{"$error":"#REF!"},{"$error":"#REF!"},{"$error":"#REF!"},{"$error":"#REF!"},{"$error":"#REF!"},{"$error":"#REF!"},{"$error":"#REF!"},{"$error":"#REF!"},{"$error":"#REF!"}]
[2,{"$f":"SUBSTITUTE(INDEX(book,ROW()),\"[\"&doc&\"]\",\"\")","v":{"$error":"#REF!"}},{"$f":"INDIRECT(\"’\"&$B8&\"’\"&C$1)","v":{"$error":"#REF!"}},{"$error":"#REF!"},{"$error":"#REF!"},{"$error":"#REF!"},{"$error":"#REF!"},{"$error":"#REF!"},{"$error":"#REF!"},{"$error":"#REF!"},{"$error":"#REF!"},{"$error":"#REF!"},{"$error":"#REF!"},{"$error":"#REF!"},{"$error":"#REF!"},{"$error":"#REF!"},{"$error":"#REF!"},{"$error":"#REF!"},{"$f":"INDIRECT(\"’\"&$B8&\"’\"&S$1)","v":{"$error":"#REF!"}},{"$error":"#REF!"},{"$error":"#REF!"},{"$error":"#REF!"},{"$error":"#REF!"},{"$error":"#REF!"},{"$error":"#REF!"},{"$error":"#REF!"},{"$error":"#REF!"}]
[3,{"$f":"SUBSTITUTE(INDEX(book,ROW()),\"[\"&doc&\"]\",\"\")","v":{"$error":"#REF!"}},{"$error":"#REF!"},{"$error":"#REF!"},{"$error":"#REF!"},{"$error":"#REF!"},{"$error":"#REF!"},{"$error":"#REF!"},{"$error":"#REF!"},{"$error":"#REF!"},{"$error":"#REF!"},{"$error":"#REF!"},{"$error":"#REF!"},{"$error":"#REF!"},{"$error":"#REF!"},{"$error":"#REF!"},{"$error":"#REF!"},{"$error":"#REF!"},{"$error":"#REF!"},{"$error":"#REF!"},{"$error":"#REF!"},{"$error":"#REF!"},{"$error":"#REF!"},{"$error":"#REF!"},{"$error":"#REF!"},{"$error":"#REF!"},{"$error":"#REF!"}]
[4,{"$f":"SUBSTITUTE(INDEX(book,ROW()),\"[\"&doc&\"]\",\"\")","v":{"$error":"#REF!"}},{"$error":"#REF!"},{"$error":"#REF!"},{"$error":"#REF!"},{"$error":"#REF!"},{"$error":"#REF!"},{"$error":"#REF!"},{"$error":"#REF!"},{"$error":"#REF!"},{"$error":"#REF!"},{"$error":"#REF!"},{"$error":"#REF!"},{"$error":"#REF!"},{"$error":"#REF!"},{"$error":"#REF!"},{"$error":"#REF!"},{"$error":"#REF!"},{"$error":"#REF!"},{"$error":"#REF!"},{"$error":"#REF!"},{"$error":"#REF!"},{"$error":"#REF!"},{"$error":"#REF!"},{"$error":"#REF!"},{"$error":"#REF!"},{"$error":"#REF!"}]
[5,{"$f":"SUBSTITUTE(INDEX(book,ROW()),\"[\"&doc&\"]\",\"\")","v":{"$error":"#REF!"}},{"$error":"#REF!"},{"$error":"#REF!"},{"$error":"#REF!"},{"$error":"#REF!"},{"$error":"#REF!"},{"$error":"#REF!"},{"$error":"#REF!"},{"$error":"#REF!"},{"$error":"#REF!"},{"$error":"#REF!"},{"$error":"#REF!"},{"$error":"#REF!"},{"$error":"#REF!"},{"$error":"#REF!"},{"$error":"#REF!"},{"$error":"#REF!"},{"$error":"#REF!"},{"$error":"#REF!"},{"$error":"#REF!"},{"$error":"#REF!"},{"$error":"#REF!"},{"$error":"#REF!"},{"$error":"#REF!"},{"$error":"#REF!"},{"$error":"#REF!"}]
[6,{"$f":"SUBSTITUTE(INDEX(book,ROW()),\"[\"&doc&\"]\",\"\")","v":{"$error":"#REF!"}},{"$error":"#REF!"},{"$error":"#REF!"},{"$error":"#REF!"},{"$error":"#REF!"},{"$error":"#REF!"},{"$error":"#REF!"},{"$error":"#REF!"},{"$error":"#REF!"},{"$error":"#REF!"},{"$error":"#REF!"},{"$error":"#REF!"},{"$error":"#REF!"},{"$error":"#REF!"},{"$error":"#REF!"},{"$error":"#REF!"},{"$error":"#REF!"},{"$error":"#REF!"},{"$error":"#REF!"},{"$error":"#REF!"},{"$error":"#REF!"},{"$error":"#REF!"},{"$error":"#REF!"},{"$error":"#REF!"},{"$error":"#REF!"},{"$error":"#REF!"}]
[7,{"$f":"SUBSTITUTE(INDEX(book,ROW()),\"[\"&doc&\"]\",\"\")","v":{"$error":"#REF!"}},{"$error":"#REF!"},{"$error":"#REF!"},{"$error":"#REF!"},{"$error":"#REF!"},{"$error":"#REF!"},{"$error":"#REF!"},{"$error":"#REF!"},{"$error":"#REF!"},{"$error":"#REF!"},{"$error":"#REF!"},{"$error":"#REF!"},{"$error":"#REF!"},{"$error":"#REF!"},{"$error":"#REF!"},{"$error":"#REF!"},{"$error":"#REF!"},{"$error":"#REF!"},{"$error":"#REF!"},{"$error":"#REF!"},{"$error":"#REF!"},{"$error":"#REF!"},{"$error":"#REF!"},{"$error":"#REF!"},{"$error":"#REF!"},{"$error":"#REF!"}]
[8,{"$f":"SUBSTITUTE(INDEX(book,ROW()),\"[\"&doc&\"]\",\"\")","v":{"$error":"#REF!"}},{"$error":"#REF!"},{"$error":"#REF!"},{"$error":"#REF!"},{"$error":"#REF!"},{"$error":"#REF!"},{"$error":"#REF!"},{"$error":"#REF!"},{"$error":"#REF!"},{"$error":"#REF!"},{"$error":"#REF!"},{"$error":"#REF!"},{"$error":"#REF!"},{"$error":"#REF!"},{"$error":"#REF!"},{"$error":"#REF!"},{"$error":"#REF!"},{"$error":"#REF!"},{"$error":"#REF!"},{"$error":"#REF!"},{"$error":"#REF!"},{"$error":"#REF!"},{"$error":"#REF!"},{"$error":"#REF!"},{"$error":"#REF!"},{"$error":"#REF!"}]
[9,{"$f":"SUBSTITUTE(INDEX(book,ROW()),\"[\"&doc&\"]\",\"\")","v":{"$error":"#REF!"}},{"$error":"#REF!"},{"$error":"#REF!"},{"$error":"#REF!"},{"$error":"#REF!"},{"$error":"#REF!"},{"$error":"#REF!"},{"$error":"#REF!"},{"$error":"#REF!"},{"$error":"#REF!"},{"$error":"#REF!"},{"$error":"#REF!"},{"$error":"#REF!"},{"$error":"#REF!"},{"$error":"#REF!"},{"$error":"#REF!"},{"$error":"#REF!"},{"$error":"#REF!"},{"$error":"#REF!"},{"$error":"#REF!"},{"$error":"#REF!"},{"$error":"#REF!"},{"$error":"#REF!"},{"$error":"#REF!"},{"$error":"#REF!"},{"$error":"#REF!"}]
[10,{"$f":"SUBSTITUTE(INDEX(book,ROW()),\"[\"&doc&\"]\",\"\")","v":{"$error":"#REF!"}},{"$error":"#REF!"},{"$error":"#REF!"},{"$error":"#REF!"},{"$error":"#REF!"},{"$error":"#REF!"},{"$error":"#REF!"},{"$error":"#REF!"},{"$error":"#REF!"},{"$error":"#REF!"},{"$error":"#REF!"},{"$error":"#REF!"},{"$error":"#REF!"},{"$error":"#REF!"},{"$error":"#REF!"},{"$error":"#REF!"},{"$error":"#REF!"},{"$error":"#REF!"},{"$error":"#REF!"},{"$error":"#REF!"},{"$error":"#REF!"},{"$error":"#REF!"},{"$error":"#REF!"},{"$error":"#REF!"},{"$error":"#REF!"},{"$error":"#REF!"}]
[11,{"$f":"SUBSTITUTE(INDEX(book,ROW()),\"[\"&doc&\"]\",\"\")","v":{"$error":"#REF!"}},{"$error":"#REF!"},{"$error":"#REF!"},{"$error":"#REF!"},{"$error":"#REF!"},{"$error":"#REF!"},{"$error":"#REF!"},{"$error":"#REF!"},{"$error":"#REF!"},{"$error":"#REF!"},{"$error":"#REF!"},{"$error":"#REF!"},{"$error":"#REF!"},{"$error":"#REF!"},{"$error":"#REF!"},{"$error":"#REF!"},{"$error":"#REF!"},{"$error":"#REF!"},{"$error":"#REF!"},{"$error":"#REF!"},{"$error":"#REF!"},{"$error":"#REF!"},{"$error":"#REF!"},{"$error":"#REF!"},{"$error":"#REF!"},{"$error":"#REF!"}]
[12,{"$f":"SUBSTITUTE(INDEX(book,ROW()),\"[\"&doc&\"]\",\"\")","v":{"$error":"#REF!"}},{"$error":"#REF!"},{"$error":"#REF!"},{"$error":"#REF!"},{"$error":"#REF!"},{"$error":"#REF!"},{"$error":"#REF!"},{"$error":"#REF!"},{"$error":"#REF!"},{"$error":"#REF!"},{"$error":"#REF!"},{"$error":"#REF!"},{"$error":"#REF!"},{"$error":"#REF!"},{"$error":"#REF!"},{"$error":"#REF!"},{"$error":"#REF!"},{"$error":"#REF!"},{"$error":"#REF!"},{"$error":"#REF!"},{"$error":"#REF!"},{"$error":"#REF!"},{"$error":"#REF!"},{"$error":"#REF!"},{"$error":"#REF!"},{"$error":"#REF!"}]
[13,{"$f":"SUBSTITUTE(INDEX(book,ROW()),\"[\"&doc&\"]\",\"\")","v":{"$error":"#REF!"}},{"$error":"#REF!"},{"$error":"#REF!"},{"$error":"#REF!"},{"$error":"#REF!"},{"$error":"#REF!"},{"$error":"#REF!"},{"$error":"#REF!"},{"$error":"#REF!"},{"$error":"#REF!"},{"$error":"#REF!"},{"$error":"#REF!"},{"$error":"#REF!"},{"$error":"#REF!"},{"$error":"#REF!"},{"$error":"#REF!"},{"$error":"#REF!"},{"$error":"#REF!"},{"$error":"#REF!"},{"$error":"#REF!"},{"$error":"#REF!"},{"$error":"#REF!"},{"$error":"#REF!"},{"$error":"#REF!"},{"$error":"#REF!"},{"$error":"#REF!"}]
[14,{"$f":"SUBSTITUTE(INDEX(book,ROW()),\"[\"&doc&\"]\",\"\")","v":{"$error":"#REF!"}},{"$error":"#REF!"},{"$error":"#REF!"},{"$error":"#REF!"},{"$error":"#REF!"},{"$error":"#REF!"},{"$error":"#REF!"},{"$error":"#REF!"},{"$error":"#REF!"},{"$error":"#REF!"},{"$error":"#REF!"},{"$error":"#REF!"},{"$error":"#REF!"},{"$error":"#REF!"},{"$error":"#REF!"},{"$error":"#REF!"},{"$error":"#REF!"},{"$error":"#REF!"},{"$error":"#REF!"},{"$error":"#REF!"},{"$error":"#REF!"},{"$error":"#REF!"},{"$error":"#REF!"},{"$error":"#REF!"},{"$error":"#REF!"},{"$error":"#REF!"}]
[15,{"$f":"SUBSTITUTE(INDEX(book,ROW()),\"[\"&doc&\"]\",\"\")","v":{"$error":"#REF!"}},{"$error":"#REF!"},{"$error":"#REF!"},{"$error":"#REF!"},{"$error":"#REF!"},{"$error":"#REF!"},{"$error":"#REF!"},{"$error":"#REF!"},{"$error":"#REF!"},{"$error":"#REF!"},{"$error":"#REF!"},{"$error":"#REF!"},{"$error":"#REF!"},{"$error":"#REF!"},{"$error":"#REF!"},{"$error":"#REF!"},{"$error":"#REF!"},{"$error":"#REF!"},{"$error":"#REF!"},{"$error":"#REF!"},{"$error":"#REF!"},{"$error":"#REF!"},{"$error":"#REF!"},{"$error":"#REF!"},{"$error":"#REF!"},{"$error":"#REF!"}]
[16,{"$f":"SUBSTITUTE(INDEX(book,ROW()),\"[\"&doc&\"]\",\"\")","v":{"$error":"#REF!"}},{"$error":"#REF!"},{"$error":"#REF!"},{"$error":"#REF!"},{"$error":"#REF!"},{"$error":"#REF!"},{"$error":"#REF!"},{"$error":"#REF!"},{"$error":"#REF!"},{"$error":"#REF!"},{"$error":"#REF!"},{"$error":"#REF!"},{"$error":"#REF!"},{"$error":"#REF!"},{"$error":"#REF!"},{"$error":"#REF!"},{"$error":"#REF!"},{"$error":"#REF!"},{"$error":"#REF!"},{"$error":"#REF!"},{"$error":"#REF!"},{"$error":"#REF!"},{"$error":"#REF!"},{"$error":"#REF!"},{"$error":"#REF!"},{"$error":"#REF!"}]
[17,{"$f":"SUBSTITUTE(INDEX(book,ROW()),\"[\"&doc&\"]\",\"\")","v":{"$error":"#REF!"}},{"$error":"#REF!"},{"$error":"#REF!"},{"$error":"#REF!"},{"$error":"#REF!"},{"$error":"#REF!"},{"$error":"#REF!"},{"$error":"#REF!"},{"$error":"#REF!"},{"$error":"#REF!"},{"$error":"#REF!"},{"$error":"#REF!"},{"$error":"#REF!"},{"$error":"#REF!"},{"$error":"#REF!"},{"$error":"#REF!"},{"$error":"#REF!"},{"$error":"#REF!"},{"$error":"#REF!"},{"$error":"#REF!"},{"$error":"#REF!"},{"$error":"#REF!"},{"$error":"#REF!"},{"$error":"#REF!"},{"$error":"#REF!"},{"$error":"#REF!"}]
[18,{"$f":"SUBSTITUTE(INDEX(book,ROW()),\"[\"&doc&\"]\",\"\")","v":{"$error":"#REF!"}},{"$error":"#REF!"},{"$error":"#REF!"},{"$error":"#REF!"},{"$error":"#REF!"},{"$error":"#REF!"},{"$error":"#REF!"},{"$error":"#REF!"},{"$error":"#REF!"},{"$error":"#REF!"},{"$f":"INDIRECT(\"’\"&$B24&\"’\"&L$1)","v":{"$error":"#REF!"}},{"$error":"#REF!"},{"$error":"#REF!"},{"$error":"#REF!"},{"$error":"#REF!"},{"$error":"#REF!"},{"$error":"#REF!"},{"$error":"#REF!"},{"$error":"#REF!"},{"$error":"#REF!"},{"$error":"#REF!"},{"$error":"#REF!"},{"$error":"#REF!"},{"$error":"#REF!"},{"$error":"#REF!"},{"$error":"#REF!"}]
[19,{"$f":"SUBSTITUTE(INDEX(book,ROW()),\"[\"&doc&\"]\",\"\")","v":{"$error":"#REF!"}},{"$f":"INDIRECT(\"’\"&$B25&\"’\"&C$1)","v":{"$error":"#REF!"}},{"$error":"#REF!"},{"$error":"#REF!"},{"$error":"#REF!"},{"$error":"#REF!"},{"$error":"#REF!"},{"$error":"#REF!"},{"$error":"#REF!"},{"$error":"#REF!"},{"$error":"#REF!"},{"$error":"#REF!"},{"$error":"#REF!"},{"$error":"#REF!"},{"$error":"#REF!"},{"$error":"#REF!"},{"$error":"#REF!"},{"$error":"#REF!"},{"$error":"#REF!"},{"$error":"#REF!"},{"$error":"#REF!"},{"$error":"#REF!"},{"$error":"#REF!"},{"$error":"#REF!"},{"$error":"#REF!"},{"$error":"#REF!"}]
[20,{"$f":"SUBSTITUTE(INDEX(book,ROW()),\"[\"&doc&\"]\",\"\")","v":{"$error":"#REF!"}},{"$error":"#REF!"},{"$error":"#REF!"},{"$error":"#REF!"},{"$error":"#REF!"},{"$error":"#REF!"},{"$error":"#REF!"},{"$error":"#REF!"},{"$error":"#REF!"},{"$error":"#REF!"},{"$error":"#REF!"},{"$error":"#REF!"},{"$error":"#REF!"},{"$error":"#REF!"},{"$error":"#REF!"},{"$error":"#REF!"},{"$error":"#REF!"},{"$error":"#REF!"},{"$error":"#REF!"},{"$error":"#REF!"},{"$error":"#REF!"},{"$error":"#REF!"},{"$error":"#REF!"},{"$error":"#REF!"},{"$error":"#REF!"},{"$error":"#REF!"}]
[21,{"$f":"SUBSTITUTE(INDEX(book,ROW()),\"[\"&doc&\"]\",\"\")","v":{"$error":"#REF!"}},{"$error":"#REF!"},{"$error":"#REF!"},{"$error":"#REF!"},{"$error":"#REF!"},{"$error":"#REF!"},{"$error":"#REF!"},{"$error":"#REF!"},{"$error":"#REF!"},{"$error":"#REF!"},{"$error":"#REF!"},{"$error":"#REF!"},{"$error":"#REF!"},{"$error":"#REF!"},{"$error":"#REF!"},{"$error":"#REF!"},{"$error":"#REF!"},{"$error":"#REF!"},{"$error":"#REF!"},{"$error":"#REF!"},{"$error":"#REF!"},{"$error":"#REF!"},{"$error":"#REF!"},{"$error":"#REF!"},{"$error":"#REF!"},{"$error":"#REF!"}]
[22,{"$f":"SUBSTITUTE(INDEX(book,ROW()),\"[\"&doc&\"]\",\"\")","v":{"$error":"#REF!"}},{"$error":"#REF!"},{"$error":"#REF!"},{"$error":"#REF!"},{"$error":"#REF!"},{"$error":"#REF!"},{"$error":"#REF!"},{"$error":"#REF!"},{"$error":"#REF!"},{"$error":"#REF!"},{"$error":"#REF!"},{"$error":"#REF!"},{"$error":"#REF!"},{"$error":"#REF!"},{"$error":"#REF!"},{"$error":"#REF!"},{"$error":"#REF!"},{"$error":"#REF!"},{"$error":"#REF!"},{"$error":"#REF!"},{"$error":"#REF!"},{"$error":"#REF!"},{"$error":"#REF!"},{"$error":"#REF!"},{"$error":"#REF!"},{"$error":"#REF!"}]
[23,{"$f":"SUBSTITUTE(INDEX(book,ROW()),\"[\"&doc&\"]\",\"\")","v":{"$error":"#REF!"}},{"$error":"#REF!"},{"$error":"#REF!"},{"$error":"#REF!"},{"$error":"#REF!"},{"$error":"#REF!"},{"$error":"#REF!"},{"$error":"#REF!"},{"$error":"#REF!"},{"$error":"#REF!"},{"$error":"#REF!"},{"$error":"#REF!"},{"$error":"#REF!"},{"$error":"#REF!"},{"$error":"#REF!"},{"$error":"#REF!"},{"$error":"#REF!"},{"$error":"#REF!"},{"$error":"#REF!"},{"$error":"#REF!"},{"$error":"#REF!"},{"$error":"#REF!"},{"$error":"#REF!"},{"$error":"#REF!"},{"$error":"#REF!"},{"$error":"#REF!"}]
[24,{"$f":"SUBSTITUTE(INDEX(book,ROW()),\"[\"&doc&\"]\",\"\")","v":{"$error":"#REF!"}},{"$error":"#REF!"},{"$error":"#REF!"},{"$error":"#REF!"},{"$error":"#REF!"},{"$error":"#REF!"},{"$error":"#REF!"},{"$error":"#REF!"},{"$error":"#REF!"},{"$error":"#REF!"},{"$error":"#REF!"},{"$error":"#REF!"},{"$error":"#REF!"},{"$error":"#REF!"},{"$error":"#REF!"},{"$error":"#REF!"},{"$error":"#REF!"},{"$error":"#REF!"},{"$error":"#REF!"},{"$error":"#REF!"},{"$error":"#REF!"},{"$error":"#REF!"},{"$error":"#REF!"},{"$error":"#REF!"},{"$error":"#REF!"},{"$error":"#REF!"}]
[25,{"$f":"SUBSTITUTE(INDEX(book,ROW()),\"[\"&doc&\"]\",\"\")","v":{"$error":"#REF!"}},{"$error":"#REF!"},{"$error":"#REF!"},{"$error":"#REF!"},{"$error":"#REF!"},{"$error":"#REF!"},{"$error":"#REF!"},{"$error":"#REF!"},{"$error":"#REF!"},{"$error":"#REF!"},{"$error":"#REF!"},{"$error":"#REF!"},{"$error":"#REF!"},{"$error":"#REF!"},{"$error":"#REF!"},{"$error":"#REF!"},{"$error":"#REF!"},{"$error":"#REF!"},{"$error":"#REF!"},{"$error":"#REF!"},{"$error":"#REF!"},{"$error":"#REF!"},{"$error":"#REF!"},{"$error":"#REF!"},{"$error":"#REF!"},{"$error":"#REF!"}]
[26,{"$f":"SUBSTITUTE(INDEX(book,ROW()),\"[\"&doc&\"]\",\"\")","v":{"$error":"#REF!"}},{"$error":"#REF!"},{"$error":"#REF!"},{"$error":"#REF!"},{"$error":"#REF!"},{"$error":"#REF!"},{"$error":"#REF!"},{"$error":"#REF!"},{"$error":"#REF!"},{"$error":"#REF!"},{"$error":"#REF!"},{"$error":"#REF!"},{"$error":"#REF!"},{"$error":"#REF!"},{"$error":"#REF!"},{"$error":"#REF!"},{"$error":"#REF!"},{"$error":"#REF!"},{"$error":"#REF!"},{"$error":"#REF!"},{"$error":"#REF!"},{"$error":"#REF!"},{"$error":"#REF!"},{"$error":"#REF!"},{"$error":"#REF!"},{"$error":"#REF!"}]
[27,{"$f":"SUBSTITUTE(INDEX(book,ROW()),\"[\"&doc&\"]\",\"\")","v":{"$error":"#REF!"}},{"$error":"#REF!"},{"$error":"#REF!"},{"$error":"#REF!"},{"$error":"#REF!"},{"$error":"#REF!"},{"$error":"#REF!"},{"$error":"#REF!"},{"$error":"#REF!"},{"$error":"#REF!"},{"$error":"#REF!"},{"$error":"#REF!"},{"$error":"#REF!"},{"$error":"#REF!"},{"$error":"#REF!"},{"$error":"#REF!"},{"$error":"#REF!"},{"$error":"#REF!"},{"$error":"#REF!"},{"$error":"#REF!"},{"$error":"#REF!"},{"$error":"#REF!"},{"$error":"#REF!"},{"$error":"#REF!"},{"$error":"#REF!"},{"$error":"#REF!"}]
[28,{"$f":"SUBSTITUTE(INDEX(book,ROW()),\"[\"&doc&\"]\",\"\")","v":{"$error":"#REF!"}},{"$error":"#REF!"},{"$error":"#REF!"},{"$error":"#REF!"},{"$error":"#REF!"},{"$error":"#REF!"},{"$error":"#REF!"},{"$error":"#REF!"},{"$error":"#REF!"},{"$error":"#REF!"},{"$error":"#REF!"},{"$error":"#REF!"},{"$error":"#REF!"},{"$error":"#REF!"},{"$error":"#REF!"},{"$error":"#REF!"},{"$error":"#REF!"},{"$error":"#REF!"},{"$error":"#REF!"},{"$error":"#REF!"},{"$error":"#REF!"},{"$error":"#REF!"},{"$error":"#REF!"},{"$error":"#REF!"},{"$error":"#REF!"},{"$error":"#REF!"}]
[29,{"$f":"SUBSTITUTE(INDEX(book,ROW()),\"[\"&doc&\"]\",\"\")","v":{"$error":"#REF!"}},{"$error":"#REF!"},{"$error":"#REF!"},{"$error":"#REF!"},{"$error":"#REF!"},{"$error":"#REF!"},{"$error":"#REF!"},{"$error":"#REF!"},{"$error":"#REF!"},{"$error":"#REF!"},{"$error":"#REF!"},{"$error":"#REF!"},{"$error":"#REF!"},{"$error":"#REF!"},{"$error":"#REF!"},{"$error":"#REF!"},{"$error":"#REF!"},{"$error":"#REF!"},{"$error":"#REF!"},{"$error":"#REF!"},{"$error":"#REF!"},{"$error":"#REF!"},{"$error":"#REF!"},{"$error":"#REF!"},{"$error":"#REF!"},{"$error":"#REF!"}]
[30,{"$f":"SUBSTITUTE(INDEX(book,ROW()),\"[\"&doc&\"]\",\"\")","v":{"$error":"#REF!"}},{"$error":"#REF!"},{"$error":"#REF!"},{"$error":"#REF!"},{"$error":"#REF!"},{"$error":"#REF!"},{"$error":"#REF!"},{"$error":"#REF!"},{"$error":"#REF!"},{"$error":"#REF!"},{"$error":"#REF!"},{"$error":"#REF!"},{"$error":"#REF!"},{"$error":"#REF!"},{"$error":"#REF!"},{"$error":"#REF!"},{"$error":"#REF!"},{"$error":"#REF!"},{"$error":"#REF!"},{"$error":"#REF!"},{"$error":"#REF!"},{"$error":"#REF!"},{"$error":"#REF!"},{"$error":"#REF!"},{"$error":"#REF!"},{"$error":"#REF!"}]
[31,{"$f":"SUBSTITUTE(INDEX(book,ROW()),\"[\"&doc&\"]\",\"\")","v":{"$error":"#REF!"}},{"$error":"#REF!"},{"$error":"#REF!"},{"$error":"#REF!"},{"$error":"#REF!"},{"$error":"#REF!"},{"$error":"#REF!"},{"$error":"#REF!"},{"$error":"#REF!"},{"$error":"#REF!"},{"$error":"#REF!"},{"$error":"#REF!"},{"$error":"#REF!"},{"$error":"#REF!"},{"$error":"#REF!"},{"$error":"#REF!"},{"$error":"#REF!"},{"$error":"#REF!"},{"$error":"#REF!"},{"$error":"#REF!"},{"$error":"#REF!"},{"$error":"#REF!"},{"$error":"#REF!"},{"$error":"#REF!"},{"$error":"#REF!"},{"$error":"#REF!"}]
[32,{"$f":"SUBSTITUTE(INDEX(book,ROW()),\"[\"&doc&\"]\",\"\")","v":{"$error":"#REF!"}},{"$error":"#REF!"},{"$error":"#REF!"},{"$error":"#REF!"},{"$error":"#REF!"},{"$error":"#REF!"},{"$error":"#REF!"},{"$error":"#REF!"},{"$error":"#REF!"},{"$error":"#REF!"},{"$error":"#REF!"},{"$error":"#REF!"},{"$error":"#REF!"},{"$error":"#REF!"},{"$error":"#REF!"},{"$error":"#REF!"},{"$error":"#REF!"},{"$error":"#REF!"},{"$error":"#REF!"},{"$error":"#REF!"},{"$error":"#REF!"},{"$error":"#REF!"},{"$error":"#REF!"},{"$error":"#REF!"},{"$error":"#REF!"},{"$error":"#REF!"}]
[33,{"$f":"SUBSTITUTE(INDEX(book,ROW()),\"[\"&doc&\"]\",\"\")","v":{"$error":"#REF!"}},{"$error":"#REF!"},{"$error":"#REF!"},{"$error":"#REF!"},{"$error":"#REF!"},{"$error":"#REF!"},{"$error":"#REF!"},{"$error":"#REF!"},{"$error":"#REF!"},{"$error":"#REF!"},{"$error":"#REF!"},{"$error":"#REF!"},{"$error":"#REF!"},{"$error":"#REF!"},{"$error":"#REF!"},{"$error":"#REF!"},{"$error":"#REF!"},{"$error":"#REF!"},{"$error":"#REF!"},{"$error":"#REF!"},{"$error":"#REF!"},{"$error":"#REF!"},{"$error":"#REF!"},{"$error":"#REF!"},{"$error":"#REF!"},{"$error":"#REF!"}]
[34,{"$f":"SUBSTITUTE(INDEX(book,ROW()),\"[\"&doc&\"]\",\"\")","v":{"$error":"#REF!"}},{"$error":"#REF!"},{"$error":"#REF!"},{"$error":"#REF!"},{"$error":"#REF!"},{"$error":"#REF!"},{"$error":"#REF!"},{"$error":"#REF!"},{"$error":"#REF!"},{"$error":"#REF!"},{"$error":"#REF!"},{"$error":"#REF!"},{"$error":"#REF!"},{"$error":"#REF!"},{"$error":"#REF!"},{"$error":"#REF!"},{"$f":"INDIRECT(\"’\"&$B40&\"’\"&R$1)","v":{"$error":"#REF!"}},{"$error":"#REF!"},{"$error":"#REF!"},{"$error":"#REF!"},{"$error":"#REF!"},{"$error":"#REF!"},{"$error":"#REF!"},{"$error":"#REF!"},{"$error":"#REF!"},{"$error":"#REF!"}]
[35,{"$f":"SUBSTITUTE(INDEX(book,ROW()),\"[\"&doc&\"]\",\"\")","v":{"$error":"#REF!"}},{"$f":"INDIRECT(\"’\"&$B41&\"’\"&C$1)","v":{"$error":"#REF!"}},{"$error":"#REF!"},{"$error":"#REF!"},{"$error":"#REF!"},{"$error":"#REF!"},{"$error":"#REF!"},{"$error":"#REF!"},{"$error":"#REF!"},{"$error":"#REF!"},{"$error":"#REF!"},{"$error":"#REF!"},{"$error":"#REF!"},{"$error":"#REF!"},{"$error":"#REF!"},{"$error":"#REF!"},{"$error":"#REF!"},{"$error":"#REF!"},{"$error":"#REF!"},{"$error":"#REF!"},{"$error":"#REF!"},{"$error":"#REF!"},{"$error":"#REF!"},{"$error":"#REF!"},{"$error":"#REF!"},{"$error":"#REF!"}]
[36,{"$f":"SUBSTITUTE(INDEX(book,ROW()),\"[\"&doc&\"]\",\"\")","v":{"$error":"#REF!"}},{"$error":"#REF!"},{"$error":"#REF!"},{"$error":"#REF!"},{"$error":"#REF!"},{"$error":"#REF!"},{"$error":"#REF!"},{"$error":"#REF!"},{"$error":"#REF!"},{"$error":"#REF!"},{"$error":"#REF!"},{"$error":"#REF!"},{"$error":"#REF!"},{"$error":"#REF!"},{"$error":"#REF!"},{"$error":"#REF!"},{"$error":"#REF!"},{"$error":"#REF!"},{"$error":"#REF!"},{"$error":"#REF!"},{"$error":"#REF!"},{"$error":"#REF!"},{"$error":"#REF!"},{"$error":"#REF!"},{"$error":"#REF!"},{"$error":"#REF!"}]
[37,{"$f":"SUBSTITUTE(INDEX(book,ROW()),\"[\"&doc&\"]\",\"\")","v":{"$error":"#REF!"}},{"$error":"#REF!"},{"$error":"#REF!"},{"$error":"#REF!"},{"$error":"#REF!"},{"$error":"#REF!"},{"$error":"#REF!"},{"$error":"#REF!"},{"$error":"#REF!"},{"$error":"#REF!"},{"$error":"#REF!"},{"$error":"#REF!"},{"$error":"#REF!"},{"$error":"#REF!"},{"$error":"#REF!"},{"$error":"#REF!"},{"$error":"#REF!"},{"$error":"#REF!"},{"$error":"#REF!"},{"$error":"#REF!"},{"$error":"#REF!"},{"$error":"#REF!"},{"$error":"#REF!"},{"$error":"#REF!"},{"$error":"#REF!"},{"$error":"#REF!"}]
[38,{"$f":"SUBSTITUTE(INDEX(book,ROW()),\"[\"&doc&\"]\",\"\")","v":{"$error":"#REF!"}},{"$error":"#REF!"},{"$error":"#REF!"},{"$error":"#REF!"},{"$error":"#REF!"},{"$error":"#REF!"},{"$error":"#REF!"},{"$error":"#REF!"},{"$error":"#REF!"},{"$error":"#REF!"},{"$error":"#REF!"},{"$error":"#REF!"},{"$error":"#REF!"},{"$error":"#REF!"},{"$error":"#REF!"},{"$error":"#REF!"},{"$error":"#REF!"},{"$error":"#REF!"},{"$error":"#REF!"},{"$error":"#REF!"},{"$error":"#REF!"},{"$error":"#REF!"},{"$error":"#REF!"},{"$error":"#REF!"},{"$error":"#REF!"},{"$error":"#REF!"}]
[39,{"$f":"SUBSTITUTE(INDEX(book,ROW()),\"[\"&doc&\"]\",\"\")","v":{"$error":"#REF!"}},{"$error":"#REF!"},{"$error":"#REF!"},{"$error":"#REF!"},{"$error":"#REF!"},{"$error":"#REF!"},{"$error":"#REF!"},{"$error":"#REF!"},{"$error":"#REF!"},{"$error":"#REF!"},{"$error":"#REF!"},{"$error":"#REF!"},{"$error":"#REF!"},{"$error":"#REF!"},{"$error":"#REF!"},{"$error":"#REF!"},{"$error":"#REF!"},{"$error":"#REF!"},{"$error":"#REF!"},{"$error":"#REF!"},{"$error":"#REF!"},{"$error":"#REF!"},{"$error":"#REF!"},{"$error":"#REF!"},{"$error":"#REF!"},{"$error":"#REF!"}]
[40,{"$f":"SUBSTITUTE(INDEX(book,ROW()),\"[\"&doc&\"]\",\"\")","v":{"$error":"#REF!"}},{"$error":"#REF!"},{"$error":"#REF!"},{"$error":"#REF!"},{"$error":"#REF!"},{"$error":"#REF!"},{"$error":"#REF!"},{"$error":"#REF!"},{"$error":"#REF!"},{"$error":"#REF!"},{"$error":"#REF!"},{"$error":"#REF!"},{"$error":"#REF!"},{"$error":"#REF!"},{"$error":"#REF!"},{"$error":"#REF!"},{"$error":"#REF!"},{"$error":"#REF!"},{"$error":"#REF!"},{"$error":"#REF!"},{"$error":"#REF!"},{"$error":"#REF!"},{"$error":"#REF!"},{"$error":"#REF!"},{"$error":"#REF!"},{"$error":"#REF!"}]
[41,{"$f":"SUBSTITUTE(INDEX(book,ROW()),\"[\"&doc&\"]\",\"\")","v":{"$error":"#REF!"}},{"$error":"#REF!"},{"$error":"#REF!"},{"$error":"#REF!"},{"$error":"#REF!"},{"$error":"#REF!"},{"$error":"#REF!"},{"$error":"#REF!"},{"$error":"#REF!"},{"$error":"#REF!"},{"$error":"#REF!"},{"$error":"#REF!"},{"$error":"#REF!"},{"$error":"#REF!"},{"$error":"#REF!"},{"$error":"#REF!"},{"$error":"#REF!"},{"$error":"#REF!"},{"$error":"#REF!"},{"$error":"#REF!"},{"$error":"#REF!"},{"$error":"#REF!"},{"$error":"#REF!"},{"$error":"#REF!"},{"$error":"#REF!"},{"$error":"#REF!"}]
[42,{"$f":"SUBSTITUTE(INDEX(book,ROW()),\"[\"&doc&\"]\",\"\")","v":{"$error":"#REF!"}},{"$error":"#REF!"},{"$error":"#REF!"},{"$error":"#REF!"},{"$error":"#REF!"},{"$error":"#REF!"},{"$error":"#REF!"},{"$error":"#REF!"},{"$error":"#REF!"},{"$error":"#REF!"},{"$error":"#REF!"},{"$error":"#REF!"},{"$error":"#REF!"},{"$error":"#REF!"},{"$error":"#REF!"},{"$error":"#REF!"},{"$error":"#REF!"},{"$error":"#REF!"},{"$error":"#REF!"},{"$error":"#REF!"},{"$error":"#REF!"},{"$error":"#REF!"},{"$error":"#REF!"},{"$error":"#REF!"},{"$error":"#REF!"},{"$error":"#REF!"}]
[43,{"$f":"SUBSTITUTE(INDEX(book,ROW()),\"[\"&doc&\"]\",\"\")","v":{"$error":"#REF!"}},{"$error":"#REF!"},{"$error":"#REF!"},{"$error":"#REF!"},{"$error":"#REF!"},{"$error":"#REF!"},{"$error":"#REF!"},{"$error":"#REF!"},{"$error":"#REF!"},{"$error":"#REF!"},{"$error":"#REF!"},{"$error":"#REF!"},{"$error":"#REF!"},{"$error":"#REF!"},{"$error":"#REF!"},{"$error":"#REF!"},{"$error":"#REF!"},{"$error":"#REF!"},{"$error":"#REF!"},{"$error":"#REF!"},{"$error":"#REF!"},{"$error":"#REF!"},{"$error":"#REF!"},{"$error":"#REF!"},{"$error":"#REF!"},{"$error":"#REF!"}]
[44,{"$f":"SUBSTITUTE(INDEX(book,ROW()),\"[\"&doc&\"]\",\"\")","v":{"$error":"#REF!"}},{"$error":"#REF!"},{"$error":"#REF!"},{"$error":"#REF!"},{"$error":"#REF!"},{"$error":"#REF!"},{"$error":"#REF!"},{"$error":"#REF!"},{"$error":"#REF!"},{"$error":"#REF!"},{"$error":"#REF!"},{"$error":"#REF!"},{"$error":"#REF!"},{"$error":"#REF!"},{"$error":"#REF!"},{"$error":"#REF!"},{"$error":"#REF!"},{"$error":"#REF!"},{"$error":"#REF!"},{"$error":"#REF!"},{"$error":"#REF!"},{"$error":"#REF!"},{"$error":"#REF!"},{"$error":"#REF!"},{"$error":"#REF!"},{"$error":"#REF!"}]
[45,{"$f":"SUBSTITUTE(INDEX(book,ROW()),\"[\"&doc&\"]\",\"\")","v":{"$error":"#REF!"}},{"$error":"#REF!"},{"$error":"#REF!"},{"$error":"#REF!"},{"$error":"#REF!"},{"$error":"#REF!"},{"$error":"#REF!"},{"$error":"#REF!"},{"$error":"#REF!"},{"$error":"#REF!"},{"$error":"#REF!"},{"$error":"#REF!"},{"$error":"#REF!"},{"$error":"#REF!"},{"$error":"#REF!"},{"$error":"#REF!"},{"$error":"#REF!"},{"$error":"#REF!"},{"$error":"#REF!"},{"$error":"#REF!"},{"$error":"#REF!"},{"$error":"#REF!"},{"$error":"#REF!"},{"$error":"#REF!"},{"$error":"#REF!"},{"$error":"#REF!"}]
[46,{"$f":"SUBSTITUTE(INDEX(book,ROW()),\"[\"&doc&\"]\",\"\")","v":{"$error":"#REF!"}},{"$error":"#REF!"},{"$error":"#REF!"},{"$error":"#REF!"},{"$error":"#REF!"},{"$error":"#REF!"},{"$error":"#REF!"},{"$error":"#REF!"},{"$error":"#REF!"},{"$error":"#REF!"},{"$error":"#REF!"},{"$error":"#REF!"},{"$error":"#REF!"},{"$error":"#REF!"},{"$error":"#REF!"},{"$error":"#REF!"},{"$error":"#REF!"},{"$error":"#REF!"},{"$error":"#REF!"},{"$error":"#REF!"},{"$error":"#REF!"},{"$error":"#REF!"},{"$error":"#REF!"},{"$error":"#REF!"},{"$error":"#REF!"},{"$error":"#REF!"}]
[47,{"$f":"SUBSTITUTE(INDEX(book,ROW()),\"[\"&doc&\"]\",\"\")","v":{"$error":"#REF!"}},{"$error":"#REF!"},{"$error":"#REF!"},{"$error":"#REF!"},{"$error":"#REF!"},{"$error":"#REF!"},{"$error":"#REF!"},{"$error":"#REF!"},{"$error":"#REF!"},{"$error":"#REF!"},{"$error":"#REF!"},{"$error":"#REF!"},{"$error":"#REF!"},{"$error":"#REF!"},{"$error":"#REF!"},{"$error":"#REF!"},{"$error":"#REF!"},{"$error":"#REF!"},{"$error":"#REF!"},{"$error":"#REF!"},{"$error":"#REF!"},{"$error":"#REF!"},{"$error":"#REF!"},{"$error":"#REF!"},{"$error":"#REF!"},{"$error":"#REF!"}]
[48,{"$f":"SUBSTITUTE(INDEX(book,ROW()),\"[\"&doc&\"]\",\"\")","v":{"$error":"#REF!"}},{"$error":"#REF!"},{"$error":"#REF!"},{"$error":"#REF!"},{"$error":"#REF!"},{"$error":"#REF!"},{"$error":"#REF!"},{"$error":"#REF!"},{"$error":"#REF!"},{"$error":"#REF!"},{"$error":"#REF!"},{"$error":"#REF!"},{"$error":"#REF!"},{"$error":"#REF!"},{"$error":"#REF!"},{"$error":"#REF!"},{"$error":"#REF!"},{"$error":"#REF!"},{"$error":"#REF!"},{"$error":"#REF!"},{"$error":"#REF!"},{"$error":"#REF!"},{"$error":"#REF!"},{"$error":"#REF!"},{"$error":"#REF!"},{"$error":"#REF!"}]
[49,{"$f":"SUBSTITUTE(INDEX(book,ROW()),\"[\"&doc&\"]\",\"\")","v":{"$error":"#REF!"}},{"$error":"#REF!"},{"$error":"#REF!"},{"$error":"#REF!"},{"$error":"#REF!"},{"$error":"#REF!"},{"$error":"#REF!"},{"$error":"#REF!"},{"$error":"#REF!"},{"$error":"#REF!"},{"$error":"#REF!"},{"$error":"#REF!"},{"$error":"#REF!"},{"$error":"#REF!"},{"$error":"#REF!"},{"$error":"#REF!"},{"$error":"#REF!"},{"$error":"#REF!"},{"$error":"#REF!"},{"$error":"#REF!"},{"$error":"#REF!"},{"$error":"#REF!"},{"$error":"#REF!"},{"$error":"#REF!"},{"$error":"#REF!"},{"$error":"#REF!"}]
[50,{"$f":"SUBSTITUTE(INDEX(book,ROW()),\"[\"&doc&\"]\",\"\")","v":{"$error":"#REF!"}},{"$error":"#REF!"},{"$error":"#REF!"},{"$error":"#REF!"},{"$error":"#REF!"},{"$error":"#REF!"},{"$error":"#REF!"},{"$error":"#REF!"},{"$error":"#REF!"},{"$error":"#REF!"},{"$error":"#REF!"},{"$error":"#REF!"},{"$error":"#REF!"},{"$error":"#REF!"},{"$error":"#REF!"},{"$error":"#REF!"},{"$f":"INDIRECT(\"’\"&$B56&\"’\"&R$1)","v":{"$error":"#REF!"}},{"$error":"#REF!"},{"$error":"#REF!"},{"$error":"#REF!"},{"$error":"#REF!"},{"$error":"#REF!"},{"$error":"#REF!"},{"$error":"#REF!"},{"$error":"#REF!"},{"$error":"#REF!"}]
[51,{"$f":"SUBSTITUTE(INDEX(book,ROW()),\"[\"&doc&\"]\",\"\")","v":{"$error":"#REF!"}},{"$f":"INDIRECT(\"’\"&$B57&\"’\"&C$1)","v":{"$error":"#REF!"}},{"$error":"#REF!"},{"$error":"#REF!"},{"$error":"#REF!"},{"$error":"#REF!"},{"$error":"#REF!"},{"$error":"#REF!"},{"$error":"#REF!"},{"$error":"#REF!"},{"$error":"#REF!"},{"$error":"#REF!"},{"$error":"#REF!"},{"$error":"#REF!"},{"$error":"#REF!"},{"$error":"#REF!"},{"$error":"#REF!"},{"$error":"#REF!"},{"$error":"#REF!"},{"$error":"#REF!"},{"$error":"#REF!"},{"$error":"#REF!"},{"$error":"#REF!"},{"$error":"#REF!"},{"$error":"#REF!"},{"$error":"#REF!"}]
[52,{"$f":"SUBSTITUTE(INDEX(book,ROW()),\"[\"&doc&\"]\",\"\")","v":{"$error":"#REF!"}},{"$error":"#REF!"},{"$error":"#REF!"},{"$error":"#REF!"},{"$error":"#REF!"},{"$error":"#REF!"},{"$error":"#REF!"},{"$error":"#REF!"},{"$error":"#REF!"},{"$error":"#REF!"},{"$error":"#REF!"},{"$error":"#REF!"},{"$error":"#REF!"},{"$error":"#REF!"},{"$error":"#REF!"},{"$error":"#REF!"},{"$error":"#REF!"},{"$error":"#REF!"},{"$error":"#REF!"},{"$error":"#REF!"},{"$error":"#REF!"},{"$error":"#REF!"},{"$error":"#REF!"},{"$error":"#REF!"},{"$error":"#REF!"},{"$error":"#REF!"}]
[53,{"$f":"SUBSTITUTE(INDEX(book,ROW()),\"[\"&doc&\"]\",\"\")","v":{"$error":"#REF!"}},{"$error":"#REF!"},{"$error":"#REF!"},{"$error":"#REF!"},{"$error":"#REF!"},{"$error":"#REF!"},{"$error":"#REF!"},{"$error":"#REF!"},{"$error":"#REF!"},{"$error":"#REF!"},{"$error":"#REF!"},{"$error":"#REF!"},{"$error":"#REF!"},{"$error":"#REF!"},{"$error":"#REF!"},{"$error":"#REF!"},{"$error":"#REF!"},{"$error":"#REF!"},{"$error":"#REF!"},{"$error":"#REF!"},{"$error":"#REF!"},{"$error":"#REF!"},{"$error":"#REF!"},{"$error":"#REF!"},{"$error":"#REF!"},{"$error":"#REF!"}]
[54,{"$f":"SUBSTITUTE(INDEX(book,ROW()),\"[\"&doc&\"]\",\"\")","v":{"$error":"#REF!"}},{"$error":"#REF!"},{"$error":"#REF!"},{"$error":"#REF!"},{"$error":"#REF!"},{"$error":"#REF!"},{"$error":"#REF!"},{"$error":"#REF!"},{"$error":"#REF!"},{"$error":"#REF!"},{"$error":"#REF!"},{"$error":"#REF!"},{"$error":"#REF!"},{"$error":"#REF!"},{"$error":"#REF!"},{"$error":"#REF!"},{"$error":"#REF!"},{"$error":"#REF!"},{"$error":"#REF!"},{"$error":"#REF!"},{"$error":"#REF!"},{"$error":"#REF!"},{"$error":"#REF!"},{"$error":"#REF!"},{"$error":"#REF!"},{"$error":"#REF!"}]
[55,{"$f":"SUBSTITUTE(INDEX(book,ROW()),\"[\"&doc&\"]\",\"\")","v":{"$error":"#REF!"}},{"$error":"#REF!"},{"$error":"#REF!"},{"$error":"#REF!"},{"$error":"#REF!"},{"$error":"#REF!"},{"$error":"#REF!"},{"$error":"#REF!"},{"$error":"#REF!"},{"$error":"#REF!"},{"$error":"#REF!"},{"$error":"#REF!"},{"$error":"#REF!"},{"$error":"#REF!"},{"$error":"#REF!"},{"$error":"#REF!"},{"$error":"#REF!"},{"$error":"#REF!"},{"$error":"#REF!"},{"$error":"#REF!"},{"$error":"#REF!"},{"$error":"#REF!"},{"$error":"#REF!"},{"$error":"#REF!"},{"$error":"#REF!"},{"$error":"#REF!"}]
[56,{"$f":"SUBSTITUTE(INDEX(book,ROW()),\"[\"&doc&\"]\",\"\")","v":{"$error":"#REF!"}},{"$error":"#REF!"},{"$error":"#REF!"},{"$error":"#REF!"},{"$error":"#REF!"},{"$error":"#REF!"},{"$error":"#REF!"},{"$error":"#REF!"},{"$error":"#REF!"},{"$error":"#REF!"},{"$error":"#REF!"},{"$error":"#REF!"},{"$error":"#REF!"},{"$error":"#REF!"},{"$error":"#REF!"},{"$error":"#REF!"},{"$error":"#REF!"},{"$error":"#REF!"},{"$error":"#REF!"},{"$error":"#REF!"},{"$error":"#REF!"},{"$error":"#REF!"},{"$error":"#REF!"},{"$error":"#REF!"},{"$error":"#REF!"},{"$error":"#REF!"}]
[57,{"$f":"SUBSTITUTE(INDEX(book,ROW()),\"[\"&doc&\"]\",\"\")","v":{"$error":"#REF!"}},{"$error":"#REF!"},{"$error":"#REF!"},{"$error":"#REF!"},{"$error":"#REF!"},{"$error":"#REF!"},{"$error":"#REF!"},{"$error":"#REF!"},{"$error":"#REF!"},{"$error":"#REF!"},{"$error":"#REF!"},{"$error":"#REF!"},{"$error":"#REF!"},{"$error":"#REF!"},{"$error":"#REF!"},{"$error":"#REF!"},{"$error":"#REF!"},{"$error":"#REF!"},{"$error":"#REF!"},{"$error":"#REF!"},{"$error":"#REF!"},{"$error":"#REF!"},{"$error":"#REF!"},{"$error":"#REF!"},{"$error":"#REF!"},{"$error":"#REF!"}]
[58,{"$f":"SUBSTITUTE(INDEX(book,ROW()),\"[\"&doc&\"]\",\"\")","v":{"$error":"#REF!"}},{"$error":"#REF!"},{"$error":"#REF!"},{"$error":"#REF!"},{"$error":"#REF!"},{"$error":"#REF!"},{"$error":"#REF!"},{"$error":"#REF!"},{"$error":"#REF!"},{"$error":"#REF!"},{"$error":"#REF!"},{"$error":"#REF!"},{"$error":"#REF!"},{"$error":"#REF!"},{"$error":"#REF!"},{"$error":"#REF!"},{"$error":"#REF!"},{"$error":"#REF!"},{"$error":"#REF!"},{"$error":"#REF!"},{"$error":"#REF!"},{"$error":"#REF!"},{"$error":"#REF!"},{"$error":"#REF!"},{"$error":"#REF!"},{"$error":"#REF!"}]
[59,{"$f":"SUBSTITUTE(INDEX(book,ROW()),\"[\"&doc&\"]\",\"\")","v":{"$error":"#REF!"}},{"$error":"#REF!"},{"$error":"#REF!"},{"$error":"#REF!"},{"$error":"#REF!"},{"$error":"#REF!"},{"$error":"#REF!"},{"$error":"#REF!"},{"$error":"#REF!"},{"$error":"#REF!"},{"$error":"#REF!"},{"$error":"#REF!"},{"$error":"#REF!"},{"$error":"#REF!"},{"$error":"#REF!"},{"$error":"#REF!"},{"$error":"#REF!"},{"$error":"#REF!"},{"$error":"#REF!"},{"$error":"#REF!"},{"$error":"#REF!"},{"$error":"#REF!"},{"$error":"#REF!"},{"$error":"#REF!"},{"$error":"#REF!"},{"$error":"#REF!"}]
[60,{"$f":"SUBSTITUTE(INDEX(book,ROW()),\"[\"&doc&\"]\",\"\")","v":{"$error":"#REF!"}},{"$error":"#REF!"},{"$error":"#REF!"},{"$error":"#REF!"},{"$error":"#REF!"},{"$error":"#REF!"},{"$error":"#REF!"},{"$error":"#REF!"},{"$error":"#REF!"},{"$error":"#REF!"},{"$error":"#REF!"},{"$error":"#REF!"},{"$error":"#REF!"},{"$error":"#REF!"},{"$error":"#REF!"},{"$error":"#REF!"},{"$error":"#REF!"},{"$error":"#REF!"},{"$error":"#REF!"},{"$error":"#REF!"},{"$error":"#REF!"},{"$error":"#REF!"},{"$error":"#REF!"},{"$error":"#REF!"},{"$error":"#REF!"},{"$error":"#REF!"}]
[61,{"$f":"SUBSTITUTE(INDEX(book,ROW()),\"[\"&doc&\"]\",\"\")","v":{"$error":"#REF!"}},{"$error":"#REF!"},{"$error":"#REF!"},{"$error":"#REF!"},{"$error":"#REF!"},{"$error":"#REF!"},{"$error":"#REF!"},{"$error":"#REF!"},{"$error":"#REF!"},{"$error":"#REF!"},{"$error":"#REF!"},{"$error":"#REF!"},{"$error":"#REF!"},{"$error":"#REF!"},{"$error":"#REF!"},{"$error":"#REF!"},{"$error":"#REF!"},{"$error":"#REF!"},{"$error":"#REF!"},{"$error":"#REF!"},{"$error":"#REF!"},{"$error":"#REF!"},{"$error":"#REF!"},{"$error":"#REF!"},{"$error":"#REF!"},{"$error":"#REF!"}]
[62,{"$f":"SUBSTITUTE(INDEX(book,ROW()),\"[\"&doc&\"]\",\"\")","v":{"$error":"#REF!"}},{"$error":"#REF!"},{"$error":"#REF!"},{"$error":"#REF!"},{"$error":"#REF!"},{"$error":"#REF!"},{"$error":"#REF!"},{"$error":"#REF!"},{"$error":"#REF!"},{"$error":"#REF!"},{"$error":"#REF!"},{"$error":"#REF!"},{"$error":"#REF!"},{"$error":"#REF!"},{"$error":"#REF!"},{"$error":"#REF!"},{"$error":"#REF!"},{"$error":"#REF!"},{"$error":"#REF!"},{"$error":"#REF!"},{"$error":"#REF!"},{"$error":"#REF!"},{"$error":"#REF!"},{"$error":"#REF!"},{"$error":"#REF!"},{"$error":"#REF!"}]
[63,{"$f":"SUBSTITUTE(INDEX(book,ROW()),\"[\"&doc&\"]\",\"\")","v":{"$error":"#REF!"}},{"$error":"#REF!"},{"$error":"#REF!"},{"$error":"#REF!"},{"$error":"#REF!"},{"$error":"#REF!"},{"$error":"#REF!"},{"$error":"#REF!"},{"$error":"#REF!"},{"$error":"#REF!"},{"$error":"#REF!"},{"$error":"#REF!"},{"$error":"#REF!"},{"$error":"#REF!"},{"$error":"#REF!"},{"$error":"#REF!"},{"$error":"#REF!"},{"$error":"#REF!"},{"$error":"#REF!"},{"$error":"#REF!"},{"$error":"#REF!"},{"$error":"#REF!"},{"$error":"#REF!"},{"$error":"#REF!"},{"$error":"#REF!"},{"$error":"#REF!"}]
[64,{"$f":"SUBSTITUTE(INDEX(book,ROW()),\"[\"&doc&\"]\",\"\")","v":{"$error":"#REF!"}},{"$error":"#REF!"},{"$error":"#REF!"},{"$error":"#REF!"},{"$error":"#REF!"},{"$error":"#REF!"},{"$error":"#REF!"},{"$error":"#REF!"},{"$error":"#REF!"},{"$error":"#REF!"},{"$error":"#REF!"},{"$error":"#REF!"},{"$error":"#REF!"},{"$error":"#REF!"},{"$error":"#REF!"},{"$error":"#REF!"},{"$error":"#REF!"},{"$error":"#REF!"},{"$error":"#REF!"},{"$error":"#REF!"},{"$error":"#REF!"},{"$error":"#REF!"},{"$error":"#REF!"},{"$error":"#REF!"},{"$error":"#REF!"},{"$error":"#REF!"}]
[65,{"$f":"SUBSTITUTE(INDEX(book,ROW()),\"[\"&doc&\"]\",\"\")","v":{"$error":"#REF!"}},{"$error":"#REF!"},{"$error":"#REF!"},{"$error":"#REF!"},{"$error":"#REF!"},{"$error":"#REF!"},{"$error":"#REF!"},{"$error":"#REF!"},{"$error":"#REF!"},{"$error":"#REF!"},{"$error":"#REF!"},{"$error":"#REF!"},{"$error":"#REF!"},{"$error":"#REF!"},{"$error":"#REF!"},{"$error":"#REF!"},{"$error":"#REF!"},{"$error":"#REF!"},{"$error":"#REF!"},{"$error":"#REF!"},{"$error":"#REF!"},{"$error":"#REF!"},{"$error":"#REF!"},{"$error":"#REF!"},{"$error":"#REF!"},{"$error":"#REF!"}]
[66,{"$f":"SUBSTITUTE(INDEX(book,ROW()),\"[\"&doc&\"]\",\"\")","v":{"$error":"#REF!"}},{"$error":"#REF!"},{"$error":"#REF!"},{"$error":"#REF!"},{"$error":"#REF!"},{"$error":"#REF!"},{"$error":"#REF!"},{"$error":"#REF!"},{"$error":"#REF!"},{"$error":"#REF!"},{"$error":"#REF!"},{"$error":"#REF!"},{"$error":"#REF!"},{"$error":"#REF!"},{"$error":"#REF!"},{"$error":"#REF!"},{"$f":"INDIRECT(\"’\"&$B72&\"’\"&R$1)","v":{"$error":"#REF!"}},{"$error":"#REF!"},{"$error":"#REF!"},{"$error":"#REF!"},{"$error":"#REF!"},{"$error":"#REF!"},{"$error":"#REF!"},{"$error":"#REF!"},{"$error":"#REF!"},{"$error":"#REF!"}]
[67,{"$f":"SUBSTITUTE(INDEX(book,ROW()),\"[\"&doc&\"]\",\"\")","v":{"$error":"#REF!"}},{"$f":"INDIRECT(\"’\"&$B73&\"’\"&C$1)","v":{"$error":"#REF!"}},{"$error":"#REF!"},{"$error":"#REF!"},{"$error":"#REF!"},{"$error":"#REF!"},{"$error":"#REF!"},{"$error":"#REF!"},{"$error":"#REF!"},{"$error":"#REF!"},{"$error":"#REF!"},{"$error":"#REF!"},{"$error":"#REF!"},{"$error":"#REF!"},{"$error":"#REF!"},{"$error":"#REF!"},{"$error":"#REF!"},{"$error":"#REF!"},{"$error":"#REF!"},{"$error":"#REF!"},{"$error":"#REF!"},{"$error":"#REF!"},{"$error":"#REF!"},{"$error":"#REF!"},{"$error":"#REF!"},{"$error":"#REF!"}]
[68,{"$f":"SUBSTITUTE(INDEX(book,ROW()),\"[\"&doc&\"]\",\"\")","v":{"$error":"#REF!"}},{"$error":"#REF!"},{"$error":"#REF!"},{"$error":"#REF!"},{"$error":"#REF!"},{"$error":"#REF!"},{"$error":"#REF!"},{"$error":"#REF!"},{"$error":"#REF!"},{"$error":"#REF!"},{"$error":"#REF!"},{"$error":"#REF!"},{"$error":"#REF!"},{"$error":"#REF!"},{"$error":"#REF!"},{"$error":"#REF!"},{"$error":"#REF!"},{"$error":"#REF!"},{"$error":"#REF!"},{"$error":"#REF!"},{"$error":"#REF!"},{"$error":"#REF!"},{"$error":"#REF!"},{"$error":"#REF!"},{"$error":"#REF!"},{"$error":"#REF!"}]
[69,{"$f":"SUBSTITUTE(INDEX(book,ROW()),\"[\"&doc&\"]\",\"\")","v":{"$error":"#REF!"}},{"$error":"#REF!"},{"$error":"#REF!"},{"$error":"#REF!"},{"$error":"#REF!"},{"$error":"#REF!"},{"$error":"#REF!"},{"$error":"#REF!"},{"$error":"#REF!"},{"$error":"#REF!"},{"$error":"#REF!"},{"$error":"#REF!"},{"$error":"#REF!"},{"$error":"#REF!"},{"$error":"#REF!"},{"$error":"#REF!"},{"$error":"#REF!"},{"$error":"#REF!"},{"$error":"#REF!"},{"$error":"#REF!"},{"$error":"#REF!"},{"$error":"#REF!"},{"$error":"#REF!"},{"$error":"#REF!"},{"$error":"#REF!"},{"$error":"#REF!"}]
[70,{"$f":"SUBSTITUTE(INDEX(book,ROW()),\"[\"&doc&\"]\",\"\")","v":{"$error":"#REF!"}},{"$error":"#REF!"},{"$error":"#REF!"},{"$error":"#REF!"},{"$error":"#REF!"},{"$error":"#REF!"},{"$error":"#REF!"},{"$error":"#REF!"},{"$error":"#REF!"},{"$error":"#REF!"},{"$error":"#REF!"},{"$error":"#REF!"},{"$error":"#REF!"},{"$error":"#REF!"},{"$error":"#REF!"},{"$error":"#REF!"},{"$error":"#REF!"},{"$error":"#REF!"},{"$error":"#REF!"},{"$error":"#REF!"},{"$error":"#REF!"},{"$error":"#REF!"},{"$error":"#REF!"},{"$error":"#REF!"},{"$error":"#REF!"},{"$error":"#REF!"}]
[71,{"$f":"SUBSTITUTE(INDEX(book,ROW()),\"[\"&doc&\"]\",\"\")","v":{"$error":"#REF!"}},{"$error":"#REF!"},{"$error":"#REF!"},{"$error":"#REF!"},{"$error":"#REF!"},{"$error":"#REF!"},{"$error":"#REF!"},{"$error":"#REF!"},{"$error":"#REF!"},{"$error":"#REF!"},{"$error":"#REF!"},{"$error":"#REF!"},{"$error":"#REF!"},{"$error":"#REF!"},{"$error":"#REF!"},{"$error":"#REF!"},{"$error":"#REF!"},{"$error":"#REF!"},{"$error":"#REF!"},{"$error":"#REF!"},{"$error":"#REF!"},{"$error":"#REF!"},{"$error":"#REF!"},{"$error":"#REF!"},{"$error":"#REF!"},{"$error":"#REF!"}]
[72,{"$f":"SUBSTITUTE(INDEX(book,ROW()),\"[\"&doc&\"]\",\"\")","v":{"$error":"#REF!"}},{"$error":"#REF!"},{"$error":"#REF!"},{"$error":"#REF!"},{"$error":"#REF!"},{"$error":"#REF!"},{"$error":"#REF!"},{"$error":"#REF!"},{"$error":"#REF!"},{"$error":"#REF!"},{"$error":"#REF!"},{"$error":"#REF!"},{"$error":"#REF!"},{"$error":"#REF!"},{"$error":"#REF!"},{"$error":"#REF!"},{"$error":"#REF!"},{"$error":"#REF!"},{"$error":"#REF!"},{"$error":"#REF!"},{"$error":"#REF!"},{"$error":"#REF!"},{"$error":"#REF!"},{"$error":"#REF!"},{"$error":"#REF!"},{"$error":"#REF!"}]
[73,{"$f":"SUBSTITUTE(INDEX(book,ROW()),\"[\"&doc&\"]\",\"\")","v":{"$error":"#REF!"}},{"$error":"#REF!"},{"$error":"#REF!"},{"$error":"#REF!"},{"$error":"#REF!"},{"$error":"#REF!"},{"$error":"#REF!"},{"$error":"#REF!"},{"$error":"#REF!"},{"$error":"#REF!"},{"$error":"#REF!"},{"$error":"#REF!"},{"$error":"#REF!"},{"$error":"#REF!"},{"$error":"#REF!"},{"$error":"#REF!"},{"$error":"#REF!"},{"$error":"#REF!"},{"$error":"#REF!"},{"$error":"#REF!"},{"$error":"#REF!"},{"$error":"#REF!"},{"$error":"#REF!"},{"$error":"#REF!"},{"$error":"#REF!"},{"$error":"#REF!"}]
[74,{"$f":"SUBSTITUTE(INDEX(book,ROW()),\"[\"&doc&\"]\",\"\")","v":{"$error":"#REF!"}},{"$error":"#REF!"},{"$error":"#REF!"},{"$error":"#REF!"},{"$error":"#REF!"},{"$error":"#REF!"},{"$error":"#REF!"},{"$error":"#REF!"},{"$error":"#REF!"},{"$error":"#REF!"},{"$error":"#REF!"},{"$error":"#REF!"},{"$error":"#REF!"},{"$error":"#REF!"},{"$error":"#REF!"},{"$error":"#REF!"},{"$error":"#REF!"},{"$error":"#REF!"},{"$error":"#REF!"},{"$error":"#REF!"},{"$error":"#REF!"},{"$error":"#REF!"},{"$error":"#REF!"},{"$error":"#REF!"},{"$error":"#REF!"},{"$error":"#REF!"}]
[75,{"$f":"SUBSTITUTE(INDEX(book,ROW()),\"[\"&doc&\"]\",\"\")","v":{"$error":"#REF!"}},{"$error":"#REF!"},{"$error":"#REF!"},{"$error":"#REF!"},{"$error":"#REF!"},{"$error":"#REF!"},{"$error":"#REF!"},{"$error":"#REF!"},{"$error":"#REF!"},{"$error":"#REF!"},{"$error":"#REF!"},{"$error":"#REF!"},{"$error":"#REF!"},{"$error":"#REF!"},{"$error":"#REF!"},{"$error":"#REF!"},{"$error":"#REF!"},{"$error":"#REF!"},{"$error":"#REF!"},{"$error":"#REF!"},{"$error":"#REF!"},{"$error":"#REF!"},{"$error":"#REF!"},{"$error":"#REF!"},{"$error":"#REF!"},{"$error":"#REF!"}]
[76,{"$f":"SUBSTITUTE(INDEX(book,ROW()),\"[\"&doc&\"]\",\"\")","v":{"$error":"#REF!"}},{"$error":"#REF!"},{"$error":"#REF!"},{"$error":"#REF!"},{"$error":"#REF!"},{"$error":"#REF!"},{"$error":"#REF!"},{"$error":"#REF!"},{"$error":"#REF!"},{"$error":"#REF!"},{"$error":"#REF!"},{"$error":"#REF!"},{"$error":"#REF!"},{"$error":"#REF!"},{"$error":"#REF!"},{"$error":"#REF!"},{"$error":"#REF!"},{"$error":"#REF!"},{"$error":"#REF!"},{"$error":"#REF!"},{"$error":"#REF!"},{"$error":"#REF!"},{"$error":"#REF!"},{"$error":"#REF!"},{"$error":"#REF!"},{"$error":"#REF!"}]
[77,{"$f":"SUBSTITUTE(INDEX(book,ROW()),\"[\"&doc&\"]\",\"\")","v":{"$error":"#REF!"}},{"$error":"#REF!"},{"$error":"#REF!"},{"$error":"#REF!"},{"$error":"#REF!"},{"$error":"#REF!"},{"$error":"#REF!"},{"$error":"#REF!"},{"$error":"#REF!"},{"$error":"#REF!"},{"$error":"#REF!"},{"$error":"#REF!"},{"$error":"#REF!"},{"$error":"#REF!"},{"$error":"#REF!"},{"$error":"#REF!"},{"$error":"#REF!"},{"$error":"#REF!"},{"$error":"#REF!"},{"$error":"#REF!"},{"$error":"#REF!"},{"$error":"#REF!"},{"$error":"#REF!"},{"$error":"#REF!"},{"$error":"#REF!"},{"$error":"#REF!"}]
[78,{"$f":"SUBSTITUTE(INDEX(book,ROW()),\"[\"&doc&\"]\",\"\")","v":{"$error":"#REF!"}},{"$error":"#REF!"},{"$error":"#REF!"},{"$error":"#REF!"},{"$error":"#REF!"},{"$error":"#REF!"},{"$error":"#REF!"},{"$error":"#REF!"},{"$error":"#REF!"},{"$error":"#REF!"},{"$error":"#REF!"},{"$error":"#REF!"},{"$error":"#REF!"},{"$error":"#REF!"},{"$error":"#REF!"},{"$error":"#REF!"},{"$error":"#REF!"},{"$error":"#REF!"},{"$error":"#REF!"},{"$error":"#REF!"},{"$error":"#REF!"},{"$error":"#REF!"},{"$error":"#REF!"},{"$error":"#REF!"},{"$error":"#REF!"},{"$error":"#REF!"}]
[79,{"$f":"SUBSTITUTE(INDEX(book,ROW()),\"[\"&doc&\"]\",\"\")","v":{"$error":"#REF!"}},{"$error":"#REF!"},{"$error":"#REF!"},{"$error":"#REF!"},{"$error":"#REF!"},{"$error":"#REF!"},{"$error":"#REF!"},{"$error":"#REF!"},{"$error":"#REF!"},{"$error":"#REF!"},{"$error":"#REF!"},{"$error":"#REF!"},{"$error":"#REF!"},{"$error":"#REF!"},{"$error":"#REF!"},{"$error":"#REF!"},{"$error":"#REF!"},{"$error":"#REF!"},{"$error":"#REF!"},{"$error":"#REF!"},{"$error":"#REF!"},{"$error":"#REF!"},{"$error":"#REF!"},{"$error":"#REF!"},{"$error":"#REF!"},{"$error":"#REF!"}]
[80,{"$f":"SUBSTITUTE(INDEX(book,ROW()),\"[\"&doc&\"]\",\"\")","v":{"$error":"#REF!"}},{"$error":"#REF!"},{"$error":"#REF!"},{"$error":"#REF!"},{"$error":"#REF!"},{"$error":"#REF!"},{"$error":"#REF!"},{"$error":"#REF!"},{"$error":"#REF!"},{"$error":"#REF!"},{"$error":"#REF!"},{"$error":"#REF!"},{"$error":"#REF!"},{"$error":"#REF!"},{"$error":"#REF!"},{"$error":"#REF!"},{"$error":"#REF!"},{"$error":"#REF!"},{"$error":"#REF!"},{"$error":"#REF!"},{"$error":"#REF!"},{"$error":"#REF!"},{"$error":"#REF!"},{"$error":"#REF!"},{"$error":"#REF!"},{"$error":"#REF!"}]
[81,{"$f":"SUBSTITUTE(INDEX(book,ROW()),\"[\"&doc&\"]\",\"\")","v":{"$error":"#REF!"}},{"$error":"#REF!"},{"$error":"#REF!"},{"$error":"#REF!"},{"$error":"#REF!"},{"$error":"#REF!"},{"$error":"#REF!"},{"$error":"#REF!"},{"$error":"#REF!"},{"$error":"#REF!"},{"$error":"#REF!"},{"$error":"#REF!"},{"$error":"#REF!"},{"$error":"#REF!"},{"$error":"#REF!"},{"$error":"#REF!"},{"$error":"#REF!"},{"$error":"#REF!"},{"$error":"#REF!"},{"$error":"#REF!"},{"$error":"#REF!"},{"$error":"#REF!"},{"$error":"#REF!"},{"$error":"#REF!"},{"$error":"#REF!"},{"$error":"#REF!"}]
[82,{"$f":"SUBSTITUTE(INDEX(book,ROW()),\"[\"&doc&\"]\",\"\")","v":{"$error":"#REF!"}},{"$error":"#REF!"},{"$error":"#REF!"},{"$error":"#REF!"},{"$error":"#REF!"},{"$error":"#REF!"},{"$error":"#REF!"},{"$error":"#REF!"},{"$error":"#REF!"},{"$error":"#REF!"},{"$error":"#REF!"},{"$error":"#REF!"},{"$error":"#REF!"},{"$error":"#REF!"},{"$error":"#REF!"},{"$error":"#REF!"},{"$f":"INDIRECT(\"’\"&$B88&\"’\"&R$1)","v":{"$error":"#REF!"}},{"$error":"#REF!"},{"$error":"#REF!"},{"$error":"#REF!"},{"$error":"#REF!"},{"$error":"#REF!"},{"$error":"#REF!"},{"$error":"#REF!"},{"$error":"#REF!"},{"$error":"#REF!"}]
[83,{"$f":"SUBSTITUTE(INDEX(book,ROW()),\"[\"&doc&\"]\",\"\")","v":{"$error":"#REF!"}},{"$f":"INDIRECT(\"’\"&$B89&\"’\"&C$1)","v":{"$error":"#REF!"}},{"$error":"#REF!"},{"$error":"#REF!"},{"$error":"#REF!"},{"$error":"#REF!"},{"$error":"#REF!"},{"$error":"#REF!"},{"$error":"#REF!"},{"$error":"#REF!"},{"$error":"#REF!"},{"$error":"#REF!"},{"$error":"#REF!"},{"$error":"#REF!"},{"$error":"#REF!"},{"$error":"#REF!"},{"$error":"#REF!"},{"$error":"#REF!"},{"$error":"#REF!"},{"$error":"#REF!"},{"$error":"#REF!"},{"$error":"#REF!"},{"$error":"#REF!"},{"$error":"#REF!"},{"$error":"#REF!"},{"$error":"#REF!"}]
[84,{"$f":"SUBSTITUTE(INDEX(book,ROW()),\"[\"&doc&\"]\",\"\")","v":{"$error":"#REF!"}},{"$error":"#REF!"},{"$error":"#REF!"},{"$error":"#REF!"},{"$error":"#REF!"},{"$error":"#REF!"},{"$error":"#REF!"},{"$error":"#REF!"},{"$error":"#REF!"},{"$error":"#REF!"},{"$error":"#REF!"},{"$error":"#REF!"},{"$error":"#REF!"},{"$error":"#REF!"},{"$error":"#REF!"},{"$error":"#REF!"},{"$error":"#REF!"},{"$error":"#REF!"},{"$error":"#REF!"},{"$error":"#REF!"},{"$error":"#REF!"},{"$error":"#REF!"},{"$error":"#REF!"},{"$error":"#REF!"},{"$error":"#REF!"},{"$error":"#REF!"}]
[85,{"$f":"SUBSTITUTE(INDEX(book,ROW()),\"[\"&doc&\"]\",\"\")","v":{"$error":"#REF!"}},{"$error":"#REF!"},{"$error":"#REF!"},{"$error":"#REF!"},{"$error":"#REF!"},{"$error":"#REF!"},{"$error":"#REF!"},{"$error":"#REF!"},{"$error":"#REF!"},{"$error":"#REF!"},{"$error":"#REF!"},{"$error":"#REF!"},{"$error":"#REF!"},{"$error":"#REF!"},{"$error":"#REF!"},{"$error":"#REF!"},{"$error":"#REF!"},{"$error":"#REF!"},{"$error":"#REF!"},{"$error":"#REF!"},{"$error":"#REF!"},{"$error":"#REF!"},{"$error":"#REF!"},{"$error":"#REF!"},{"$error":"#REF!"},{"$error":"#REF!"}]
[86,{"$f":"SUBSTITUTE(INDEX(book,ROW()),\"[\"&doc&\"]\",\"\")","v":{"$error":"#REF!"}},{"$error":"#REF!"},{"$error":"#REF!"},{"$error":"#REF!"},{"$error":"#REF!"},{"$error":"#REF!"},{"$error":"#REF!"},{"$error":"#REF!"},{"$error":"#REF!"},{"$error":"#REF!"},{"$error":"#REF!"},{"$error":"#REF!"},{"$error":"#REF!"},{"$error":"#REF!"},{"$error":"#REF!"},{"$error":"#REF!"},{"$error":"#REF!"},{"$error":"#REF!"},{"$error":"#REF!"},{"$error":"#REF!"},{"$error":"#REF!"},{"$error":"#REF!"},{"$error":"#REF!"},{"$error":"#REF!"},{"$error":"#REF!"},{"$error":"#REF!"}]
[87,{"$f":"SUBSTITUTE(INDEX(book,ROW()),\"[\"&doc&\"]\",\"\")","v":{"$error":"#REF!"}},{"$error":"#REF!"},{"$error":"#REF!"},{"$error":"#REF!"},{"$error":"#REF!"},{"$error":"#REF!"},{"$error":"#REF!"},{"$error":"#REF!"},{"$error":"#REF!"},{"$error":"#REF!"},{"$error":"#REF!"},{"$error":"#REF!"},{"$error":"#REF!"},{"$error":"#REF!"},{"$error":"#REF!"},{"$error":"#REF!"},{"$error":"#REF!"},{"$error":"#REF!"},{"$error":"#REF!"},{"$error":"#REF!"},{"$error":"#REF!"},{"$error":"#REF!"},{"$error":"#REF!"},{"$error":"#REF!"},{"$error":"#REF!"},{"$error":"#REF!"}]
[88,{"$f":"SUBSTITUTE(INDEX(book,ROW()),\"[\"&doc&\"]\",\"\")","v":{"$error":"#REF!"}},{"$error":"#REF!"},{"$error":"#REF!"},{"$error":"#REF!"},{"$error":"#REF!"},{"$error":"#REF!"},{"$error":"#REF!"},{"$error":"#REF!"},{"$error":"#REF!"},{"$error":"#REF!"},{"$error":"#REF!"},{"$error":"#REF!"},{"$error":"#REF!"},{"$error":"#REF!"},{"$error":"#REF!"},{"$error":"#REF!"},{"$error":"#REF!"},{"$error":"#REF!"},{"$error":"#REF!"},{"$error":"#REF!"},{"$error":"#REF!"},{"$error":"#REF!"},{"$error":"#REF!"},{"$error":"#REF!"},{"$error":"#REF!"},{"$error":"#REF!"}]
[89,{"$f":"SUBSTITUTE(INDEX(book,ROW()),\"[\"&doc&\"]\",\"\")","v":{"$error":"#REF!"}},{"$error":"#REF!"},{"$error":"#REF!"},{"$error":"#REF!"},{"$error":"#REF!"},{"$error":"#REF!"},{"$error":"#REF!"},{"$error":"#REF!"},{"$error":"#REF!"},{"$error":"#REF!"},{"$error":"#REF!"},{"$error":"#REF!"},{"$error":"#REF!"},{"$error":"#REF!"},{"$error":"#REF!"},{"$error":"#REF!"},{"$error":"#REF!"},{"$error":"#REF!"},{"$error":"#REF!"},{"$error":"#REF!"},{"$error":"#REF!"},{"$error":"#REF!"},{"$error":"#REF!"},{"$error":"#REF!"},{"$error":"#REF!"},{"$error":"#REF!"}]
[90,{"$f":"SUBSTITUTE(INDEX(book,ROW()),\"[\"&doc&\"]\",\"\")","v":{"$error":"#REF!"}},{"$error":"#REF!"},{"$error":"#REF!"},{"$error":"#REF!"},{"$error":"#REF!"},{"$error":"#REF!"},{"$error":"#REF!"},{"$error":"#REF!"},{"$error":"#REF!"},{"$error":"#REF!"},{"$error":"#REF!"},{"$error":"#REF!"},{"$error":"#REF!"},{"$error":"#REF!"},{"$error":"#REF!"},{"$error":"#REF!"},{"$error":"#REF!"},{"$error":"#REF!"},{"$error":"#REF!"},{"$error":"#REF!"},{"$error":"#REF!"},{"$error":"#REF!"},{"$error":"#REF!"},{"$error":"#REF!"},{"$error":"#REF!"},{"$error":"#REF!"}]
[91,{"$f":"SUBSTITUTE(INDEX(book,ROW()),\"[\"&doc&\"]\",\"\")","v":{"$error":"#REF!"}},{"$error":"#REF!"},{"$error":"#REF!"},{"$error":"#REF!"},{"$error":"#REF!"},{"$error":"#REF!"},{"$error":"#REF!"},{"$error":"#REF!"},{"$error":"#REF!"},{"$error":"#REF!"},{"$error":"#REF!"},{"$error":"#REF!"},{"$error":"#REF!"},{"$error":"#REF!"},{"$error":"#REF!"},{"$error":"#REF!"},{"$error":"#REF!"},{"$error":"#REF!"},{"$error":"#REF!"},{"$error":"#REF!"},{"$error":"#REF!"},{"$error":"#REF!"},{"$error":"#REF!"},{"$error":"#REF!"},{"$error":"#REF!"},{"$error":"#REF!"}]
[92,{"$f":"SUBSTITUTE(INDEX(book,ROW()),\"[\"&doc&\"]\",\"\")","v":{"$error":"#REF!"}},{"$error":"#REF!"},{"$error":"#REF!"},{"$error":"#REF!"},{"$error":"#REF!"},{"$error":"#REF!"},{"$error":"#REF!"},{"$error":"#REF!"},{"$error":"#REF!"},{"$error":"#REF!"},{"$error":"#REF!"},{"$error":"#REF!"},{"$error":"#REF!"},{"$error":"#REF!"},{"$error":"#REF!"},{"$error":"#REF!"},{"$error":"#REF!"},{"$error":"#REF!"},{"$error":"#REF!"},{"$error":"#REF!"},{"$error":"#REF!"},{"$error":"#REF!"},{"$error":"#REF!"},{"$error":"#REF!"},{"$error":"#REF!"},{"$error":"#REF!"}]
[93,{"$f":"SUBSTITUTE(INDEX(book,ROW()),\"[\"&doc&\"]\",\"\")","v":{"$error":"#REF!"}},{"$error":"#REF!"},{"$error":"#REF!"},{"$error":"#REF!"},{"$error":"#REF!"},{"$error":"#REF!"},{"$error":"#REF!"},{"$error":"#REF!"},{"$error":"#REF!"},{"$error":"#REF!"},{"$error":"#REF!"},{"$error":"#REF!"},{"$error":"#REF!"},{"$error":"#REF!"},{"$error":"#REF!"},{"$error":"#REF!"},{"$error":"#REF!"},{"$error":"#REF!"},{"$error":"#REF!"},{"$error":"#REF!"},{"$error":"#REF!"},{"$error":"#REF!"},{"$error":"#REF!"},{"$error":"#REF!"},{"$error":"#REF!"},{"$error":"#REF!"}]
[94,{"$f":"SUBSTITUTE(INDEX(book,ROW()),\"[\"&doc&\"]\",\"\")","v":{"$error":"#REF!"}},{"$error":"#REF!"},{"$error":"#REF!"},{"$error":"#REF!"},{"$error":"#REF!"},{"$error":"#REF!"},{"$error":"#REF!"},{"$error":"#REF!"},{"$error":"#REF!"},{"$error":"#REF!"},{"$error":"#REF!"},{"$error":"#REF!"},{"$error":"#REF!"},{"$error":"#REF!"},{"$error":"#REF!"},{"$error":"#REF!"},{"$error":"#REF!"},{"$error":"#REF!"},{"$error":"#REF!"},{"$error":"#REF!"},{"$error":"#REF!"},{"$error":"#REF!"},{"$error":"#REF!"},{"$error":"#REF!"},{"$error":"#REF!"},{"$error":"#REF!"}]
[95,{"$f":"SUBSTITUTE(INDEX(book,ROW()),\"[\"&doc&\"]\",\"\")","v":{"$error":"#REF!"}},{"$error":"#REF!"},{"$error":"#REF!"},{"$error":"#REF!"},{"$error":"#REF!"},{"$error":"#REF!"},{"$error":"#REF!"},{"$error":"#REF!"},{"$error":"#REF!"},{"$error":"#REF!"},{"$error":"#REF!"},{"$error":"#REF!"},{"$error":"#REF!"},{"$error":"#REF!"},{"$error":"#REF!"},{"$error":"#REF!"},{"$error":"#REF!"},{"$error":"#REF!"},{"$error":"#REF!"},{"$error":"#REF!"},{"$error":"#REF!"},{"$error":"#REF!"},{"$error":"#REF!"},{"$error":"#REF!"},{"$error":"#REF!"},{"$error":"#REF!"}]
[96,{"$f":"SUBSTITUTE(INDEX(book,ROW()),\"[\"&doc&\"]\",\"\")","v":{"$error":"#REF!"}},{"$error":"#REF!"},{"$error":"#REF!"},{"$error":"#REF!"},{"$error":"#REF!"},{"$error":"#REF!"},{"$error":"#REF!"},{"$error":"#REF!"},{"$error":"#REF!"},{"$error":"#REF!"},{"$error":"#REF!"},{"$error":"#REF!"},{"$error":"#REF!"},{"$error":"#REF!"},{"$error":"#REF!"},{"$error":"#REF!"},{"$error":"#REF!"},{"$error":"#REF!"},{"$error":"#REF!"},{"$error":"#REF!"},{"$error":"#REF!"},{"$error":"#REF!"},{"$error":"#REF!"},{"$error":"#REF!"},{"$error":"#REF!"},{"$error":"#REF!"}]
[97,{"$f":"SUBSTITUTE(INDEX(book,ROW()),\"[\"&doc&\"]\",\"\")","v":{"$error":"#REF!"}},{"$error":"#REF!"},{"$error":"#REF!"},{"$error":"#REF!"},{"$error":"#REF!"},{"$error":"#REF!"},{"$error":"#REF!"},{"$error":"#REF!"},{"$error":"#REF!"},{"$error":"#REF!"},{"$error":"#REF!"},{"$error":"#REF!"},{"$error":"#REF!"},{"$error":"#REF!"},{"$error":"#REF!"},{"$error":"#REF!"},{"$error":"#REF!"},{"$error":"#REF!"},{"$error":"#REF!"},{"$error":"#REF!"},{"$error":"#REF!"},{"$error":"#REF!"},{"$error":"#REF!"},{"$error":"#REF!"},{"$error":"#REF!"},{"$error":"#REF!"}]
[98,{"$f":"SUBSTITUTE(INDEX(book,ROW()),\"[\"&doc&\"]\",\"\")","v":{"$error":"#REF!"}},{"$error":"#REF!"},{"$error":"#REF!"},{"$error":"#REF!"},{"$error":"#REF!"},{"$error":"#REF!"},{"$error":"#REF!"},{"$error":"#REF!"},{"$error":"#REF!"},{"$error":"#REF!"},{"$error":"#REF!"},{"$error":"#REF!"},{"$error":"#REF!"},{"$error":"#REF!"},{"$error":"#REF!"},{"$error":"#REF!"},{"$f":"INDIRECT(\"’\"&$B104&\"’\"&R$1)","v":{"$error":"#REF!"}},{"$error":"#REF!"},{"$error":"#REF!"},{"$error":"#REF!"},{"$error":"#REF!"},{"$error":"#REF!"},{"$error":"#REF!"},{"$error":"#REF!"},{"$error":"#REF!"},{"$error":"#REF!"}]
[99,{"$f":"SUBSTITUTE(INDEX(book,ROW()),\"[\"&doc&\"]\",\"\")","v":{"$error":"#REF!"}},{"$f":"INDIRECT(\"’\"&$B105&\"’\"&C$1)","v":{"$error":"#REF!"}},{"$error":"#REF!"},{"$error":"#REF!"},{"$error":"#REF!"},{"$error":"#REF!"},{"$error":"#REF!"},{"$error":"#REF!"},{"$error":"#REF!"},{"$error":"#REF!"},{"$error":"#REF!"},{"$error":"#REF!"},{"$error":"#REF!"},{"$error":"#REF!"},{"$error":"#REF!"},{"$error":"#REF!"},{"$error":"#REF!"},{"$error":"#REF!"},{"$error":"#REF!"},{"$error":"#REF!"},{"$error":"#REF!"},{"$error":"#REF!"},{"$error":"#REF!"},{"$error":"#REF!"},{"$error":"#REF!"},{"$error":"#REF!"}]
[100,{"$f":"SUBSTITUTE(INDEX(book,ROW()),\"[\"&doc&\"]\",\"\")","v":{"$error":"#REF!"}},{"$error":"#REF!"},{"$error":"#REF!"},{"$error":"#REF!"},{"$error":"#REF!"},{"$error":"#REF!"},{"$error":"#REF!"},{"$error":"#REF!"},{"$error":"#REF!"},{"$error":"#REF!"},{"$error":"#REF!"},{"$error":"#REF!"},{"$error":"#REF!"},{"$error":"#REF!"},{"$error":"#REF!"},{"$error":"#REF!"},{"$error":"#REF!"},{"$error":"#REF!"},{"$error":"#REF!"},{"$error":"#REF!"},{"$error":"#REF!"},{"$error":"#REF!"},{"$error":"#REF!"},{"$error":"#REF!"},{"$error":"#REF!"},{"$error":"#REF!"}]
[101,{"$f":"SUBSTITUTE(INDEX(book,ROW()),\"[\"&doc&\"]\",\"\")","v":{"$error":"#REF!"}},{"$error":"#REF!"},{"$error":"#REF!"},{"$error":"#REF!"},{"$error":"#REF!"},{"$error":"#REF!"},{"$error":"#REF!"},{"$error":"#REF!"},{"$error":"#REF!"},{"$error":"#REF!"},{"$error":"#REF!"},{"$error":"#REF!"},{"$error":"#REF!"},{"$error":"#REF!"},{"$error":"#REF!"},{"$error":"#REF!"},{"$error":"#REF!"},{"$error":"#REF!"},{"$error":"#REF!"},{"$error":"#REF!"},{"$error":"#REF!"},{"$error":"#REF!"},{"$error":"#REF!"},{"$error":"#REF!"},{"$error":"#REF!"},{"$error":"#REF!"}]
[102,{"$f":"SUBSTITUTE(INDEX(book,ROW()),\"[\"&doc&\"]\",\"\")","v":{"$error":"#REF!"}},{"$error":"#REF!"},{"$error":"#REF!"},{"$error":"#REF!"},{"$error":"#REF!"},{"$error":"#REF!"},{"$error":"#REF!"},{"$error":"#REF!"},{"$error":"#REF!"},{"$error":"#REF!"},{"$error":"#REF!"},{"$error":"#REF!"},{"$error":"#REF!"},{"$error":"#REF!"},{"$error":"#REF!"},{"$error":"#REF!"},{"$error":"#REF!"},{"$error":"#REF!"},{"$error":"#REF!"},{"$error":"#REF!"},{"$error":"#REF!"},{"$error":"#REF!"},{"$error":"#REF!"},{"$error":"#REF!"},{"$error":"#REF!"},{"$error":"#REF!"}]
[103,{"$f":"SUBSTITUTE(INDEX(book,ROW()),\"[\"&doc&\"]\",\"\")","v":{"$error":"#REF!"}},{"$error":"#REF!"},{"$error":"#REF!"},{"$error":"#REF!"},{"$error":"#REF!"},{"$error":"#REF!"},{"$error":"#REF!"},{"$error":"#REF!"},{"$error":"#REF!"},{"$error":"#REF!"},{"$error":"#REF!"},{"$error":"#REF!"},{"$error":"#REF!"},{"$error":"#REF!"},{"$error":"#REF!"},{"$error":"#REF!"},{"$error":"#REF!"},{"$error":"#REF!"},{"$error":"#REF!"},{"$error":"#REF!"},{"$error":"#REF!"},{"$error":"#REF!"},{"$error":"#REF!"},{"$error":"#REF!"},{"$error":"#REF!"},{"$error":"#REF!"}]
[104,{"$f":"SUBSTITUTE(INDEX(book,ROW()),\"[\"&doc&\"]\",\"\")","v":{"$error":"#REF!"}},{"$error":"#REF!"},{"$error":"#REF!"},{"$error":"#REF!"},{"$error":"#REF!"},{"$error":"#REF!"},{"$error":"#REF!"},{"$error":"#REF!"},{"$error":"#REF!"},{"$error":"#REF!"},{"$error":"#REF!"},{"$error":"#REF!"},{"$error":"#REF!"},{"$error":"#REF!"},{"$error":"#REF!"},{"$error":"#REF!"},{"$error":"#REF!"},{"$error":"#REF!"},{"$error":"#REF!"},{"$error":"#REF!"},{"$error":"#REF!"},{"$error":"#REF!"},{"$error":"#REF!"},{"$error":"#REF!"},{"$error":"#REF!"},{"$error":"#REF!"}]
[105,{"$f":"SUBSTITUTE(INDEX(book,ROW()),\"[\"&doc&\"]\",\"\")","v":{"$error":"#REF!"}},{"$error":"#REF!"},{"$error":"#REF!"},{"$error":"#REF!"},{"$error":"#REF!"},{"$error":"#REF!"},{"$error":"#REF!"},{"$error":"#REF!"},{"$error":"#REF!"},{"$error":"#REF!"},{"$error":"#REF!"},{"$error":"#REF!"},{"$error":"#REF!"},{"$error":"#REF!"},{"$error":"#REF!"},{"$error":"#REF!"},{"$error":"#REF!"},{"$error":"#REF!"},{"$error":"#REF!"},{"$error":"#REF!"},{"$error":"#REF!"},{"$error":"#REF!"},{"$error":"#REF!"},{"$error":"#REF!"},{"$error":"#REF!"},{"$error":"#REF!"}]
[106,{"$f":"SUBSTITUTE(INDEX(book,ROW()),\"[\"&doc&\"]\",\"\")","v":{"$error":"#REF!"}},{"$error":"#REF!"},{"$error":"#REF!"},{"$error":"#REF!"},{"$error":"#REF!"},{"$error":"#REF!"},{"$error":"#REF!"},{"$error":"#REF!"},{"$error":"#REF!"},{"$error":"#REF!"},{"$error":"#REF!"},{"$error":"#REF!"},{"$error":"#REF!"},{"$error":"#REF!"},{"$error":"#REF!"},{"$error":"#REF!"},{"$error":"#REF!"},{"$error":"#REF!"},{"$error":"#REF!"},{"$error":"#REF!"},{"$error":"#REF!"},{"$error":"#REF!"},{"$error":"#REF!"},{"$error":"#REF!"},{"$error":"#REF!"},{"$error":"#REF!"}]
[107,{"$f":"SUBSTITUTE(INDEX(book,ROW()),\"[\"&doc&\"]\",\"\")","v":{"$error":"#REF!"}},{"$error":"#REF!"},{"$error":"#REF!"},{"$error":"#REF!"},{"$error":"#REF!"},{"$error":"#REF!"},{"$error":"#REF!"},{"$error":"#REF!"},{"$error":"#REF!"},{"$error":"#REF!"},{"$error":"#REF!"},{"$error":"#REF!"},{"$error":"#REF!"},{"$error":"#REF!"},{"$error":"#REF!"},{"$error":"#REF!"},{"$error":"#REF!"},{"$error":"#REF!"},{"$error":"#REF!"},{"$error":"#REF!"},{"$error":"#REF!"},{"$error":"#REF!"},{"$error":"#REF!"},{"$error":"#REF!"},{"$error":"#REF!"},{"$error":"#REF!"}]
[108,{"$f":"SUBSTITUTE(INDEX(book,ROW()),\"[\"&doc&\"]\",\"\")","v":{"$error":"#REF!"}},{"$error":"#REF!"},{"$error":"#REF!"},{"$error":"#REF!"},{"$error":"#REF!"},{"$error":"#REF!"},{"$error":"#REF!"},{"$error":"#REF!"},{"$error":"#REF!"},{"$error":"#REF!"},{"$error":"#REF!"},{"$error":"#REF!"},{"$error":"#REF!"},{"$error":"#REF!"},{"$error":"#REF!"},{"$error":"#REF!"},{"$error":"#REF!"},{"$error":"#REF!"},{"$error":"#REF!"},{"$error":"#REF!"},{"$error":"#REF!"},{"$error":"#REF!"},{"$error":"#REF!"},{"$error":"#REF!"},{"$error":"#REF!"},{"$error":"#REF!"}]
[109,{"$f":"SUBSTITUTE(INDEX(book,ROW()),\"[\"&doc&\"]\",\"\")","v":{"$error":"#REF!"}},{"$error":"#REF!"},{"$error":"#REF!"},{"$error":"#REF!"},{"$error":"#REF!"},{"$error":"#REF!"},{"$error":"#REF!"},{"$error":"#REF!"},{"$error":"#REF!"},{"$error":"#REF!"},{"$error":"#REF!"},{"$error":"#REF!"},{"$error":"#REF!"},{"$error":"#REF!"},{"$error":"#REF!"},{"$error":"#REF!"},{"$error":"#REF!"},{"$error":"#REF!"},{"$error":"#REF!"},{"$error":"#REF!"},{"$error":"#REF!"},{"$error":"#REF!"},{"$error":"#REF!"},{"$error":"#REF!"},{"$error":"#REF!"},{"$error":"#REF!"}]
[110,{"$f":"SUBSTITUTE(INDEX(book,ROW()),\"[\"&doc&\"]\",\"\")","v":{"$error":"#REF!"}},{"$error":"#REF!"},{"$error":"#REF!"},{"$error":"#REF!"},{"$error":"#REF!"},{"$error":"#REF!"},{"$error":"#REF!"},{"$error":"#REF!"},{"$error":"#REF!"},{"$error":"#REF!"},{"$error":"#REF!"},{"$error":"#REF!"},{"$error":"#REF!"},{"$error":"#REF!"},{"$error":"#REF!"},{"$error":"#REF!"},{"$error":"#REF!"},{"$error":"#REF!"},{"$error":"#REF!"},{"$error":"#REF!"},{"$error":"#REF!"},{"$error":"#REF!"},{"$error":"#REF!"},{"$error":"#REF!"},{"$error":"#REF!"},{"$error":"#REF!"}]
[111,{"$f":"SUBSTITUTE(INDEX(book,ROW()),\"[\"&doc&\"]\",\"\")","v":{"$error":"#REF!"}},{"$error":"#REF!"},{"$error":"#REF!"},{"$error":"#REF!"},{"$error":"#REF!"},{"$error":"#REF!"},{"$error":"#REF!"},{"$error":"#REF!"},{"$error":"#REF!"},{"$error":"#REF!"},{"$error":"#REF!"},{"$error":"#REF!"},{"$error":"#REF!"},{"$error":"#REF!"},{"$error":"#REF!"},{"$error":"#REF!"},{"$error":"#REF!"},{"$error":"#REF!"},{"$error":"#REF!"},{"$error":"#REF!"},{"$error":"#REF!"},{"$error":"#REF!"},{"$error":"#REF!"},{"$error":"#REF!"},{"$error":"#REF!"},{"$error":"#REF!"}]
[112,{"$f":"SUBSTITUTE(INDEX(book,ROW()),\"[\"&doc&\"]\",\"\")","v":{"$error":"#REF!"}},{"$error":"#REF!"},{"$error":"#REF!"},{"$error":"#REF!"},{"$error":"#REF!"},{"$error":"#REF!"},{"$error":"#REF!"},{"$error":"#REF!"},{"$error":"#REF!"},{"$error":"#REF!"},{"$error":"#REF!"},{"$error":"#REF!"},{"$error":"#REF!"},{"$error":"#REF!"},{"$error":"#REF!"},{"$error":"#REF!"},{"$error":"#REF!"},{"$error":"#REF!"},{"$error":"#REF!"},{"$error":"#REF!"},{"$error":"#REF!"},{"$error":"#REF!"},{"$error":"#REF!"},{"$error":"#REF!"},{"$error":"#REF!"},{"$error":"#REF!"}]
[113,{"$f":"SUBSTITUTE(INDEX(book,ROW()),\"[\"&doc&\"]\",\"\")","v":{"$error":"#REF!"}},{"$error":"#REF!"},{"$error":"#REF!"},{"$error":"#REF!"},{"$error":"#REF!"},{"$error":"#REF!"},{"$error":"#REF!"},{"$error":"#REF!"},{"$error":"#REF!"},{"$error":"#REF!"},{"$error":"#REF!"},{"$error":"#REF!"},{"$error":"#REF!"},{"$error":"#REF!"},{"$error":"#REF!"},{"$error":"#REF!"},{"$error":"#REF!"},{"$error":"#REF!"},{"$error":"#REF!"},{"$error":"#REF!"},{"$error":"#REF!"},{"$error":"#REF!"},{"$error":"#REF!"},{"$error":"#REF!"},{"$error":"#REF!"},{"$error":"#REF!"}]
[114,{"$f":"SUBSTITUTE(INDEX(book,ROW()),\"[\"&doc&\"]\",\"\")","v":{"$error":"#REF!"}},{"$error":"#REF!"},{"$error":"#REF!"},{"$error":"#REF!"},{"$error":"#REF!"},{"$error":"#REF!"},{"$error":"#REF!"},{"$error":"#REF!"},{"$error":"#REF!"},{"$error":"#REF!"},{"$error":"#REF!"},{"$error":"#REF!"},{"$error":"#REF!"},{"$error":"#REF!"},{"$error":"#REF!"},{"$error":"#REF!"},{"$f":"INDIRECT(\"’\"&$B120&\"’\"&R$1)","v":{"$error":"#REF!"}},{"$error":"#REF!"},{"$error":"#REF!"},{"$error":"#REF!"},{"$error":"#REF!"},{"$error":"#REF!"},{"$error":"#REF!"},{"$error":"#REF!"},{"$error":"#REF!"},{"$error":"#REF!"}]
[115,{"$f":"SUBSTITUTE(INDEX(book,ROW()),\"[\"&doc&\"]\",\"\")","v":{"$error":"#REF!"}},{"$f":"INDIRECT(\"’\"&$B121&\"’\"&C$1)","v":{"$error":"#REF!"}},{"$error":"#REF!"},{"$error":"#REF!"},{"$error":"#REF!"},{"$error":"#REF!"},{"$error":"#REF!"},{"$error":"#REF!"},{"$error":"#REF!"},{"$error":"#REF!"},{"$error":"#REF!"},{"$error":"#REF!"},{"$error":"#REF!"},{"$error":"#REF!"},{"$error":"#REF!"},{"$error":"#REF!"},{"$error":"#REF!"},{"$error":"#REF!"},{"$error":"#REF!"},{"$error":"#REF!"},{"$error":"#REF!"},{"$error":"#REF!"},{"$error":"#REF!"},{"$error":"#REF!"},{"$error":"#REF!"},{"$error":"#REF!"}]
[116,{"$f":"SUBSTITUTE(INDEX(book,ROW()),\"[\"&doc&\"]\",\"\")","v":{"$error":"#REF!"}},{"$error":"#REF!"},{"$error":"#REF!"},{"$error":"#REF!"},{"$error":"#REF!"},{"$error":"#REF!"},{"$error":"#REF!"},{"$error":"#REF!"},{"$error":"#REF!"},{"$error":"#REF!"},{"$error":"#REF!"},{"$error":"#REF!"},{"$error":"#REF!"},{"$error":"#REF!"},{"$error":"#REF!"},{"$error":"#REF!"},{"$error":"#REF!"},{"$error":"#REF!"},{"$error":"#REF!"},{"$error":"#REF!"},{"$error":"#REF!"},{"$error":"#REF!"},{"$error":"#REF!"},{"$error":"#REF!"},{"$error":"#REF!"},{"$error":"#REF!"}]
[117,{"$f":"SUBSTITUTE(INDEX(book,ROW()),\"[\"&doc&\"]\",\"\")","v":{"$error":"#REF!"}},{"$error":"#REF!"},{"$error":"#REF!"},{"$error":"#REF!"},{"$error":"#REF!"},{"$error":"#REF!"},{"$error":"#REF!"},{"$error":"#REF!"},{"$error":"#REF!"},{"$error":"#REF!"},{"$error":"#REF!"},{"$error":"#REF!"},{"$error":"#REF!"},{"$error":"#REF!"},{"$error":"#REF!"},{"$error":"#REF!"},{"$error":"#REF!"},{"$error":"#REF!"},{"$error":"#REF!"},{"$error":"#REF!"},{"$error":"#REF!"},{"$error":"#REF!"},{"$error":"#REF!"},{"$error":"#REF!"},{"$error":"#REF!"},{"$error":"#REF!"}]
[118,{"$f":"SUBSTITUTE(INDEX(book,ROW()),\"[\"&doc&\"]\",\"\")","v":{"$error":"#REF!"}},{"$error":"#REF!"},{"$error":"#REF!"},{"$error":"#REF!"},{"$error":"#REF!"},{"$error":"#REF!"},{"$error":"#REF!"},{"$error":"#REF!"},{"$error":"#REF!"},{"$error":"#REF!"},{"$error":"#REF!"},{"$error":"#REF!"},{"$error":"#REF!"},{"$error":"#REF!"},{"$error":"#REF!"},{"$error":"#REF!"},{"$error":"#REF!"},{"$error":"#REF!"},{"$error":"#REF!"},{"$error":"#REF!"},{"$error":"#REF!"},{"$error":"#REF!"},{"$error":"#REF!"},{"$error":"#REF!"},{"$error":"#REF!"},{"$error":"#REF!"}]
[119,{"$f":"SUBSTITUTE(INDEX(book,ROW()),\"[\"&doc&\"]\",\"\")","v":{"$error":"#REF!"}},{"$error":"#REF!"},{"$error":"#REF!"},{"$error":"#REF!"},{"$error":"#REF!"},{"$error":"#REF!"},{"$error":"#REF!"},{"$error":"#REF!"},{"$error":"#REF!"},{"$error":"#REF!"},{"$error":"#REF!"},{"$error":"#REF!"},{"$error":"#REF!"},{"$error":"#REF!"},{"$error":"#REF!"},{"$error":"#REF!"},{"$error":"#REF!"},{"$error":"#REF!"},{"$error":"#REF!"},{"$error":"#REF!"},{"$error":"#REF!"},{"$error":"#REF!"},{"$error":"#REF!"},{"$error":"#REF!"},{"$error":"#REF!"},{"$error":"#REF!"}]
[120,{"$f":"SUBSTITUTE(INDEX(book,ROW()),\"[\"&doc&\"]\",\"\")","v":{"$error":"#REF!"}},{"$error":"#REF!"},{"$error":"#REF!"},{"$error":"#REF!"},{"$error":"#REF!"},{"$error":"#REF!"},{"$error":"#REF!"},{"$error":"#REF!"},{"$error":"#REF!"},{"$error":"#REF!"},{"$error":"#REF!"},{"$error":"#REF!"},{"$error":"#REF!"},{"$error":"#REF!"},{"$error":"#REF!"},{"$error":"#REF!"},{"$error":"#REF!"},{"$error":"#REF!"},{"$error":"#REF!"},{"$error":"#REF!"},{"$error":"#REF!"},{"$error":"#REF!"},{"$error":"#REF!"},{"$error":"#REF!"},{"$error":"#REF!"},{"$error":"#REF!"}]
[121,{"$f":"SUBSTITUTE(INDEX(book,ROW()),\"[\"&doc&\"]\",\"\")","v":{"$error":"#REF!"}},{"$error":"#REF!"},{"$error":"#REF!"},{"$error":"#REF!"},{"$error":"#REF!"},{"$error":"#REF!"},{"$error":"#REF!"},{"$error":"#REF!"},{"$error":"#REF!"},{"$error":"#REF!"},{"$error":"#REF!"},{"$error":"#REF!"},{"$error":"#REF!"},{"$error":"#REF!"},{"$error":"#REF!"},{"$error":"#REF!"},{"$error":"#REF!"},{"$error":"#REF!"},{"$error":"#REF!"},{"$error":"#REF!"},{"$error":"#REF!"},{"$error":"#REF!"},{"$error":"#REF!"},{"$error":"#REF!"},{"$error":"#REF!"},{"$error":"#REF!"}]
[122,{"$f":"SUBSTITUTE(INDEX(book,ROW()),\"[\"&doc&\"]\",\"\")","v":{"$error":"#REF!"}},{"$error":"#REF!"},{"$error":"#REF!"},{"$error":"#REF!"},{"$error":"#REF!"},{"$error":"#REF!"},{"$error":"#REF!"},{"$error":"#REF!"},{"$error":"#REF!"},{"$error":"#REF!"},{"$error":"#REF!"},{"$error":"#REF!"},{"$error":"#REF!"},{"$error":"#REF!"},{"$error":"#REF!"},{"$error":"#REF!"},{"$error":"#REF!"},{"$error":"#REF!"},{"$error":"#REF!"},{"$error":"#REF!"},{"$error":"#REF!"},{"$error":"#REF!"},{"$error":"#REF!"},{"$error":"#REF!"},{"$error":"#REF!"},{"$error":"#REF!"}]
[123,{"$f":"SUBSTITUTE(INDEX(book,ROW()),\"[\"&doc&\"]\",\"\")","v":{"$error":"#REF!"}},{"$error":"#REF!"},{"$error":"#REF!"},{"$error":"#REF!"},{"$error":"#REF!"},{"$error":"#REF!"},{"$error":"#REF!"},{"$error":"#REF!"},{"$error":"#REF!"},{"$error":"#REF!"},{"$error":"#REF!"},{"$error":"#REF!"},{"$error":"#REF!"},{"$error":"#REF!"},{"$error":"#REF!"},{"$error":"#REF!"},{"$error":"#REF!"},{"$error":"#REF!"},{"$error":"#REF!"},{"$error":"#REF!"},{"$error":"#REF!"},{"$error":"#REF!"},{"$error":"#REF!"},{"$error":"#REF!"},{"$error":"#REF!"},{"$error":"#REF!"}]
[124,{"$f":"SUBSTITUTE(INDEX(book,ROW()),\"[\"&doc&\"]\",\"\")","v":{"$error":"#REF!"}},{"$error":"#REF!"},{"$error":"#REF!"},{"$error":"#REF!"},{"$error":"#REF!"},{"$error":"#REF!"},{"$error":"#REF!"},{"$error":"#REF!"},{"$error":"#REF!"},{"$error":"#REF!"},{"$error":"#REF!"},{"$error":"#REF!"},{"$error":"#REF!"},{"$error":"#REF!"},{"$error":"#REF!"},{"$error":"#REF!"},{"$error":"#REF!"},{"$error":"#REF!"},{"$error":"#REF!"},{"$error":"#REF!"},{"$error":"#REF!"},{"$error":"#REF!"},{"$error":"#REF!"},{"$error":"#REF!"},{"$error":"#REF!"},{"$error":"#REF!"}]
[125,{"$f":"SUBSTITUTE(INDEX(book,ROW()),\"[\"&doc&\"]\",\"\")","v":{"$error":"#REF!"}},{"$error":"#REF!"},{"$error":"#REF!"},{"$error":"#REF!"},{"$error":"#REF!"},{"$error":"#REF!"},{"$error":"#REF!"},{"$error":"#REF!"},{"$error":"#REF!"},{"$error":"#REF!"},{"$error":"#REF!"},{"$error":"#REF!"},{"$error":"#REF!"},{"$error":"#REF!"},{"$error":"#REF!"},{"$error":"#REF!"},{"$error":"#REF!"},{"$error":"#REF!"},{"$error":"#REF!"},{"$error":"#REF!"},{"$error":"#REF!"},{"$error":"#REF!"},{"$error":"#REF!"},{"$error":"#REF!"},{"$error":"#REF!"},{"$error":"#REF!"}]
[126,{"$f":"SUBSTITUTE(INDEX(book,ROW()),\"[\"&doc&\"]\",\"\")","v":{"$error":"#REF!"}},{"$error":"#REF!"},{"$error":"#REF!"},{"$error":"#REF!"},{"$error":"#REF!"},{"$error":"#REF!"},{"$error":"#REF!"},{"$error":"#REF!"},{"$error":"#REF!"},{"$error":"#REF!"},{"$error":"#REF!"},{"$error":"#REF!"},{"$error":"#REF!"},{"$error":"#REF!"},{"$error":"#REF!"},{"$error":"#REF!"},{"$error":"#REF!"},{"$error":"#REF!"},{"$error":"#REF!"},{"$error":"#REF!"},{"$error":"#REF!"},{"$error":"#REF!"},{"$error":"#REF!"},{"$error":"#REF!"},{"$error":"#REF!"},{"$error":"#REF!"}]
[127,{"$f":"SUBSTITUTE(INDEX(book,ROW()),\"[\"&doc&\"]\",\"\")","v":{"$error":"#REF!"}},{"$error":"#REF!"},{"$error":"#REF!"},{"$error":"#REF!"},{"$error":"#REF!"},{"$error":"#REF!"},{"$error":"#REF!"},{"$error":"#REF!"},{"$error":"#REF!"},{"$error":"#REF!"},{"$error":"#REF!"},{"$error":"#REF!"},{"$error":"#REF!"},{"$error":"#REF!"},{"$error":"#REF!"},{"$error":"#REF!"},{"$error":"#REF!"},{"$error":"#REF!"},{"$error":"#REF!"},{"$error":"#REF!"},{"$error":"#REF!"},{"$error":"#REF!"},{"$error":"#REF!"},{"$error":"#REF!"},{"$error":"#REF!"},{"$error":"#REF!"}]
[128,{"$f":"SUBSTITUTE(INDEX(book,ROW()),\"[\"&doc&\"]\",\"\")","v":{"$error":"#REF!"}},{"$error":"#REF!"},{"$error":"#REF!"},{"$error":"#REF!"},{"$error":"#REF!"},{"$error":"#REF!"},{"$error":"#REF!"},{"$error":"#REF!"},{"$error":"#REF!"},{"$error":"#REF!"},{"$error":"#REF!"},{"$error":"#REF!"},{"$error":"#REF!"},{"$error":"#REF!"},{"$error":"#REF!"},{"$error":"#REF!"},{"$error":"#REF!"},{"$error":"#REF!"},{"$error":"#REF!"},{"$error":"#REF!"},{"$error":"#REF!"},{"$error":"#REF!"},{"$error":"#REF!"},{"$error":"#REF!"},{"$error":"#REF!"},{"$error":"#REF!"}]
[129,{"$f":"SUBSTITUTE(INDEX(book,ROW()),\"[\"&doc&\"]\",\"\")","v":{"$error":"#REF!"}},{"$error":"#REF!"},{"$error":"#REF!"},{"$error":"#REF!"},{"$error":"#REF!"},{"$error":"#REF!"},{"$error":"#REF!"},{"$error":"#REF!"},{"$error":"#REF!"},{"$error":"#REF!"},{"$error":"#REF!"},{"$error":"#REF!"},{"$error":"#REF!"},{"$error":"#REF!"},{"$error":"#REF!"},{"$error":"#REF!"},{"$error":"#REF!"},{"$error":"#REF!"},{"$error":"#REF!"},{"$error":"#REF!"},{"$error":"#REF!"},{"$error":"#REF!"},{"$error":"#REF!"},{"$error":"#REF!"},{"$error":"#REF!"},{"$error":"#REF!"}]
[130,{"$f":"SUBSTITUTE(INDEX(book,ROW()),\"[\"&doc&\"]\",\"\")","v":{"$error":"#REF!"}},{"$error":"#REF!"},{"$error":"#REF!"},{"$error":"#REF!"},{"$error":"#REF!"},{"$error":"#REF!"},{"$error":"#REF!"},{"$error":"#REF!"},{"$error":"#REF!"},{"$error":"#REF!"},{"$error":"#REF!"},{"$error":"#REF!"},{"$error":"#REF!"},{"$error":"#REF!"},{"$error":"#REF!"},{"$error":"#REF!"},{"$f":"INDIRECT(\"’\"&$B136&\"’\"&R$1)","v":{"$error":"#REF!"}},{"$error":"#REF!"},{"$error":"#REF!"},{"$error":"#REF!"},{"$error":"#REF!"},{"$error":"#REF!"},{"$error":"#REF!"},{"$error":"#REF!"},{"$error":"#REF!"},{"$error":"#REF!"}]
[131,{"$f":"SUBSTITUTE(INDEX(book,ROW()),\"[\"&doc&\"]\",\"\")","v":{"$error":"#REF!"}},{"$f":"INDIRECT(\"’\"&$B137&\"’\"&C$1)","v":{"$error":"#REF!"}},{"$error":"#REF!"},{"$error":"#REF!"},{"$error":"#REF!"},{"$error":"#REF!"},{"$error":"#REF!"},{"$error":"#REF!"},{"$error":"#REF!"},{"$error":"#REF!"},{"$error":"#REF!"},{"$error":"#REF!"},{"$error":"#REF!"},{"$error":"#REF!"},{"$error":"#REF!"},{"$error":"#REF!"},{"$error":"#REF!"},{"$error":"#REF!"},{"$error":"#REF!"},{"$error":"#REF!"},{"$error":"#REF!"},{"$error":"#REF!"},{"$error":"#REF!"},{"$error":"#REF!"},{"$error":"#REF!"},{"$error":"#REF!"}]
[132,{"$f":"SUBSTITUTE(INDEX(book,ROW()),\"[\"&doc&\"]\",\"\")","v":{"$error":"#REF!"}},{"$error":"#REF!"},{"$error":"#REF!"},{"$error":"#REF!"},{"$error":"#REF!"},{"$error":"#REF!"},{"$error":"#REF!"},{"$error":"#REF!"},{"$error":"#REF!"},{"$error":"#REF!"},{"$error":"#REF!"},{"$error":"#REF!"},{"$error":"#REF!"},{"$error":"#REF!"},{"$error":"#REF!"},{"$error":"#REF!"},{"$error":"#REF!"},{"$error":"#REF!"},{"$error":"#REF!"},{"$error":"#REF!"},{"$error":"#REF!"},{"$error":"#REF!"},{"$error":"#REF!"},{"$error":"#REF!"},{"$error":"#REF!"},{"$error":"#REF!"}]
[133,{"$f":"SUBSTITUTE(INDEX(book,ROW()),\"[\"&doc&\"]\",\"\")","v":{"$error":"#REF!"}},{"$error":"#REF!"},{"$error":"#REF!"},{"$error":"#REF!"},{"$error":"#REF!"},{"$error":"#REF!"},{"$error":"#REF!"},{"$error":"#REF!"},{"$error":"#REF!"},{"$error":"#REF!"},{"$error":"#REF!"},{"$error":"#REF!"},{"$error":"#REF!"},{"$error":"#REF!"},{"$error":"#REF!"},{"$error":"#REF!"},{"$error":"#REF!"},{"$error":"#REF!"},{"$error":"#REF!"},{"$error":"#REF!"},{"$error":"#REF!"},{"$error":"#REF!"},{"$error":"#REF!"},{"$error":"#REF!"},{"$error":"#REF!"},{"$error":"#REF!"}]
[134,{"$f":"SUBSTITUTE(INDEX(book,ROW()),\"[\"&doc&\"]\",\"\")","v":{"$error":"#REF!"}},{"$error":"#REF!"},{"$error":"#REF!"},{"$error":"#REF!"},{"$error":"#REF!"},{"$error":"#REF!"},{"$error":"#REF!"},{"$error":"#REF!"},{"$error":"#REF!"},{"$error":"#REF!"},{"$error":"#REF!"},{"$error":"#REF!"},{"$error":"#REF!"},{"$error":"#REF!"},{"$error":"#REF!"},{"$error":"#REF!"},{"$error":"#REF!"},{"$error":"#REF!"},{"$error":"#REF!"},{"$error":"#REF!"},{"$error":"#REF!"},{"$error":"#REF!"},{"$error":"#REF!"},{"$error":"#REF!"},{"$error":"#REF!"},{"$error":"#REF!"}]
[135,{"$f":"SUBSTITUTE(INDEX(book,ROW()),\"[\"&doc&\"]\",\"\")","v":{"$error":"#REF!"}},{"$error":"#REF!"},{"$error":"#REF!"},{"$error":"#REF!"},{"$error":"#REF!"},{"$error":"#REF!"},{"$error":"#REF!"},{"$error":"#REF!"},{"$error":"#REF!"},{"$error":"#REF!"},{"$error":"#REF!"},{"$error":"#REF!"},{"$error":"#REF!"},{"$error":"#REF!"},{"$error":"#REF!"},{"$error":"#REF!"},{"$error":"#REF!"},{"$error":"#REF!"},{"$error":"#REF!"},{"$error":"#REF!"},{"$error":"#REF!"},{"$error":"#REF!"},{"$error":"#REF!"},{"$error":"#REF!"},{"$error":"#REF!"},{"$error":"#REF!"}]
[136,{"$f":"SUBSTITUTE(INDEX(book,ROW()),\"[\"&doc&\"]\",\"\")","v":{"$error":"#REF!"}},{"$error":"#REF!"},{"$error":"#REF!"},{"$error":"#REF!"},{"$error":"#REF!"},{"$error":"#REF!"},{"$error":"#REF!"},{"$error":"#REF!"},{"$error":"#REF!"},{"$error":"#REF!"},{"$error":"#REF!"},{"$error":"#REF!"},{"$error":"#REF!"},{"$error":"#REF!"},{"$error":"#REF!"},{"$error":"#REF!"},{"$error":"#REF!"},{"$error":"#REF!"},{"$error":"#REF!"},{"$error":"#REF!"},{"$error":"#REF!"},{"$error":"#REF!"},{"$error":"#REF!"},{"$error":"#REF!"},{"$error":"#REF!"},{"$error":"#REF!"}]
[137,{"$f":"SUBSTITUTE(INDEX(book,ROW()),\"[\"&doc&\"]\",\"\")","v":{"$error":"#REF!"}},{"$error":"#REF!"},{"$error":"#REF!"},{"$error":"#REF!"},{"$error":"#REF!"},{"$error":"#REF!"},{"$error":"#REF!"},{"$error":"#REF!"},{"$error":"#REF!"},{"$error":"#REF!"},{"$error":"#REF!"},{"$error":"#REF!"},{"$error":"#REF!"},{"$error":"#REF!"},{"$error":"#REF!"},{"$error":"#REF!"},{"$error":"#REF!"},{"$error":"#REF!"},{"$error":"#REF!"},{"$error":"#REF!"},{"$error":"#REF!"},{"$error":"#REF!"},{"$error":"#REF!"},{"$error":"#REF!"},{"$error":"#REF!"},{"$error":"#REF!"}]
[138,{"$f":"SUBSTITUTE(INDEX(book,ROW()),\"[\"&doc&\"]\",\"\")","v":{"$error":"#REF!"}},{"$error":"#REF!"},{"$error":"#REF!"},{"$error":"#REF!"},{"$error":"#REF!"},{"$error":"#REF!"},{"$error":"#REF!"},{"$error":"#REF!"},{"$error":"#REF!"},{"$error":"#REF!"},{"$error":"#REF!"},{"$error":"#REF!"},{"$error":"#REF!"},{"$error":"#REF!"},{"$error":"#REF!"},{"$error":"#REF!"},{"$error":"#REF!"},{"$error":"#REF!"},{"$error":"#REF!"},{"$error":"#REF!"},{"$error":"#REF!"},{"$error":"#REF!"},{"$error":"#REF!"},{"$error":"#REF!"},{"$error":"#REF!"},{"$error":"#REF!"}]
[139,{"$f":"SUBSTITUTE(INDEX(book,ROW()),\"[\"&doc&\"]\",\"\")","v":{"$error":"#REF!"}},{"$error":"#REF!"},{"$error":"#REF!"},{"$error":"#REF!"},{"$error":"#REF!"},{"$error":"#REF!"},{"$error":"#REF!"},{"$error":"#REF!"},{"$error":"#REF!"},{"$error":"#REF!"},{"$error":"#REF!"},{"$error":"#REF!"},{"$error":"#REF!"},{"$error":"#REF!"},{"$error":"#REF!"},{"$error":"#REF!"},{"$error":"#REF!"},{"$error":"#REF!"},{"$error":"#REF!"},{"$error":"#REF!"},{"$error":"#REF!"},{"$error":"#REF!"},{"$error":"#REF!"},{"$error":"#REF!"},{"$error":"#REF!"},{"$error":"#REF!"}]
[140,{"$f":"SUBSTITUTE(INDEX(book,ROW()),\"[\"&doc&\"]\",\"\")","v":{"$error":"#REF!"}},{"$error":"#REF!"},{"$error":"#REF!"},{"$error":"#REF!"},{"$error":"#REF!"},{"$error":"#REF!"},{"$error":"#REF!"},{"$error":"#REF!"},{"$error":"#REF!"},{"$error":"#REF!"},{"$error":"#REF!"},{"$error":"#REF!"},{"$error":"#REF!"},{"$error":"#REF!"},{"$error":"#REF!"},{"$error":"#REF!"},{"$error":"#REF!"},{"$error":"#REF!"},{"$error":"#REF!"},{"$error":"#REF!"},{"$error":"#REF!"},{"$error":"#REF!"},{"$error":"#REF!"},{"$error":"#REF!"},{"$error":"#REF!"},{"$error":"#REF!"}]
[141,{"$f":"SUBSTITUTE(INDEX(book,ROW()),\"[\"&doc&\"]\",\"\")","v":{"$error":"#REF!"}},{"$error":"#REF!"},{"$error":"#REF!"},{"$error":"#REF!"},{"$error":"#REF!"},{"$error":"#REF!"},{"$error":"#REF!"},{"$error":"#REF!"},{"$error":"#REF!"},{"$error":"#REF!"},{"$error":"#REF!"},{"$error":"#REF!"},{"$error":"#REF!"},{"$error":"#REF!"},{"$error":"#REF!"},{"$error":"#REF!"},{"$error":"#REF!"},{"$error":"#REF!"},{"$error":"#REF!"},{"$error":"#REF!"},{"$error":"#REF!"},{"$error":"#REF!"},{"$error":"#REF!"},{"$error":"#REF!"},{"$error":"#REF!"},{"$error":"#REF!"}]
[142,{"$f":"SUBSTITUTE(INDEX(book,ROW()),\"[\"&doc&\"]\",\"\")","v":{"$error":"#REF!"}},{"$error":"#REF!"},{"$error":"#REF!"},{"$error":"#REF!"},{"$error":"#REF!"},{"$error":"#REF!"},{"$error":"#REF!"},{"$error":"#REF!"},{"$error":"#REF!"},{"$error":"#REF!"},{"$error":"#REF!"},{"$error":"#REF!"},{"$error":"#REF!"},{"$error":"#REF!"},{"$error":"#REF!"},{"$error":"#REF!"},{"$error":"#REF!"},{"$error":"#REF!"},{"$error":"#REF!"},{"$error":"#REF!"},{"$error":"#REF!"},{"$error":"#REF!"},{"$error":"#REF!"},{"$error":"#REF!"},{"$error":"#REF!"},{"$error":"#REF!"}]
[143,{"$f":"SUBSTITUTE(INDEX(book,ROW()),\"[\"&doc&\"]\",\"\")","v":{"$error":"#REF!"}},{"$error":"#REF!"},{"$error":"#REF!"},{"$error":"#REF!"},{"$error":"#REF!"},{"$error":"#REF!"},{"$error":"#REF!"},{"$error":"#REF!"},{"$error":"#REF!"},{"$error":"#REF!"},{"$error":"#REF!"},{"$error":"#REF!"},{"$error":"#REF!"},{"$error":"#REF!"},{"$error":"#REF!"},{"$error":"#REF!"},{"$error":"#REF!"},{"$error":"#REF!"},{"$error":"#REF!"},{"$error":"#REF!"},{"$error":"#REF!"},{"$error":"#REF!"},{"$error":"#REF!"},{"$error":"#REF!"},{"$error":"#REF!"},{"$error":"#REF!"}]
[144,{"$f":"SUBSTITUTE(INDEX(book,ROW()),\"[\"&doc&\"]\",\"\")","v":{"$error":"#REF!"}},{"$error":"#REF!"},{"$error":"#REF!"},{"$error":"#REF!"},{"$error":"#REF!"},{"$error":"#REF!"},{"$error":"#REF!"},{"$error":"#REF!"},{"$error":"#REF!"},{"$error":"#REF!"},{"$error":"#REF!"},{"$error":"#REF!"},{"$error":"#REF!"},{"$error":"#REF!"},{"$error":"#REF!"},{"$error":"#REF!"},{"$error":"#REF!"},{"$error":"#REF!"},{"$error":"#REF!"},{"$error":"#REF!"},{"$error":"#REF!"},{"$error":"#REF!"},{"$error":"#REF!"},{"$error":"#REF!"},{"$error":"#REF!"},{"$error":"#REF!"}]
[145,{"$f":"SUBSTITUTE(INDEX(book,ROW()),\"[\"&doc&\"]\",\"\")","v":{"$error":"#REF!"}},{"$error":"#REF!"},{"$error":"#REF!"},{"$error":"#REF!"},{"$error":"#REF!"},{"$error":"#REF!"},{"$error":"#REF!"},{"$error":"#REF!"},{"$error":"#REF!"},{"$error":"#REF!"},{"$error":"#REF!"},{"$error":"#REF!"},{"$error":"#REF!"},{"$error":"#REF!"},{"$error":"#REF!"},{"$error":"#REF!"},{"$error":"#REF!"},{"$error":"#REF!"},{"$error":"#REF!"},{"$error":"#REF!"},{"$error":"#REF!"},{"$error":"#REF!"},{"$error":"#REF!"},{"$error":"#REF!"},{"$error":"#REF!"},{"$error":"#REF!"}]
[146,{"$f":"SUBSTITUTE(INDEX(book,ROW()),\"[\"&doc&\"]\",\"\")","v":{"$error":"#REF!"}},{"$error":"#REF!"},{"$error":"#REF!"},{"$error":"#REF!"},{"$error":"#REF!"},{"$error":"#REF!"},{"$error":"#REF!"},{"$error":"#REF!"},{"$error":"#REF!"},{"$error":"#REF!"},{"$error":"#REF!"},{"$error":"#REF!"},{"$error":"#REF!"},{"$error":"#REF!"},{"$error":"#REF!"},{"$error":"#REF!"},{"$f":"INDIRECT(\"’\"&$B152&\"’\"&R$1)","v":{"$error":"#REF!"}},{"$error":"#REF!"},{"$error":"#REF!"},{"$error":"#REF!"},{"$error":"#REF!"},{"$error":"#REF!"},{"$error":"#REF!"},{"$error":"#REF!"},{"$error":"#REF!"},{"$error":"#REF!"}]
[147,{"$f":"SUBSTITUTE(INDEX(book,ROW()),\"[\"&doc&\"]\",\"\")","v":{"$error":"#REF!"}},{"$f":"INDIRECT(\"’\"&$B153&\"’\"&C$1)","v":{"$error":"#REF!"}},{"$error":"#REF!"},{"$error":"#REF!"},{"$error":"#REF!"},{"$error":"#REF!"},{"$error":"#REF!"},{"$error":"#REF!"},{"$error":"#REF!"},{"$error":"#REF!"},{"$error":"#REF!"},{"$error":"#REF!"},{"$error":"#REF!"},{"$error":"#REF!"},{"$error":"#REF!"},{"$error":"#REF!"},{"$error":"#REF!"},{"$error":"#REF!"},{"$error":"#REF!"},{"$error":"#REF!"},{"$error":"#REF!"},{"$error":"#REF!"},{"$error":"#REF!"},{"$error":"#REF!"},{"$error":"#REF!"},{"$error":"#REF!"}]
[148,{"$f":"SUBSTITUTE(INDEX(book,ROW()),\"[\"&doc&\"]\",\"\")","v":{"$error":"#REF!"}},{"$error":"#REF!"},{"$error":"#REF!"},{"$error":"#REF!"},{"$error":"#REF!"},{"$error":"#REF!"},{"$error":"#REF!"},{"$error":"#REF!"},{"$error":"#REF!"},{"$error":"#REF!"},{"$error":"#REF!"},{"$error":"#REF!"},{"$error":"#REF!"},{"$error":"#REF!"},{"$error":"#REF!"},{"$error":"#REF!"},{"$error":"#REF!"},{"$error":"#REF!"},{"$error":"#REF!"},{"$error":"#REF!"},{"$error":"#REF!"},{"$error":"#REF!"},{"$error":"#REF!"},{"$error":"#REF!"},{"$error":"#REF!"},{"$error":"#REF!"}]
[149,{"$f":"SUBSTITUTE(INDEX(book,ROW()),\"[\"&doc&\"]\",\"\")","v":{"$error":"#REF!"}},{"$error":"#REF!"},{"$error":"#REF!"},{"$error":"#REF!"},{"$error":"#REF!"},{"$error":"#REF!"},{"$error":"#REF!"},{"$error":"#REF!"},{"$error":"#REF!"},{"$error":"#REF!"},{"$error":"#REF!"},{"$error":"#REF!"},{"$error":"#REF!"},{"$error":"#REF!"},{"$error":"#REF!"},{"$error":"#REF!"},{"$error":"#REF!"},{"$error":"#REF!"},{"$error":"#REF!"},{"$error":"#REF!"},{"$error":"#REF!"},{"$error":"#REF!"},{"$error":"#REF!"},{"$error":"#REF!"},{"$error":"#REF!"},{"$error":"#REF!"}]
[150,{"$f":"SUBSTITUTE(INDEX(book,ROW()),\"[\"&doc&\"]\",\"\")","v":{"$error":"#REF!"}},{"$error":"#REF!"},{"$error":"#REF!"},{"$error":"#REF!"},{"$error":"#REF!"},{"$error":"#REF!"},{"$error":"#REF!"},{"$error":"#REF!"},{"$error":"#REF!"},{"$error":"#REF!"},{"$error":"#REF!"},{"$error":"#REF!"},{"$error":"#REF!"},{"$error":"#REF!"},{"$error":"#REF!"},{"$error":"#REF!"},{"$error":"#REF!"},{"$error":"#REF!"},{"$error":"#REF!"},{"$error":"#REF!"},{"$error":"#REF!"},{"$error":"#REF!"},{"$error":"#REF!"},{"$error":"#REF!"},{"$error":"#REF!"},{"$error":"#REF!"}]
[151,{"$f":"SUBSTITUTE(INDEX(book,ROW()),\"[\"&doc&\"]\",\"\")","v":{"$error":"#REF!"}},{"$error":"#REF!"},{"$error":"#REF!"},{"$error":"#REF!"},{"$error":"#REF!"},{"$error":"#REF!"},{"$error":"#REF!"},{"$error":"#REF!"},{"$error":"#REF!"},{"$error":"#REF!"},{"$error":"#REF!"},{"$error":"#REF!"},{"$error":"#REF!"},{"$error":"#REF!"},{"$error":"#REF!"},{"$error":"#REF!"},{"$error":"#REF!"},{"$error":"#REF!"},{"$error":"#REF!"},{"$error":"#REF!"},{"$error":"#REF!"},{"$error":"#REF!"},{"$error":"#REF!"},{"$error":"#REF!"},{"$error":"#REF!"},{"$error":"#REF!"}]
[152,{"$f":"SUBSTITUTE(INDEX(book,ROW()),\"[\"&doc&\"]\",\"\")","v":{"$error":"#REF!"}},{"$error":"#REF!"},{"$error":"#REF!"},{"$error":"#REF!"},{"$error":"#REF!"},{"$error":"#REF!"},{"$error":"#REF!"},{"$error":"#REF!"},{"$error":"#REF!"},{"$error":"#REF!"},{"$error":"#REF!"},{"$error":"#REF!"},{"$error":"#REF!"},{"$error":"#REF!"},{"$error":"#REF!"},{"$error":"#REF!"},{"$error":"#REF!"},{"$error":"#REF!"},{"$error":"#REF!"},{"$error":"#REF!"},{"$error":"#REF!"},{"$error":"#REF!"},{"$error":"#REF!"},{"$error":"#REF!"},{"$error":"#REF!"},{"$error":"#REF!"}]
[153,{"$f":"SUBSTITUTE(INDEX(book,ROW()),\"[\"&doc&\"]\",\"\")","v":{"$error":"#REF!"}},{"$error":"#REF!"},{"$error":"#REF!"},{"$error":"#REF!"},{"$error":"#REF!"},{"$error":"#REF!"},{"$error":"#REF!"},{"$error":"#REF!"},{"$error":"#REF!"},{"$error":"#REF!"},{"$error":"#REF!"},{"$error":"#REF!"},{"$error":"#REF!"},{"$error":"#REF!"},{"$error":"#REF!"},{"$error":"#REF!"},{"$error":"#REF!"},{"$error":"#REF!"},{"$error":"#REF!"},{"$error":"#REF!"},{"$error":"#REF!"},{"$error":"#REF!"},{"$error":"#REF!"},{"$error":"#REF!"},{"$error":"#REF!"},{"$error":"#REF!"}]
[154,{"$f":"SUBSTITUTE(INDEX(book,ROW()),\"[\"&doc&\"]\",\"\")","v":{"$error":"#REF!"}},{"$error":"#REF!"},{"$error":"#REF!"},{"$error":"#REF!"},{"$error":"#REF!"},{"$error":"#REF!"},{"$error":"#REF!"},{"$error":"#REF!"},{"$error":"#REF!"},{"$error":"#REF!"},{"$error":"#REF!"},{"$error":"#REF!"},{"$error":"#REF!"},{"$error":"#REF!"},{"$error":"#REF!"},{"$error":"#REF!"},{"$error":"#REF!"},{"$error":"#REF!"},{"$error":"#REF!"},{"$error":"#REF!"},{"$error":"#REF!"},{"$error":"#REF!"},{"$error":"#REF!"},{"$error":"#REF!"},{"$error":"#REF!"},{"$error":"#REF!"}]
[155,{"$f":"SUBSTITUTE(INDEX(book,ROW()),\"[\"&doc&\"]\",\"\")","v":{"$error":"#REF!"}},{"$error":"#REF!"},{"$error":"#REF!"},{"$error":"#REF!"},{"$error":"#REF!"},{"$error":"#REF!"},{"$error":"#REF!"},{"$error":"#REF!"},{"$error":"#REF!"},{"$error":"#REF!"},{"$error":"#REF!"},{"$error":"#REF!"},{"$error":"#REF!"},{"$error":"#REF!"},{"$error":"#REF!"},{"$error":"#REF!"},{"$error":"#REF!"},{"$error":"#REF!"},{"$error":"#REF!"},{"$error":"#REF!"},{"$error":"#REF!"},{"$error":"#REF!"},{"$error":"#REF!"},{"$error":"#REF!"},{"$error":"#REF!"},{"$error":"#REF!"}]
[156,{"$f":"SUBSTITUTE(INDEX(book,ROW()),\"[\"&doc&\"]\",\"\")","v":{"$error":"#REF!"}},{"$error":"#REF!"},{"$error":"#REF!"},{"$error":"#REF!"},{"$error":"#REF!"},{"$error":"#REF!"},{"$error":"#REF!"},{"$error":"#REF!"},{"$error":"#REF!"},{"$error":"#REF!"},{"$error":"#REF!"},{"$error":"#REF!"},{"$error":"#REF!"},{"$error":"#REF!"},{"$error":"#REF!"},{"$error":"#REF!"},{"$error":"#REF!"},{"$error":"#REF!"},{"$error":"#REF!"},{"$error":"#REF!"},{"$error":"#REF!"},{"$error":"#REF!"},{"$error":"#REF!"},{"$error":"#REF!"},{"$error":"#REF!"},{"$error":"#REF!"}]
[157,{"$f":"SUBSTITUTE(INDEX(book,ROW()),\"[\"&doc&\"]\",\"\")","v":{"$error":"#REF!"}},{"$error":"#REF!"},{"$error":"#REF!"},{"$error":"#REF!"},{"$error":"#REF!"},{"$error":"#REF!"},{"$error":"#REF!"},{"$error":"#REF!"},{"$error":"#REF!"},{"$error":"#REF!"},{"$error":"#REF!"},{"$error":"#REF!"},{"$error":"#REF!"},{"$error":"#REF!"},{"$error":"#REF!"},{"$error":"#REF!"},{"$error":"#REF!"},{"$error":"#REF!"},{"$error":"#REF!"},{"$error":"#REF!"},{"$error":"#REF!"},{"$error":"#REF!"},{"$error":"#REF!"},{"$error":"#REF!"},{"$error":"#REF!"},{"$error":"#REF!"}]
[158,{"$f":"SUBSTITUTE(INDEX(book,ROW()),\"[\"&doc&\"]\",\"\")","v":{"$error":"#REF!"}},{"$error":"#REF!"},{"$error":"#REF!"},{"$error":"#REF!"},{"$error":"#REF!"},{"$error":"#REF!"},{"$error":"#REF!"},{"$error":"#REF!"},{"$error":"#REF!"},{"$error":"#REF!"},{"$error":"#REF!"},{"$error":"#REF!"},{"$error":"#REF!"},{"$error":"#REF!"},{"$error":"#REF!"},{"$error":"#REF!"},{"$error":"#REF!"},{"$error":"#REF!"},{"$error":"#REF!"},{"$error":"#REF!"},{"$error":"#REF!"},{"$error":"#REF!"},{"$error":"#REF!"},{"$error":"#REF!"},{"$error":"#REF!"},{"$error":"#REF!"}]
[159,{"$f":"SUBSTITUTE(INDEX(book,ROW()),\"[\"&doc&\"]\",\"\")","v":{"$error":"#REF!"}},{"$error":"#REF!"},{"$error":"#REF!"},{"$error":"#REF!"},{"$error":"#REF!"},{"$error":"#REF!"},{"$error":"#REF!"},{"$error":"#REF!"},{"$error":"#REF!"},{"$error":"#REF!"},{"$error":"#REF!"},{"$error":"#REF!"},{"$error":"#REF!"},{"$error":"#REF!"},{"$error":"#REF!"},{"$error":"#REF!"},{"$error":"#REF!"},{"$error":"#REF!"},{"$error":"#REF!"},{"$error":"#REF!"},{"$error":"#REF!"},{"$error":"#REF!"},{"$error":"#REF!"},{"$error":"#REF!"},{"$error":"#REF!"},{"$error":"#REF!"}]
[160,{"$f":"SUBSTITUTE(INDEX(book,ROW()),\"[\"&doc&\"]\",\"\")","v":{"$error":"#REF!"}},{"$error":"#REF!"},{"$error":"#REF!"},{"$error":"#REF!"},{"$error":"#REF!"},{"$error":"#REF!"},{"$error":"#REF!"},{"$error":"#REF!"},{"$error":"#REF!"},{"$error":"#REF!"},{"$error":"#REF!"},{"$error":"#REF!"},{"$error":"#REF!"},{"$error":"#REF!"},{"$error":"#REF!"},{"$error":"#REF!"},{"$error":"#REF!"},{"$error":"#REF!"},{"$error":"#REF!"},{"$error":"#REF!"},{"$error":"#REF!"},{"$error":"#REF!"},{"$error":"#REF!"},{"$error":"#REF!"},{"$error":"#REF!"},{"$error":"#REF!"}]
[161,{"$f":"SUBSTITUTE(INDEX(book,ROW()),\"[\"&doc&\"]\",\"\")","v":{"$error":"#REF!"}},{"$error":"#REF!"},{"$error":"#REF!"},{"$error":"#REF!"},{"$error":"#REF!"},{"$error":"#REF!"},{"$error":"#REF!"},{"$error":"#REF!"},{"$error":"#REF!"},{"$error":"#REF!"},{"$error":"#REF!"},{"$error":"#REF!"},{"$error":"#REF!"},{"$error":"#REF!"},{"$error":"#REF!"},{"$error":"#REF!"},{"$error":"#REF!"},{"$error":"#REF!"},{"$error":"#REF!"},{"$error":"#REF!"},{"$error":"#REF!"},{"$error":"#REF!"},{"$error":"#REF!"},{"$error":"#REF!"},{"$error":"#REF!"},{"$error":"#REF!"}]
[162,{"$f":"SUBSTITUTE(INDEX(book,ROW()),\"[\"&doc&\"]\",\"\")","v":{"$error":"#REF!"}},{"$error":"#REF!"},{"$error":"#REF!"},{"$error":"#REF!"},{"$error":"#REF!"},{"$error":"#REF!"},{"$error":"#REF!"},{"$error":"#REF!"},{"$error":"#REF!"},{"$error":"#REF!"},{"$error":"#REF!"},{"$error":"#REF!"},{"$error":"#REF!"},{"$error":"#REF!"},{"$error":"#REF!"},{"$error":"#REF!"},{"$f":"INDIRECT(\"’\"&$B168&\"’\"&R$1)","v":{"$error":"#REF!"}},{"$error":"#REF!"},{"$error":"#REF!"},{"$error":"#REF!"},{"$error":"#REF!"},{"$error":"#REF!"},{"$error":"#REF!"},{"$error":"#REF!"},{"$error":"#REF!"},{"$error":"#REF!"}]
[163,{"$f":"SUBSTITUTE(INDEX(book,ROW()),\"[\"&doc&\"]\",\"\")","v":{"$error":"#REF!"}},{"$f":"INDIRECT(\"’\"&$B169&\"’\"&C$1)","v":{"$error":"#REF!"}},{"$error":"#REF!"},{"$error":"#REF!"},{"$error":"#REF!"},{"$error":"#REF!"},{"$error":"#REF!"},{"$error":"#REF!"},{"$error":"#REF!"},{"$error":"#REF!"},{"$error":"#REF!"},{"$error":"#REF!"},{"$error":"#REF!"},{"$error":"#REF!"},{"$error":"#REF!"},{"$error":"#REF!"},{"$error":"#REF!"},{"$error":"#REF!"},{"$error":"#REF!"},{"$error":"#REF!"},{"$error":"#REF!"},{"$error":"#REF!"},{"$error":"#REF!"},{"$error":"#REF!"},{"$error":"#REF!"},{"$error":"#REF!"}]
[164,{"$f":"SUBSTITUTE(INDEX(book,ROW()),\"[\"&doc&\"]\",\"\")","v":{"$error":"#REF!"}},{"$error":"#REF!"},{"$error":"#REF!"},{"$error":"#REF!"},{"$error":"#REF!"},{"$error":"#REF!"},{"$error":"#REF!"},{"$error":"#REF!"},{"$error":"#REF!"},{"$error":"#REF!"},{"$error":"#REF!"},{"$error":"#REF!"},{"$error":"#REF!"},{"$error":"#REF!"},{"$error":"#REF!"},{"$error":"#REF!"},{"$error":"#REF!"},{"$error":"#REF!"},{"$error":"#REF!"},{"$error":"#REF!"},{"$error":"#REF!"},{"$error":"#REF!"},{"$error":"#REF!"},{"$error":"#REF!"},{"$error":"#REF!"},{"$error":"#REF!"}]
[165,{"$f":"SUBSTITUTE(INDEX(book,ROW()),\"[\"&doc&\"]\",\"\")","v":{"$error":"#REF!"}},{"$error":"#REF!"},{"$error":"#REF!"},{"$error":"#REF!"},{"$error":"#REF!"},{"$error":"#REF!"},{"$error":"#REF!"},{"$error":"#REF!"},{"$error":"#REF!"},{"$error":"#REF!"},{"$error":"#REF!"},{"$error":"#REF!"},{"$error":"#REF!"},{"$error":"#REF!"},{"$error":"#REF!"},{"$error":"#REF!"},{"$error":"#REF!"},{"$error":"#REF!"},{"$error":"#REF!"},{"$error":"#REF!"},{"$error":"#REF!"},{"$error":"#REF!"},{"$error":"#REF!"},{"$error":"#REF!"},{"$error":"#REF!"},{"$error":"#REF!"}]
[166,{"$f":"SUBSTITUTE(INDEX(book,ROW()),\"[\"&doc&\"]\",\"\")","v":{"$error":"#REF!"}},{"$error":"#REF!"},{"$error":"#REF!"},{"$error":"#REF!"},{"$error":"#REF!"},{"$error":"#REF!"},{"$error":"#REF!"},{"$error":"#REF!"},{"$error":"#REF!"},{"$error":"#REF!"},{"$error":"#REF!"},{"$error":"#REF!"},{"$error":"#REF!"},{"$error":"#REF!"},{"$error":"#REF!"},{"$error":"#REF!"},{"$error":"#REF!"},{"$error":"#REF!"},{"$error":"#REF!"},{"$error":"#REF!"},{"$error":"#REF!"},{"$error":"#REF!"},{"$error":"#REF!"},{"$error":"#REF!"},{"$error":"#REF!"},{"$error":"#REF!"}]
[167,{"$f":"SUBSTITUTE(INDEX(book,ROW()),\"[\"&doc&\"]\",\"\")","v":{"$error":"#REF!"}},{"$error":"#REF!"},{"$error":"#REF!"},{"$error":"#REF!"},{"$error":"#REF!"},{"$error":"#REF!"},{"$error":"#REF!"},{"$error":"#REF!"},{"$error":"#REF!"},{"$error":"#REF!"},{"$error":"#REF!"},{"$error":"#REF!"},{"$error":"#REF!"},{"$error":"#REF!"},{"$error":"#REF!"},{"$error":"#REF!"},{"$error":"#REF!"},{"$error":"#REF!"},{"$error":"#REF!"},{"$error":"#REF!"},{"$error":"#REF!"},{"$error":"#REF!"},{"$error":"#REF!"},{"$error":"#REF!"},{"$error":"#REF!"},{"$error":"#REF!"}]
[168,{"$f":"SUBSTITUTE(INDEX(book,ROW()),\"[\"&doc&\"]\",\"\")","v":{"$error":"#REF!"}},{"$error":"#REF!"},{"$error":"#REF!"},{"$error":"#REF!"},{"$error":"#REF!"},{"$error":"#REF!"},{"$error":"#REF!"},{"$error":"#REF!"},{"$error":"#REF!"},{"$error":"#REF!"},{"$error":"#REF!"},{"$error":"#REF!"},{"$error":"#REF!"},{"$error":"#REF!"},{"$error":"#REF!"},{"$error":"#REF!"},{"$error":"#REF!"},{"$error":"#REF!"},{"$error":"#REF!"},{"$error":"#REF!"},{"$error":"#REF!"},{"$error":"#REF!"},{"$error":"#REF!"},{"$error":"#REF!"},{"$error":"#REF!"},{"$error":"#REF!"}]
[169,{"$f":"SUBSTITUTE(INDEX(book,ROW()),\"[\"&doc&\"]\",\"\")","v":{"$error":"#REF!"}},{"$error":"#REF!"},{"$error":"#REF!"},{"$error":"#REF!"},{"$error":"#REF!"},{"$error":"#REF!"},{"$error":"#REF!"},{"$error":"#REF!"},{"$error":"#REF!"},{"$error":"#REF!"},{"$error":"#REF!"},{"$error":"#REF!"},{"$error":"#REF!"},{"$error":"#REF!"},{"$error":"#REF!"},{"$error":"#REF!"},{"$error":"#REF!"},{"$error":"#REF!"},{"$error":"#REF!"},{"$error":"#REF!"},{"$error":"#REF!"},{"$error":"#REF!"},{"$error":"#REF!"},{"$error":"#REF!"},{"$error":"#REF!"},{"$error":"#REF!"}]
[170,{"$f":"SUBSTITUTE(INDEX(book,ROW()),\"[\"&doc&\"]\",\"\")","v":{"$error":"#REF!"}},{"$error":"#REF!"},{"$error":"#REF!"},{"$error":"#REF!"},{"$error":"#REF!"},{"$error":"#REF!"},{"$error":"#REF!"},{"$error":"#REF!"},{"$error":"#REF!"},{"$error":"#REF!"},{"$error":"#REF!"},{"$error":"#REF!"},{"$error":"#REF!"},{"$error":"#REF!"},{"$error":"#REF!"},{"$error":"#REF!"},{"$error":"#REF!"},{"$error":"#REF!"},{"$error":"#REF!"},{"$error":"#REF!"},{"$error":"#REF!"},{"$error":"#REF!"},{"$error":"#REF!"},{"$error":"#REF!"},{"$error":"#REF!"},{"$error":"#REF!"}]
[171,{"$f":"SUBSTITUTE(INDEX(book,ROW()),\"[\"&doc&\"]\",\"\")","v":{"$error":"#REF!"}},{"$error":"#REF!"},{"$error":"#REF!"},{"$error":"#REF!"},{"$error":"#REF!"},{"$error":"#REF!"},{"$error":"#REF!"},{"$error":"#REF!"},{"$error":"#REF!"},{"$error":"#REF!"},{"$error":"#REF!"},{"$error":"#REF!"},{"$error":"#REF!"},{"$error":"#REF!"},{"$error":"#REF!"},{"$error":"#REF!"},{"$error":"#REF!"},{"$error":"#REF!"},{"$error":"#REF!"},{"$error":"#REF!"},{"$error":"#REF!"},{"$error":"#REF!"},{"$error":"#REF!"},{"$error":"#REF!"},{"$error":"#REF!"},{"$error":"#REF!"}]
[172,{"$f":"SUBSTITUTE(INDEX(book,ROW()),\"[\"&doc&\"]\",\"\")","v":{"$error":"#REF!"}},{"$error":"#REF!"},{"$error":"#REF!"},{"$error":"#REF!"},{"$error":"#REF!"},{"$error":"#REF!"},{"$error":"#REF!"},{"$error":"#REF!"},{"$error":"#REF!"},{"$error":"#REF!"},{"$error":"#REF!"},{"$error":"#REF!"},{"$error":"#REF!"},{"$error":"#REF!"},{"$error":"#REF!"},{"$error":"#REF!"},{"$error":"#REF!"},{"$error":"#REF!"},{"$error":"#REF!"},{"$error":"#REF!"},{"$error":"#REF!"},{"$error":"#REF!"},{"$error":"#REF!"},{"$error":"#REF!"},{"$error":"#REF!"},{"$error":"#REF!"}]
[173,{"$f":"SUBSTITUTE(INDEX(book,ROW()),\"[\"&doc&\"]\",\"\")","v":{"$error":"#REF!"}},{"$error":"#REF!"},{"$error":"#REF!"},{"$error":"#REF!"},{"$error":"#REF!"},{"$error":"#REF!"},{"$error":"#REF!"},{"$error":"#REF!"},{"$error":"#REF!"},{"$error":"#REF!"},{"$error":"#REF!"},{"$error":"#REF!"},{"$error":"#REF!"},{"$error":"#REF!"},{"$error":"#REF!"},{"$error":"#REF!"},{"$error":"#REF!"},{"$error":"#REF!"},{"$error":"#REF!"},{"$error":"#REF!"},{"$error":"#REF!"},{"$error":"#REF!"},{"$error":"#REF!"},{"$error":"#REF!"},{"$error":"#REF!"},{"$error":"#REF!"}]
[174,{"$f":"SUBSTITUTE(INDEX(book,ROW()),\"[\"&doc&\"]\",\"\")","v":{"$error":"#REF!"}},{"$error":"#REF!"},{"$error":"#REF!"},{"$error":"#REF!"},{"$error":"#REF!"},{"$error":"#REF!"},{"$error":"#REF!"},{"$error":"#REF!"},{"$error":"#REF!"},{"$error":"#REF!"},{"$error":"#REF!"},{"$error":"#REF!"},{"$error":"#REF!"},{"$error":"#REF!"},{"$error":"#REF!"},{"$error":"#REF!"},{"$error":"#REF!"},{"$error":"#REF!"},{"$error":"#REF!"},{"$error":"#REF!"},{"$error":"#REF!"},{"$error":"#REF!"},{"$error":"#REF!"},{"$error":"#REF!"},{"$error":"#REF!"},{"$error":"#REF!"}]
[175,{"$f":"SUBSTITUTE(INDEX(book,ROW()),\"[\"&doc&\"]\",\"\")","v":{"$error":"#REF!"}},{"$error":"#REF!"},{"$error":"#REF!"},{"$error":"#REF!"},{"$error":"#REF!"},{"$error":"#REF!"},{"$error":"#REF!"},{"$error":"#REF!"},{"$error":"#REF!"},{"$error":"#REF!"},{"$error":"#REF!"},{"$error":"#REF!"},{"$error":"#REF!"},{"$error":"#REF!"},{"$error":"#REF!"},{"$error":"#REF!"},{"$error":"#REF!"},{"$error":"#REF!"},{"$error":"#REF!"},{"$error":"#REF!"},{"$error":"#REF!"},{"$error":"#REF!"},{"$error":"#REF!"},{"$error":"#REF!"},{"$error":"#REF!"},{"$error":"#REF!"}]
[176,{"$f":"SUBSTITUTE(INDEX(book,ROW()),\"[\"&doc&\"]\",\"\")","v":{"$error":"#REF!"}},{"$error":"#REF!"},{"$error":"#REF!"},{"$error":"#REF!"},{"$error":"#REF!"},{"$error":"#REF!"},{"$error":"#REF!"},{"$error":"#REF!"},{"$error":"#REF!"},{"$error":"#REF!"},{"$error":"#REF!"},{"$error":"#REF!"},{"$error":"#REF!"},{"$error":"#REF!"},{"$error":"#REF!"},{"$error":"#REF!"},{"$error":"#REF!"},{"$error":"#REF!"},{"$error":"#REF!"},{"$error":"#REF!"},{"$error":"#REF!"},{"$error":"#REF!"},{"$error":"#REF!"},{"$error":"#REF!"},{"$error":"#REF!"},{"$error":"#REF!"}]
[177,{"$f":"SUBSTITUTE(INDEX(book,ROW()),\"[\"&doc&\"]\",\"\")","v":{"$error":"#REF!"}},{"$error":"#REF!"},{"$error":"#REF!"},{"$error":"#REF!"},{"$error":"#REF!"},{"$error":"#REF!"},{"$error":"#REF!"},{"$error":"#REF!"},{"$error":"#REF!"},{"$error":"#REF!"},{"$error":"#REF!"},{"$error":"#REF!"},{"$error":"#REF!"},{"$error":"#REF!"},{"$error":"#REF!"},{"$error":"#REF!"},{"$error":"#REF!"},{"$error":"#REF!"},{"$error":"#REF!"},{"$error":"#REF!"},{"$error":"#REF!"},{"$error":"#REF!"},{"$error":"#REF!"},{"$error":"#REF!"},{"$error":"#REF!"},{"$error":"#REF!"}]
[178,{"$f":"SUBSTITUTE(INDEX(book,ROW()),\"[\"&doc&\"]\",\"\")","v":{"$error":"#REF!"}},{"$error":"#REF!"},{"$error":"#REF!"},{"$error":"#REF!"},{"$error":"#REF!"},{"$error":"#REF!"},{"$error":"#REF!"},{"$error":"#REF!"},{"$error":"#REF!"},{"$error":"#REF!"},{"$error":"#REF!"},{"$error":"#REF!"},{"$error":"#REF!"},{"$error":"#REF!"},{"$error":"#REF!"},{"$error":"#REF!"},{"$f":"INDIRECT(\"’\"&$B184&\"’\"&R$1)","v":{"$error":"#REF!"}},{"$error":"#REF!"},{"$error":"#REF!"},{"$error":"#REF!"},{"$error":"#REF!"},{"$error":"#REF!"},{"$error":"#REF!"},{"$error":"#REF!"},{"$error":"#REF!"},{"$error":"#REF!"}]
[179,{"$f":"SUBSTITUTE(INDEX(book,ROW()),\"[\"&doc&\"]\",\"\")","v":{"$error":"#REF!"}},{"$f":"INDIRECT(\"’\"&$B185&\"’\"&C$1)","v":{"$error":"#REF!"}},{"$error":"#REF!"},{"$error":"#REF!"},{"$error":"#REF!"},{"$error":"#REF!"},{"$error":"#REF!"},{"$error":"#REF!"},{"$error":"#REF!"},{"$error":"#REF!"},{"$error":"#REF!"},{"$error":"#REF!"},{"$error":"#REF!"},{"$error":"#REF!"},{"$error":"#REF!"},{"$error":"#REF!"},{"$error":"#REF!"},{"$error":"#REF!"},{"$error":"#REF!"},{"$error":"#REF!"},{"$error":"#REF!"},{"$error":"#REF!"},{"$error":"#REF!"},{"$error":"#REF!"},{"$error":"#REF!"},{"$error":"#REF!"}]
[180,{"$f":"SUBSTITUTE(INDEX(book,ROW()),\"[\"&doc&\"]\",\"\")","v":{"$error":"#REF!"}},{"$error":"#REF!"},{"$error":"#REF!"},{"$error":"#REF!"},{"$error":"#REF!"},{"$error":"#REF!"},{"$error":"#REF!"},{"$error":"#REF!"},{"$error":"#REF!"},{"$error":"#REF!"},{"$error":"#REF!"},{"$error":"#REF!"},{"$error":"#REF!"},{"$error":"#REF!"},{"$error":"#REF!"},{"$error":"#REF!"},{"$error":"#REF!"},{"$error":"#REF!"},{"$error":"#REF!"},{"$error":"#REF!"},{"$error":"#REF!"},{"$error":"#REF!"},{"$error":"#REF!"},{"$error":"#REF!"},{"$error":"#REF!"},{"$error":"#REF!"}]
[181,{"$f":"SUBSTITUTE(INDEX(book,ROW()),\"[\"&doc&\"]\",\"\")","v":{"$error":"#REF!"}},{"$error":"#REF!"},{"$error":"#REF!"},{"$error":"#REF!"},{"$error":"#REF!"},{"$error":"#REF!"},{"$error":"#REF!"},{"$error":"#REF!"},{"$error":"#REF!"},{"$error":"#REF!"},{"$error":"#REF!"},{"$error":"#REF!"},{"$error":"#REF!"},{"$error":"#REF!"},{"$error":"#REF!"},{"$error":"#REF!"},{"$error":"#REF!"},{"$error":"#REF!"},{"$error":"#REF!"},{"$error":"#REF!"},{"$error":"#REF!"},{"$error":"#REF!"},{"$error":"#REF!"},{"$error":"#REF!"},{"$error":"#REF!"},{"$error":"#REF!"}]
[182,{"$f":"SUBSTITUTE(INDEX(book,ROW()),\"[\"&doc&\"]\",\"\")","v":{"$error":"#REF!"}},{"$error":"#REF!"},{"$error":"#REF!"},{"$error":"#REF!"},{"$error":"#REF!"},{"$error":"#REF!"},{"$error":"#REF!"},{"$error":"#REF!"},{"$error":"#REF!"},{"$error":"#REF!"},{"$error":"#REF!"},{"$error":"#REF!"},{"$error":"#REF!"},{"$error":"#REF!"},{"$error":"#REF!"},{"$error":"#REF!"},{"$error":"#REF!"},{"$error":"#REF!"},{"$error":"#REF!"},{"$error":"#REF!"},{"$error":"#REF!"},{"$error":"#REF!"},{"$error":"#REF!"},{"$error":"#REF!"},{"$error":"#REF!"},{"$error":"#REF!"}]
[183,{"$f":"SUBSTITUTE(INDEX(book,ROW()),\"[\"&doc&\"]\",\"\")","v":{"$error":"#REF!"}},{"$error":"#REF!"},{"$error":"#REF!"},{"$error":"#REF!"},{"$error":"#REF!"},{"$error":"#REF!"},{"$error":"#REF!"},{"$error":"#REF!"},{"$error":"#REF!"},{"$error":"#REF!"},{"$error":"#REF!"},{"$error":"#REF!"},{"$error":"#REF!"},{"$error":"#REF!"},{"$error":"#REF!"},{"$error":"#REF!"},{"$error":"#REF!"},{"$error":"#REF!"},{"$error":"#REF!"},{"$error":"#REF!"},{"$error":"#REF!"},{"$error":"#REF!"},{"$error":"#REF!"},{"$error":"#REF!"},{"$error":"#REF!"},{"$error":"#REF!"}]
[184,{"$f":"SUBSTITUTE(INDEX(book,ROW()),\"[\"&doc&\"]\",\"\")","v":{"$error":"#REF!"}},{"$error":"#REF!"},{"$error":"#REF!"},{"$error":"#REF!"},{"$error":"#REF!"},{"$error":"#REF!"},{"$error":"#REF!"},{"$error":"#REF!"},{"$error":"#REF!"},{"$error":"#REF!"},{"$error":"#REF!"},{"$error":"#REF!"},{"$error":"#REF!"},{"$error":"#REF!"},{"$error":"#REF!"},{"$error":"#REF!"},{"$error":"#REF!"},{"$error":"#REF!"},{"$error":"#REF!"},{"$error":"#REF!"},{"$error":"#REF!"},{"$error":"#REF!"},{"$error":"#REF!"},{"$error":"#REF!"},{"$error":"#REF!"},{"$error":"#REF!"}]
[185,{"$f":"SUBSTITUTE(INDEX(book,ROW()),\"[\"&doc&\"]\",\"\")","v":{"$error":"#REF!"}},{"$error":"#REF!"},{"$error":"#REF!"},{"$error":"#REF!"},{"$error":"#REF!"},{"$error":"#REF!"},{"$error":"#REF!"},{"$error":"#REF!"},{"$error":"#REF!"},{"$error":"#REF!"},{"$error":"#REF!"},{"$error":"#REF!"},{"$error":"#REF!"},{"$error":"#REF!"},{"$error":"#REF!"},{"$error":"#REF!"},{"$error":"#REF!"},{"$error":"#REF!"},{"$error":"#REF!"},{"$error":"#REF!"},{"$error":"#REF!"},{"$error":"#REF!"},{"$error":"#REF!"},{"$error":"#REF!"},{"$error":"#REF!"},{"$error":"#REF!"}]
[186,{"$f":"SUBSTITUTE(INDEX(book,ROW()),\"[\"&doc&\"]\",\"\")","v":{"$error":"#REF!"}},{"$error":"#REF!"},{"$error":"#REF!"},{"$error":"#REF!"},{"$error":"#REF!"},{"$error":"#REF!"},{"$error":"#REF!"},{"$error":"#REF!"},{"$error":"#REF!"},{"$error":"#REF!"},{"$error":"#REF!"},{"$error":"#REF!"},{"$error":"#REF!"},{"$error":"#REF!"},{"$error":"#REF!"},{"$error":"#REF!"},{"$error":"#REF!"},{"$error":"#REF!"},{"$error":"#REF!"},{"$error":"#REF!"},{"$error":"#REF!"},{"$error":"#REF!"},{"$error":"#REF!"},{"$error":"#REF!"},{"$error":"#REF!"},{"$error":"#REF!"}]
[187,{"$f":"SUBSTITUTE(INDEX(book,ROW()),\"[\"&doc&\"]\",\"\")","v":{"$error":"#REF!"}},{"$error":"#REF!"},{"$error":"#REF!"},{"$error":"#REF!"},{"$error":"#REF!"},{"$error":"#REF!"},{"$error":"#REF!"},{"$error":"#REF!"},{"$error":"#REF!"},{"$error":"#REF!"},{"$error":"#REF!"},{"$error":"#REF!"},{"$error":"#REF!"},{"$error":"#REF!"},{"$error":"#REF!"},{"$error":"#REF!"},{"$error":"#REF!"},{"$error":"#REF!"},{"$error":"#REF!"},{"$error":"#REF!"},{"$error":"#REF!"},{"$error":"#REF!"},{"$error":"#REF!"},{"$error":"#REF!"},{"$error":"#REF!"},{"$error":"#REF!"}]
[188,{"$f":"SUBSTITUTE(INDEX(book,ROW()),\"[\"&doc&\"]\",\"\")","v":{"$error":"#REF!"}},{"$error":"#REF!"},{"$error":"#REF!"},{"$error":"#REF!"},{"$error":"#REF!"},{"$error":"#REF!"},{"$error":"#REF!"},{"$error":"#REF!"},{"$error":"#REF!"},{"$error":"#REF!"},{"$error":"#REF!"},{"$error":"#REF!"},{"$error":"#REF!"},{"$error":"#REF!"},{"$error":"#REF!"},{"$error":"#REF!"},{"$error":"#REF!"},{"$error":"#REF!"},{"$error":"#REF!"},{"$error":"#REF!"},{"$error":"#REF!"},{"$error":"#REF!"},{"$error":"#REF!"},{"$error":"#REF!"},{"$error":"#REF!"},{"$error":"#REF!"}]
[189,{"$f":"SUBSTITUTE(INDEX(book,ROW()),\"[\"&doc&\"]\",\"\")","v":{"$error":"#REF!"}},{"$error":"#REF!"},{"$error":"#REF!"},{"$error":"#REF!"},{"$error":"#REF!"},{"$error":"#REF!"},{"$error":"#REF!"},{"$error":"#REF!"},{"$error":"#REF!"},{"$error":"#REF!"},{"$error":"#REF!"},{"$error":"#REF!"},{"$error":"#REF!"},{"$error":"#REF!"},{"$error":"#REF!"},{"$error":"#REF!"},{"$error":"#REF!"},{"$error":"#REF!"},{"$error":"#REF!"},{"$error":"#REF!"},{"$error":"#REF!"},{"$error":"#REF!"},{"$error":"#REF!"},{"$error":"#REF!"},{"$error":"#REF!"},{"$error":"#REF!"}]
[190,{"$f":"SUBSTITUTE(INDEX(book,ROW()),\"[\"&doc&\"]\",\"\")","v":{"$error":"#REF!"}},{"$error":"#REF!"},{"$error":"#REF!"},{"$error":"#REF!"},{"$error":"#REF!"},{"$error":"#REF!"},{"$error":"#REF!"},{"$error":"#REF!"},{"$error":"#REF!"},{"$error":"#REF!"},{"$error":"#REF!"},{"$error":"#REF!"},{"$error":"#REF!"},{"$error":"#REF!"},{"$error":"#REF!"},{"$error":"#REF!"},{"$error":"#REF!"},{"$error":"#REF!"},{"$error":"#REF!"},{"$error":"#REF!"},{"$error":"#REF!"},{"$error":"#REF!"},{"$error":"#REF!"},{"$error":"#REF!"},{"$error":"#REF!"},{"$error":"#REF!"}]
[191,{"$f":"SUBSTITUTE(INDEX(book,ROW()),\"[\"&doc&\"]\",\"\")","v":{"$error":"#REF!"}},{"$error":"#REF!"},{"$error":"#REF!"},{"$error":"#REF!"},{"$error":"#REF!"},{"$error":"#REF!"},{"$error":"#REF!"},{"$error":"#REF!"},{"$error":"#REF!"},{"$error":"#REF!"},{"$error":"#REF!"},{"$error":"#REF!"},{"$error":"#REF!"},{"$error":"#REF!"},{"$error":"#REF!"},{"$error":"#REF!"},{"$error":"#REF!"},{"$error":"#REF!"},{"$error":"#REF!"},{"$error":"#REF!"},{"$error":"#REF!"},{"$error":"#REF!"},{"$error":"#REF!"},{"$error":"#REF!"},{"$error":"#REF!"},{"$error":"#REF!"}]
[192,{"$f":"SUBSTITUTE(INDEX(book,ROW()),\"[\"&doc&\"]\",\"\")","v":{"$error":"#REF!"}},{"$error":"#REF!"},{"$error":"#REF!"},{"$error":"#REF!"},{"$error":"#REF!"},{"$error":"#REF!"},{"$error":"#REF!"},{"$error":"#REF!"},{"$error":"#REF!"},{"$error":"#REF!"},{"$error":"#REF!"},{"$error":"#REF!"},{"$error":"#REF!"},{"$error":"#REF!"},{"$error":"#REF!"},{"$error":"#REF!"},{"$error":"#REF!"},{"$error":"#REF!"},{"$error":"#REF!"},{"$error":"#REF!"},{"$error":"#REF!"},{"$error":"#REF!"},{"$error":"#REF!"},{"$error":"#REF!"},{"$error":"#REF!"},{"$error":"#REF!"}]
[193,{"$f":"SUBSTITUTE(INDEX(book,ROW()),\"[\"&doc&\"]\",\"\")","v":{"$error":"#REF!"}},{"$error":"#REF!"},{"$error":"#REF!"},{"$error":"#REF!"},{"$error":"#REF!"},{"$error":"#REF!"},{"$error":"#REF!"},{"$error":"#REF!"},{"$error":"#REF!"},{"$error":"#REF!"},{"$error":"#REF!"},{"$error":"#REF!"},{"$error":"#REF!"},{"$error":"#REF!"},{"$error":"#REF!"},{"$error":"#REF!"},{"$error":"#REF!"},{"$error":"#REF!"},{"$error":"#REF!"},{"$error":"#REF!"},{"$error":"#REF!"},{"$error":"#REF!"},{"$error":"#REF!"},{"$error":"#REF!"},{"$error":"#REF!"},{"$error":"#REF!"}]
[194,{"$f":"SUBSTITUTE(INDEX(book,ROW()),\"[\"&doc&\"]\",\"\")","v":{"$error":"#REF!"}},{"$error":"#REF!"},{"$error":"#REF!"},{"$error":"#REF!"},{"$error":"#REF!"},{"$error":"#REF!"},{"$error":"#REF!"},{"$error":"#REF!"},{"$error":"#REF!"},{"$error":"#REF!"},{"$error":"#REF!"},{"$error":"#REF!"},{"$error":"#REF!"},{"$error":"#REF!"},{"$error":"#REF!"},{"$error":"#REF!"},{"$f":"INDIRECT(\"’\"&$B200&\"’\"&R$1)","v":{"$error":"#REF!"}},{"$error":"#REF!"},{"$error":"#REF!"},{"$error":"#REF!"},{"$error":"#REF!"},{"$error":"#REF!"},{"$error":"#REF!"},{"$error":"#REF!"},{"$error":"#REF!"},{"$error":"#REF!"}]
[195,{"$f":"SUBSTITUTE(INDEX(book,ROW()),\"[\"&doc&\"]\",\"\")","v":{"$error":"#REF!"}},{"$f":"INDIRECT(\"’\"&$B201&\"’\"&C$1)","v":{"$error":"#REF!"}},{"$error":"#REF!"},{"$error":"#REF!"},{"$error":"#REF!"},{"$error":"#REF!"},{"$error":"#REF!"},{"$error":"#REF!"},{"$error":"#REF!"},{"$error":"#REF!"},{"$error":"#REF!"},{"$error":"#REF!"},{"$error":"#REF!"},{"$error":"#REF!"},{"$error":"#REF!"},{"$error":"#REF!"},{"$error":"#REF!"},{"$error":"#REF!"},{"$error":"#REF!"},{"$error":"#REF!"},{"$error":"#REF!"},{"$error":"#REF!"},{"$error":"#REF!"},{"$error":"#REF!"},{"$error":"#REF!"},{"$error":"#REF!"}]
[196,{"$f":"SUBSTITUTE(INDEX(book,ROW()),\"[\"&doc&\"]\",\"\")","v":{"$error":"#REF!"}},{"$error":"#REF!"},{"$error":"#REF!"},{"$error":"#REF!"},{"$error":"#REF!"},{"$error":"#REF!"},{"$error":"#REF!"},{"$error":"#REF!"},{"$error":"#REF!"},{"$error":"#REF!"},{"$error":"#REF!"},{"$error":"#REF!"},{"$error":"#REF!"},{"$error":"#REF!"},{"$error":"#REF!"},{"$error":"#REF!"},{"$error":"#REF!"},{"$error":"#REF!"},{"$error":"#REF!"},{"$error":"#REF!"},{"$error":"#REF!"},{"$error":"#REF!"},{"$error":"#REF!"},{"$error":"#REF!"},{"$error":"#REF!"},{"$error":"#REF!"}]
[197,{"$f":"SUBSTITUTE(INDEX(book,ROW()),\"[\"&doc&\"]\",\"\")","v":{"$error":"#REF!"}},{"$error":"#REF!"},{"$error":"#REF!"},{"$error":"#REF!"},{"$error":"#REF!"},{"$error":"#REF!"},{"$error":"#REF!"},{"$error":"#REF!"},{"$error":"#REF!"},{"$error":"#REF!"},{"$error":"#REF!"},{"$error":"#REF!"},{"$error":"#REF!"},{"$error":"#REF!"},{"$error":"#REF!"},{"$error":"#REF!"},{"$error":"#REF!"},{"$error":"#REF!"},{"$error":"#REF!"},{"$error":"#REF!"},{"$error":"#REF!"},{"$error":"#REF!"},{"$error":"#REF!"},{"$error":"#REF!"},{"$error":"#REF!"},{"$error":"#REF!"}]
[198,{"$f":"SUBSTITUTE(INDEX(book,ROW()),\"[\"&doc&\"]\",\"\")","v":{"$error":"#REF!"}},{"$error":"#REF!"},{"$error":"#REF!"},{"$error":"#REF!"},{"$error":"#REF!"},{"$error":"#REF!"},{"$error":"#REF!"},{"$error":"#REF!"},{"$error":"#REF!"},{"$error":"#REF!"},{"$error":"#REF!"},{"$error":"#REF!"},{"$error":"#REF!"},{"$error":"#REF!"},{"$error":"#REF!"},{"$error":"#REF!"},{"$error":"#REF!"},{"$error":"#REF!"},{"$error":"#REF!"},{"$error":"#REF!"},{"$error":"#REF!"},{"$error":"#REF!"},{"$error":"#REF!"},{"$error":"#REF!"},{"$error":"#REF!"},{"$error":"#REF!"}]
[199,{"$f":"SUBSTITUTE(INDEX(book,ROW()),\"[\"&doc&\"]\",\"\")","v":{"$error":"#REF!"}},{"$error":"#REF!"},{"$error":"#REF!"},{"$error":"#REF!"},{"$error":"#REF!"},{"$error":"#REF!"},{"$error":"#REF!"},{"$error":"#REF!"},{"$error":"#REF!"},{"$error":"#REF!"},{"$error":"#REF!"},{"$error":"#REF!"},{"$error":"#REF!"},{"$error":"#REF!"},{"$error":"#REF!"},{"$error":"#REF!"},{"$error":"#REF!"},{"$error":"#REF!"},{"$error":"#REF!"},{"$error":"#REF!"},{"$error":"#REF!"},{"$error":"#REF!"},{"$error":"#REF!"},{"$error":"#REF!"},{"$error":"#REF!"},{"$error":"#REF!"}]
[200,{"$f":"SUBSTITUTE(INDEX(book,ROW()),\"[\"&doc&\"]\",\"\")","v":{"$error":"#REF!"}},{"$error":"#REF!"},{"$error":"#REF!"},{"$error":"#REF!"},{"$error":"#REF!"},{"$error":"#REF!"},{"$error":"#REF!"},{"$error":"#REF!"},{"$error":"#REF!"},{"$error":"#REF!"},{"$error":"#REF!"},{"$error":"#REF!"},{"$error":"#REF!"},{"$error":"#REF!"},{"$error":"#REF!"},{"$error":"#REF!"},{"$error":"#REF!"},{"$error":"#REF!"},{"$error":"#REF!"},{"$error":"#REF!"},{"$error":"#REF!"},{"$error":"#REF!"},{"$error":"#REF!"},{"$error":"#REF!"},{"$error":"#REF!"},{"$error":"#REF!"}]
[201,{"$f":"SUBSTITUTE(INDEX(book,ROW()),\"[\"&doc&\"]\",\"\")","v":{"$error":"#REF!"}},{"$error":"#REF!"},{"$error":"#REF!"},{"$error":"#REF!"},{"$error":"#REF!"},{"$error":"#REF!"},{"$error":"#REF!"},{"$error":"#REF!"},{"$error":"#REF!"},{"$error":"#REF!"},{"$error":"#REF!"},{"$error":"#REF!"},{"$error":"#REF!"},{"$error":"#REF!"},{"$error":"#REF!"},{"$error":"#REF!"},{"$error":"#REF!"},{"$error":"#REF!"},{"$error":"#REF!"},{"$error":"#REF!"},{"$error":"#REF!"},{"$error":"#REF!"},{"$error":"#REF!"},{"$error":"#REF!"},{"$error":"#REF!"},{"$error":"#REF!"}]
[202,{"$f":"SUBSTITUTE(INDEX(book,ROW()),\"[\"&doc&\"]\",\"\")","v":{"$error":"#REF!"}},{"$error":"#REF!"},{"$error":"#REF!"},{"$error":"#REF!"},{"$error":"#REF!"},{"$error":"#REF!"},{"$error":"#REF!"},{"$error":"#REF!"},{"$error":"#REF!"},{"$error":"#REF!"},{"$error":"#REF!"},{"$error":"#REF!"},{"$error":"#REF!"},{"$error":"#REF!"},{"$error":"#REF!"},{"$error":"#REF!"},{"$error":"#REF!"},{"$error":"#REF!"},{"$error":"#REF!"},{"$error":"#REF!"},{"$error":"#REF!"},{"$error":"#REF!"},{"$error":"#REF!"},{"$error":"#REF!"},{"$error":"#REF!"},{"$error":"#REF!"}]
[203,{"$f":"SUBSTITUTE(INDEX(book,ROW()),\"[\"&doc&\"]\",\"\")","v":{"$error":"#REF!"}},{"$error":"#REF!"},{"$error":"#REF!"},{"$error":"#REF!"},{"$error":"#REF!"},{"$error":"#REF!"},{"$error":"#REF!"},{"$error":"#REF!"},{"$error":"#REF!"},{"$error":"#REF!"},{"$error":"#REF!"},{"$error":"#REF!"},{"$error":"#REF!"},{"$error":"#REF!"},{"$error":"#REF!"},{"$error":"#REF!"},{"$error":"#REF!"},{"$error":"#REF!"},{"$error":"#REF!"},{"$error":"#REF!"},{"$error":"#REF!"},{"$error":"#REF!"},{"$error":"#REF!"},{"$error":"#REF!"},{"$error":"#REF!"},{"$error":"#REF!"}]
[204,{"$f":"SUBSTITUTE(INDEX(book,ROW()),\"[\"&doc&\"]\",\"\")","v":{"$error":"#REF!"}},{"$error":"#REF!"},{"$error":"#REF!"},{"$error":"#REF!"},{"$error":"#REF!"},{"$error":"#REF!"},{"$error":"#REF!"},{"$error":"#REF!"},{"$error":"#REF!"},{"$error":"#REF!"},{"$error":"#REF!"},{"$error":"#REF!"},{"$error":"#REF!"},{"$error":"#REF!"},{"$error":"#REF!"},{"$error":"#REF!"},{"$error":"#REF!"},{"$error":"#REF!"},{"$error":"#REF!"},{"$error":"#REF!"},{"$error":"#REF!"},{"$error":"#REF!"},{"$error":"#REF!"},{"$error":"#REF!"},{"$error":"#REF!"},{"$error":"#REF!"}]
[205,{"$f":"SUBSTITUTE(INDEX(book,ROW()),\"[\"&doc&\"]\",\"\")","v":{"$error":"#REF!"}},{"$error":"#REF!"},{"$error":"#REF!"},{"$error":"#REF!"},{"$error":"#REF!"},{"$error":"#REF!"},{"$error":"#REF!"},{"$error":"#REF!"},{"$error":"#REF!"},{"$error":"#REF!"},{"$error":"#REF!"},{"$error":"#REF!"},{"$error":"#REF!"},{"$error":"#REF!"},{"$error":"#REF!"},{"$error":"#REF!"},{"$error":"#REF!"},{"$error":"#REF!"},{"$error":"#REF!"},{"$error":"#REF!"},{"$error":"#REF!"},{"$error":"#REF!"},{"$error":"#REF!"},{"$error":"#REF!"},{"$error":"#REF!"},{"$error":"#REF!"}]
[206,{"$f":"SUBSTITUTE(INDEX(book,ROW()),\"[\"&doc&\"]\",\"\")","v":{"$error":"#REF!"}},{"$error":"#REF!"},{"$error":"#REF!"},{"$error":"#REF!"},{"$error":"#REF!"},{"$error":"#REF!"},{"$error":"#REF!"},{"$error":"#REF!"},{"$error":"#REF!"},{"$error":"#REF!"},{"$error":"#REF!"},{"$error":"#REF!"},{"$error":"#REF!"},{"$error":"#REF!"},{"$error":"#REF!"},{"$error":"#REF!"},{"$error":"#REF!"},{"$error":"#REF!"},{"$error":"#REF!"},{"$error":"#REF!"},{"$error":"#REF!"},{"$error":"#REF!"},{"$error":"#REF!"},{"$error":"#REF!"},{"$error":"#REF!"},{"$error":"#REF!"}]
[207,{"$f":"SUBSTITUTE(INDEX(book,ROW()),\"[\"&doc&\"]\",\"\")","v":{"$error":"#REF!"}},{"$error":"#REF!"},{"$error":"#REF!"},{"$error":"#REF!"},{"$error":"#REF!"},{"$error":"#REF!"},{"$error":"#REF!"},{"$error":"#REF!"},{"$error":"#REF!"},{"$error":"#REF!"},{"$error":"#REF!"},{"$error":"#REF!"},{"$error":"#REF!"},{"$error":"#REF!"},{"$error":"#REF!"},{"$error":"#REF!"},{"$error":"#REF!"},{"$error":"#REF!"},{"$error":"#REF!"},{"$error":"#REF!"},{"$error":"#REF!"},{"$error":"#REF!"},{"$error":"#REF!"},{"$error":"#REF!"},{"$error":"#REF!"},{"$error":"#REF!"}]
[208,{"$f":"SUBSTITUTE(INDEX(book,ROW()),\"[\"&doc&\"]\",\"\")","v":{"$error":"#REF!"}},{"$error":"#REF!"},{"$error":"#REF!"},{"$error":"#REF!"},{"$error":"#REF!"},{"$error":"#REF!"},{"$error":"#REF!"},{"$error":"#REF!"},{"$error":"#REF!"},{"$error":"#REF!"},{"$error":"#REF!"},{"$error":"#REF!"},{"$error":"#REF!"},{"$error":"#REF!"},{"$error":"#REF!"},{"$error":"#REF!"},{"$error":"#REF!"},{"$error":"#REF!"},{"$error":"#REF!"},{"$error":"#REF!"},{"$error":"#REF!"},{"$error":"#REF!"},{"$error":"#REF!"},{"$error":"#REF!"},{"$error":"#REF!"},{"$error":"#REF!"}]
[209,{"$f":"SUBSTITUTE(INDEX(book,ROW()),\"[\"&doc&\"]\",\"\")","v":{"$error":"#REF!"}},{"$error":"#REF!"},{"$error":"#REF!"},{"$error":"#REF!"},{"$error":"#REF!"},{"$error":"#REF!"},{"$error":"#REF!"},{"$error":"#REF!"},{"$error":"#REF!"},{"$error":"#REF!"},{"$error":"#REF!"},{"$error":"#REF!"},{"$error":"#REF!"},{"$error":"#REF!"},{"$error":"#REF!"},{"$error":"#REF!"},{"$error":"#REF!"},{"$error":"#REF!"},{"$error":"#REF!"},{"$error":"#REF!"},{"$error":"#REF!"},{"$error":"#REF!"},{"$error":"#REF!"},{"$error":"#REF!"},{"$error":"#REF!"},{"$error":"#REF!"}]
[210,{"$f":"SUBSTITUTE(INDEX(book,ROW()),\"[\"&doc&\"]\",\"\")","v":{"$error":"#REF!"}},{"$error":"#REF!"},{"$error":"#REF!"},{"$error":"#REF!"},{"$error":"#REF!"},{"$error":"#REF!"},{"$error":"#REF!"},{"$error":"#REF!"},{"$error":"#REF!"},{"$error":"#REF!"},{"$error":"#REF!"},{"$error":"#REF!"},{"$error":"#REF!"},{"$error":"#REF!"},{"$error":"#REF!"},{"$error":"#REF!"},{"$f":"INDIRECT(\"’\"&$B216&\"’\"&R$1)","v":{"$error":"#REF!"}},{"$error":"#REF!"},{"$error":"#REF!"},{"$error":"#REF!"},{"$error":"#REF!"},{"$error":"#REF!"},{"$error":"#REF!"},{"$error":"#REF!"},{"$error":"#REF!"},{"$error":"#REF!"}]
[211,{"$f":"SUBSTITUTE(INDEX(book,ROW()),\"[\"&doc&\"]\",\"\")","v":{"$error":"#REF!"}},{"$f":"INDIRECT(\"’\"&$B217&\"’\"&C$1)","v":{"$error":"#REF!"}},{"$error":"#REF!"},{"$error":"#REF!"},{"$error":"#REF!"},{"$error":"#REF!"},{"$error":"#REF!"},{"$error":"#REF!"},{"$error":"#REF!"},{"$error":"#REF!"},{"$error":"#REF!"},{"$error":"#REF!"},{"$error":"#REF!"},{"$error":"#REF!"},{"$error":"#REF!"},{"$error":"#REF!"},{"$error":"#REF!"},{"$error":"#REF!"},{"$error":"#REF!"},{"$error":"#REF!"},{"$error":"#REF!"},{"$error":"#REF!"},{"$error":"#REF!"},{"$error":"#REF!"},{"$error":"#REF!"},{"$error":"#REF!"}]
[212,{"$f":"SUBSTITUTE(INDEX(book,ROW()),\"[\"&doc&\"]\",\"\")","v":{"$error":"#REF!"}},{"$error":"#REF!"},{"$error":"#REF!"},{"$error":"#REF!"},{"$error":"#REF!"},{"$error":"#REF!"},{"$error":"#REF!"},{"$error":"#REF!"},{"$error":"#REF!"},{"$error":"#REF!"},{"$error":"#REF!"},{"$error":"#REF!"},{"$error":"#REF!"},{"$error":"#REF!"},{"$error":"#REF!"},{"$error":"#REF!"},{"$error":"#REF!"},{"$error":"#REF!"},{"$error":"#REF!"},{"$error":"#REF!"},{"$error":"#REF!"},{"$error":"#REF!"},{"$error":"#REF!"},{"$error":"#REF!"},{"$error":"#REF!"},{"$error":"#REF!"}]
[213,{"$f":"SUBSTITUTE(INDEX(book,ROW()),\"[\"&doc&\"]\",\"\")","v":{"$error":"#REF!"}},{"$error":"#REF!"},{"$error":"#REF!"},{"$error":"#REF!"},{"$error":"#REF!"},{"$error":"#REF!"},{"$error":"#REF!"},{"$error":"#REF!"},{"$error":"#REF!"},{"$error":"#REF!"},{"$error":"#REF!"},{"$error":"#REF!"},{"$error":"#REF!"},{"$error":"#REF!"},{"$error":"#REF!"},{"$error":"#REF!"},{"$error":"#REF!"},{"$error":"#REF!"},{"$error":"#REF!"},{"$error":"#REF!"},{"$error":"#REF!"},{"$error":"#REF!"},{"$error":"#REF!"},{"$error":"#REF!"},{"$error":"#REF!"},{"$error":"#REF!"}]
[214,{"$f":"SUBSTITUTE(INDEX(book,ROW()),\"[\"&doc&\"]\",\"\")","v":{"$error":"#REF!"}},{"$error":"#REF!"},{"$error":"#REF!"},{"$error":"#REF!"},{"$error":"#REF!"},{"$error":"#REF!"},{"$error":"#REF!"},{"$error":"#REF!"},{"$error":"#REF!"},{"$error":"#REF!"},{"$error":"#REF!"},{"$error":"#REF!"},{"$error":"#REF!"},{"$error":"#REF!"},{"$error":"#REF!"},{"$error":"#REF!"},{"$error":"#REF!"},{"$error":"#REF!"},{"$error":"#REF!"},{"$error":"#REF!"},{"$error":"#REF!"},{"$error":"#REF!"},{"$error":"#REF!"},{"$error":"#REF!"},{"$error":"#REF!"},{"$error":"#REF!"}]
[215,{"$f":"SUBSTITUTE(INDEX(book,ROW()),\"[\"&doc&\"]\",\"\")","v":{"$error":"#REF!"}},{"$error":"#REF!"},{"$error":"#REF!"},{"$error":"#REF!"},{"$error":"#REF!"},{"$error":"#REF!"},{"$error":"#REF!"},{"$error":"#REF!"},{"$error":"#REF!"},{"$error":"#REF!"},{"$error":"#REF!"},{"$error":"#REF!"},{"$error":"#REF!"},{"$error":"#REF!"},{"$error":"#REF!"},{"$error":"#REF!"},{"$error":"#REF!"},{"$error":"#REF!"},{"$error":"#REF!"},{"$error":"#REF!"},{"$error":"#REF!"},{"$error":"#REF!"},{"$error":"#REF!"},{"$error":"#REF!"},{"$error":"#REF!"},{"$error":"#REF!"}]
[216,{"$f":"SUBSTITUTE(INDEX(book,ROW()),\"[\"&doc&\"]\",\"\")","v":{"$error":"#REF!"}},{"$error":"#REF!"},{"$error":"#REF!"},{"$error":"#REF!"},{"$error":"#REF!"},{"$error":"#REF!"},{"$error":"#REF!"},{"$error":"#REF!"},{"$error":"#REF!"},{"$error":"#REF!"},{"$error":"#REF!"},{"$error":"#REF!"},{"$error":"#REF!"},{"$error":"#REF!"},{"$error":"#REF!"},{"$error":"#REF!"},{"$error":"#REF!"},{"$error":"#REF!"},{"$error":"#REF!"},{"$error":"#REF!"},{"$error":"#REF!"},{"$error":"#REF!"},{"$error":"#REF!"},{"$error":"#REF!"},{"$error":"#REF!"},{"$error":"#REF!"}]
[217,{"$f":"SUBSTITUTE(INDEX(book,ROW()),\"[\"&doc&\"]\",\"\")","v":{"$error":"#REF!"}},{"$error":"#REF!"},{"$error":"#REF!"},{"$error":"#REF!"},{"$error":"#REF!"},{"$error":"#REF!"},{"$error":"#REF!"},{"$error":"#REF!"},{"$error":"#REF!"},{"$error":"#REF!"},{"$error":"#REF!"},{"$error":"#REF!"},{"$error":"#REF!"},{"$error":"#REF!"},{"$error":"#REF!"},{"$error":"#REF!"},{"$error":"#REF!"},{"$error":"#REF!"},{"$error":"#REF!"},{"$error":"#REF!"},{"$error":"#REF!"},{"$error":"#REF!"},{"$error":"#REF!"},{"$error":"#REF!"},{"$error":"#REF!"},{"$error":"#REF!"}]
[218,{"$f":"SUBSTITUTE(INDEX(book,ROW()),\"[\"&doc&\"]\",\"\")","v":{"$error":"#REF!"}},{"$error":"#REF!"},{"$error":"#REF!"},{"$error":"#REF!"},{"$error":"#REF!"},{"$error":"#REF!"},{"$error":"#REF!"},{"$error":"#REF!"},{"$error":"#REF!"},{"$error":"#REF!"},{"$error":"#REF!"},{"$error":"#REF!"},{"$error":"#REF!"},{"$error":"#REF!"},{"$error":"#REF!"},{"$error":"#REF!"},{"$error":"#REF!"},{"$error":"#REF!"},{"$error":"#REF!"},{"$error":"#REF!"},{"$error":"#REF!"},{"$error":"#REF!"},{"$error":"#REF!"},{"$error":"#REF!"},{"$error":"#REF!"},{"$error":"#REF!"}]
[219,{"$f":"SUBSTITUTE(INDEX(book,ROW()),\"[\"&doc&\"]\",\"\")","v":{"$error":"#REF!"}},{"$error":"#REF!"},{"$error":"#REF!"},{"$error":"#REF!"},{"$error":"#REF!"},{"$error":"#REF!"},{"$error":"#REF!"},{"$error":"#REF!"},{"$error":"#REF!"},{"$error":"#REF!"},{"$error":"#REF!"},{"$error":"#REF!"},{"$error":"#REF!"},{"$error":"#REF!"},{"$error":"#REF!"},{"$error":"#REF!"},{"$error":"#REF!"},{"$error":"#REF!"},{"$error":"#REF!"},{"$error":"#REF!"},{"$error":"#REF!"},{"$error":"#REF!"},{"$error":"#REF!"},{"$error":"#REF!"},{"$error":"#REF!"},{"$error":"#REF!"}]
[220,{"$f":"SUBSTITUTE(INDEX(book,ROW()),\"[\"&doc&\"]\",\"\")","v":{"$error":"#REF!"}},{"$error":"#REF!"},{"$error":"#REF!"},{"$error":"#REF!"},{"$error":"#REF!"},{"$error":"#REF!"},{"$error":"#REF!"},{"$error":"#REF!"},{"$error":"#REF!"},{"$error":"#REF!"},{"$error":"#REF!"},{"$error":"#REF!"},{"$error":"#REF!"},{"$error":"#REF!"},{"$error":"#REF!"},{"$error":"#REF!"},{"$error":"#REF!"},{"$error":"#REF!"},{"$error":"#REF!"},{"$error":"#REF!"},{"$error":"#REF!"},{"$error":"#REF!"},{"$error":"#REF!"},{"$error":"#REF!"},{"$error":"#REF!"},{"$error":"#REF!"}]
[221,{"$f":"SUBSTITUTE(INDEX(book,ROW()),\"[\"&doc&\"]\",\"\")","v":{"$error":"#REF!"}},{"$error":"#REF!"},{"$error":"#REF!"},{"$error":"#REF!"},{"$error":"#REF!"},{"$error":"#REF!"},{"$error":"#REF!"},{"$error":"#REF!"},{"$error":"#REF!"},{"$error":"#REF!"},{"$error":"#REF!"},{"$error":"#REF!"},{"$error":"#REF!"},{"$error":"#REF!"},{"$error":"#REF!"},{"$error":"#REF!"},{"$error":"#REF!"},{"$error":"#REF!"},{"$error":"#REF!"},{"$error":"#REF!"},{"$error":"#REF!"},{"$error":"#REF!"},{"$error":"#REF!"},{"$error":"#REF!"},{"$error":"#REF!"},{"$error":"#REF!"}]
[222,{"$f":"SUBSTITUTE(INDEX(book,ROW()),\"[\"&doc&\"]\",\"\")","v":{"$error":"#REF!"}},{"$error":"#REF!"},{"$error":"#REF!"},{"$error":"#REF!"},{"$error":"#REF!"},{"$error":"#REF!"},{"$error":"#REF!"},{"$error":"#REF!"},{"$error":"#REF!"},{"$error":"#REF!"},{"$error":"#REF!"},{"$error":"#REF!"},{"$error":"#REF!"},{"$error":"#REF!"},{"$error":"#REF!"},{"$error":"#REF!"},{"$error":"#REF!"},{"$error":"#REF!"},{"$error":"#REF!"},{"$error":"#REF!"},{"$error":"#REF!"},{"$error":"#REF!"},{"$error":"#REF!"},{"$error":"#REF!"},{"$error":"#REF!"},{"$error":"#REF!"}]
[223,{"$f":"SUBSTITUTE(INDEX(book,ROW()),\"[\"&doc&\"]\",\"\")","v":{"$error":"#REF!"}},{"$error":"#REF!"},{"$error":"#REF!"},{"$error":"#REF!"},{"$error":"#REF!"},{"$error":"#REF!"},{"$error":"#REF!"},{"$error":"#REF!"},{"$error":"#REF!"},{"$error":"#REF!"},{"$error":"#REF!"},{"$error":"#REF!"},{"$error":"#REF!"},{"$error":"#REF!"},{"$error":"#REF!"},{"$error":"#REF!"},{"$error":"#REF!"},{"$error":"#REF!"},{"$error":"#REF!"},{"$error":"#REF!"},{"$error":"#REF!"},{"$error":"#REF!"},{"$error":"#REF!"},{"$error":"#REF!"},{"$error":"#REF!"},{"$error":"#REF!"}]
[224,{"$f":"SUBSTITUTE(INDEX(book,ROW()),\"[\"&doc&\"]\",\"\")","v":{"$error":"#REF!"}},{"$error":"#REF!"},{"$error":"#REF!"},{"$error":"#REF!"},{"$error":"#REF!"},{"$error":"#REF!"},{"$error":"#REF!"},{"$error":"#REF!"},{"$error":"#REF!"},{"$error":"#REF!"},{"$error":"#REF!"},{"$error":"#REF!"},{"$error":"#REF!"},{"$error":"#REF!"},{"$error":"#REF!"},{"$error":"#REF!"},{"$error":"#REF!"},{"$error":"#REF!"},{"$error":"#REF!"},{"$error":"#REF!"},{"$error":"#REF!"},{"$error":"#REF!"},{"$error":"#REF!"},{"$error":"#REF!"},{"$error":"#REF!"},{"$error":"#REF!"}]
[225,{"$f":"SUBSTITUTE(INDEX(book,ROW()),\"[\"&doc&\"]\",\"\")","v":{"$error":"#REF!"}},{"$error":"#REF!"},{"$error":"#REF!"},{"$error":"#REF!"},{"$error":"#REF!"},{"$error":"#REF!"},{"$error":"#REF!"},{"$error":"#REF!"},{"$error":"#REF!"},{"$error":"#REF!"},{"$error":"#REF!"},{"$error":"#REF!"},{"$error":"#REF!"},{"$error":"#REF!"},{"$error":"#REF!"},{"$error":"#REF!"},{"$error":"#REF!"},{"$error":"#REF!"},{"$error":"#REF!"},{"$error":"#REF!"},{"$error":"#REF!"},{"$error":"#REF!"},{"$error":"#REF!"},{"$error":"#REF!"},{"$error":"#REF!"},{"$error":"#REF!"}]
[226,{"$f":"SUBSTITUTE(INDEX(book,ROW()),\"[\"&doc&\"]\",\"\")","v":{"$error":"#REF!"}},{"$error":"#REF!"},{"$error":"#REF!"},{"$error":"#REF!"},{"$error":"#REF!"},{"$error":"#REF!"},{"$error":"#REF!"},{"$error":"#REF!"},{"$error":"#REF!"},{"$error":"#REF!"},{"$error":"#REF!"},{"$error":"#REF!"},{"$error":"#REF!"},{"$error":"#REF!"},{"$error":"#REF!"},{"$error":"#REF!"},{"$f":"INDIRECT(\"’\"&$B232&\"’\"&R$1)","v":{"$error":"#REF!"}},{"$error":"#REF!"},{"$error":"#REF!"},{"$error":"#REF!"},{"$error":"#REF!"},{"$error":"#REF!"},{"$error":"#REF!"},{"$error":"#REF!"},{"$error":"#REF!"},{"$error":"#REF!"}]
[227,{"$f":"SUBSTITUTE(INDEX(book,ROW()),\"[\"&doc&\"]\",\"\")","v":{"$error":"#REF!"}},{"$f":"INDIRECT(\"’\"&$B233&\"’\"&C$1)","v":{"$error":"#REF!"}},{"$error":"#REF!"},{"$error":"#REF!"},{"$error":"#REF!"},{"$error":"#REF!"},{"$error":"#REF!"},{"$error":"#REF!"},{"$error":"#REF!"},{"$error":"#REF!"},{"$error":"#REF!"},{"$error":"#REF!"},{"$error":"#REF!"},{"$error":"#REF!"},{"$error":"#REF!"},{"$error":"#REF!"},{"$error":"#REF!"},{"$error":"#REF!"},{"$error":"#REF!"},{"$error":"#REF!"},{"$error":"#REF!"},{"$error":"#REF!"},{"$error":"#REF!"},{"$error":"#REF!"},{"$error":"#REF!"},{"$error":"#REF!"}]
[228,{"$f":"SUBSTITUTE(INDEX(book,ROW()),\"[\"&doc&\"]\",\"\")","v":{"$error":"#REF!"}},{"$error":"#REF!"},{"$error":"#REF!"},{"$error":"#REF!"},{"$error":"#REF!"},{"$error":"#REF!"},{"$error":"#REF!"},{"$error":"#REF!"},{"$error":"#REF!"},{"$error":"#REF!"},{"$error":"#REF!"},{"$error":"#REF!"},{"$error":"#REF!"},{"$error":"#REF!"},{"$error":"#REF!"},{"$error":"#REF!"},{"$error":"#REF!"},{"$error":"#REF!"},{"$error":"#REF!"},{"$error":"#REF!"},{"$error":"#REF!"},{"$error":"#REF!"},{"$error":"#REF!"},{"$error":"#REF!"},{"$error":"#REF!"},{"$error":"#REF!"}]
[229,{"$f":"SUBSTITUTE(INDEX(book,ROW()),\"[\"&doc&\"]\",\"\")","v":{"$error":"#REF!"}},{"$error":"#REF!"},{"$error":"#REF!"},{"$error":"#REF!"},{"$error":"#REF!"},{"$error":"#REF!"},{"$error":"#REF!"},{"$error":"#REF!"},{"$error":"#REF!"},{"$error":"#REF!"},{"$error":"#REF!"},{"$error":"#REF!"},{"$error":"#REF!"},{"$error":"#REF!"},{"$error":"#REF!"},{"$error":"#REF!"},{"$error":"#REF!"},{"$error":"#REF!"},{"$error":"#REF!"},{"$error":"#REF!"},{"$error":"#REF!"},{"$error":"#REF!"},{"$error":"#REF!"},{"$error":"#REF!"},{"$error":"#REF!"},{"$error":"#REF!"}]
[230,{"$f":"SUBSTITUTE(INDEX(book,ROW()),\"[\"&doc&\"]\",\"\")","v":{"$error":"#REF!"}},{"$error":"#REF!"},{"$error":"#REF!"},{"$error":"#REF!"},{"$error":"#REF!"},{"$error":"#REF!"},{"$error":"#REF!"},{"$error":"#REF!"},{"$error":"#REF!"},{"$error":"#REF!"},{"$error":"#REF!"},{"$error":"#REF!"},{"$error":"#REF!"},{"$error":"#REF!"},{"$error":"#REF!"},{"$error":"#REF!"},{"$error":"#REF!"},{"$error":"#REF!"},{"$error":"#REF!"},{"$error":"#REF!"},{"$error":"#REF!"},{"$error":"#REF!"},{"$error":"#REF!"},{"$error":"#REF!"},{"$error":"#REF!"},{"$error":"#REF!"}]
[231,{"$f":"SUBSTITUTE(INDEX(book,ROW()),\"[\"&doc&\"]\",\"\")","v":{"$error":"#REF!"}},{"$error":"#REF!"},{"$error":"#REF!"},{"$error":"#REF!"},{"$error":"#REF!"},{"$error":"#REF!"},{"$error":"#REF!"},{"$error":"#REF!"},{"$error":"#REF!"},{"$error":"#REF!"},{"$error":"#REF!"},{"$error":"#REF!"},{"$error":"#REF!"},{"$error":"#REF!"},{"$error":"#REF!"},{"$error":"#REF!"},{"$error":"#REF!"},{"$error":"#REF!"},{"$error":"#REF!"},{"$error":"#REF!"},{"$error":"#REF!"},{"$error":"#REF!"},{"$error":"#REF!"},{"$error":"#REF!"},{"$error":"#REF!"},{"$error":"#REF!"}]
[232,{"$f":"SUBSTITUTE(INDEX(book,ROW()),\"[\"&doc&\"]\",\"\")","v":{"$error":"#REF!"}},{"$error":"#REF!"},{"$error":"#REF!"},{"$error":"#REF!"},{"$error":"#REF!"},{"$error":"#REF!"},{"$error":"#REF!"},{"$error":"#REF!"},{"$error":"#REF!"},{"$error":"#REF!"},{"$error":"#REF!"},{"$error":"#REF!"},{"$error":"#REF!"},{"$error":"#REF!"},{"$error":"#REF!"},{"$error":"#REF!"},{"$error":"#REF!"},{"$error":"#REF!"},{"$error":"#REF!"},{"$error":"#REF!"},{"$error":"#REF!"},{"$error":"#REF!"},{"$error":"#REF!"},{"$error":"#REF!"},{"$error":"#REF!"},{"$error":"#REF!"}]
[233,{"$f":"SUBSTITUTE(INDEX(book,ROW()),\"[\"&doc&\"]\",\"\")","v":{"$error":"#REF!"}},{"$error":"#REF!"},{"$error":"#REF!"},{"$error":"#REF!"},{"$error":"#REF!"},{"$error":"#REF!"},{"$error":"#REF!"},{"$error":"#REF!"},{"$error":"#REF!"},{"$error":"#REF!"},{"$error":"#REF!"},{"$error":"#REF!"},{"$error":"#REF!"},{"$error":"#REF!"},{"$error":"#REF!"},{"$error":"#REF!"},{"$error":"#REF!"},{"$error":"#REF!"},{"$error":"#REF!"},{"$error":"#REF!"},{"$error":"#REF!"},{"$error":"#REF!"},{"$error":"#REF!"},{"$error":"#REF!"},{"$error":"#REF!"},{"$error":"#REF!"}]
[234,{"$f":"SUBSTITUTE(INDEX(book,ROW()),\"[\"&doc&\"]\",\"\")","v":{"$error":"#REF!"}},{"$error":"#REF!"},{"$error":"#REF!"},{"$error":"#REF!"},{"$error":"#REF!"},{"$error":"#REF!"},{"$error":"#REF!"},{"$error":"#REF!"},{"$error":"#REF!"},{"$error":"#REF!"},{"$error":"#REF!"},{"$error":"#REF!"},{"$error":"#REF!"},{"$error":"#REF!"},{"$error":"#REF!"},{"$error":"#REF!"},{"$error":"#REF!"},{"$error":"#REF!"},{"$error":"#REF!"},{"$error":"#REF!"},{"$error":"#REF!"},{"$error":"#REF!"},{"$error":"#REF!"},{"$error":"#REF!"},{"$error":"#REF!"},{"$error":"#REF!"}]
[235,{"$f":"SUBSTITUTE(INDEX(book,ROW()),\"[\"&doc&\"]\",\"\")","v":{"$error":"#REF!"}},{"$error":"#REF!"},{"$error":"#REF!"},{"$error":"#REF!"},{"$error":"#REF!"},{"$error":"#REF!"},{"$error":"#REF!"},{"$error":"#REF!"},{"$error":"#REF!"},{"$error":"#REF!"},{"$error":"#REF!"},{"$error":"#REF!"},{"$error":"#REF!"},{"$error":"#REF!"},{"$error":"#REF!"},{"$error":"#REF!"},{"$error":"#REF!"},{"$error":"#REF!"},{"$error":"#REF!"},{"$error":"#REF!"},{"$error":"#REF!"},{"$error":"#REF!"},{"$error":"#REF!"},{"$error":"#REF!"},{"$error":"#REF!"},{"$error":"#REF!"}]
[236,{"$f":"SUBSTITUTE(INDEX(book,ROW()),\"[\"&doc&\"]\",\"\")","v":{"$error":"#REF!"}},{"$error":"#REF!"},{"$error":"#REF!"},{"$error":"#REF!"},{"$error":"#REF!"},{"$error":"#REF!"},{"$error":"#REF!"},{"$error":"#REF!"},{"$error":"#REF!"},{"$error":"#REF!"},{"$error":"#REF!"},{"$error":"#REF!"},{"$error":"#REF!"},{"$error":"#REF!"},{"$error":"#REF!"},{"$error":"#REF!"},{"$error":"#REF!"},{"$error":"#REF!"},{"$error":"#REF!"},{"$error":"#REF!"},{"$error":"#REF!"},{"$error":"#REF!"},{"$error":"#REF!"},{"$error":"#REF!"},{"$error":"#REF!"},{"$error":"#REF!"}]
[237,{"$f":"SUBSTITUTE(INDEX(book,ROW()),\"[\"&doc&\"]\",\"\")","v":{"$error":"#REF!"}},{"$error":"#REF!"},{"$error":"#REF!"},{"$error":"#REF!"},{"$error":"#REF!"},{"$error":"#REF!"},{"$error":"#REF!"},{"$error":"#REF!"},{"$error":"#REF!"},{"$error":"#REF!"},{"$error":"#REF!"},{"$error":"#REF!"},{"$error":"#REF!"},{"$error":"#REF!"},{"$error":"#REF!"},{"$error":"#REF!"},{"$error":"#REF!"},{"$error":"#REF!"},{"$error":"#REF!"},{"$error":"#REF!"},{"$error":"#REF!"},{"$error":"#REF!"},{"$error":"#REF!"},{"$error":"#REF!"},{"$error":"#REF!"},{"$error":"#REF!"}]
[238,{"$f":"SUBSTITUTE(INDEX(book,ROW()),\"[\"&doc&\"]\",\"\")","v":{"$error":"#REF!"}},{"$error":"#REF!"},{"$error":"#REF!"},{"$error":"#REF!"},{"$error":"#REF!"},{"$error":"#REF!"},{"$error":"#REF!"},{"$error":"#REF!"},{"$error":"#REF!"},{"$error":"#REF!"},{"$error":"#REF!"},{"$error":"#REF!"},{"$error":"#REF!"},{"$error":"#REF!"},{"$error":"#REF!"},{"$error":"#REF!"},{"$error":"#REF!"},{"$error":"#REF!"},{"$error":"#REF!"},{"$error":"#REF!"},{"$error":"#REF!"},{"$error":"#REF!"},{"$error":"#REF!"},{"$error":"#REF!"},{"$error":"#REF!"},{"$error":"#REF!"}]
[239,{"$f":"SUBSTITUTE(INDEX(book,ROW()),\"[\"&doc&\"]\",\"\")","v":{"$error":"#REF!"}},{"$error":"#REF!"},{"$error":"#REF!"},{"$error":"#REF!"},{"$error":"#REF!"},{"$error":"#REF!"},{"$error":"#REF!"},{"$error":"#REF!"},{"$error":"#REF!"},{"$error":"#REF!"},{"$error":"#REF!"},{"$error":"#REF!"},{"$error":"#REF!"},{"$error":"#REF!"},{"$error":"#REF!"},{"$error":"#REF!"},{"$error":"#REF!"},{"$error":"#REF!"},{"$error":"#REF!"},{"$error":"#REF!"},{"$error":"#REF!"},{"$error":"#REF!"},{"$error":"#REF!"},{"$error":"#REF!"},{"$error":"#REF!"},{"$error":"#REF!"}]
[240,{"$f":"SUBSTITUTE(INDEX(book,ROW()),\"[\"&doc&\"]\",\"\")","v":{"$error":"#REF!"}},{"$error":"#REF!"},{"$error":"#REF!"},{"$error":"#REF!"},{"$error":"#REF!"},{"$error":"#REF!"},{"$error":"#REF!"},{"$error":"#REF!"},{"$error":"#REF!"},{"$error":"#REF!"},{"$error":"#REF!"},{"$error":"#REF!"},{"$error":"#REF!"},{"$error":"#REF!"},{"$error":"#REF!"},{"$error":"#REF!"},{"$error":"#REF!"},{"$error":"#REF!"},{"$error":"#REF!"},{"$error":"#REF!"},{"$error":"#REF!"},{"$error":"#REF!"},{"$error":"#REF!"},{"$error":"#REF!"},{"$error":"#REF!"},{"$error":"#REF!"}]
[241,{"$f":"SUBSTITUTE(INDEX(book,ROW()),\"[\"&doc&\"]\",\"\")","v":{"$error":"#REF!"}},{"$error":"#REF!"},{"$error":"#REF!"},{"$error":"#REF!"},{"$error":"#REF!"},{"$error":"#REF!"},{"$error":"#REF!"},{"$error":"#REF!"},{"$error":"#REF!"},{"$error":"#REF!"},{"$error":"#REF!"},{"$error":"#REF!"},{"$error":"#REF!"},{"$error":"#REF!"},{"$error":"#REF!"},{"$error":"#REF!"},{"$error":"#REF!"},{"$error":"#REF!"},{"$error":"#REF!"},{"$error":"#REF!"},{"$error":"#REF!"},{"$error":"#REF!"},{"$error":"#REF!"},{"$error":"#REF!"},{"$error":"#REF!"},{"$error":"#REF!"}]
[242,{"$f":"SUBSTITUTE(INDEX(book,ROW()),\"[\"&doc&\"]\",\"\")","v":{"$error":"#REF!"}},{"$error":"#REF!"},{"$error":"#REF!"},{"$error":"#REF!"},{"$error":"#REF!"},{"$error":"#REF!"},{"$error":"#REF!"},{"$error":"#REF!"},{"$error":"#REF!"},{"$error":"#REF!"},{"$error":"#REF!"},{"$error":"#REF!"},{"$error":"#REF!"},{"$error":"#REF!"},{"$error":"#REF!"},{"$error":"#REF!"},{"$f":"INDIRECT(\"’\"&$B248&\"’\"&R$1)","v":{"$error":"#REF!"}},{"$error":"#REF!"},{"$error":"#REF!"},{"$error":"#REF!"},{"$error":"#REF!"},{"$error":"#REF!"},{"$error":"#REF!"},{"$error":"#REF!"},{"$error":"#REF!"},{"$error":"#REF!"}]
[243,{"$f":"SUBSTITUTE(INDEX(book,ROW()),\"[\"&doc&\"]\",\"\")","v":{"$error":"#REF!"}},{"$f":"INDIRECT(\"’\"&$B249&\"’\"&C$1)","v":{"$error":"#REF!"}},{"$error":"#REF!"},{"$error":"#REF!"},{"$error":"#REF!"},{"$error":"#REF!"},{"$error":"#REF!"},{"$error":"#REF!"},{"$error":"#REF!"},{"$error":"#REF!"},{"$error":"#REF!"},{"$error":"#REF!"},{"$error":"#REF!"},{"$error":"#REF!"},{"$error":"#REF!"},{"$error":"#REF!"},{"$error":"#REF!"},{"$error":"#REF!"},{"$error":"#REF!"},{"$error":"#REF!"},{"$error":"#REF!"},{"$error":"#REF!"},{"$error":"#REF!"},{"$error":"#REF!"},{"$error":"#REF!"},{"$error":"#REF!"}]
[244,{"$f":"SUBSTITUTE(INDEX(book,ROW()),\"[\"&doc&\"]\",\"\")","v":{"$error":"#REF!"}},{"$error":"#REF!"},{"$error":"#REF!"},{"$error":"#REF!"},{"$error":"#REF!"},{"$error":"#REF!"},{"$error":"#REF!"},{"$error":"#REF!"},{"$error":"#REF!"},{"$error":"#REF!"},{"$error":"#REF!"},{"$error":"#REF!"},{"$error":"#REF!"},{"$error":"#REF!"},{"$error":"#REF!"},{"$error":"#REF!"},{"$error":"#REF!"},{"$error":"#REF!"},{"$error":"#REF!"},{"$error":"#REF!"},{"$error":"#REF!"},{"$error":"#REF!"},{"$error":"#REF!"},{"$error":"#REF!"},{"$error":"#REF!"},{"$error":"#REF!"}]
[245,{"$f":"SUBSTITUTE(INDEX(book,ROW()),\"[\"&doc&\"]\",\"\")","v":{"$error":"#REF!"}},{"$error":"#REF!"},{"$error":"#REF!"},{"$error":"#REF!"},{"$error":"#REF!"},{"$error":"#REF!"},{"$error":"#REF!"},{"$error":"#REF!"},{"$error":"#REF!"},{"$error":"#REF!"},{"$error":"#REF!"},{"$error":"#REF!"},{"$error":"#REF!"},{"$error":"#REF!"},{"$error":"#REF!"},{"$error":"#REF!"},{"$error":"#REF!"},{"$error":"#REF!"},{"$error":"#REF!"},{"$error":"#REF!"},{"$error":"#REF!"},{"$error":"#REF!"},{"$error":"#REF!"},{"$error":"#REF!"},{"$error":"#REF!"},{"$error":"#REF!"}]
[246,{"$f":"SUBSTITUTE(INDEX(book,ROW()),\"[\"&doc&\"]\",\"\")","v":{"$error":"#REF!"}},{"$error":"#REF!"},{"$error":"#REF!"},{"$error":"#REF!"},{"$error":"#REF!"},{"$error":"#REF!"},{"$error":"#REF!"},{"$error":"#REF!"},{"$error":"#REF!"},{"$error":"#REF!"},{"$error":"#REF!"},{"$error":"#REF!"},{"$error":"#REF!"},{"$error":"#REF!"},{"$error":"#REF!"},{"$error":"#REF!"},{"$error":"#REF!"},{"$error":"#REF!"},{"$error":"#REF!"},{"$error":"#REF!"},{"$error":"#REF!"},{"$error":"#REF!"},{"$error":"#REF!"},{"$error":"#REF!"},{"$error":"#REF!"},{"$error":"#REF!"}]
[247,{"$f":"SUBSTITUTE(INDEX(book,ROW()),\"[\"&doc&\"]\",\"\")","v":{"$error":"#REF!"}},{"$error":"#REF!"},{"$error":"#REF!"},{"$error":"#REF!"},{"$error":"#REF!"},{"$error":"#REF!"},{"$error":"#REF!"},{"$error":"#REF!"},{"$error":"#REF!"},{"$error":"#REF!"},{"$error":"#REF!"},{"$error":"#REF!"},{"$error":"#REF!"},{"$error":"#REF!"},{"$error":"#REF!"},{"$error":"#REF!"},{"$error":"#REF!"},{"$error":"#REF!"},{"$error":"#REF!"},{"$error":"#REF!"},{"$error":"#REF!"},{"$error":"#REF!"},{"$error":"#REF!"},{"$error":"#REF!"},{"$error":"#REF!"},{"$error":"#REF!"}]
[248,{"$f":"SUBSTITUTE(INDEX(book,ROW()),\"[\"&doc&\"]\",\"\")","v":{"$error":"#REF!"}},{"$error":"#REF!"},{"$error":"#REF!"},{"$error":"#REF!"},{"$error":"#REF!"},{"$error":"#REF!"},{"$error":"#REF!"},{"$error":"#REF!"},{"$error":"#REF!"},{"$error":"#REF!"},{"$error":"#REF!"},{"$error":"#REF!"},{"$error":"#REF!"},{"$error":"#REF!"},{"$error":"#REF!"},{"$error":"#REF!"},{"$error":"#REF!"},{"$error":"#REF!"},{"$error":"#REF!"},{"$error":"#REF!"},{"$error":"#REF!"},{"$error":"#REF!"},{"$error":"#REF!"},{"$error":"#REF!"},{"$error":"#REF!"},{"$error":"#REF!"}]
[249,{"$f":"SUBSTITUTE(INDEX(book,ROW()),\"[\"&doc&\"]\",\"\")","v":{"$error":"#REF!"}},{"$error":"#REF!"},{"$error":"#REF!"},{"$error":"#REF!"},{"$error":"#REF!"},{"$error":"#REF!"},{"$error":"#REF!"},{"$error":"#REF!"},{"$error":"#REF!"},{"$error":"#REF!"},{"$error":"#REF!"},{"$error":"#REF!"},{"$error":"#REF!"},{"$error":"#REF!"},{"$error":"#REF!"},{"$error":"#REF!"},{"$error":"#REF!"},{"$error":"#REF!"},{"$error":"#REF!"},{"$error":"#REF!"},{"$error":"#REF!"},{"$error":"#REF!"},{"$error":"#REF!"},{"$error":"#REF!"},{"$error":"#REF!"},{"$error":"#REF!"}]
[250,{"$f":"SUBSTITUTE(INDEX(book,ROW()),\"[\"&doc&\"]\",\"\")","v":{"$error":"#REF!"}},{"$error":"#REF!"},{"$error":"#REF!"},{"$error":"#REF!"},{"$error":"#REF!"},{"$error":"#REF!"},{"$error":"#REF!"},{"$error":"#REF!"},{"$error":"#REF!"},{"$error":"#REF!"},{"$error":"#REF!"},{"$error":"#REF!"},{"$error":"#REF!"},{"$error":"#REF!"},{"$error":"#REF!"},{"$error":"#REF!"},{"$error":"#REF!"},{"$error":"#REF!"},{"$error":"#REF!"},{"$error":"#REF!"},{"$error":"#REF!"},{"$error":"#REF!"},{"$error":"#REF!"},{"$error":"#REF!"},{"$error":"#REF!"},{"$error":"#REF!"}]
[251,{"$f":"SUBSTITUTE(INDEX(book,ROW()),\"[\"&doc&\"]\",\"\")","v":{"$error":"#REF!"}},{"$error":"#REF!"},{"$error":"#REF!"},{"$error":"#REF!"},{"$error":"#REF!"},{"$error":"#REF!"},{"$error":"#REF!"},{"$error":"#REF!"},{"$error":"#REF!"},{"$error":"#REF!"},{"$error":"#REF!"},{"$error":"#REF!"},{"$error":"#REF!"},{"$error":"#REF!"},{"$error":"#REF!"},{"$error":"#REF!"},{"$error":"#REF!"},{"$error":"#REF!"},{"$error":"#REF!"},{"$error":"#REF!"},{"$error":"#REF!"},{"$error":"#REF!"},{"$error":"#REF!"},{"$error":"#REF!"},{"$error":"#REF!"},{"$error":"#REF!"}]
[252,{"$f":"SUBSTITUTE(INDEX(book,ROW()),\"[\"&doc&\"]\",\"\")","v":{"$error":"#REF!"}},{"$error":"#REF!"},{"$error":"#REF!"},{"$error":"#REF!"},{"$error":"#REF!"},{"$error":"#REF!"},{"$error":"#REF!"},{"$error":"#REF!"},{"$error":"#REF!"},{"$error":"#REF!"},{"$error":"#REF!"},{"$error":"#REF!"},{"$error":"#REF!"},{"$error":"#REF!"},{"$error":"#REF!"},{"$error":"#REF!"},{"$error":"#REF!"},{"$error":"#REF!"},{"$error":"#REF!"},{"$error":"#REF!"},{"$error":"#REF!"},{"$error":"#REF!"},{"$error":"#REF!"},{"$error":"#REF!"},{"$error":"#REF!"},{"$error":"#REF!"}]
[253,{"$f":"SUBSTITUTE(INDEX(book,ROW()),\"[\"&doc&\"]\",\"\")","v":{"$error":"#REF!"}},{"$error":"#REF!"},{"$error":"#REF!"},{"$error":"#REF!"},{"$error":"#REF!"},{"$error":"#REF!"},{"$error":"#REF!"},{"$error":"#REF!"},{"$error":"#REF!"},{"$error":"#REF!"},{"$error":"#REF!"},{"$error":"#REF!"},{"$error":"#REF!"},{"$error":"#REF!"},{"$error":"#REF!"},{"$error":"#REF!"},{"$error":"#REF!"},{"$error":"#REF!"},{"$error":"#REF!"},{"$error":"#REF!"},{"$error":"#REF!"},{"$error":"#REF!"},{"$error":"#REF!"},{"$error":"#REF!"},{"$error":"#REF!"},{"$error":"#REF!"}]
[254,{"$f":"SUBSTITUTE(INDEX(book,ROW()),\"[\"&doc&\"]\",\"\")","v":{"$error":"#REF!"}},{"$error":"#REF!"},{"$error":"#REF!"},{"$error":"#REF!"},{"$error":"#REF!"},{"$error":"#REF!"},{"$error":"#REF!"},{"$error":"#REF!"},{"$error":"#REF!"},{"$error":"#REF!"},{"$error":"#REF!"},{"$error":"#REF!"},{"$error":"#REF!"},{"$error":"#REF!"},{"$error":"#REF!"},{"$error":"#REF!"},{"$error":"#REF!"},{"$error":"#REF!"},{"$error":"#REF!"},{"$error":"#REF!"},{"$error":"#REF!"},{"$error":"#REF!"},{"$error":"#REF!"},{"$error":"#REF!"},{"$error":"#REF!"},{"$error":"#REF!"}]
[255,{"$f":"SUBSTITUTE(INDEX(book,ROW()),\"[\"&doc&\"]\",\"\")","v":{"$error":"#REF!"}},{"$error":"#REF!"},{"$error":"#REF!"},{"$error":"#REF!"},{"$error":"#REF!"},{"$error":"#REF!"},{"$error":"#REF!"},{"$error":"#REF!"},{"$error":"#REF!"},{"$error":"#REF!"},{"$error":"#REF!"},{"$error":"#REF!"},{"$error":"#REF!"},{"$error":"#REF!"},{"$error":"#REF!"},{"$error":"#REF!"},{"$error":"#REF!"},{"$error":"#REF!"},{"$error":"#REF!"},{"$error":"#REF!"},{"$error":"#REF!"},{"$error":"#REF!"},{"$error":"#REF!"},{"$error":"#REF!"},{"$error":"#REF!"},{"$error":"#REF!"}]
[256,{"$f":"SUBSTITUTE(INDEX(book,ROW()),\"[\"&doc&\"]\",\"\")","v":{"$error":"#REF!"}},{"$error":"#REF!"},{"$error":"#REF!"},{"$error":"#REF!"},{"$error":"#REF!"},{"$error":"#REF!"},{"$error":"#REF!"},{"$error":"#REF!"},{"$error":"#REF!"},{"$error":"#REF!"},{"$error":"#REF!"},{"$error":"#REF!"},{"$error":"#REF!"},{"$error":"#REF!"},{"$error":"#REF!"},{"$error":"#REF!"},{"$error":"#REF!"},{"$error":"#REF!"},{"$error":"#REF!"},{"$error":"#REF!"},{"$error":"#REF!"},{"$error":"#REF!"},{"$error":"#REF!"},{"$error":"#REF!"},{"$error":"#REF!"},{"$error":"#REF!"}]
[257,{"$f":"SUBSTITUTE(INDEX(book,ROW()),\"[\"&doc&\"]\",\"\")","v":{"$error":"#REF!"}},{"$error":"#REF!"},{"$error":"#REF!"},{"$error":"#REF!"},{"$error":"#REF!"},{"$error":"#REF!"},{"$error":"#REF!"},{"$error":"#REF!"},{"$error":"#REF!"},{"$error":"#REF!"},{"$error":"#REF!"},{"$error":"#REF!"},{"$error":"#REF!"},{"$error":"#REF!"},{"$error":"#REF!"},{"$error":"#REF!"},{"$error":"#REF!"},{"$error":"#REF!"},{"$error":"#REF!"},{"$error":"#REF!"},{"$error":"#REF!"},{"$error":"#REF!"},{"$error":"#REF!"},{"$error":"#REF!"},{"$error":"#REF!"},{"$error":"#REF!"}]
[258,{"$f":"SUBSTITUTE(INDEX(book,ROW()),\"[\"&doc&\"]\",\"\")","v":{"$error":"#REF!"}},{"$error":"#REF!"},{"$error":"#REF!"},{"$error":"#REF!"},{"$error":"#REF!"},{"$error":"#REF!"},{"$error":"#REF!"},{"$error":"#REF!"},{"$error":"#REF!"},{"$error":"#REF!"},{"$error":"#REF!"},{"$error":"#REF!"},{"$error":"#REF!"},{"$error":"#REF!"},{"$error":"#REF!"},{"$error":"#REF!"},{"$f":"INDIRECT(\"’\"&$B264&\"’\"&R$1)","v":{"$error":"#REF!"}},{"$error":"#REF!"},{"$error":"#REF!"},{"$error":"#REF!"},{"$error":"#REF!"},{"$error":"#REF!"},{"$error":"#REF!"},{"$error":"#REF!"},{"$error":"#REF!"},{"$error":"#REF!"}]
[259,{"$f":"SUBSTITUTE(INDEX(book,ROW()),\"[\"&doc&\"]\",\"\")","v":{"$error":"#REF!"}},{"$f":"INDIRECT(\"’\"&$B265&\"’\"&C$1)","v":{"$error":"#REF!"}},{"$error":"#REF!"},{"$error":"#REF!"},{"$error":"#REF!"},{"$error":"#REF!"},{"$error":"#REF!"},{"$error":"#REF!"},{"$error":"#REF!"},{"$error":"#REF!"},{"$error":"#REF!"},{"$error":"#REF!"},{"$error":"#REF!"},{"$error":"#REF!"},{"$error":"#REF!"},{"$error":"#REF!"},{"$error":"#REF!"},{"$error":"#REF!"},{"$error":"#REF!"},{"$error":"#REF!"},{"$error":"#REF!"},{"$error":"#REF!"},{"$error":"#REF!"},{"$error":"#REF!"},{"$error":"#REF!"},{"$error":"#REF!"}]
[260,{"$f":"SUBSTITUTE(INDEX(book,ROW()),\"[\"&doc&\"]\",\"\")","v":{"$error":"#REF!"}},{"$error":"#REF!"},{"$error":"#REF!"},{"$error":"#REF!"},{"$error":"#REF!"},{"$error":"#REF!"},{"$error":"#REF!"},{"$error":"#REF!"},{"$error":"#REF!"},{"$error":"#REF!"},{"$error":"#REF!"},{"$error":"#REF!"},{"$error":"#REF!"},{"$error":"#REF!"},{"$error":"#REF!"},{"$error":"#REF!"},{"$error":"#REF!"},{"$error":"#REF!"},{"$error":"#REF!"},{"$error":"#REF!"},{"$error":"#REF!"},{"$error":"#REF!"},{"$error":"#REF!"},{"$error":"#REF!"},{"$error":"#REF!"},{"$error":"#REF!"}]
[261,{"$f":"SUBSTITUTE(INDEX(book,ROW()),\"[\"&doc&\"]\",\"\")","v":{"$error":"#REF!"}},{"$error":"#REF!"},{"$error":"#REF!"},{"$error":"#REF!"},{"$error":"#REF!"},{"$error":"#REF!"},{"$error":"#REF!"},{"$error":"#REF!"},{"$error":"#REF!"},{"$error":"#REF!"},{"$error":"#REF!"},{"$error":"#REF!"},{"$error":"#REF!"},{"$error":"#REF!"},{"$error":"#REF!"},{"$error":"#REF!"},{"$error":"#REF!"},{"$error":"#REF!"},{"$error":"#REF!"},{"$error":"#REF!"},{"$error":"#REF!"},{"$error":"#REF!"},{"$error":"#REF!"},{"$error":"#REF!"},{"$error":"#REF!"},{"$error":"#REF!"}]
[262,{"$f":"SUBSTITUTE(INDEX(book,ROW()),\"[\"&doc&\"]\",\"\")","v":{"$error":"#REF!"}},{"$error":"#REF!"},{"$error":"#REF!"},{"$error":"#REF!"},{"$error":"#REF!"},{"$error":"#REF!"},{"$error":"#REF!"},{"$error":"#REF!"},{"$error":"#REF!"},{"$error":"#REF!"},{"$error":"#REF!"},{"$error":"#REF!"},{"$error":"#REF!"},{"$error":"#REF!"},{"$error":"#REF!"},{"$error":"#REF!"},{"$error":"#REF!"},{"$error":"#REF!"},{"$error":"#REF!"},{"$error":"#REF!"},{"$error":"#REF!"},{"$error":"#REF!"},{"$error":"#REF!"},{"$error":"#REF!"},{"$error":"#REF!"},{"$error":"#REF!"}]
[263,{"$f":"SUBSTITUTE(INDEX(book,ROW()),\"[\"&doc&\"]\",\"\")","v":{"$error":"#REF!"}},{"$error":"#REF!"},{"$error":"#REF!"},{"$error":"#REF!"},{"$error":"#REF!"},{"$error":"#REF!"},{"$error":"#REF!"},{"$error":"#REF!"},{"$error":"#REF!"},{"$error":"#REF!"},{"$error":"#REF!"},{"$error":"#REF!"},{"$error":"#REF!"},{"$error":"#REF!"},{"$error":"#REF!"},{"$error":"#REF!"},{"$error":"#REF!"},{"$error":"#REF!"},{"$error":"#REF!"},{"$error":"#REF!"},{"$error":"#REF!"},{"$error":"#REF!"},{"$error":"#REF!"},{"$error":"#REF!"},{"$error":"#REF!"},{"$error":"#REF!"}]
[264,{"$f":"SUBSTITUTE(INDEX(book,ROW()),\"[\"&doc&\"]\",\"\")","v":{"$error":"#REF!"}},{"$error":"#REF!"},{"$error":"#REF!"},{"$error":"#REF!"},{"$error":"#REF!"},{"$error":"#REF!"},{"$error":"#REF!"},{"$error":"#REF!"},{"$error":"#REF!"},{"$error":"#REF!"},{"$error":"#REF!"},{"$error":"#REF!"},{"$error":"#REF!"},{"$error":"#REF!"},{"$error":"#REF!"},{"$error":"#REF!"},{"$error":"#REF!"},{"$error":"#REF!"},{"$error":"#REF!"},{"$error":"#REF!"},{"$error":"#REF!"},{"$error":"#REF!"},{"$error":"#REF!"},{"$error":"#REF!"},{"$error":"#REF!"},{"$error":"#REF!"}]
[265,{"$f":"SUBSTITUTE(INDEX(book,ROW()),\"[\"&doc&\"]\",\"\")","v":{"$error":"#REF!"}},{"$error":"#REF!"},{"$error":"#REF!"},{"$error":"#REF!"},{"$error":"#REF!"},{"$error":"#REF!"},{"$error":"#REF!"},{"$error":"#REF!"},{"$error":"#REF!"},{"$error":"#REF!"},{"$error":"#REF!"},{"$error":"#REF!"},{"$error":"#REF!"},{"$error":"#REF!"},{"$error":"#REF!"},{"$error":"#REF!"},{"$error":"#REF!"},{"$error":"#REF!"},{"$error":"#REF!"},{"$error":"#REF!"},{"$error":"#REF!"},{"$error":"#REF!"},{"$error":"#REF!"},{"$error":"#REF!"},{"$error":"#REF!"},{"$error":"#REF!"}]
[266,{"$f":"SUBSTITUTE(INDEX(book,ROW()),\"[\"&doc&\"]\",\"\")","v":{"$error":"#REF!"}},{"$error":"#REF!"},{"$error":"#REF!"},{"$error":"#REF!"},{"$error":"#REF!"},{"$error":"#REF!"},{"$error":"#REF!"},{"$error":"#REF!"},{"$error":"#REF!"},{"$error":"#REF!"},{"$error":"#REF!"},{"$error":"#REF!"},{"$error":"#REF!"},{"$error":"#REF!"},{"$error":"#REF!"},{"$error":"#REF!"},{"$error":"#REF!"},{"$error":"#REF!"},{"$error":"#REF!"},{"$error":"#REF!"},{"$error":"#REF!"},{"$error":"#REF!"},{"$error":"#REF!"},{"$error":"#REF!"},{"$error":"#REF!"},{"$error":"#REF!"}]
[267,{"$f":"SUBSTITUTE(INDEX(book,ROW()),\"[\"&doc&\"]\",\"\")","v":{"$error":"#REF!"}},{"$error":"#REF!"},{"$error":"#REF!"},{"$error":"#REF!"},{"$error":"#REF!"},{"$error":"#REF!"},{"$error":"#REF!"},{"$error":"#REF!"},{"$error":"#REF!"},{"$error":"#REF!"},{"$error":"#REF!"},{"$error":"#REF!"},{"$error":"#REF!"},{"$error":"#REF!"},{"$error":"#REF!"},{"$error":"#REF!"},{"$error":"#REF!"},{"$error":"#REF!"},{"$error":"#REF!"},{"$error":"#REF!"},{"$error":"#REF!"},{"$error":"#REF!"},{"$error":"#REF!"},{"$error":"#REF!"},{"$error":"#REF!"},{"$error":"#REF!"}]
[268,{"$f":"SUBSTITUTE(INDEX(book,ROW()),\"[\"&doc&\"]\",\"\")","v":{"$error":"#REF!"}},{"$error":"#REF!"},{"$error":"#REF!"},{"$error":"#REF!"},{"$error":"#REF!"},{"$error":"#REF!"},{"$error":"#REF!"},{"$error":"#REF!"},{"$error":"#REF!"},{"$error":"#REF!"},{"$error":"#REF!"},{"$error":"#REF!"},{"$error":"#REF!"},{"$error":"#REF!"},{"$error":"#REF!"},{"$error":"#REF!"},{"$error":"#REF!"},{"$error":"#REF!"},{"$error":"#REF!"},{"$error":"#REF!"},{"$error":"#REF!"},{"$error":"#REF!"},{"$error":"#REF!"},{"$error":"#REF!"},{"$error":"#REF!"},{"$error":"#REF!"}]
[269,{"$f":"SUBSTITUTE(INDEX(book,ROW()),\"[\"&doc&\"]\",\"\")","v":{"$error":"#REF!"}},{"$error":"#REF!"},{"$error":"#REF!"},{"$error":"#REF!"},{"$error":"#REF!"},{"$error":"#REF!"},{"$error":"#REF!"},{"$error":"#REF!"},{"$error":"#REF!"},{"$error":"#REF!"},{"$error":"#REF!"},{"$error":"#REF!"},{"$error":"#REF!"},{"$error":"#REF!"},{"$error":"#REF!"},{"$error":"#REF!"},{"$error":"#REF!"},{"$error":"#REF!"},{"$error":"#REF!"},{"$error":"#REF!"},{"$error":"#REF!"},{"$error":"#REF!"},{"$error":"#REF!"},{"$error":"#REF!"},{"$error":"#REF!"},{"$error":"#REF!"}]
[270,{"$f":"SUBSTITUTE(INDEX(book,ROW()),\"[\"&doc&\"]\",\"\")","v":{"$error":"#REF!"}},{"$error":"#REF!"},{"$error":"#REF!"},{"$error":"#REF!"},{"$error":"#REF!"},{"$error":"#REF!"},{"$error":"#REF!"},{"$error":"#REF!"},{"$error":"#REF!"},{"$error":"#REF!"},{"$error":"#REF!"},{"$error":"#REF!"},{"$error":"#REF!"},{"$error":"#REF!"},{"$error":"#REF!"},{"$error":"#REF!"},{"$error":"#REF!"},{"$error":"#REF!"},{"$error":"#REF!"},{"$error":"#REF!"},{"$error":"#REF!"},{"$error":"#REF!"},{"$error":"#REF!"},{"$error":"#REF!"},{"$error":"#REF!"},{"$error":"#REF!"}]
[271,{"$f":"SUBSTITUTE(INDEX(book,ROW()),\"[\"&doc&\"]\",\"\")","v":{"$error":"#REF!"}},{"$error":"#REF!"},{"$error":"#REF!"},{"$error":"#REF!"},{"$error":"#REF!"},{"$error":"#REF!"},{"$error":"#REF!"},{"$error":"#REF!"},{"$error":"#REF!"},{"$error":"#REF!"},{"$error":"#REF!"},{"$error":"#REF!"},{"$error":"#REF!"},{"$error":"#REF!"},{"$error":"#REF!"},{"$error":"#REF!"},{"$error":"#REF!"},{"$error":"#REF!"},{"$error":"#REF!"},{"$error":"#REF!"},{"$error":"#REF!"},{"$error":"#REF!"},{"$error":"#REF!"},{"$error":"#REF!"},{"$error":"#REF!"},{"$error":"#REF!"}]
[272,{"$f":"SUBSTITUTE(INDEX(book,ROW()),\"[\"&doc&\"]\",\"\")","v":{"$error":"#REF!"}},{"$error":"#REF!"},{"$error":"#REF!"},{"$error":"#REF!"},{"$error":"#REF!"},{"$error":"#REF!"},{"$error":"#REF!"},{"$error":"#REF!"},{"$error":"#REF!"},{"$error":"#REF!"},{"$error":"#REF!"},{"$error":"#REF!"},{"$error":"#REF!"},{"$error":"#REF!"},{"$error":"#REF!"},{"$error":"#REF!"},{"$error":"#REF!"},{"$error":"#REF!"},{"$error":"#REF!"},{"$error":"#REF!"},{"$error":"#REF!"},{"$error":"#REF!"},{"$error":"#REF!"},{"$error":"#REF!"},{"$error":"#REF!"},{"$error":"#REF!"}]
[273,{"$f":"SUBSTITUTE(INDEX(book,ROW()),\"[\"&doc&\"]\",\"\")","v":{"$error":"#REF!"}},{"$error":"#REF!"},{"$error":"#REF!"},{"$error":"#REF!"},{"$error":"#REF!"},{"$error":"#REF!"},{"$error":"#REF!"},{"$error":"#REF!"},{"$error":"#REF!"},{"$error":"#REF!"},{"$error":"#REF!"},{"$error":"#REF!"},{"$error":"#REF!"},{"$error":"#REF!"},{"$error":"#REF!"},{"$error":"#REF!"},{"$error":"#REF!"},{"$error":"#REF!"},{"$error":"#REF!"},{"$error":"#REF!"},{"$error":"#REF!"},{"$error":"#REF!"},{"$error":"#REF!"},{"$error":"#REF!"},{"$error":"#REF!"},{"$error":"#REF!"}]
[274,{"$f":"SUBSTITUTE(INDEX(book,ROW()),\"[\"&doc&\"]\",\"\")","v":{"$error":"#REF!"}},{"$error":"#REF!"},{"$error":"#REF!"},{"$error":"#REF!"},{"$error":"#REF!"},{"$error":"#REF!"},{"$error":"#REF!"},{"$error":"#REF!"},{"$error":"#REF!"},{"$error":"#REF!"},{"$error":"#REF!"},{"$error":"#REF!"},{"$error":"#REF!"},{"$error":"#REF!"},{"$error":"#REF!"},{"$error":"#REF!"},{"$f":"INDIRECT(\"’\"&$B280&\"’\"&R$1)","v":{"$error":"#REF!"}},{"$error":"#REF!"},{"$error":"#REF!"},{"$error":"#REF!"},{"$error":"#REF!"},{"$error":"#REF!"},{"$error":"#REF!"},{"$error":"#REF!"},{"$error":"#REF!"},{"$error":"#REF!"}]
[275,{"$f":"SUBSTITUTE(INDEX(book,ROW()),\"[\"&doc&\"]\",\"\")","v":{"$error":"#REF!"}},{"$f":"INDIRECT(\"’\"&$B281&\"’\"&C$1)","v":{"$error":"#REF!"}},{"$error":"#REF!"},{"$error":"#REF!"},{"$error":"#REF!"},{"$error":"#REF!"},{"$error":"#REF!"},{"$error":"#REF!"},{"$error":"#REF!"},{"$error":"#REF!"},{"$error":"#REF!"},{"$error":"#REF!"},{"$error":"#REF!"},{"$error":"#REF!"},{"$error":"#REF!"},{"$error":"#REF!"},{"$error":"#REF!"},{"$error":"#REF!"},{"$error":"#REF!"},{"$error":"#REF!"},{"$error":"#REF!"},{"$error":"#REF!"},{"$error":"#REF!"},{"$error":"#REF!"},{"$error":"#REF!"},{"$error":"#REF!"}]
[276,{"$f":"SUBSTITUTE(INDEX(book,ROW()),\"[\"&doc&\"]\",\"\")","v":{"$error":"#REF!"}},{"$error":"#REF!"},{"$error":"#REF!"},{"$error":"#REF!"},{"$error":"#REF!"},{"$error":"#REF!"},{"$error":"#REF!"},{"$error":"#REF!"},{"$error":"#REF!"},{"$error":"#REF!"},{"$error":"#REF!"},{"$error":"#REF!"},{"$error":"#REF!"},{"$error":"#REF!"},{"$error":"#REF!"},{"$error":"#REF!"},{"$error":"#REF!"},{"$error":"#REF!"},{"$error":"#REF!"},{"$error":"#REF!"},{"$error":"#REF!"},{"$error":"#REF!"},{"$error":"#REF!"},{"$error":"#REF!"},{"$error":"#REF!"},{"$error":"#REF!"}]
[277,{"$f":"SUBSTITUTE(INDEX(book,ROW()),\"[\"&doc&\"]\",\"\")","v":{"$error":"#REF!"}},{"$error":"#REF!"},{"$error":"#REF!"},{"$error":"#REF!"},{"$error":"#REF!"},{"$error":"#REF!"},{"$error":"#REF!"},{"$error":"#REF!"},{"$error":"#REF!"},{"$error":"#REF!"},{"$error":"#REF!"},{"$error":"#REF!"},{"$error":"#REF!"},{"$error":"#REF!"},{"$error":"#REF!"},{"$error":"#REF!"},{"$error":"#REF!"},{"$error":"#REF!"},{"$error":"#REF!"},{"$error":"#REF!"},{"$error":"#REF!"},{"$error":"#REF!"},{"$error":"#REF!"},{"$error":"#REF!"},{"$error":"#REF!"},{"$error":"#REF!"}]
[278,{"$f":"SUBSTITUTE(INDEX(book,ROW()),\"[\"&doc&\"]\",\"\")","v":{"$error":"#REF!"}},{"$error":"#REF!"},{"$error":"#REF!"},{"$error":"#REF!"},{"$error":"#REF!"},{"$error":"#REF!"},{"$error":"#REF!"},{"$error":"#REF!"},{"$error":"#REF!"},{"$error":"#REF!"},{"$error":"#REF!"},{"$error":"#REF!"},{"$error":"#REF!"},{"$error":"#REF!"},{"$error":"#REF!"},{"$error":"#REF!"},{"$error":"#REF!"},{"$error":"#REF!"},{"$error":"#REF!"},{"$error":"#REF!"},{"$error":"#REF!"},{"$error":"#REF!"},{"$error":"#REF!"},{"$error":"#REF!"},{"$error":"#REF!"},{"$error":"#REF!"}]
[279,{"$f":"SUBSTITUTE(INDEX(book,ROW()),\"[\"&doc&\"]\",\"\")","v":{"$error":"#REF!"}},{"$error":"#REF!"},{"$error":"#REF!"},{"$error":"#REF!"},{"$error":"#REF!"},{"$error":"#REF!"},{"$error":"#REF!"},{"$error":"#REF!"},{"$error":"#REF!"},{"$error":"#REF!"},{"$error":"#REF!"},{"$error":"#REF!"},{"$error":"#REF!"},{"$error":"#REF!"},{"$error":"#REF!"},{"$error":"#REF!"},{"$error":"#REF!"},{"$error":"#REF!"},{"$error":"#REF!"},{"$error":"#REF!"},{"$error":"#REF!"},{"$error":"#REF!"},{"$error":"#REF!"},{"$error":"#REF!"},{"$error":"#REF!"},{"$error":"#REF!"}]
[280,{"$f":"SUBSTITUTE(INDEX(book,ROW()),\"[\"&doc&\"]\",\"\")","v":{"$error":"#REF!"}},{"$error":"#REF!"},{"$error":"#REF!"},{"$error":"#REF!"},{"$error":"#REF!"},{"$error":"#REF!"},{"$error":"#REF!"},{"$error":"#REF!"},{"$error":"#REF!"},{"$error":"#REF!"},{"$error":"#REF!"},{"$error":"#REF!"},{"$error":"#REF!"},{"$error":"#REF!"},{"$error":"#REF!"},{"$error":"#REF!"},{"$error":"#REF!"},{"$error":"#REF!"},{"$error":"#REF!"},{"$error":"#REF!"},{"$error":"#REF!"},{"$error":"#REF!"},{"$error":"#REF!"},{"$error":"#REF!"},{"$error":"#REF!"},{"$error":"#REF!"}]
[281,{"$f":"SUBSTITUTE(INDEX(book,ROW()),\"[\"&doc&\"]\",\"\")","v":{"$error":"#REF!"}},{"$error":"#REF!"},{"$error":"#REF!"},{"$error":"#REF!"},{"$error":"#REF!"},{"$error":"#REF!"},{"$error":"#REF!"},{"$error":"#REF!"},{"$error":"#REF!"},{"$error":"#REF!"},{"$error":"#REF!"},{"$error":"#REF!"},{"$error":"#REF!"},{"$error":"#REF!"},{"$error":"#REF!"},{"$error":"#REF!"},{"$error":"#REF!"},{"$error":"#REF!"},{"$error":"#REF!"},{"$error":"#REF!"},{"$error":"#REF!"},{"$error":"#REF!"},{"$error":"#REF!"},{"$error":"#REF!"},{"$error":"#REF!"},{"$error":"#REF!"}]
[282,{"$f":"SUBSTITUTE(INDEX(book,ROW()),\"[\"&doc&\"]\",\"\")","v":{"$error":"#REF!"}},{"$error":"#REF!"},{"$error":"#REF!"},{"$error":"#REF!"},{"$error":"#REF!"},{"$error":"#REF!"},{"$error":"#REF!"},{"$error":"#REF!"},{"$error":"#REF!"},{"$error":"#REF!"},{"$error":"#REF!"},{"$error":"#REF!"},{"$error":"#REF!"},{"$error":"#REF!"},{"$error":"#REF!"},{"$error":"#REF!"},{"$error":"#REF!"},{"$error":"#REF!"},{"$error":"#REF!"},{"$error":"#REF!"},{"$error":"#REF!"},{"$error":"#REF!"},{"$error":"#REF!"},{"$error":"#REF!"},{"$error":"#REF!"},{"$error":"#REF!"}]
[283,{"$f":"SUBSTITUTE(INDEX(book,ROW()),\"[\"&doc&\"]\",\"\")","v":{"$error":"#REF!"}},{"$error":"#REF!"},{"$error":"#REF!"},{"$error":"#REF!"},{"$error":"#REF!"},{"$error":"#REF!"},{"$error":"#REF!"},{"$error":"#REF!"},{"$error":"#REF!"},{"$error":"#REF!"},{"$error":"#REF!"},{"$error":"#REF!"},{"$error":"#REF!"},{"$error":"#REF!"},{"$error":"#REF!"},{"$error":"#REF!"},{"$error":"#REF!"},{"$error":"#REF!"},{"$error":"#REF!"},{"$error":"#REF!"},{"$error":"#REF!"},{"$error":"#REF!"},{"$error":"#REF!"},{"$error":"#REF!"},{"$error":"#REF!"},{"$error":"#REF!"}]
[284,{"$f":"SUBSTITUTE(INDEX(book,ROW()),\"[\"&doc&\"]\",\"\")","v":{"$error":"#REF!"}},{"$error":"#REF!"},{"$error":"#REF!"},{"$error":"#REF!"},{"$error":"#REF!"},{"$error":"#REF!"},{"$error":"#REF!"},{"$error":"#REF!"},{"$error":"#REF!"},{"$error":"#REF!"},{"$error":"#REF!"},{"$error":"#REF!"},{"$error":"#REF!"},{"$error":"#REF!"},{"$error":"#REF!"},{"$error":"#REF!"},{"$error":"#REF!"},{"$error":"#REF!"},{"$error":"#REF!"},{"$error":"#REF!"},{"$error":"#REF!"},{"$error":"#REF!"},{"$error":"#REF!"},{"$error":"#REF!"},{"$error":"#REF!"},{"$error":"#REF!"}]
[285,{"$f":"SUBSTITUTE(INDEX(book,ROW()),\"[\"&doc&\"]\",\"\")","v":{"$error":"#REF!"}},{"$error":"#REF!"},{"$error":"#REF!"},{"$error":"#REF!"},{"$error":"#REF!"},{"$error":"#REF!"},{"$error":"#REF!"},{"$error":"#REF!"},{"$error":"#REF!"},{"$error":"#REF!"},{"$error":"#REF!"},{"$error":"#REF!"},{"$error":"#REF!"},{"$error":"#REF!"},{"$error":"#REF!"},{"$error":"#REF!"},{"$error":"#REF!"},{"$error":"#REF!"},{"$error":"#REF!"},{"$error":"#REF!"},{"$error":"#REF!"},{"$error":"#REF!"},{"$error":"#REF!"},{"$error":"#REF!"},{"$error":"#REF!"},{"$error":"#REF!"}]
[286,{"$f":"SUBSTITUTE(INDEX(book,ROW()),\"[\"&doc&\"]\",\"\")","v":{"$error":"#REF!"}},{"$error":"#REF!"},{"$error":"#REF!"},{"$error":"#REF!"},{"$error":"#REF!"},{"$error":"#REF!"},{"$error":"#REF!"},{"$error":"#REF!"},{"$error":"#REF!"},{"$error":"#REF!"},{"$error":"#REF!"},{"$error":"#REF!"},{"$error":"#REF!"},{"$error":"#REF!"},{"$error":"#REF!"},{"$error":"#REF!"},{"$error":"#REF!"},{"$error":"#REF!"},{"$error":"#REF!"},{"$error":"#REF!"},{"$error":"#REF!"},{"$error":"#REF!"},{"$error":"#REF!"},{"$error":"#REF!"},{"$error":"#REF!"},{"$error":"#REF!"}]
[287,{"$f":"SUBSTITUTE(INDEX(book,ROW()),\"[\"&doc&\"]\",\"\")","v":{"$error":"#REF!"}},{"$error":"#REF!"},{"$error":"#REF!"},{"$error":"#REF!"},{"$error":"#REF!"},{"$error":"#REF!"},{"$error":"#REF!"},{"$error":"#REF!"},{"$error":"#REF!"},{"$error":"#REF!"},{"$error":"#REF!"},{"$error":"#REF!"},{"$error":"#REF!"},{"$error":"#REF!"},{"$error":"#REF!"},{"$error":"#REF!"},{"$error":"#REF!"},{"$error":"#REF!"},{"$error":"#REF!"},{"$error":"#REF!"},{"$error":"#REF!"},{"$error":"#REF!"},{"$error":"#REF!"},{"$error":"#REF!"},{"$error":"#REF!"},{"$error":"#REF!"}]
[288,{"$f":"SUBSTITUTE(INDEX(book,ROW()),\"[\"&doc&\"]\",\"\")","v":{"$error":"#REF!"}},{"$error":"#REF!"},{"$error":"#REF!"},{"$error":"#REF!"},{"$error":"#REF!"},{"$error":"#REF!"},{"$error":"#REF!"},{"$error":"#REF!"},{"$error":"#REF!"},{"$error":"#REF!"},{"$error":"#REF!"},{"$error":"#REF!"},{"$error":"#REF!"},{"$error":"#REF!"},{"$error":"#REF!"},{"$error":"#REF!"},{"$error":"#REF!"},{"$error":"#REF!"},{"$error":"#REF!"},{"$error":"#REF!"},{"$error":"#REF!"},{"$error":"#REF!"},{"$error":"#REF!"},{"$error":"#REF!"},{"$error":"#REF!"},{"$error":"#REF!"}]
[289,{"$f":"SUBSTITUTE(INDEX(book,ROW()),\"[\"&doc&\"]\",\"\")","v":{"$error":"#REF!"}},{"$error":"#REF!"},{"$error":"#REF!"},{"$error":"#REF!"},{"$error":"#REF!"},{"$error":"#REF!"},{"$error":"#REF!"},{"$error":"#REF!"},{"$error":"#REF!"},{"$error":"#REF!"},{"$error":"#REF!"},{"$error":"#REF!"},{"$error":"#REF!"},{"$error":"#REF!"},{"$error":"#REF!"},{"$error":"#REF!"},{"$error":"#REF!"},{"$error":"#REF!"},{"$error":"#REF!"},{"$error":"#REF!"},{"$error":"#REF!"},{"$error":"#REF!"},{"$error":"#REF!"},{"$error":"#REF!"},{"$error":"#REF!"},{"$error":"#REF!"}]
[290,{"$f":"SUBSTITUTE(INDEX(book,ROW()),\"[\"&doc&\"]\",\"\")","v":{"$error":"#REF!"}},{"$error":"#REF!"},{"$error":"#REF!"},{"$error":"#REF!"},{"$error":"#REF!"},{"$error":"#REF!"},{"$error":"#REF!"},{"$error":"#REF!"},{"$error":"#REF!"},{"$error":"#REF!"},{"$error":"#REF!"},{"$error":"#REF!"},{"$error":"#REF!"},{"$error":"#REF!"},{"$error":"#REF!"},{"$error":"#REF!"},{"$f":"INDIRECT(\"’\"&$B296&\"’\"&R$1)","v":{"$error":"#REF!"}},{"$error":"#REF!"},{"$error":"#REF!"},{"$error":"#REF!"},{"$error":"#REF!"},{"$error":"#REF!"},{"$error":"#REF!"},{"$error":"#REF!"},{"$error":"#REF!"},{"$error":"#REF!"}]
[291,{"$f":"SUBSTITUTE(INDEX(book,ROW()),\"[\"&doc&\"]\",\"\")","v":{"$error":"#REF!"}},{"$f":"INDIRECT(\"’\"&$B297&\"’\"&C$1)","v":{"$error":"#REF!"}},{"$error":"#REF!"},{"$error":"#REF!"},{"$error":"#REF!"},{"$error":"#REF!"},{"$error":"#REF!"},{"$error":"#REF!"},{"$error":"#REF!"},{"$error":"#REF!"},{"$error":"#REF!"},{"$error":"#REF!"},{"$error":"#REF!"},{"$error":"#REF!"},{"$error":"#REF!"},{"$error":"#REF!"},{"$error":"#REF!"},{"$error":"#REF!"},{"$error":"#REF!"},{"$error":"#REF!"},{"$error":"#REF!"},{"$error":"#REF!"},{"$error":"#REF!"},{"$error":"#REF!"},{"$error":"#REF!"},{"$error":"#REF!"}]
[292,{"$f":"SUBSTITUTE(INDEX(book,ROW()),\"[\"&doc&\"]\",\"\")","v":{"$error":"#REF!"}},{"$error":"#REF!"},{"$error":"#REF!"},{"$error":"#REF!"},{"$error":"#REF!"},{"$error":"#REF!"},{"$error":"#REF!"},{"$error":"#REF!"},{"$error":"#REF!"},{"$error":"#REF!"},{"$error":"#REF!"},{"$error":"#REF!"},{"$error":"#REF!"},{"$error":"#REF!"},{"$error":"#REF!"},{"$error":"#REF!"},{"$error":"#REF!"},{"$error":"#REF!"},{"$error":"#REF!"},{"$error":"#REF!"},{"$error":"#REF!"},{"$error":"#REF!"},{"$error":"#REF!"},{"$error":"#REF!"},{"$error":"#REF!"},{"$error":"#REF!"}]
[293,{"$f":"SUBSTITUTE(INDEX(book,ROW()),\"[\"&doc&\"]\",\"\")","v":{"$error":"#REF!"}},{"$error":"#REF!"},{"$error":"#REF!"},{"$error":"#REF!"},{"$error":"#REF!"},{"$error":"#REF!"},{"$error":"#REF!"},{"$error":"#REF!"},{"$error":"#REF!"},{"$error":"#REF!"},{"$error":"#REF!"},{"$error":"#REF!"},{"$error":"#REF!"},{"$error":"#REF!"},{"$error":"#REF!"},{"$error":"#REF!"},{"$error":"#REF!"},{"$error":"#REF!"},{"$error":"#REF!"},{"$error":"#REF!"},{"$error":"#REF!"},{"$error":"#REF!"},{"$error":"#REF!"},{"$error":"#REF!"},{"$error":"#REF!"},{"$error":"#REF!"}]
[294,{"$f":"SUBSTITUTE(INDEX(book,ROW()),\"[\"&doc&\"]\",\"\")","v":{"$error":"#REF!"}},{"$error":"#REF!"},{"$error":"#REF!"},{"$error":"#REF!"},{"$error":"#REF!"},{"$error":"#REF!"},{"$error":"#REF!"},{"$error":"#REF!"},{"$error":"#REF!"},{"$error":"#REF!"},{"$error":"#REF!"},{"$error":"#REF!"},{"$error":"#REF!"},{"$error":"#REF!"},{"$error":"#REF!"},{"$error":"#REF!"},{"$error":"#REF!"},{"$error":"#REF!"},{"$error":"#REF!"},{"$error":"#REF!"},{"$error":"#REF!"},{"$error":"#REF!"},{"$error":"#REF!"},{"$error":"#REF!"},{"$error":"#REF!"},{"$error":"#REF!"}]
[295,{"$f":"SUBSTITUTE(INDEX(book,ROW()),\"[\"&doc&\"]\",\"\")","v":{"$error":"#REF!"}},{"$error":"#REF!"},{"$error":"#REF!"},{"$error":"#REF!"},{"$error":"#REF!"},{"$error":"#REF!"},{"$error":"#REF!"},{"$error":"#REF!"},{"$error":"#REF!"},{"$error":"#REF!"},{"$error":"#REF!"},{"$error":"#REF!"},{"$error":"#REF!"},{"$error":"#REF!"},{"$error":"#REF!"},{"$error":"#REF!"},{"$error":"#REF!"},{"$error":"#REF!"},{"$error":"#REF!"},{"$error":"#REF!"},{"$error":"#REF!"},{"$error":"#REF!"},{"$error":"#REF!"},{"$error":"#REF!"},{"$error":"#REF!"},{"$error":"#REF!"}]
[296,{"$f":"SUBSTITUTE(INDEX(book,ROW()),\"[\"&doc&\"]\",\"\")","v":{"$error":"#REF!"}},{"$error":"#REF!"},{"$error":"#REF!"},{"$error":"#REF!"},{"$error":"#REF!"},{"$error":"#REF!"},{"$error":"#REF!"},{"$error":"#REF!"},{"$error":"#REF!"},{"$error":"#REF!"},{"$error":"#REF!"},{"$error":"#REF!"},{"$error":"#REF!"},{"$error":"#REF!"},{"$error":"#REF!"},{"$error":"#REF!"},{"$error":"#REF!"},{"$error":"#REF!"},{"$error":"#REF!"},{"$error":"#REF!"},{"$error":"#REF!"},{"$error":"#REF!"},{"$error":"#REF!"},{"$error":"#REF!"},{"$error":"#REF!"},{"$error":"#REF!"}]
[297,{"$f":"SUBSTITUTE(INDEX(book,ROW()),\"[\"&doc&\"]\",\"\")","v":{"$error":"#REF!"}},{"$error":"#REF!"},{"$error":"#REF!"},{"$error":"#REF!"},{"$error":"#REF!"},{"$error":"#REF!"},{"$error":"#REF!"},{"$error":"#REF!"},{"$error":"#REF!"},{"$error":"#REF!"},{"$error":"#REF!"},{"$error":"#REF!"},{"$error":"#REF!"},{"$error":"#REF!"},{"$error":"#REF!"},{"$error":"#REF!"},{"$error":"#REF!"},{"$error":"#REF!"},{"$error":"#REF!"},{"$error":"#REF!"},{"$error":"#REF!"},{"$error":"#REF!"},{"$error":"#REF!"},{"$error":"#REF!"},{"$error":"#REF!"},{"$error":"#REF!"}]
[298,{"$f":"SUBSTITUTE(INDEX(book,ROW()),\"[\"&doc&\"]\",\"\")","v":{"$error":"#REF!"}},{"$error":"#REF!"},{"$error":"#REF!"},{"$error":"#REF!"},{"$error":"#REF!"},{"$error":"#REF!"},{"$error":"#REF!"},{"$error":"#REF!"},{"$error":"#REF!"},{"$error":"#REF!"},{"$error":"#REF!"},{"$error":"#REF!"},{"$error":"#REF!"},{"$error":"#REF!"},{"$error":"#REF!"},{"$error":"#REF!"},{"$error":"#REF!"},{"$error":"#REF!"},{"$error":"#REF!"},{"$error":"#REF!"},{"$error":"#REF!"},{"$error":"#REF!"},{"$error":"#REF!"},{"$error":"#REF!"},{"$error":"#REF!"},{"$error":"#REF!"}]
[299,{"$f":"SUBSTITUTE(INDEX(book,ROW()),\"[\"&doc&\"]\",\"\")","v":{"$error":"#REF!"}},{"$error":"#REF!"},{"$error":"#REF!"},{"$error":"#REF!"},{"$error":"#REF!"},{"$error":"#REF!"},{"$error":"#REF!"},{"$error":"#REF!"},{"$error":"#REF!"},{"$error":"#REF!"},{"$error":"#REF!"},{"$error":"#REF!"},{"$error":"#REF!"},{"$error":"#REF!"},{"$error":"#REF!"},{"$error":"#REF!"},{"$error":"#REF!"},{"$error":"#REF!"},{"$error":"#REF!"},{"$error":"#REF!"},{"$error":"#REF!"},{"$error":"#REF!"},{"$error":"#REF!"},{"$error":"#REF!"},{"$error":"#REF!"},{"$error":"#REF!"}]
[300,{"$f":"SUBSTITUTE(INDEX(book,ROW()),\"[\"&doc&\"]\",\"\")","v":{"$error":"#REF!"}},{"$error":"#REF!"},{"$error":"#REF!"},{"$error":"#REF!"},{"$error":"#REF!"},{"$error":"#REF!"},{"$error":"#REF!"},{"$error":"#REF!"},{"$error":"#REF!"},{"$error":"#REF!"},{"$error":"#REF!"},{"$error":"#REF!"},{"$error":"#REF!"},{"$error":"#REF!"},{"$error":"#REF!"},{"$error":"#REF!"},{"$error":"#REF!"},{"$error":"#REF!"},{"$error":"#REF!"},{"$error":"#REF!"},{"$error":"#REF!"},{"$error":"#REF!"},{"$error":"#REF!"},{"$error":"#REF!"},{"$error":"#REF!"},{"$error":"#REF!"}]